Workbook

Sheet Cover
D1: Baseline survey for Health Results Based Financing Impact Evaluation | W1: IDENTIFIER
A2: CAMEROON | W2: Enumeration area number | Z2: Household number
A3: 2012
A6: HOUSEHOLD QUESTIONNAIRE
A9: GEOGRAPHICAL LOCATION
B11: Region : | G11: Division : | L11: Subdivision | R11: Health district | X11: Health area
B13: GPS COORDINATES OF DWELLING | X13: Village/Quarter
D16: LATITUDE (NORTH) : | H16: .
D19: LONGITUDE (EAST) : | H19: .
A23: INTERVIEWER AND VISITS | T23: LANGUAGE USED
A24: NAME | N24: CODE : | T24: …BY THE INTERVIEWER? | Y24: … BY THE RESPONDENT?
A26: VISIT N°1 : | C26: DAY | E26: MONTH | G26: YEAR | L26: RESULT OF THE INTERVIEW:
L28: INTERVIEW DONE | S28: 1 | V28: FRENCH | AA28: 1
A29: VISIT N°2 : | C29: DAY | E29: MONTH | G29: YEAR | L29: PARTIALLY COMPLETED | S29: 2 | V29: ENGLISH | AA29: 2
L30: REGISTERED PERSON REFUSED INTERVIEW | S30: 3 | V30: PIDGIN | AA30: 3
L31: HOUSEHOLD MEMBERS NOT PRESENT | S31: 4 | V31: MONGO-EWONDO | AA31: 4
A32: VISIT N°3 : | C32: DAY | E32: MONTH | G32: YEAR | L32: HOUSEHOLD VACATED | S32: 5 | V32: OTHER, SPECIFY: ______________ | AA32: 97
L33: HOUSE ADDRESS NOT FOUND | S33: 6
L34: HH HEAD / OTHER REFUSED TO ALLOW INTERVIEW | S34: 7
U35: TRANSLATOR USED?
L36: OTHER, SPECIFY: _______________________ | S36: 97 | V36: NEVER | Z36: 1
A37: SUPERVISOR | V37: SOMETIMES | Z37: 2
K38: DAY | M38: MONTH | O38: YEAR | V38: ALWAYS | Z38: 3
A39: NAME : | G39: CODE :
A41: DATA ENTRY OPERATOR
K42: DAY | M42: MONTH | O42: YEAR
A43: NAME | G43: CODE :

Sheet 10Preg
A1: 10 | B1: Pregnancy History | Z1: 10 | AA1: Pregnancy History
C3: SUBJECT: ALL FEMALE HOUSEHOLD MEMBERS 15-49 YEARS OLD
C4: RESPONDENT: SELF
A6: ID CODE | C6: =-A1-0.01 -> -10.01 | E6: =C6-0.01 -> -10.02 | I6: =E6-0.01 -> -10.03 | J6: =I6-0.01 -> -10.04 | L6: =J6-0.01 -> -10.05 | N6: =L6-0.01 -> -10.06 | P6: =N6-0.01 -> -10.07 | R6: =P6-0.01 -> -10.08 | T6: =R6-0.01 -> -10.09 | W6: =T6-0.01 -> -10.1 | Z6: ID CODE | AB6: =W6-0.01 -> -10.11 | AD6: =AB6-0.01 -> -10.12 | AF6: =AD6-0.01 -> -10.13 | AH6: =AF6-0.01 -> -10.14 | AJ6: =AH6-0.01 -> -10.15 | AK6: =AJ6-0.01 -> -10.16 | AM6: =AK6-0.01 -> -10.17 | AO6: =AM6-0.01 -> -10.18 | AP6: =AO6-0.01 -> -10.19 | AR6: =AP6-0.01 -> -10.2
C7: Have you ever been pregnant, including pregnancies that may have ended in miscarriage, abortion or stillbirth (born dead)? | E7: Are you pregnant now? | I7: How many months pregnant are you? | J7: Do you have any children to whom you have given birth who are now living with you? | L7: A. | M7: B. | N7: Do you have any children to whom you have given birth who are still alive but do not live with you? | P7: A. | Q7: B. | R7: Have you ever given birth to a child who was born alive but later died? IF NO, PROBE: Any baby who cried or showed signs of life but did not survive? | T7: A. | U7: B. | W7: A. | X7: B. | AB7: Please confirm the total number of children you have given birth to is… [NUMBER IN QUESTION | AD7: IS THE NUMBER OF LIVE BIRTHS IN | AF7: When was the last time that you gave birth to a child that was born alive? | AH7: Have you ever had a pregnancy that ended in stillbirth, that is when pregnancy has lasted at least 24 weeks but the baby dies before it is born? | AJ7: How many pregnancies have ended in a stillbirth? | AK7: When was the last time you had a stillbirth? | AM7: Have you ever had a pregnancy that ended in a miscarriage or abortion, that is when the pregnancy lasts less than 24 weeks? | AO7: How many pregnancies have ended in a miscarriage or abortion? | AP7: When was the last time you had a miscarriage or abortion? | AR7: IN THE LAST 24 MONTHS, DID THE WOMAN HAVE AT LEAST ONE LIVE BIRTH, STILL BIRTH, MISCARRIAGE OR ABORTION?
L8: How many sons live with you? | M8: How many daughters live with you? | P8: How many sons live elsewhere? | Q8: How many daughters live elsewhere? | T8: How many sons died? | U8: How many daughters died? | W8: SUM THE ANSWERS TO
AD12: =W6 -> -10.1
AD13: AT LEAST ONE?
W15: =L6 -> -10.05
W16: =P6 -> -10.07 | AR16: CHECK INFORMATION FROM CELLS
W17: =T6 -> -10.09 | AB17: =W6 -> -10.1 | AC17: ]
W19: ENTER TOTAL HERE. IF NONE, WRITE 00. | AB19: YES | AC19: 1
AB20: NO | AC20: 2 | AR20: =AF6 -> -10.13
C21: YES | D21: 1 | E21: YES | F21: 1 | J21: YES | K21: 1 | N21: YES | O21: 1 | AB21: IF NOT CORRECT, PROBE AND CORRECT AS NECESSARY | AD21: YES | AE21: 1 | AM21: YES | AN21: 1 | AR21: =AK6 -> -10.16
C22: NO | D22: 2 | E22: NO | F22: 2 | G22: ► | H22: =J6 -> -10.04 | J22: NO | K22: 2 | N22: NO | O22: 2 | AD22: NO | AE22: 2 | AM22: NO | AN22: 2 | AR22: =AP6 -> -10.19
C23: ► (13,01) | E23: NOT SURE | F23: 3 | G23: ► | H23: =J6 -> -10.04 | J23: ► | K23: =N6 -> -10.06 | N23: ► | O23: =R6 -> -10.08 | AD23: ► | AE23: =AH6 -> -10.14 | AM23: ► | AN23: =AR6 -> -10.2
R24: YES | S24: 1 | AH24: YES | AI24: 1 | AR24: YES | AS24: 1
R25: NO | S25: 2 | AH25: NO | AI25: 2 | AR25: NO | AS25: 2
R26: ► | S26: =W6 -> -10.1 | AH26: ► | AI26: =AM6 -> -10.17 | AO26: NUMBER | AS26: ► SECTION 13
L27: SONS | M27: DAUGH-TERS | P27: SONS | Q27: DAUGH-TERS | T27: SONS | U27: DAUGH-TERS | W27: SONS | X27: DAUGH-TERS | AF27: MONTH | AG27: YEAR | AK27: MONTH | AL27: YEAR | AP27: MONTH | AQ27: YEAR
I28: MONTHS | AF28: (MM) | AG28: (YYYY) | AK28: (MM) | AL28: (YYYY) | AP28: (MM) | AQ28: (YYYY)
A29: 1 | Z29: 1
A30: =A29+1 -> 2 | Z30: =Z29+1 -> 2
A31: =A30+1 -> 3 | Z31: =Z30+1 -> 3
A32: =A31+1 -> 4 | Z32: =Z31+1 -> 4
A33: =A32+1 -> 5 | Z33: =Z32+1 -> 5
A34: =A33+1 -> 6 | Z34: =Z33+1 -> 6
A35: =A34+1 -> 7 | Z35: =Z34+1 -> 7
A36: =A35+1 -> 8 | Z36: =Z35+1 -> 8
A37: =A36+1 -> 9 | Z37: =Z36+1 -> 9
A38: =A37+1 -> 10 | Z38: =Z37+1 -> 10
A39: =A38+1 -> 11 | Z39: =Z38+1 -> 11
A40: =A39+1 -> 12 | Z40: =Z39+1 -> 12
A41: =A40+1 -> 13 | Z41: =Z40+1 -> 13
... A43: =A42+1 -> 15 | Z43: =Z42+1 -> 15

Sheet 11Hist
A1: 11 | B1: Historique des naissances | D1: BIRTHS HISTORY
D3: SUBJECTS: ALL WOMEN 15-49 YEARS OLD
D4: RESPONDENT: SELF
A6: ID CODE | C6: =-A1-0.01 -> -11.01 | D6: =-A1-0.02 -> -11.02 | E6: =D6-0.01 -> -11.03 | G6: =E6-0.01 -> -11.04 | J6: =G6-0.01 -> -11.05 | L6: =J6-0.01 -> -11.06 | O6: =L6-0.01 -> -11.07
C7: COPY THE ID CODE OF THE MOTHER | D7: During the last ten years, ie since March 2002, how many live births have you had ? List them, starting by the most recent. | E7: [NAME OF THE CHILD]'s gender ? | G7: What is [NAME OF THE CHILD]'s birth date ? | J7: How old is [NAME OF THE CHILD] ? | L7: Is [NAME OF THE CHILD] still alive ? | O7: How old was [NAME OF DECEASED CHILD] at his/her death?
J10: (IF <5 YEARS, ALSO INDICATE THE NUMBER OF MONTHS) | O10: (IF <5 YEARS, ALSO RECORD THE MONTHS)
G13: IF THE RESPONDENT DON'T KNOW THE DAY OR THE MONTH, WRITE DOWN "98". IF HE DOESN'T KNOW THE YEAR, USE AN EVENT TABLE.
E15: MALE | F15: 1 | J15: RECORD [NAME OF THE CHILD]'S AGE | L15: YES | M15: 1 | N15: ►
L16: NEXT CHILD
E17: FEMALE | F17: 2 | L17: NO | M17: 2
G24: A. | H24: B. | I24: C. | J24: A. | K24: B. | O24: A. | P24: B.
G25: DAY | H25: MONTH | I25: YEAR | J25: YEARS | K25: MONTHS | O25: YEARS | P25: MONTHS
A29: 1
A30: =A29+1 -> 2
A31: =A30+1 -> 3
A32: =A31+1 -> 4
A33: =A32+1 -> 5
A34: =A33+1 -> 6
A35: =A34+1 -> 7
A36: =A35+1 -> 8
A37: =A36+1 -> 9
A38: =A37+1 -> 10
A39: =A38+1 -> 11
A40: =A39+1 -> 12
A41: =A40+1 -> 13
... A43: =A42+1 -> 15

Sheet 12MatCare
A1: 12 | B1: Antenatal and Postnatal Care | O1: 11 | P1: Antenatal and Postnatal Care | AC1: 13 | AD1: Antenatal and Postnatal Care | AU1: 11 | AV1: Antenatal and Postnatal Care | CB1: 11 | CC1: Antenatal and Postnatal Care | CT1: 11 | CU1: Antenatal and Postnatal Care | DR1: 11 | DS1: Antenatal and Postnatal Care | EW1: 11 | EX1: Antenatal and Postnatal Care | FJ1: 11 | FK1: Antenatal and Postnatal Care | GA1: 11 | GB1: Antenatal and Postnatal Care | HA1: 11 | HB1: Antenatal and Postnatal Care
B3: SUBJECT: WOMEN WHO HAD ONE OR MORE LIVE BIRTH(S), STILL BIRTH(S), MISCARRIAGE(S) OR ABORTION(S) IN THE 24 MONTHS PRECEDING THE INTERVIEW
B4: INTERVIEWER: MUST LIST PREGNANCIES IN ORDER OF MOST RECENT IN THE LAST 24 MONTHS. MULTIPLE BIRTHS ARE LISTED AS ONE PREGNANCY.
B5: RESPONDENT: SELF
E6: ANTENATAL CARE | R6: ANTENATAL CARE | AE6: SOINS PRÉNATALS | AW6: AIDS, TETANUS | BF6: IRON | BI6: MALARIA | CD6: PREGNANCY RESULT | CK6: DELIVERY | CV6: DELIVERY | DF6: INFANT CHARACTERISTICS | DT6: INFANT CHARACTERISTICS | EA6: FEEDING | EY6: FEEDING | FB6: POSTNATAL CARE | FL6: POSTNATAL CARE | GC6: IRON TABLETS/SYRUP | GK6: VITAMIN A
A7: =-A1-0.01 -> -12.01 | B7: (11.01)a | C7: PREGNANCY NUMBER | E7: =A7-0.01 -> -12.02 | I7: =E7-0.01 -> -12.03 | L7: =I7-0.01 -> -12.04 | O7: =-O1-0.01 -> -11.01 | P7: PREGNANCY NUMBER | R7: =L7-0.01 -> -12.05 | T7: =R7-0.01 -> -12.06 | V7: =T7-0.01 -> -12.07 | Z7: =V7-0.01 -> -12.08 | AC7: =-O1-0.01 -> -11.01 | AD7: PREGNANCY NUMBER | AE7: =Z7-0.01 -> -12.09 | AF7: =AE7-0.01 -> -12.1 | AG7: =AF7-0.01 -> -12.11 | AH7: =AG7-0.01 -> -12.12 | AU7: =-AU1-0.01 -> -11.01 | AV7: PREGNANCY NUMBER | AW7: =AH7-0.01 -> -12.13 | AY7: =AW7-0.01 -> -12.14 | BA7: =AY7-0.01 -> -12.15 | BC7: =BA7-0.01 -> -12.16 | BE7: =BC7-0.01 -> -12.17 | BF7: =BE7-0.01 -> -12.18 | BH7: =BF7-0.01 -> -12.19 | BI7: =BH7-0.01 -> -12.2 | BK7: =BI7-0.01 -> -12.21 | BO7: =BK7-0.01 -> -12.22 | BS7: =BO7-0.01 -> -12.23 | BW7: =BS7-0.01 -> -12.24 | BY7: =BW7-0.01 -> -12.25 | CB7: =-CB1-0.01 -> -11.01 | CC7: PREGNANCY NUMBER | CD7: =BY7-0.01 -> -12.26 | CG7: =CD7-0.01 -> -12.27 | CI7: =CG7-0.01 -> -12.28 | CK7: =CI7-0.01 -> -12.29 | CM7: =CK7-0.01 -> -12.3 | CO7: =CM7-0.01 -> -12.31 | CT7: =-CT1-0.01 -> -11.01 | CU7: PREGNANCY NUMBER | CV7: =CO7-0.01 -> -12.32 | CZ7: =CV7-0.01 -> -12.33 | DD7: =CZ7-0.01 -> -12.34 | DF7: =DD7-0.01 -> -12.35 | DH7: =DF7-0.01 -> -12.36 | DK7: =DH7-0.01 -> -12.37 | DN7: =DK7-0.01 -> -12.38 | DR7: =-DR1-0.01 -> -11.01 | DS7: PREGNANCY NUMBER | DT7: =DN7-0.01 -> -12.39 | DW7: =DT7-0.01 -> -12.4 | EA7: =DW7-0.01 -> -12.41 | ED7: =EA7-0.01 -> -12.42 | EJ7: =ED7-0.01 -> -12.43 | EM7: =EJ7-0.01 -> -12.44 | EW7: =-EW1-0.01 -> -11.01 | EX7: PREGNANCY NUMBER | EY7: =EM7-0.01 -> -12.45 | FB7: =EY7-0.01 -> -12.46 | FD7: =FB7-0.01 -> -12.47 | FE7: =FD7-0.01 -> -12.48 | FG7: =FE7-0.01 -> -12.49 | FJ7: =-FJ1-0.01 -> -11.01 | FK7: PREGNANCY NUMBER | FL7: =FG7-0.01 -> -12.5 | FN7: =FL7-0.01 -> -12.51 | FR7: =FN7-0.01 -> -12.52 | FV7: =FR7-0.01 -> -12.53 | GA7: =-GA1-0.01 -> -11.01 | GB7: PREGNANCY NUMBER | GC7: =FV7-0.01 -> -12.54 | GE7: =GC7-0.01 -> -12.55 | GG7: =GE7-0.01 -> -12.56 | GI7: =GG7-0.01 -> -12.57 | GK7: =GI7-0.01 -> -12.58 | GN7: =GK7-0.01 -> -12.59 | GQ7: =GN7-0.01 -> -12.6 | GT7: =GQ7-0.01 -> -12.61 | HA7: =-HA1-0.01 -> -11.01 | HB7: PREGNANCY NUMBER | HC7: =GT7-0.01 -> -12.62 | HF7: =HC7-0.01 -> -12.63 | HI7: =HF7-0.01 -> -12.64 | HL7: =HI7-0.01 -> -12.65
A8: INTERVIEWER: COPY ID CODE FOR WOMAN WHO RESPONDED YES TO | B8: INTERVIEWER: CONFIRM TOTAL NUMBER OF LIVE BIRTH, STILL BIRTH, MISCARRIAGE OR ABORTION IN THE LAST 24 MONTHS. | E8: Now I am going to ask you some questions about your last pregnancy/the previous pregnancy that ended in live birth, still birth, miscarriage or abortion. Did you consult any health care provider or traditional healer for antenatal care for this pregnancy? | I8: Why didn't you consult any health care provider or traditional healer for antenatal care for this pregnancy? RECORD UP TO 3 REASONS. | L8: Did you ever try to go for antenatal care but the facility staff told you to go away and come back another day? | O8: INTERVIEWER: COPY ID CODE FOR WOMAN WHO RESPONDED YES TO | R8: What kind of provider did you see for antenatal care for this pregnancy? | T8: In which village/quarter did you seek for care? | V8: In what kind of facility or location did you see this health care provider? | Z8: IF HOSPITAL, CLINIC OR HEALTH POST, PROBE FOR NAME OF FACILITY AND RECORD CODE. | AC8: INTERVIEWER: COPY ID CODE FOR WOMAN WHO RESPONDED YES TO | AE8: How many months pregnant were you when you first received antenatal care for this pregnancy? | AF8: How many times did you receive antenatal care for this pregnancy? | AG8: How many months pregnant were you when you last received antenatal care for this pregnancy? | AH8: Now I would like to ask you about things that may have been done during the antenatal care visits for your last pregnancy. During those visits, was the following done during at least one visit? | AU8: INTERVIEWER: COPY ID CODE FOR WOMAN WHO RESPONDED YES TO | AW8: During this pregnancy, were you offered counseling and testing for the virus that causes AIDS? | AY8: I will not ask you the result, but were you tested? | BA8: I will not ask you the result, but did you receive the result? | BC8: During this pregnancy, were you given an injection in the arm to prevent the baby from getting tetanus, that is, convulsions after birth? | BE8: How many times did you receive this shot during the pregnancy? | BF8: During this pregnancy, were you given or did you buy any iron tablets or iron syrup? | BH8: During the pregnancy, for how many days did you take the iron tablets or iron syrup? | BI8: During this pregnancy, did you take any drugs to prevent you from getting malaria? | BK8: What drugs did you take? (READ EACH ALOUD AND RECORD RESPONSE) | BO8: Where did you get these drugs? | BS8: How many doses of each drug did you take? | BW8: During these ANC, did they tell you about pregnancy signs of complication ? | BY8: Did they tell where to go in case of that complications? | CB8: INTERVIEWER: COPY ID CODE FOR WOMAN WHO RESPONDED YES TO | CD8: What was the result of this pregnancy? | CG8: Did you have any complication during this pregnancy or at the delivery ? | CI8: What is the main complication that you had ? | CK8: Who assisted with the delivery for this pregnancy? | CM8: In which village/quarter did you deliver? | CO8: Where did you deliver? | CT8: INTERVIEWER: COPY ID CODE FOR WOMAN WHO RESPONDED YES TO | CV8: IF HOSPITAL, CLINIC OR CENTER, PROBE FOR NAME OF FACILITY AND RECORD CODE. | CZ8: Why didn't you deliver in a formal health facility for this pregnancy? RECORD UP TO 3 REASONS. | DD8: Was the birth delivered by caesarean section, that is did they cut your belly open to take the baby out? | DF8: In what month and year was the infant(s) born in? | DH8: Was the infant(s) a boy or a girl? | DK8: Was the infant(s) weighed at birth? | DN8: How much did the infant(s) weigh? | DR8: INTERVIEWER: COPY ID CODE FOR WOMAN WHO RESPONDED YES TO | DT8: CONFIRM: IS THE SOURCE FOR WEIGHT RECALL OR HEALTH CARD? | DW8: When the infant(s) was born for this pregnancy, was he/she very large, larger than average, average, smaller than average or very small? | EA8: Did you ever breastfeed the infant? | ED8: After the infant was born, how much time did it take before you started breastfeeding him/her? | EJ8: In the first 3 days after delivery, was the infant given anything to drink other than breast milk? | EM8: What was the infant given to drink other than breastmilk? | EW8: INTERVIEWER: COPY ID CODE FOR WOMAN WHO RESPONDED YES TO | EY8: For how many months did you breastfeed? | FB8: After the birth/miscarriage, did a health professional or traditional birth attendant or healer check on your health? | FD8: How many post-natal check ups did you attend/receive in the first 2 months after the birth / miscarriage? | FE8: How long after the birth/miscarriage did you receive the first post-natal check? | FG8: Who checked on your health the first time? | FJ8: INTERVIEWER: COPY ID CODE FOR WOMAN WHO RESPONDED YES TO | FL8: In which village/quarter did you receive the first post-natal check? | FN8: Where did this check take place? | FR8: IF HOSPITAL, CLINIC OR CENTER, PROBE FOR NAME OF FACILITY AND RECORD CODE. | FV8: Why didn't you have a postnatal check up in a formal health institution/personnel for this pregnancy? | GA8: INTERVIEWER: COPY ID CODE FOR WOMAN WHO RESPONDED YES TO | GC8: After the birth/miscarriage, were you given or did you buy any iron tablets or iron syrup or folic acid? | GE8: Who provided you with the iron dose? | GG8: How long after the birth/ miscarriage did you take the first iron dose? | GI8: For how many days after the birth/miscarriage did you take the iron tablets or iron syrup? | GK8: In the first two months after the birth/miscarriage, did you receive a vitamin A dose (like this)? SHOW COMMON AMPULES / CAPSULES / SYRUPS. | GN8: Who provided you with the vitamin A dose? | GQ8: Is the child(ren) still alive? | GT8: How old was the child(ren) when he/she died? | HA8: INTERVIEWER: COPY ID CODE FOR WOMAN WHO RESPONDED YES TO | HC8: Is the child(ren) still living with you? | HF8: RECORD THE INDIVIDUAL ID CODE OF THE CHILD(REN) FROM ROSTER | HI8: ONLY FOR CHILD(REN) THAT ARE NOT HOUSEHOLD MEMBER(S) | HL8: In the last 24 hours, have you given the child(ren) any of the following?
EM9: RECORD UP TO 3 RESPONSES
BO10: HEALTH FACILITY | BR10: 1 | EM10: MILK (OTHER THAN BREASTMILK) | EQ10: 1 | ER10: INFANT FORMULA | EU10: 6 | FV10: TOO EXPENSIVE | FY10: 1
I11: TOO EXPENSIVE | K11: 1 | AI11: YES | AJ11: 1 | BO11: COMMUNITY HEALTH WORKER | BR11: 2 | ER11: GRIPE WATER | EU11: 7 | EY11: RECORD IN MONTHS | FN11: DISTRICT HOSPITAL (DH) | FO11: 1 | FV11: TOO FAR | FY11: 2 | GE11: MEDICAL DOCTOR | GF11: 1 | GN11: MEDICAL DOCTOR | GO11: 1 | GT11: WRITE THE ANSWER IN MONTHS
I12: TOO FAR | K12: 2 | R12: IF MORE THAN ONE PROVIDER, WRITE THE PROVIDER THAT IS HIGHEST ON THE LIST. | V12: IF MORE THAN ONE, WRITE FACILITY CORRESPONDING TO PROVIDER IN CELL | AI12: NO | AJ12: 2 | CZ12: TOO EXPENSIVE | DC12: 1 | EM12: PLAIN WATER | EQ12: 2 | ER12: TEA/INFUSIONS | EU12: 8 | FN12: Subdivisional medical center (SMC) | FO12: 2 | FV12: TOO BUSY (WORK, CHILDREN) | FY12: 3 | GE12: NURSE/MIDWIFE | GF12: 2 | GN12: NURSE/MIDWIFE | GO12: 2 | HI12: How old was the child on his/her last birthday?
A13: ='10Preg'!$AR$6 -> -10.2 | I13: TOO BUSY (WORK, CHILDREN) | K13: 3 | BO13: TRADITIONAL HEALER | BR13: 3 | CZ13: TOO FAR | DC13: 2 | DN13: RECORD WEIGHT IN KILOGRAMS | DW13: VERY LARGE | DZ13: 1 | ED13: WRITE THE ANSWER IN HOURS | EM13: SUGAR/GLUCOSE WATER | EQ13: 3 | ER13: HONEY | EU13: 9 | EY13: IF LESS THAN ONE MONTH, RECORD 00 | FN13: Integrated Health Center (IHC) | FO13: 3 | FV13: SELF-TREATED | FY13: 4 | GE13: AUXILIARY NURSE/ MIDWIFE | GF13: 3 | GN13: AUXILIARY NURSE/ MIDWIFE | GO13: 3 | GT13: IF LESS THAN ONE MONTH, WRITE ZERO
A14: I.E. WOMAN WITH AT LEAST ONE LIVE BIRTH, STILL BIRTH, MISCARRIAGE OR ABORTION IN LAST 24 MONTHS. | I14: SELF-TREATED | K14: 4 | V14: =R7 -> -12.05 | BO14: PHARMACY OR DRUGS SELLER | BR14: 4 | CZ14: WAS TOO LATE IN DELIVERY | DC14: 5 | DH14: MALE | DJ14: 1 | DK14: YES | DM14: 1 | DW14: LARGER THAN AVERAGE | DZ14: 2 | EA14: YES | EC14: 1 | ER14: COFFEE | EU14: 10 | FG14: MEDICAL DOCTOR | FH14: 1 | FN14: Private facility assimilated to a DH | FO14: 4 | FV14: DID NOT NEED | FY14: 5 | GQ14: YES | GR14: 1 | HC14: YES | HD14: 1 | HG14: ► | HO14: YES | HP14: 1
I15: WAS TOO EARLY IN PREGNANCY | K15: 5 | AH15: A. | AI15: B. | AJ15: C. | AK15: D. | AL15: E. | AM15: F. | AN15: G. | AO15: H. | AP15: I. | AQ15: J. | AR15: K. | AS15: L. | BK15: YES | BN15: 1 | CI15: Bleeding during pregnancy | CJ15: 1 | CK15: MEDICAL DOCTOR | CL15: 1 | CZ15: FACILITY HAS POOR INFRASTRUCTURE/BUILDING | DC15: 6 | DH15: FEMALE | DJ15: 2 | DK15: NO | DM15: 2 | DT15: RECALL | DV15: 1 | DW15: AVERAGE | DZ15: 3 | EA15: NO | EC15: 2 | EJ15: YES | EL15: 1 | EM15: SUGAR-SALT-WATER SOLUTION | EQ15: 4 | FG15: NURSE/MIDWIFE | FH15: 2 | FN15: Private facility assimilated to a SMC | FO15: 5 | FV15: FACILITY HAS POOR INFRASTRUCTURE/BUILDING | FY15: 6 | GE15: COMMUNITY HEALTH WORKER | GF15: 4 | GN15: COMMUNITY HEALTH WORKER | GO15: 4 | GQ15: ► | GR15: =HC7 -> -12.62 | HC15: NO | HD15: 2 ► | HE15: =HI7 -> -12.64 | HG15: =HL7 -> -12.65 | HO15: NO | HP15: 2
E16: FOR WOMEN WHOSE LAST PREGNANCY WAS A STILLBIRTH, MISCARRIAGE OR ABORTION, THE LAST PREGNANCY IS THE PREGNANCY THAT ENDED IN STILLBIRTH, MISCARRIAGE OR ABORTION | I16: FACILITY HAS POOR INFRASTRUCTURE/BUILDING | K16: 6 | O16: ='10Preg'!$AR$6 -> -10.2 | R16: MEDICAL DOCTOR | S16: 1 | V16: DISTRICT HOSPITAL (DH) | Y16: 1 | AC16: ='10Preg'!$AR$6 -> -10.2 | AF16: IF ONCE, RECORD 1 AND ► | AH16: Were you weighed? | AI16: Was your height measured? | AJ16: Was your blood pressure measured? | AK16: Did you give a urine sample? | AL16: Did you give a blood sample? | AM16: Did you schedule your delivery in the facility? | AN16: Did the provider palpate your tummy? | AO16: Did the health worker estimate your due date? | AP16: Was your uterine height measured (this is when the provider measures your tummy using a measurement tape)? | AQ16: Did the health worker ask for your blood type and Rhesus? | AR16: Did you receive advice on the diet during your pregnancy? | AS16: Did you receive advice on what to do in case of an emergency? | AU16: ='10Preg'!$AR$6 -> -10.2 | BK16: NO | BN16: 2 | BO16: FAMILY MEMBER | BR16: 5 | CB16: ='10Preg'!$AR$6 -> -10.2 | CD16: BORN ALIVE, SINGLE BIRTH | CF16: 1 | CI16: Bleeding at the delivery | CJ16: 2 | CK16: NURSE/MIDWIFE | CL16: 2 | CT16: ='10Preg'!$AR$6 -> -10.2 | CZ16: FACILITY POORLY STOCKED | DC16: 7 | DK16: ► | DL16: =DW7 -> -12.4 | DR16: ='10Preg'!$AR$6 -> -10.2 | DT16: HEALTH CARD | DV16: 2 | DW16: SMALLER THAN AVERAGE | DZ16: 4 | EA16: ► | EB16: =EM7 -> -12.44 | ED16: IF LESS THAN ONE HOURS, RECORD 00 | EJ16: NO | EL16: 2 | ER16: OTHER (SPECIFY) | EU16: 97 | EW16: ='10Preg'!$AR$6 -> -10.2 | EY16: STILL BREASTFEEDING | FA16: 98 | FG16: AUXILIARY NURSE/MIDWIFE | FH16: 3 | FJ16: ='10Preg'!$AR$6 -> -10.2 | FN16: Private facility assimilated to a IHC | FO16: 6 | FV16: FACILITY POORLY STOCKED | FY16: 7 | GA16: ='10Preg'!$AR$6 -> -10.2 | GQ16: NO | GR16: 2 | GU16: ►NEXT SECTION | HA16: ='10Preg'!$AR$6 -> -10.2 | HN16: DON'T KNOW | HP16: 8
I17: FACILITY POORLY STOCKED | K17: 7 | O17: I.E. WOMAN WITH AT LEAST ONE LIVE BIRTH, STILL BIRTH, MISCARRIAGE OR ABORTION IN LAST 24 MONTHS. | R17: NURSE/MIDWIFE | S17: 2 | T17: RECORD THE NAME OF THE VILLAGE/QUARTER AND THE CORRESPONDING CODE | V17: Subdivisional medical center (SMC) | Y17: 2 | AC17: I.E. WOMAN WITH AT LEAST ONE LIVE BIRTH, STILL BIRTH, MISCARRIAGE OR ABORTION IN LAST 24 MONTHS. | AU17: I.E. WOMAN WITH AT LEAST ONE LIVE BIRTH, STILL BIRTH, MISCARRIAGE OR ABORTION IN LAST 24 MONTHS. | BO17: FRIEND/NEIGHBOR | BR17: 6 | CB17: I.E. WOMAN WITH AT LEAST ONE LIVE BIRTH, STILL BIRTH, MISCARRIAGE OR ABORTION IN LAST 24 MONTHS. | CK17: AUXILIARY NURSE/MIDWIFE | CL17: 3 | CM17: RECORD THE NAME OF THE VILLAGE/QUARTER AND THE CORRESPONDING CODE | CO17: DISTRICT HOSPITAL (DH) | CP17: 1 | CT17: I.E. WOMAN WITH AT LEAST ONE LIVE BIRTH, STILL BIRTH, MISCARRIAGE OR ABORTION IN LAST 24 MONTHS. | CZ17: POOR STAFF ATTITUDE | DC17: 8 | DR17: I.E. WOMAN WITH AT LEAST ONE LIVE BIRTH, STILL BIRTH, MISCARRIAGE OR ABORTION IN LAST 24 MONTHS. | DW17: VERY SMALL | DZ17: 5 | EJ17: ► | EK17: =EY7 -> -12.45 | EM17: FRUIT JUICE | EQ17: 5 | EW17: I.E. WOMAN WITH AT LEAST ONE LIVE BIRTH, STILL BIRTH, MISCARRIAGE OR ABORTION IN LAST 24 MONTHS. | FG17: COMMUNITY HEALTH WORKER | FH17: 4 | FJ17: I.E. WOMAN WITH AT LEAST ONE LIVE BIRTH, STILL BIRTH, MISCARRIAGE OR ABORTION IN LAST 24 MONTHS. | FL17: RECORD THE NAME OF THE VILLAGE/QUARTER AND THE CORRESPONDING CODE | FN17: Private-for-profit facility | FO17: 7 | FV17: POOR STAFF ATTITUDE | FY17: 8 | GA17: I.E. WOMAN WITH AT LEAST ONE LIVE BIRTH, STILL BIRTH, MISCARRIAGE OR ABORTION IN LAST 24 MONTHS. | GE17: LAB TECHNICIAN | GF17: 5 | GN17: LAB TECHNICIAN | GO17: 5 | HA17: I.E. WOMAN WITH AT LEAST ONE LIVE BIRTH, STILL BIRTH, MISCARRIAGE OR ABORTION IN LAST 24 MONTHS. | HI17: RECORD AGE IN YEARS
I18: POOR STAFF ATTITUDE | K18: 8 | R18: AUXILIARY NURSE/MIDWIFE | S18: 3 | V18: Integrated Health Center (IHC) | Y18: 3 | BO18: OTHER | BR18: 97 | CI18: Dizzy spell | CJ18: 3 | CK18: COMMUNITY HEALTH WORKER | CL18: 4 | CO18: Subdivisional medical center (SMC) | CP18: 2 | CZ18: POOR STAFF KNOWLEDGE | DC18: 9 | FE18: WRITE THE ANSWER IN DAYS. IF LESS THAN A DAY, WRITE 00 | FG18: LAB TECHNICIAN | FH18: 5 | FN18: PHARMACY | FO18: 8 | FP18: ► | FQ18: =FV7 -> -12.53 | FS18: ► | FT18: =GC7 -> -12.54 | FV18: POOR STAFF KNOWLEDGE | FY18: 9 | GE18: PHARMACIST | GF18: 6 | GN18: PHARMACIST | GO18: 6
I19: POOR STAFF KNOWLEDGE | K19: 9 | R19: COMMUNITY HEALTH WORKER | S19: 4 | V19: Private facility assimilated to a DH | Y19: 4 | CD19: BORN ALIVE, MULTIPLE BIRTH | CF19: 2 | CI19: High blood pressure | CJ19: 4 | CK19: LAB TECHNICIAN | CL19: 5 | CO19: Integrated Health Center (IHC) | CP19: 3 | CZ19: POOR QUALITY OF CARE | DC19: 10 | DH19: A. | DI19: B. | DJ19: C. | DK19: A. | DL19: B. | DM19: C. | DN19: A. | DO19: B. | DP19: C. | DT19: A. | DU19: B. | DV19: C. | DW19: A. | DX19: B. | DY19: C. | EA19: A. | EB19: B. | EC19: C. | ED19: A. | EF19: B. | EH19: C. | EJ19: A. | EK19: B. | EL19: C. | EM19: A. | EP19: B. | ES19: C. | EY19: A. | EZ19: B. | FA19: C. | FG19: PHARMACIST | FH19: 6 | FN19: MOBILE CLINIC | FO19: 9 | FP19: ► | FQ19: =FV7 -> -12.53 | FV19: POOR QUALITY OF CARE | FY19: 10 | GE19: TRADITIONAL HEALER | GF19: 7 | GN19: TRADITIONAL HEALER | GO19: 7 | GQ19: A. | GR19: B. | GS19: C. | GT19: A. | GV19: B. | GX19: C. | HC19: A. | HD19: B. | HE19: C. | HF19: A. | HG19: B. | HH19: C. | HI19: A. | HJ19: B. | HK19: C. | HL19: A. | HM19: B. | HN19: C. | HO19: D | HP19: E | HQ19: F | HR19: G | HS19: H | HT19: I
I20: POOR QUALITY OF CARE | K20: 10 | R20: LAB TECHNICIAN | S20: 5 | V20: Private facility assimilated to a SMC | Y20: 5 | BK20: A. | BL20: B. | BM20: C. | BN20: D. | BO20: A. | BP20: B. | BQ20: C. | BR20: D. | BS20: A. | BT20: B. | BU20: C. | BV20: D. | CI20: Swollen legs/face | CJ20: 5 | CK20: PHARMACIST | CL20: 6 | CO20: Private facility assimilated to a DH | CP20: 4 | CZ20: SERVICE NOT AVAILABLE | DC20: 11 | DH20: FIRST CHILD | DI20: SECOND CHILD | DJ20: THIRD CHILD | DK20: FIRST CHILD | DL20: SECOND CHILD | DM20: THIRD CHILD | DN20: FIRST CHILD | DO20: SECOND CHILD | DP20: THIRD CHILD | DT20: FIRST CHILD | DU20: SECOND CHILD | DV20: THIRD CHILD | DW20: FIRST CHILD | DX20: SECOND CHILD | DY20: THIRD CHILD | EA20: FIRST CHILD | EB20: SECOND CHILD | EC20: THIRD CHILD | ED20: FIRST CHILD | EF20: SECOND CHILD | EH20: THIRD CHILD | EJ20: FIRST CHILD | EK20: SECOND CHILD | EL20: THIRD CHILD | EM20: FIRST CHILD | EP20: SECOND CHILD | ES20: THIRD CHILD | EY20: FIRST CHILD | EZ20: SECOND CHILD | FA20: THIRD CHILD | FG20: TRADITIONAL BIRTH ATTENDANT | FH20: 7 | FN20: PROVIDER'S HOME | FO20: 10 | FP20: ► | FQ20: =FV7 -> -12.53 | FV20: SERVICE NOT AVAILABLE | FY20: 11 | GE20: TRADITIONAL BIRTH ATTENDANT | GF20: 8 | GN20: TRADITIONAL BIRTH ATTENDANT | GO20: 8 | GQ20: FIRST CHILD | GR20: SECOND CHILD | GS20: THIRD CHILD | GT20: FIRST CHILD | GV20: SECOND CHILD | GX20: THIRD CHILD | HC20: FIRST CHILD | HD20: SECOND CHILD | HE20: THIRD CHILD | HF20: FIRST CHILD | HG20: SECOND CHILD | HH20: THIRD CHILD | HI20: FIRST CHILD | HJ20: SECOND CHILD | HK20: THIRD CHILD | HL20: VITAMIN SUPPLEMENTS | HM20: PLAIN WATER | HN20: SWEETWATER/ FRUIT JUICE | HO20: ORAL REHYDRATION SOLUTION (ORS) | HP20: INFANT FORMULA | HQ20: MILK OTHER THAN BREASTMILK | HR20: OTHER LIQUIDS | HS20: SOLID FOOD | HT20: MUSHY FOOD
I21: SERVICE NOT AVAILABLE | K21: 11 | R21: PHARMACIST | S21: 6 | V21: Private facility assimilated to a IHC | Y21: 6 | AF21: =AH7 -> -12.12 | BK21: Fandisar/SP | BN21: Other, specify | BO21: Fandisar/SP | BR21: Other, specify | BS21: Fandisar/SP | BV21: Other, specify | CK21: TRADITIONAL BIRTH ATTENDANT | CL21: 7 | CO21: Private facility assimilated to a SMC | CP21: 5 | CW21: ► | CX21: =DD7 -> -12.34 | CZ21: NO TRANSPORTATION | DC21: 12 | DF21: MONTH (MM) | DG21: YEAR (YYYY) | FG21: TRADITIONAL HEALER | FH21: 8 | FN21: OWN HOME | FO21: 11 | FP21: ► | FQ21: =FV7 -> -12.53 | FV21: NO TRANSPORTATION | FY21: 12 | GG21: WRITE THE ANSWER IN DAYS
V22: Private-for-profit facility | Y22: 7 | CO22: Private facility assimilated to a IHC | CP22: 6
I23: NO TRANSPORTATION | K23: 12 | L23: ► | M23: =AW7 -> -12.13 | R23: TRADITIONAL BIRTH ATTENDANT | S23: 7 | V23: PHARMACY | W23: 8 | X23: ► | Y23: =AE7 -> -12.09 | AE23: INTERVIEWER ROUND MONTHS | AG23: INTERVIEWER ROUND MONTHS | BL23: Coartem | BM23: Artemeter | BP23: Coartem | BQ23: Artemeter | BT23: Coartem | BU23: Artemeter | CD23: STILL BORN | CF23: 3 | CI23: Abdominal pain | CJ23: 6 | CO23: Private-for-profit facility | CP23: 7 | CZ23: DID NOT NEED | DC23: 13 | FG23: SPIRITUAL HEALER | FH23: 9 | FN23: OTHER HOME | FO23: 12 | FP23: ► | FQ23: =FV7 -> -12.53 | FV23: INCONVENIENT HOURS | FY23: 13 | GE23: SPIRITUAL HEALER | GF23: 9 | GK23: YES | GM23: 1 | GN23: SPIRITUAL HEALER | GO23: 9
I24: DID NOT NEED | K24: 13 | V24: MOBILE CLINIC | W24: 9 | X24: ► | Y24: =AE7 -> -12.09 | BF24: YES | BG24: 1 | BI24: YES | BJ24: 1 | BW24: YES | BX24: 1 | BY24: YES | BZ24: 1 | CG24: YES | CH24: 1 | CI24: Pelvic pain | CJ24: 7 | CK24: TRADITIONAL HEALER | CL24: 8 | CO24: PHARMACY | CP24: 8 | CQ24: ► | CR24: =CZ7 -> -12.33 | CZ24: INCONVENIENT HOURS | DC24: 14 | FB24: YES | FC24: 1 | FG24: DRUG SELLER | FH24: 10 | FN24: OUTDOOR LOCATION | FO24: 13 | FP24: ► | FQ24: =FV7 -> -12.53 | FV24: LONG WAITING TIMES | FY24: 14 | GE24: DRUG SELLER | GF24: 10 | GK24: NO | GM24: 2 | GN24: DRUG SELLER | GO24: 10
I25: INCONVENIENT HOURS | K25: 14 | R25: TRADITIONAL HEALER | S25: 8 | V25: PROVIDER'S HOME | W25: 10 | X25: ► | Y25: =AE7 -> -12.09 | AW25: YES | AX25: 1 | AY25: YES | AZ25: 1 | BA25: YES | BB25: 1 | BF25: NO | BG25: 2 | BI25: NO | BJ25: 2 | BW25: NO | BX25: 2 | BY25: NO | BZ25: 2 | CG25: NO | CH25: 2 | CI25: Fever(> 24h) | CJ25: 8 | CK25: SPIRITUAL HEALER | CL25: 9 | CO25: MOBILE CLINIC | CP25: 9 | CQ25: ► | CR25: =CZ7 -> -12.33 | CZ25: LONG WAITING TIME | DC25: 15 | FB25: NO | FC25: 2 | FN25: OTHER (SPECIFY) | FO25: 97 | FP25: ► | FQ25: =FV7 -> -12.53 | FV25: PREFER HOME CARE | FY25: 15 | GC25: YES | GD25: 1 | GE25: FAMILY MEMBER | GF25: 11 | GK25: ►NEXT SECTION | GN25: FAMILY MEMBER | GO25: 11
I26: LONG WAITING TIMES | K26: 15 | R26: SPIRITUAL HEALER | S26: 9 | V26: OWN HOME | W26: 11 | X26: ► | Y26: =AE7 -> -12.09 | AW26: NO | AX26: 2 | AY26: NO | AZ26: 2 | BA26: NO | BB26: 2 | BF26: ► | BI26: ► | BW26: ► | CG26: ► | CI26: Convulsions | CJ26: 9 | CK26: DRUG SELLER | CL26: 10 | CO26: OWN HOME | CP26: 10 | CQ26: ► | CR26: =CZ7 -> -12.33 | CZ26: PREFER HOME DELIVERY | DC26: 16 | FB26: ="► ("& -FV7 &")" -> ► (12,53) | FV26: FAMILY DIDN'T WANT ME TO GO | FY26: 16 | GC26: NO | GD26: 2 | GE26: FRIEND/NEIGHBOR | GF26: 12 | GN26: FRIEND/NEIGHBOR | GO26: 12
E27: YES | F27: 1 | G27: ► | H27: =R7 -> -12.05 | I27: PREFER HOME CARE | K27: 16 | L27: YES | M27: 1 | R27: DRUG SELLER | S27: 10 | V27: OTHER HOME | W27: 12 | X27: ► | Y27: =AE7 -> -12.09 | AW27: ► | AY27: ► | BC27: YES | BD27: 1 | BF27: =BI7 -> -12.2 | BI27: =CD7 -> -12.26 | BW27: =CD7 -> -12.26 | CD27: MISCARRIAGE | CF27: 4 | CG27: =CK7 -> -12.29 | CI27: Prolonged labour | CJ27: 10 | CK27: FAMILY MEMBER | CL27: 11 | CO27: ANOTHER HOME | CP27: 11 | CQ27: ► | CR27: =CZ7 -> -12.33 | FG27: OTHER, SPECIFY | FH27: 97 | FV27: OTHER (SPECIFY) | FY27: 97 | GC27: ► | GD27: =GK7 -> -12.58 | GE27: OTHER (SPECIFY) | GF27: 97 | GN27: OTHER (SPECIFY) | GO27: 97
E28: NO | F28: 2 | I28: FAMILY DIDN'T WANT ME TO GO | K28: 17 | L28: NO | M28: 2 | V28: OUTDOOR LOCATION | W28: 13 | X28: ► | Y28: =AE7 -> -12.09 | AE28: NUMBER OF MONTHS | AF28: NUMBER OF TIMES | AG28: NUMBER OF MONTHS | AW28: =BC7 -> -12.16 | AY28: =BC7 -> -12.16 | BC28: NO | BD28: 2 | BE28: NUMBER OF SHOTS | CD28: ► | CE28: =FB7 -> -12.46 | CI28: Spontanous abortion | CJ28: 11 | CK28: FRIEND/NEIGHBOR | CL28: 12 | CO28: PUBLIC PLACE | CP28: 12 | CQ28: ► | CR28: =CZ7 -> -12.33 | CZ28: FAMILY DIDN'T WANT ME TO GO | DC28: 17
I29: OTHER (SPECIFY) | K29: 97 | R29: OTHER (SPECIFY) | S29: 97 | V29: OTHER (SPECIFY) | W29: 97 | X29: ► | Y29: =AE7 -> -12.09 | BC29: ► | BH29: NUMBER OF DAYS | CD29: ABORTION | CF29: 5 | CI29: Other, specify | CJ29: 97 | CK29: NO ONE | CL29: 13 | CZ29: OTHER (SPECIFY) | DC29: 97 | DD29: YES | DE29: 1 | FE29: DAYS | GI29: NUMBER OF DAYS
I30: FIRST | J30: SECOND | K30: THIRD | T30: NAME | U30: CODE | Z30: NAME | AA30: CODE | BC30: =BF7 -> -12.18 | CD30: ► | CE30: =FB7 -> -12.46 | CK30: OTHER (SPECIFY) | CL30: 97 | CM30: NAME | CN30: CODE | CO30: OTHER, SPECIFY | CP30: 97 | CQ30: ► | CR30: =CZ7 -> -12.33 | CV30: NAME | CY30: CODE | CZ30: FIRST | DA30: SECOND | DB30: THIRD | DD30: NO | DE30: 2 | DN30: kg | DO30: kg | DP30: kg | ED30: HOURS | EF30: HOURS | EH30: HOURS | EM30: 1 | EN30: 2 | EO30: 3 | EP30: 1 | EQ30: 2 | ER30: 3 | ES30: 1 | ET30: 2 | EU30: 3 | EY30: MONTHS | EZ30: MONTHS | FA30: MONTHS | FL30: NAME | FM30: CODE | FR30: NAME | FU30: CODE | FV30: FIRST | FW30: SECOND | FX30: THIRD | GG30: DAYS | GT30: MTHS | GV30: MTHS | GX30: MTHS | HF30: ID CODE | HG30: ID CODE | HH30: ID CODE | HI30: AGE IN YRS | HJ30: AGE IN YRS | HK30: AGE IN YRS
C31: 1 | P31: 1 | AD31: 1 | AV31: 1 | CC31: 1 | CU31: 1 | DN31: |__| . |__|__| | DO31: |__| . |__|__| | DP31: |__| . |__|__| | DS31: 1 | EX31: 1 | FK31: 1 | GB31: 1 | HB31: 1
C32: =C31+1 -> 2 | P32: =P31+1 -> 2 | AD32: =AD31+1 -> 2 | AV32: =AV31+1 -> 2 | CC32: =CC31+1 -> 2 | CU32: =CU31+1 -> 2 | DN32: |__| . |__|__| | DO32: |__| . |__|__| | DP32: |__| . |__|__| | DS32: =DS31+1 -> 2 | EX32: =EX31+1 -> 2 | FK32: =FK31+1 -> 2 | GB32: =GB31+1 -> 2 | HB32: =HB31+1 -> 2
C33: =C32+1 -> 3 | P33: =P32+1 -> 3 | AD33: =AD32+1 -> 3 | AV33: =AV32+1 -> 3 | CC33: =CC32+1 -> 3 | CU33: =CU32+1 -> 3 | DN33: |__| . |__|__| | DO33: |__| . |__|__| | DP33: |__| . |__|__| | DS33: =DS32+1 -> 3 | EX33: =EX32+1 -> 3 | FK33: =FK32+1 -> 3 | GB33: =GB32+1 -> 3 | HB33: =HB32+1 -> 3
C35: 1 | P35: 1 | AD35: 1 | AV35: 1 | CC35: 1 | CU35: 1 | DN35: |__| . |__|__| | DO35: |__| . |__|__| | DP35: |__| . |__|__| | DS35: 1 | EX35: 1 | FK35: 1 | GB35: 1 | HB35: 1
C36: =C35+1 -> 2 | P36: =P35+1 -> 2 | AD36: =AD35+1 -> 2 | AV36: =AV35+1 -> 2 | CC36: =CC35+1 -> 2 | CU36: =CU35+1 -> 2 | DN36: |__| . |__|__| | DO36: |__| . |__|__| | DP36: |__| . |__|__| | DS36: =DS35+1 -> 2 | EX36: =EX35+1 -> 2 | FK36: =FK35+1 -> 2 | GB36: =GB35+1 -> 2 | HB36: =HB35+1 -> 2
C37: 3 | P37: =P36+1 -> 3 | AD37: =AD36+1 -> 3 | AV37: =AV36+1 -> 3 | CC37: =CC36+1 -> 3 | CU37: =CU36+1 -> 3 | DN37: |__| . |__|__| | DO37: |__| . |__|__| | DP37: |__| . |__|__| | DS37: =DS36+1 -> 3 | EX37: =EX36+1 -> 3 | FK37: =FK36+1 -> 3 | GB37: =GB36+1 -> 3 | HB37: =HB36+1 -> 3
C39: 1 | P39: 1 | AD39: 1 | AV39: 1 | CC39: 1 | CU39: 1 | DN39: |__| . |__|__| | DO39: |__| . |__|__| | DP39: |__| . |__|__| | DS39: 1 | EX39: 1 | FK39: 1 | GB39: 1 | HB39: 1
C40: =C39+1 -> 2 | P40: =P39+1 -> 2 | AD40: =AD39+1 -> 2 | AV40: =AV39+1 -> 2 | CC40: =CC39+1 -> 2 | CU40: =CU39+1 -> 2 | DN40: |__| . |__|__| | DO40: |__| . |__|__| | DP40: |__| . |__|__| | DS40: =DS39+1 -> 2 | EX40: =EX39+1 -> 2 | FK40: =FK39+1 -> 2 | GB40: =GB39+1 -> 2 | HB40: =HB39+1 -> 2
C41: 3 | P41: =P40+1 -> 3 | AD41: =AD40+1 -> 3 | AV41: =AV40+1 -> 3 | CC41: =CC40+1 -> 3 | CU41: =CU40+1 -> 3 | DN41: |__| . |__|__| | DO41: |__| . |__|__| | DP41: |__| . |__|__| | DS41: =DS40+1 -> 3 | EX41: =EX40+1 -> 3 | FK41: =FK40+1 -> 3 | GB41: =GB40+1 -> 3 | HB41: =HB40+1 -> 3
C43: 1 | P43: 1 | AD43: 1 | AV43: 1 | CC43: 1 | CU43: 1 | DN43: |__| . |__|__| | DO43: |__| . |__|__| | DP43: |__| . |__|__| | DS43: 1 | EX43: 1 | FK43: 1 | GB43: 1 | HB43: 1
C44: =C43+1 -> 2 | P44: =P43+1 -> 2 | AD44: =AD43+1 -> 2 | AV44: =AV43+1 -> 2 | CC44: =CC43+1 -> 2 | CU44: =CU43+1 -> 2 | DN44: |__| . |__|__| | DO44: |__| . |__|__| | DP44: |__| . |__|__| | DS44: =DS43+1 -> 2 | EX44: =EX43+1 -> 2 | FK44: =FK43+1 -> 2 | GB44: =GB43+1 -> 2 | HB44: =HB43+1 -> 2
C45: 3 | P45: =P44+1 -> 3 | AD45: =AD44+1 -> 3 | AV45: =AV44+1 -> 3 | CC45: =CC44+1 -> 3 | CU45: =CU44+1 -> 3 | DN45: |__| . |__|__| | DO45: |__| . |__|__| | DP45: |__| . |__|__| | DS45: =DS44+1 -> 3 | EX45: =EX44+1 -> 3 | FK45: =FK44+1 -> 3 | GB45: =GB44+1 -> 3 | HB45: =HB44+1 -> 3
C47: 1 | P47: 1 | AD47: 1 | AV47: 1 | CC47: 1 | CU47: 1 | DN47: |__| . |__|__| | DO47: |__| . |__|__| | DP47: |__| . |__|__| | DS47: 1 | EX47: 1 | FK47: 1 | GB47: 1 | HB47: 1
C48: =C47+1 -> 2 | P48: =P47+1 -> 2 | AD48: =AD47+1 -> 2 | AV48: =AV47+1 -> 2 | CC48: =CC47+1 -> 2 | CU48: =CU47+1 -> 2 | DN48: |__| . |__|__| | DO48: |__| . |__|__| | DP48: |__| . |__|__| | DS48: =DS47+1 -> 2 | EX48: =EX47+1 -> 2 | FK48: =FK47+1 -> 2 | GB48: =GB47+1 -> 2 | HB48: =HB47+1 -> 2
C49: 3 | P49: =P48+1 -> 3 | AD49: =AD48+1 -> 3 | AV49: =AV48+1 -> 3 | CC49: =CC48+1 -> 3 | CU49: =CU48+1 -> 3 | DN49: |__| . |__|__| | DO49: |__| . |__|__| | DP49: |__| . |__|__| | DS49: =DS48+1 -> 3 | EX49: =EX48+1 -> 3 | FK49: =FK48+1 -> 3 | GB49: =GB48+1 -> 3 | HB49: =HB48+1 -> 3

Sheet 13Repr
A1: 13 | B1: Reproductive Health (Female) | Y1: 12 | Z1: Reproductive Health (Female) | AR1: 12 | AS1: Reproductive Health (Female)
C3: SUBJECT: ALL FEMALE HOUSEHOLD MEMBERS 15-49 YEARS OLD
C4: RESPONDENT: SELF
A6: ID CODE | C6: =-A1-0.01 -> -13.01 | E6: =C6-0.01 -> -13.02 | I6: =E6-0.01 -> -13.03 | L6: =I6-0.01 -> -13.04 | N6: =L6-0.01 -> -13.05 | P6: =N6-0.01 -> -13.06 | R6: =P6-0.01 -> -13.07 | T6: =R6-0.01 -> -13.08 | V6: =T6-0.01 -> -13.09 | Y6: ID CODE | AA6: =V6-0.01 -> -13.1 | AE6: =AA6-0.01 -> -13.11 | AI6: =AE6-0.01 -> -13.12 | AM6: =AI6-0.01 -> -13.13 | AO6: =AM6-0.01 -> -13.14 | AR6: ID CODE | AT6: =AO6-0.01 -> -13.15 | AV6: =AT6-0.01 -> -13.16 | AX6: =AV6-0.01 -> -13.17 | AZ6: =AX6-0.01 -> -13.18 | BB6: =AZ6-0.01 -> -13.19 | BD6: =BB6-0.01 -> -13.2 | BE6: =BD6-0.01 -> -13.21
C7: INTERVIEWER: CHECK QUESTION | E7: At the time you became pregnant, did you want to become pregnant at that time, did you want to be pregnant later, or did you not want to have any (more) children at all? | I7: If you could choose for yourself, how long would you wait from now until the birth of your next child? | L7: In the next few weeks, if you discovered you were pregnant, would that be a big problem, a small problem, or not a problem for you? | N7: Do you approve or disapprove of couples using contraceptive methods to avoid getting pregnant? | P7: Do you currently have a sexual partner? | R7: Do you think that your partner approves or disapproves of couples using contraceptive methods to avoid pregnancy? | T7: In the last 6 months, how often did you talk to your partner about family planning/contraceptive use? | V7: Comparing with you, do you think your partner wants more children, fewer children or the same number of children? | AA7: Are you currently doing something or using any method to delay or avoid getting pregnant? | AE7: Why are you currently not using any method to delay or avoid getting pregnant? | AI7: Which method are you currently using? | AM7: In which village/quarter did you obtain the current method when you started using it (first time)? | AO7: Where did you obtain the current method when you started using it (first time)? | AT7: IF HOSPITAL, CLINIC OR CENTER, PROBE FOR NAME OF FACILITY AND RECORD CODE. | AV7: In which village/quarter did you obtain the current method at your last refill? | AX7: Where did you obtain the current method at your last refill? | AZ7: IF HOSPITAL, CLINIC OR CENTER, PROBE FOR NAME OF FACILITY AND RECORD CODE. | BB7: How long have you been using the current method? | BD7: How much did you pay for your last refill? | BE7: Have any of the following ever talked to you about family planning methods?
AI9: IF MORE THAN ONE METHOD, INDICATE THE HIGHEST METHOD IN THE LIST
C10: ='10Preg'!E6 -> -10.02
AI11: FEMALE STERILIZATION | AJ11: 1 | AK11: ► | AL11: =BE6 -> -13.21
C12: IS THE WOMAN CURRENTLY PREGNANT? | AI12: MALE STERILIZATION | AJ12: 2 | AK12: ► | AL12: =BE6 -> -13.21
AF13: ► | AG13: =BE6 -> -13.21 | AI13: IUD / SPIRAL | AJ13: 3 | AO13: MEDICAL DOCTOR | AP13: 1 | AX13: MEDICAL DOCTOR | AY13: 1
AI14: INJECTABLES / DEPOPROVERA | AJ14: 4 | AO14: NURSE/MIDWIFE | AP14: 2 | AX14: NURSE/MIDWIFE | AY14: 2 | BF14: YES | BG14: 1
AI15: IMPLANTS / NORPLANT | AJ15: 5 | AO15: AUXILIARY NURSE/MIDWIFE | AP15: 3 | AX15: AUXILIARY NURSE/MIDWIFE | AY15: 3 | BB15: ENTER YEARS IF 12 MONTHS OR MORE, ENTER MONTHS IF LESS THAN 12 MONTHS. | BF15: NO | BG15: 2
AI16: PILL | AJ16: 6 | AO16: COMMUNITY HEALTH WORKER | AP16: 4 | AX16: COMMUNITY HEALTH WORKER | AY16: 4
AI17: MALE CONDOM | AJ17: 7 | AO17: LAB TECHNICIAN | AP17: 5 | AX17: LAB TECHNICIAN | AY17: 5 | BE17: A | BF17: B | BG17: C | BH17: D
AI18: FEMALE CONDOM | AJ18: 8 | AO18: PHARMACIST | AP18: 6 | AX18: PHARMACIST | AY18: 6 | BE18: Health worker at health facility | BF18: Community Health Worker | BG18: Friends/Family | BH18: Other (Specify)
I19: WOULD NOT WAIT | K19: 1 | L19: BIG PROBLEM | M19: 1 | AE19: WOULD LIKE TO GET PREGNANT | AH19: 1 | AI19: DIAPHRAGM | AJ19: 9 | AO19: TRADITIONAL HEALER | AP19: 7 | AX19: TRADITIONAL HEALER | AY19: 7
F20: ► | G20: =BE6 -> -13.21 | I20: LESS THAN 2 YEARS | K20: 2 | T20: NEVER | U20: 1 | V20: SAME | W20: 1 | AE20: DO NOT APPROVE | AH20: 2 | AI20: FOAM/JELLY | AJ20: 10 | AO20: TRADITIONAL BIRTH ATTENDANT | AP20: 8 | AX20: TRADITIONAL BIRTH ATTENDANT | AY20: 8
I21: MORE THAN 2 YEARS | K21: 3 | L21: SMALL PROBLEM | M21: 2 | N21: APPROVE | O21: 1 | P21: YES | Q21: 1 | R21: APPROVE | S21: 1 | T21: ONCE OR TWICE | U21: 2 | V21: MORE | W21: 2 | AA21: YES | AB21: 1 | AC21: ► | AD21: =AI6 -> -13.12 | AE21: PARTNER DOES NOT APPROVE | AH21: 3 | AI21: LACTATIONAL AMEN. METHOD | AJ21: 11 | AK21: ► | AL21: =BE6 -> -13.21 | AO21: SPIRITUAL HEALER | AP21: 9 | AX21: SPIRITUAL HEALER | AY21: 9
I22: DOESN'T WANT MORE | K22: 4 | N22: DISAPPROVE | O22: 2 | P22: NO | Q22: 2 | R22: DISAPPROVE | S22: 2 | V22: FEWER | W22: 3 | AA22: NO | AB22: 2 | AE22: FAMILY DOES NOT APPROVE | AH22: 4 | AO22: DRUG SELLER | AP22: 10 | AX22: DRUG SELLER | AY22: 10
C23: YES | D23: 1 | E23: THEN | H23: 1 | I23: HAVE NOT DECIDED YET | K23: 5 | L23: NO PROBLEM | M23: 3 | P23: ► | Q23: =BE6 -> -13.21 | T23: MORE THAN TWICE | U23: 3 | V23: DON'T KNOW | W23: 98 | AE23: NOT AVAILABLE | AH23: 5 | AI23: RHYTHM / NATURAL METHOD | AJ23: 12 | AK23: ► | AL23: =BE6 -> -13.21 | AO23: OTHER SHOP | AP23: 11 | AX23: OTHER SHOP | AY23: 11
C24: NO | D24: 2 | E24: LATER | H24: 2 | I24: INFERTILE | K24: 6 | AE24: TOO EXPENSIVE | AH24: 6 | AI24: WITHDRAWAL | AJ24: 13 | AK24: ► | AL24: =BE6 -> -13.21 | AO24: FAMILY MEMBER | AP24: 12 | AX24: FAMILY MEMBER | AY24: 12
C25: ► | D25: =I6 -> -13.03 | E25: NOT AT ALL | H25: 3 | I25: ►NEXT SECTION | L25: CAN'T GET PREGNANT | M25: 4 | AE25: SCARED OF SIDE-EFFECTS | AH25: 7 | AI25: OTHER MODERN METHOD | AJ25: 14 | AO25: FRIEND/NEIGHBOR | AP25: 13 | AX25: FRIEND/NEIGHBOR | AY25: 13
AE26: DON'T KNOW OF ANY METHOD | AH26: 8 | AI26: OTHER TRADITIONAL METHOD | AJ26: 15 | AO26: OTHER (SPECIFY) | AP26: 97 | AX26: NEVER HAD A REFILL | AY26: 14
AE27: OTHER (SPECIFY) | AH27: 97 | AX27: OTHER (SPECIFY) | AY27: 97
AM28: NAME | AN28: CODE | AT28: NAME | AU28: CODE | AV28: NAME | AW28: CODE | AZ28: NAME | BA28: CODE | BB28: YEARS | BC28: MONTHS | BD28: FRS CFA
A29: 1 | Y29: 1 | AR29: 1
A30: =A29+1 -> 2 | Y30: =Y29+1 -> 2 | AR30: =AR29+1 -> 2
A31: =A30+1 -> 3 | Y31: =Y30+1 -> 3 | AR31: =AR30+1 -> 3
A32: =A31+1 -> 4 | Y32: =Y31+1 -> 4 | AR32: =AR31+1 -> 4
A33: =A32+1 -> 5 | Y33: =Y32+1 -> 5 | AR33: =AR32+1 -> 5
A34: =A33+1 -> 6 | Y34: =Y33+1 -> 6 | AR34: =AR33+1 -> 6
A35: =A34+1 -> 7 | Y35: =Y34+1 -> 7 | AR35: =AR34+1 -> 7
A36: =A35+1 -> 8 | Y36: =Y35+1 -> 8 | AR36: =AR35+1 -> 8
A37: =A36+1 -> 9 | Y37: =Y36+1 -> 9 | AR37: =AR36+1 -> 9
A38: =A37+1 -> 10 | Y38: =Y37+1 -> 10 | AR38: =AR37+1 -> 10
A39: =A38+1 -> 11 | Y39: =Y38+1 -> 11 | AR39: =AR38+1 -> 11
A40: =A39+1 -> 12 | Y40: =Y39+1 -> 12 | AR40: =AR39+1 -> 12
A41: =A40+1 -> 13 | Y41: =Y40+1 -> 13 | AR41: =AR40+1 -> 13
... A43: =A42+1 -> 15 | Y43: =Y42+1 -> 15 | AR43: =AR42+1 -> 15

Sheet 14Vacc
A1: 14 | B1: Vaccination | BB1: 13 | BC1: Vaccination | BU1: 13 | BV1: Vaccination
C2: SUBJECT: CHILDREN < 5 YEARS OLD
C3: RESPONDENT: MOTHER OR PRIMARY CAREGIVER OF EACH CHILD < 5 YEARS | L3: =-A1-0.01 -> -14.01 | W3: CONFIRM TOTAL NUMBER OF LIVING CHILDREN 0-5 YEARS OLD:
A6: ID CODE | C6: =L3-0.01 -> -14.02 | D6: =C6-0.01 -> -14.03 | G6: =D6-0.01 -> -14.04 | BB6: ID CODE | BD6: =G6-0.01 -> -14.05 | BF6: =BD6-0.01 -> -14.06 | BH6: =BF6-0.01 -> -14.07 | BJ6: =BH6-0.01 -> -14.08 | BL6: =BJ6-0.01 -> -14.09 | BN6: =BL6-0.01 -> -14.1 | BP6: =BN6-0.01 -> -14.11 | BQ6: =BP6-0.01 -> -14.12 | BS6: =BQ6-0.01 -> -14.13 | BU6: ID CODE | BW6: =BS6-0.01 -> -14.14 | BY6: =BW6-0.01 -> -14.15 | CA6: =BY6-0.01 -> -14.16 | CC6: =CA6-0.01 -> -14.17 | CD6: =CC6-0.01 -> -14.18 | CF6: =CD6-0.01 -> -14.19 | CH6: =CF6-0.01 -> -14.2 | CJ6: =CH6-0.01 -> -14.21 | CL6: =CJ6-0.01 -> -14.22
C7: RECORD ID CODE OF PRIMARY CARE-GIVER | D7: Do you have an under 5 card where [NAME]’S vaccinations are written down? | I7: COPY VACCINATION DATE FOR EACH VACCINE FROM CARD | BD7: Has [NAME] received any vaccinations or vitamin A, not recorded on this card, including vaccinations given on a national immunization day or child health week? | BF7: Did you ever have an Under 5 Card where [NAME]'s vaccinations are written down? | BH7: Did [NAME] ever receive any vaccinations to prevent him/her from getting diseases, including vaccines received on national immunization day or child health week? | BJ7: Did [NAME] receive a BCG vaccination against tuberculosis, that is an injection in the forearm that usually causes a scar? | BL7: Did [NAME] receive a polio vaccine, that is drops in the mouth? | BN7: When did [NAME] receive the polio vaccine the first time? | BP7: How many times was the polio vaccine given? | BQ7: Did [NAME] receive a DTC vaccine, that is an injection in the thigh usually given at the same time as the polio vaccine? | BS7: How many times was the DTC vaccine given? | BW7: Did [NAME] receive a measles injection or an MMR injection - that is, an injection in the arm at the age of 9 months or older - to prevent [HIM/HER] from gettings measles? | BY7: Did [NAME] receive this measles vaccine before [HE/SHE] turned one year old, or after? | CA7: Did [NAME] ever receive Pneumo vaccine against pneumonia ? | CC7: How many times was the Pneumo vaccine given? | CD7: Did [NAME] ever receive the vaccine against yellow fever ? | CF7: Did [NAME] ever receive a vitamin A supplement during a national immunization campaign or child health week? | CH7: How was the supplement provided? | CJ7: When was the last vitamin A supplement provided? | CL7: In the last 12 months, how many vitamin A supplements has the child received?
I9: RECORD DAY USING 2 DIGITS (RANGE 01-31)
I10: RECORD MONTH USING 2 DIGITS (RANGE 01-12)
I11: RECORD YEAR USING 2 DIGITS (RANGE XX-XX)
CH12: BLUE/RED CAPSULE TAKEN WHOLE | CI12: 1
D13: IF YES, RECORD IF YOU SEE THE CARD OR NOT
CH16: CAPSULE CUT WITH SCISSORS | CI16: 2
D18: YES, SEEN | F18: 1 | CJ18: LESS THAN 6 MONTHS AGO | CK18: 1
CH19: CAPSULE CUT WITH BLADE | CI19: 3
D20: YES, NOT SEEN | F20: 2 | CJ20: BETWEEN 6 AND 12 MONTHS AGO | CK20: 2
H22: A. | K22: B. | N22: C. | Q22: D. | T22: E. | W22: F. | Z22: G. | AC22: H. | AF22: I. | AI22: J. | AL22: K. | AO22: L. | AR22: M | AU22: N | AX22: O | BF22: YES | BG22: 1 | BJ22: YES | BK22: 1 | BL22: YES | BM22: 1 | BN22: JUST AFTER BIRTH | BO22: 1 | BQ22: YES | BR22: 1 | CF22: YES | CG22: 1 | CH22: CAPSULE PRICKED WITH NEEDLE | CI22: 4 | CJ22: 12 MONTHS AGO OR EARLIER | CK22: 3
E23: ► | F23: =BH6 -> -14.07 | G23: BCG | J23: OPV0 | M23: OPV1 | P23: DTC1-HepB1-Hib1 | S23: Pneumo-13. 1 | V23: OPV2 | Y23: DTC2-HepB2-Hib2 | AB23: Pneumo-13.2 | AE23: OPV3 | AH23: DTC3-HepB3-Hib3 | AK23: Pneumo-13. 3 | AN23: MEASLES | AQ23: Yellow fever | AT23: Vitamin A - 1st | AW23: Vitamin A - 2nd | BF23: NO | BG23: 2 | BH23: YES | BI23: 1 | BJ23: NO | BK23: 2 | BL23: NO | BM23: 2 | BQ23: NO | BR23: 2 | BW23: YES | BX23: 1 | BY23: BEFORE | BZ23: 1 | CA23: YES | CB23: 1 | CD23: YES | CE23: 1 | CF23: NO | CG23: 2
D24: NO | F24: 3 | BD24: YES | BE24: 1 | BH24: NO | BI24: 2 | BL24: ="► ("& - BQ6 & ")" -> ► (14,12) | BQ24: ="► ("& - BW6 & ")" -> ► (14,14) | BW24: NO | BX24: 2 | BY24: AFTER | BZ24: 2 | CA24: NO | CB24: 2 | CD24: NO | CE24: 2 | CF24: ► NEXT CHILD
E25: ► | F25: =BF6 -> -14.06 | G25: DAY | H25: MONTH | I25: YEAR | J25: DAY | K25: MONTH | L25: YEAR | M25: DAY | N25: MONTH | O25: YEAR | P25: DAY | Q25: MONTH | R25: YEAR | S25: DAY | T25: MONTH | U25: YEAR | V25: DAY | W25: MONTH | X25: YEAR | Y25: DAY | Z25: MONTH | AA25: YEAR | AB25: DAY | AC25: MONTH | AD25: YEAR | AE25: DAY | AF25: MONTH | AG25: YEAR | AH25: DAY | AI25: MONTH | AJ25: YEAR | AK25: DAY | AL25: MONTH | AM25: YEAR | AN25: DAY | AO25: MONTH | AP25: YEAR | AQ25: DAY | AR25: MONTH | AS25: YEAR | AT25: DAY | AU25: MONTH | AV25: YEAR | AW25: DAY | AX25: MONTH | AY25: YEAR | BD25: ► | BE25: =BJ6 -> -14.08 | BH25: ► | BI25: =CF6 -> -14.19 | BN25: LATER | BO25: 2 | BW25: ► | BX25: =CA6 -> -14.16 | CA25: ► | CB25: =CD6 -> -14.18 | CH25: OTHER (SPECIFY) | CI25: 97
BD26: NO | BE26: 2
BD27: ► NEXT CHILD | BP27: # OF | BS27: # OF | CC27: # OF
C28: ID CODE | BP28: TIMES | BS28: TIMES | CC28: TIMES | CL28: NUMBER
A29: 1 | BB29: 1 | BU29: 1
A30: =A29+1 -> 2 | BB30: =BB29+1 -> 2 | BU30: =BU29+1 -> 2
A31: =A30+1 -> 3 | BB31: =BB30+1 -> 3 | BU31: =BU30+1 -> 3
A32: =A31+1 -> 4 | BB32: =BB31+1 -> 4 | BU32: =BU31+1 -> 4
A33: =A32+1 -> 5 | BB33: =BB32+1 -> 5 | BU33: =BU32+1 -> 5
A34: =A33+1 -> 6 | BB34: =BB33+1 -> 6 | BU34: =BU33+1 -> 6
A35: =A34+1 -> 7 | BB35: =BB34+1 -> 7 | BU35: =BU34+1 -> 7
A36: =A35+1 -> 8 | BB36: =BB35+1 -> 8 | BU36: =BU35+1 -> 8
A37: =A36+1 -> 9 | BB37: =BB36+1 -> 9 | BU37: =BU36+1 -> 9
A38: =A37+1 -> 10 | BB38: =BB37+1 -> 10 | BU38: =BU37+1 -> 10
A39: =A38+1 -> 11 | BB39: =BB38+1 -> 11 | BU39: =BU38+1 -> 11
A40: =A39+1 -> 12 | BB40: =BB39+1 -> 12 | BU40: =BU39+1 -> 12
A41: =A40+1 -> 13 | BB41: =BB40+1 -> 13 | BU41: =BU40+1 -> 13
... A43: =A42+1 -> 15 | BB43: =BB42+1 -> 15 | BU43: =BU42+1 -> 15

Sheet 15Anth
A1: 15 | B1: Height and Weight | T1: Taille et poids | U1: 14 | V1: Height and Weight
C3: SUBJECTS: ALL CHILDREN <5 YEARS OLD AND ALL WOMEN 15-49 YEARS OLD
C4: RESPONDENT: MOTHER OR PRIMARY CAREGIVER OF EACH CHILD < 5 YEARS, SELF FOR WOMEN 15-49 YEARS OLD
A6: ID CODE | C6: =-A1-0.01 -> -15.01 | E6: =C6-0.01 -> -15.02 | G6: =E6-0.01 -> -15.03 | I6: =G6-0.01 -> -15.04 | K6: =I6-0.01 -> -15.05 | M6: =K6-0.01 -> -15.06 | P6: =M6-0.01 -> -15.07 | R6: =P6-0.01 -> -15.08 | U6: ID CODE | W6: =R6-0.01 -> -15.09 | AC6: =W6-0.01 -> -15.1 | AG6: =AC6-0.01 -> -15.11 | AJ6: =AG6-0.01 -> -15.12 | AO6: =AJ6-0.01 -> -15.13 | AR6: =AO6-0.01 -> -15.14 | AW6: =AR6-0.01 -> -15.15
C7: RECORD INDIVIDUAL'S AGE FROM SECTION 1 | E7: In the last 6 months, was [NAME] measured to determine [NAME]'s nutritional status? | G7: What was the date of the last measurement? | I7: For the last measurement, which method was used to determine [NAME]'S nutritional status? | K7: Where did [NAME] receive his last measurement? | M7: What was the result of the last measurement? | P7: Did you obtain any specialized care for [NAME]'s malnutrition after the last measurement? | R7: Where was the care for [NAME]'s malnutrition obtained from? | W7: Were any of the following given to take care of [NAME]'s malnutrition? | AC7: READ ALOUD THE ANTHROPOMETRIC CONSENT FORM TO ALL WOMEN 15-49 YEARS OLD | AG7: RECORD DATE OF MEASUREMENT | AJ7: RECORD HEIGHT IN CENTIMETERS | AO7: RECORD METHOD FOR MEASURING HEIGHT | AR7: RECORD WEIGHT IN KILOGRAMS | AW7: RECORD UPPER ARM CIRCUMFERENCE IN CENTIMETERS
W12: READ EACH OPTION ALOUD AND RECORD YES OR NO
K14: DISTRICT HOSPITAL (DH) | L14: 1 | R14: DISTRICT HOSPITAL (DH) | S14: 1 | AC14: MEASURED | AD14: 1
K15: Subdivisional medical center (SMC) | L15: 2 | R15: Subdivisional medical center (SMC) | S15: 2
C16: IF WOMAN 15-49 SKIP TO | K16: Integrated Health Center (IHC) | L16: 3 | R16: Integrated Health Center (IHC) | S16: 3 | AC16: NOT PRESENT | AD16: 2 | AE16: ► | AF16: NEXT PERSON
I17: Height only | J17: 1 | K17: Missionnary facility assimilated to a DH | L17: 4 | R17: Missionnary facility assimilated to a DH | S17: 4 | AC17: TOO ILL OR DISABLED | AD17: 3
K18: Missionnary facility assimilated to a SMC | L18: 5 | R18: Missionnary facility assimilated to a SMC | S18: 5
C19: =AC6 -> -15.1 | I19: Weight only | J19: 2 | K19: Missionnary facility assimilated to a IHC | L19: 6 | R19: Missionnary facility assimilated to a IHC | S19: 6 | X19: YES | Z19: 1 | AC19: REFUSED | AD19: 4
K20: Private-for-profit facility | L20: 7 | R20: Private-for-profit facility | S20: 7 | X20: NO | Z20: 2 | AC20: OTHER (SPECIFY) | AD20: 97
I21: Height / Weight | J21: 3 | K21: PHARMACY | L21: 8 | M21: GREEN | O21: 1 | P21: YES | Q21: 1 | R21: PHARMACY | S21: 8
E22: YES | F22: 1 | K22: MOBILE CLINIC | L22: 9 | N22: ► | O22: =AC6 -> -15.1 | P22: NO | Q22: 2 | R22: MOBILE CLINIC | S22: 9 | W22: Vitamin A | X22: Nutrition advise | Y22: Nutrition rehabilitation | Z22: Other vitamins and micronutrients | AA22: Refered to higher level | AB22: Other
E23: NO | F23: 2 | I23: Upper Arm Circumfe-rence | J23: 4 | K23: PROVIDER'S HOME | L23: 10 | M23: YELLOW | O23: 2 | P23: ► | Q23: =AC6 -> -15.1 | R23: PROVIDER'S HOME | S23: 10 | AO23: STANDING | AP23: 1
E24: ► | F24: =AC6 -> -15.1 | K24: OWN HOME | L24: 11 | M24: RED | O24: 3 | R24: OWN HOME | S24: 11 | AO24: LYING | AP24: 2
K25: OTHER HOME | L25: 12 | M25: DON'T KNOW | R25: OTHER HOME | S25: 12
I26: Don't know | J26: 8 | K26: OUTDOOR LOCATION | L26: 13 | O26: 8 | R26: OUTDOOR LOCATION | S26: 13
C27: A. | D27: B. | K27: OTHER (SPECIFY) | L27: 97 | R27: OTHER (SPECIFY) | S27: 97
C28: YEARS | D28: MONTHS | G28: MONTH | H28: YEAR | AG28: DD | AH28: MM | AI28: YYYY | AJ28: CENTIMETERS | AR28: KILOGRAMS | AW28: CENTIMETERS
A29: 1 | U29: 1 | AM29: , | AU29: , | AY29: ,
A30: =A29+1 -> 2 | U30: =U29+1 -> 2 | AM30: , | AU30: , | AY30: ,
A31: =A30+1 -> 3 | U31: =U30+1 -> 3 | AM31: , | AU31: , | AY31: ,
A32: =A31+1 -> 4 | U32: =U31+1 -> 4 | AM32: , | AU32: , | AY32: ,
A33: =A32+1 -> 5 | U33: =U32+1 -> 5 | AM33: , | AU33: , | AY33: ,
A34: =A33+1 -> 6 | U34: =U33+1 -> 6 | AM34: , | AU34: , | AY34: ,
A35: =A34+1 -> 7 | U35: =U34+1 -> 7 | AM35: , | AU35: , | AY35: ,
A36: =A35+1 -> 8 | U36: =U35+1 -> 8 | AM36: , | AU36: , | AY36: ,
A37: =A36+1 -> 9 | U37: =U36+1 -> 9 | AM37: , | AU37: , | AY37: ,
A38: =A37+1 -> 10 | U38: =U37+1 -> 10 | AM38: , | AU38: , | AY38: ,
A39: =A38+1 -> 11 | U39: =U38+1 -> 11 | AM39: , | AU39: , | AY39: ,
A40: =A39+1 -> 12 | U40: =U39+1 -> 12 | AM40: , | AU40: , | AY40: ,
A41: =A40+1 -> 13 | U41: =U40+1 -> 13 | AM41: , | AU41: , | AY41: ,
... A43: =A42+1 -> 15 | U43: =U42+1 -> 15 | AM43: , | AU43: , | AY43: ,

Sheet 16MalAne
A1: 16 | B1: Malaria and Anemia Tests
C3: SUBJECTS: ALL CHILDREN <5 YEARS OLD AND ALL WOMEN 15-49 YEARS OLD
C4: RESPONDENT: MOTHER OR PRIMARY CAREGIVER OF EACH CHILD < 5 YEARS, SELF FOR WOMEN 15-49 YEARS OLD
A6: ID CODE | C6: =-A1-0.01 -> -16.01 | E6: =C6-0.01 -> -16.02 | G6: =E6-0.01 -> -16.03 | K6: =G6-0.01 -> -16.04 | N6: =K6-0.01 -> -16.05 | P6: =N6-0.01 -> -16.06 | T6: =P6-0.01 -> -16.07 | V6: =T6-0.01 -> -16.08 | X6: =V6-0.01 -> -16.09
C7: FOR CHILDREN <5 YEARS, RECORD ID CODE OF MOTHER OR PRIMARY CARE-GIVER. | E7: READ ALOUD THE MALARIA AND ANEMIA TEST CONSENT STATEMENT TO ALL ELIGIBLE FEMALE HOUSEHOLD MEMBERS AND MOTHERS/CAREGIVERS OF CHILDREN <5 YEARS OLD | G7: Why did you not agree to have the tests done? | K7: RECORD HEMOGLOBIN LEVEL (g/dl) | N7: INTERVIEWER: IS THE LEVEL RECORDED BELOW THE CUT-OFF POINT FOR AGE AND ALTITUDE ? | P7: We detected a low level of hemoglobin in the blood of [NAME] This indicates that [NAME] has developed severe anemia, which is a serious health problem. We recommend you inform a health care provider about this condition. This form will assist you in obtaining appropriate treatment for [NAME] Do you agree that the information about the level of hemoglobin in the blood of [NAME] be given to the health care provider? | T7: RAPID DIAGNOSIS TEST (RDT) RESULT | V7: INTERVIEWER: MEASURE [NAME]'S TEMPERATURE ACCORDING TO MANUAL PROCEDURES. IS TEMPEARATURE ABOVE ….? | X7: We detected malaria parasites in the blood of [NAME], as well as a fever. This is a serious health problem. We recommend you inform a health care provider about this condition. This form assist you in obtaining appropriate treatment for [NAME] Do you agree that the information about the presence of malaria parasites in the blood and a fever for [NAME] be given to the health care provider?
G12: RESULTS UNRELIABLE | J12: 1
G14: CONCERN FOR BODILY HARM OR PAIN | J14: 2
G17: RELIGIOUS BELIEFS | J17: 3
G19: TRADITIONAL BELIEFS | J19: 4
E20: CONSENT | F20: 1
E21: ► | F21: =K6 -> -16.04 | G21: TOO ILL OR DISABLED | J21: 5
E22: REFUSE | F22: 2
G23: OTHER (SPECIFY) | J23: 97
E24: NOT PRESENT | F24: 3 | N24: YES | O24: 1 | P24: YES | Q24: 1 | R24: ► | S24: REFERRAL | T24: GE + | U24: 1 | V24: YES | W24: 1 | X24: YES | Y24: 1 | Z24: ► | AA24: REFERRAL
N25: NO | O25: 2 | P25: NO | Q25: 2 | T25: GE - | U25: 2 | V25: NO | W25: 2 | X25: NO | Y25: 2
E26: ► | F26: NEXT | H26: ► NEXT PERSON | N26: ► | O26: =T6 -> -16.07 | T26: ► | U26: NEXT | V26: ► | W26: NEXT
C28: ID CODE | K28: g/dl
A29: 1 | L29: ,
A30: =A29+1 -> 2 | L30: ,
A31: =A30+1 -> 3 | L31: ,
A32: =A31+1 -> 4 | L32: ,
A33: =A32+1 -> 5 | L33: ,
A34: =A33+1 -> 6 | L34: ,
A35: =A34+1 -> 7 | L35: ,
A36: =A35+1 -> 8 | L36: ,
A37: =A36+1 -> 9 | L37: ,
A38: =A37+1 -> 10 | L38: ,
A39: =A38+1 -> 11 | L39: ,
A40: =A39+1 -> 12 | L40: ,
A41: =A40+1 -> 13 | L41: ,
... A43: =A42+1 -> 15 | L43: ,

Sheet 17CHW
A1: 17 | B1: Community Health Worker Service Usage and Satisfaction | Q1: 16 | R1: Community Health Worker Service Usage and Satisfaction
C3: SUBJECTS: ALL WOMEN 15-49 YEARS OLD
C4: RESPONDENT: SELF
A6: ID CODE | C6: =-A1-0.01 -> -17.01 | E6: =C6-0.01 -> -17.02 | Q6: ID CODE | S6: =E6-0.01 -> -17.03 | U6: =S6-0.01 -> -17.04 | W6: =U6-0.01 -> -17.05 | AD6: =W6-0.01 -> -17.06 | AG6: =AD6-0.01 -> -17.07
C7: In the last 3 months, have you met with a Community Health Worker (CHW) either in your home or in the community? | E7: Did the CHW provide any of the following services? | S7: The last time that you met with a Communit Health Worker, did you pay for the services or advice? | U7: How much? | W7: How satisfied were you with the following? | AD7: Would you recommend Community Health Workers to other women or families? | AG7: Why wouldn't you recommend them?
E9: RECORD YES OR NO CODES FOR EACH SERVICE BELOW
AG10: RECORD UP TO 3 REASONS
H12: YES | I12: 1 | AG12: POOR QUALITY OF CARE | AJ12: 1
H13: NO | I13: 2
Y14: VERY UNSATISFIED | AA14: 1 | AG14: NOT HELPFUL | AJ14: 2
Y15: UNSATISFIED | AA15: 2 | AG15: NOT RESPECTFUL / FRIENDLY | AJ15: 3
E16: A. | F16: B. | G16: C. | H16: D. | I16: E. | J16: F. | K16: G. | L16: H. | M16: I. | N16: J. | O16: K. | Y16: SATISFIED | AA16: 3
E17: Referral to prenatal care | F17: Referral to institutional delivery | G17: Referral to postnatal care | H17: Referral to Voluntary Counseling and Testing (VCT) / Prevention of Mother-To-Child Transmission (PMTCT) | I17: Referral to child vaccination | J17: Advice on HIV and AIDS | K17: Advice on family planning | L17: Child growth monitoring / advice in child nutrition | M17: Advice on water and sanitation | N17: Distribution of condoms | O17: Information, Education and Communication sessions on other health topics | Y17: VERY SATISFIED | AA17: 4
C18: YES, AT HOME | D18: 1 | AG18: TREATMENT TOO EXPENSIVE | AJ18: 4
C19: YES, IN THE COMMUNITY | D19: 2
W20: A. | X20: B. | Y20: C. | Z20: D. | AA20: E. | AB20: F. | AC20: G. | AG20: DIFFICULT TO ACCESS | AJ20: 5
C21: YES, IN BOTH HOME AND COMMUNITY | D21: 3 | W21: Community Health Workers being knowledgable? | X21: Community Health Workers being responsive to your needs? | Y21: Enough community health workers? | Z21: Community Health Worker's time availability to attend to you? | AA21: Information provided by Community Health Worker? | AB21: Community Health Workers showing respectful and friendly? | AC21: Community Health Worker being good role models?
AD22: YES | AF22: 1 | AG22: LACK OF SUPPLIES / DRUGS | AJ22: 6
S23: YES | T23: 1 | AD23: ► NEXT SECTION
C24: NO | D24: 4 | S24: NO | T24: 2
C25: ► NEXT SECTION | S25: ► | T25: =W6 -> -17.05 | AD25: NO | AF25: 2 | AG25: OTHER, SPECIFY | AJ25: 97
AG27: ►NEXT SECTION
U28: FRS CFA | AG28: 1 | AH28: 2 | AI28: 3
A29: 1 | Q29: 1
A30: =A29+1 -> 2 | Q30: =Q29+1 -> 2
A31: =A30+1 -> 3 | Q31: =Q30+1 -> 3
A32: =A31+1 -> 4 | Q32: =Q31+1 -> 4
A33: =A32+1 -> 5 | Q33: =Q32+1 -> 5
A34: =A33+1 -> 6 | Q34: =Q33+1 -> 6
A35: =A34+1 -> 7 | Q35: =Q34+1 -> 7
A36: =A35+1 -> 8 | Q36: =Q35+1 -> 8
A37: =A36+1 -> 9 | Q37: =Q36+1 -> 9
A38: =A37+1 -> 10 | Q38: =Q37+1 -> 10
A39: =A38+1 -> 11 | Q39: =Q38+1 -> 11
A40: =A39+1 -> 12 | Q40: =Q39+1 -> 12
A41: =A40+1 -> 13 | Q41: =Q40+1 -> 13
... A43: =A42+1 -> 15 | Q43: =Q42+1 -> 15
