Workbook
Name _Print_Area: '3_Time and expense'!$A$1:$F$44
Name _Print_Area: '4_Pt Satisfaction'!$A$1:$F$18
Name _Print_Area: '5_Security'!#REF!
Name _Print_Area: '6_Household1'!$A$1:$F$51
Name _Print_Area: '6_Household2'!$A$1:$F$36
Name _Print_Area: '7 CHW'!$A$1:$F$26
Name _Print_Area: '8 TBA'!$A$1:$G$25

Sheet Cover
A1: Health Results Based Financing Impact Evaluation | BE1: IDENTIFIER
A2: THE GAMBIA | BE2: HEALTH DISTRICT | BK2: HF NUMBER | BO2: PATIENT NUMBER
A3: 2014
A4: Health Facility Questionnaire
A5: F3 - Exit Interview for Antenatal Care Visit
D8: LGA NAME | P8: LGA CODE | W8: DISTRICT NAME | AI8: DISTRICT CODE | AP8: VILLAGE NAME | BA8: VILLAGE CODE
C12: GPS COORDINATES OF HEALTH FACILITY
C14: LATITUDE (NORTH) | R14: .
C17: LONGITUDE (EAST) | D17: LONGITUDE (EAST) | R17: .
AU20: RESULT OF THE INTERVIEW | BA20: INTERVIEW DONE | BQ20: 1
BA21: PARTIALLY COMPLETED | BQ21: 2
A22: NAME OF HEALTH FACILITY | O22: LOCATION OF HEALTH FACILITY | BA22: PERSON IN CHARGE REFUSED INTERVIEW | BQ22: 3
BA23: PERSON IN CHARGE IS OUT (STAFF THAT IS PRESENT IS NOT AUTHORIZED) | BQ23: 4
BA24: FACILITY IS EMPTY (NO STAFF MEMBERS) | BQ24: 5
BA25: HEALTH FACILITY NOT FOUND | BQ25: 6
BA26: OTHER, SPECIFY: | BQ26: 96
A27: INTERVIEWER | R27: CODE | X27: VISIT 1 | Y27: DAY | AC27: MONTH | AG27: YEAR
AU28: Translator Used? | AZ28: NEVER | BE28: 1
AZ29: SOMETIMES | BE29: 2
X30: VISIT 2 | Y30: DAY | AC30: MONTH | AG30: YEAR | AZ30: ALWAYS | BE30: 3
X33: VISIT 3 | Y33: DAY | AC33: MONTH | AG33: YEAR | AU33: LANGUAGE
AU34: ENGLISH | BA34: 1 | BC34: FULA | BI34: 4
AU35: MANDINKA | BA35: 2 | BC35: JOLA | BI35: 5
AU36: WOLOF | BA36: 3 | BC36: SERER | BI36: 6
BC37: OTHER, SPECIFY: | BI37: 96
A40: SUPERVISOR | N40: CODE | T40: DAY | X40: MONTH | AB40: YEAR

Sheet 1_ Exit Identification
A1: =-1 -> -1 | B1: Identification
B2: INTERVIEWER: ASK THE FOLLOWING QUESTIONS TO THE PATIENT.
A3: I am going to start the interview by asking you some questions about yourself.
A4: -1.01 | B4: Can you tell me how old you are? | C4: YEARS (COMPLETED)
A5: =A4-0.01 -> -1.02 | B5: Can you read and write? | C5: YES | D5: 1
C6: NO | D6: 2
A7: =A5-0.01 -> -1.03 | B7: What is the highest level of education that you completed, and how many years (or grades) of school have you completed within that level? | C7: KINDERGARTEN | D7: 1
C8: PRIMARY/ LOWER BASIC | D8: 2
C9: UPPER BASIC | D9: 3
C10: HIGH SCHOOL | D10: 4
C11: SENIOR SECONDARY | D11: 5
C12: NON-TERTIARY/VOCATIONARY | D12: 6
C13: DIPLOMA/TERTIARY | D13: 7
C14: UNDERGRADUATE | D14: 8
C15: MASTERS | D15: 9
C16: PHD | D16: 10
C17: NONE | D17: 11 | E17: ► | F17: =A21 -> -1.04
C18: OTHER, SPECIFY | D18: 96
C19: DON'T KNOW | D19: -99
C20: GRADE (NUMBER OF YEARS) COMPLETED WITHIN THAT LEVEL
A21: =A7-0.01 -> -1.04 | B21: What is your marital status? | C21: Single | D21: 1 | E21: ► | F21: ='2 Trtmnt Counseling'!A2 -> -2.01
C22: Married/Living together (Monogamous) | D22: 2
C23: Married Polygamous | D23: 3
C24: Widowed | D24: 4 | E24: ► | F24: ='2 Trtmnt Counseling'!A2 -> -2.01
C25: Divorced/separated | D25: 5 | E25: ► | F25: ='2 Trtmnt Counseling'!A2 -> -2.01
A26: =A21-0.01 -> -1.05 | B26: What is the highest level of education that your spouse / partner completed, and how many years (or grades) of school has your spouse / partner completed within that level? | C26: KINDERGARTEN | D26: 1
C27: PRIMARY/ LOWER BASIC | D27: 2
C28: UPPER BASIC | D28: 3
C29: HIGH SCHOOL | D29: 4
C30: SENIOR SECONDARY | D30: 5
C31: NON-TERTIARY/VOCATIONARY | D31: 6
C32: DIPLOMA/TERTIARY | D32: 7
C33: UNDERGRADUATE | D33: 8
C34: MASTERS | D34: 9
C35: PHD | D35: 10
C36: NONE | D36: 11
C37: OTHER, SPECIFY | D37: 96 | E37: ► | F37: ='2 Trtmnt Counseling'!A2 -> -2.01
C38: DON'T KNOW | D38: -99
C39: GRADE (NUMBER OF YEARS) COMPLETED WITHIN THAT LEVEL

Sheet 2 Trtmnt Counseling
A1: =-2 -> -2 | B1: Treatment and counseling
A2: =A1-0.01 -> -2.01 | B2: During this visit to the health center, how many health workers provided care to you? This includes any doctors, nurses, pharmacist, lab technician, midwife, etc. who directly took care of you or provided you with advice or medicine.
A3: =A2-0.01 -> -2.02 | B3: What is the name of the (first) health worker who provided care to you?
A4: =A3-0.01 -> -2.03 | B4: INTERVIEWER: ENTER HEALTH WORKER ID CODE FROM THE FACILITY STAFF ROSTER
B5: INTERVIEWER: CHECK IF PATIENT SAW MORE THAN ONE HEALTH WORKER | C5: ="IF PATIENT SAW MORE THAN ONE PROVIDER, ASK NAMES OF ALL PROVIDERS. OTHERWISE, ►(" & TEXT(-A12,"0.00") &")." -> IF PATIENT SAW MORE THAN ONE PROVIDER, ASK NAMES OF ALL PROVIDERS. OTHERWISE, ►(2.10).
A6: =A4-0.01 -> -2.04 | B6: What is the name of the second health worker who provided care to you?
A7: =A6-0.01 -> -2.05 | B7: INTERVIEWER: ENTER HEALTH WORKER ID CODE FROM THE FACILITY STAFF ROSTER
A8: =A7-0.01 -> -2.06 | B8: What is the name of the third health worker who provided care to you?
A9: =A8-0.01 -> -2.07 | B9: INTERVIEWER: ENTER HEALTH WORKER ID CODE FROM THE FACILITY STAFF ROSTER
A10: =A9-0.01 -> -2.08 | B10: What is the name of the fourth health worker who provided care to you?
A11: =A10-0.01 -> -2.09 | B11: INTERVIEWER: ENTER HEALTH WORKER ID CODE FROM THE FACILITY STAFF ROSTER
A12: =A11-0.01 -> -2.1 | B12: Do you have an antenatal-care card/book, or an immunization card with you today? INTERVIEWER: IF YES: ASK TO SEE THE CARD/BOOK. | C12: Yes, card/book seen | D12: 1
C13: Yes, card/book not seen | D13: 2 | E13: ► | F13: =A28 -> -2.15
C14: No, card/book kept with facility | D14: 3 | E14: ► | F14: =A28 -> -2.15
C15: No card/book used | D15: 4 | E15: ► | F15: =A28 -> -2.15
A16: =A12-0.01 -> -2.11 | B16: INTERVIEWER: CHECK ANTENATAL-CARE CARD/BOOK, OR IMMUNIZATION CARD. INDICATE WHETHER THERE IS ANY NOTE OR RECORD OF THE CLIENT HAVING RECEIVED TETANUS TOXOID. | C16: YES, 1 TIME | D16: 1
C17: YES, 2 OR MORE TIMES | D17: 2
C18: NO | D18: 3
A19: =A16-0.01 -> -2.12 | B19: INTERVIEWER: HOW MANY WEEKS PREGNANT IS THE CLIENT, ACCORDING TO THE ANTENATAL CARE CARD/BOOK? | C19: # WEEKS
A22: =A19-0.01 -> -2.13 | B22: INTERVIEWER: DOES THE CARD/BOOK INDICATE THE CLIENT HAS RECEIVED INTERMITTENT PREVENTIVE TREATMENT (IPT) AGAINST MALARIA? | C22: YES, 1 DOSE | D22: 1
C23: YES, 2 DOSES | D23: 2
C24: NO | D24: 3
A26: =A22-0.01 -> -2.14 | B26: INTERVIEWER: DOES THE CARD/BOOK MENTION THE CLIENT'S BLOOD GROUP? | C26: YES | D26: 1
C27: NO | D27: 2
A28: =A26-0.01 -> -2.15 | B28: How long have you been pregnant? (INTERVIEWER: RECORD MONTHS OR WEEKS) | C28: a. WEEKS
C29: b. MONTHS
A30: =A28-0.01 -> -2.16 | B30: Is this your first pregnancy? | C30: YES | D30: 1
C31: NO | D31: 2
A32: =A30-0.01 -> -2.17 | B32: Is this your first antenatal visit at this facility for this pregnancy? | C32: YES | D32: 1 | E32: ► | F32: =A36 -> -2.19
C33: NO | D33: 2
A34: =A32-0.01 -> -2.18 | B34: Including this visit, how many antenatal care visits have you had for this pregnancy to this health facility?
A36: =A34-0.01 -> -2.19 | B36: How many antenatal care visits have you had for this pregnancy to other health facilities?
A38: =A36-0.01 -> -2.2 | B38: During this visit, were you weighed? | C38: YES | D38: 1
C39: NO | D39: 2
A40: =A38-0.01 -> -2.21 | B40: During this visit, was your height measured? | C40: YES | D40: 1
C41: NO | D41: 2
A42: =A40-0.01 -> -2.22 | B42: During this visit, did someone measure your blood pressure? INTERVIEWER, EXPLAIN: This is when someone wraps a wide cloth around your arm above your elbow and you feel squeezing and pressure on your arm, which is then released after some time. | C42: YES | D42: 1
C43: NO | D43: 2
A44: =A42-0.01 -> -2.23 | B44: During this visit, did you give a urine sample? INTERVIEWER, EXPLAIN: Did someone ask you to collect your urine in a small bottle or pot for some medical tests? | C44: YES | D44: 1
C45: NO | D45: 2
...

Sheet 3_Time and expense
A1: =-3 -> -3 | B1: Patient travel and expenditure
A2: =A1-0.01 -> -3.01 | B2: How far is your household from this health facility? | C2: KILOMETERS
A3: =A2-0.01 -> -3.02 | B3: How long did it take you to reach this health facility from home today, one way in minutes? | C3: MINUTES
A5: =A3-0.01 -> -3.03 | B5: What was your primary mode of transportation today? (One way) | C5: By foot | D5: 1 | E5: ► | F5: =A13 -> -3.05
C6: Bicycle | D6: 2 | E6: ► | F6: =A13 -> -3.05
C7: Horse/ Donkey/Other Animal | D7: 3
C8: Private car | D8: 4
C9: Public car/bus including taxi | D9: 5
C10: Private motorcycle | D10: 6
C11: Other (Specify:_____________) | D11: 96
A12: =A5-0.01 -> -3.04 | B12: How much did it cost in DALASI for you to travel to the health facility today, one way? | C12: DALASI
A13: =A12-0.01 -> -3.05 | B13: How long did you wait in the health facility before being seen in consultation by the health worker? | C13: MINUTES
A14: =A13-0.01 -> -3.06 | B14: Do you think the time you spent waiting was too long? | C14: YES | D14: 1
C15: NO | D15: 2
A16: =A14-0.01 -> -3.07 | B16: How long did you spend with the doctor, nurse or other practitioner during the consultation? | C16: MINUTES
A17: =A16-0.01 -> -3.08 | B17: Do you think the time you spent with the worker was enough? | C17: YES | D17: 1
C18: NO | D18: 2
A19: =A17-0.01 -> -3.09 | B19: Did you have to pay a registration, consultation or doctor's fee? | C19: YES | D19: 1
C20: NO | D20: 2 | E20: ► | F20: =A22 -> -3.11
A21: =A19-0.01 -> -3.1 | B21: How much did you pay for this in DALASI ? | C21: DALASI
A22: =A21-0.01 -> -3.11 | B22: Was a laboratory test done? | C22: YES | D22: 1
C23: NO | D23: 2 | E23: ► | F23: =A25 -> -3.13
A24: =A22-0.01 -> -3.12 | B24: How much was paid in DALASI for this? | C24: DALASI
A25: =A24-0.01 -> -3.13 | B25: Was an ultrasound done? | C25: YES | D25: 1
C26: NO | D26: 2 | E26: ► | F26: =A28 -> -3.15
A27: =A25-0.01 -> -3.14 | B27: How much was paid in DALASI for this? | C27: DALASI
A28: =A27-0.01 -> -3.15 | B28: Were medicines dispensed to you today? | C28: YES | D28: 1
C29: NO | D29: 2 | E29: ► | F29: =A31 -> -3.17
A30: =A28-0.01 -> -3.16 | B30: How much was paid in DALASI for this? | C30: DALASI
A31: =A30-0.01 -> -3.17 | B31: How much was spent in total in DALASI at the facility for this visit, not including transportation costs? | C31: DALASI | D31: IF ZERO | E31: ► | F31: =A39 -> -3.19
A32: =A31-0.01 -> -3.18 | B32: Where did the money come from that was used to pay for health care today? | C32: a. SAVINGS OR REGULAR HOUSEHOLD BUDGET
C33: b. HEALTH INSURANCE
B34: INTERVIEWER: DO NOT READ OPTIONS ALOUD, BUT FOR EACH OPTION RECORD "1" IF MENTIONED, "2" IF NOT MENTIONED. YOU MAY PROBE WITHOUT USING SPECIFIC ANSWERS (E.G., "ANYTHING ELSE?") | C34: c. SELLING HOUSEHOLD POSSESSIONS
C35: d. MORTGAGING OR SELLING LAND OR REAL ESTATE
C36: e. FROM A FRIEND OR RELATIVE
B37: MENTIONED…….1 | C37: f. FROM SOMEONE OTHER THAN FAMILY AND FRIENDS
B38: NOT MENTIONED..2 | C38: g. OTHER, SPECIFY:
A39: =A32-0.01 -> -3.19 | B39: Are you currently covered under a health insurance scheme? | C39: YES | D39: 1
C40: NO | D40: 2 | E40: ► | F40: -4.01
A41: =A39-0.01 -> -3.2 | B41: What type of health insurance is this? Is it Public, Private or both? | C41: Public | D41: 1
...

Sheet 4_Pt Satisfaction
A1: =-4 -> -4 | B1: Patient satisfaction
A2: =A1-0.01 -> -4.01 | B2: What was the most important reason you chose this health facility today instead of a different source of care? | C2: LOCATION CLOSE TO HOME | F2: 1
C3: LOW COST | F3: 2
C4: TRUST IN PROVIDERS / HIGH QUALITY CARE | F4: 3
C5: AVAILABILITY OF DRUGS | F5: 4
B6: INTERVIEWER: DO NOT READ OPTIONS ALOUD. ONLY ONE ANSWER IS ALLOWED. | C6: AVAILABILITY OF FEMALE PROVIDER | F6: 5
C7: AVAILABILITY OF MALE PROVIDER | F7: 6
C8: RECOMMENDATION OR REFERRAL | F8: 7
C9: OTHER, SPECIFY: | F9: 96
A10: =A2-0.01 -> -4.02 | B10: What was the next most important reason you chose this health facility today instead of a different source of care, if there is any other reason? | C10: NO OTHER REASON | F10: 1
C11: LOCATION CLOSE TO HOME | F11: 2
C12: LOW COST | F12: 3
C13: TRUST IN PROVIDERS / HIGH QUALITY CARE | F13: 4
C14: AVAILABILITY OF DRUGS | F14: 5
B15: INTERVIEWER: DO NOT READ OPTIONS ALOUD. ONLY ONE ANSWER IS ALLOWED. | C15: AVAILABILITY OF FEMALE PROVIDER | F15: 6
C16: AVAILABILITY OF MALE PROVIDER | F16: 7
C17: RECOMMENDATION OR REFERRAL | F17: 8
C18: OTHER, SPECIFY: | F18: 96
A19: I’m going to read you a series of statements regarding this health facility. Please tell me if you agree, neither agree nor disagree, or disagree with each statement. Some statements may not apply to your situation. Please let me know if a statement does not apply to you.
A20: INTERVIEWER: READ EACH STATEMENT TO THE RESPONDENT AND RECORD THE RESPONSE CODE FOR EACH QUESTION. PLEASE SHOW AND ASK TO PICK OUT THE COLORED AND NUMBERED CARDS WITH RESPONSE CODES
C21: Agree | D21: Neither agree nor disagree | E21: Disagree | F21: Not applicable
A22: =A10-0.01 -> -4.03 | B22: It is convenient to travel from your house to the health facility. | C22: 1 | D22: 2 | E22: 3 | F22: 4
A23: =A22-0.01 -> -4.04 | B23: The health facility is clean. | C23: 1 | D23: 2 | E23: 3 | F23: 4
A24: =A23-0.01 -> -4.05 | B24: The health staff are courteous and respectful. | C24: 1 | D24: 2 | E24: 3 | F24: 4
A25: =A24-0.01 -> -4.06 | B25: The health workers did a good job of explaining your condition. | C25: 1 | D25: 2 | E25: 3 | F25: 4
A26: =A25-0.01 -> -4.07 | B26: It is easy to get medicine that health workers prescribe. | C26: 1 | D26: 2 | E26: 3 | F26: 4
A27: =A26-0.01 -> -4.08 | B27: The registration fees of this visit to the health facility were reasonable. | C27: 1 | D27: 2 | E27: 3 | F27: 4
A28: =A27-0.01 -> -4.09 | B28: The lab fees of this visit to the health facility were reasonable. | C28: 1 | D28: 2 | E28: 3 | F28: 4
A29: =A28-0.01 -> -4.1 | B29: The medication fees of this visit to the health facility were reasonable. | C29: 1 | D29: 2 | E29: 3 | F29: 4
A30: =A29-0.01 -> -4.11 | B30: The transport fees for this visit to the health facility were reasonable. | C30: 1 | D30: 2 | E30: 3 | F30: 4
A31: =A30-0.01 -> -4.12 | B31: The amount of time you spent waiting to be seen by a health worker was reasonable. | C31: 1 | D31: 2 | E31: 3 | F31: 4
A32: =A31-0.01 -> -4.13 | B32: You had enough privacy during your consultation. | C32: 1 | D32: 2 | E32: 3 | F32: 4
A33: =A32-0.01 -> -4.14 | B33: The health worker spent a sufficient amount of time with you. | C33: 1 | D33: 2 | E33: 3 | F33: 4
A34: =A33-0.01 -> -4.15 | B34: The hours the facility is open are adequate to meet your needs. | C34: 1 | D34: 2 | E34: 3 | F34: 4
... A38: =A37-0.01 -> -4.19 | B38: The health workers in this facility provide good quality delivery services. | C38: 1 | D38: 2 | E38: 3 | F38: 4

Sheet 5_Security
A1: =-5 -> -5 | B1: Security and Trust
A2: I’m going to read you a series of statements regarding security and trust in this health facility. Please respond to the statements as you did above by confirming if you agree, neither agree nor disagree, or disagree with each statement. Some statements may not apply to your situation. Please let me know if a statement does not apply to you.
A3: INTERVIEWER: READ EACH STATEMENT TO THE RESPONDENT AND RECORD THE RESPONSE CODE FOR EACH QUESTION.
C4: Agree | D4: Neither agree nor disagree | E4: Disagree | F4: Not applicable
A5: =A1-0.01 -> -5.01 | B5: The area around the health facility is not safe and it makes it difficult for the people in the community to use available health services | C5: 1 | D5: 2 | E5: 3 | F5: 4
A6: =A5-0.01 -> -5.02 | B6: The health workers in this facility are extremely thorough and careful. | C6: 1 | D6: 2 | E6: 3 | F6: 4
A7: =A6-0.01 -> -5.03 | B7: You trust in the skills and abilities of the health workers of this facility. | C7: 1 | D7: 2 | E7: 3 | F7: 4
A8: =A7-0.01 -> -5.04 | B8: You completely trust the health worker’s decisions about medical treatments in this facility. | C8: 1 | D8: 2 | E8: 3 | F8: 4
A9: =A8-0.01 -> -5.05 | B9: The health workers in this facility are very friendly and approachable. | C9: 1 | D9: 2 | E9: 3 | F9: 4
A10: =A9-0.01 -> -5.06 | B10: The health workers in this facility are easy to make contact with. | C10: 1 | D10: 2 | E10: 3 | F10: 4
A11: =A10-0.01 -> -5.07 | B11: The health workers in this facility care about your health just as much or more than you do. | C11: 1 | D11: 2 | E11: 3 | F11: 4
A12: =A11-0.01 -> -5.08 | B12: The health workers in this facility act differently toward rich people than toward poor people. | C12: 1 | D12: 2 | E12: 3 | F12: 4
A13: =A12-0.01 -> -5.09 | B13: The health workers in this facility act the same towards all patients. | C13: 1 | D13: 2 | E13: 3 | F13: 4
A14: =A13-0.01 -> -5.1 | B14: You trust the health workers to keep your medical information confidential | C14: 1 | D14: 2 | E14: 3 | F14: 4
A15: =A14-0.01 -> -5.11 | B15: All in all, you trust the health workers completely in this health facility. | C15: 1 | D15: 2 | E15: 3 | F15: 4

Sheet 6_Household1
A1: =-6 -> -6 | B1: Questions about the household
A2: =A1-0.01 -> -6.01 | B2: Does your household own any land, including land where you have a house? | C2: YES | D2: 1
C3: NO | D3: 2 | E3: ► | F3: =A5 -> -6.03
A4: =A2-0.01 -> -6.02 | B4: If you were to sell the land you own, how much in DALASI do you think you would receive for it? | C4: DALASI
A5: =A4-0.01 -> -6.03 | B5: MAIN MATERIAL USED FOR FLOOR: | C5: NATURAL FLOOR:
C6: EARTH/SAND | D6: 11
C7: DUNG | D7: 12
C8: RUDIMENTARY FLOOR
C9: WOOD PLANKS | D9: 21
C10: PALM / BAMBOO | D10: 22
C11: FINISHED FLOOR
C12: VINYL/ASPHALT STRIPS | D12: 31
C13: CERAMIC TILES | D13: 32
C14: CEMNET | D14: 33
C15: ELLINEUM CARPET | D15: 34
C16: OTHER, SPECIFY | D16: 96
A17: =A5-0.01 -> -6.04 | B17: MAIN MATERIAL USED FOR ROOF: | C17: NATURAL ROOF:
C18: NO ROOF | D18: 11
C19: THATCH/PALM LEAF | D19: 12
C20: RUDIMENTARY ROOFING
C21: RUSTIC MAT | D21: 21
C22: PALM / BAMBOO | D22: 22
C23: WOOD PLANKS | D23: 23
C24: FINISHED ROOFING
C25: METAL/CORRUGATED | D25: 31
C26: WOOD | D26: 32
C27: CALAMINE/CEMENT FIBER | D27: 33
C28: CEMENT | D28: 34
C29: ROOFING TILES | D29: 35
C30: OTHER, SPECIFY | D30: 96
A31: =A17-0.01 -> -6.05 | B31: MAIN MATERIAL USED FOR EXTERIOR WALL: | C31: NATURAL WALLS:
C32: NO WALLS | D32: 11
C33: CANE/PALM/TRUNKS | D33: 12
C34: DIRT | D34: 13
C35: RUDIMENTARY WALLS
C36: BAMBOO WITH MUD | D36: 21
C37: STONE WITH MUD | D37: 22
C38: PLYWOOD | D38: 23
C39: REUSED WOOD | D39: 24
C40: FINISHED WALLS
...

Sheet 6_Household2
A1: =-6 -> -6 | B1: Questions about the household (continued)
A2: ='6_Household1'!A47-0.02 -> -6.09 | B2: How many [ASSET]s does your household own? ONLY INCLUDE FUNCTIONING ASSETS. IF ZERO, RECORD ZERO AND GO TO NEXT ASSET. | F2: RECORD RESPONSE
A4: a | B4: Radio/CD/cassette player?
A5: b | B5: Television?
A6: c | B6: Clothes iron?
A7: d | B7: Electric stove?
A8: e | B8: Gas stove?
A9: f | B9: Paraffin lamp?
A10: g | B10: Bed?
A11: h | B11: Mattress?
A12: i | B12: Refrigerator / freezer?
A13: j | B13: Sewing machine?
A14: k | B14: Table? (for dining?)
A15: l | B15: Sofa?
... A26: w | B26: Power tiller?
A27: =A2-0.01 -> -6.1 | B27: How many [ANIMAL]s does your household own? INTERVIEWER: IF ZERO, RECORD "0".
A28: a | B28: Cattle?
A29: b | B29: Goats?
A30: c | B30: Sheep?
A31: d | B31: Pigs?
A32: e | B32: Poultry?
A33: f | B33: Donkey?
A34: g | B34: Horse?
A35: h | B35: Oxen?
A36: i | B36: Other, specify:

Sheet 7 CHW
A1: =-7 -> -7 | B1: Community Health Nurse
A2: =A1-0.01 -> -7.01 | B2: Do you know of any community health nurses (CHW) in your community? | C2: YES | D2: 1
C3: NO | D3: 2 | E3: ► | F3: ='8 TBA'!A2 -> -8.01
A4: =A2-0.01 -> -7.02 | B4: Do you have both male and female Community Health Nurse in your community? | C4: Male CHN only | D4: 1
C5: Female CHN only | D5: 2
C6: Both Male and Female | D6: 3
A7: =A4-0.01 -> -7.03 | B7: In the last month, has any community health nurse provided services to you while you were in the health post? | C7: YES | D7: 1
C8: NO | D8: 2
A9: =A7-0.01 -> -7.04 | B9: In the last month, has any community health nurse provided services to you while you were in your own home? | C9: YES | D9: 1
C10: NO | D10: 2
A11: =A9-0.01 -> -7.05 | B11: In the last month, has any community health nurse provided services to you while you were elsewhere in your community? | C11: YES | D11: 1
C12: NO | D12: 2
A13: =A11-0.01 -> -7.06 | B13: INTERVIEWER: CHECK THE PREVIOUS 3 QUESTIONS TO SEE WHETHER RESPONDENT HAS USED SERVICES IN THE LAST MONTH | C13: YES | D13: 1
C14: NO | D14: 2 | E14: ► | F14: =A25 -> -7.08
A15: =A13-0.01 -> -7.07 | B15: What services did the CHN provide you? | C15: a. PROVIDE IRON / FOLIC ACID TABLETS
C16: b. PROVIDE TETANUS TOXOID IMMUNIZATION
B17: INTERVIEWER: DO NOT READ OPTIONS ALOUD. FOR EACH OPTION, RECORD "1" IF MENTIONED, "2" IF NOT MENTIONED. | C17: c. PROVIDE PREVENTIVE ANTIMALARIAL PILLS
C18: d. INFORMATION ON DANGER SIGNS DURING PREGNANCY
C19: e. ADVICE ON EXCLUSIVE BREASTFEEDING
C20: f. HEALTH EDUCATION OR PROMOTION
C21: g. REFERRAL TO HEALTH FACILITY
C22: h. OTHER, SPECIFY:
A23: I’m going to read you three statements in relation to work done by the Community Health workers. Please indicate if you agree, neither agree nor disagree, or disagree with each statement.
C24: Agree | D24: Neither agree nor disagree | E24: Disagree
A25: =A15-0.01 -> -7.08 | B25: Community Health Nurses provide a valuable service in my community. | C25: 1 | D25: 2 | E25: 3
A26: =A25-0.01 -> -7.09 | B26: Community Health Nurse(s) provide good quality service in my community | C26: 1 | D26: 2 | E26: 3
A27: =A26-0.01 -> -7.1 | B27: I prefer to vist a Community Health Nurse rather than to come into the facility. | C27: 1 | D27: 2 | E27: 3

Sheet 8 TBA
A1: =-8 -> -8 | B1: Traditional Birth Attendant
A2: =A1-0.01 -> -8.01 | B2: Do you know of any traditional birth attendant (TBA) in your community? | C2: Yes | D2: 1
C3: No | D3: 2 | E3: ► | F3: END
A4: =A2-0.01 -> -8.02 | B4: Have you used Traditional Birth Attendant services in the last month, either in your own home, in the community or in the health post? | C4: Yes, at own home | D4: 1
C5: Yes, at health post | D5: 2
C6: Yes, in the community | D6: 3
C7: Yes, both at home and in the health post | D7: 4
C8: Yes, both at home and in the community | D8: 5
C9: Yes, both in the health post and in the community | D9: 6
C10: Yes, both at home, in the health post and the community | D10: 7
C11: No | D11: 8 | E11: ► | F11: =A24 -> -8.04
A12: =A4-0.01 -> -8.03 | B12: What services did the TBA provide you? | C12: a. IDENTIFY YOUR PREGNANCY
C13: b. BRING YOU FOR ANTENATAL CHECKUP
B14: INTERVIEWER: DO NOT READ OPTIONS ALOUD. FOR EACH OPTION, RECORD "1" IF MENTIONED, "2" IF NOT MENTIONED. | C14: c. INFORMATION ON DANGER SIGNS DURING PREGNANCY
C15: d. ESCORT TO HEALTH FACILITY FOR DELIVERY
C16: e. HEALTH EDUCATION OR PROMOTION
C17: f. ADVICE ON EXCLUSIVE BREASTFEEDING
C18: g. PROVIDE VITAMIN A SUPPLEMENTATION
C19: h. OTHER, SPECIFY:
A20: I’m going to read you three statements in relation to work done by the Traditional Birth Attendant (TBA). Please indicate if you agree, neither agree nor disagree, or disagree with each statement.
D21: Agree | F21: Neither agree nor disagree | G21: Disagree
A24: =A12-0.01 -> -8.04 | B24: Traditional Birth Attendants provide a valuable service in my community. | D24: 1 | F24: 2 | G24: 3
A25: =A24-0.01 -> -8.05 | B25: Traditional Birth Attendants provide good quality service in my community. | D25: 1 | F25: 2 | G25: 3
A26: =A25-0.01 -> -8.06 | B26: I prefer to deliver with a Traditional Birth Attendent rather than at the health facility. | D26: 1 | F26: 2 | G26: 3
B27: THANK YOU FOR YOUR TIME
