Workbook
Name Non_poor: '[1]Table 4 Labor Market Partic.'!#REF!
Name Non_poor: '[2]Table 4 Labor Market Partic.'!#REF!

Sheet Intro
F2: This Excel file gathers the output from the STATA do files carrying out the analysis, and then uses this raw data to prepare all graphs and tables presented in the South Sudan Inflation Note.
F8: The 'Raw data' sheets are automatically updated from the STATA do file, all others are interlinked, such that any changes made to the do file will automatically translate into changes in the Figures and Tables.
B14: Included Tables: | D14: Table 1: Poverty Statistics
D15: Table 2: Education, Access to Services, Hunger, Perceptions, Security
D16: Table 3: Labor Market Participation
D17: Table 4: Perceptions of Performance of Various Institutions
B20: Thereafter, all Figures included in the Inflation Note

Sheet Index
B2: Figures as in the Poverty Note: | D2: Corresponding Raw Data:
B3: Poverty | D3: Raw-Data 1
B4: Hunger | D4: Raw-Data 2
B5: Future of SSD | D5: Raw-Data 3
B6: Living and Economic conditions | D6: Raw-Data 3
B7: Well-being | D7: Raw-Data 3
B8: Government performance | D8: Raw-Data 4
B9: Labor | D9: Raw-Data 5
B10: School attendance | D10: Raw-Data 6
B13: *Note: There is a link back to the index at the bottom of the sheets containing the figures

Sheet Figures and Raw Data -->
B2: The following tabs contain all figures and raw data. The sheets named Raw Data are automatically updated upon running the Stata do file. This then automatically updates the Figures and Tables

Sheet Poverty Graphs
A1: Headcount ratio | B1: Total | G1: Male Head | I1: Female Head
A2: Year | B2: 2009 | D2: 2015 | E2: 2016 | G2: 2015 | H2: 2016 | I2: 2015 | J2: 2016
A3: Non-Poor | B3: =VALUE(100-25) -> 75 | D3: =VALUE(100-D4) -> 51.36 | E3: =VALUE(100-E4) -> 29.15 | G3: =VALUE(100-G4) -> 56.5 | H3: =VALUE(100-H4) -> 32.69 | I3: =VALUE(100-I4) -> 43.83 | J3: =VALUE(100-J4) -> 23.79
A4: Poor | B4: 25 | D4: =VALUE('Raw-Data 1'!B11*100) -> 48.64 | E4: =VALUE('Raw-Data 1'!B3*100) -> 70.85 | G4: =VALUE('Raw-Data 1'!B14*100) -> 43.5 | H4: =VALUE('Raw-Data 1'!B6*100) -> 67.31 | I4: =VALUE('Raw-Data 1'!B15*100) -> 56.17 | J4: =VALUE('Raw-Data 1'!B7*100) -> 76.21
D6: #REF! | G6: =VALUE(1-G7) -> 0.4997 | I6: =VALUE(1-I7) -> 0.3174
D7: #REF! | G7: 0.5003 | I7: 0.6826
B8: Error bars total | F8: Error bars Male Head | H8: error bars Female Head
B9: 4.5 | D9: =100*('Raw-Data 1'!E11-'Raw-Data 1'!B11) -> 8.26 | E9: =100*('Raw-Data 1'!E3-'Raw-Data 1'!B3) -> 5.62 | G9: =100*('Raw-Data 1'!E14-'Raw-Data 1'!B14) -> 10.23 | H9: =100*('Raw-Data 1'!E6-'Raw-Data 1'!B6) -> 5.47 | I9: =100*('Raw-Data 1'!E15-'Raw-Data 1'!B15) -> 9.23 | J9: =100*('Raw-Data 1'!E7-'Raw-Data 1'!B7) -> 8.75
B10: 4.5 | D10: =100*('Raw-Data 1'!B11-'Raw-Data 1'!D11) -> 8.19 | E10: =100*('Raw-Data 1'!B3-'Raw-Data 1'!D3) -> 6.34 | G10: =G9 -> 10.23 | H10: =H9 -> 5.47 | I10: =I9 -> 9.23 | J10: =J9 -> 8.75
C28: Poverty gap (%) | D28: Mean aggregate income | F28: Poverty gap | G28: Poverty line | L28: Mean aggregate income | M28: Poverty gap | N28: Poverty line | O28: Poverty gap (%)
B29: 2015 | C29: =(E29/G29)*100 -> 21.96 | D29: =G29-E29 -> 6.797284 | E29: =F29*G29 -> 1.912716 | F29: =VALUE('Raw-Data 1'!B28) -> 0.2196 | G29: 8.71 | I29: Total | J29: =B29 -> 2015 | L29: =D29 -> 6.797284 | M29: =E29 -> 1.912716 | N29: =G29 -> 8.71 | O29: =M29/N29 -> 0.2196
B30: 2016 | C30: =(E30/G30)*100 -> 36.49 | D30: =G30-E30 -> 5.531721 | E30: =F30*G30 -> 3.178279 | F30: =VALUE('Raw-Data 1'!B20) -> 0.3649 | G30: 8.71 | J30: =B30 -> 2016 | L30: =D30 -> 5.531721 | M30: =E30 -> 3.178279 | N30: =G30 -> 8.71 | O30: =M30/N30 -> 0.3649
G31: 8.71 | N31: =G31 -> 8.71
A32: Male Head | B32: 2015 | C32: =(E32/G32)*100 -> 19.14 | D32: =G32-E32 -> 7.042906 | E32: =F32*G32 -> 1.667094 | F32: =VALUE('Raw-Data 1'!B26) -> 0.1914 | G32: 8.71 | I32: Male Head | J32: =B32 -> 2015 | L32: =D32 -> 7.042906 | M32: =E32 -> 1.667094 | N32: =G32 -> 8.71 | O32: =M32/N32 -> 0.1914
B33: 2016 | C33: =(E33/G33)*100 -> 33.08 | D33: =G33-E33 -> 5.828732 | E33: =F33*G33 -> 2.881268 | F33: =VALUE('Raw-Data 1'!B18) -> 0.3308 | G33: 8.71 | J33: =B33 -> 2016 | L33: =D33 -> 5.828732 | M33: =E33 -> 2.881268 | N33: =G33 -> 8.71 | O33: =M33/N33 -> 0.3308
A34: Female Head | B34: 2015 | C34: =(E34/G34)*100 -> 26.21 | D34: =G34-E34 -> 6.427109 | E34: =F34*G34 -> 2.282891 | F34: =VALUE('Raw-Data 1'!B27) -> 0.2621 | G34: 8.71 | I34: Female Head | J34: =B34 -> 2015 | L34: =D34 -> 6.427109 | M34: =E34 -> 2.282891 | N34: =G34 -> 8.71 | O34: =M34/N34 -> 0.2621
B35: 2016 | C35: =(E35/G35)*100 -> 41.63 | D35: =G35-E35 -> 5.084027 | E35: =F35*G35 -> 3.625973 | F35: =VALUE('Raw-Data 1'!B19) -> 0.4163 | G35: 8.71 | J35: =B35 -> 2016 | L35: =D35 -> 5.084027 | M35: =E35 -> 3.625973 | N35: =G35 -> 8.71 | O35: =M35/N35 -> 0.4163
D40: Mean | E40: Positive error | F40: Negative error
B41: Total | C41: 2015 | D41: =VALUE('Raw-Data 1'!B32) -> 0.1038 | E41: ='Raw-Data 1'!E32-'Raw-Data 1'!B32 -> 0.0277 | F41: =-E41 -> -0.0277
C42: 2016 | D42: =VALUE('Raw-Data 1'!B24) -> 0.2 | E42: ='Raw-Data 1'!E24-'Raw-Data 1'!B24 -> 0.0454 | F42: =-E42 -> -0.0454
B44: Male Head | C44: 2015 | D44: =VALUE('Raw-Data 1'!B30) -> 0.0986 | E44: ='Raw-Data 1'!E30-'Raw-Data 1'!B30 -> 0.0445 | F44: =-E44 -> -0.0445
C45: 2016 | D45: =VALUE('Raw-Data 1'!B22) -> 0.1866 | E45: ='Raw-Data 1'!E22-'Raw-Data 1'!B22 -> 0.0682 | F45: =-E45 -> -0.0682
B46: Female Head | C46: 2015 | D46: =VALUE('Raw-Data 1'!B31) -> 0.1116 | E46: ='Raw-Data 1'!E31-'Raw-Data 1'!B31 -> 0.0256 | F46: =-E46 -> -0.0256
C47: 2016 | D47: =VALUE('Raw-Data 1'!B23) -> 0.22 | E47: ='Raw-Data 1'!E23-'Raw-Data 1'!B23 -> 0.0409 | F47: =-E47 -> -0.0409
B53: Northern Bahr El Ghazal | E53: Western Bahr El Ghazal | H53: Lakes | K53: Western Equatoria | N53: Central Equatoria | Q53: Eastern Equatoria
B54: 2015 | C54: 2016 | E54: 2015 | F54: 2016 | H54: 2015 | I54: 2016 | K54: 2015 | L54: 2016 | N54: 2015 | O54: 2016 | Q54: 2015 | R54: 2016
A55: Non-Poor | B55: =1-B56 -> 0.4938 | C55: =1-C56 -> 0.2874 | E55: =1-E56 -> 0.3076 | F55: =1-F56 -> 0.187 | H55: =1-H56 -> 0.6428 | I55: =1-I56 -> 0.427 | K55: =1-K56 -> 0.5075 | L55: =1-L56 -> 0.3447 | N55: =1-N56 -> 0.8098 | O55: =1-O56 -> 0.5519 | Q55: =1-Q56 -> 0.5241 | R55: =1-R56 -> 0.1284
A56: Poor | B56: =VALUE('Raw-Data 1'!B116) -> 0.5062 | C56: =VALUE('Raw-Data 1'!B108) -> 0.7126 | E56: =VALUE('Raw-Data 1'!B117) -> 0.6924 | F56: =VALUE('Raw-Data 1'!B109) -> 0.813 | H56: =VALUE('Raw-Data 1'!B118) -> 0.3572 | I56: =VALUE('Raw-Data 1'!B110) -> 0.573 | K56: =VALUE('Raw-Data 1'!B119) -> 0.4925 | L56: =VALUE('Raw-Data 1'!B111) -> 0.6553 | N56: =VALUE('Raw-Data 1'!B120) -> 0.1902 | O56: =VALUE('Raw-Data 1'!B112) -> 0.4481 | Q56: =VALUE('Raw-Data 1'!B121) -> 0.4759 | R56: =VALUE('Raw-Data 1'!B113) -> 0.8716
A58: (+) | B58: ='Raw-Data 1'!E116-'Raw-Data 1'!B116 -> 0.1089 | C58: ='Raw-Data 1'!E108-'Raw-Data 1'!B108 -> 0.1037 | E58: ='Raw-Data 1'!E117-'Raw-Data 1'!B117 -> 0.1191 | F58: ='Raw-Data 1'!E109-'Raw-Data 1'!B109 -> 0.0673 | H58: ='Raw-Data 1'!E118-'Raw-Data 1'!B118 -> 0.062 | I58: ='Raw-Data 1'!E110-'Raw-Data 1'!B110 -> 0.1566 | K58: ='Raw-Data 1'!E119-'Raw-Data 1'!B119 -> 0.1895 | L58: ='Raw-Data 1'!E111-'Raw-Data 1'!B111 -> 0.2027 | N58: ='Raw-Data 1'!E120-'Raw-Data 1'!B120 -> 0.1139 | O58: ='Raw-Data 1'!E112-'Raw-Data 1'!B112 -> 0.1232 | Q58: ='Raw-Data 1'!E121-'Raw-Data 1'!B121 -> 0.0938 | R58: ='Raw-Data 1'!E113-'Raw-Data 1'!B113 -> 0.0761
A59: (-) | B59: =B58 -> 0.1089 | C59: =C58 -> 0.1037 | E59: =E58 -> 0.1191 | F59: =F58 -> 0.0673 | H59: =H58 -> 0.062 | I59: =I58 -> 0.1566 | K59: =K58 -> 0.1895 | L59: =L58 -> 0.2027 | N59: =N58 -> 0.1139 | O59: =O58 -> 0.1232 | Q59: =Q58 -> 0.0938 | R59: =R58 -> 0.0761
C76: MEDIAN
B77: Income decile in 2015 | C77: 2015 | D77: 2016
B78: Poorest decile | C78: 2.509 | D78: 3.427 | E78: 8.71
B79: 2 | C79: 4.211 | D79: 3.249 | E79: 8.71
B80: 3 | C80: 5.312 | D80: 4.451 | E80: 8.71
B81: 4 | C81: 6.541 | D81: 5.368 | E81: 8.71
B82: 5 | C82: 7.987 | D82: 4.961 | E82: 8.71
B83: 6 | C83: 9.306 | D83: 5.741 | E83: 8.71
B84: 7 | C84: 10.619 | D84: 8.866 | E84: 8.71
B85: 8 | C85: 12.787 | D85: 9.181 | E85: 8.71
...

Sheet Raw-Data 1
A1: Below 1.9 USD PPP 2011 poverty line | B1: Prop. | C1: SE | D1: LB | E1: UB | F1: N
A2: NonPoor | B2: 0.2915 | C2: 0.0300 | D2: 0.2353 | E2: 0.3549 | F2: 280
A3: Poor | B3: 0.7085 | C3: 0.0300 | D3: 0.6451 | E3: 0.7647 | F3: 360
A4: Total | B4: 1.0000 | F4: 640
A5: Gender of Household Head | B5: Mean | C5: SE | D5: LB | E5: UB | F5: N
A6: Male Head | B6: 0.6731 | C6: 0.0274 | D6: 0.6183 | E6: 0.7278 | F6: 367
A7: Female Head | B7: 0.7621 | C7: 0.0438 | D7: 0.6745 | E7: 0.8496 | F7: 276
A8: Total | B8: 0.7085 | C8: 0.0300 | D8: 0.6485 | E8: 0.7685 | F8: 643
A9: Below 1.9 USD PPP 2011 poverty line | B9: Prop. | C9: SE | D9: LB | E9: UB | F9: N
A10: NonPoor | B10: 0.5136 | C10: 0.0415 | D10: 0.4310 | E10: 0.5955 | F10: 400
A11: Poor | B11: 0.4864 | C11: 0.0415 | D11: 0.4045 | E11: 0.5690 | F11: 242
A12: Total | B12: 1.0000 | F12: 642
A13: Gender of Household Head | B13: Mean | C13: SE | D13: LB | E13: UB | F13: N
A14: Male Head | B14: 0.4350 | C14: 0.0512 | D14: 0.3326 | E14: 0.5373 | F14: 356
A15: Female Head | B15: 0.5617 | C15: 0.0461 | D15: 0.4694 | E15: 0.6540 | F15: 286
A16: Total | B16: 0.4859 | C16: 0.0415 | D16: 0.4028 | E16: 0.5690 | F16: 642
A17: Gender of Household Head | B17: Mean | C17: SE | D17: LB | E17: UB | F17: N
A18: Male Head | B18: 0.3308 | C18: 0.0281 | D18: 0.2747 | E18: 0.3870 | F18: 367
A19: Female Head | B19: 0.4163 | C19: 0.0467 | D19: 0.3228 | E19: 0.5098 | F19: 276
A20: Total | B20: 0.3649 | C20: 0.0340 | D20: 0.2969 | E20: 0.4330 | F20: 643
A21: Gender of Household Head | B21: Mean | C21: SE | D21: LB | E21: UB | F21: N
A22: Male Head | B22: 0.1866 | C22: 0.0341 | D22: 0.1184 | E22: 0.2548 | F22: 356
A23: Female Head | B23: 0.2200 | C23: 0.0204 | D23: 0.1792 | E23: 0.2609 | F23: 286
A24: Total | B24: 0.2000 | C24: 0.0227 | D24: 0.1546 | E24: 0.2454 | F24: 642
... A70: Total | B70: 10.554 | C70: 0.601 | D70: 9.350 | E70: 11.757 | F70: 639
A71: 2016
A72: RECODE of lhood (D.20 What is the household's main source of livelihood?) | B72: NonPoor | C72: NonPoor | D72: NonPoor | E72: NonPoor | F72: Poor | G72: Poor | H72: Poor | I72: Poor | J72: Total | K72: N
B73: Prop. | C73: SE | D73: LB | E73: UB | F73: Prop. | G73: SE | H73: LB | I73: UB | J73: Prop.
A74: Agriculture | B74: 0.255 | C74: 0.035 | D74: 0.191 | E74: 0.332 | F74: 0.745 | G74: 0.035 | H74: 0.668 | I74: 0.809 | J74: 1.000 | K74: 222
A75: Wages and salaries | B75: 0.385 | C75: 0.051 | D75: 0.289 | E75: 0.491 | F75: 0.615 | G75: 0.051 | H75: 0.509 | I75: 0.711 | J75: 1.000 | K75: 223
A76: Own business | B76: 0.336 | C76: 0.054 | D76: 0.238 | E76: 0.450 | F76: 0.664 | G76: 0.054 | H76: 0.550 | I76: 0.762 | J76: 1.000 | K76: 94
A77: Property income | B77: 0.879 | C77: 0.120 | D77: 0.431 | E77: 0.986 | F77: 0.121 | G77: 0.120 | H77: 0.014 | I77: 0.569 | J77: 1.000 | K77: 7
A78: Remittances/Aid/Others | B78: 0.116 | C78: 0.042 | D78: 0.055 | E78: 0.230 | F78: 0.884 | G78: 0.042 | H78: 0.770 | I78: 0.945 | J78: 1.000 | K78: 91
A79: Total | B79: 0.294 | C79: 0.030 | D79: 0.237 | E79: 0.357 | F79: 0.706 | G79: 0.030 | H79: 0.643 | I79: 0.763 | J79: 1.000 | K79: 637
A80: 2015
A81: RECODE of lhood (D.20 What is the household's main source of livelihood?) | B81: NonPoor | C81: NonPoor | D81: NonPoor | E81: NonPoor | F81: Poor | G81: Poor | H81: Poor | I81: Poor | J81: Total | K81: N
B82: Prop. | C82: SE | D82: LB | E82: UB | F82: Prop. | G82: SE | H82: LB | I82: UB | J82: Prop.
A83: Agriculture | B83: 0.400 | C83: 0.050 | D83: 0.305 | E83: 0.503 | F83: 0.600 | G83: 0.050 | H83: 0.497 | I83: 0.695 | J83: 1.000 | K83: 220
A84: Wages and salaries | B84: 0.719 | C84: 0.036 | D84: 0.641 | E84: 0.786 | F84: 0.281 | G84: 0.036 | H84: 0.214 | I84: 0.359 | J84: 1.000 | K84: 228
A85: Own business | B85: 0.575 | C85: 0.072 | D85: 0.429 | E85: 0.708 | F85: 0.425 | G85: 0.072 | H85: 0.292 | I85: 0.571 | J85: 1.000 | K85: 87
...

Sheet Growth Incidence Curves
A2: Percentile in 2015 | B2: Percent change | C2: Change in 2015 SSP
A3: 0
A4: ='Raw-Data 7'!A31 -> 2 | B4: =VALUE('Raw-Data 7'!B31) -> 0.5558 | C4: =VALUE('Raw-Data 7'!B132) -> 1.1815
A5: ='Raw-Data 7'!A32 -> 3 | B5: =VALUE('Raw-Data 7'!B32) -> 0.543 | C5: =VALUE('Raw-Data 7'!B133) -> 0.3287
A6: ='Raw-Data 7'!A33 -> 4 | B6: =VALUE('Raw-Data 7'!B33) -> 0.147 | C6: =VALUE('Raw-Data 7'!B134) -> 3.4612
A7: ='Raw-Data 7'!A34 -> 5 | B7: =VALUE('Raw-Data 7'!B34) -> 1.5041 | C7: =VALUE('Raw-Data 7'!B135) -> 2.7868
A8: ='Raw-Data 7'!A35 -> 6 | B8: =VALUE('Raw-Data 7'!B35) -> 1.0798 | C8: =VALUE('Raw-Data 7'!B136) -> 1.3995
A9: ='Raw-Data 7'!A36 -> 7 | B9: =VALUE('Raw-Data 7'!B36) -> 0.5202 | C9: =VALUE('Raw-Data 7'!B137) -> 0.729
A10: ='Raw-Data 7'!A37 -> 8 | B10: =VALUE('Raw-Data 7'!B37) -> 0.245 | C10: =VALUE('Raw-Data 7'!B138) -> 3.7235
A11: ='Raw-Data 7'!A38 -> 9 | B11: =VALUE('Raw-Data 7'!B38) -> 1.1778 | C11: =VALUE('Raw-Data 7'!B139) -> 1.4642
A12: ='Raw-Data 7'!A39 -> 10 | B12: =VALUE('Raw-Data 7'!B39) -> 0.4479 | C12: =VALUE('Raw-Data 7'!B140) -> 3.5954
A13: ='Raw-Data 7'!A40 -> 11 | B13: =VALUE('Raw-Data 7'!B40) -> 1.0646 | C13: =VALUE('Raw-Data 7'!B141) -> 2.0346
A14: ='Raw-Data 7'!A41 -> 12 | B14: =VALUE('Raw-Data 7'!B41) -> 0.5571 | C14: =VALUE('Raw-Data 7'!B142) -> 0.6477
A15: ='Raw-Data 7'!A42 -> 13 | B15: =VALUE('Raw-Data 7'!B42) -> 0.1637 | C15: =VALUE('Raw-Data 7'!B143) -> -1.8622
... A101: ='Raw-Data 7'!A128 -> Total | B101: =VALUE('Raw-Data 7'!B128) -> -0.0383 | C101: =VALUE('Raw-Data 7'!B229) -> 0

Sheet Consumption Movement Matrix
C2: Consumption decile in 2015
B3: Consumption decile in 2016 | C3: Poorest Decile | D3: 2 | E3: 3 | F3: 4 | G3: 5 | H3: 6 | I3: 7 | J3: 8 | K3: 9 | L3: Richest decile
B4: Poorest Decile | C4: =VALUE('Raw-Data 7'!B4) -> 0 | D4: =VALUE('Raw-Data 7'!C4) -> 6.28 | E4: =VALUE('Raw-Data 7'!D4) -> 0 | F4: =VALUE('Raw-Data 7'!E4) -> 0 | G4: =VALUE('Raw-Data 7'!F4) -> 7.34 | H4: =VALUE('Raw-Data 7'!G4) -> 12.99 | I4: =VALUE('Raw-Data 7'!H4) -> 0 | J4: =VALUE('Raw-Data 7'!I4) -> 0 | ... L4: =VALUE('Raw-Data 7'!K4) -> 7.67
B5: 2 | C5: =VALUE('Raw-Data 7'!B5) -> 9.79 | D5: =VALUE('Raw-Data 7'!C5) -> 5.69 | E5: =VALUE('Raw-Data 7'!D5) -> 16.66 | F5: =VALUE('Raw-Data 7'!E5) -> 0 | G5: =VALUE('Raw-Data 7'!F5) -> 0 | H5: =VALUE('Raw-Data 7'!G5) -> 10.99 | I5: =VALUE('Raw-Data 7'!H5) -> 0 | J5: =VALUE('Raw-Data 7'!I5) -> 0 | ... L5: =VALUE('Raw-Data 7'!K5) -> 0
B6: 3 | C6: =VALUE('Raw-Data 7'!B6) -> 0 | D6: =VALUE('Raw-Data 7'!C6) -> 37.84 | E6: =VALUE('Raw-Data 7'!D6) -> 23.87 | F6: =VALUE('Raw-Data 7'!E6) -> 25.08 | G6: =VALUE('Raw-Data 7'!F6) -> 0 | H6: =VALUE('Raw-Data 7'!G6) -> 0 | I6: =VALUE('Raw-Data 7'!H6) -> 0 | J6: =VALUE('Raw-Data 7'!I6) -> 0 | ... L6: =VALUE('Raw-Data 7'!K6) -> 0
B7: 4 | C7: =VALUE('Raw-Data 7'!B7) -> 72.97 | D7: =VALUE('Raw-Data 7'!C7) -> 0 | E7: =VALUE('Raw-Data 7'!D7) -> 32.65 | F7: =VALUE('Raw-Data 7'!E7) -> 0 | G7: =VALUE('Raw-Data 7'!F7) -> 34.23 | H7: =VALUE('Raw-Data 7'!G7) -> 0 | I7: =VALUE('Raw-Data 7'!H7) -> 0 | J7: =VALUE('Raw-Data 7'!I7) -> 15.13 | ... L7: =VALUE('Raw-Data 7'!K7) -> 0
B8: 5 | C8: =VALUE('Raw-Data 7'!B8) -> 17.25 | D8: =VALUE('Raw-Data 7'!C8) -> 0 | E8: =VALUE('Raw-Data 7'!D8) -> 0 | F8: =VALUE('Raw-Data 7'!E8) -> 0 | G8: =VALUE('Raw-Data 7'!F8) -> 25.19 | H8: =VALUE('Raw-Data 7'!G8) -> 0 | I8: =VALUE('Raw-Data 7'!H8) -> 0 | J8: =VALUE('Raw-Data 7'!I8) -> 7.57 | ... L8: =VALUE('Raw-Data 7'!K8) -> 7.54
B9: 6 | C9: =VALUE('Raw-Data 7'!B9) -> 0 | D9: =VALUE('Raw-Data 7'!C9) -> 0 | E9: =VALUE('Raw-Data 7'!D9) -> 0 | F9: =VALUE('Raw-Data 7'!E9) -> 0 | G9: =VALUE('Raw-Data 7'!F9) -> 0 | H9: =VALUE('Raw-Data 7'!G9) -> 34.41 | I9: =VALUE('Raw-Data 7'!H9) -> 37.43 | J9: =VALUE('Raw-Data 7'!I9) -> 11.73 | ... L9: =VALUE('Raw-Data 7'!K9) -> 14.87
B10: 7 | C10: =VALUE('Raw-Data 7'!B10) -> 0 | D10: =VALUE('Raw-Data 7'!C10) -> 0 | E10: =VALUE('Raw-Data 7'!D10) -> 0 | F10: =VALUE('Raw-Data 7'!E10) -> 0 | G10: =VALUE('Raw-Data 7'!F10) -> 0 | H10: =VALUE('Raw-Data 7'!G10) -> 9.44 | I10: =VALUE('Raw-Data 7'!H10) -> 1.88 | J10: =VALUE('Raw-Data 7'!I10) -> 6.21 | ... L10: =VALUE('Raw-Data 7'!K10) -> 0
B11: 8 | C11: =VALUE('Raw-Data 7'!B11) -> 0 | D11: =VALUE('Raw-Data 7'!C11) -> 50.19 | E11: =VALUE('Raw-Data 7'!D11) -> 0 | F11: =VALUE('Raw-Data 7'!E11) -> 74.92 | G11: =VALUE('Raw-Data 7'!F11) -> 28.8 | H11: =VALUE('Raw-Data 7'!G11) -> 4.81 | I11: =VALUE('Raw-Data 7'!H11) -> 15.48 | J11: =VALUE('Raw-Data 7'!I11) -> 19.79 | ... L11: =VALUE('Raw-Data 7'!K11) -> 1.07
B12: 9 | C12: =VALUE('Raw-Data 7'!B12) -> 0 | D12: =VALUE('Raw-Data 7'!C12) -> 0 | E12: =VALUE('Raw-Data 7'!D12) -> 8.44 | F12: =VALUE('Raw-Data 7'!E12) -> 0 | G12: =VALUE('Raw-Data 7'!F12) -> 4.44 | H12: =VALUE('Raw-Data 7'!G12) -> 12.1 | I12: =VALUE('Raw-Data 7'!H12) -> 9 | J12: =VALUE('Raw-Data 7'!I12) -> 12.58 | ... L12: =VALUE('Raw-Data 7'!K12) -> 9.91
B13: Richest Decile | C13: =VALUE('Raw-Data 7'!B13) -> 0 | D13: =VALUE('Raw-Data 7'!C13) -> 0 | E13: =VALUE('Raw-Data 7'!D13) -> 18.39 | F13: =VALUE('Raw-Data 7'!E13) -> 0 | G13: =VALUE('Raw-Data 7'!F13) -> 0 | H13: =VALUE('Raw-Data 7'!G13) -> 15.25 | I13: =VALUE('Raw-Data 7'!H13) -> 36.21 | J13: =VALUE('Raw-Data 7'!I13) -> 26.99 | ... L13: =VALUE('Raw-Data 7'!K13) -> 58.93
B14: Total | C14: =VALUE('Raw-Data 7'!B14) -> 100 | D14: =VALUE('Raw-Data 7'!C14) -> 100 | E14: =VALUE('Raw-Data 7'!D14) -> 100 | F14: =VALUE('Raw-Data 7'!E14) -> 100 | G14: =VALUE('Raw-Data 7'!F14) -> 100 | H14: =VALUE('Raw-Data 7'!G14) -> 100 | I14: =VALUE('Raw-Data 7'!H14) -> 100 | J14: =VALUE('Raw-Data 7'!I14) -> 100 | ... L14: =VALUE('Raw-Data 7'!K14) -> 100
C16: Consumption decile in 2016
B17: Consumption decile in 2015 | C17: Poorest Decile | D17: 2 | E17: 3 | F17: 4 | G17: 5 | H17: 6 | I17: 7 | J17: 8 | K17: 9 | L17: Richest decile
B18: Poorest Decile | C18: =VALUE('Raw-Data 7'!B18) -> 0 | D18: =VALUE('Raw-Data 7'!C18) -> 21.19 | E18: =VALUE('Raw-Data 7'!D18) -> 0 | F18: =VALUE('Raw-Data 7'!E18) -> 41.89 | G18: =VALUE('Raw-Data 7'!F18) -> 36.53 | H18: =VALUE('Raw-Data 7'!G18) -> 0 | I18: =VALUE('Raw-Data 7'!H18) -> 0 | J18: =VALUE('Raw-Data 7'!I18) -> 0 | ... L18: =VALUE('Raw-Data 7'!K18) -> 0
B19: 2 | C19: =VALUE('Raw-Data 7'!B19) -> 14.25 | D19: =VALUE('Raw-Data 7'!C19) -> 8.72 | E19: =VALUE('Raw-Data 7'!D19) -> 44.61 | F19: =VALUE('Raw-Data 7'!E19) -> 0 | G19: =VALUE('Raw-Data 7'!F19) -> 0 | H19: =VALUE('Raw-Data 7'!G19) -> 0 | I19: =VALUE('Raw-Data 7'!H19) -> 0 | J19: =VALUE('Raw-Data 7'!I19) -> 27.6 | ... L19: =VALUE('Raw-Data 7'!K19) -> 0
B20: 3 | C20: =VALUE('Raw-Data 7'!B20) -> 0 | D20: =VALUE('Raw-Data 7'!C20) -> 43.18 | E20: =VALUE('Raw-Data 7'!D20) -> 47.61 | F20: =VALUE('Raw-Data 7'!E20) -> 22.44 | G20: =VALUE('Raw-Data 7'!F20) -> 0 | H20: =VALUE('Raw-Data 7'!G20) -> 0 | I20: =VALUE('Raw-Data 7'!H20) -> 0 | J20: =VALUE('Raw-Data 7'!I20) -> 0 | ... L20: =VALUE('Raw-Data 7'!K20) -> 12.58
B21: 4 | C21: =VALUE('Raw-Data 7'!B21) -> 0 | D21: =VALUE('Raw-Data 7'!C21) -> 0 | E21: =VALUE('Raw-Data 7'!D21) -> 7.78 | F21: =VALUE('Raw-Data 7'!E21) -> 0 | G21: =VALUE('Raw-Data 7'!F21) -> 0 | H21: =VALUE('Raw-Data 7'!G21) -> 0 | I21: =VALUE('Raw-Data 7'!H21) -> 0 | J21: =VALUE('Raw-Data 7'!I21) -> 10.84 | ... L21: =VALUE('Raw-Data 7'!K21) -> 0
B22: 5 | C22: =VALUE('Raw-Data 7'!B22) -> 13.65 | D22: =VALUE('Raw-Data 7'!C22) -> 0 | E22: =VALUE('Raw-Data 7'!D22) -> 0 | F22: =VALUE('Raw-Data 7'!E22) -> 11.39 | G22: =VALUE('Raw-Data 7'!F22) -> 30.94 | H22: =VALUE('Raw-Data 7'!G22) -> 0 | I22: =VALUE('Raw-Data 7'!H22) -> 0 | J22: =VALUE('Raw-Data 7'!I22) -> 12.98 | ... L22: =VALUE('Raw-Data 7'!K22) -> 0
B23: 6 | C23: =VALUE('Raw-Data 7'!B23) -> 47.05 | D23: =VALUE('Raw-Data 7'!C23) -> 26.9 | E23: =VALUE('Raw-Data 7'!D23) -> 0 | F23: =VALUE('Raw-Data 7'!E23) -> 0 | G23: =VALUE('Raw-Data 7'!F23) -> 0 | H23: =VALUE('Raw-Data 7'!G23) -> 41.29 | I23: =VALUE('Raw-Data 7'!H23) -> 47.36 | J23: =VALUE('Raw-Data 7'!I23) -> 4.22 | ... L23: =VALUE('Raw-Data 7'!K23) -> 9.84
B24: 7 | C24: =VALUE('Raw-Data 7'!B24) -> 0 | D24: =VALUE('Raw-Data 7'!C24) -> 0 | E24: =VALUE('Raw-Data 7'!D24) -> 0 | F24: =VALUE('Raw-Data 7'!E24) -> 0 | G24: =VALUE('Raw-Data 7'!F24) -> 0 | H24: =VALUE('Raw-Data 7'!G24) -> 29.99 | I24: =VALUE('Raw-Data 7'!H24) -> 6.3 | J24: =VALUE('Raw-Data 7'!I24) -> 9.08 | ... L24: =VALUE('Raw-Data 7'!K24) -> 15.61
B25: 8 | C25: =VALUE('Raw-Data 7'!B25) -> 0 | D25: =VALUE('Raw-Data 7'!C25) -> 0 | E25: =VALUE('Raw-Data 7'!D25) -> 0 | F25: =VALUE('Raw-Data 7'!E25) -> 8.81 | G25: =VALUE('Raw-Data 7'!F25) -> 16.27 | H25: =VALUE('Raw-Data 7'!G25) -> 12.64 | I25: =VALUE('Raw-Data 7'!H25) -> 27.98 | J25: =VALUE('Raw-Data 7'!I25) -> 15.61 | ... L25: =VALUE('Raw-Data 7'!K25) -> 15.64
B26: 9 | C26: =VALUE('Raw-Data 7'!B26) -> 0 | D26: =VALUE('Raw-Data 7'!C26) -> 0 | E26: =VALUE('Raw-Data 7'!D26) -> 0 | F26: =VALUE('Raw-Data 7'!E26) -> 15.47 | G26: =VALUE('Raw-Data 7'!F26) -> 0 | H26: =VALUE('Raw-Data 7'!G26) -> 0 | I26: =VALUE('Raw-Data 7'!H26) -> 18.36 | J26: =VALUE('Raw-Data 7'!I26) -> 18.83 | ... L26: =VALUE('Raw-Data 7'!K26) -> 12.03
B27: Richest Decile | C27: =VALUE('Raw-Data 7'!B27) -> 25.05 | D27: =VALUE('Raw-Data 7'!C27) -> 0 | E27: =VALUE('Raw-Data 7'!D27) -> 0 | F27: =VALUE('Raw-Data 7'!E27) -> 0 | G27: =VALUE('Raw-Data 7'!F27) -> 16.27 | H27: =VALUE('Raw-Data 7'!G27) -> 16.09 | I27: =VALUE('Raw-Data 7'!H27) -> 0 | J27: =VALUE('Raw-Data 7'!I27) -> 0.84 | ... L27: =VALUE('Raw-Data 7'!K27) -> 34.29
B28: Total | C28: =VALUE('Raw-Data 7'!B28) -> 100 | D28: =VALUE('Raw-Data 7'!C28) -> 100 | E28: =VALUE('Raw-Data 7'!D28) -> 100 | F28: =VALUE('Raw-Data 7'!E28) -> 100 | G28: =VALUE('Raw-Data 7'!F28) -> 100 | H28: =VALUE('Raw-Data 7'!G28) -> 100 | I28: =VALUE('Raw-Data 7'!H28) -> 100 | J28: =VALUE('Raw-Data 7'!I28) -> 100 | ... L28: =VALUE('Raw-Data 7'!K28) -> 100

Sheet Raw-Data 7
B1: 2015 pct_10
A2: 2016 pct_10 | B2: 1 | C2: 2 | D2: 3 | E2: 4 | F2: 5 | G2: 6 | H2: 7 | I2: 8 | J2: 9 | K2: 10 | L2: Total
B3: % | C3: % | D3: % | E3: % | F3: % | G3: % | H3: % | I3: % | J3: % | K3: % | L3: %
A4: 1 | B4: 0.00 | C4: 6.28 | D4: 0.00 | E4: 0.00 | F4: 7.34 | G4: 12.99 | H4: 0.00 | I4: 0.00 | J4: 0.00 | K4: 7.67 | L4: 3.61
A5: 2 | B5: 9.79 | C5: 5.69 | D5: 16.66 | E5: 0.00 | F5: 0.00 | G5: 10.99 | H5: 0.00 | I5: 0.00 | J5: 0.00 | K5: 0.00 | L5: 5.35
A6: 3 | B6: 0.00 | C6: 37.84 | D6: 23.87 | E6: 25.08 | F6: 0.00 | G6: 0.00 | H6: 0.00 | I6: 0.00 | J6: 0.00 | K6: 0.00 | L6: 6.95
A7: 4 | B7: 72.97 | C7: 0.00 | D7: 32.65 | E7: 0.00 | F7: 34.23 | G7: 0.00 | H7: 0.00 | I7: 15.13 | J7: 25.79 | K7: 0.00 | L7: 20.18
A8: 5 | B8: 17.25 | C8: 0.00 | D8: 0.00 | E8: 0.00 | F8: 25.19 | G8: 0.00 | H8: 0.00 | I8: 7.57 | J8: 0.00 | K8: 7.54 | L8: 5.47
A9: 6 | B9: 0.00 | C9: 0.00 | D9: 0.00 | E9: 0.00 | F9: 0.00 | G9: 34.41 | H9: 37.43 | I9: 11.73 | J9: 0.00 | K9: 14.87 | L9: 10.91
A10: 7 | B10: 0.00 | C10: 0.00 | D10: 0.00 | E10: 0.00 | F10: 0.00 | G10: 9.44 | H10: 1.88 | I10: 6.21 | J10: 3.96 | K10: 0.00 | L10: 2.61
A11: 8 | B11: 0.00 | C11: 50.19 | D11: 0.00 | E11: 74.92 | F11: 28.80 | G11: 4.81 | H11: 15.48 | I11: 19.79 | J11: 23.19 | K11: 1.07 | L11: 14.90
A12: 9 | B12: 0.00 | C12: 0.00 | D12: 8.44 | E12: 0.00 | F12: 4.44 | G12: 12.10 | H12: 9.00 | I12: 12.58 | J12: 26.89 | K12: 9.91 | L12: 9.74
A13: 10 | B13: 0.00 | C13: 0.00 | D13: 18.39 | E13: 0.00 | F13: 0.00 | G13: 15.25 | H13: 36.21 | I13: 26.99 | J13: 20.17 | K13: 58.93 | L13: 20.28
A14: Total | B14: 100.00 | C14: 100.00 | D14: 100.00 | E14: 100.00 | F14: 100.00 | G14: 100.00 | H14: 100.00 | I14: 100.00 | J14: 100.00 | K14: 100.00 | L14: 100.00
B15: 2016 pct_10
A16: 2015 pct_10 | B16: 1 | C16: 2 | D16: 3 | E16: 4 | F16: 5 | G16: 6 | H16: 7 | I16: 8 | J16: 9 | K16: 10 | L16: Total
B17: % | C17: % | D17: % | E17: % | F17: % | G17: % | H17: % | I17: % | J17: % | K17: % | L17: %
A18: 1 | B18: 0.00 | C18: 21.19 | D18: 0.00 | E18: 41.89 | F18: 36.53 | G18: 0.00 | H18: 0.00 | I18: 0.00 | J18: 0.00 | K18: 0.00 | L18: 11.58
A19: 2 | B19: 14.25 | C19: 8.72 | D19: 44.61 | E19: 0.00 | F19: 0.00 | G19: 0.00 | H19: 0.00 | I19: 27.60 | J19: 0.00 | K19: 0.00 | L19: 8.20
A20: 3 | B20: 0.00 | C20: 43.18 | D20: 47.61 | E20: 22.44 | F20: 0.00 | G20: 0.00 | H20: 0.00 | I20: 0.00 | J20: 12.01 | K20: 12.58 | L20: 13.86
A21: 4 | B21: 0.00 | C21: 0.00 | D21: 7.78 | E21: 0.00 | F21: 0.00 | G21: 0.00 | H21: 0.00 | I21: 10.84 | J21: 0.00 | K21: 0.00 | L21: 2.16
A22: 5 | B22: 13.65 | C22: 0.00 | D22: 0.00 | E22: 11.39 | F22: 30.94 | G22: 0.00 | H22: 0.00 | I22: 12.98 | J22: 3.06 | K22: 0.00 | L22: 6.72
A23: 6 | B23: 47.05 | C23: 26.90 | D23: 0.00 | E23: 0.00 | F23: 0.00 | G23: 41.29 | H23: 47.36 | I23: 4.22 | J23: 16.26 | K23: 9.84 | L23: 13.09
A24: 7 | B24: 0.00 | C24: 0.00 | D24: 0.00 | E24: 0.00 | F24: 0.00 | G24: 29.99 | H24: 6.30 | I24: 9.08 | J24: 8.08 | K24: 15.61 | L24: 8.74
A25: 8 | B25: 0.00 | C25: 0.00 | D25: 0.00 | E25: 8.81 | F25: 16.27 | G25: 12.64 | H25: 27.98 | I25: 15.61 | J25: 15.18 | K25: 15.64 | L25: 11.75
A26: 9 | B26: 0.00 | C26: 0.00 | D26: 0.00 | E26: 15.47 | F26: 0.00 | G26: 0.00 | H26: 18.36 | I26: 18.83 | J26: 33.41 | K26: 12.03 | L26: 12.10
A27: 10 | B27: 25.05 | C27: 0.00 | D27: 0.00 | E27: 0.00 | F27: 16.27 | G27: 16.09 | H27: 0.00 | I27: 0.84 | J27: 12.01 | K27: 34.29 | L27: 11.80
A28: Total | B28: 100.00 | C28: 100.00 | D28: 100.00 | E28: 100.00 | F28: 100.00 | G28: 100.00 | H28: 100.00 | I28: 100.00 | J28: 100.00 | K28: 100.00 | L28: 100.00
A29: Consumption percentiles in 2015 | B29: Mean | C29: LB | D29: UB
A30: 1 | B30: 1.6061 | C30: -0.2442 | D30: 3.4564
A31: 2 | B31: 0.5558 | C31: 0.1808 | D31: 0.9308
A32: 3 | B32: 0.5430 | C32: 0.3517 | D32: 0.7343
A33: 4 | B33: 0.1470 | C33: -0.2513 | D33: 0.5454
A34: 5 | B34: 1.5041 | C34: -0.5511 | D34: 3.5593
A35: 6 | B35: 1.0798 | C35: 0.2443 | D35: 1.9153
A36: 7 | B36: 0.5202 | C36: -0.2585 | D36: 1.2989
A37: 8 | B37: 0.2450 | C37: 0.1257 | D37: 0.3643
A38: 9 | B38: 1.1778 | C38: -0.4544 | D38: 2.8099
A39: 10 | B39: 0.4479 | C39: -0.0070 | D39: 0.9029
A40: 11 | B40: 1.0646 | C40: 0.0767 | D40: 2.0525
...

Sheet Hunger
B2: 2013 | C2: 2014 | D2: 2015 | E2: 2016 | H2: Hunger status | N2: Total | P2: Male Head | Q2: Female Head | S2: Poorest Quintile | T2: Q2 | U2: Q3 | V2: Q4 | W2: Richest Quintile | Y2: Poor | Z2: Non-Poor
A3: Never | B3: 55.6 | C3: 20.3 | D3: =VALUE('Raw-Data 2'!B4) -> 29.4 | E3: =VALUE('Raw-Data 2'!E4) -> 29.9 | H3: Improved | I3: =VALUE('Raw-Data 2'!B10) -> 19.8 | M3: Improved | N3: =VALUE('Raw-Data 2'!G79) -> 19.7 | P3: =VALUE('Raw-Data 2'!B65) -> 18.8 | Q3: =VALUE('Raw-Data 2'!E65) -> 21.2 | S3: =VALUE('Raw-Data 2'!B79) -> 9.2 | T3: =VALUE('Raw-Data 2'!C79) -> 21.2 | U3: =VALUE('Raw-Data 2'!D79) -> 27.7 | V3: =VALUE('Raw-Data 2'!E79) -> 22.1 | W3: =VALUE('Raw-Data 2'!F79) -> 17.8 | Y3: =VALUE('Raw-Data 2'!E72) -> 16.3 | Z3: =VALUE('Raw-Data 2'!B72) -> 22
A4: Rarely (1-2 times) | B4: 17.3 | C4: 31.8 | D4: =VALUE('Raw-Data 2'!B5) -> 45.6 | E4: =VALUE('Raw-Data 2'!E5) -> 40.4 | H4: Stayed the same | I4: =VALUE('Raw-Data 2'!B11) -> 54.2 | M4: Stayed the same | N4: =VALUE('Raw-Data 2'!G80) -> 54.4 | P4: =VALUE('Raw-Data 2'!B66) -> 54.2 | Q4: =VALUE('Raw-Data 2'!E66) -> 54.2 | S4: =VALUE('Raw-Data 2'!B80) -> 60.6 | T4: =VALUE('Raw-Data 2'!C80) -> 52.8 | U4: =VALUE('Raw-Data 2'!D80) -> 46.3 | V4: =VALUE('Raw-Data 2'!E80) -> 57.7 | W4: =VALUE('Raw-Data 2'!F80) -> 55 | Y4: =VALUE('Raw-Data 2'!E73) -> 56 | Z4: =VALUE('Raw-Data 2'!B73) -> 53.2 | AD4: NBG | AE4: WBG | AF4: LKS | AG4: WES | AH4: CES | AI4: EES
A5: Sometimes (3-10 times) | B5: 18.8 | C5: 34.2 | D5: =VALUE('Raw-Data 2'!B6) -> 22.4 | E5: =VALUE('Raw-Data 2'!E6) -> 26.2 | H5: Worsened | I5: =VALUE('Raw-Data 2'!B12) -> 25.9 | M5: Worsened | N5: =VALUE('Raw-Data 2'!G81) -> 26 | P5: =VALUE('Raw-Data 2'!B67) -> 27 | Q5: =VALUE('Raw-Data 2'!E67) -> 24.6 | S5: =VALUE('Raw-Data 2'!B81) -> 30.2 | T5: =VALUE('Raw-Data 2'!C81) -> 26 | U5: =VALUE('Raw-Data 2'!D81) -> 26 | V5: =VALUE('Raw-Data 2'!E81) -> 20.3 | W5: =VALUE('Raw-Data 2'!F81) -> 27.2 | Y5: =VALUE('Raw-Data 2'!E74) -> 27.7 | Z5: =VALUE('Raw-Data 2'!B74) -> 24.7 | AC5: Improved | AD5: 0.2155 | AE5: 0.0856 | AF5: 0.1365 | AG5: 0.1943 | AH5: 0.2607 | AI5: 0.3116 | AM5: Agriculture | AN5: Wages and salaries | AO5: Owned business | AP5: Property income | AQ5: Remitances | AR5: Aid | AS5: Others
A6: Often (more than 10 times) | B6: 8.4 | C6: 13.6 | D6: =VALUE('Raw-Data 2'!B7) -> 2.5 | E6: =VALUE('Raw-Data 2'!E7) -> 3.5 | AC6: Stayed the same | AD6: 0.5494 | AE6: 0.6092 | AF6: 0.7135 | AG6: 0.5534 | AH6: 0.518 | AI6: 0.3772 | AL6: Improved | AM6: 0.2184 | AN6: 0.2126 | AO6: 0.1264 | AP6: 0.134 | AQ6: 0.2677 | AR6: 0.0625 | AS6: 0.1929
AC7: Worsened | AD7: 0.2351 | AE7: 0.3052 | AF7: 0.15 | AG7: 0.2523 | AH7: 0.2213 | AI7: 0.3113 | AL7: Stayed the same | AM7: 0.5019 | AN7: 0.5858 | AO7: 0.5598 | AP7: 0.7272 | AQ7: 0.459 | AR7: 0.8606 | AS7: 0.4166
AL8: Worsened | AM8: 0.2797 | AN8: 0.2017 | AO8: 0.3139 | AP8: 0.1388 | AQ8: 0.2733 | AR8: 0.0769 | AS8: 0.3906
B25: Total | G25: Male Head | J25: Female Head | M25: Poor | O25: Non-Poor
B26: 2013 | C26: 2014 | D26: 2015 | E26: 2016 | G26: 2015 | H26: 2016 | J26: 2015 | K26: 2016 | M26: 2015 | N26: 2016 | O26: 2015 | P26: 2016
A27: Never | B27: 55.6 | C27: 20.3 | D27: =VALUE('Raw-Data 2'!B4) -> 29.4 | E27: =VALUE('Raw-Data 2'!E4) -> 29.9 | G27: =VALUE('Raw-Data 2'!B25) -> 32.4 | H27: =VALUE('Raw-Data 2'!B17) -> 32.5 | J27: =VALUE('Raw-Data 2'!E25) -> 26 | K27: =VALUE('Raw-Data 2'!E17) -> 26.4 | M27: =VALUE('Raw-Data 2'!E41) -> 15.4 | N27: =VALUE('Raw-Data 2'!E33) -> 22 | O27: =VALUE('Raw-Data 2'!B41) -> 39.9 | P27: =VALUE('Raw-Data 2'!B33) -> 43.2
A28: Rarely (1-2 times) | B28: 17.3 | C28: 31.8 | D28: =VALUE('Raw-Data 2'!B5) -> 45.6 | E28: =VALUE('Raw-Data 2'!E5) -> 40.4 | G28: =VALUE('Raw-Data 2'!B26) -> 42 | H28: =VALUE('Raw-Data 2'!B18) -> 39.8 | J28: =VALUE('Raw-Data 2'!E26) -> 49.8 | K28: =VALUE('Raw-Data 2'!E18) -> 41.2 | M28: =VALUE('Raw-Data 2'!E42) -> 52.7 | N28: =VALUE('Raw-Data 2'!E34) -> 39.3 | O28: =VALUE('Raw-Data 2'!B42) -> 40.2 | P28: =VALUE('Raw-Data 2'!B34) -> 42
A29: Sometimes (3-10 times) | B29: 18.8 | C29: 34.2 | D29: =VALUE('Raw-Data 2'!B6) -> 22.4 | E29: =VALUE('Raw-Data 2'!E6) -> 26.2 | G29: =VALUE('Raw-Data 2'!B27) -> 23 | H29: =VALUE('Raw-Data 2'!B19) -> 24 | J29: =VALUE('Raw-Data 2'!E27) -> 21.8 | K29: =VALUE('Raw-Data 2'!E19) -> 29.4 | M29: =VALUE('Raw-Data 2'!E43) -> 30.1 | N29: =VALUE('Raw-Data 2'!E35) -> 34.1 | O29: =VALUE('Raw-Data 2'!B43) -> 16.9 | P29: =VALUE('Raw-Data 2'!B35) -> 13.6
A30: Often (more than 10 times) | B30: 8.4 | C30: 13.6 | D30: =VALUE('Raw-Data 2'!B7) -> 2.5 | E30: =VALUE('Raw-Data 2'!E7) -> 3.5 | G30: =VALUE('Raw-Data 2'!B28) -> 2.6 | H30: =VALUE('Raw-Data 2'!B20) -> 3.8 | J30: =VALUE('Raw-Data 2'!E28) -> 2.4 | K30: =VALUE('Raw-Data 2'!E20) -> 3 | M30: =VALUE('Raw-Data 2'!E44) -> 1.8 | N30: =VALUE('Raw-Data 2'!E36) -> 4.7 | O30: =VALUE('Raw-Data 2'!B44) -> 3 | P30: =VALUE('Raw-Data 2'!B36) -> 1.3
B48: Total | G48: Poorest Quintile | H48: Q2 | I48: Q3 | J48: Q4 | K48: Richest Quintile | M48: Poorest Quintile | N48: Q2 | O48: Q3 | P48: Q4 | Q48: Richest Quintile
B49: 2013 | C49: 2014 | D49: 2015 | E49: 2016 | G49: 2015 | H49: 2015 | I49: 2015 | J49: 2015 | K49: 2015 | M49: 2016 | N49: 2016 | O49: 2016 | P49: 2016 | Q49: 2016
A50: Never | B50: 55.6 | C50: 20.3 | D50: 29.4 | E50: 29.9 | G50: =VALUE('Raw-Data 2'!B57) -> 13.7 | H50: =VALUE('Raw-Data 2'!C57) -> 17 | I50: =VALUE('Raw-Data 2'!D57) -> 23.9 | J50: =VALUE('Raw-Data 2'!E57) -> 39.8 | K50: =VALUE('Raw-Data 2'!F57) -> 43.9 | M50: =VALUE('Raw-Data 2'!B49) -> 17.9 | N50: =VALUE('Raw-Data 2'!C49) -> 10.9 | O50: =VALUE('Raw-Data 2'!D49) -> 28.4 | P50: =VALUE('Raw-Data 2'!E49) -> 38.6 | Q50: =VALUE('Raw-Data 2'!F49) -> 43.5
A51: Rarely (1-2 times) | B51: 17.3 | C51: 31.8 | D51: 45.6 | E51: 40.4 | G51: =VALUE('Raw-Data 2'!B58) -> 52.7 | H51: =VALUE('Raw-Data 2'!C58) -> 57 | I51: =VALUE('Raw-Data 2'!D58) -> 46.8 | J51: =VALUE('Raw-Data 2'!E58) -> 35.3 | K51: =VALUE('Raw-Data 2'!F58) -> 40.1 | M51: =VALUE('Raw-Data 2'!B50) -> 28.6 | N51: =VALUE('Raw-Data 2'!C50) -> 47.4 | O51: =VALUE('Raw-Data 2'!D50) -> 41.6 | P51: =VALUE('Raw-Data 2'!E50) -> 40.9 | Q51: =VALUE('Raw-Data 2'!F50) -> 41.2
A52: Sometimes (3-10 times) | B52: 18.8 | C52: 34.2 | D52: 22.4 | E52: 26.2 | G52: =VALUE('Raw-Data 2'!B59) -> 32 | H52: =VALUE('Raw-Data 2'!C59) -> 23.5 | I52: =VALUE('Raw-Data 2'!D59) -> 25.3 | J52: =VALUE('Raw-Data 2'!E59) -> 21.9 | K52: =VALUE('Raw-Data 2'!F59) -> 14.4 | M52: =VALUE('Raw-Data 2'!B51) -> 39.2 | N52: =VALUE('Raw-Data 2'!C51) -> 39.3 | O52: =VALUE('Raw-Data 2'!D51) -> 28.9 | P52: =VALUE('Raw-Data 2'!E51) -> 20 | Q52: =VALUE('Raw-Data 2'!F51) -> 13.9
A53: Often (more than 10 times) | B53: 8.4 | C53: 13.6 | D53: 2.5 | E53: 3.5 | G53: =VALUE('Raw-Data 2'!B60) -> 1.6 | H53: =VALUE('Raw-Data 2'!C60) -> 2.5 | I53: =VALUE('Raw-Data 2'!D60) -> 4 | J53: =VALUE('Raw-Data 2'!E60) -> 2.9 | K53: =VALUE('Raw-Data 2'!F60) -> 1.7 | M53: =VALUE('Raw-Data 2'!B52) -> 14.3 | N53: =VALUE('Raw-Data 2'!C52) -> 2.4 | O53: =VALUE('Raw-Data 2'!D52) -> 1.1 | P53: =VALUE('Raw-Data 2'!E52) -> 0.4 | Q53: =VALUE('Raw-Data 2'!F52) -> 1.4
F72: 2015 | H72: 2016
B73: Hunger Coping | C73: 2016 | D73: 2015 | F73: (+) | G73: (-) | H73: (+) | I73: (-)
B74: Reduce number of meals/portion size | C74: =VALUE('Raw-Data 2'!B85) -> 0.366 | D74: =VALUE('Raw-Data 2'!B94) -> 0.373 | F74: ='Raw-Data 2'!D94-'Raw-Data 2'!B94 -> 0.064 | G74: ='Raw-Data 2'!B94-'Raw-Data 2'!C94 -> 0.059 | H74: ='Raw-Data 2'!D85-'Raw-Data 2'!B85 -> 0.083 | I74: ='Raw-Data 2'!B85-'Raw-Data 2'!C85 -> 0.076
B75: Skip entire days without meals | C75: =VALUE('Raw-Data 2'!B88) -> 0.246 | D75: =VALUE('Raw-Data 2'!B97) -> 0.186 | F75: ='Raw-Data 2'!D97-'Raw-Data 2'!B97 -> 0.04 | G75: ='Raw-Data 2'!B97-'Raw-Data 2'!C97 -> 0.034 | H75: ='Raw-Data 2'!D88-'Raw-Data 2'!B88 -> 0.091 | I75: ='Raw-Data 2'!B88-'Raw-Data 2'!C88 -> 0.074
B76: Less preferred food | C76: =VALUE('Raw-Data 2'!B84) -> 0.139 | D76: =VALUE('Raw-Data 2'!B93) -> 0.116 | F76: ='Raw-Data 2'!D93-'Raw-Data 2'!B93 -> 0.065 | G76: ='Raw-Data 2'!B93-'Raw-Data 2'!C93 -> 0.044 | H76: ='Raw-Data 2'!D84-'Raw-Data 2'!B84 -> 0.048 | I76: ='Raw-Data 2'!B84-'Raw-Data 2'!C84 -> 0.038
B77: Restrict adult meals | C77: =VALUE('Raw-Data 2'!B86) -> 0.094 | D77: =VALUE('Raw-Data 2'!B95) -> 0.085 | F77: ='Raw-Data 2'!D95-'Raw-Data 2'!B95 -> 0.035 | G77: ='Raw-Data 2'!B95-'Raw-Data 2'!C95 -> 0.026 | H77: ='Raw-Data 2'!D86-'Raw-Data 2'!B86 -> 0.029 | I77: ='Raw-Data 2'!B86-'Raw-Data 2'!C86 -> 0.022
B78: Borrow food | C78: =VALUE('Raw-Data 2'!B87) -> 0.093 | D78: =VALUE('Raw-Data 2'!B96) -> 0.152 | F78: ='Raw-Data 2'!D96-'Raw-Data 2'!B96 -> 0.055 | G78: ='Raw-Data 2'!B96-'Raw-Data 2'!C96 -> 0.042 | H78: ='Raw-Data 2'!D87-'Raw-Data 2'!B87 -> 0.047 | I78: ='Raw-Data 2'!B87-'Raw-Data 2'!C87 -> 0.032
B79: Other | C79: =VALUE('Raw-Data 2'!B90) -> 0.049 | D79: =VALUE('Raw-Data 2'!B99) -> 0.019 | F79: ='Raw-Data 2'!D99-'Raw-Data 2'!B99 -> 0.036 | G79: ='Raw-Data 2'!B99-'Raw-Data 2'!C99 -> 0.013 | H79: ='Raw-Data 2'!D90-'Raw-Data 2'!B90 -> 0.028 | I79: ='Raw-Data 2'!B90-'Raw-Data 2'!C90 -> 0.018
B80: Collect unusual/wild foods | C80: =VALUE('Raw-Data 2'!B89) -> 0.013 | D80: =VALUE('Raw-Data 2'!B98) -> 0.069 | F80: ='Raw-Data 2'!D98-'Raw-Data 2'!B98 -> 0.044 | G80: ='Raw-Data 2'!B98-'Raw-Data 2'!C98 -> 0.028 | H80: ='Raw-Data 2'!D89-'Raw-Data 2'!B89 -> 0.025 | I80: ='Raw-Data 2'!B89-'Raw-Data 2'!C89 -> 0.009
C86: 2015 | I86: 2016
C87: Poorest Quintile | D87: Q2 | E87: Q3 | F87: Q4 | G87: Richest Quintile | I87: Poorest Quintile | J87: Q2 | K87: Q3 | L87: Q4 | M87: Richest Quintile
B88: Less preferred food | C88: =VALUE('Raw-Data 2'!B115) -> 0.159 | D88: =VALUE('Raw-Data 2'!E115) -> 0.121 | E88: =VALUE('Raw-Data 2'!H115) -> 0.117 | F88: =VALUE('Raw-Data 2'!K115) -> 0.111 | G88: =VALUE('Raw-Data 2'!N115) -> 0.075 | I88: =VALUE('Raw-Data 2'!B104) -> 0.065 | J88: =VALUE('Raw-Data 2'!E104) -> 0.228 | K88: =VALUE('Raw-Data 2'!H104) -> 0.063 | L88: =VALUE('Raw-Data 2'!K104) -> 0.179 | M88: =VALUE('Raw-Data 2'!N104) -> 0.142
B89: Reduce number of meals/portion size | C89: =VALUE('Raw-Data 2'!B116) -> 0.435 | D89: =VALUE('Raw-Data 2'!E116) -> 0.336 | E89: =VALUE('Raw-Data 2'!H116) -> 0.34 | F89: =VALUE('Raw-Data 2'!K116) -> 0.33 | G89: =VALUE('Raw-Data 2'!N116) -> 0.417 | I89: =VALUE('Raw-Data 2'!B105) -> 0.238 | J89: =VALUE('Raw-Data 2'!E105) -> 0.226 | K89: =VALUE('Raw-Data 2'!H105) -> 0.473 | L89: =VALUE('Raw-Data 2'!K105) -> 0.43 | M89: =VALUE('Raw-Data 2'!N105) -> 0.479
B90: Restrict adult meals | C90: =VALUE('Raw-Data 2'!B117) -> 0.079 | D90: =VALUE('Raw-Data 2'!E117) -> 0.107 | E90: =VALUE('Raw-Data 2'!H117) -> 0.045 | F90: =VALUE('Raw-Data 2'!K117) -> 0.172 | G90: =VALUE('Raw-Data 2'!N117) -> 0.046 | I90: =VALUE('Raw-Data 2'!B106) -> 0.119 | J90: =VALUE('Raw-Data 2'!E106) -> 0.091 | K90: =VALUE('Raw-Data 2'!H106) -> 0.146 | L90: =VALUE('Raw-Data 2'!K106) -> 0.048 | M90: =VALUE('Raw-Data 2'!N106) -> 0.077
B91: Borrow food | C91: =VALUE('Raw-Data 2'!B118) -> 0.13 | D91: =VALUE('Raw-Data 2'!E118) -> 0.144 | E91: =VALUE('Raw-Data 2'!H118) -> 0.091 | F91: =VALUE('Raw-Data 2'!K118) -> 0.121 | G91: =VALUE('Raw-Data 2'!N118) -> 0.265 | I91: =VALUE('Raw-Data 2'!B107) -> 0.059 | J91: =VALUE('Raw-Data 2'!E107) -> 0.159 | K91: =VALUE('Raw-Data 2'!H107) -> 0.052 | L91: =VALUE('Raw-Data 2'!K107) -> 0.145 | M91: =VALUE('Raw-Data 2'!N107) -> 0.048
B92: Skip entire days without meals | C92: =VALUE('Raw-Data 2'!B119) -> 0.148 | D92: =VALUE('Raw-Data 2'!E119) -> 0.237 | E92: =VALUE('Raw-Data 2'!H119) -> 0.254 | F92: =VALUE('Raw-Data 2'!K119) -> 0.204 | G92: =VALUE('Raw-Data 2'!N119) -> 0.089 | I92: =VALUE('Raw-Data 2'!B108) -> 0.495 | J92: =VALUE('Raw-Data 2'!E108) -> 0.225 | K92: =VALUE('Raw-Data 2'!H108) -> 0.192 | L92: =VALUE('Raw-Data 2'!K108) -> 0.122 | M92: =VALUE('Raw-Data 2'!N108) -> 0.189
B93: Collect unusual/wild foods | C93: =VALUE('Raw-Data 2'!B120) -> 0.04 | D93: =VALUE('Raw-Data 2'!E120) -> 0.056 | E93: =VALUE('Raw-Data 2'!H120) -> 0.099 | F93: =VALUE('Raw-Data 2'!K120) -> 0.062 | G93: =VALUE('Raw-Data 2'!N120) -> 0.084 | I93: =VALUE('Raw-Data 2'!B109) -> 0.009 | J93: =VALUE('Raw-Data 2'!E109) -> 0 | K93: =VALUE('Raw-Data 2'!H109) -> 0.018 | L93: =VALUE('Raw-Data 2'!K109) -> 0.035 | M93: =VALUE('Raw-Data 2'!N109) -> 0.005
B94: Other | C94: =VALUE('Raw-Data 2'!B121) -> 0.007 | D94: =VALUE('Raw-Data 2'!E121) -> 0 | E94: =VALUE('Raw-Data 2'!H121) -> 0.054 | F94: =VALUE('Raw-Data 2'!K121) -> 0 | G94: =VALUE('Raw-Data 2'!N121) -> 0.025 | I94: =VALUE('Raw-Data 2'!B110) -> 0.015 | J94: =VALUE('Raw-Data 2'!E110) -> 0.071 | K94: =VALUE('Raw-Data 2'!H110) -> 0.056 | L94: =VALUE('Raw-Data 2'!K110) -> 0.041 | M94: =VALUE('Raw-Data 2'!N110) -> 0.061
C114: Total | E114: Male Head | F114: Female Head | H114: Poorest Quintile | I114: Q2 | J114: Q3 | K114: Q4 | L114: Richest Quintile | N114: Poor | O114: Non-Poor
B115: No | C115: =100-C116 -> 42.2 | E115: =100-E116 -> 37 | F115: =100-F116 -> 37.4 | H115: =100-H116 -> 25.1 | I115: =100-I116 -> 42.1 | J115: =100-J116 -> 41.7 | K115: =100-K116 -> 30.7 | L115: =100-L116 -> 42.2 | N115: =100-N116 -> 28.8 | O115: =100-O116 -> 38.8
B116: Yes | C116: =VALUE('Raw-Data 2'!I127) -> 57.8 | E116: =VALUE('Raw-Data 2'!B127) -> 63 | F116: =VALUE('Raw-Data 2'!E127) -> 62.6 | H116: =VALUE('Raw-Data 2'!B133) -> 74.9 | I116: =VALUE('Raw-Data 2'!E133) -> 57.9 | J116: =VALUE('Raw-Data 2'!H133) -> 58.3 | K116: =VALUE('Raw-Data 2'!K133) -> 69.3 | L116: =VALUE('Raw-Data 2'!N133) -> 57.8 | N116: =VALUE('Raw-Data 2'!G139) -> 71.2 | O116: =VALUE('Raw-Data 2'!B139) -> 61.2
...

Sheet Raw-Data 2
B1: Year
A2: D.19 No Food in Past 1 Month | B2: 2015 | C2: 2015 | D2: 2015 | E2: 2016 | F2: 2016 | G2: 2016 | H2: Total | I2: Total | J2: Total | K2: N
B3: % | C3: LB | D3: UB | E3: % | F3: LB | G3: UB | H3: % | I3: LB | J3: UB
A4: Never | B4: 29.4 | C4: 26.0 | D4: 33.1 | E4: 29.9 | F4: 24.4 | G4: 36.2 | H4: 29.7 | I4: 25.8 | J4: 33.9 | K4: 380
A5: Rarely (1-2 times) | B5: 45.6 | C5: 40.2 | D5: 51.1 | E5: 40.4 | F5: 33.5 | G5: 47.7 | H5: 43.0 | I5: 38.0 | J5: 48.2 | K5: 579
A6: Sometimes (3-10 times) | B6: 22.4 | C6: 16.3 | D6: 30.0 | E6: 26.2 | F6: 19.9 | G6: 33.7 | H6: 24.3 | I6: 18.6 | J6: 31.1 | K6: 278
A7: Often (more than 10 times) | B7: 2.5 | C7: 1.3 | D7: 4.9 | E7: 3.5 | F7: 1.5 | G7: 7.6 | H7: 3.0 | I7: 1.8 | J7: 4.8 | K7: 30
A8: Total | B8: 100.0 | E8: 100.0 | H8: 100.0 | K8: 1,267
A9: hunger_change | B9: % | C9: LB | D9: UB | E9: N
A10: Improved | B10: 19.8 | C10: 15.4 | D10: 25.2 | E10: 125
A11: Stayed the same | B11: 54.2 | C11: 49.5 | D11: 58.9 | E11: 347
A12: Worsened | B12: 25.9 | C12: 20.5 | D12: 32.2 | E12: 152
A13: Total | B13: 100.0 | E13: 624
A14: 2016 hhh_gender
A15: D.19 No Food in Past 1 Month | B15: Male Head | C15: Male Head | D15: Male Head | E15: Female Head | F15: Female Head | G15: Female Head | H15: Total | I15: Total | J15: Total | K15: N
B16: % | C16: LB | D16: UB | E16: % | F16: LB | G16: UB | H16: % | I16: LB | J16: UB
A17: Never | B17: 32.5 | C17: 25.9 | D17: 39.7 | E17: 26.4 | F17: 19.7 | G17: 34.5 | H17: 29.9 | I17: 24.4 | J17: 36.2 | K17: 189
A18: Rarely (1-2 times) | B18: 39.8 | C18: 30.3 | D18: 50.0 | E18: 41.2 | F18: 35.0 | G18: 47.8 | H18: 40.4 | I18: 33.5 | J18: 47.7 | K18: 272
A19: Sometimes (3-10 times) | B19: 24.0 | C19: 17.1 | D19: 32.4 | E19: 29.4 | F19: 22.0 | G19: 37.9 | H19: 26.2 | I19: 19.9 | J19: 33.7 | K19: 150
A20: Often (more than 10 times) | B20: 3.8 | C20: 1.0 | D20: 13.0 | E20: 3.0 | F20: 1.5 | G20: 5.9 | H20: 3.5 | I20: 1.5 | J20: 7.6 | K20: 16
A21: Total | B21: 100.0 | E21: 100.0 | H21: 100.0 | K21: 627
A22: 2015 hhh_gender
A23: D.19 No Food in Past 1 Month | B23: Male Head | C23: Male Head | D23: Male Head | E23: Female Head | F23: Female Head | G23: Female Head | H23: Total | I23: Total | J23: Total | K23: N
B24: % | C24: LB | D24: UB | E24: % | F24: LB | G24: UB | H24: % | I24: LB | J24: UB
A25: Never | B25: 32.4 | C25: 27.7 | D25: 37.6 | E25: 26.0 | F25: 21.9 | G25: 30.6 | H25: 29.5 | I25: 26.1 | J25: 33.1 | K25: 191
A26: Rarely (1-2 times) | B26: 42.0 | C26: 35.3 | D26: 49.0 | E26: 49.8 | F26: 42.5 | G26: 57.0 | H26: 45.6 | I26: 40.2 | J26: 51.1 | K26: 306
A27: Sometimes (3-10 times) | B27: 23.0 | C27: 16.0 | D27: 32.0 | E27: 21.8 | F27: 15.2 | G27: 30.3 | H27: 22.5 | I27: 16.3 | J27: 30.1 | K27: 128
A28: Often (more than 10 times) | B28: 2.6 | C28: 0.9 | D28: 7.3 | E28: 2.4 | F28: 1.1 | G28: 5.4 | H28: 2.5 | I28: 1.3 | J28: 4.9 | K28: 14
A29: Total | B29: 100.0 | E29: 100.0 | H29: 100.0 | K29: 639
A30: 2016 poor
A31: D.19 No Food in Past 1 Month | B31: NonPoor | C31: NonPoor | D31: NonPoor | E31: Poor | F31: Poor | G31: Poor | H31: Total | I31: Total | J31: Total | K31: N
B32: % | C32: LB | D32: UB | E32: % | F32: LB | G32: UB | H32: % | I32: LB | J32: UB
A33: Never | B33: 43.2 | C33: 36.2 | D33: 50.5 | E33: 22.0 | F33: 14.6 | G33: 31.9 | H33: 30.0 | I33: 24.4 | J33: 36.3 | K33: 189
A34: Rarely (1-2 times) | B34: 42.0 | C34: 35.5 | D34: 48.7 | E34: 39.3 | F34: 29.8 | G34: 49.6 | H34: 40.3 | I34: 33.4 | J34: 47.6 | K34: 270
A35: Sometimes (3-10 times) | B35: 13.6 | C35: 8.9 | D35: 20.1 | E35: 34.1 | F35: 25.4 | G35: 44.0 | H35: 26.3 | I35: 20.0 | J35: 33.8 | K35: 150
A36: Often (more than 10 times) | B36: 1.3 | C36: 0.4 | D36: 4.4 | E36: 4.7 | F36: 1.9 | G36: 11.2 | H36: 3.4 | I36: 1.5 | J36: 7.6 | K36: 15
A37: Total | B37: 100.0 | E37: 100.0 | H37: 100.0 | K37: 624
A38: 2015 poor
A39: D.19 No Food in Past 1 Month | B39: NonPoor | C39: NonPoor | D39: NonPoor | E39: Poor | F39: Poor | G39: Poor | H39: Total | I39: Total | J39: Total | K39: N
B40: % | C40: LB | D40: UB | E40: % | F40: LB | G40: UB | H40: % | I40: LB | J40: UB
...

Sheet Future of SSD
A5: SWB.8 When thinking about the future of South Sudan, which of the following do you fear the most?
B6: Total | H6: Poor | J6: NonPoor
B7: 2012 | C7: 2013 | D7: 2014 | E7: 2015 | F7: 2016 | H7: 2015 | I7: 2016 | J7: 2015 | K7: 2016
A8: Civil war, disintegration, insecurity, & ethnic violence | B8: 53.7 | C8: 87.2 | D8: 68.4 | E8: =VALUE('Raw-Data 3'!B289) -> 0.658 | F8: =VALUE('Raw-Data 3'!E289) -> 0.469 | H8: =VALUE('Raw-Data 3'!E325) -> 0.606 | I8: =VALUE('Raw-Data 3'!E316) -> 0.441 | J8: =VALUE('Raw-Data 3'!B325) -> 0.7 | K8: =VALUE('Raw-Data 3'!B316) -> 0.522
A9: Corruption | B9: 15.5 | C9: 3.5 | D9: 10.2 | E9: =VALUE('Raw-Data 3'!B290) -> 0.012 | F9: =VALUE('Raw-Data 3'!E290) -> 0.012 | H9: =VALUE('Raw-Data 3'!E326) -> 0.011 | I9: =VALUE('Raw-Data 3'!E317) -> 0.01 | J9: =VALUE('Raw-Data 3'!B326) -> 0.013 | K9: =VALUE('Raw-Data 3'!B317) -> 0.015
A10: Lack of economic opportunities | B10: 21.2 | C10: 6.2 | D10: 14.6 | E10: =VALUE('Raw-Data 3'!B291) -> 0.29 | F10: =VALUE('Raw-Data 3'!E291) -> 0.497 | H10: =VALUE('Raw-Data 3'!E327) -> 0.345 | I10: =VALUE('Raw-Data 3'!E318) -> 0.526 | J10: =VALUE('Raw-Data 3'!B327) -> 0.246 | K10: =VALUE('Raw-Data 3'!B318) -> 0.442
A11: Health and disease problems | B11: 9.7 | C11: 3 | D11: 6.7 | E11: =VALUE('Raw-Data 3'!B292) -> 0.04 | F11: =VALUE('Raw-Data 3'!E292) -> 0.012 | H11: =VALUE('Raw-Data 3'!E328) -> 0.039 | I11: =VALUE('Raw-Data 3'!E319) -> 0.009 | J11: =VALUE('Raw-Data 3'!B328) -> 0.041 | K11: =VALUE('Raw-Data 3'!B319) -> 0.017
A12: Other reasons | B12: 0 | C12: 0 | D12: 0 | E12: =VALUE('Raw-Data 3'!B293) -> 0 | F12: =VALUE('Raw-Data 3'!E293) -> 0.011 | H12: =VALUE('Raw-Data 3'!E329) -> 0 | I12: =VALUE('Raw-Data 3'!E320) -> 0.014 | J12: =VALUE('Raw-Data 3'!B329) -> 0 | K12: =VALUE('Raw-Data 3'!B320) -> 0.004
A21: SWB.8 When thinking about the future of South Sudan, which of the following do you fear the most?
B22: 2015 | H22: 2016
B23: Poorest Quintile | C23: Q2 | D23: Q3 | E23: Q4 | F23: Richest Quintile | H23: Poorest Quintile | I23: Q2 | J23: Q3 | K23: Q4 | L23: Richest Quintile
A24: Civil war, disintegration, insecurity, & ethnic violence | B24: =VALUE('Raw-Data 3'!B307) -> 0.551 | C24: =VALUE('Raw-Data 3'!E307) -> 0.703 | D24: =VALUE('Raw-Data 3'!H307) -> 0.558 | E24: =VALUE('Raw-Data 3'!K307) -> 0.725 | F24: =VALUE('Raw-Data 3'!N307) -> 0.739 | H24: =VALUE('Raw-Data 3'!B298) -> 0.413 | I24: =VALUE('Raw-Data 3'!E298) -> 0.449 | J24: =VALUE('Raw-Data 3'!H298) -> 0.422 | K24: =VALUE('Raw-Data 3'!K298) -> 0.53 | L24: =VALUE('Raw-Data 3'!N298) -> 0.506
A25: Corruption | B25: =VALUE('Raw-Data 3'!B308) -> 0.017 | C25: =VALUE('Raw-Data 3'!E308) -> 0 | D25: =VALUE('Raw-Data 3'!H308) -> 0.011 | E25: =VALUE('Raw-Data 3'!K308) -> 0.007 | F25: =VALUE('Raw-Data 3'!N308) -> 0.02 | H25: =VALUE('Raw-Data 3'!B299) -> 0.014 | I25: =VALUE('Raw-Data 3'!E299) -> 0.007 | J25: =VALUE('Raw-Data 3'!H299) -> 0.016 | K25: =VALUE('Raw-Data 3'!K299) -> 0 | L25: =VALUE('Raw-Data 3'!N299) -> 0.021
A26: Lack of economic opportunities | B26: =VALUE('Raw-Data 3'!B309) -> 0.391 | C26: =VALUE('Raw-Data 3'!E309) -> 0.265 | D26: =VALUE('Raw-Data 3'!H309) -> 0.383 | E26: =VALUE('Raw-Data 3'!K309) -> 0.223 | F26: =VALUE('Raw-Data 3'!N309) -> 0.205 | H26: =VALUE('Raw-Data 3'!B300) -> 0.558 | I26: =VALUE('Raw-Data 3'!E300) -> 0.494 | J26: =VALUE('Raw-Data 3'!H300) -> 0.557 | K26: =VALUE('Raw-Data 3'!K300) -> 0.459 | L26: =VALUE('Raw-Data 3'!N300) -> 0.444
A27: Health and disease problems | B27: =VALUE('Raw-Data 3'!B310) -> 0.042 | C27: =VALUE('Raw-Data 3'!E310) -> 0.032 | D27: =VALUE('Raw-Data 3'!H310) -> 0.047 | E27: =VALUE('Raw-Data 3'!K310) -> 0.044 | F27: =VALUE('Raw-Data 3'!N310) -> 0.036 | H27: =VALUE('Raw-Data 3'!B301) -> 0.006 | I27: =VALUE('Raw-Data 3'!E301) -> 0.006 | J27: =VALUE('Raw-Data 3'!H301) -> 0.006 | K27: =VALUE('Raw-Data 3'!K301) -> 0.012 | L27: =VALUE('Raw-Data 3'!N301) -> 0.023
A28: Other reasons | B28: =VALUE('Raw-Data 3'!B311) -> 0 | C28: =VALUE('Raw-Data 3'!E311) -> 0 | D28: =VALUE('Raw-Data 3'!H311) -> 0 | E28: =VALUE('Raw-Data 3'!K311) -> 0 | F28: =VALUE('Raw-Data 3'!N311) -> 0 | H28: =VALUE('Raw-Data 3'!B302) -> 0.008 | I28: =VALUE('Raw-Data 3'!E302) -> 0.043 | J28: =VALUE('Raw-Data 3'!H302) -> 0 | K28: =VALUE('Raw-Data 3'!K302) -> 0 | L28: =VALUE('Raw-Data 3'!N302) -> 0.006
C36: Index

Sheet Living and economic conditions
A2: SWB.1 In general, how would you describe your own personal living conditions today?
B3: Total | H3: Poor | J3: NonPoor
B4: 2012 | C4: 2013 | D4: 2014 | E4: 2015 | F4: 2016 | H4: 2015 | I4: 2016 | J4: 2015 | K4: 2016
A5: Very good | B5: 0.023 | C5: 0.019 | D5: 0.013 | E5: =VALUE('Raw-Data 3'!B69) -> 0.087 | F5: =VALUE('Raw-Data 3'!$E$69) -> 0.02 | H5: =VALUE('Raw-Data 3'!E105) -> 0.034 | I5: =VALUE('Raw-Data 3'!E96) -> 0.023 | J5: =VALUE('Raw-Data 3'!B105) -> 0.126 | K5: =VALUE('Raw-Data 3'!B96) -> 0.016
A6: Fairly good | B6: 0.372 | C6: 0.249 | D6: 0.267 | E6: =VALUE('Raw-Data 3'!B70) -> 0.314 | F6: =VALUE('Raw-Data 3'!$E$70) -> 0.16 | H6: =VALUE('Raw-Data 3'!E106) -> 0.232 | I6: =VALUE('Raw-Data 3'!E97) -> 0.136 | J6: =VALUE('Raw-Data 3'!B106) -> 0.376 | K6: =VALUE('Raw-Data 3'!B97) -> 0.199
A7: Neither good nor bad | B7: 0.115 | C7: 0.117 | D7: 0.205 | E7: =VALUE('Raw-Data 3'!B71) -> 0.147 | F7: =VALUE('Raw-Data 3'!E71) -> 0.044 | H7: =VALUE('Raw-Data 3'!E107) -> 0.162 | I7: =VALUE('Raw-Data 3'!E98) -> 0.04 | J7: =VALUE('Raw-Data 3'!B107) -> 0.136 | K7: =VALUE('Raw-Data 3'!B98) -> 0.049
A8: Fairly bad | B8: 0.213 | C8: 0.313 | D8: 0.153 | E8: =VALUE('Raw-Data 3'!B72) -> 0.145 | F8: =VALUE('Raw-Data 3'!E72) -> 0.168 | H8: =VALUE('Raw-Data 3'!E108) -> 0.141 | I8: =VALUE('Raw-Data 3'!E99) -> 0.158 | J8: =VALUE('Raw-Data 3'!B108) -> 0.145 | K8: =VALUE('Raw-Data 3'!B99) -> 0.182
A9: Very bad | B9: 0.277 | C9: 0.301 | D9: 0.363 | E9: =VALUE('Raw-Data 3'!B73) -> 0.307 | F9: =VALUE('Raw-Data 3'!E73) -> 0.609 | H9: =VALUE('Raw-Data 3'!E109) -> 0.43 | I9: =VALUE('Raw-Data 3'!E100) -> 0.642 | J9: =VALUE('Raw-Data 3'!B109) -> 0.217 | K9: =VALUE('Raw-Data 3'!B100) -> 0.554
B18: Future living conditions (3 months) | D18: Present living conditions
B19: 2016 | C19: 2015 | D19: 2016 | E19: 2015 | F19: 2014
A20: Very good/Much better | B20: =VALUE('Raw-Data 3'!E118) -> 0.177 | C20: =VALUE('Raw-Data 3'!B118) -> 0.249 | D20: =VALUE('Raw-Data 3'!E69) -> 0.02 | E20: =VALUE('Raw-Data 3'!B69) -> 0.087 | F20: 0.013
A21: Fairly good/Better | B21: =VALUE('Raw-Data 3'!E117) -> 0.142 | C21: =VALUE('Raw-Data 3'!B117) -> 0.243 | D21: =VALUE('Raw-Data 3'!E70) -> 0.16 | E21: =VALUE('Raw-Data 3'!B70) -> 0.314 | F21: 0.267
A22: Neither good nor bad/The same | B22: =VALUE('Raw-Data 3'!E116) -> 0.175 | C22: =VALUE('Raw-Data 3'!B116) -> 0.257 | D22: =VALUE('Raw-Data 3'!E71) -> 0.044 | E22: =VALUE('Raw-Data 3'!B71) -> 0.147 | F22: 0.205
A23: Fairly bad/Worse | B23: =VALUE('Raw-Data 3'!E115) -> 0.193 | C23: =VALUE('Raw-Data 3'!B115) -> 0.171 | D23: =VALUE('Raw-Data 3'!E72) -> 0.168 | E23: =VALUE('Raw-Data 3'!B72) -> 0.145 | F23: 0.153
A24: Very bad/Much worse | B24: =VALUE('Raw-Data 3'!E114) -> 0.312 | C24: =VALUE('Raw-Data 3'!B114) -> 0.08 | D24: =VALUE('Raw-Data 3'!E73) -> 0.609 | E24: =VALUE('Raw-Data 3'!B73) -> 0.307 | F24: 0.363
A30: SWB.1 In general, how would you describe your own personal living conditions today?
B31: 2015 | H31: 2016
B32: Poorest Quintile | C32: Q2 | D32: Q3 | E32: Q4 | F32: Richest Quintile | H32: Poorest Quintile | I32: Q2 | J32: Q3 | K32: Q4 | L32: Richest Quintile
A33: Very good | B33: =VALUE('Raw-Data 3'!B87) -> 0.028 | C33: =VALUE('Raw-Data 3'!E87) -> 0.007 | D33: =VALUE('Raw-Data 3'!H87) -> 0.084 | E33: =VALUE('Raw-Data 3'!K87) -> 0.131 | F33: =VALUE('Raw-Data 3'!N87) -> 0.145 | H33: =VALUE('Raw-Data 3'!B78) -> 0.064 | I33: =VALUE('Raw-Data 3'!E78) -> 0.014 | J33: =VALUE('Raw-Data 3'!H78) -> 0.009 | K33: =VALUE('Raw-Data 3'!K78) -> 0.005 | L33: =VALUE('Raw-Data 3'!N78) -> 0.022
A34: Fairly good | B34: =VALUE('Raw-Data 3'!B88) -> 0.191 | C34: =VALUE('Raw-Data 3'!E88) -> 0.271 | D34: =VALUE('Raw-Data 3'!H88) -> 0.257 | E34: =VALUE('Raw-Data 3'!K88) -> 0.388 | F34: =VALUE('Raw-Data 3'!N88) -> 0.413 | H34: =VALUE('Raw-Data 3'!B79) -> 0.029 | I34: =VALUE('Raw-Data 3'!E79) -> 0.13 | J34: =VALUE('Raw-Data 3'!H79) -> 0.182 | K34: =VALUE('Raw-Data 3'!K79) -> 0.242 | L34: =VALUE('Raw-Data 3'!N79) -> 0.166
A35: Neither good nor bad | B35: =VALUE('Raw-Data 3'!B89) -> 0.161 | C35: =VALUE('Raw-Data 3'!E89) -> 0.206 | D35: =VALUE('Raw-Data 3'!H89) -> 0.128 | E35: =VALUE('Raw-Data 3'!K89) -> 0.159 | F35: =VALUE('Raw-Data 3'!N89) -> 0.108 | H35: =VALUE('Raw-Data 3'!B80) -> 0.059 | I35: =VALUE('Raw-Data 3'!E80) -> 0.036 | J35: =VALUE('Raw-Data 3'!H80) -> 0.024 | K35: =VALUE('Raw-Data 3'!K80) -> 0.04 | L35: =VALUE('Raw-Data 3'!N80) -> 0.057
A36: Fairly bad | B36: =VALUE('Raw-Data 3'!B90) -> 0.216 | C36: =VALUE('Raw-Data 3'!E90) -> 0.102 | D36: =VALUE('Raw-Data 3'!H90) -> 0.133 | E36: =VALUE('Raw-Data 3'!K90) -> 0.134 | F36: =VALUE('Raw-Data 3'!N90) -> 0.139 | H36: =VALUE('Raw-Data 3'!B81) -> 0.152 | I36: =VALUE('Raw-Data 3'!E81) -> 0.193 | J36: =VALUE('Raw-Data 3'!H81) -> 0.161 | K36: =VALUE('Raw-Data 3'!K81) -> 0.136 | L36: =VALUE('Raw-Data 3'!N81) -> 0.19
A37: Very bad | B37: =VALUE('Raw-Data 3'!B91) -> 0.403 | C37: =VALUE('Raw-Data 3'!E91) -> 0.415 | D37: =VALUE('Raw-Data 3'!H91) -> 0.398 | E37: =VALUE('Raw-Data 3'!K91) -> 0.188 | F37: =VALUE('Raw-Data 3'!N91) -> 0.194 | H37: =VALUE('Raw-Data 3'!B82) -> 0.696 | I37: =VALUE('Raw-Data 3'!E82) -> 0.628 | J37: =VALUE('Raw-Data 3'!H82) -> 0.623 | K37: =VALUE('Raw-Data 3'!K82) -> 0.578 | L37: =VALUE('Raw-Data 3'!N82) -> 0.565
A40: SWB.3 Looking ahead, would you expect your own personal living conditions to be better or worse in three months time?
B41: Total | E41: Poor | G41: NonPoor
B42: 2015 | C42: 2016 | E42: 2015 | F42: 2016 | G42: 2015 | H42: 2016
A43: Much worse | B43: =VALUE('Raw-Data 3'!B114) -> 0.08 | C43: =VALUE('Raw-Data 3'!E114) -> 0.312 | E43: =VALUE('Raw-Data 3'!E150) -> 0.064 | F43: =VALUE('Raw-Data 3'!E141) -> 0.273 | G43: =VALUE('Raw-Data 3'!B150) -> 0.09 | H43: =VALUE('Raw-Data 3'!B141) -> 0.368
A44: Worse | B44: =VALUE('Raw-Data 3'!B115) -> 0.171 | C44: =VALUE('Raw-Data 3'!E115) -> 0.193 | E44: =VALUE('Raw-Data 3'!E151) -> 0.144 | F44: =VALUE('Raw-Data 3'!E142) -> 0.207 | G44: =VALUE('Raw-Data 3'!B151) -> 0.189 | H44: =VALUE('Raw-Data 3'!B142) -> 0.174
A45: The same | B45: =VALUE('Raw-Data 3'!B116) -> 0.257 | C45: =VALUE('Raw-Data 3'!E116) -> 0.175 | E45: =VALUE('Raw-Data 3'!E152) -> 0.352 | F45: =VALUE('Raw-Data 3'!E143) -> 0.194 | G45: =VALUE('Raw-Data 3'!B152) -> 0.193 | H45: =VALUE('Raw-Data 3'!B143) -> 0.148
A46: Better | B46: =VALUE('Raw-Data 3'!B117) -> 0.243 | C46: =VALUE('Raw-Data 3'!E117) -> 0.142 | E46: =VALUE('Raw-Data 3'!E153) -> 0.213 | F46: =VALUE('Raw-Data 3'!E144) -> 0.151 | G46: =VALUE('Raw-Data 3'!B153) -> 0.264 | H46: =VALUE('Raw-Data 3'!B144) -> 0.127
A47: Much better | B47: =VALUE('Raw-Data 3'!B118) -> 0.249 | C47: =VALUE('Raw-Data 3'!E118) -> 0.177 | E47: =VALUE('Raw-Data 3'!E154) -> 0.228 | F47: =VALUE('Raw-Data 3'!E145) -> 0.176 | G47: =VALUE('Raw-Data 3'!B154) -> 0.263 | H47: =VALUE('Raw-Data 3'!B145) -> 0.182
A49: SWB.3 Looking ahead, would you expect your own personal living conditions to be better or worse in three months time?
B50: 2015 | H50: 2016
B51: Poorest Quintile | C51: Q2 | D51: Q3 | E51: Q4 | F51: Richest Quintile | H51: Poorest Quintile | I51: Q2 | J51: Q3 | K51: Q4 | L51: Richest Quintile
A52: Much worse | B52: =VALUE('Raw-Data 3'!B87) -> 0.028 | C52: =VALUE('Raw-Data 3'!E87) -> 0.007 | D52: =VALUE('Raw-Data 3'!H87) -> 0.084 | E52: =VALUE('Raw-Data 3'!K87) -> 0.131 | F52: =VALUE('Raw-Data 3'!N87) -> 0.145 | H52: =VALUE('Raw-Data 3'!B78) -> 0.064 | I52: =VALUE('Raw-Data 3'!E78) -> 0.014 | J52: =VALUE('Raw-Data 3'!I78) -> 0.001 | K52: =VALUE('Raw-Data 3'!K78) -> 0.005 | L52: =VALUE('Raw-Data 3'!N78) -> 0.022
A53: Worse | B53: =VALUE('Raw-Data 3'!B88) -> 0.191 | C53: =VALUE('Raw-Data 3'!E88) -> 0.271 | D53: =VALUE('Raw-Data 3'!H88) -> 0.257 | E53: =VALUE('Raw-Data 3'!K88) -> 0.388 | F53: =VALUE('Raw-Data 3'!N88) -> 0.413 | H53: =VALUE('Raw-Data 3'!B79) -> 0.029 | I53: =VALUE('Raw-Data 3'!E79) -> 0.13 | J53: =VALUE('Raw-Data 3'!I79) -> 0.087 | K53: =VALUE('Raw-Data 3'!K79) -> 0.242 | L53: =VALUE('Raw-Data 3'!N79) -> 0.166
A54: The same | B54: =VALUE('Raw-Data 3'!B89) -> 0.161 | C54: =VALUE('Raw-Data 3'!E89) -> 0.206 | D54: =VALUE('Raw-Data 3'!H89) -> 0.128 | E54: =VALUE('Raw-Data 3'!K89) -> 0.159 | F54: =VALUE('Raw-Data 3'!N89) -> 0.108 | H54: =VALUE('Raw-Data 3'!B80) -> 0.059 | I54: =VALUE('Raw-Data 3'!E80) -> 0.036 | J54: =VALUE('Raw-Data 3'!I80) -> 0.007 | K54: =VALUE('Raw-Data 3'!K80) -> 0.04 | L54: =VALUE('Raw-Data 3'!N80) -> 0.057
A55: Better | B55: =VALUE('Raw-Data 3'!B90) -> 0.216 | C55: =VALUE('Raw-Data 3'!E90) -> 0.102 | D55: =VALUE('Raw-Data 3'!H90) -> 0.133 | E55: =VALUE('Raw-Data 3'!K90) -> 0.134 | F55: =VALUE('Raw-Data 3'!N90) -> 0.139 | H55: =VALUE('Raw-Data 3'!B81) -> 0.152 | I55: =VALUE('Raw-Data 3'!E81) -> 0.193 | J55: =VALUE('Raw-Data 3'!I81) -> 0.082 | K55: =VALUE('Raw-Data 3'!K81) -> 0.136 | L55: =VALUE('Raw-Data 3'!N81) -> 0.19
A56: Much better | B56: =VALUE('Raw-Data 3'!B91) -> 0.403 | C56: =VALUE('Raw-Data 3'!E91) -> 0.415 | D56: =VALUE('Raw-Data 3'!H91) -> 0.398 | E56: =VALUE('Raw-Data 3'!K91) -> 0.188 | F56: =VALUE('Raw-Data 3'!N91) -> 0.194 | H56: =VALUE('Raw-Data 3'!B82) -> 0.696 | I56: =VALUE('Raw-Data 3'!E82) -> 0.628 | J56: =VALUE('Raw-Data 3'!I82) -> 0.485 | K56: =VALUE('Raw-Data 3'!K82) -> 0.578 | L56: =VALUE('Raw-Data 3'!N82) -> 0.565
A59: SWB.4 In general, how would you describe the present economic condition of South Sudan?
...

Sheet Well-being
A1: SH.1 Overall, how satisfied are you with your life these days?
E2: 2015 | G2: 2016
B3: 2015 | C3: 2016 | E3: (+) | F3: (-) | G3: (+) | H3: (-)
A4: Total | B4: =VALUE('Raw-Data 3'!B2) -> 3.359 | C4: =VALUE('Raw-Data 3'!B3) -> 2.428 | E4: ='Raw-Data 3'!D2-'Raw-Data 3'!B2 -> 0.307 | F4: ='Raw-Data 3'!B2-'Raw-Data 3'!C2 -> 0.307 | G4: ='Raw-Data 3'!D3-'Raw-Data 3'!B3 -> 0.261 | H4: ='Raw-Data 3'!B3-'Raw-Data 3'!C3 -> 0.261
A6: Poorest Quintile | B6: =VALUE('Raw-Data 3'!B8) -> 2.473 | C6: =VALUE('Raw-Data 3'!E8) -> 1.617 | E6: ='Raw-Data 3'!D8-'Raw-Data 3'!B8 -> 0.576 | F6: ='Raw-Data 3'!B8-'Raw-Data 3'!C8 -> 0.575 | G6: ='Raw-Data 3'!G8-'Raw-Data 3'!E8 -> 0.712 | H6: ='Raw-Data 3'!E8-'Raw-Data 3'!F8 -> 0.712
A7: Q2 | B7: =VALUE('Raw-Data 3'!B9) -> 3.27 | C7: =VALUE('Raw-Data 3'!E9) -> 2.363 | E7: ='Raw-Data 3'!D9-'Raw-Data 3'!B9 -> 0.649 | F7: ='Raw-Data 3'!B9-'Raw-Data 3'!C9 -> 0.65 | G7: ='Raw-Data 3'!G9-'Raw-Data 3'!E9 -> 0.544 | H7: ='Raw-Data 3'!E9-'Raw-Data 3'!F9 -> 0.544
A8: Q3 | B8: =VALUE('Raw-Data 3'!B10) -> 3.125 | C8: =VALUE('Raw-Data 3'!E10) -> 2.382 | E8: ='Raw-Data 3'!D10-'Raw-Data 3'!B10 -> 0.664 | F8: ='Raw-Data 3'!B10-'Raw-Data 3'!C10 -> 0.665 | G8: ='Raw-Data 3'!G10-'Raw-Data 3'!E10 -> 0.501 | H8: ='Raw-Data 3'!E10-'Raw-Data 3'!F10 -> 0.5
A9: Q4 | B9: =VALUE('Raw-Data 3'!B11) -> 4.23 | C9: =VALUE('Raw-Data 3'!E11) -> 2.701 | E9: ='Raw-Data 3'!D11-'Raw-Data 3'!B11 -> 0.581 | F9: ='Raw-Data 3'!B11-'Raw-Data 3'!C11 -> 0.58 | G9: ='Raw-Data 3'!G11-'Raw-Data 3'!E11 -> 0.491 | H9: ='Raw-Data 3'!E11-'Raw-Data 3'!F11 -> 0.492
A10: Richest Quintile | B10: =VALUE('Raw-Data 3'!B12) -> 3.574 | C10: =VALUE('Raw-Data 3'!E12) -> 2.736 | E10: ='Raw-Data 3'!D12-'Raw-Data 3'!B12 -> 0.427 | F10: ='Raw-Data 3'!B12-'Raw-Data 3'!C12 -> 0.427 | G10: ='Raw-Data 3'!G12-'Raw-Data 3'!E12 -> 0.401 | H10: ='Raw-Data 3'!E12-'Raw-Data 3'!F12 -> 0.4
A12: NonPoor | B12: =VALUE('Raw-Data 3'!B17) -> 3.72 | C12: =VALUE('Raw-Data 3'!E17) -> 2.701 | E12: ='Raw-Data 3'!D17-'Raw-Data 3'!B17 -> 0.313 | F12: ='Raw-Data 3'!B17-'Raw-Data 3'!C17 -> 0.313 | G12: ='Raw-Data 3'!G17-'Raw-Data 3'!E17 -> 0.368 | H12: ='Raw-Data 3'!E17-'Raw-Data 3'!F17 -> 0.367
A13: Poor | B13: =VALUE('Raw-Data 3'!B18) -> 2.876 | C13: =VALUE('Raw-Data 3'!E18) -> 2.26 | E13: ='Raw-Data 3'!D18-'Raw-Data 3'!B18 -> 0.442 | F13: ='Raw-Data 3'!B18-'Raw-Data 3'!C18 -> 0.442 | G13: ='Raw-Data 3'!G18-'Raw-Data 3'!E18 -> 0.346 | H13: ='Raw-Data 3'!E18-'Raw-Data 3'!F18 -> 0.346
A16: SH.6.1 On which step of the ladder would you say you personally feel you stand today?
E17: 2015 | G17: 2016
