Workbook
Name _Print_Area: '15PopDesserte'!$A$1:$K$8

Sheet Couverture
A1: ENQUETE DE BASE POUR LA MISE EN PLACE DU FINANCEMENT BASÉ SUR LES PERFORMANCES - SANTÉ | O1: IDENTIFICATION
A2: HAITI | O2: NUMÉRO DE L'AIRE DE DESSERTE | R2: NUMÉRO DU QUESTIONNAIRE F1
A3: 2015
A5: QUESTIONNAIRE DESTINE AUX ETABLISSEMENTS DE SANTE
A6: F1: QUESTIONNAIRE D'ÉVALUATION DES ETABLISSEMENTS DE SANTE
A8: SITUATION GÉOGRAPHIQUE
A10: Département | H10: Arrondissement | O10: Commune
A12: Section Communale | H12: Localité
B13: NOM DE L'ETABLISSEMENT DE SANTE: | N13: CODE DE L'ETABLISSEMENT DE SANTE :
B15: COORDONNEES GPS DE LA FORMATION SANITAIRE
C17: LATITUDE (NORD): | J17: .
C19: LONGITUDE (EST): | J19: .
C22: EMPLACEMENT | G22: URBAIN | I22: 1
G23: RURAL | I23: 2
A25: VISITES DES INSTITUTIONS SANITAIRES
A27: NOM DE L'ENQUÊTEUR: | N27: CODE:
A29: VISITE N° 1: | C29: JOUR | E29: MOIS | G29: ANNÉE | N29: QUESTIONNAIRE :
N30: ENTIEREMENT REMPLI | U30: 1
N31: PARTIELLEMENT REMPLI | U31: 2
A32: VISITE N° 2: | C32: JOUR | E32: MOIS | G32: ANNÉE | N32: LE RESPONSABLE A REFUSÉ L'ENTREVUE | U32: 3
N33: LE RESPONSABLE EST ABSENT ( LE PERSONNEL PRESENT N'EST PAS AUTORISÉ) | U33: 4
N34: LA FORMATION SANITAIRE EST VIDE (AUCUN MEMBRE DU PERSONNEL N'EST PRESENT) | U34: 5
A35: VISITE N° 3: | C35: JOUR | E35: MOIS | G35: ANNÉE | N35: AUTRE, PRÉCISER: _______________________ | U35: 7
A38: LANGUE UTILISEE
A40: ... PAR L'ENQUETEUR ? | G40: FRANÇAIS | L40: 1 | N40: TRADUCTEUR UTILISÉ?
G41: CREOLE | L41: 2
G42: AUTRE, PRÉCISER: | L42: 3 | N42: JAMAIS | R42: 1
A43: ... PAR LA PERSONNE INTERROGEE | N43: PARFOIS | R43: 2
N44: TOUJOURS | R44: 3
A46: CONSENTEMENT ECLAIRE, A RECUEILLIR AVANT LE DEBUT DE L'ENTREVUE
A47: L'ENQUETEUR DIT: Bonjour! Je m'appelle _______ , je travaille pour un projet de l'USAID qui appuie le Ministère de la Santé Publique et de la Population dans le renforcement des services de santé. Le Ministère de la santé nous a demandé de mener une enquête portant sur les institutions sanitaires en Haiti. Nous voulons déterminer le niveau général et la qualité des services de santé dans les institutions sanitaires d'Haiti. Si vous acceptez de de prendre part à cet exercice, votre confidentialité sera assurée. Les informations que vous allez fournir sont d'une importance capitale pour le Ministère de la Santé Publique et de la Population qui s'en servira pour améliorer les services de santé en Haiti. Voulez-vous prendre part à l'enquête aujourd'hui?
F52: OUI | H52: 1
F53: NON | H53: 2
A55: VERIFICATION DU QUESTIONNAIRE PAR LE SUPERVISEUR
K57: JOUR | M57: MOIS | O57: ANNÉE
A58: NOM : | G58: CODE:
A61: CETTE PAGE A ÉTÉ DÉLIBÉRÉMENT LAISSEE VIDE

Sheet 1General
A1: =-1 -> -1 | B1: Informations générales
A2: (A) | B2: Généralités | H2: NOTER LA RÉPONSE
A3: PERSONNE INTERROGÉE : RESPONSABLE DE L'ÉTABLISSEMENT DE SANTÉ OU SON ADJOINT SI ABSENT OU INDISPONIBLE
A4: =A1-0.01 -> -1.01 | B4: Cet établissement est-il sous votre responsabilité aujourd'hui ? | C4: OUI | E4: 1
C5: NON | E5: 2
A6: =A4-0.01 -> -1.02 | B6: Êtes-vous habilité à représenter cet établissement ? | C6: OUI | E6: 1
C7: NON | E7: 2
A8: =A6-0.01 -> -1.03 | B8: Quel est l'intitulé de votre poste dans cet établissement ? | C8: Directeur d'Institution / Administrateur | E8: 1
C9: Directeur médical | E9: 2
C10: Médecin Généraliste | E10: 3
C11: Médecin spécialiste | E11: 4
C12: Pharmacien | E12: 5
C13: Technicien de laboratoire | E13: 6
C14: Infirmière Sage-Femme | E14: 7
C15: Infirmière | E15: 8
C16: Auxiliaire-Infirmiere / Auxiliaire | E16: 9
C17: Autre, Specifier | E17: 96
A19: =A8-0.01 -> -1.04 | B19: Cet établissement est-il un HCR (Hopital Communautaire de Référence), un centre de santé avec lit (CAL), un centre de santé sans lit (CSL), ou un dispensaire ? | C19: Hôpital Communautaire de Référence (HCR) | E19: 1
C20: Centre de santé avec lit (CAL) | E20: 2
C21: Centre de santé sans lit (CSL) | E21: 3
C22: Dispensaire | E22: 4
C23: Autre, spécifier: | E23: 96
A24: =A19-0.01 -> -1.05 | B24: À qui appartient cet établissement de santé ? | C24: Secteur public (MSPP) | E24: 1
C25: Structure commerciale privée | E25: 2
C26: Organisation non gouvernementale | E26: 3
C27: Mission/organisme confessionnel | E27: 4
C28: Autre, spécifier: | E28: 96
A29: =A24-0.01 -> -1.06 | B29: En quelle année l'établissement a-t-il été achevé ? ENQUÊTEUR : NOTER L'ANNÉE AU FORMAT AAAA (ex.: 1941).
A30: =A29-0.01 -> -1.07 | B30: À quand remonte le dernier investissement important réalisé dans les infrastructures ? ENQUÊTEUR : NOTER LE MOIS ET L'ANNÉE. COMPTER LES GROS TRAVAUX DE PEINTURE, LA PLOMBERIE, LES TRAVAUX D'AGRANDISSEMENT, ETC. | C30: a. | D30: MOIS MM
C31: b. | D31: ANNÉE a-t-ilA
D32: SI LE DERNIER INVESTISSEMENT REMONTE À PLUS D'UN AN, NE NOTER QUE L'ANNÉE
A33: =A30-0.01 -> -1.08 | B33: Cet établissement dispense-t-il des soins 24h/24 ? | C33: OUI / OFFICIELLEMENT | E33: 1 | F33: ► | G33: =A44 -> -1.11
C34: OUI / DANS LA PRATIQUE | E34: 2 | F34: ► | G34: =A44 -> -1.11
C35: NON | E35: 3
A36: =A33-0.01 -> -1.09 | B36: À quelle heure commencent les consultations externes ? | C36: a. | D36: Semaine
B37: ENQUÊTEUR : NOTER L'HEURE AU FORMAT À 4 CHIFFRES (EX. : 0700, 1900, ETC.) | C37: b. | D37: Samedi
C38: c. | D38: Dimanche
C39: d. | D39: Vacances
A40: =A36-0.01 -> -1.1 | B40: À quelle heure se terminent les consultations externes ? | C40: a. | D40: Semaine
B41: ENQUÊTEUR : NOTER L'HEURE AU FORMAT À 4 CHIFFRES (EX. : 0700, 1900, ETC.) | C41: b. | D41: Samedi
...

Sheet 2Admin
A1: =-2 -> -2 | B1: Administration et gestion | H1: NOTER LA RÉPONSE
A2: PERSONNE INTERROGÉE : RESPONSABLE DE L'ÉTABLISSEMENT DE SANTÉ OU SON ADJOINT SI ABSENT OU INDISPONIBLE
A3: =A1-0.01 -> -2.01 | B3: Y a-t-il un comité de gestion du HCR/centre de santé/Dispensaire pour cet établissement ? | C3: OUI | E3: 1
C4: NON | E4: 2 | F4: ► | G4: =A41 -> -2.08
A5: =A3-0.01 -> -2.02 | B5: Combien de membres y a-t-il dans ce comité ?
A6: =A5-0.01 -> -2.03 | B6: Quels groupes, parmi les suivants, sont représentés dans ce comité ? | C6: a. | D6: Direction de l'établissement
C7: b. | D7: Personnel de l'établissement
B8: ENQUÊTEUR : LIRE À HAUTE VOIX LES RÉPONSES POSSIBLES. POUR CHACUNE D'ELLES, NOTER "1" POUR OUI, "2" POUR NON. | C8: c. | D8: Comités sanitaires de quartier
C9: d. | D9: Agents de santé communautaires
C10: e. | D10: Ministère de la Santé / Services de Santé du departement
C11: f. | D11: Organisations non gouvernementales
C12: g. | D12: Autre, préciser :
A13: =A6-0.01 -> -2.04 | B13: Au cours des 12 derniers mois, combien de réunions du comité de direction de l'hôpital/centre de santé ont eu lieu ?
A14: =A13-0.01 -> -2.05 | B14: L'établissement conserve-t-il des archives sur les réunions du comité de gestion (procès-verbaux, décisions, etc.) ? | C14: OUI, VUE | E14: 1
C15: OUI, PAS VUE | E15: 2
C16: NON | E16: 3
A17: =A14-0.01 -> -2.06 | B17: Quelles initiatives ont été prises par le comité de direction et mises en œuvre au cours des 12 derniers mois ? | C17: a. | D17: A FOURNI UN APPUI ADMINISTRATIF À L'ÉTABLISSEMENT, PAR EX. APPROBATION DE PAIEMENTS
C18: b. | D18: A PROCURÉ DE NOUVELLES FOURNITURES OU MATÉRIELS
C19: c. | D19: A FOURNI DE NOUVELLES INFRASTRUCTURES
C20: d. | D20: A FAIT DES TRAVAUX DE RÉPARATIONS
B21: ENQUÊTEUR : NE PAS LIRE À HAUTE VOIX LES RÉPONSES POSSIBLES. NOTER "1" POUR CHAQUE RÉPONSE CITÉE, "2" POUR CHAQUE RÉPONSE NON CITÉE. | C21: e. | D21: A FOURNI DES MÉDICAMENTS
C22: f. | D22: A SENSIBILISÉ / ENCOURAGÉ LA POPULATION À UTILISER L'ÉTABLISSEMENT
C23: g. | D23: A FOURNI DES MOYENS DE TRANSPORT PERMETTANT AU PERSONNEL DE FAIRE DES VISITES À DOMICILE
C24: h. | D24: A DONNÉ DES CONTRIBUTIONS EN NATURE
C25: i. | D25: A AMÉLIORÉ LA SÉCURITÉ DE L'ÉTABLISSEMENT
C26: j. | D26: A AMÉLIORÉ LA QUALITÉ DE L'EAU
C27: k. | D27: A AMÉLIORÉ L'ALIMENTATION EN EAU (QUANTITÉ)
C28: l. | D28: A FINANCÉ DES FORMATIONS POUR LES AGENTS DE SANTÉ COMMUNAUTAIRES
C29: m. | D29: A FINANCÉ DES ÉQUIPES MOBILES
C30: n. | D30: A VÉRIFIÉ LES RÉSULTATS OBTENUS PAR L'ÉTABLISSEMENT EN MATIÈRE DE SANTÉ MATERNELLE ET INFANTILE
C31: o. | D31: HYGIÈNE DU MILIEU (EX. : DESTRUCTION DES LIEUX DE REPRODUCTION DES MOUSTIQUES)
C32: p. | D32: PULVÉRISATION D'INSECTIDE À EFFET RÉMANENT DANS LES BÂTIMENTS
C33: q. | D33: DÉPISTAGE DE MALADIES
... C37: u. | D37: AUTRE, PRÉCISER :
A38: =A17-0.01 -> -2.07 | B38: Un budget a-t-il été établi pour l'établissement pour l'exercice en cours ? | C38: OUI, VU | E38: 1
C39: OUI, PAS VU | E39: 2
B40: ENQUÊTEUR : DEMANDER À VOIR LE BUDGET. | C40: NON | E40: 3
A41: =A38-0.01 -> -2.08 | B41: Un plan d'activités a-t-il été établi pour l'établissement pour l'exercice en cours ? | C41: OUI, VU | E41: 1
C42: OUI, PAS VU | E42: 2
B43: ENQUÊTEUR : DEMANDER À VOIR LE PLAN D'ACTIVITÉS. | C43: NON | E43: 3 | F43: ► | G43: =A57 -> -2.11
...

Sheet 3HRM
A1: =-3 -> -3 | B1: Ressources humaines
A2: PERSONNE INTERROGÉE : RESPONSABLE DES RESSOURCES HUMAINES, RESPONSABLE DE L'ÉTABLISSEMENT DE SANTÉ OU EMPLOYÉ LE MIEUX INFORMÉ
A3: (A) | B3: Gestion des ressources humaines | H3: NOTER LA RÉPONSE
A4: =A1-0.01 -> -3.01 | B4: Qui est habilité à recruter de nouveaux employés ? | C4: a. | D4: Directeur/responsable de l'établissement de santé
C5: b. | D5: Personnel de l'établissement
C6: c. | D6: Ministère de la Santé / Services de la Direction Departementale Sanitaire
C7: d. | D7: Autorités locales
C8: e. | D8: Organisation non gouvernementale
C9: f. | D9: Agents de santé communautaires
C10: g. | D10: Autre, spécifier:
A11: =A4-0.01 -> -3.02 | B11: Qui est habilité à licencier des employés ? | C11: a. | D11: Directeur/responsable de l'établissement de santé
C12: b. | D12: Personnel de l'établissement
C13: c. | D13: Ministère de la Santé / Services de la Direction Departementale Sanitaire
B14: ENQUÊTEUR : LIRE À HAUTE VOIX LES RÉPONSES POSSIBLES. POUR CHACUNE D'ELLES, NOTER "1" POUR OUI, "2" POUR NON. | C14: d. | D14: Autorités locales
C15: e. | D15: Organisation non gouvernementale
C16: f. | D16: Agents de santé communautaires
C17: g. | D17: Autre, spécifier:
A18: =A11-0.01 -> -3.03 | B18: Qui est habilité à fixer la rémunération des employés ? | C18: a. | D18: Directeur/responsable de l'établissement de santé
C19: b. | D19: Personnel de l'établissement
C20: c. | D20: Ministère de la Santé / Services de la Direction Departementale Sanitaire
C21: d. | D21: Autorités locales
B22: ENQUÊTEUR : LIRE À HAUTE VOIX LES RÉPONSES POSSIBLES. POUR CHACUNE D'ELLES, NOTER "1" POUR OUI, "2" POUR NON. | C22: e. | D22: Organisation non gouvernementale
C23: f. | D23: Agents de santé communautaires
C24: g. | D24: Autre, spécifier:
A25: ="FOR EACH TYPE OF POSITION LISTED BELOW, ASK QUESTIONS "& TEXT(D26,"0.00_);(0.00)")&" TO "& TEXT(I26,"0.00_);(0.00)")&". IF ZERO, RECORD 0." -> FOR EACH TYPE OF POSITION LISTED BELOW, ASK QUESTIONS (3.04) TO (3.07). IF ZERO, RECORD 0.
B26: TYPE DE POSTE | D26: =A18-0.01 -> -3.04 | E26: =D26-0.01 -> -3.05 | G26: =E26-0.01 -> -3.06 | I26: =G26-0.01 -> -3.07
D27: Combien y a-t-il de postes autorisés dans l'établissement pour des [TYPE DE POSTE]s ? | E27: Combien de postes autorisés pour des [TYPE DE POSTE]s sont actuellement pourvus ? | G27: Au cours des 12 derniers mois, combien de [TYPE DE POSTE]s ont quitté définitivement l'établissement ? | I27: Combien de [TYPE DE POSTE]s travaillent régulièrement dans cet établissement sans être titulaire d'un poste autorisé ?
B28: Directeur d'Institution / Administrateur | C28: a.
B29: Directeur médical | C29: b.
B30: Médecin généraliste | C30: c.
B31: Médecin spécialiste | C31: d.
B32: Pharmacien | C32: e.
B33: Technicien de laboratoire | C33: f.
B34: Infirmière Sage-Femme | C34: g.
B35: Infirmière | C35: h.
B36: Auxiliaire-infirmière / auxiliaire | C36: i.
B37: Autre, spécifier: | C37: j.
A38: (B) | B38: Agents de santé communautaires | H38: NOTER LA RÉPONSE
A39: =I26-0.01 -> -3.08 | B39: Combien de communes sont couverts par cet établissement ?
A40: =A39-0.01 -> -3.09 | B40: Y a-t-il des agents de santé communautaires en activité dans la zone de couverture de cet établissement ? | C40: OUI | E40: 1
...

Sheet 4Roster
A1: =-4 -> -4 | B1: Liste du personnel de l'établissement
B3: PERSONNES CONCERNÉES : TOUS LES MEMBRES DU PERSONNEL, QU'ILS SOIENT TEMPORAIRES OU PERMANENTS, SOIGNANTS OU NON, À COMMENCER PAR LE RESPONSABLE DE L'ÉTABLISSEMENT
B4: PERSONNE INTERROGÉE : RESPONSABLE DE L'ÉTABLISSEMENT OU EMPLOYÉ LE MIEUX INFORMÉ
B6: =A1-0.01 -> -4.01 | C6: =B6-0.01 -> -4.02 | E6: =C6-0.01 -> -4.03 | F6: =E6-0.01 -> -4.04 | G6: =F6-0.01 -> -4.05 | I6: =G6-0.01 -> -4.06 | P6: =I6-0.01 -> -4.07 | Q6: =P6-0.01 -> -4.08 | R6: =Q6-0.01 -> -4.09 | T6: =R6-0.01 -> -4.1 | U6: =T6-0.01 -> -4.11 | V6: =U6-0.01 -> -4.12 | W6: =V6-0.01 -> -4.13 | Y6: =W6-0.01 -> -4.14 | AC6: =Y6-0.01 -> -4.15 | AE6: =AC6-0.01 -> -4.16
A7: CODE D'IDENTIFICATION | B7: ENQUÊTEUR : INSCRIRE LES NOM ET PRÉNOM DE TOUTES LES PERSONNES TRAVAILLANT DANS L'ÉTABLISSEMENT. POUR CHACUNE D'ELLES, POSER TOUTES LES QUESTIONS DE CETTE SECTION, PUIS PASSER À LA PERSONNE SUIVANTE. S'IL Y A PLUS DE 21 EMPLOYÉS, UTILISER UN DEUXIÈME QUESTIONNAIRE. | C7: SEXE DE [NOM] | E7: CODE D'ID. DU RÉPONDANT | F7: Âge de [NOM] | G7: Quel est le diplôme le plus élevé obtenu par [NOM] ? | I7: Quel poste occupe [NOM] dans cet établissement ? | P7: En quelle année [NOM] a-t-il/elle obtenu son diplôme ? | Q7: En quelle année [NOM] a-t-il/elle été affecté(e) à son poste dans cet établissement ? | R7: Est-ce que cette personne est fonctionnaire de l'Etat, contractuel de l'Etat ou autre contractuel ? | T7: Combien de jours par semaine [NOM] travaille-t-il/elle habituellement dans cet établissement de santé ? | U7: Combien d'heures par semaine [NOM] travaille-t-il/elle habituellement dans cet établissement de santé ? | V7: Combien d'heures par semaine [NOM] passe-t-il/elle habituellement à dispenser des soins médicaux directement à des patients ? | W7: [NOM] a-t-il/elle aussi une clientèle privée ? | Y7: [NOM] est-il/elle présent(e) aujourd'hui ? | AC7: Pourriez-vous me dire pourquoi [NOM] n'est pas là aujourd'hui ? | AE7: Quels services assure [NOM] aujourd'hui ?
I8: Professions médicales/paramédicales
I9: Directeur d'Institution / Administrateur | J9: 1 | L9: Gardien | M9: 14 | AE9: ENQUÊTEUR : NOTER JUSQU'À 5 SERVICES. EN CAS DE SOINS PÉDIATRIQUES POSTNATALS ASSOCIÉS À DE LA PÉDIATRIE PRÉVENTIVE (EX. : VACCINATIONS), NOTER "03" POUR SOINS PÉDIATRIQUES POSTNATALS.
G10: Diplôme de fin d'études primaires | H10: 1 | I10: Directeur médical | J10: 2 | L10: Menagere | M10: 15 | AC10: ►PROFESSIONNEL SUIVANT
I11: Médecin généraliste | J11: 3 | L11: Agent de Santé Communautaire | M11: 16
G12: Diplôme de fin d'études secondaires | H12: 2 | L12: Matrone | M12: 17 | AC12: PAS DE GARDE | AD12: 1
I13: Médecin spécialiste | J13: 4 | L13: Autre poste non médical/paramédical | M13: 18 | Q13: ENQUÊTEUR : NOTER L'ANNÉE AU FORMAT AAAA (EX. : 1985) | AC13: EN CONGÉ MALADIE | AD13: 2
G14: Certificat/Diplôme | H14: 3 | I14: Pharmacien | J14: 5 | L14: Autre | M14: 19 | AC14: EN FORMATION | AD14: 3 | AE14: SOINS PRÉNATALS | AI14: 1
G15: Licence | H15: 3 | I15: Technicien de laboratoire | J15: 6 | AC15: EN CONGÉ MATERNITÉ | AD15: 4 | AE15: ACCOUCHEMENTS | AI15: 2
G16: Maîtrise | H16: 4 | I16: Infirmiere Sage-Femme | J16: 7 | AC16: AUTRE ABSENCE AUTORISÉE | AD16: 5 | AE16: SOINS PÉDIATRIQUES POSTNATALS | AI16: 3
G17: Doctorat | H17: 5 | AE17: SOINS MATERNELS POSTNATALS | AI17: 4
I18: Infirmiere | J18: 8 | V18: ENQUÊTEUR : NOTER "00" SI PROF. NON MÉDICALE | AC18: EN RETARD | AD18: 6 | AE18: PÉDIATRIE PRÉVENTIVE | AI18: 5
G19: Troisième cycle universitaire | H19: 6 | I19: Auxiliaire-Infirmiere/Infirmiere | J19: 9 | AC19: ABSENCE NON AUTORISÉE | AD19: 7 | AE19: PÉDIATRIE CURATIVE | AI19: 6
G20: Études post-doctorales | H20: 7 | AE20: MÉDECINE CURATIVE ADULTES | AI20: 7
G21: Pas d'études | H21: 10 | I21: Travailleur Social | J21: 10 | AC21: CONGÉS ANNUELS | AD21: 96 | AE21: CONSEIL ET DÉPISTAGE VOLONTAIRES | AI21: 8
G22: Autre, spécifier: | H22: 96 | I22: Psychologue | J22: 11 | AC22: AUTRE (PRÉCISER) | AD22: 96 | AE22: SERVICES NON MÉDICAUX (ADMIN., RÉCEPTION, ETC.) | AI22: 9
I23: Conseiller | J23: 12
C24: HOMMES | D24: 1 | W24: OUI | X24: 1 | Y24: OUI | Z24: 1 | AA24: ► | AB24: =AE6 -> -4.16
B25: NOM ET PRÉNOM | C25: FEMMES | D25: 2 | F25: ANNÉES | I25: Personnel Administratif | J25: 13 | Q25: ANNÉE | T25: 7 MAXI. | U25: 168 MAXI. | V25: 168 MAXI. | W25: NON | X25: 2 | Y25: NON | Z25: 2 | AE25: A. | AF25: B. | AG25: C. | AH25: D. | AI25: E.
A26: 1
A27: =A26+1 -> 2
A28: =A27+1 -> 3
A29: =A28+1 -> 4
A30: =A29+1 -> 5
A31: =A30+1 -> 6
A32: =A31+1 -> 7
A33: =A32+1 -> 8
A34: =A33+1 -> 9
A35: =A34+1 -> 10
A36: =A35+1 -> 11
A37: =A36+1 -> 12
A38: =A37+1 -> 13
... A46: =A45+1 -> 21

Sheet 5Lab
A1: =-5 -> -5 | B1: Laboratoire
A2: PERSONNE INTERROGÉE : TECHNICIEN DE LABORATOIRE OU EMPLOYÉ LE MIEUX INFORMÉ
A3: CODE D'IDENTIFICATION DE LA PERSONNE INTERROGÉE DANS LA LISTE DU PERSONNEL
A4: =A1-0.01 -> -5.01 | B4: L'établissement assure-t-il des services d'analyses médicales ? | C4: OUI | D4: 1
C5: NON | D5: 2 | E5: ► | F5: ='6Services'!A4 -> -6.01
A6: (A) | B6: Analyses de laboratoire
C7: =A4-0.01 -> -5.02 | E7: =C7-0.01 -> -5.03 | G7: =E7-0.01 -> -5.04
C8: Pour chacune des analyses suivantes, dites-moi si vous êtes en mesure de la réaliser aujourd'hui, si vous étiez en mesure de la réaliser il y a 3 mois mais pas aujourd'hui, ou si vous n'êtes simplement pas en mesure de la réaliser (ni aujourd'hui, ni il y a 3 mois). | E8: Combien d'analyses du type […] ont été réalisées au cours des 3 derniers mois ? | G8: ENQUÊTEUR : NOTER LA SOURCE D'INFORMATION. NOTER UNE RÉPONSE POUR CHAQUE ANALYSE.
C9: ENQUÊTEUR : NOTER UNE RÉPONSE POUR CHAQUE ANALYSE. | E9: ENQUÊTEUR : POUR ZÉRO, NOTER "0". NOTER UNE RÉPONSE POUR CHAQUE ANALYSE.
C10: En mesure de réaliser cette analyse aujourd'hui | D10: 1 | G10: REGISTRES DES LABORATOIRES | H10: 1
C11: En mesure de réaliser cette analyse il y a 3 mois mais pas aujourd'hui | D11: 2 | G11: PAS DE REGISTRES DE LABORATOIRE DISPONIBLES, INFO. ORALE | H11: 2
C12: Pas en mesure de réaliser cette analyse, ni aujourd'hui ni il y a 3 mois | D12: 3
A13: a. | B13: Numération globules rouges et globules blancs
A14: b. | B14: Estimation du taux d'hémoglobine (hématocrite)
A15: c. | B15: Groupage sanguin et épreuve de compatibilité directe
A16: d. | B16: Diagnostic paludisme (goutte épaisse et frottis)/test de diagnostic rapide
A17: e. | B17: Diagnostic tuberculose par frottis
A18: f. | B18: Coloration de Gram
A19: g. | B19: Sérologie du VIH
A20: h. | B20: Sérologie de l'hépatite B
A21: i. | B21: Sérologie de l'hépatite C
A22: j. | B22: Sérologie de la syphilis (RPR ou VDRL)
A23: k. | B23: Protéines et glucose dans les urines (bandelettes)
A24: l. | B24: Test de grossesse
... A28: p. | B28: Tests de la fonction hépatique
A29: (B) | B29: Matériel de laboratoire | G29: NOTER LA RÉPONSE
A30: =G7-0.01 -> -5.05 | B30: Où se trouve le matériel de laboratoire ? | C30: Dans un laboratoire séparé | F30: 1
C31: Dans une pièce également utilisée pour d'autres activités | F31: 2
C33: Autre, spécifier: | F33: 96
A34: =A30-0.01 -> -5.06 | B34: ENQUÊTEUR : NOTER LE NOMBRE D'APPAREILS EN ÉTAT DE MARCHE. NOTER UNE RÉPONSE POUR CHAQUE APPAREIL. NOTER "98" S'IL N'Y A PAS D'APPAREIL DISPONIBLE EN ÉTAT DE MARCHE. | C34: a. Microscope
C35: b. Centrifugeuse
C36: c. Hémoglobinomètre
C37: d. Réfrigérateur pour conserver les réactifs
A38: =A34-0.01 -> -5.07 | B38: Y a-t-il un registre de laboratoire pour la tuberculose ? ENQUÊTEUR : SI OUI, DEMANDER À LE VOIR. | C38: OUI, VUE | F38: 1
C39: OUI, PAS VUE | F39: 2
C40: NON | F40: 3
A41: =A38-0.01 -> -5.08 | B41: Combien de techniciens de laboratoire sont formés à la recherche de bacilles acidorésistants (BAR) au microscope ? ENQUÊTEUR : VÉRIFIER QUE LE NOMBRE INDIQUÉ N'EST PAS SUPÉRIEUR AU NOMBRE TOTAL DE TECHNICIENS DE LABORATOIRE.

Sheet 6Services
A1: =-6 -> -6 | B1: Services
A2: PERSONNE INTERROGÉE : RESPONSABLE DE L'ÉTABLISSEMENT OU EMPLOYÉ LE MIEUX INFORMÉ
A3: (A) | B3: Services de vaccination | G3: NOTER LA RÉPONSE
A4: =A1-0.01 -> -6.01 | B4: Cet établissement assure-t-il des services de vaccination ? | C4: OUI | D4: 1
C5: NON | D5: 2 | E5: ► | F5: =A33 -> -6.14
A6: =A4-0.01 -> -6.02 | B6: Y a-t-il une pièce ou un endroit séparé pour les vaccinations ? | C6: OUI | D6: 1
C7: NON | D7: 2
A8: =A6-0.01 -> -6.03 | B8: Des séances de vaccination des enfants ont-elles lieu régulièrement dans l'établissement ou sur le terrain ? | C8: Dans l'établissement uniquement | D8: 1
C9: Sur le terrain uniquement | D9: 2
C10: Dans l'établissement et sur le terrain | D10: 3
A11: =A8-0.01 -> -6.04 | B11: Y a-t-il un programme de vaccinations sur le terrain pour l'année en cours ? | C11: OUI | D11: 1
C12: NON | D12: 2
A13: =A11-0.01 -> -6.05 | B13: Au cours des 30 derniers jours, combien de jours l'équipe de l'établissement est-elle allée sur le terrain pour des séances de vaccination ?
A14: =A13-0.01 -> -6.06 | B14: Cet établissement a-t-il un/une [MOYEN DE STOCKAGE] pour conserver les vaccins ? | C14: a. Réfrigérateur
C15: b. Briquette Congelé
B16: ENQUÊTEUR : LIRE À HAUTE VOIX LES RÉPONSES POSSIBLES. POUR CHACUNE D'ELLES, NOTER "1" SI L'ÉTABLISSEMENT POSSÈDE CE MOYEN DE STOCKAGE, SINON "2". | C16: c. Glacière porte-vaccins
A18: =A14-0.01 -> -6.07 | B18: Des relevés de température sont-ils réalisés ? ENQUÊTEUR : SI OUI, DEMANDER À LES VOIR. | C18: OUI, VUE | D18: 1
C19: OUI, PAS VUE | D19: 2
C20: NON | D20: 3 | E20: ► | F20: =A24 -> -6.11
A21: =A18-0.01 -> -6.08 | B21: Au cours des 7 derniers jours, combien de jours la température a-t-elle été relevée ?
A22: =A21-0.01 -> -6.09 | B22: Au cours des 7 derniers jours, combien de fois la température a-t-elle été relevée au total ?
A23: =A22-0.01 -> -6.1 | B23: Au cours des 7 derniers jours, combien de jours la température relevée a-t-elle été supérieure à 8°C ou inférieure à 2°C ?
A24: =A23-0.01 -> -6.11 | B24: Des fiches de vaccination sont-elles créées pour tout enfant commençant son programme de vaccination ? | C24: OUI | D24: 1
C25: NON | D25: 2 | E25: ► | F25: =A33 -> -6.14
A26: =A24-0.01 -> -6.12 | B26: Après qu'un enfant a commencé son programme de vaccination, où les fiches de vaccination sont-elles conservées ? | C26: Donnée à la personne qui s'occupe de l'enfant, qui doit la rapporter à la consultation suivante | D26: 1 | E26: ► | F26: =A33 -> -6.14
C27: Conservée dans l'établissement | D27: 2
C28: Un exemplaire donné à la personne s'occupant de l'enfant, un autre conservé dans l'établissement | D28: 3
C29: Autre, spécifier: | D29: 96 | E29: ► | F29: =A33 -> -6.14
A30: =A26-0.01 -> -6.13 | B30: Pourriez-vous me montrer quelques fiches de vaccination de patients ? | C30: VUES | D30: 1
C31: PAS VUES | D31: 2
A32: (B) | B32: Services de soins prénatals | G32: NOTER LA RÉPONSE
A33: =A30-0.01 -> -6.14 | B33: L'établissement dispense-t-il des services de soins prénatals ? | C33: OUI | D33: 1
C34: NON | D34: 2 | E34: ► | F34: =A55 -> -6.23
A35: =A33-0.01 -> -6.15 | B35: Les consultations des femmes enceintes ont-elles lieu à des horaires différents des consultations des autres patients ? | C35: OUI | D35: 1
C36: NON | D36: 2
A37: =A35-0.01 -> -6.16 | B37: Au cours des 30 derniers jours, combien de jours l'établissement a-t-il dispensé des consultations prénatales ? | C37: 30 JOURS MAXIMUM
A38: =A37-0.01 -> -6.17 | B38: Au cours des 6 derniers mois, combien de fois l'établissement a-t-il organisé des réunions avec des accoucheuses traditionnelles ?
A39: =A38-0.01 -> -6.18 | B39: Au cours des 6 derniers mois, combien de jours le personnel de l'établissement a-t-il assuré des consultations prénatales sur le terrain ?
A40: =A39-0.01 -> -6.19 | B40: Au cours des 6 derniers mois, du fer et de l'acide folique ont-ils été prescrits aux femmes enceintes ? ENQUÊTEUR : VÉRIFIER LES DOSSIERS. EN CAS D'ABSENCE DE DOSSIERS, DEMANDER AU RESPONSABLE. NOTER LA RÉPONSE SELON QUE LES DOSSIERS ONT ÉTÉ VUS OU PAS. | C40: DOSSIERS VUS : Systématiquement | D40: 1
C41: DOSSIERS VUS : Parfois | D41: 2
...

Sheet 7GenHMIS
A1: =-7 -> -7 | B1: Système d'information sanitaire | G1: NOTER LA RÉPONSE
A2: PERSONNE INTERROGÉE : RESPONSABLE DE L'ÉTABLISSEMENT OU EMPLOYÉ LE MIEUX INFORMÉ
A3: =A1-0.01 -> -7.01 | B3: Avez-vous une estimation de la taille du bassin de population couvert par cet établissement, c'est-à-dire le nombre d'habitants ciblés ou la population totale du secteur géographique desservis par cet établissement ? | C3: OUI | D3: 1
C4: NON | D4: 2 | E4: ► | F4: =A13 -> -7.03
A5: =A3-0.01 -> -7.02 | B5: Combien de personnes compte la [CATÉGORIE DE POPULATION] ? | C5: a. Population totale
C6: b. Population masculine totale
C7: c. Population féminine totale
C8: d. Population féminine âgée de 15 à 49 ans, c'est-à-dire en âge de procréer
C9: e. Population totale d'enfants de moins de 5 ans
C10: f. Population totale d'enfants de moins de 1 an
A11: J'aimerais maintenant voir le registre (rapport SIS et autres) montrant le nombre total de patients pris en charge dans cet établissement durant le dernier mois civil complet
A12: Enquêteur: consulter le Rapport SIS et Autre Rapport Mensuel pour compléter les questions 7.03 à 7.12 | G12: NOTER LA RÉPONSE
A13: =A5-0.01 -> -7.03 | B13: Nombre TOTAL de patients
A14: =A13-0.01 -> -7.04 | B14: Nombre TOTAL de patients de sexe masculin
A15: =A14-0.01 -> -7.05 | B15: Nombre TOTAL de patients de sexe féminin
A16: =A15-0.01 -> -7.06 | B16: Nombre TOTAL de femmes vues en clinique prénatale (CPN)
A17: =A16-0.01 -> -7.07 | B17: Nombre TOTAL de patients de moins de 5 ans
A18: =A17-0.01 -> -7.08 | B18: Nombre TOTAL de garçons de moins de 5 ans
A19: =A18-0.01 -> -7.09 | B19: Nombre TOTAL de filles de moins de 5 ans
A20: =A19-0.01 -> -7.1 | B20: Nombre TOTAL de patients de moins de 1 an
A21: =A20-0.01 -> -7.11 | B21: Nombre TOTAL de garçons de moins de 1 an
A22: =A21-0.01 -> -7.12 | B22: Nombre TOTAL de filles de moins de 1 an
A23: =A22-0.01 -> -7.13 | B23: Rapport d'activités mensuel du systeme d'information sanitaire (SIS) | C23: VU, COMPLET | F23: 1
C24: VU, INCOMPLET | F24: 2
C25: PAS VUES | F25: 3
A26: =A23-0.01 -> -7.14 | B26: Rapport sur les maladies à déclaration obligatoire (demander le rapport envoyé à Direction d'Epidemiologie de Laboratoire et de Recherche, du MSPP). | C26: VU, COMPLET | F26: 1
C27: VU, INCOMPLET | F27: 2
C28: PAS VUES | F28: 3
A29: =A26-0.01 -> -7.15 | B29: Rapport sur la couverture vaccinale | C29: VU, COMPLET | F29: 1
C30: VU, INCOMPLET | F30: 2
C31: PAS VUES | F31: 3
A32: =A29-0.01 -> -7.16 | B32: Registre de planification familiale | C32: VU, COMPLET | F32: 1
C33: VU, INCOMPLET | F33: 2
C34: PAS VUES | F34: 3

Sheet 8 Syst d'info
A1: =-8 -> -8 | B1: Utilisation des services de santé d'après le système d'information sanitaire
A2: PERSONNE INTERROGÉE : RESPONSABLE DE L'ÉTABLISSEMENT OU EMPLOYÉ LE MIEUX INFORMÉ
A3: J'aimerais vous poser quelques questions sur les services de santé disponibles.
A4: Posez les questions de 8.01 a 8.04 pour chaque service, avant de passer au service suivant. | C4: =A1-0.01 -> -8.01 | E4: =C4-0.01 -> -8.02 | F4: =E4-0.01 -> -8.03 | H4: =F4-0.01 -> -8.04
C5: Cet établissement propose-t-il les services suivants dans l'établissement ou sur le terrain ? ENQUÊTEUR : NOTER LA RÉPONSE POUR L'ÉTABLISSEMENT ET POUR LE TERRAIN. | E5: Combien de jours par semaine ce service est-il proposé ? | F5: Quel est le prix total facturé en gourdes pour ce type de service ? ENQUÊTEUR : SI GRATUIT, NOTER "0" | H5: ENQUÊTEUR : POUR CHAQUE SERVICE, NOTER LE NOMBRE TOTAL MENSUEL DES PATIENTS HOSPITALISÉS (HOP) ET EXTERNES (EXT) INSCRITS DANS LE REGISTRE, POUR LES 6 DERNIERS MOIS AYANT PRÉCÉDÉ LE MOIS DE L'ENQUÊTE (EX. : SI L'ON EST LE 13 SEPTEMBRE, NOTER LES PATIENTS POUR LA PÉRIODE DU 1ER MARS AU 31 AOÛT POUR AVOIR 6 MOIS COMPLETS).
E10: ENQUÊTEUR : SI SEULEMENT SUR RDV, NOTER 8 ; SI SANS OBJET, NOTER 97.
C12: OUI | D12: 1
C13: NON | D13: 2
C15: Établissement | D15: Terrain | H15: MOIS 1 | J15: MOIS 2 | L15: MOIS 3 | N15: MOIS 4 | P15: MOIS 5 | R15: MOIS 6
A16: SERVICES | F16: GOURDES | G16: UNITÉ | H16: HOP | I16: EXT | J16: HOP | K16: EXT | L16: HOP | M16: EXT | N16: HOP | O16: EXT | P16: HOP | Q16: EXT | R16: HOP | S16: EXT
B17: Planification familiale/santé procréative
A18: a. | B18: Pilule contraceptive | G18: par consultation initiale
A19: b. | B19: Injection | G19: par consultation
A20: c. | B20: Pose implant | G20: par pose
A21: d. | B21: Préservatifs masculins | G21: par consultation
A22: e. | B22: Pose stérilet | G22: par pose
A23: f. | B23: Stérilisation féminine | G23: par opération
A24: g. | B24: Stérilisation masculine | G24: par opération
A25: h. | B25: Soins prénatals | G25: par consultation
B26: Accouchement
A27: i. | B27: Accouchement spontané par voie basse | G27: par accouchement
A28: j. | B28: Césarienne | G28: par accouchement
A29: k. | B29: Accouchement assisté (forceps, ventouse) | G29: par accouchement
A30: l. | B30: Accouchement à domicile avec matrone | G30: par accouchement
A31: m. | B31: Soins postnatals | G31: par consultation
B32: Vaccination
A33: n. | B33: Bacille Calmette-Guérin (BCG) | G33: par injection
A34: o. | B34: Pentavalent, 1e injection (DCT, hépatite B, Hemophilus influenzae B) | G34: par injection
A35: p. | B35: Pentavalent, 2e injection (DCT, hépatite B, Hemophilus influenzae B) | G35: par injection
A36: q. | B36: Pentavalent, 3e injection (DCT, hépatite B, Hemophilus influenzae B) | G36: par injection
A37: r. | B37: Anti-polio, 1ere dose | G37: par injection
A38: s. | B38: Anti-polio, 2e dose | G38: par injection
A39: t. | B39: Anti-polio, 3e dose | G39: par injection
A40: u. | B40: Antirougeoleux, 1e injection (<1 an) | G40: par injection
A41: v. | B41: Anti-tétanique aux femmes enceintes | G41: par injection
A42: Posez les questions de 8.01 a 8.04 pour chaque service, avant de passer au service suivant. | C42: =A1-0.01 -> -8.01 | E42: =C42-0.01 -> -8.02 | F42: =E42-0.01 -> -8.03 | H42: =F42-0.01 -> -8.04
C43: Cet établissement propose-t-il les services suivants dans l'établissement ou sur le terrain ? ENQUÊTEUR : NOTER LA RÉPONSE POUR L'ÉTABLISSEMENT ET POUR LE TERRAIN. | E43: Combien de jours par semaine ce service est-il proposé ? | F43: Quel est le prix total facturé en monnaie pour ce type de service ? ENQUÊTEUR : SI GRATUIT, NOTER "0" | H43: ENQUÊTEUR : POUR CHAQUE SERVICE, NOTER LE NOMBRE TOTAL MENSUEL DES PATIENTS HOSPITALISÉS (HOP) ET EXTERNES (EXT) INSCRITS DANS LE REGISTRE, POUR LES 6 DERNIERS MOIS AYANT PRÉCÉDÉ LE MOIS DE L'ENQUÊTE (EX. : SI L'ON EST LE 13 SEPTEMBRE, NOTER LES PATIENTS POUR LA PÉRIODE DU 1ER MARS AU 31 AOÛT POUR AVOIR 6 MOIS COMPLETS).
E48: ENQUÊTEUR : SI SEULEMENT SUR RDV, NOTER 8 ; SI SANS OBJET, NOTER 97.
C50: OUI | D50: 1
C51: NON | D51: 2
...

Sheet 9 Frais Patients
A1: =-9 -> -9 | B1: Frais des usagers | G1: NOTER LA RÉPONSE
A2: PERSONNE INTERROGÉE : RESPONSABLE DE L'ÉTABLISSEMENT OU EMPLOYÉ LE MIEUX INFORMÉ
A3: =A1-0.01 -> -9.01 | B3: Est-ce que les patients paient des frais de consultations ? Verifier la reponse a la question 1.14. | C3: OUI | D3: 1
C4: NON | D4: 2
A5: =A3-0.01 -> -9.02 | B5: Les patients ont-ils des frais à payer pour les analyses médicales ? | C5: OUI | D5: 1
C6: NON | D6: 2
A7: =A5-0.01 -> -9.03 | B7: Les patients ont-ils des frais à payer pour les examens radiologiques ? | C7: OUI | D7: 1
C8: NON | D8: 2
A9: =A7-0.01 -> -9.04 | B9: Les patients ont-ils des frais à payer pour les fournitures (ex. : compresses, seringues, etc.) ? | C9: OUI | D9: 1
C10: NON | D10: 2
A11: =A9-0.01 -> -9.05 | B11: Les patients ont-ils des frais à payer pour les médicaments ? | C11: OUI | D11: 1
C12: NON | D12: 2 | E12: ► | F12: =#REF! -> #REF!
A13: =A11-0.01 -> -9.06 | B13: Quel pourcentage du prix des médicaments est facturé aux patients ? ENQUÊTEUR : NOTER LE POURCENTAGE SANS LE SIGNE "%" (EX. : SI LE PATIENT PAYE 5 %, NOTER "05". S'IL PAYE 80 %, NOTER "80"). | C13: 100 MAXIMUM
A14: =A13-0.01 -> -9.07 | B14: Ce pourcentage facturé est-il basé sur le prix de gros ou sur le prix de détail ? | C14: Prix de gros | D14: 1
C15: Prix de détail | D15: 2
A16: =A14-0.01 -> -9.08 | B16: Par qui le montant des frais facturés aux patients a-t-il été fixé ? | C16: a. Directeur/responsable de l'établissement de santé
C17: b. Personnel de l'établissement de santé
B18: ENQUÊTEUR : LIRE À HAUTE VOIX TOUTES LES RÉPONSES POSSIBLES. POUR CHACUNE D'ELLES, NOTER "1" POUR OUI, OU "2" POUR NON | C18: c. Personnel d'une organisation non gouvernementale
C19: d. Ministère de la Santé (services centraux)
C20: e. Président / dirigeant de la coopérative des agents de santé communautaires
C21: f. Agents de santé communautaires
C22: g. Membres de la communauté
C23: h. Comité sanitaire
C24: i. Autre, préciser :
A25: =A16-0.01 -> -9.09 | B25: Au cours des 3 derniers mois, à quoi l'établissement a-t-il employé les recettes provenant des frais payés par les patients ? | C25: a. Infrastructures de l'établissement
C26: b. Matériel et fournitures de l'établissement
C27: c. Médicaments
C28: d. Programmes de l'établissement
B29: ENQUÊTEUR : LIRE À HAUTE VOIX TOUTES LES RÉPONSES POSSIBLES. POUR CHACUNE D'ELLES, NOTER "1" POUR OUI, OU "2" POUR NON | C29: e. Utilisation dans la communauté
C30: f. Reversées à un organisme gestionnaire
C31: g. Salaires du personnel
C32: h. Primes de résultats du personnel
C33: i. Reversées au gouvernement central
C34: j. Reversées à des services gouvernementaux décentralisés
C35: k. Autre, préciser :
A36: =A25-0.01 -> -9.1 | B36: Les catégories de personnes suivantes sont-elles dispensées du paiement des frais médicaux ? | C36: a. Veuves
C37: b. Enfants de moins de 5 ans
C38: c. Seniors (plus de 65 ans)
C39: d. Orphelins
C40: e. Patients atteints de la tuberculose
...

Sheet 10Leadership
A1: =-10 -> -10 | B1: Encadrement
A2: PERSONNE INTERROGÉE : RESPONSABLE DE L'ÉTABLISSEMENT DE SANTÉ UNIQUEMENT
A4: CODE D'IDENTIFICATION DE LA PERSONNE INTERROGÉE DANS LA LISTE DU PERSONNEL
A6: Dans cette partie du questionnaire, je souhaiterais savoir ce que vous feriez dans certaines situations concernant l'établissement Je vais vous lire plusieurs scénarios. Pour chacun d'eux, je vous proposerai 4 réponses possibles et vous choisirez celle qui se rapproche le plus de ce que vous feriez dans cette situation précise. Vous ne pouvez choisir qu'une réponse par scénario. Il n'y a pas de bonne ou de mauvaise réponse - nous voulons juste savoir comment aborderiez chaque situation.
A7: ENQUÊTEUR : À CHAQUE RÉPONSE EST ASSOCIÉ UN CODE DE 1 À 4. NOTER LE CODE CORRESPONDANT À LA RÉPONSE DONNÉE.
B8: SCÉNARIOS | C8: 1 | D8: 2 | E8: 3 | F8: 4 | G8: NOTER LA RÉPONSE (DE 1 À 4)
A9: =A1-0.01 -> -10.01 | B9: Scénario n°1 : Les performances de votre personnel s'améliorent. | C9: Vous insistez sur leurs responsabilités et les normes à respecter. | D9: Vous ne prenez aucune mesure particulière. | E9: Vous leur faites part des bons résultats obtenus et vous soulignez leur rôle. | F9: Vous soulignez l'importance des délais et des tâches à accomplir.
A10: =A9-0.01 -> -10.02 | B10: Scénario n°2 : Malgré leurs efforts, des membres de votre personnel n'ont pas réussi à résoudre un problème le mois dernier. | C10: Vous convoquez une réunion pour essayer de résoudre le problème ensemble. | D10: Vous laissez votre personnel régler le problème tout seul. | E10: Vous donnez à votre personnel des instructions sur la manière de résoudre le problème. | F10: Vous encouragez le groupe à résoudre le problème lui-même, et vous êtes disponible en cas de besoin pour en discuter.
A11: =A10-0.01 -> -10.03 | B11: Scénario n°3 : Vous envisagez un changement important dans le fonctionnement de l'établissement. | C11: Vous collaborez avec votre personnel pour définir les changements nécessaires. | D11: Vous annoncez votre vision des changements et vous appliquez un plan clairement établi. | E11: Vous demandez à votre personnel d'élaborer et mettre en œuvre son propre programme de changement. | F11: Vous consultez votre personnel, mais vous décidez vous-même des changements.
A12: =A11-0.01 -> -10.04 | B12: Scénario n°4 : Les performances de votre personnel sont en baisse ces derniers mois. | C12: Vous demandez à votre personnel de revoir ses orientations et ses objectifs et vous définissez un plan ensemble. | D12: Vous demandez à votre personnel de suggérer des mesures à prendre, et vous définissez un plan d'action pour atteindre les objectifs. | E12: Vous redéfinissez les objectifs clairement et vous les suivez de près. | F12: Vous laissez à votre personnel la liberté de définir ses propres objectifs, sans rien lui imposer.
A13: =A12-0.01 -> -10.05 | B13: Scénario n°5 : Votre personnel ne fait plus un bon travail d'équipe. | C13: Vous réfléchissez en groupe aux moyens de mieux travailler ensemble. | D13: Vous laissez votre personnel trouver des solutions tout seul. | E13: Vous agissez rapidement et fermement pour recadrer l'équipe. | F13: Vous vous rendez disponible pour discuter de tout problème éventuel et aider votre équipe à résoudre ses problèmes.

Sheet 11Autonomie
A1: =-11 -> -11 | B1: Autonomie
A2: PERSONNE INTERROGÉE : RESPONSABLE DE L'ÉTABLISSEMENT DE SANTÉ UNIQUEMENT
A4: CODE D'IDENTIFICATION DE LA PERSONNE INTERROGÉE DANS LA LISTE DU PERSONNEL
A6: Dans cette partie du questionnaire, je souhaiterais vous poser quelques questions concernant la manière dont le travail est organisé et dont les décisions sont prises dans cet établissement. Toutes les réponses sont confidentielles.
A7: Je vais maintenant vous lire une série d'affirmations sur le processus décisionnel et l'autorité dans cet établissement, et je voudrais que vous me disiez si vous estimez qu'elles sont justes la plupart du temps, plus de la moitié du temps, moins de la moitié du temps, rarement ou jamais. | J7: `
A8: MONTRER LES FICHES EN COULEUR NUMÉROTÉES ET DEMANDER À LA PERSONNE DE CHOISIR CELLE QUI CORRESPOND À SA RÉPONSE.
D9: CODAGE DES RÉPONSES
D10: TOUJOURS | G10: 1
D11: SOUVENT | G11: 2 | H11: NOTER LA RÉPONSE
D12: PARFOIS | G12: 3
D13: JAMAIS | G13: 4
A15: =A1-0.01 -> -11.01 | B15: J'arrive à allouer le budget de mon établissement en fonction des besoins. Il y a suffisamment de souplesse dans mon budget.
A16: =A15-0.01 -> -11.02 | B16: J'arrive à affecter les tâches et les activités au personnel de manière à atteindre les résultats que je veux dans l'établissement. Il y a suffisamment de souplesse pour employer le personnel de manière à répondre aux besoins.
A17: =A16-0.01 -> -11.03 | B17: Les services de santé du district appuient les décisions et les mesures que je prends pour améliorer le fonctionnement de mon établissement.
A18: =A17-0.01 -> -11.04 | B18: Je peux choisir qui j'affecte à telle ou telle tâche.
A19: =A18-0.01 -> -11.05 | B19: Je peux choisir quels services sont assurés dans l'établissement.
A20: =A19-0.01 -> -11.06 | B20: J'ai suffisamment de pouvoirs pour obtenir ce qu'il me faut (médicaments, fournitures, financements) pour répondre aux besoins de mon établissement.
A21: =A20-0.01 -> -11.07 | B21: Les politiques et les procédures établies sont claires.
A22: =A21-0.01 -> -11.08 | B22: Les politiques et les procédures établies sont des outils utiles pour résoudre les problèmes que je rencontre pour fournir les services et rendre compte des activités de l'établissement.
A23: =A22-0.01 -> -11.09 | B23: Les services de santé du district me fournissent un retour d'information suffisant sur mon travail et les performances de mon établissement.

Sheet 12 OBSERVA
A1: =-12 -> -12 | B1: Observation directe
A2: ENQUÊTEUR : IL N'Y A PAS DE PERSONNE À INTERROGER POUR CETTE PARTIE DU QUESTIONNAIRE. APRÈS EN AVOIR DEMANDÉ L'AUTORISATION, VOUS ALLEZ VOUS PROMENER DANS L'ÉTABLISSEMENT ET OBSERVER LES ASPECTS ÉTUDIÉS DANS CETTE PARTIE.
A3: (A) | B3: Généralités | H3: NOTER LA RÉPONSE
A4: =A1-0.01 -> -12.01 | B4: Y a-t-il une salle d'accueil/d'attente dans cet établissement ? ENQUÊTEUR : S'EN ASSURER PAR OBSERVATION DIRECTE. | C4: OUI | E4: 1
C5: NON | E5: 2
A6: =A4-0.01 -> -12.02 | B6: Y a-t-il une salle dans cet établissement où les consultations peuvent se dérouler sans que tout le monde voie et entende ce qui se passe ? ENQUÊTEUR : S'EN ASSURER PAR OBSERVATION DIRECTE. | C6: OUI | E6: 1
C7: NON | E7: 2
A8: =A6-0.01 -> -12.03 | B8: Y a-t-il une salle de petite chirurgie dans cet établissement ? ENQUÊTEUR : S'EN ASSURER PAR OBSERVATION DIRECTE. | C8: OUI | E8: 1
C9: NON | E9: 2
A10: =A8-0.01 -> -12.04 | B10: Y a-t-il des lits d'observation dans cet établissement ? ENQUÊTEUR : S'EN ASSURER PAR OBSERVATION DIRECTE. | C10: OUI | E10: 1
C11: NON | E11: 2 | F11: ► | G11: =A18 -> -12.09
A12: =A10-0.01 -> -12.05 | B12: ENQUÊTEUR : NOTER LE NOMBRE DE LITS D'OBSERVATION VUS. POUR ZÉRO, NOTER "0".
A14: =A12-0.01 -> -12.06 | B14: Y a-t-il des salles d'hospitalisation séparées pour les hommes et les femmes dans cet établissement ? ENQUÊTEUR : S'EN ASSURER PAR OBSERVATION DIRECTE. | C14: OUI | E14: 1
C15: NON | E15: 2 | F15: ► | G15: =A18 -> -12.09
A16: =A14-0.01 -> -12.07 | B16: Nombre de lits pour les hommes. ENQUÊTEUR : S'EN ASSURER PAR OBSERVATION DIRECTE.
A17: =A16-0.01 -> -12.08 | B17: Nombre de lits pour les femmes. ENQUÊTEUR : S'EN ASSURER PAR OBSERVATION DIRECTE.
A18: =A17-0.01 -> -12.09 | B18: Y a-t-il des toilettes en service accessibles aux patients ? ENQUÊTEUR : S'EN ASSURER PAR OBSERVATION DIRECTE. | C18: OUI | E18: 1
C19: NON | E19: 2
A20: =A18-0.01 -> -12.1 | B20: Y a-t-il des toilettes séparées pour les patients hommes et femmes ? ENQUÊTEUR : S'EN ASSURER PAR OBSERVATION DIRECTE. | C20: OUI | E20: 1
C21: NON | E21: 2
A22: =A20-0.01 -> -12.11 | B22: Y a-t-il des lits prévus pour les agents de santé qui font des gardes en dehors des horaires normaux, par ex. la nuit ? ENQUÊTEUR : S'EN ASSURER PAR OBSERVATION DIRECTE. | C22: OUI | E22: 1
C23: NON | E23: 2
A24: (B) | B24: Affichage des tarifs | H24: NOTER LA RÉPONSE
A25: =A22-0.01 -> -12.12 | B25: Y a-t-il dans l'établissement des écriteaux indiquant les tarifs des consultations externes ? ENQUÊTEUR : SI OUI, LES CHERCHER. | C25: OUI, VUE | E25: 1
C26: OUI, PAS VUE | E26: 2
C27: NON | E27: 3
A28: =A25-0.01 -> -12.13 | B28: Y a-t-il dans l'établissement des écriteaux indiquant les tarifs des analyses médicales pour les patients ? ENQUÊTEUR : SI OUI, LES CHERCHER. | C28: OUI, AFFICHÉS DE MANIÈRE VISIBLE | E28: 1
C29: OUI, PAS AFFICHÉS | E29: 2
C30: NON, PAS AFFICHÉS | E30: 3
A31: =A28-0.01 -> -12.14 | B31: Y a-t-il dans l'établissement des écriteaux indiquant les tarifs des examens radiologiques pour les patients ? ENQUÊTEUR : SI OUI, LES CHERCHER. | C31: OUI, AFFICHÉS DE MANIÈRE VISIBLE | E31: 1
C32: OUI, PAS AFFICHÉS | E32: 2
C33: NON, PAS AFFICHÉS | E33: 3
A34: =A31-0.01 -> -12.15 | B34: Y a-t-il dans l'établissement des écriteaux indiquant les tarifs des fournitures médicales pour les patients externes ? ENQUÊTEUR : SI OUI, LES CHERCHER. | C34: OUI, AFFICHÉS DE MANIÈRE VISIBLE | E34: 1
C35: OUI, PAS AFFICHÉS | E35: 2
C36: NON, PAS AFFICHÉS | E36: 3
A37: =A34-0.01 -> -12.16 | B37: Les informations suivantes sont-elles affichées de manière visible pour les patients ? | C37: a. | D37: Capacité hospitalière (nombre de lits)
B38: ENQUÊTEUR : POUR CHAQUE INFORMATION, DEMANDER À VOIR LES ÉCRITEAUX CORRESPONDANTS ET NOTER SELON LE CODAGE SUIVANT : | C38: b. | D38: Jours/horaires des services
C39: c. | D39: Rotation du personnel
B40: OUI ET VU………….1 | C40: d. | D40: Coordonnées du responsable
B41: OUI, PAS VU………..2 | C41: e. | D41: Procédure pour déposer une réclamation ou faire une suggestion
...

Sheet 13 OBSEquipment
A1: =-13 -> -13 | B1: Matériel (observation directe)
A2: ENQUÊTEUR : IL N'Y A PAS DE PERSONNE À INTERROGER POUR CETTE PARTIE DU QUESTIONNAIRE. APRÈS EN AVOIR DEMANDÉ L'AUTORISATION, VOUS ALLEZ VOUS PROMENER DANS L'ÉTABLISSEMENT ET OBSERVER LES ASPECTS ÉTUDIÉS DANS CETTE PARTIE.
B3: Matériel général | G3: NOTER LA RÉPONSE
A4: =A1-0.01 -> -13.01 | B4: Où se trouve le matériel utilisé pour les consultations externes ? | C4: Dans une salle séparée de consultations externes | F4: 1
C5: Dans une pièce également utilisée pour d'autres activités | F5: 2
C6: Autre, spécifier: | F6: 96
A7: =A4-0.01 -> -13.02 | B7: NOTER LA QUANTITÉ POUR CHAQUE TYPE DE MATÉRIEL. NOTER "98" S'IL N'Y A PAS DE MATÉRIEL DISPONIBLE EN ÉTAT DE MARCHE | G7: QUANTITÉ DISPONIBLE ET EN ÉTAT DE MARCHE
A8: a. | B8: Chronomètre ou horloge avec trotteuse
A9: b. | B9: Pèse-personne pour enfant
A10: c. | B10: Toise
A11: d. | B11: Mètre-ruban
A12: e. | B12: Pèse-personne pour adulte
A13: f. | B13: Tensiomètre
A14: g. | B14: Thermomètre
A15: h. | B15: Stéthoscope
A16: i. | B16: Foetoscope
A17: j. | B17: Otoscope
A18: k. | B18: Appareil de succion/aspiration
A19: l. | B19: Échelle d'acuité visuelle
... A31: x. | B31: Solution antiseptique
A32: Matériel de stérilisation | G32: NOTER LA RÉPONSE
A33: =A7-0.01 -> -13.03 | B33: Où se trouve le matériel de stérilisation ? | C33: Dans un local de stérilisation séparé | F33: 1
C34: Dans une pièce également utilisée pour d'autres activités | F34: 2
C35: Autre, spécifier: | F35: 96
A36: =A33-0.01 -> -13.04 | B36: NOTER LA QUANTITÉ POUR CHAQUE TYPE DE MATÉRIEL. NOTER "98" S'IL N'Y A PAS DE MATÉRIEL DISPONIBLE EN ÉTAT DE MARCHE | G36: QUANTITÉ DISPONIBLE ET EN ÉTAT DE MARCHE
A37: a. | B37: Autoclave électrique (pression et chaleur humide)
A38: b. | B38: Autoclave non électrique (pression et chaleur humide)
A39: c. | B39: Stérilisateur électrique à chaleur sèche
A40: d. | B40: Bouilloire électrique ou étuvoir (pas de pression)
A41: e. | B41: Marmite (non électrique) avec couvercle
A42: f. | B42: Source de chaleur pour matériel non électrique
A43: g. | B43: Minuteur (PEUT ÊTRE SUR LE MATÉRIEL)
A44: h. | B44: Bandes de contrôle du temps, de la vapeur et de la température (TST) ou autres indicateurs de stérilisation
A45: Matériel de vaccination | G45: NOTER LA RÉPONSE
A46: =A36-0.01 -> -13.05 | B46: Où se trouve le matériel de vaccination ? (MATÉRIEL DE VACCINATION : RÉFRIGÉRATEUR À VACCINS À KÉROSÈNE OU ÉLECTRIQUE, CAISSE ISOTHERME, GLACIÈRE PORTE-VACCINS) | C46: Dans une salle de vaccination séparée | F46: 1
C47: Dans une pièce également utilisée pour d'autres activités | F47: 2
C48: Autre, spécifier: | F48: 96
A49: =A46-0.01 -> -13.06 | B49: NOTER LA QUANTITÉ POUR CHAQUE TYPE DE MATÉRIEL. NOTER "98" S'IL N'Y A PAS DE MATÉRIEL DISPONIBLE EN ÉTAT DE MARCHE | G49: QUANTITÉ DISPONIBLE ET EN ÉTAT DE MARCHE
A50: a. | B50: Thermomètre à vaccins
A51: b. | B51: Caisse isotherme/glacière porte-vaccins
...

Sheet 14OBSMedicament
A1: =-14 -> -14 | B1: Médicaments et vaccins : entreposage et disponibilité
A2: PERSONNE INTERROGÉE : PHARMACIEN, RESPONSABLE DE L'ÉTABLISSEMENT OU EMPLOYÉ LE MIEUX INFORMÉ
A3: J'aimerais maintenant vous poser quelques questions sur l'entreposage et la disponibilité des médicaments dans cet établissement.
A4: =A1-0.01 -> -14.01 | B4: Les entités suivantes sont-elles habilitées à acheter des médicaments et du matériel pour cet établissement ? | C4: a. | D4: Directeur / responsable de l'établissement de santé
C5: b. | D5: Personnel de l'établissement
B6: ENQUÊTEUR : LIRE À HAUTE VOIX LES RÉPONSES POSSIBLES. POUR CHACUNE D'ELLES, NOTER "1" POUR OUI, "2" POUR NON. | C6: c. | D6: Organisations non gouvernementales
C7: d. | D7: Autorités locales
C8: e. | D8: Gouvernement central
C9: f. | D9: Agents de santé communautaires
C10: g. | D10: Des membres de la communauté
C11: h. | D11: Comité sanitaire
C12: i. | D12: Autre, spécifier:
A13: =A4-0.01 -> -14.02 | B13: Pouvez-vous m'emmener à l'endroit où les médicaments sont entreposés dans cet établissement ? | C13: OUI, VUE | E13: 1
C14: OUI, PAS VUE | E14: 2
C15: NON, IL N'Y A PAS DE LIEU PARTICULIER | E15: 3 | F15: ► | G15: =#REF! -> #REF!
A16: =A13-0.01 -> -14.03 | B16: ENQUÊTEUR : EST-CE UN LOCAL SÉPARÉ DU RESTE DE L'ÉTABLISSEMENT ? | C16: OUI | G16: 1
C17: NON | G17: 2
A18: =A16-0.01 -> -14.04 | B18: Cette pharmacie sert-elle uniquement à entreposer et délivrer les médicaments, ou est-elle utilisée à d'autres usages ? | C18: Uniquement pour entreposer et délivrer les médicaments | G18: 1
C19: Utilisée aussi à d'autres usages | G19: 2
A20: =A18-0.01 -> -14.05 | B20: Les fenêtres et les portes peuvent-elles être verrouillées pour sécuriser la pharmacie ? | C20: OUI | G20: 1
C21: NON | G21: 2
A22: =A20-0.01 -> -14.06 | B22: ENQUÊTEUR : L'ENDROIT OÙ LES MÉDICAMENTS SONT ENTREPOSÉS A-T-IL L'AIR PROPRE, PARTIELLEMENT SALE, OU SALE ? | C22: PROPRE | G22: 1
C23: PARTIELLEMENT SALE | G23: 2
C24: SALE | G24: 3
A25: =A22-0.01 -> -14.07 | B25: ENQUÊTEUR : LE PLAFOND, LES MURS, LES SOLS ET LES FENÊTRES ONT-ILS L'AIR SECS ET SANS TRACES D'INFILTRATIONS D'EAU ? | C25: SECS, PAS DE TRACES D'INFILTRATIONS D'EAU | G25: 1
C26: SECS, MAIS IL Y A DES TRACES D'INFILTRATIONS D'EAU | G26: 2
C27: IL Y A DE L'HUMIDITÉ / DE L'EAU | G27: 3
A28: =A25-0.01 -> -14.08 | B28: ENQUÊTEUR : LES FENÊTRES SONT-ELLES OCCULTÉES POUR EMPÊCHER LE SOLEIL DE RENTRER ? | C28: FENÊTRES OCCULTÉES | G28: 1
C29: FENÊTRES NON OCCULTÉES | G29: 2
C30: PAS DE FENÊTRES | G30: 3
A31: =A28-0.01 -> -14.09 | B31: ENQUÊTEUR : LES MÉDICAMENTS SONT-ILS ENTREPOSÉS SUR UNE PLATEFORME SURÉLEVÉE ? | C31: OUI | G31: 1
C32: NON | G32: 2
A33: =A31-0.01 -> -14.1 | B33: La pharmacie tient-elle des fiches d'inventaire ou un registre des stocks ? ENQUÊTEUR : SI OUI, DEMANDER À VOIR LES FICHES OU LE REGISTRE. | C33: OUI, VUE | G33: 1
C34: OUI, PAS VUE | G34: 2
C35: NON | G35: 3
A36: Pour chaque medicament, repondez des questions 14.12 à 14.15
C37: =A33-0.01 -> -14.11 | D37: =C37-0.01 -> -14.12 | E37: =D37-0.01 -> -14.13 | F37: =E37-0.01 -> -14.14 | H37: =F37-0.01 -> -14.15
C38: Quel est le dosage du/de la [MÉDICAMENT] en stock ? | D38: Combien facturez-vous aux patients pour une dose de [MÉDICAMENT] en monnaie ? | E38: Quelle quantité de [MÉDICAMENT] est disponible en ce moment ? | F38: Au cours des 30 derniers jours, ce médicament a-t-il été en rupture de stock ? | H38: Au cours des 30 derniers jours, combien de jours ce médicament a-t-il été en rupture de stock ?
E39: ="IF NONE, RECORD 00 and ► "&TEXT(-H37,"(0.00)") -> IF NONE, RECORD 00 and ► (14.15) | F39: OUI | G39: 1
F40: NON | G40: 2
...

Sheet 15PopDesserte
A1: =-15 -> -15 | B1: Zone de couverture | H1: NOTER LA RÉPONSE
A2: PERSONNE INTERROGÉE : RESPONSABLE DE L'ÉTABLISSEMENT DE SANTÉ OU SON ADJOINT SI ABSENT OU INDISPONIBLE
A3: ENQUÊTEUR : VÉRIFIEZ LE REGISTRE DE L'ÉTABLISSEMENT.
A4: =A1-0.01 -> -15.01 | B4: Quelle est la population couverte par cet établissement ? | C4: Tableau de Bord de l’institution
C5: Rapport SIS
A6: =A4-0.01 -> -15.02 | B6: Veuillez donner la liste des villages/localites desservis par cet établissement. | D6: Nom | F6: Population | H6: Distance en km
C7: 1
C8: 2
C9: 3
C10: 4
C11: 5
C12: 6
C13: 7
C14: 8
C15: 9
C16: 10
C17: 11
C18: 12
... C26: 20
B28: MERCI DE VOTRE COOPÉRATION
