Workbook

Sheet Demographics
A1: Wave3 | B1: Men | D1: Women | G1: WAVE 3 | M1: WAVE 1 | R1: IDPs
A2: Under 5 Years | B2: =VALUE('Raw-Data 10'!$B$23/100*'Raw-Data 10'!B4/100) -> 0.096530663 | C2: =-D2 -> -0.084396189 | D2: =VALUE('Raw-Data 10'!$B$24/100*'Raw-Data 10'!C4/100) -> 0.084396189
A3: 5 - 9 Years | B3: =VALUE('Raw-Data 10'!$B$23/100*'Raw-Data 10'!B5/100) -> 0.092300738 | C3: =-D3 -> -0.096457931 | D3: =VALUE('Raw-Data 10'!$B$24/100*'Raw-Data 10'!C5/100) -> 0.096457931
A4: 10 - 14 Years | B4: =VALUE('Raw-Data 10'!$B$23/100*'Raw-Data 10'!B6/100) -> 0.068140148 | C4: =-D4 -> -0.069983822 | D4: =VALUE('Raw-Data 10'!$B$24/100*'Raw-Data 10'!C6/100) -> 0.069983822
A5: 15 - 19 Years | B5: =VALUE('Raw-Data 10'!$B$23/100*'Raw-Data 10'!B7/100) -> 0.058160246 | C5: =-D5 -> -0.056625892 | D5: =VALUE('Raw-Data 10'!$B$24/100*'Raw-Data 10'!C7/100) -> 0.056625892
A6: 20 - 24 Years | B6: =VALUE('Raw-Data 10'!$B$23/100*'Raw-Data 10'!B8/100) -> 0.031731718 | C6: =-D6 -> -0.035650292 | D6: =VALUE('Raw-Data 10'!$B$24/100*'Raw-Data 10'!C8/100) -> 0.035650292
A7: 25 - 29 Years | B7: =VALUE('Raw-Data 10'!$B$23/100*'Raw-Data 10'!B9/100) -> 0.028958713 | C7: =-D7 -> -0.038309533 | D7: =VALUE('Raw-Data 10'!$B$24/100*'Raw-Data 10'!C9/100) -> 0.038309533
A8: 30 - 34 Years | B8: =VALUE('Raw-Data 10'!$B$23/100*'Raw-Data 10'!B10/100) -> 0.021737246 | C8: =-D8 -> -0.034971336 | D8: =VALUE('Raw-Data 10'!$B$24/100*'Raw-Data 10'!C10/100) -> 0.034971336
A9: 35 - 39 Years | B9: =VALUE('Raw-Data 10'!$B$23/100*'Raw-Data 10'!B11/100) -> 0.019770404 | C9: =-D9 -> -0.02996147 | D9: =VALUE('Raw-Data 10'!$B$24/100*'Raw-Data 10'!C11/100) -> 0.02996147
A10: 40 - 44 Years | B10: =VALUE('Raw-Data 10'!$B$23/100*'Raw-Data 10'!B12/100) -> 0.016720585 | C10: =-D10 -> -0.01342994 | D10: =VALUE('Raw-Data 10'!$B$24/100*'Raw-Data 10'!C12/100) -> 0.01342994
A11: 45 - 49 Years | B11: =VALUE('Raw-Data 10'!$B$23/100*'Raw-Data 10'!B13/100) -> 0.015088835 | C11: =-D11 -> -0.016012027 | D11: =VALUE('Raw-Data 10'!$B$24/100*'Raw-Data 10'!C13/100) -> 0.016012027
A12: 50 - 54 Years | B12: =VALUE('Raw-Data 10'!$B$23/100*'Raw-Data 10'!B14/100) -> 0.011907893 | C12: =-D12 -> -0.010883858 | D12: =VALUE('Raw-Data 10'!$B$24/100*'Raw-Data 10'!C14/100) -> 0.010883858
A13: 55 - 59 Years | B13: =VALUE('Raw-Data 10'!$B$23/100*'Raw-Data 10'!B15/100) -> 0.0059927976 | C13: =-D13 -> -0.005940858 | D13: =VALUE('Raw-Data 10'!$B$24/100*'Raw-Data 10'!C15/100) -> 0.005940858
... A17: 75 - 79 Years | B17: =VALUE('Raw-Data 10'!$B$23/100*'Raw-Data 10'!B19/100) -> 0.0021999492 | C17: =-D17 -> -0.0026798156 | D17: =VALUE('Raw-Data 10'!$B$24/100*'Raw-Data 10'!C19/100) -> 0.0026798156
A18: Above 80 Years | B18: =VALUE('Raw-Data 10'!$B$23/100*'Raw-Data 10'!B20/100) -> 0.0017094528 | C18: =-D18 -> -0.0012756128 | D18: =VALUE('Raw-Data 10'!$B$24/100*'Raw-Data 10'!C20/100) -> 0.0012756128 | F18: 2009
L19: Urban | M19: Rural
B20: =SUM(B2:B18) -> 0.48564486 | C20: =SUM(B20,D20) -> 0.99999457 | D20: =SUM(D2:D18) -> 0.51434971 | K20: Population 2016 | L20: =VALUE('Raw-Data 10'!B78/100) -> 0.14055 | M20: =VALUE('Raw-Data 10'!B77/100) -> 0.85945
A23: Wave1 | B23: Men | C23: Women | D23: Women | K23: Urban | L23: =L20 -> 0.14055
A24: Under 5 Years | B24: =VALUE('Raw-Data 10'!B29/100*'Raw-Data 10'!B$48/100) -> 0.097164434 | C24: =-D24 -> -0.095593778 | D24: =VALUE('Raw-Data 10'!C29/100*'Raw-Data 10'!B$49/100) -> 0.095593778 | K24: Rural | L24: =M20 -> 0.85945
A25: 5 - 9 Years | B25: =VALUE('Raw-Data 10'!B30/100*'Raw-Data 10'!B$48/100) -> 0.098381806 | C25: =-D25 -> -0.099191953 | D25: =VALUE('Raw-Data 10'!C30/100*'Raw-Data 10'!B$49/100) -> 0.099191953 | R25: Rural | S25: Agriculture | T25: 0.7867
A26: 10 - 14 Years | B26: =VALUE('Raw-Data 10'!B31/100*'Raw-Data 10'!B$48/100) -> 0.065392963 | C26: =-D26 -> -0.065855458 | D26: =VALUE('Raw-Data 10'!C31/100*'Raw-Data 10'!B$49/100) -> 0.065855458 | S26: Waged work | T26: 0.0354
A27: 15 - 19 Years | B27: =VALUE('Raw-Data 10'!B32/100*'Raw-Data 10'!B$48/100) -> 0.051287753 | C27: =-D27 -> -0.054467312 | D27: =VALUE('Raw-Data 10'!C32/100*'Raw-Data 10'!B$49/100) -> 0.054467312 | S27: Own business | T27: 0.0111
A28: 20 - 24 Years | B28: =VALUE('Raw-Data 10'!B33/100*'Raw-Data 10'!B$48/100) -> 0.032945707 | C28: =-D28 -> -0.037606398 | D28: =VALUE('Raw-Data 10'!C33/100*'Raw-Data 10'!B$49/100) -> 0.037606398 | S28: Rem./Aid/Other | T28: 0.0382
A29: 25 - 29 Years | B29: =VALUE('Raw-Data 10'!B34/100*'Raw-Data 10'!B$48/100) -> 0.024040685 | C29: =-D29 -> -0.039553891 | D29: =VALUE('Raw-Data 10'!C34/100*'Raw-Data 10'!B$49/100) -> 0.039553891 | R29: Urban | S29: Agriculture | T29: 0.0396
A30: 30 - 34 Years | B30: =VALUE('Raw-Data 10'!B35/100*'Raw-Data 10'!B$48/100) -> 0.020867851 | C30: =-D30 -> -0.02763461 | D30: =VALUE('Raw-Data 10'!C35/100*'Raw-Data 10'!B$49/100) -> 0.02763461 | S30: Waged work | T30: 0.0528
A31: 35 - 39 Years | B31: =VALUE('Raw-Data 10'!B36/100*'Raw-Data 10'!B$48/100) -> 0.023024611 | C31: =-D31 -> -0.03072248 | D31: =VALUE('Raw-Data 10'!C36/100*'Raw-Data 10'!B$49/100) -> 0.03072248 | S31: Own business | T31: 0.0146
A32: 40 - 44 Years | B32: =VALUE('Raw-Data 10'!B37/100*'Raw-Data 10'!B$48/100) -> 0.017383486 | C32: =-D32 -> -0.016095455 | D32: =VALUE('Raw-Data 10'!C37/100*'Raw-Data 10'!B$49/100) -> 0.016095455 | S32: Rem./Aid/Other | T32: 0.0215
A33: 45 - 49 Years | B33: =VALUE('Raw-Data 10'!B38/100*'Raw-Data 10'!B$48/100) -> 0.014110003 | C33: =-D33 -> -0.017970047 | D33: =VALUE('Raw-Data 10'!C38/100*'Raw-Data 10'!B$49/100) -> 0.017970047
A34: 50 - 54 Years | B34: =VALUE('Raw-Data 10'!B39/100*'Raw-Data 10'!B$48/100) -> 0.010136772 | C34: =-D34 -> -0.0094198248 | D34: =VALUE('Raw-Data 10'!C39/100*'Raw-Data 10'!B$49/100) -> 0.0094198248
A35: 55 - 59 Years | B35: =VALUE('Raw-Data 10'!B40/100*'Raw-Data 10'!B$48/100) -> 0.0063648384 | C35: =-D35 -> -0.0073786024 | D35: =VALUE('Raw-Data 10'!C40/100*'Raw-Data 10'!B$49/100) -> 0.0073786024
A36: 60 - 64 Years | B36: =VALUE('Raw-Data 10'!B41/100*'Raw-Data 10'!B$48/100) -> 0.008099832 | C36: =-D36 -> -0.0090449064 | D36: =VALUE('Raw-Data 10'!C41/100*'Raw-Data 10'!B$49/100) -> 0.0090449064
A37: 65 - 69 Years | B37: =VALUE('Raw-Data 10'!B42/100*'Raw-Data 10'!B$48/100) -> 0.0031201128 | C37: =-D37 -> -0.0019891504 | D37: =VALUE('Raw-Data 10'!C42/100*'Raw-Data 10'!B$49/100) -> 0.0019891504
A38: 70 - 74 Years | B38: =VALUE('Raw-Data 10'!B43/100*'Raw-Data 10'!B$48/100) -> 0.002899644 | C38: =-D38 -> -0.0033794728 | D38: =VALUE('Raw-Data 10'!C43/100*'Raw-Data 10'!B$49/100) -> 0.0033794728
A39: 75 - 79 Years | B39: =VALUE('Raw-Data 10'!B44/100*'Raw-Data 10'!B$48/100) -> 0.0021711384 | C39: =-D39 -> -0.0016871328 | D39: =VALUE('Raw-Data 10'!C44/100*'Raw-Data 10'!B$49/100) -> 0.0016871328
A40: Above 80 Years | B40: =VALUE('Raw-Data 10'!B45/100*'Raw-Data 10'!B$48/100) -> 0.0018883632 | C40: =-D40 -> -0.0031295272 | D40: =VALUE('Raw-Data 10'!C45/100*'Raw-Data 10'!B$49/100) -> 0.0031295272
B42: =SUM(B24:B40) -> 0.47928 | C42: =SUM(B42,D42) -> 1 | D42: =SUM(D24:D40) -> 0.52072
A45: IDPs | B45: Men | C45: Women | D45: Women
A46: Under 5 Years | B46: =VALUE('Raw-Data 10'!B54/100*'Raw-Data 10'!$B$73/100) -> 0.076416051 | C46: =-D46 -> -0.079894795 | D46: =VALUE('Raw-Data 10'!C54/100*'Raw-Data 10'!$B$74/100) -> 0.079894795
A47: 5 - 9 Years | B47: =VALUE('Raw-Data 10'!B55/100*'Raw-Data 10'!$B$73/100) -> 0.08252818 | C47: =-D47 -> -0.075936885 | D47: =VALUE('Raw-Data 10'!C55/100*'Raw-Data 10'!$B$74/100) -> 0.075936885
A48: 10 - 14 Years | B48: =VALUE('Raw-Data 10'!B56/100*'Raw-Data 10'!$B$73/100) -> 0.074154082 | C48: =-D48 -> -0.065671218 | D48: =VALUE('Raw-Data 10'!C56/100*'Raw-Data 10'!$B$74/100) -> 0.065671218
...

Sheet Raw-Data 10
B1: B.7 What is the sex of %rostertitle%?
A2: RECODE of age (B.1 What is %rostertitle%'s age in completed years?) | B2: Male | C2: Female | D2: Total
B3: % | C3: % | D3: %
A4: Under 5 Years | B4: 19.877 | C4: 16.408 | D4: 18.092
A5: 5 - 9 Years | B5: 19.006 | C5: 18.753 | D5: 18.876
A6: 10 - 14 Years | B6: 14.031 | C6: 13.606 | D6: 13.812
A7: 15 - 19 Years | B7: 11.976 | C7: 11.009 | D7: 11.479
A8: 20 - 24 Years | B8: 6.534 | C8: 6.931 | D8: 6.738
A9: 25 - 29 Years | B9: 5.963 | C9: 7.448 | D9: 6.727
A10: 30 - 34 Years | B10: 4.476 | C10: 6.799 | D10: 5.671
A11: 35 - 39 Years | B11: 4.071 | C11: 5.825 | D11: 4.974
A12: 40 - 44 Years | B12: 3.443 | C12: 2.611 | D12: 3.015
A13: 45 - 49 Years | B13: 3.107 | C13: 3.113 | D13: 3.110
A14: 50 - 54 Years | B14: 2.452 | C14: 2.116 | D14: 2.279
A15: 55 - 59 Years | B15: 1.234 | C15: 1.155 | D15: 1.193
... A21: Total | B21: 100.000 | C21: 100.000 | D21: 100.000
A22: B.7 What is the sex of %rostertitle%? | B22: %
A23: Male | B23: 48.564
A24: Female | B24: 51.436
A25: Total | B25: 100.000
B26: B.7 What is the sex of %rostertitle%?
A27: RECODE of age (B.1 What is %rostertitle%'s age in completed years?) | B27: Male | C27: Female | D27: Total
B28: % | C28: % | D28: %
A29: Under 5 Years | B29: 20.273 | C29: 18.358 | D29: 19.277
A30: 5 - 9 Years | B30: 20.527 | C30: 19.049 | D30: 19.759
A31: 10 - 14 Years | B31: 13.644 | C31: 12.647 | D31: 13.125
A32: 15 - 19 Years | B32: 10.701 | C32: 10.460 | D32: 10.576
A33: 20 - 24 Years | B33: 6.874 | C33: 7.222 | D33: 7.055
A34: 25 - 29 Years | B34: 5.016 | C34: 7.596 | D34: 6.357
A35: 30 - 34 Years | B35: 4.354 | C35: 5.307 | D35: 4.850
A36: 35 - 39 Years | B36: 4.804 | C36: 5.900 | D36: 5.374
A37: 40 - 44 Years | B37: 3.627 | C37: 3.091 | D37: 3.348
A38: 45 - 49 Years | B38: 2.944 | C38: 3.451 | D38: 3.208
A39: 50 - 54 Years | B39: 2.115 | C39: 1.809 | D39: 1.956
A40: 55 - 59 Years | B40: 1.328 | C40: 1.417 | D40: 1.374
... A46: Total | B46: 100.000 | C46: 100.000 | D46: 100.000
A47: B.7 What is the sex of %rostertitle%? | B47: %
A48: Male | B48: 47.928
A49: Female | B49: 52.072
A50: Total | B50: 100.000
...

Sheet Poverty
B3: Headcount | N3: Gap | Y3: Severity | AJ3: GINI
C4: National | D4: Rural | E4: Urban | F4: IDP | G4: Independence | O4: National | P4: Rural | Q4: Urban | R4: IDP | S4: Independence | Z4: National | AA4: Rural | AB4: Urban | AC4: IDP | AD4: Independence | AK4: National | AL4: Rural | AM4: Urban | AN4: IDP
B5: 39904 | C5: 0.513 | D5: 0.5764 | E5: 0.249 | N5: 39904 | O5: 0.233 | P5: 0.2683 | Q5: 0.0861 | Y5: 39904 | Z5: 0.1385 | AA5: 0.1612 | AB5: 0.044 | AJ5: 39904 | AK5: 0.4658 | AL5: 0.4428 | AM5: 0.4374
Y7: 40695 | AD7: 0.6 | AO7: 0.5
B8: 40695 | G8: 1 | N8: 40695 | S8: 1
B11: 42156 | C11: =VALUE('Raw-Data 1'!J4) -> 0.655 | D11: =VALUE('Raw-Data 1'!B4) -> 0.679 | E11: =VALUE('Raw-Data 1'!F4) -> 0.5138 | N11: 42156 | O11: =VALUE('Raw-Data 1'!J16) -> 0.3228 | P11: =VALUE('Raw-Data 1'!B16) -> 0.343 | Q11: =VALUE('Raw-Data 1'!F16) -> 0.204 | Y11: 42156 | Z11: =VALUE('Raw-Data 1'!J28) -> 0.1944 | AA11: =VALUE('Raw-Data 1'!B28) -> 0.2092 | AB11: =VALUE('Raw-Data 1'!F28) -> 0.1069 | AJ11: 42156 | AK11: =VALUE('Raw-Data 1'!D45) -> 0.4026 | AL11: =VALUE('Raw-Data 1'!B45) -> 0.4069 | AM11: =VALUE('Raw-Data 1'!C45) -> 0.3774
B13: 42491 | E13: =VALUE('Raw-Data 1'!F5) -> 0.6685 | N13: 42491 | Q13: =VALUE('Raw-Data 1'!F17) -> 0.3498 | Y13: 42430 | AB13: =VALUE('Raw-Data 1'!F29) -> 0.2123 | AJ13: 42430 | AM13: =VALUE('Raw-Data 1'!C46) -> 0.4201
B14: 42675 | C14: =VALUE('Raw-Data 1'!J6) -> 0.8234 | D14: =VALUE('Raw-Data 1'!B6) -> 0.8522 | E14: =VALUE('Raw-Data 1'!F6) -> 0.6476 | N14: 42675 | O14: =VALUE('Raw-Data 1'!J18) -> 0.4738 | P14: =VALUE('Raw-Data 1'!B18) -> 0.5008 | Q14: =VALUE('Raw-Data 1'!F18) -> 0.3088 | Y14: 42675 | Z14: =VALUE('Raw-Data 1'!J30) -> 0.3111 | AA14: =VALUE('Raw-Data 1'!B30) -> 0.3316 | AB14: =VALUE('Raw-Data 1'!F30) -> 0.1862 | AJ14: 42675 | AK14: =VALUE('Raw-Data 1'!D47) -> 0.3967 | AL14: =VALUE('Raw-Data 1'!B47) -> 0.3947 | AM14: =VALUE('Raw-Data 1'!C47) -> 0.4084
B16: 42856 | E16: =VALUE('Raw-Data 1'!F7) -> 0.7224 | F16: =VALUE('Raw-Data 1'!B11) -> 0.9133 | N16: 42856 | Q16: =VALUE('Raw-Data 1'!F19) -> 0.3614 | R16: =VALUE('Raw-Data 1'!B23) -> 0.5441 | Y16: 42856 | AB16: =VALUE('Raw-Data 1'!F31) -> 0.2189 | AC16: =VALUE('Raw-Data 1'!B35) -> 0.3546 | AJ16: 42856 | AM16: =VALUE('Raw-Data 1'!C48) -> 0.4224 | AN16: =VALUE('Raw-Data 1'!B52) -> 0.3535
B21: Male and female headed households, poverty at 1.9 USD PPP
C22: National | F22: Rural | I22: Urban | N22: IDP | R22: National | W22: IDP
C23: 2015 | D23: 2016 | F23: 2015 | G23: 2016 | I23: 2015 | J23: 2016 | K23: 2016 | L23: 2017 | N23: 2017 | R23: Male | T23: Female | W23: Male | X23: Female
B24: Male | C24: =VALUE('Raw-Data 1'!$J82) -> 0.6308 | D24: =VALUE('Raw-Data 1'!$J84) -> 0.7938 | F24: =VALUE('Raw-Data 1'!$B82) -> 0.6538 | G24: =VALUE('Raw-Data 1'!$B84) -> 0.8236 | I24: =VALUE('Raw-Data 1'!$F82) -> 0.4921 | J24: =VALUE('Raw-Data 1'!$F83) -> 0.6317 | K24: =VALUE('Raw-Data 1'!$F84) -> 0.6118 | L24: =VALUE('Raw-Data 1'!$F85) -> 0.676 | N24: =VALUE('Raw-Data 1'!$B89) -> 0.9109 | R24: 2015 | S24: 2016 | T24: 2015 | U24: 2016 | W24: 2017 | X24: 2017
B25: Female | C25: =VALUE('Raw-Data 1'!$J94) -> 0.6997 | D25: =VALUE('Raw-Data 1'!$J96) -> 0.869 | F25: =VALUE('Raw-Data 1'!$B94) -> 0.7259 | G25: =VALUE('Raw-Data 1'!$B96) -> 0.8963 | I25: =VALUE('Raw-Data 1'!$F94) -> 0.5506 | J25: =VALUE('Raw-Data 1'!$F95) -> 0.7253 | K25: =VALUE('Raw-Data 1'!$F96) -> 0.7026 | L25: =VALUE('Raw-Data 1'!$F97) -> 0.7917 | N25: =VALUE('Raw-Data 1'!$B101) -> 0.9165 | Q25: Gap | R25: =VALUE('Raw-Data 1'!$J106) -> 0.2998 | S25: =VALUE('Raw-Data 1'!$J108) -> 0.4421 | T25: =VALUE('Raw-Data 1'!$J118) -> 0.3652 | U25: =VALUE('Raw-Data 1'!$J120) -> 0.5228 | W25: =VALUE('Raw-Data 1'!$B113) -> 0.5292 | X25: =VALUE('Raw-Data 1'!$B125) -> 0.5643
Q26: Mean income | R26: =R28-R27 -> 6.098742 | S26: =S28-S27 -> 4.859309 | T26: =T28-T27 -> 5.529108 | U26: =U28-U27 -> 4.156412 | W26: =W28-W27 -> 4.100668 | X26: =X28-X27 -> 3.794947
B27: 1.9 | Q27: Poverty gap | R27: =R25*R28 -> 2.611258 | S27: =S25*S28 -> 3.850691 | T27: =T25*T28 -> 3.180892 | U27: =U25*U28 -> 4.553588 | W27: =W25*W28 -> 4.609332 | X27: =X25*X28 -> 4.915053
B28: + | C28: =VALUE('Raw-Data 1'!$J82-'Raw-Data 1'!$L82) -> 0.0591 | D28: =VALUE('Raw-Data 1'!$J84-'Raw-Data 1'!$L84) -> 0.0426 | F28: ='Raw-Data 1'!$B82-'Raw-Data 1'!$D82 -> 0.0704 | G28: ='Raw-Data 1'!$B94-'Raw-Data 1'!$D94 -> 0.0596 | I28: ='Raw-Data 1'!$F82-'Raw-Data 1'!$H82 -> 0.0548 | J28: ='Raw-Data 1'!$F94-'Raw-Data 1'!$H94 -> 0.0547 | K28: ='Raw-Data 1'!$F83-'Raw-Data 1'!$H83 -> 0.0523 | L28: ='Raw-Data 1'!$F95-'Raw-Data 1'!$H95 -> 0.0859 | N28: ='Raw-Data 1'!$B89-'Raw-Data 1'!$D89 -> 0.0119 | Q28: Poverty line | R28: 8.71 | S28: 8.71 | T28: 8.71 | U28: 8.71 | V28: 8.71 | W28: 8.71 | X28: 8.71
B29: - | C29: =VALUE('Raw-Data 1'!$J94-'Raw-Data 1'!$L94) -> 0.051 | D29: =VALUE('Raw-Data 1'!$J96-'Raw-Data 1'!$L96) -> 0.0308 | F29: ='Raw-Data 1'!$B84-'Raw-Data 1'!$D84 -> 0.046 | G29: ='Raw-Data 1'!$B96-'Raw-Data 1'!$D96 -> 0.0292 | I29: ='Raw-Data 1'!$F84-'Raw-Data 1'!$H84 -> 0.0758 | J29: ='Raw-Data 1'!$F96-'Raw-Data 1'!$H96 -> 0.091 | K29: ='Raw-Data 1'!$F85-'Raw-Data 1'!$H85 -> 0.0652 | L29: ='Raw-Data 1'!$F97-'Raw-Data 1'!$H97 -> 0.063 | N29: ='Raw-Data 1'!$B101-'Raw-Data 1'!$D101 -> 0.0148
Q30: + | R30: =VALUE('Raw-Data 1'!$J106-'Raw-Data 1'!$L106) -> 0.039 | S30: =VALUE('Raw-Data 1'!$J108-'Raw-Data 1'!$L108) -> 0.0386 | T30: =VALUE('Raw-Data 1'!$J118-'Raw-Data 1'!$L118) -> 0.0324 | U30: =VALUE('Raw-Data 1'!$J120-'Raw-Data 1'!$L120) -> 0.0346 | W30: ='Raw-Data 1'!$B113-'Raw-Data 1'!$D113 -> 0.0157 | X30: ='Raw-Data 1'!$B125-'Raw-Data 1'!$D125 -> 0.0208
Q31: - | R31: =VALUE('Raw-Data 1'!$M106-'Raw-Data 1'!$J106) -> 0.0391 | S31: =VALUE('Raw-Data 1'!$M108-'Raw-Data 1'!$J108) -> 0.0385 | T31: =VALUE('Raw-Data 1'!$M118-'Raw-Data 1'!$J118) -> 0.0324 | U31: =VALUE('Raw-Data 1'!$M120-'Raw-Data 1'!$J120) -> 0.0346 | W31: =VALUE('Raw-Data 1'!$E113-'Raw-Data 1'!$B113) -> 0.0158 | X31: =VALUE('Raw-Data 1'!$E125-'Raw-Data 1'!$B125) -> 0.0208

Sheet Raw-Data 1
B1: Urban/Rural
A2: poverty HFS
A3: Wave of data collection | B3: Mean | C3: SE | D3: LB | E3: UB | F3: Mean | G3: SE | H3: LB | I3: UB | J3: Mean | K3: SE | L3: LB | M3: UB
A4: Wave1 | B4: 0.6790 | C4: 0.0329 | D4: 0.6144 | E4: 0.7437 | F4: 0.5138 | G4: 0.0233 | H4: 0.4681 | I4: 0.5595 | J4: 0.6550 | K4: 0.0276 | L4: 0.6009 | M4: 0.7092 | N4: 3,550
A5: Wave2 | F5: 0.6685 | G5: 0.0312 | H5: 0.6071 | I5: 0.7299 | J5: 0.6685 | K5: 0.0312 | L5: 0.6071 | M5: 0.7299 | N5: 1,016
A6: Wave3 | B6: 0.8522 | C6: 0.0179 | D6: 0.8169 | E6: 0.8874 | F6: 0.6476 | G6: 0.0371 | H6: 0.5746 | I6: 0.7205 | J6: 0.8234 | K6: 0.0174 | L6: 0.7891 | M6: 0.8577 | N6: 1,713
A7: Wave4 | F7: 0.7224 | G7: 0.0267 | H7: 0.6699 | I7: 0.7750 | J7: 0.7224 | K7: 0.0267 | L7: 0.6699 | M7: 0.7750 | N7: 800
A8: Total | B8: 0.7648 | C8: 0.0216 | D8: 0.7223 | E8: 0.8073 | F8: 0.6301 | G8: 0.0171 | H8: 0.5966 | I8: 0.6637 | J8: 0.7328 | K8: 0.0168 | L8: 0.6999 | M8: 0.7658 | N8: 7,079
A9: poverty IDP
A10: Dataset | B10: Mean | C10: SE | D10: LB | E10: UB | F10: N
A11: CRS | B11: 0.9133 | C11: 0.0046 | D11: 0.9041 | E11: 0.9225 | F11: 2,396
A12: Total | B12: 0.9133 | C12: 0.0046 | D12: 0.9041 | E12: 0.9225 | F12: 2,396
B13: Urban/Rural
A14: gap HFS
A15: Wave of data collection | B15: Mean | C15: SE | D15: LB | E15: UB | F15: Mean | G15: SE | H15: LB | I15: UB | J15: Mean | K15: SE | L15: LB | M15: UB
A16: Wave1 | B16: 0.3430 | C16: 0.0214 | D16: 0.3010 | E16: 0.3851 | F16: 0.2040 | G16: 0.0152 | H16: 0.1742 | I16: 0.2339 | J16: 0.3228 | K16: 0.0178 | L16: 0.2879 | M16: 0.3578 | N16: 3,550
A17: Wave2 | F17: 0.3498 | G17: 0.0396 | H17: 0.2721 | I17: 0.4275 | J17: 0.3498 | K17: 0.0396 | L17: 0.2721 | M17: 0.4275 | N17: 1,016
A18: Wave3 | B18: 0.5008 | C18: 0.0180 | D18: 0.4654 | E18: 0.5362 | F18: 0.3088 | G18: 0.0357 | H18: 0.2388 | I18: 0.3789 | J18: 0.4738 | K18: 0.0173 | L18: 0.4399 | M18: 0.5078 | N18: 1,713
A19: Wave4 | F19: 0.3614 | G19: 0.0201 | H19: 0.3219 | I19: 0.4009 | J19: 0.3614 | K19: 0.0201 | L19: 0.3219 | M19: 0.4009 | N19: 800
A20: Total | B20: 0.4212 | C20: 0.0164 | D20: 0.3889 | E20: 0.4535 | F20: 0.3010 | G20: 0.0181 | H20: 0.2655 | I20: 0.3366 | J20: 0.3927 | K20: 0.0130 | L20: 0.3671 | M20: 0.4183 | N20: 7,079
A21: gap IDP
A22: Dataset | B22: Mean | C22: SE | D22: LB | E22: UB | F22: N
A23: CRS | B23: 0.5441 | C23: 0.0065 | D23: 0.5314 | E23: 0.5569 | F23: 2,396
A24: Total | B24: 0.5441 | C24: 0.0065 | D24: 0.5314 | E24: 0.5569 | F24: 2,396
B25: Urban/Rural
A26: severity HFS
A27: Wave of data collection | B27: Mean | C27: SE | D27: LB | E27: UB | F27: Mean | G27: SE | H27: LB | I27: UB | J27: Mean | K27: SE | L27: LB | M27: UB
A28: Wave1 | B28: 0.2092 | C28: 0.0145 | D28: 0.1807 | E28: 0.2378 | F28: 0.1069 | G28: 0.0100 | H28: 0.0872 | I28: 0.1266 | J28: 0.1944 | K28: 0.0120 | L28: 0.1707 | M28: 0.2180 | N28: 3,550
A29: Wave2 | F29: 0.2123 | G29: 0.0359 | H29: 0.1418 | I29: 0.2828 | J29: 0.2123 | K29: 0.0359 | L29: 0.1418 | M29: 0.2828 | N29: 1,016
A30: Wave3 | B30: 0.3316 | C30: 0.0162 | D30: 0.2998 | E30: 0.3634 | F30: 0.1862 | G30: 0.0281 | H30: 0.1309 | I30: 0.2414 | J30: 0.3111 | K30: 0.0151 | L30: 0.2815 | M30: 0.3408 | N30: 1,713
A31: Wave4 | F31: 0.2189 | G31: 0.0158 | H31: 0.1878 | I31: 0.2500 | J31: 0.2189 | K31: 0.0158 | L31: 0.1878 | M31: 0.2500 | N31: 800
A32: Total | B32: 0.2698 | C32: 0.0125 | D32: 0.2452 | E32: 0.2945 | F32: 0.1776 | G32: 0.0152 | H32: 0.1478 | I32: 0.2074 | J32: 0.2480 | K32: 0.0100 | L32: 0.2282 | M32: 0.2677 | N32: 7,079
A33: severity IDP
A34: Dataset | B34: Mean | C34: SE | D34: LB | E34: UB | F34: N
A35: CRS | B35: 0.3546 | C35: 0.0072 | D35: 0.3404 | E35: 0.3687 | F35: 2,396
A36: Total | B36: 0.3546 | C36: 0.0072 | D36: 0.3404 | E36: 0.3687 | F36: 2,396
A37: Gini HFS overall - mean
A38: Wave of data collection | B38: Mean | C38: N
A39: Wave1 | B39: 0.4064 | C39: 3,550
A40: Wave3 | B40: 0.4092 | C40: 1,713
...

Sheet Amenities-Services
B1: 2016 | AB1: 2009
B2: Housing type
E3: Urban | K3: Rural | Q3: IDP | AD3: Urban | AJ3: Rural
C4: National | E4: Poorest Q. | F4: Q2 | G4: Q3 | H4: Q4 | I4: Richest Q. | K4: Poorest Q. | L4: Q2 | M4: Q3 | N4: Q4 | O4: Richest Q. | Q4: Poorest Q. | R4: Q2 | S4: Q3 | T4: Q4 | U4: Richest Q. | V4: IDP | AB4: National | AD4: Poorest Q. | AE4: Q2 | AF4: Q3 | AG4: Q4 | AH4: Richest Q. | AJ4: Poorest Q. | AK4: Q2 | AL4: Q3 | AM4: Q4 | AN4: Richest Q.
B5: Tent | C5: =VALUE('Raw-Data 3'!$B116) -> 0.0048 | E5: =VALUE('Raw-Data 3'!$B4) -> 0 | F5: =VALUE('Raw-Data 3'!$C4) -> 0 | G5: =VALUE('Raw-Data 3'!$D4) -> 0 | H5: =VALUE('Raw-Data 3'!$E4) -> 0 | I5: =VALUE('Raw-Data 3'!$F4) -> 0.006 | K5: =VALUE('Raw-Data 3'!B12) -> 0 | L5: =VALUE('Raw-Data 3'!C12) -> 0.0089 | M5: =VALUE('Raw-Data 3'!D12) -> 0.0139 | N5: =VALUE('Raw-Data 3'!E12) -> 0.005 | O5: =VALUE('Raw-Data 3'!F12) -> 0 | Q5: =VALUE('Raw-Data 3'!B20) -> 0.5404 | R5: =VALUE('Raw-Data 3'!C20) -> 0.5809 | S5: =VALUE('Raw-Data 3'!D20) -> 0.6779 | T5: =VALUE('Raw-Data 3'!E20) -> 0.8494 | U5: =VALUE('Raw-Data 3'!F20) -> 0.9124 | V5: =VALUE('Raw-Data 3'!G20) -> 0.6867 | AA5: Tent | AB5: 0.0025 | AD5: 0 | AE5: 0 | AF5: 0 | AG5: 0.0026 | AH5: 0 | AJ5: 0 | AK5: 0.0057 | AL5: 0.0056 | AM5: 0.0016 | AN5: 0.0016
B6: Tukul/gottiya | C6: =VALUE('Raw-Data 3'!B117) -> 0.7801 | E6: =VALUE('Raw-Data 3'!B5) -> 0.7762 | F6: =VALUE('Raw-Data 3'!C5) -> 0.6183 | G6: =VALUE('Raw-Data 3'!D5) -> 0.5956 | H6: =VALUE('Raw-Data 3'!E5) -> 0.632 | I6: =VALUE('Raw-Data 3'!F5) -> 0.4509 | K6: =VALUE('Raw-Data 3'!B13) -> 0.8775 | L6: =VALUE('Raw-Data 3'!C13) -> 0.909 | M6: =VALUE('Raw-Data 3'!D13) -> 0.8626 | N6: =VALUE('Raw-Data 3'!E13) -> 0.8544 | O6: =VALUE('Raw-Data 3'!F13) -> 0.7283 | Q6: =VALUE('Raw-Data 3'!B21) -> 0.4476 | R6: =VALUE('Raw-Data 3'!C21) -> 0.4164 | S6: =VALUE('Raw-Data 3'!D21) -> 0.3221 | T6: =VALUE('Raw-Data 3'!E21) -> 0.148 | U6: =VALUE('Raw-Data 3'!F21) -> 0.0774 | V6: =VALUE('Raw-Data 3'!G21) -> 0.3085 | AA6: Tukul/gottiya | AB6: 0.8882 | AD6: 0.7533 | AE6: 0.7917 | AF6: 0.8542 | AG6: 0.8121 | AH6: 0.7091 | AJ6: 0.8827 | AK6: 0.906 | AL6: 0.9144 | AM6: 0.9545 | AN6: 0.9183
B7: Mud/wood house | C7: =VALUE('Raw-Data 3'!B118) -> 0.1358 | E7: =VALUE('Raw-Data 3'!B6) -> 0.1776 | F7: =VALUE('Raw-Data 3'!C6) -> 0.157 | G7: =VALUE('Raw-Data 3'!D6) -> 0.2191 | H7: =VALUE('Raw-Data 3'!E6) -> 0.1803 | I7: =VALUE('Raw-Data 3'!F6) -> 0.2059 | K7: =VALUE('Raw-Data 3'!B14) -> 0.1111 | L7: =VALUE('Raw-Data 3'!C14) -> 0.0813 | M7: =VALUE('Raw-Data 3'!D14) -> 0.0988 | N7: =VALUE('Raw-Data 3'!E14) -> 0.1359 | O7: =VALUE('Raw-Data 3'!F14) -> 0.2101 | Q7: =VALUE('Raw-Data 3'!B22) -> 0 | R7: =VALUE('Raw-Data 3'!C22) -> 0.0027 | S7: =VALUE('Raw-Data 3'!D22) -> 0 | T7: =VALUE('Raw-Data 3'!E22) -> 0.0026 | U7: =VALUE('Raw-Data 3'!F22) -> 0 | V7: =VALUE('Raw-Data 3'!G22) -> 0.0011 | AA7: Mud/wood house | AB7: 0.0671 | AD7: 0.1188 | AE7: 0.1201 | AF7: 0.0491 | AG7: 0.0453 | AH7: 0.0706 | AJ7: 0.085 | AK7: 0.076 | AL7: 0.0691 | AM7: 0.0385 | AN7: 0.0655
B8: Concrete/brick house | C8: =VALUE('Raw-Data 3'!B119) -> 0.0794 | E8: =VALUE('Raw-Data 3'!B7) -> 0.0461 | F8: =VALUE('Raw-Data 3'!C7) -> 0.2247 | G8: =VALUE('Raw-Data 3'!D7) -> 0.1853 | H8: =VALUE('Raw-Data 3'!E7) -> 0.1877 | I8: =VALUE('Raw-Data 3'!F7) -> 0.3373 | K8: =VALUE('Raw-Data 3'!B15) -> 0.0114 | L8: =VALUE('Raw-Data 3'!C15) -> 0.0007 | M8: =VALUE('Raw-Data 3'!D15) -> 0.0247 | N8: =VALUE('Raw-Data 3'!E15) -> 0.0047 | O8: =VALUE('Raw-Data 3'!F15) -> 0.0616 | Q8: =VALUE('Raw-Data 3'!B23) -> 0.0121 | R8: =VALUE('Raw-Data 3'!C23) -> 0 | S8: =VALUE('Raw-Data 3'!D23) -> 0 | T8: =VALUE('Raw-Data 3'!E23) -> 0 | U8: =VALUE('Raw-Data 3'!F23) -> 0.0102 | V8: =VALUE('Raw-Data 3'!G23) -> 0.0036 | AA8: Concrete/brick house | AB8: 0.0422 | AD8: 0.128 | AE8: 0.0882 | AF8: 0.0967 | AG8: 0.14 | AH8: 0.2204 | AJ8: 0.0323 | AK8: 0.0123 | AL8: 0.0109 | AM8: 0.0054 | AN8: 0
B10: Cooking
E11: Urban | K11: Rural | Q11: IDP
C12: National | E12: Poorest Q. | F12: Q2 | G12: Q3 | H12: Q4 | I12: Richest Q. | K12: Poorest Q. | L12: Q2 | M12: Q3 | N12: Q4 | O12: Richest Q. | Q12: Poorest Q. | R12: Q2 | S12: Q3 | T12: Q4 | U12: Richest Q. | V12: IDP
B13: Grass | C13: =VALUE('Raw-Data 3'!B122) -> 0.0112 | E13: =VALUE('Raw-Data 3'!B28) -> 0 | F13: =VALUE('Raw-Data 3'!C28) -> 0 | G13: =VALUE('Raw-Data 3'!D28) -> 0 | H13: =VALUE('Raw-Data 3'!E28) -> 0.0047 | I13: =VALUE('Raw-Data 3'!F28) -> 0 | K13: =VALUE('Raw-Data 3'!B36) -> 0.0465 | L13: =VALUE('Raw-Data 3'!C36) -> 0.0054 | M13: =VALUE('Raw-Data 3'!D36) -> 0.0028 | N13: =VALUE('Raw-Data 3'!E36) -> 0.0115 | O13: =VALUE('Raw-Data 3'!F36) -> 0 | Q13: =VALUE('Raw-Data 3'!B44) -> 0.0344 | R13: =VALUE('Raw-Data 3'!C44) -> 0.0658 | S13: =VALUE('Raw-Data 3'!D44) -> 0.0478 | T13: =VALUE('Raw-Data 3'!E44) -> 0.0208 | U13: =VALUE('Raw-Data 3'!F44) -> 0 | V13: =VALUE('Raw-Data 3'!G44) -> 0.039
B14: Firewood | C14: =VALUE('Raw-Data 3'!B123) -> 0.8079 | E14: =VALUE('Raw-Data 3'!B29) -> 0.736 | F14: =VALUE('Raw-Data 3'!C29) -> 0.5518 | G14: =VALUE('Raw-Data 3'!D29) -> 0.4562 | H14: =VALUE('Raw-Data 3'!E29) -> 0.3331 | I14: =VALUE('Raw-Data 3'!F29) -> 0.2184 | K14: =VALUE('Raw-Data 3'!B37) -> 0.9498 | L14: =VALUE('Raw-Data 3'!C37) -> 0.9891 | M14: =VALUE('Raw-Data 3'!D37) -> 0.9798 | N14: =VALUE('Raw-Data 3'!E37) -> 0.9586 | O14: =VALUE('Raw-Data 3'!F37) -> 0.9239 | Q14: =VALUE('Raw-Data 3'!B45) -> 0.6308 | R14: =VALUE('Raw-Data 3'!C45) -> 0.6066 | S14: =VALUE('Raw-Data 3'!D45) -> 0.4744 | T14: =VALUE('Raw-Data 3'!E45) -> 0.4277 | U14: =VALUE('Raw-Data 3'!F45) -> 0.2527 | V14: =VALUE('Raw-Data 3'!G45) -> 0.5005
B15: Charcoal | C15: =VALUE('Raw-Data 3'!B124) -> 0.1774 | E15: =VALUE('Raw-Data 3'!B30) -> 0.264 | F15: =VALUE('Raw-Data 3'!C30) -> 0.4482 | G15: =VALUE('Raw-Data 3'!D30) -> 0.5438 | H15: =VALUE('Raw-Data 3'!E30) -> 0.6583 | I15: =VALUE('Raw-Data 3'!F30) -> 0.7774 | K15: =VALUE('Raw-Data 3'!B38) -> 0.0007 | L15: =VALUE('Raw-Data 3'!C38) -> 0.0055 | M15: =VALUE('Raw-Data 3'!D38) -> 0.0158 | N15: =VALUE('Raw-Data 3'!E38) -> 0.03 | O15: =VALUE('Raw-Data 3'!F38) -> 0.0709 | Q15: =VALUE('Raw-Data 3'!B46) -> 0.3349 | R15: =VALUE('Raw-Data 3'!C46) -> 0.3233 | S15: =VALUE('Raw-Data 3'!D46) -> 0.4778 | T15: =VALUE('Raw-Data 3'!E46) -> 0.5462 | U15: =VALUE('Raw-Data 3'!F46) -> 0.7239 | V15: =VALUE('Raw-Data 3'!G46) -> 0.4555
B16: Elec./Gas/Biogas/Other | C16: =VALUE('Raw-Data 3'!B125) -> 0.0035 | E16: =VALUE('Raw-Data 3'!B31) -> 0 | F16: =VALUE('Raw-Data 3'!C31) -> 0 | G16: =VALUE('Raw-Data 3'!D31) -> 0 | H16: =VALUE('Raw-Data 3'!E31) -> 0.004 | I16: =VALUE('Raw-Data 3'!F31) -> 0.0042 | K16: =VALUE('Raw-Data 3'!B39) -> 0.003 | L16: =VALUE('Raw-Data 3'!C39) -> 0 | M16: =VALUE('Raw-Data 3'!D39) -> 0.0016 | N16: =VALUE('Raw-Data 3'!E39) -> 0 | O16: =VALUE('Raw-Data 3'!F39) -> 0.0051 | Q16: =VALUE('Raw-Data 3'!B47) -> 0 | R16: =VALUE('Raw-Data 3'!C47) -> 0.0043 | S16: =VALUE('Raw-Data 3'!D47) -> 0 | T16: =VALUE('Raw-Data 3'!E47) -> 0.0052 | U16: =VALUE('Raw-Data 3'!F47) -> 0.0233 | V16: =VALUE('Raw-Data 3'!G47) -> 0.005
B18: Sanitation
E19: Urban | K19: Rural | Q19: IDP
C20: National | E20: Poorest Q. | F20: Q2 | G20: Q3 | H20: Q4 | I20: Richest Q. | K20: Poorest Q. | L20: Q2 | M20: Q3 | N20: Q4 | O20: Richest Q. | Q20: Poorest Q. | R20: Q2 | S20: Q3 | T20: Q4 | U20: Richest Q. | V20: IDP
B21: Bush | C21: =VALUE('Raw-Data 3'!B128) -> 0.6072 | E21: =VALUE('Raw-Data 3'!B52) -> 0.4435 | F21: =VALUE('Raw-Data 3'!C52) -> 0.2379 | G21: =VALUE('Raw-Data 3'!D52) -> 0.0857 | H21: =VALUE('Raw-Data 3'!E52) -> 0.0665 | I21: =VALUE('Raw-Data 3'!F52) -> 0.0286 | K21: =VALUE('Raw-Data 3'!B59) -> 0.9695 | L21: =VALUE('Raw-Data 3'!C59) -> 0.9121 | M21: =VALUE('Raw-Data 3'!D59) -> 0.8611 | N21: =VALUE('Raw-Data 3'!E59) -> 0.748 | O21: =VALUE('Raw-Data 3'!F59) -> 0.4523 | Q21: =VALUE('Raw-Data 3'!B66) -> 0 | R21: =VALUE('Raw-Data 3'!C66) -> 0 | S21: =VALUE('Raw-Data 3'!D66) -> 0 | T21: =VALUE('Raw-Data 3'!E66) -> 0 | U21: =VALUE('Raw-Data 3'!F66) -> 0.0049 | V21: =VALUE('Raw-Data 3'!G66) -> 0.0006
B22: Pit Latrine | C22: =VALUE('Raw-Data 3'!B129) -> 0.38 | E22: =VALUE('Raw-Data 3'!B53) -> 0.5565 | F22: =VALUE('Raw-Data 3'!C53) -> 0.7621 | G22: =VALUE('Raw-Data 3'!D53) -> 0.9143 | H22: =VALUE('Raw-Data 3'!E53) -> 0.9229 | I22: =VALUE('Raw-Data 3'!F53) -> 0.9446 | K22: =VALUE('Raw-Data 3'!B60) -> 0.0305 | L22: =VALUE('Raw-Data 3'!C60) -> 0.0879 | M22: =VALUE('Raw-Data 3'!D60) -> 0.1389 | N22: =VALUE('Raw-Data 3'!E60) -> 0.252 | O22: =VALUE('Raw-Data 3'!F60) -> 0.5477 | Q22: =VALUE('Raw-Data 3'!B67) -> 0.8261 | R22: =VALUE('Raw-Data 3'!C67) -> 0.866 | S22: =VALUE('Raw-Data 3'!D67) -> 0.856 | T22: =VALUE('Raw-Data 3'!E67) -> 0.7915 | U22: =VALUE('Raw-Data 3'!F67) -> 0.8634 | V22: =VALUE('Raw-Data 3'!G67) -> 0.8431
B23: Flush | C23: =VALUE('Raw-Data 3'!B130) -> 0.0128 | E23: =VALUE('Raw-Data 3'!B54) -> 0 | F23: =VALUE('Raw-Data 3'!C54) -> 0 | G23: =VALUE('Raw-Data 3'!D54) -> 0 | H23: =VALUE('Raw-Data 3'!E54) -> 0.0106 | I23: =VALUE('Raw-Data 3'!F54) -> 0.0268 | K23: =VALUE('Raw-Data 3'!B61) -> 0 | L23: =VALUE('Raw-Data 3'!C61) -> 0 | M23: =VALUE('Raw-Data 3'!D61) -> 0 | N23: =VALUE('Raw-Data 3'!E61) -> 0 | O23: =VALUE('Raw-Data 3'!F61) -> 0 | Q23: =VALUE('Raw-Data 3'!B68) -> 0.1739 | R23: =VALUE('Raw-Data 3'!C68) -> 0.134 | S23: =VALUE('Raw-Data 3'!D68) -> 0.144 | T23: =VALUE('Raw-Data 3'!E68) -> 0.2085 | U23: =VALUE('Raw-Data 3'!F68) -> 0.1317 | V23: =VALUE('Raw-Data 3'!G68) -> 0.1563 | AA23: Sanitation
AD24: Urban | AJ24: Rural
B25: Lighting | AB25: National | AD25: Poorest Q. | AE25: Q2 | AF25: Q3 | AG25: Q4 | AH25: Richest Q. | AJ25: Poorest Q. | AK25: Q2 | AL25: Q3 | AM25: Q4 | AN25: Richest Q.
E26: Urban | K26: Rural | Q26: IDP | AA26: Bush | AB26: 0.7211 | AD26: 0.5597 | AE26: 0.5012 | AF26: 0.5655 | AG26: 0.4685 | AH26: 0.3272 | AJ26: 0.9265 | AK26: 0.829 | AL26: 0.7974 | AM26: 0.7126 | AN26: 0.6604
C27: National | E27: Poorest Q. | F27: Q2 | G27: Q3 | H27: Q4 | I27: Richest Q. | K27: Poorest Q. | L27: Q2 | M27: Q3 | N27: Q4 | O27: Richest Q. | Q27: Poorest Q. | R27: Q2 | S27: Q3 | T27: Q4 | U27: Richest Q. | V27: IDP | AA27: Pit Latrine | AB27: 0.27 | AD27: 0.4403 | AE27: 0.4921 | AF27: 0.412 | AG27: 0.4927 | AH27: 0.6294 | AJ27: 0.0735 | AK27: 0.1673 | AL27: 0.2004 | AM27: 0.2874 | AN27: 0.329
B28: No Lighting | C28: =VALUE('Raw-Data 3'!B134) -> 0.4142 | E28: =VALUE('Raw-Data 3'!B73) -> 0.3942 | F28: =VALUE('Raw-Data 3'!C73) -> 0.3384 | G28: =VALUE('Raw-Data 3'!D73) -> 0.1515 | H28: =VALUE('Raw-Data 3'!E73) -> 0.1098 | I28: =VALUE('Raw-Data 3'!F73) -> 0.037 | K28: =VALUE('Raw-Data 3'!B82) -> 0.3167 | L28: =VALUE('Raw-Data 3'!C82) -> 0.2883 | M28: =VALUE('Raw-Data 3'!D82) -> 0.1956 | N28: =VALUE('Raw-Data 3'!E82) -> 0.1333 | O28: =VALUE('Raw-Data 3'!F82) -> 0.0355 | Q28: =VALUE('Raw-Data 3'!B91) -> 0.3219 | R28: =VALUE('Raw-Data 3'!C91) -> 0.3105 | S28: =VALUE('Raw-Data 3'!D91) -> 0.217 | T28: =VALUE('Raw-Data 3'!E91) -> 0.1608 | U28: =VALUE('Raw-Data 3'!F91) -> 0.1685 | V28: =VALUE('Raw-Data 3'!G91) -> 0.2448 | AA28: Flush | AB28: 0.0088 | AD28: 0 | AE28: 0.0067 | AF28: 0.0226 | AG28: 0.0388 | AH28: 0.0434 | AJ28: 0 | AK28: 0.0037 | AL28: 0.0022 | AM28: 0 | AN28: 0.0106
B29: Grass / Firewood | C29: =VALUE('Raw-Data 3'!B135) -> 0.4113 | E29: =VALUE('Raw-Data 3'!B74) -> 0.2651 | F29: =VALUE('Raw-Data 3'!C74) -> 0.0822 | G29: =VALUE('Raw-Data 3'!D74) -> 0.1765 | H29: =VALUE('Raw-Data 3'!E74) -> 0.0995 | I29: =VALUE('Raw-Data 3'!F74) -> 0.0571 | K29: =VALUE('Raw-Data 3'!B83) -> 0.6096 | L29: =VALUE('Raw-Data 3'!C83) -> 0.5861 | M29: =VALUE('Raw-Data 3'!D83) -> 0.5397 | N29: =VALUE('Raw-Data 3'!E83) -> 0.665 | O29: =VALUE('Raw-Data 3'!F83) -> 0.4511 | Q29: =VALUE('Raw-Data 3'!B92) -> 0.1272 | R29: =VALUE('Raw-Data 3'!C92) -> 0.1169 | S29: =VALUE('Raw-Data 3'!D92) -> 0.1142 | T29: =VALUE('Raw-Data 3'!E92) -> 0.0845 | U29: =VALUE('Raw-Data 3'!F92) -> 0.0799 | V29: =VALUE('Raw-Data 3'!G92) -> 0.1079
B30: Lamp / Candle / Torch | C30: =VALUE('Raw-Data 3'!B136) -> 0.0227 | E30: =VALUE('Raw-Data 3'!B75) -> 0.3407 | F30: =VALUE('Raw-Data 3'!C75) -> 0.5795 | G30: =VALUE('Raw-Data 3'!D75) -> 0.6476 | H30: =VALUE('Raw-Data 3'!E75) -> 0.7208 | I30: =VALUE('Raw-Data 3'!F75) -> 0.6524 | K30: =VALUE('Raw-Data 3'!B84) -> 0.0737 | L30: =VALUE('Raw-Data 3'!C84) -> 0.1256 | M30: =VALUE('Raw-Data 3'!D84) -> 0.258 | N30: =VALUE('Raw-Data 3'!E84) -> 0.1732 | O30: =VALUE('Raw-Data 3'!F84) -> 0.4873 | Q30: =VALUE('Raw-Data 3'!B93) -> 0.5474 | R30: =VALUE('Raw-Data 3'!C93) -> 0.5559 | S30: =VALUE('Raw-Data 3'!D93) -> 0.6466 | T30: =VALUE('Raw-Data 3'!E93) -> 0.7159 | U30: =VALUE('Raw-Data 3'!F93) -> 0.6686 | V30: =VALUE('Raw-Data 3'!G93) -> 0.6192
B31: Electricity/Solar | C31: =VALUE('Raw-Data 3'!B137) -> 0.0232 | E31: =SUM(E35:E36) -> 0 | F31: =SUM(F35:F36) -> 0 | G31: =SUM(G35:G36) -> 0.0244 | H31: =SUM(H35:H36) -> 0.0699 | I31: =SUM(I35:I36) -> 0.2535 | K31: =SUM(K35:K36) -> 0 | L31: =SUM(L35:L36) -> 0 | M31: =SUM(M35:M36) -> 0.0068 | N31: =SUM(N35:N36) -> 0.0285 | O31: =SUM(O35:O36) -> 0.0262 | Q31: =SUM(Q35:Q36) -> 0.0036 | R31: =SUM(R35:R36) -> 0.0167 | S31: =SUM(S35:S36) -> 0.0222 | T31: =SUM(T35:T36) -> 0.0388 | U31: =VALUE('Raw-Data 3'!F94) -> 0.0154 | V31: =VALUE('Raw-Data 3'!G94) -> 0.0043
B32: No electricity | C32: =1-C31 -> 0.9768 | E32: =1-E31 -> 1 | F32: =1-F31 -> 1 | G32: =1-G31 -> 0.9756 | H32: =1-H31 -> 0.9301 | I32: =1-I31 -> 0.7465 | K32: =1-K31 -> 1 | L32: =1-L31 -> 1 | M32: =1-M31 -> 0.9932 | N32: =1-N31 -> 0.9715 | O32: =1-O31 -> 0.9738 | Q32: =1-Q31 -> 0.9964 | R32: =1-R31 -> 0.9833 | S32: =1-S31 -> 0.9778 | T32: =1-T31 -> 0.9612 | U32: =VALUE('Raw-Data 3'!F95) -> 0.0676 | V32: =1-V31 -> 0.9957 | AA32: Cooking
AD33: Urban | AJ33: Rural
AB34: National | AD34: Poorest Q. | AE34: Q2 | AF34: Q3 | AG34: Q4 | AH34: Richest Q. | AJ34: Poorest Q. | AK34: Q2 | AL34: Q3 | AM34: Q4 | AN34: Richest Q.
B35: Electricity | C35: =VALUE('Raw-Data 3'!G76) -> 0.0806 | E35: =VALUE('Raw-Data 3'!B76) -> 0 | F35: =VALUE('Raw-Data 3'!C76) -> 0 | G35: =VALUE('Raw-Data 3'!D76) -> 0 | H35: =VALUE('Raw-Data 3'!E76) -> 0.0356 | I35: =VALUE('Raw-Data 3'!F76) -> 0.1501 | K35: =VALUE('Raw-Data 3'!B85) -> 0 | L35: =VALUE('Raw-Data 3'!C85) -> 0 | M35: =VALUE('Raw-Data 3'!D85) -> 0 | N35: =VALUE('Raw-Data 3'!E85) -> 0.0093 | O35: =VALUE('Raw-Data 3'!F85) -> 0.0073 | Q35: =VALUE('Raw-Data 3'!B94) -> 0 | R35: =VALUE('Raw-Data 3'!C94) -> 0.0014 | S35: =VALUE('Raw-Data 3'!D94) -> 0.0029 | T35: =VALUE('Raw-Data 3'!E94) -> 0.0069 | U35: =VALUE('Raw-Data 3'!F94) -> 0.0154 | V35: =VALUE('Raw-Data 3'!G94) -> 0.0043 | AA35: Grass | AB35: 0.0075 | AD35: 0.012 | AE35: 0 | AF35: 0.0032 | AG35: 0 | AH35: 0 | AJ35: 0.0197 | AK35: 0.0073 | AL35: 0.0106 | AM35: 0.0051 | AN35: 0.0017
B36: Solar Power / Biogas | E36: =VALUE('Raw-Data 3'!B77) -> 0 | F36: =VALUE('Raw-Data 3'!C77) -> 0 | G36: =VALUE('Raw-Data 3'!D77) -> 0.0244 | H36: =VALUE('Raw-Data 3'!E77) -> 0.0343 | I36: =VALUE('Raw-Data 3'!F77) -> 0.1034 | K36: =VALUE('Raw-Data 3'!B86) -> 0 | L36: =VALUE('Raw-Data 3'!C86) -> 0 | M36: =VALUE('Raw-Data 3'!D86) -> 0.0068 | N36: =VALUE('Raw-Data 3'!E86) -> 0.0192 | O36: =VALUE('Raw-Data 3'!F86) -> 0.0189 | Q36: =VALUE('Raw-Data 3'!B95) -> 0.0036 | R36: =VALUE('Raw-Data 3'!C95) -> 0.0153 | S36: =VALUE('Raw-Data 3'!D95) -> 0.0193 | T36: =VALUE('Raw-Data 3'!E95) -> 0.0319 | U36: =VALUE('Raw-Data 3'!F95) -> 0.0676 | V36: =VALUE('Raw-Data 3'!B138) -> 1 | AA36: Firewood | AB36: 0.8793 | AD36: 0.6064 | AE36: 0.5892 | AF36: 0.5444 | AG36: 0.4977 | AH36: 0.3165 | AJ36: 0.9776 | AK36: 0.9861 | AL36: 0.9756 | AM36: 0.9776 | AN36: 0.968
AA37: Charcoal | AB37: 0.1036 | AD37: 0.3703 | AE37: 0.4108 | AF37: 0.4342 | AG37: 0.4977 | AH37: 0.6414 | AJ37: 0 | AK37: 0 | AL37: 0.0066 | AM37: 0.01 | AN37: 0.0223
AA38: Elec./Gas/Biogas/Other | AB38: 0.0096 | AD38: 0.0113 | AE38: 0 | AF38: 0.0182 | AG38: 0.0046 | AH38: 0.0421 | AJ38: 0.0027 | AK38: 0.0067 | AL38: 0.0072 | AM38: 0.0074 | AN38: 0.008
AA54: Lighting
AD55: Urban | AJ55: Rural
AB56: National | AD56: Poorest Q. | AE56: Q2 | AF56: Q3 | AG56: Q4 | AH56: Richest Q. | AJ56: Poorest Q. | AK56: Q2 | AL56: Q3 | AM56: Q4 | AN56: Richest Q. | AP56: IDP
AA57: No Lighting | AB57: 0.2161 | AD57: 0.2484 | AE57: 0.1941 | AF57: 0.1572 | AG57: 0.1533 | AH57: 0.1109 | AJ57: 0.2066 | AK57: 0.2722 | AL57: 0.2451 | AM57: 0.2524 | AN57: 0.1826
...

Sheet Raw-Data 3
A1: house urban W3
A2: RECODE of housingtype (C.1 What kind of structure does this household live in?) | B2: Poorest Quintile | C2: Q2 | D2: Q3 | E2: Q4 | F2: Richest Quintile | G2: Total | H2: N
B3: Prop. | C3: Prop. | D3: Prop. | E3: Prop. | F3: Prop. | G3: Prop.
A4: Tent | B4: 0.0000 | C4: 0.0000 | D4: 0.0000 | E4: 0.0000 | F4: 0.0060 | G4: 0.0029 | H4: 1
A5: Tukul/gottiya | B5: 0.7762 | C5: 0.6183 | D5: 0.5956 | E5: 0.6320 | F5: 0.4509 | G5: 0.5481 | H5: 281
A6: Mud/wood hut | B6: 0.1776 | C6: 0.1570 | D6: 0.2191 | E6: 0.1803 | F6: 0.2059 | G6: 0.1954 | H6: 112
A7: Concrete/brick house | B7: 0.0461 | C7: 0.2247 | D7: 0.1853 | E7: 0.1877 | F7: 0.3373 | G7: 0.2536 | H7: 125
A8: Total | B8: 1.0000 | C8: 1.0000 | D8: 1.0000 | E8: 1.0000 | F8: 1.0000 | G8: 1.0000 | H8: 519
A9: house rural W3
A10: RECODE of housingtype (C.1 What kind of structure does this household live in?) | B10: Poorest Quintile | C10: Q2 | D10: Q3 | E10: Q4 | F10: Richest Quintile | G10: Total | H10: N
B11: Prop. | C11: Prop. | D11: Prop. | E11: Prop. | F11: Prop. | G11: Prop.
A12: Tent | B12: 0.0000 | C12: 0.0089 | D12: 0.0139 | E12: 0.0050 | F12: 0.0000 | G12: 0.0055 | H12: 4
A13: Tukul/gottiya | B13: 0.8775 | C13: 0.9090 | D13: 0.8626 | E13: 0.8544 | F13: 0.7283 | G13: 0.8422 | H13: 974
A14: Mud/wood hut | B14: 0.1111 | C14: 0.0813 | D14: 0.0988 | E14: 0.1359 | F14: 0.2101 | G14: 0.1305 | H14: 177
A15: Concrete/brick house | B15: 0.0114 | C15: 0.0007 | D15: 0.0247 | E15: 0.0047 | F15: 0.0616 | G15: 0.0218 | H15: 25
A16: Total | B16: 1.0000 | C16: 1.0000 | D16: 1.0000 | E16: 1.0000 | F16: 1.0000 | G16: 1.0000 | H16: 1,180
A17: house National
A18: RECODE of housingtype (C.1 What kind of structure does this household live in?) | B18: Poorest Quintile | C18: Q2 | D18: Q3 | E18: Q4 | F18: Richest Quintile | G18: Total | H18: N
B19: Prop. | C19: Prop. | D19: Prop. | E19: Prop. | F19: Prop. | G19: Prop.
A20: Tent | B20: 0.5404 | C20: 0.5809 | D20: 0.6779 | E20: 0.8494 | F20: 0.9124 | G20: 0.6867 | H20: 1,924
A21: Tukul/gottiya | B21: 0.4476 | C21: 0.4164 | D21: 0.3221 | E21: 0.1480 | F21: 0.0774 | G21: 0.3085 | H21: 440
A22: Mud/wood hut | B22: 0.0000 | C22: 0.0027 | D22: 0.0000 | E22: 0.0026 | F22: 0.0000 | G22: 0.0011 | H22: 2
A23: Concrete/brick house | B23: 0.0121 | C23: 0.0000 | D23: 0.0000 | E23: 0.0000 | F23: 0.0102 | G23: 0.0036 | H23: 5
A24: Total | B24: 1.0000 | C24: 1.0000 | D24: 1.0000 | E24: 1.0000 | F24: 1.0000 | G24: 1.0000 | H24: 2,371
A25: cook urban W3
A26: RECODE of cooking (C.19 Source of energy for cooking) | B26: Poorest Quintile | C26: Q2 | D26: Q3 | E26: Q4 | F26: Richest Quintile | G26: Total | H26: N
B27: Prop. | C27: Prop. | D27: Prop. | E27: Prop. | F27: Prop. | G27: Prop.
A28: Grass | B28: 0.0000 | C28: 0.0000 | D28: 0.0000 | E28: 0.0047 | F28: 0.0000 | G28: 0.0009 | H28: 2
A29: Firewood | B29: 0.7360 | C29: 0.5518 | D29: 0.4562 | E29: 0.3331 | F29: 0.2184 | G29: 0.3471 | H29: 191
A30: Charcoal | B30: 0.2640 | C30: 0.4482 | D30: 0.5438 | E30: 0.6583 | F30: 0.7774 | G30: 0.6492 | H30: 331
A31: Elec./Gas/Biogas/Other | B31: 0.0000 | C31: 0.0000 | D31: 0.0000 | E31: 0.0040 | F31: 0.0042 | G31: 0.0028 | H31: 3
A32: Total | B32: 1.0000 | C32: 1.0000 | D32: 1.0000 | E32: 1.0000 | F32: 1.0000 | G32: 1.0000 | H32: 527
A33: cook rural W3
A34: RECODE of cooking (C.19 Source of energy for cooking) | B34: Poorest Quintile | C34: Q2 | D34: Q3 | E34: Q4 | F34: Richest Quintile | G34: Total | H34: N
B35: Prop. | C35: Prop. | D35: Prop. | E35: Prop. | F35: Prop. | G35: Prop.
A36: Grass | B36: 0.0465 | C36: 0.0054 | D36: 0.0028 | E36: 0.0115 | F36: 0.0000 | G36: 0.0122 | H36: 10
A37: Firewood | B37: 0.9498 | C37: 0.9891 | D37: 0.9798 | E37: 0.9586 | F37: 0.9239 | G37: 0.9591 | H37: 1,138
A38: Charcoal | B38: 0.0007 | C38: 0.0055 | D38: 0.0158 | E38: 0.0300 | F38: 0.0709 | G38: 0.0267 | H38: 32
A39: Elec./Gas/Biogas/Other | B39: 0.0030 | C39: 0.0000 | D39: 0.0016 | E39: 0.0000 | F39: 0.0051 | G39: 0.0020 | H39: 4
A40: Total | B40: 1.0000 | C40: 1.0000 | D40: 1.0000 | E40: 1.0000 | F40: 1.0000 | G40: 1.0000 | H40: 1,184
...

Sheet Education
B2: Adult literacy 15+
C3: National | F3: Rural | I3: Urban | N3: IDP | S3: IN 2016
C4: Wave 1 | D4: Wave 3 | F4: Wave1 | G4: Wave3 | I4: Wave 1 | J4: Wave 2 | K4: Wave 3 | L4: Wave 4 | N4: Wave 4 | T4: National | V4: Urban | W4: Rural | Y4: Poorest Q. | Z4: Q2 | AA4: Q3 | AB4: Q4 | AC4: Richest Q. | AE4: Men | AF4: Women | AH4: IDP
B5: Literate | C5: =VALUE('Raw-Data 4'!B5) -> 0.3963 | D5: =VALUE('Raw-Data 4'!F5) -> 0.4146 | F5: =VALUE('Raw-Data 4'!B11) -> 0.3526 | G5: =VALUE('Raw-Data 4'!E11) -> 0.3514 | I5: =VALUE('Raw-Data 4'!B17) -> 0.6341 | J5: =VALUE('Raw-Data 4'!E17) -> 0.6228 | K5: =VALUE('Raw-Data 4'!H17) -> 0.7251 | L5: =VALUE('Raw-Data 4'!K17) -> 0.6291 | N5: =VALUE('Raw-Data 4'!B23) -> 0.5303 | S5: No Education | T5: =Education!D28 -> 0.5355 | V5: =Education!K28 -> 0.2288 | W5: =Education!G28 -> 0.5896 | Y5: =Education!AO13 -> 0.7259 | Z5: =Education!AP13 -> 0.6901 | AA5: =Education!AQ13 -> 0.659 | AB5: =Education!AR13 -> 0.6403 | AC5: =Education!AS13 -> 0.4545 | AE5: =Education!BF42 -> 0.4399 | AF5: =Education!BG42 -> 0.7071 | AH5: =Education!N28 -> 0.3485 | AM5: Literacy
S6: Primary | T6: =Education!D29 -> 0.3689 | V6: =Education!K29 -> 0.4729 | W6: =Education!G29 -> 0.3505 | Y6: =Education!AO14 -> 0.2027 | Z6: =Education!AP14 -> 0.198 | AA6: =Education!AQ14 -> 0.1691 | AB6: =Education!AR14 -> 0.2293 | AC6: =Education!AS14 -> 0.2935 | AE6: =Education!BF43 -> 0.3012 | AF6: =Education!BG43 -> 0.2125 | AH6: =Education!N29 -> 0.4985 | AM6: National | AU6: Urban | BA6: Rural | BG6: IDP
B7: + | C7: =VALUE('Raw-Data 4'!$D5-'Raw-Data 4'!$B5) -> 0.0447 | D7: =VALUE('Raw-Data 4'!$H5-'Raw-Data 4'!$F5) -> 0.0455 | F7: =VALUE('Raw-Data 4'!$D11-'Raw-Data 4'!$B11) -> 0.0566 | G7: =VALUE('Raw-Data 4'!$G11-'Raw-Data 4'!$E11) -> 0.0494 | I7: =VALUE('Raw-Data 4'!D17)-VALUE('Raw-Data 4'!B17) -> 0.0316 | J7: =VALUE('Raw-Data 4'!G17)-VALUE('Raw-Data 4'!E17) -> 0.0449 | K7: =VALUE('Raw-Data 4'!J17)-VALUE('Raw-Data 4'!H17) -> 0.0399 | L7: =VALUE('Raw-Data 4'!M17)-VALUE('Raw-Data 4'!K17) -> 0.0362 | N7: =VALUE('Raw-Data 4'!$D23-'Raw-Data 4'!$B23) -> 0.0239 | S7: Secondary | T7: =Education!D30 -> 0.0792 | V7: =Education!K30 -> 0.2229 | W7: =Education!G30 -> 0.0539 | Y7: =Education!AO15 -> 0.068 | Z7: =Education!AP15 -> 0.0906 | AA7: =Education!AQ15 -> 0.1439 | AB7: =Education!AR15 -> 0.105 | AC7: =Education!AS15 -> 0.1836 | AE7: =Education!BF44 -> 0.21 | AF7: =Education!BG44 -> 0.0653 | AH7: =Education!N30 -> 0.1129 | AM7: Overall | AO7: Poorest Q. | AP7: Q2 | AQ7: Q3 | AR7: Q4 | AS7: Richest Q. | AU7: Poorest Q. | AV7: Q2 | AW7: Q3 | AX7: Q4 | AY7: Richest Q. | BA7: Poorest Q. | BB7: Q2 | BC7: Q3 | BD7: Q4 | BE7: Richest Q. | BG7: Poorest Q. | BH7: Q2 | BI7: Q3 | BJ7: Q4 | BK7: Richest Q.
B8: - | C8: =VALUE('Raw-Data 4'!$B5-'Raw-Data 4'!$C5) -> 0.0431 | D8: =VALUE('Raw-Data 4'!$F5-'Raw-Data 4'!$G5) -> 0.0442 | F8: =VALUE('Raw-Data 4'!$B11-'Raw-Data 4'!$C11) -> 0.0528 | G8: =VALUE('Raw-Data 4'!$E11-'Raw-Data 4'!$F11) -> 0.0464 | I8: =VALUE('Raw-Data 4'!B17)-VALUE('Raw-Data 4'!C17) -> 0.0328 | J8: =VALUE('Raw-Data 4'!E17)-VALUE('Raw-Data 4'!F17) -> 0.0472 | K8: =VALUE('Raw-Data 4'!H17)-VALUE('Raw-Data 4'!I17) -> 0.0439 | L8: =VALUE('Raw-Data 4'!K17)-VALUE('Raw-Data 4'!L17) -> 0.0377 | N8: =VALUE('Raw-Data 4'!$B23-'Raw-Data 4'!$C23) -> 0.0241 | S8: Tertiary | T8: =Education!D31 -> 0.0164 | V8: =Education!K31 -> 0.0754 | W8: =Education!G31 -> 0.006 | Y8: =Education!AO16 -> 0.0034 | Z8: =Education!AP16 -> 0.0213 | AA8: =Education!AQ16 -> 0.028 | AB8: =Education!AR16 -> 0.0255 | AC8: =Education!AS16 -> 0.0684 | AE8: =Education!BF45 -> 0.049 | AF8: =Education!BG45 -> 0.0151 | AH8: =Education!N31 -> 0.0401 | AL8: Literate | AM8: =Education!D5 -> 0.4146 | AO8: =VALUE('Raw-Data 4'!B399) -> 0.3286 | AP8: =VALUE('Raw-Data 4'!E399) -> 0.3439 | AQ8: =VALUE('Raw-Data 4'!H399) -> 0.3643 | AR8: =VALUE('Raw-Data 4'!K399) -> 0.4091 | AS8: =VALUE('Raw-Data 4'!N399) -> 0.565 | AU8: =VALUE('Raw-Data 4'!B405) -> 0.5428 | AV8: =VALUE('Raw-Data 4'!E405) -> 0.698 | AW8: =VALUE('Raw-Data 4'!H405) -> 0.7188 | AX8: =VALUE('Raw-Data 4'!K405) -> 0.7354 | AY8: =VALUE('Raw-Data 4'!N405) -> 0.7606 | BA8: =VALUE('Raw-Data 4'!B411) -> 0.3093 | BB8: =VALUE('Raw-Data 4'!E411) -> 0.2971 | BC8: =VALUE('Raw-Data 4'!H411) -> 0.3153 | BD8: =VALUE('Raw-Data 4'!K411) -> 0.3471 | BE8: =VALUE('Raw-Data 4'!N411) -> 0.4785 | BG8: =VALUE('Raw-Data 4'!B417) -> 0.5056 | BH8: =VALUE('Raw-Data 4'!E417) -> 0.4903 | BI8: =VALUE('Raw-Data 4'!H417) -> 0.517 | BJ8: =VALUE('Raw-Data 4'!K417) -> 0.6157 | BK8: =VALUE('Raw-Data 4'!N417) -> 0.6101
T11: National | V11: Urban | W11: Rural | Y11: Poorest Q. | Z11: Q2 | AA11: Q3 | AB11: Q4 | AC11: Richest Q. | AE11: Men | AF11: Women | AH11: IDP | AM11: National | AU11: Urban | BA11: Rural | BG11: IDP | BM11: IDP
S12: Illiterate | T12: =VALUE('Raw-Data 4'!H901) -> 0.6237 | V12: =VALUE('Raw-Data 4'!E901) -> 0.2946 | W12: =VALUE('Raw-Data 4'!B901) -> 0.6916 | Y12: =VALUE('Raw-Data 4'!B907) -> 0.7207 | Z12: =VALUE('Raw-Data 4'!E907) -> 0.707 | AA12: =VALUE('Raw-Data 4'!H907) -> 0.6647 | AB12: =VALUE('Raw-Data 4'!K907) -> 0.633 | AC12: =VALUE('Raw-Data 4'!N907) -> 0.4697 | AE12: =VALUE('Raw-Data 4'!B913) -> 0.4567 | AF12: =VALUE('Raw-Data 4'!E913) -> 0.7638 | AH12: =VALUE('Raw-Data 4'!B917) -> 0.5094 | AO12: Poorest Q. | AP12: Q2 | AQ12: Q3 | AR12: Q4 | AS12: Richest Q. | AU12: Poorest Q. | AV12: Q2 | AW12: Q3 | AX12: Q4 | AY12: Richest Q. | BA12: Poorest Q. | BB12: Q2 | BC12: Q3 | BD12: Q4 | BE12: Richest Q. | BG12: Poorest Q. | BH12: Q2 | BI12: Q3 | BJ12: Q4 | BK12: Richest Q.
S13: Literate | T13: =VALUE('Raw-Data 4'!H902) -> 0.3763 | V13: =VALUE('Raw-Data 4'!E902) -> 0.7054 | W13: =VALUE('Raw-Data 4'!B902) -> 0.3084 | Y13: =VALUE('Raw-Data 4'!B908) -> 0.2793 | Z13: =VALUE('Raw-Data 4'!E908) -> 0.293 | AA13: =VALUE('Raw-Data 4'!H908) -> 0.3353 | AB13: =VALUE('Raw-Data 4'!K908) -> 0.367 | AC13: =VALUE('Raw-Data 4'!N908) -> 0.5303 | AE13: =VALUE('Raw-Data 4'!B914) -> 0.5433 | AF13: =VALUE('Raw-Data 4'!E914) -> 0.2362 | AH13: =VALUE('Raw-Data 4'!B918) -> 0.4906 | AL13: No Education | AM13: =VALUE('Raw-Data 4'!Q422) -> 0.6169 | AO13: =VALUE('Raw-Data 4'!B422) -> 0.7259 | AP13: =VALUE('Raw-Data 4'!E422) -> 0.6901 | AQ13: =VALUE('Raw-Data 4'!H422) -> 0.659 | AR13: =VALUE('Raw-Data 4'!K422) -> 0.6403 | AS13: =VALUE('Raw-Data 4'!N422) -> 0.4545 | AU13: =VALUE('Raw-Data 4'!B430) -> 0.4901 | AV13: =VALUE('Raw-Data 4'!E430) -> 0.3744 | AW13: =VALUE('Raw-Data 4'!H430) -> 0.2978 | AX13: =VALUE('Raw-Data 4'!K430) -> 0.3094 | AY13: =VALUE('Raw-Data 4'!N430) -> 0.2578 | BA13: =VALUE('Raw-Data 4'!B438) -> 0.7474 | BB13: =VALUE('Raw-Data 4'!E438) -> 0.7308 | BC13: =VALUE('Raw-Data 4'!H438) -> 0.7077 | BD13: =VALUE('Raw-Data 4'!K438) -> 0.7025 | BE13: =VALUE('Raw-Data 4'!N438) -> 0.539 | BG13: =VALUE('Raw-Data 4'!B446) -> 0.5253 | BH13: =VALUE('Raw-Data 4'!E446) -> 0.5488 | BI13: =VALUE('Raw-Data 4'!H446) -> 0.4939 | BJ13: =VALUE('Raw-Data 4'!K446) -> 0.3866 | BK13: =VALUE('Raw-Data 4'!N446) -> 0.3712 | BM13: =VALUE('Raw-Data 4'!Q446) -> 0.4881
AL14: Primary | AM14: =VALUE('Raw-Data 4'!Q423) -> 0.2249 | AO14: =VALUE('Raw-Data 4'!B423) -> 0.2027 | AP14: =VALUE('Raw-Data 4'!E423) -> 0.198 | AQ14: =VALUE('Raw-Data 4'!H423) -> 0.1691 | AR14: =VALUE('Raw-Data 4'!K423) -> 0.2293 | AS14: =VALUE('Raw-Data 4'!N423) -> 0.2935 | AU14: =VALUE('Raw-Data 4'!B431) -> 0.2794 | AV14: =VALUE('Raw-Data 4'!E431) -> 0.2497 | AW14: =VALUE('Raw-Data 4'!H431) -> 0.2365 | AX14: =VALUE('Raw-Data 4'!K431) -> 0.275 | AY14: =VALUE('Raw-Data 4'!N431) -> 0.2255 | BA14: =VALUE('Raw-Data 4'!B439) -> 0.1957 | BB14: =VALUE('Raw-Data 4'!E439) -> 0.1914 | BC14: =VALUE('Raw-Data 4'!H439) -> 0.16 | BD14: =VALUE('Raw-Data 4'!K439) -> 0.2207 | BE14: =VALUE('Raw-Data 4'!N439) -> 0.3227 | BG14: =VALUE('Raw-Data 4'!B447) -> 0.2601 | BH14: =VALUE('Raw-Data 4'!E447) -> 0.23 | BI14: =VALUE('Raw-Data 4'!H447) -> 0.2603 | BJ14: =VALUE('Raw-Data 4'!K447) -> 0.3168 | BK14: =VALUE('Raw-Data 4'!N447) -> 0.2552 | BM14: =VALUE('Raw-Data 4'!Q447) -> 0.2599
T15: =VALUE('Raw-Data 4'!H901-'Raw-Data 4'!I901) -> 0.044 | V15: =VALUE('Raw-Data 4'!E901-'Raw-Data 4'!F901) -> 0.0411 | W15: =VALUE('Raw-Data 4'!B901-'Raw-Data 4'!C901) -> 0.0459 | Y15: =VALUE('Raw-Data 4'!B907-'Raw-Data 4'!C907) -> 0.0626 | Z15: =VALUE('Raw-Data 4'!E907-'Raw-Data 4'!F907) -> 0.0646 | AA15: =VALUE('Raw-Data 4'!H907-'Raw-Data 4'!I907) -> 0.0793 | AB15: =VALUE('Raw-Data 4'!K907-'Raw-Data 4'!L907) -> 0.0632 | AC15: =VALUE('Raw-Data 4'!N907-'Raw-Data 4'!O907) -> 0.0584 | AE15: =VALUE('Raw-Data 4'!B913-'Raw-Data 4'!C913) -> 0.0536 | AF15: =VALUE('Raw-Data 4'!E913-'Raw-Data 4'!F913) -> 0.0405 | AH15: =VALUE('Raw-Data 4'!B917-'Raw-Data 4'!C917) -> 0.0245 | AL15: Secondary | AM15: =VALUE('Raw-Data 4'!Q424) -> 0.125 | AO15: =VALUE('Raw-Data 4'!B424) -> 0.068 | AP15: =VALUE('Raw-Data 4'!E424) -> 0.0906 | AQ15: =VALUE('Raw-Data 4'!H424) -> 0.1439 | AR15: =VALUE('Raw-Data 4'!K424) -> 0.105 | AS15: =VALUE('Raw-Data 4'!N424) -> 0.1836 | AU15: =VALUE('Raw-Data 4'!B432) -> 0.1901 | AV15: =VALUE('Raw-Data 4'!E432) -> 0.3071 | AW15: =VALUE('Raw-Data 4'!H432) -> 0.3236 | AX15: =VALUE('Raw-Data 4'!K432) -> 0.2943 | AY15: =VALUE('Raw-Data 4'!N432) -> 0.3484 | BA15: =VALUE('Raw-Data 4'!B440) -> 0.0569 | BB15: =VALUE('Raw-Data 4'!E440) -> 0.0627 | BC15: =VALUE('Raw-Data 4'!H440) -> 0.1197 | BD15: =VALUE('Raw-Data 4'!K440) -> 0.0693 | BE15: =VALUE('Raw-Data 4'!N440) -> 0.1129 | BG15: =VALUE('Raw-Data 4'!B448) -> 0.1478 | BH15: =VALUE('Raw-Data 4'!E448) -> 0.1671 | BI15: =VALUE('Raw-Data 4'!H448) -> 0.1728 | BJ15: =VALUE('Raw-Data 4'!K448) -> 0.2126 | BK15: =VALUE('Raw-Data 4'!N448) -> 0.2236 | BM15: =VALUE('Raw-Data 4'!Q448) -> 0.1765
T16: =VALUE('Raw-Data 4'!H902-'Raw-Data 4'!I902) -> 0.042 | V16: =VALUE('Raw-Data 4'!E902-'Raw-Data 4'!F902) -> 0.0446 | W16: =VALUE('Raw-Data 4'!B902-'Raw-Data 4'!C902) -> 0.0424 | Y16: =VALUE('Raw-Data 4'!B908-'Raw-Data 4'!C908) -> 0.055 | Z16: =VALUE('Raw-Data 4'!E908-'Raw-Data 4'!F908) -> 0.0573 | AA16: =VALUE('Raw-Data 4'!H908-'Raw-Data 4'!I908) -> 0.0709 | AB16: =VALUE('Raw-Data 4'!K908-'Raw-Data 4'!L908) -> 0.0589 | AC16: =VALUE('Raw-Data 4'!N908-'Raw-Data 4'!O908) -> 0.0593 | AE16: =VALUE('Raw-Data 4'!B914-'Raw-Data 4'!C914) -> 0.0545 | AF16: =VALUE('Raw-Data 4'!E914-'Raw-Data 4'!F914) -> 0.0363 | AH16: =VALUE('Raw-Data 4'!B918-'Raw-Data 4'!C918) -> 0.0245 | AL16: Tertiary | AM16: =VALUE('Raw-Data 4'!Q425) -> 0.0331 | AO16: =VALUE('Raw-Data 4'!B425) -> 0.0034 | AP16: =VALUE('Raw-Data 4'!E425) -> 0.0213 | AQ16: =VALUE('Raw-Data 4'!H425) -> 0.028 | AR16: =VALUE('Raw-Data 4'!K425) -> 0.0255 | AS16: =VALUE('Raw-Data 4'!N425) -> 0.0684 | AU16: =VALUE('Raw-Data 4'!B433) -> 0.0405 | AV16: =VALUE('Raw-Data 4'!E433) -> 0.0689 | AW16: =VALUE('Raw-Data 4'!H433) -> 0.1421 | AX16: =VALUE('Raw-Data 4'!K433) -> 0.1213 | AY16: =VALUE('Raw-Data 4'!N433) -> 0.1682 | BA16: =VALUE('Raw-Data 4'!B441) -> 0 | BB16: =VALUE('Raw-Data 4'!E441) -> 0.0152 | BC16: =VALUE('Raw-Data 4'!H441) -> 0.0126 | BD16: =VALUE('Raw-Data 4'!K441) -> 0.0075 | BE16: =VALUE('Raw-Data 4'!N441) -> 0.0255 | BG16: =VALUE('Raw-Data 4'!B449) -> 0.0668 | BH16: =VALUE('Raw-Data 4'!E449) -> 0.0541 | BI16: =VALUE('Raw-Data 4'!H449) -> 0.0729 | BJ16: =VALUE('Raw-Data 4'!K449) -> 0.084 | BK16: =VALUE('Raw-Data 4'!N449) -> 0.1501 | BM16: =VALUE('Raw-Data 4'!Q449) -> 0.0754
B25: Adult educational attainment 25+
C26: National | F26: Rural | I26: Urban | N26: IDP
C27: Wave 1 | D27: Wave 3 | F27: Wave1 | G27: Wave3 | I27: Wave 1 | J27: Wave 2 | K27: Wave 3 | L27: Wave 4 | N27: Wave 4
B28: No Education | C28: =VALUE('Raw-Data 4'!$B28) -> 0.5013 | D28: =VALUE('Raw-Data 4'!$F28) -> 0.5355 | F28: =VALUE('Raw-Data 4'!$B36) -> 0.5381 | G28: =VALUE('Raw-Data 4'!$E36) -> 0.5896 | I28: =VALUE('Raw-Data 4'!B44) -> 0.2861 | J28: =VALUE('Raw-Data 4'!E44) -> 0.2623 | K28: =VALUE('Raw-Data 4'!H44) -> 0.2288 | L28: =VALUE('Raw-Data 4'!K44) -> 0.275 | N28: =VALUE('Raw-Data 4'!B52) -> 0.3485
B29: Primary | C29: =VALUE('Raw-Data 4'!$B29) -> 0.4107 | D29: =VALUE('Raw-Data 4'!$F29) -> 0.3689 | F29: =VALUE('Raw-Data 4'!$B37) -> 0.3939 | G29: =VALUE('Raw-Data 4'!$E37) -> 0.3505 | I29: =VALUE('Raw-Data 4'!B45) -> 0.5091 | J29: =VALUE('Raw-Data 4'!E45) -> 0.5367 | K29: =VALUE('Raw-Data 4'!H45) -> 0.4729 | L29: =VALUE('Raw-Data 4'!K45) -> 0.4841 | N29: =VALUE('Raw-Data 4'!B53) -> 0.4985
B30: Secondary | C30: =VALUE('Raw-Data 4'!$B30) -> 0.0759 | D30: =VALUE('Raw-Data 4'!$F30) -> 0.0792 | F30: =VALUE('Raw-Data 4'!$B38) -> 0.0602 | G30: =VALUE('Raw-Data 4'!$E38) -> 0.0539 | I30: =VALUE('Raw-Data 4'!B46) -> 0.1676 | J30: =VALUE('Raw-Data 4'!E46) -> 0.1697 | K30: =VALUE('Raw-Data 4'!H46) -> 0.2229 | L30: =VALUE('Raw-Data 4'!K46) -> 0.1987 | N30: =VALUE('Raw-Data 4'!B54) -> 0.1129
B31: Tertiary | C31: =VALUE('Raw-Data 4'!$B31) -> 0.0121 | D31: =VALUE('Raw-Data 4'!$F31) -> 0.0164 | F31: =VALUE('Raw-Data 4'!$B39) -> 0.0078 | G31: =VALUE('Raw-Data 4'!$E39) -> 0.006 | I31: =VALUE('Raw-Data 4'!B47) -> 0.0372 | J31: =VALUE('Raw-Data 4'!E47) -> 0.0313 | K31: =VALUE('Raw-Data 4'!H47) -> 0.0754 | L31: =VALUE('Raw-Data 4'!K47) -> 0.0422 | N31: =VALUE('Raw-Data 4'!B55) -> 0.0401
P36: Primary
C37: National | F37: Rural | I37: Urban | N37: IDP | Q37: National | R37: Rural | S37: Urban | T37: IDP | AC37: Wave 4: | AL37: Attendance
C38: Wave 1 | D38: Wave 3 | F38: Wave1 | G38: Wave3 | I38: Wave 1 | J38: Wave 2 | K38: Wave 3 | L38: Wave 4 | N38: Wave 4 | P38: 39934 | Q38: 0.437 | R38: 0.3889 | S38: 0.6766 | AC38: Why not school | AF38: CI | BF38: Wave 3
B39: Primary attendance | C39: =VALUE('Raw-Data 4'!B61) -> 0.5509 | D39: =VALUE('Raw-Data 4'!F61) -> 0.421 | F39: =VALUE('Raw-Data 4'!B67) -> 0.5217 | G39: =VALUE('Raw-Data 4'!E67) -> 0.3724 | I39: =VALUE('Raw-Data 4'!B73) -> 0.7429 | J39: =VALUE('Raw-Data 4'!E73) -> 0.7748 | K39: =VALUE('Raw-Data 4'!H73) -> 0.7891 | L39: =VALUE('Raw-Data 4'!K73) -> 0.8064 | N39: =VALUE('Raw-Data 4'!B79) -> 0.7228 | AC39: Too young/old | AD39: =VALUE('Raw-Data 4'!B889) -> 0.2692 | AF39: =VALUE('Raw-Data 4'!B889-'Raw-Data 4'!C889) -> 0.0691 | AL39: National | AN39: Urban | AO39: Rural | AQ39: Poorest Q. | AR39: Q2 | AS39: Q3 | AT39: Q4 | AU39: Richest Q. | AW39: Boys | AX39: Girls | AZ39: IDP (2017)
P40: 40695 | AC40: Illness/disability | AD40: =VALUE('Raw-Data 4'!B890) -> 0.038 | AF40: =VALUE('Raw-Data 4'!B890-'Raw-Data 4'!C890) -> 0.021 | AK40: 2016 | AL40: =VALUE('Raw-Data 4'!Q375) -> 0.4735 | AN40: =VALUE('Raw-Data 4'!Q381) -> 0.8084 | AO40: =VALUE('Raw-Data 4'!Q387) -> 0.4232 | AQ40: =VALUE('Raw-Data 4'!B375) -> 0.3974 | AR40: =VALUE('Raw-Data 4'!E375) -> 0.4057 | AS40: =VALUE('Raw-Data 4'!H375) -> 0.4554 | AT40: =VALUE('Raw-Data 4'!K375) -> 0.4751 | AU40: =VALUE('Raw-Data 4'!N375) -> 0.6665 | AW40: =VALUE('Raw-Data 4'!F215) -> 0.5133 | AX40: =VALUE('Raw-Data 4'!F239) -> 0.4347 | AZ40: =VALUE('Raw-Data 4'!N393) -> 0.7739 | BF40: Overall | BI40: Men | BO40: Women
B41: + | C41: =VALUE('Raw-Data 4'!$D61-'Raw-Data 4'!$B61) -> 0.0511 | D41: =VALUE('Raw-Data 4'!$H61-'Raw-Data 4'!$F61) -> 0.0551 | F41: =VALUE('Raw-Data 4'!$D67-'Raw-Data 4'!$B67) -> 0.0599 | G41: =VALUE('Raw-Data 4'!$G67-'Raw-Data 4'!$E67) -> 0.0574 | I41: =VALUE('Raw-Data 4'!D73)-VALUE('Raw-Data 4'!B73) -> 0.0377 | J41: =VALUE('Raw-Data 4'!G73)-VALUE('Raw-Data 4'!E73) -> 0.0404 | K41: =VALUE('Raw-Data 4'!J73)-VALUE('Raw-Data 4'!H73) -> 0.0424 | L41: =VALUE('Raw-Data 4'!M73)-VALUE('Raw-Data 4'!K73) -> 0.05 | N41: =VALUE('Raw-Data 4'!$D79-'Raw-Data 4'!$B79) -> 0.0232 | U41: 1 | AC41: Pregnant | AD41: =VALUE('Raw-Data 4'!B891) -> 0.0947 | AF41: =VALUE('Raw-Data 4'!B891-'Raw-Data 4'!C891) -> 0.0535 | AK41: 2015 | AL41: =VALUE('Raw-Data 4'!Q874) -> 0.5703 | AN41: =VALUE('Raw-Data 4'!Q880) -> 0.747 | AO41: =VALUE('Raw-Data 4'!Q886) -> 0.5396 | AQ41: =VALUE('Raw-Data 4'!B874) -> 0.4639 | AR41: =VALUE('Raw-Data 4'!E874) -> 0.4817 | AS41: =VALUE('Raw-Data 4'!H874) -> 0.5707 | AT41: =VALUE('Raw-Data 4'!K874) -> 0.6233 | AU41: =VALUE('Raw-Data 4'!N874) -> 0.7593 | AW41: =VALUE('Raw-Data 4'!B215) -> 0.6062 | AX41: =VALUE('Raw-Data 4'!B239) -> 0.5265 | BF41: Male | BG41: Female | BI41: Poorest Q. | BJ41: Q2 | BK41: Q3 | BL41: Q4 | BM41: Richest Q. | BO41: Poorest Q. | BP41: Q2 | BQ41: Q3 | BR41: Q4 | BS41: Richest Q.
B42: - | C42: =VALUE('Raw-Data 4'!$B61-'Raw-Data 4'!$C61) -> 0.0522 | D42: =VALUE('Raw-Data 4'!$F61-'Raw-Data 4'!$G61) -> 0.0531 | F42: =VALUE('Raw-Data 4'!$B67-'Raw-Data 4'!$C67) -> 0.0604 | G42: =VALUE('Raw-Data 4'!$E67-'Raw-Data 4'!$F67) -> 0.0539 | I42: =VALUE('Raw-Data 4'!B73)-VALUE('Raw-Data 4'!C73) -> 0.0417 | J42: =VALUE('Raw-Data 4'!E73)-VALUE('Raw-Data 4'!F73) -> 0.0463 | K42: =VALUE('Raw-Data 4'!H73)-VALUE('Raw-Data 4'!I73) -> 0.0496 | L42: =VALUE('Raw-Data 4'!K73)-VALUE('Raw-Data 4'!L73) -> 0.0622 | N42: =VALUE('Raw-Data 4'!$B79-'Raw-Data 4'!$C79) -> 0.0245 | AC42: Working | AD42: =VALUE('Raw-Data 4'!B892) -> 0.0388 | AF42: =VALUE('Raw-Data 4'!B892-'Raw-Data 4'!C892) -> 0.0215 | AK42: 2009 | AL42: 0.4577 | AN42: 0.6825 | AO42: 0.4072 | AQ42: 0.3118 | AR42: 0.3967 | AS42: 0.4747 | AT42: 0.554 | AU42: 0.5722 | AW42: 0.5148 | AX42: 0.3991 | BE42: No Education | BF42: =VALUE('Raw-Data 4'!Q454) -> 0.4399 | BG42: =VALUE('Raw-Data 4'!Q462) -> 0.7071 | BI42: =VALUE('Raw-Data 4'!B454) -> 0.5259 | BJ42: =VALUE('Raw-Data 4'!E454) -> 0.5305 | BK42: =VALUE('Raw-Data 4'!H454) -> 0.4542 | BL42: =VALUE('Raw-Data 4'!K454) -> 0.4729 | BM42: =VALUE('Raw-Data 4'!N454) -> 0.302 | BO42: =VALUE('Raw-Data 4'!B462) -> 0.8115 | BP42: =VALUE('Raw-Data 4'!E462) -> 0.7589 | BQ42: =VALUE('Raw-Data 4'!H462) -> 0.754 | BR42: =VALUE('Raw-Data 4'!K462) -> 0.7116 | BS42: =VALUE('Raw-Data 4'!N462) -> 0.5569
AC43: Taking care of household | AD43: =VALUE('Raw-Data 4'!B893) -> 0.0541 | AF43: =VALUE('Raw-Data 4'!B893-'Raw-Data 4'!C893) -> 0.0232 | BE43: Primary | BF43: =VALUE('Raw-Data 4'!Q455) -> 0.3012 | BG43: =VALUE('Raw-Data 4'!Q463) -> 0.2125 | BI43: =VALUE('Raw-Data 4'!B455) -> 0.3466 | BJ43: =VALUE('Raw-Data 4'!E455) -> 0.2707 | BK43: =VALUE('Raw-Data 4'!H455) -> 0.2488 | BL43: =VALUE('Raw-Data 4'!K455) -> 0.3019 | BM43: =VALUE('Raw-Data 4'!N455) -> 0.3316 | BO43: =VALUE('Raw-Data 4'!B463) -> 0.1437 | BP43: =VALUE('Raw-Data 4'!E463) -> 0.2057 | BQ43: =VALUE('Raw-Data 4'!H463) -> 0.171 | BR43: =VALUE('Raw-Data 4'!K463) -> 0.2196 | BS43: =VALUE('Raw-Data 4'!N463) -> 0.2907
P44: 42186 | Q44: =C39 -> 0.5509 | R44: =F39 -> 0.5217 | S44: =I39 -> 0.7429 | AC44: Lack of financial resources | AD44: =VALUE('Raw-Data 4'!B894) -> 0.4355 | AF44: =VALUE('Raw-Data 4'!B894-'Raw-Data 4'!C894) -> 0.0963 | BE44: Secondary | BF44: =VALUE('Raw-Data 4'!Q456) -> 0.21 | BG44: =VALUE('Raw-Data 4'!Q464) -> 0.0653 | BI44: =VALUE('Raw-Data 4'!B456) -> 0.1198 | BJ44: =VALUE('Raw-Data 4'!E456) -> 0.1635 | BK44: =VALUE('Raw-Data 4'!H456) -> 0.254 | BL44: =VALUE('Raw-Data 4'!K456) -> 0.1873 | BM44: =VALUE('Raw-Data 4'!N456) -> 0.2744 | BO44: =VALUE('Raw-Data 4'!B464) -> 0.0448 | BP44: =VALUE('Raw-Data 4'!E464) -> 0.0291 | BQ44: =VALUE('Raw-Data 4'!H464) -> 0.0641 | BR44: =VALUE('Raw-Data 4'!K464) -> 0.055 | BS44: =VALUE('Raw-Data 4'!N464) -> 0.1161
