Workbook

Sheet Demographics
A1: Wave3 | B1: Men | D1: Women | G1: WAVE 3 | M1: WAVE 1 | R1: IDPs
A2: Under 5 Years | B2: =VALUE('Raw-Data 10'!$B$23/100*'Raw-Data 10'!B4/100) -> 0.096530663 | C2: =-D2 -> -0.084396189 | D2: =VALUE('Raw-Data 10'!$B$24/100*'Raw-Data 10'!C4/100) -> 0.084396189
A3: 5 - 9 Years | B3: =VALUE('Raw-Data 10'!$B$23/100*'Raw-Data 10'!B5/100) -> 0.092300738 | C3: =-D3 -> -0.096457931 | D3: =VALUE('Raw-Data 10'!$B$24/100*'Raw-Data 10'!C5/100) -> 0.096457931
A4: 10 - 14 Years | B4: =VALUE('Raw-Data 10'!$B$23/100*'Raw-Data 10'!B6/100) -> 0.068140148 | C4: =-D4 -> -0.069983822 | D4: =VALUE('Raw-Data 10'!$B$24/100*'Raw-Data 10'!C6/100) -> 0.069983822
A5: 15 - 19 Years | B5: =VALUE('Raw-Data 10'!$B$23/100*'Raw-Data 10'!B7/100) -> 0.058160246 | C5: =-D5 -> -0.056625892 | D5: =VALUE('Raw-Data 10'!$B$24/100*'Raw-Data 10'!C7/100) -> 0.056625892
A6: 20 - 24 Years | B6: =VALUE('Raw-Data 10'!$B$23/100*'Raw-Data 10'!B8/100) -> 0.031731718 | C6: =-D6 -> -0.035650292 | D6: =VALUE('Raw-Data 10'!$B$24/100*'Raw-Data 10'!C8/100) -> 0.035650292
A7: 25 - 29 Years | B7: =VALUE('Raw-Data 10'!$B$23/100*'Raw-Data 10'!B9/100) -> 0.028958713 | C7: =-D7 -> -0.038309533 | D7: =VALUE('Raw-Data 10'!$B$24/100*'Raw-Data 10'!C9/100) -> 0.038309533
A8: 30 - 34 Years | B8: =VALUE('Raw-Data 10'!$B$23/100*'Raw-Data 10'!B10/100) -> 0.021737246 | C8: =-D8 -> -0.034971336 | D8: =VALUE('Raw-Data 10'!$B$24/100*'Raw-Data 10'!C10/100) -> 0.034971336
A9: 35 - 39 Years | B9: =VALUE('Raw-Data 10'!$B$23/100*'Raw-Data 10'!B11/100) -> 0.019770404 | C9: =-D9 -> -0.02996147 | D9: =VALUE('Raw-Data 10'!$B$24/100*'Raw-Data 10'!C11/100) -> 0.02996147
A10: 40 - 44 Years | B10: =VALUE('Raw-Data 10'!$B$23/100*'Raw-Data 10'!B12/100) -> 0.016720585 | C10: =-D10 -> -0.01342994 | D10: =VALUE('Raw-Data 10'!$B$24/100*'Raw-Data 10'!C12/100) -> 0.01342994
A11: 45 - 49 Years | B11: =VALUE('Raw-Data 10'!$B$23/100*'Raw-Data 10'!B13/100) -> 0.015088835 | C11: =-D11 -> -0.016012027 | D11: =VALUE('Raw-Data 10'!$B$24/100*'Raw-Data 10'!C13/100) -> 0.016012027
A12: 50 - 54 Years | B12: =VALUE('Raw-Data 10'!$B$23/100*'Raw-Data 10'!B14/100) -> 0.011907893 | C12: =-D12 -> -0.010883858 | D12: =VALUE('Raw-Data 10'!$B$24/100*'Raw-Data 10'!C14/100) -> 0.010883858
A13: 55 - 59 Years | B13: =VALUE('Raw-Data 10'!$B$23/100*'Raw-Data 10'!B15/100) -> 0.0059927976 | C13: =-D13 -> -0.005940858 | D13: =VALUE('Raw-Data 10'!$B$24/100*'Raw-Data 10'!C15/100) -> 0.005940858
... A17: 75 - 79 Years | B17: =VALUE('Raw-Data 10'!$B$23/100*'Raw-Data 10'!B19/100) -> 0.0021999492 | C17: =-D17 -> -0.0026798156 | D17: =VALUE('Raw-Data 10'!$B$24/100*'Raw-Data 10'!C19/100) -> 0.0026798156
A18: Above 80 Years | B18: =VALUE('Raw-Data 10'!$B$23/100*'Raw-Data 10'!B20/100) -> 0.0017094528 | C18: =-D18 -> -0.0012756128 | D18: =VALUE('Raw-Data 10'!$B$24/100*'Raw-Data 10'!C20/100) -> 0.0012756128 | F18: 2009
L19: Urban | M19: Rural
B20: =SUM(B2:B18) -> 0.48564486 | C20: =SUM(B20,D20) -> 0.99999457 | D20: =SUM(D2:D18) -> 0.51434971 | K20: Population 2016 | L20: =VALUE('Raw-Data 10'!B78/100) -> 0.14055 | M20: =VALUE('Raw-Data 10'!B77/100) -> 0.85945
A23: Wave1 | B23: Men | C23: Women | D23: Women | K23: Urban | L23: =L20 -> 0.14055
A24: Under 5 Years | B24: =VALUE('Raw-Data 10'!B29/100*'Raw-Data 10'!B$48/100) -> 0.097164434 | C24: =-D24 -> -0.095593778 | D24: =VALUE('Raw-Data 10'!C29/100*'Raw-Data 10'!B$49/100) -> 0.095593778 | K24: Rural | L24: =M20 -> 0.85945
A25: 5 - 9 Years | B25: =VALUE('Raw-Data 10'!B30/100*'Raw-Data 10'!B$48/100) -> 0.098381806 | C25: =-D25 -> -0.099191953 | D25: =VALUE('Raw-Data 10'!C30/100*'Raw-Data 10'!B$49/100) -> 0.099191953 | R25: Rural | S25: Agriculture | T25: 0.7867
A26: 10 - 14 Years | B26: =VALUE('Raw-Data 10'!B31/100*'Raw-Data 10'!B$48/100) -> 0.065392963 | C26: =-D26 -> -0.065855458 | D26: =VALUE('Raw-Data 10'!C31/100*'Raw-Data 10'!B$49/100) -> 0.065855458 | S26: Waged work | T26: 0.0354
A27: 15 - 19 Years | B27: =VALUE('Raw-Data 10'!B32/100*'Raw-Data 10'!B$48/100) -> 0.051287753 | C27: =-D27 -> -0.054467312 | D27: =VALUE('Raw-Data 10'!C32/100*'Raw-Data 10'!B$49/100) -> 0.054467312 | S27: Own business | T27: 0.0111
A28: 20 - 24 Years | B28: =VALUE('Raw-Data 10'!B33/100*'Raw-Data 10'!B$48/100) -> 0.032945707 | C28: =-D28 -> -0.037606398 | D28: =VALUE('Raw-Data 10'!C33/100*'Raw-Data 10'!B$49/100) -> 0.037606398 | S28: Rem./Aid/Other | T28: 0.0382
A29: 25 - 29 Years | B29: =VALUE('Raw-Data 10'!B34/100*'Raw-Data 10'!B$48/100) -> 0.024040685 | C29: =-D29 -> -0.039553891 | D29: =VALUE('Raw-Data 10'!C34/100*'Raw-Data 10'!B$49/100) -> 0.039553891 | R29: Urban | S29: Agriculture | T29: 0.0396
A30: 30 - 34 Years | B30: =VALUE('Raw-Data 10'!B35/100*'Raw-Data 10'!B$48/100) -> 0.020867851 | C30: =-D30 -> -0.02763461 | D30: =VALUE('Raw-Data 10'!C35/100*'Raw-Data 10'!B$49/100) -> 0.02763461 | S30: Waged work | T30: 0.0528
A31: 35 - 39 Years | B31: =VALUE('Raw-Data 10'!B36/100*'Raw-Data 10'!B$48/100) -> 0.023024611 | C31: =-D31 -> -0.03072248 | D31: =VALUE('Raw-Data 10'!C36/100*'Raw-Data 10'!B$49/100) -> 0.03072248 | S31: Own business | T31: 0.0146
A32: 40 - 44 Years | B32: =VALUE('Raw-Data 10'!B37/100*'Raw-Data 10'!B$48/100) -> 0.017383486 | C32: =-D32 -> -0.016095455 | D32: =VALUE('Raw-Data 10'!C37/100*'Raw-Data 10'!B$49/100) -> 0.016095455 | S32: Rem./Aid/Other | T32: 0.0215
A33: 45 - 49 Years | B33: =VALUE('Raw-Data 10'!B38/100*'Raw-Data 10'!B$48/100) -> 0.014110003 | C33: =-D33 -> -0.017970047 | D33: =VALUE('Raw-Data 10'!C38/100*'Raw-Data 10'!B$49/100) -> 0.017970047
A34: 50 - 54 Years | B34: =VALUE('Raw-Data 10'!B39/100*'Raw-Data 10'!B$48/100) -> 0.010136772 | C34: =-D34 -> -0.0094198248 | D34: =VALUE('Raw-Data 10'!C39/100*'Raw-Data 10'!B$49/100) -> 0.0094198248
A35: 55 - 59 Years | B35: =VALUE('Raw-Data 10'!B40/100*'Raw-Data 10'!B$48/100) -> 0.0063648384 | C35: =-D35 -> -0.0073786024 | D35: =VALUE('Raw-Data 10'!C40/100*'Raw-Data 10'!B$49/100) -> 0.0073786024
A36: 60 - 64 Years | B36: =VALUE('Raw-Data 10'!B41/100*'Raw-Data 10'!B$48/100) -> 0.008099832 | C36: =-D36 -> -0.0090449064 | D36: =VALUE('Raw-Data 10'!C41/100*'Raw-Data 10'!B$49/100) -> 0.0090449064
A37: 65 - 69 Years | B37: =VALUE('Raw-Data 10'!B42/100*'Raw-Data 10'!B$48/100) -> 0.0031201128 | C37: =-D37 -> -0.0019891504 | D37: =VALUE('Raw-Data 10'!C42/100*'Raw-Data 10'!B$49/100) -> 0.0019891504
A38: 70 - 74 Years | B38: =VALUE('Raw-Data 10'!B43/100*'Raw-Data 10'!B$48/100) -> 0.002899644 | C38: =-D38 -> -0.0033794728 | D38: =VALUE('Raw-Data 10'!C43/100*'Raw-Data 10'!B$49/100) -> 0.0033794728
A39: 75 - 79 Years | B39: =VALUE('Raw-Data 10'!B44/100*'Raw-Data 10'!B$48/100) -> 0.0021711384 | C39: =-D39 -> -0.0016871328 | D39: =VALUE('Raw-Data 10'!C44/100*'Raw-Data 10'!B$49/100) -> 0.0016871328
A40: Above 80 Years | B40: =VALUE('Raw-Data 10'!B45/100*'Raw-Data 10'!B$48/100) -> 0.0018883632 | C40: =-D40 -> -0.0031295272 | D40: =VALUE('Raw-Data 10'!C45/100*'Raw-Data 10'!B$49/100) -> 0.0031295272
B42: =SUM(B24:B40) -> 0.47928 | C42: =SUM(B42,D42) -> 1 | D42: =SUM(D24:D40) -> 0.52072
A45: IDPs | B45: Men | C45: Women | D45: Women
A46: Under 5 Years | B46: =VALUE('Raw-Data 10'!B54/100*'Raw-Data 10'!$B$73/100) -> 0.076416051 | C46: =-D46 -> -0.079894795 | D46: =VALUE('Raw-Data 10'!C54/100*'Raw-Data 10'!$B$74/100) -> 0.079894795
A47: 5 - 9 Years | B47: =VALUE('Raw-Data 10'!B55/100*'Raw-Data 10'!$B$73/100) -> 0.08252818 | C47: =-D47 -> -0.075936885 | D47: =VALUE('Raw-Data 10'!C55/100*'Raw-Data 10'!$B$74/100) -> 0.075936885
A48: 10 - 14 Years | B48: =VALUE('Raw-Data 10'!B56/100*'Raw-Data 10'!$B$73/100) -> 0.074154082 | C48: =-D48 -> -0.065671218 | D48: =VALUE('Raw-Data 10'!C56/100*'Raw-Data 10'!$B$74/100) -> 0.065671218
A49: 15 - 19 Years | B49: =VALUE('Raw-Data 10'!B57/100*'Raw-Data 10'!$B$73/100) -> 0.055735879 | C49: =-D49 -> -0.061127143 | D49: =VALUE('Raw-Data 10'!C57/100*'Raw-Data 10'!$B$74/100) -> 0.061127143
A50: 20 - 24 Years | B50: =VALUE('Raw-Data 10'!B58/100*'Raw-Data 10'!$B$73/100) -> 0.034150919 | C50: =-D50 -> -0.053610746 | D50: =VALUE('Raw-Data 10'!C58/100*'Raw-Data 10'!$B$74/100) -> 0.053610746
A51: 25 - 29 Years | B51: =VALUE('Raw-Data 10'!B59/100*'Raw-Data 10'!$B$73/100) -> 0.035224151 | C51: =-D51 -> -0.05498538 | D51: =VALUE('Raw-Data 10'!C59/100*'Raw-Data 10'!$B$74/100) -> 0.05498538
A52: 30 - 34 Years | B52: =VALUE('Raw-Data 10'!B60/100*'Raw-Data 10'!$B$73/100) -> 0.034179795 | C52: =-D52 -> -0.036860954 | D52: =VALUE('Raw-Data 10'!C60/100*'Raw-Data 10'!$B$74/100) -> 0.036860954
A53: 35 - 39 Years | B53: =VALUE('Raw-Data 10'!B61/100*'Raw-Data 10'!$B$73/100) -> 0.027461266 | C53: =-D53 -> -0.032207946 | D53: =VALUE('Raw-Data 10'!C61/100*'Raw-Data 10'!$B$74/100) -> 0.032207946
A54: 40 - 44 Years | B54: =VALUE('Raw-Data 10'!B62/100*'Raw-Data 10'!$B$73/100) -> 0.017787739 | C54: =-D54 -> -0.01659936 | D54: =VALUE('Raw-Data 10'!C62/100*'Raw-Data 10'!$B$74/100) -> 0.01659936
A55: 45 - 49 Years | B55: =VALUE('Raw-Data 10'!B63/100*'Raw-Data 10'!$B$73/100) -> 0.016656755 | C55: =-D55 -> -0.015338846 | D55: =VALUE('Raw-Data 10'!C63/100*'Raw-Data 10'!$B$74/100) -> 0.015338846
A56: 50 - 54 Years | B56: =VALUE('Raw-Data 10'!B64/100*'Raw-Data 10'!$B$73/100) -> 0.0082682186 | C56: =-D56 -> -0.010488721 | D56: =VALUE('Raw-Data 10'!C64/100*'Raw-Data 10'!$B$74/100) -> 0.010488721
A57: 55 - 59 Years | B57: =VALUE('Raw-Data 10'!B65/100*'Raw-Data 10'!$B$73/100) -> 0.0079072661 | C57: =-D57 -> -0.0057682776 | D57: =VALUE('Raw-Data 10'!C65/100*'Raw-Data 10'!$B$74/100) -> 0.0057682776
... A62: Above 80 Years | B62: =VALUE('Raw-Data 10'!B70/100*'Raw-Data 10'!$B$73/100) -> 0.0010684194 | C62: =-D62 -> -0.0007158474 | D62: =VALUE('Raw-Data 10'!C70/100*'Raw-Data 10'!$B$74/100) -> 0.0007158474
B64: =SUM(B46:B62) -> 0.48126519 | C64: =SUM(B64,D64) -> 1.0000004 | D64: =SUM(D46:D62) -> 0.51873519
A67: 2009 | B67: Men | C67: Women | D67: Women
A68: Under 5 Years | B68: 0.085784635 | C68: -0.085963307 | D68: 0.085963307
A69: 5 - 9 Years | B69: 0.087401376 | C69: -0.083536675 | D69: 0.083536675
A70: 10 - 14 Years | B70: 0.070235683 | C70: -0.066452776 | D70: 0.066452776
A71: 15 - 19 Years | B71: 0.051229244 | C71: -0.05404771 | D71: 0.05404771
A72: 20 - 24 Years | B72: 0.032125411 | C72: -0.045844361 | D72: 0.045844361
A73: 25 - 29 Years | B73: 0.033810327 | C73: -0.044438659 | D73: 0.044438659
A74: 30 - 34 Years | B74: 0.022663584 | C74: -0.029889128 | D74: 0.029889128
A75: 35 - 39 Years | B75: 0.022011044 | C75: -0.030109731 | D75: 0.030109731
A76: 40 - 44 Years | B76: 0.017745187 | C76: -0.0201826 | D76: 0.0201826
A77: 45 - 49 Years | B77: 0.019571324 | C77: -0.017873965 | D77: 0.017873965
A78: 50 - 54 Years | B78: 0.013002099 | C78: -0.0093166248 | D78: 0.0093166248
A79: 55 - 59 Years | B79: 0.0077671715 | C79: -0.0057613269 | D79: 0.0057613269
... A84: Above 80 Years | B84: 0.0043437724 | C84: -0.0040426764 | D84: 0.0040426764
B86: 0.48696026 | C86: 0.99999026 | D86: 0.51303

Sheet Raw-Data 10
B1: B.7 What is the sex of %rostertitle%?
A2: RECODE of age (B.1 What is %rostertitle%'s age in completed years?) | B2: Male | C2: Female | D2: Total
B3: % | C3: % | D3: %
A4: Under 5 Years | B4: 19.877 | C4: 16.408 | D4: 18.092
A5: 5 - 9 Years | B5: 19.006 | C5: 18.753 | D5: 18.876
A6: 10 - 14 Years | B6: 14.031 | C6: 13.606 | D6: 13.812
A7: 15 - 19 Years | B7: 11.976 | C7: 11.009 | D7: 11.479
A8: 20 - 24 Years | B8: 6.534 | C8: 6.931 | D8: 6.738
A9: 25 - 29 Years | B9: 5.963 | C9: 7.448 | D9: 6.727
A10: 30 - 34 Years | B10: 4.476 | C10: 6.799 | D10: 5.671
A11: 35 - 39 Years | B11: 4.071 | C11: 5.825 | D11: 4.974
A12: 40 - 44 Years | B12: 3.443 | C12: 2.611 | D12: 3.015
A13: 45 - 49 Years | B13: 3.107 | C13: 3.113 | D13: 3.110
A14: 50 - 54 Years | B14: 2.452 | C14: 2.116 | D14: 2.279
A15: 55 - 59 Years | B15: 1.234 | C15: 1.155 | D15: 1.193
... A21: Total | B21: 100.000 | C21: 100.000 | D21: 100.000
A22: B.7 What is the sex of %rostertitle%? | B22: %
A23: Male | B23: 48.564
A24: Female | B24: 51.436
A25: Total | B25: 100.000
B26: B.7 What is the sex of %rostertitle%?
A27: RECODE of age (B.1 What is %rostertitle%'s age in completed years?) | B27: Male | C27: Female | D27: Total
B28: % | C28: % | D28: %
A29: Under 5 Years | B29: 20.273 | C29: 18.358 | D29: 19.277
A30: 5 - 9 Years | B30: 20.527 | C30: 19.049 | D30: 19.759
A31: 10 - 14 Years | B31: 13.644 | C31: 12.647 | D31: 13.125
A32: 15 - 19 Years | B32: 10.701 | C32: 10.460 | D32: 10.576
A33: 20 - 24 Years | B33: 6.874 | C33: 7.222 | D33: 7.055
A34: 25 - 29 Years | B34: 5.016 | C34: 7.596 | D34: 6.357
A35: 30 - 34 Years | B35: 4.354 | C35: 5.307 | D35: 4.850
A36: 35 - 39 Years | B36: 4.804 | C36: 5.900 | D36: 5.374
A37: 40 - 44 Years | B37: 3.627 | C37: 3.091 | D37: 3.348
A38: 45 - 49 Years | B38: 2.944 | C38: 3.451 | D38: 3.208
A39: 50 - 54 Years | B39: 2.115 | C39: 1.809 | D39: 1.956
A40: 55 - 59 Years | B40: 1.328 | C40: 1.417 | D40: 1.374
... A46: Total | B46: 100.000 | C46: 100.000 | D46: 100.000
A47: B.7 What is the sex of %rostertitle%? | B47: %
A48: Male | B48: 47.928
A49: Female | B49: 52.072
A50: Total | B50: 100.000
B51: B.7 What is the sex of %rostertitle%?
A52: RECODE of age (B.1 What is %rostertitle%'s age in completed years?) | B52: Male | C52: Female | D52: Total
B53: % | C53: % | D53: %
A54: Under 5 Years | B54: 15.878 | C54: 15.402 | D54: 15.631
A55: 5 - 9 Years | B55: 17.148 | C55: 14.639 | D55: 15.847
A56: 10 - 14 Years | B56: 15.408 | C56: 12.660 | D56: 13.983
A57: 15 - 19 Years | B57: 11.581 | C57: 11.784 | D57: 11.686
A58: 20 - 24 Years | B58: 7.096 | C58: 10.335 | D58: 8.776
A59: 25 - 29 Years | B59: 7.319 | C59: 10.600 | D59: 9.021
A60: 30 - 34 Years | B60: 7.102 | C60: 7.106 | D60: 7.104
A61: 35 - 39 Years | B61: 5.706 | C61: 6.209 | D61: 5.967
A62: 40 - 44 Years | B62: 3.696 | C62: 3.200 | D62: 3.439
A63: 45 - 49 Years | B63: 3.461 | C63: 2.957 | D63: 3.200
A64: 50 - 54 Years | B64: 1.718 | C64: 2.022 | D64: 1.876
A65: 55 - 59 Years | B65: 1.643 | C65: 1.112 | D65: 1.367
... A71: Total | B71: 100.000 | C71: 100.000 | D71: 100.000
A72: B.7 What is the sex of %rostertitle%? | B72: %
A73: Male | B73: 48.127
A74: Female | B74: 51.873
A75: Total | B75: 100.000
A76: Urban/Rural | B76: %
A77: Rural | B77: 85.945
A78: Urban | B78: 14.055
A79: Total | B79: 100.000

Sheet Poverty
B3: Headcount | N3: Gap | Y3: Severity | AJ3: GINI
C4: National | D4: Rural | E4: Urban | F4: IDP | G4: Independence | O4: National | P4: Rural | Q4: Urban | R4: IDP | S4: Independence | Z4: National | AA4: Rural | AB4: Urban | AC4: IDP | AD4: Independence | AK4: National | AL4: Rural | AM4: Urban | AN4: IDP
B5: 39904 | C5: 0.513 | D5: 0.5764 | E5: 0.249 | N5: 39904 | O5: 0.233 | P5: 0.2683 | Q5: 0.0861 | Y5: 39904 | Z5: 0.1385 | AA5: 0.1612 | AB5: 0.044 | AJ5: 39904 | AK5: 0.4658 | AL5: 0.4428 | AM5: 0.4374
Y7: 40695 | AD7: 0.6 | AO7: 0.5
B8: 40695 | G8: 1 | N8: 40695 | S8: 1
B11: 42156 | C11: =VALUE('Raw-Data 1'!J4) -> 0.655 | D11: =VALUE('Raw-Data 1'!B4) -> 0.679 | E11: =VALUE('Raw-Data 1'!F4) -> 0.5138 | N11: 42156 | O11: =VALUE('Raw-Data 1'!J16) -> 0.3228 | P11: =VALUE('Raw-Data 1'!B16) -> 0.343 | Q11: =VALUE('Raw-Data 1'!F16) -> 0.204 | Y11: 42156 | Z11: =VALUE('Raw-Data 1'!J28) -> 0.1944 | AA11: =VALUE('Raw-Data 1'!B28) -> 0.2092 | AB11: =VALUE('Raw-Data 1'!F28) -> 0.1069 | AJ11: 42156 | AK11: =VALUE('Raw-Data 1'!D45) -> 0.4026 | AL11: =VALUE('Raw-Data 1'!B45) -> 0.4069 | AM11: =VALUE('Raw-Data 1'!C45) -> 0.3774
B13: 42491 | E13: =VALUE('Raw-Data 1'!F5) -> 0.6685 | N13: 42491 | Q13: =VALUE('Raw-Data 1'!F17) -> 0.3498 | Y13: 42430 | AB13: =VALUE('Raw-Data 1'!F29) -> 0.2123 | AJ13: 42430 | AM13: =VALUE('Raw-Data 1'!C46) -> 0.4201
B14: 42675 | C14: =VALUE('Raw-Data 1'!J6) -> 0.8234 | D14: =VALUE('Raw-Data 1'!B6) -> 0.8522 | E14: =VALUE('Raw-Data 1'!F6) -> 0.6476 | N14: 42675 | O14: =VALUE('Raw-Data 1'!J18) -> 0.4738 | P14: =VALUE('Raw-Data 1'!B18) -> 0.5008 | Q14: =VALUE('Raw-Data 1'!F18) -> 0.3088 | Y14: 42675 | Z14: =VALUE('Raw-Data 1'!J30) -> 0.3111 | AA14: =VALUE('Raw-Data 1'!B30) -> 0.3316 | AB14: =VALUE('Raw-Data 1'!F30) -> 0.1862 | AJ14: 42675 | AK14: =VALUE('Raw-Data 1'!D47) -> 0.3967 | AL14: =VALUE('Raw-Data 1'!B47) -> 0.3947 | AM14: =VALUE('Raw-Data 1'!C47) -> 0.4084
B16: 42856 | E16: =VALUE('Raw-Data 1'!F7) -> 0.7224 | F16: =VALUE('Raw-Data 1'!B11) -> 0.9133 | N16: 42856 | Q16: =VALUE('Raw-Data 1'!F19) -> 0.3614 | R16: =VALUE('Raw-Data 1'!B23) -> 0.5441 | Y16: 42856 | AB16: =VALUE('Raw-Data 1'!F31) -> 0.2189 | AC16: =VALUE('Raw-Data 1'!B35) -> 0.3546 | AJ16: 42856 | AM16: =VALUE('Raw-Data 1'!C48) -> 0.4224 | AN16: =VALUE('Raw-Data 1'!B52) -> 0.3535
B21: Male and female headed households, poverty at 1.9 USD PPP
C22: National | F22: Rural | I22: Urban | N22: IDP | R22: National | W22: IDP
C23: 2015 | D23: 2016 | F23: 2015 | G23: 2016 | I23: 2015 | J23: 2016 | K23: 2016 | L23: 2017 | N23: 2017 | R23: Male | T23: Female | W23: Male | X23: Female
B24: Male | C24: =VALUE('Raw-Data 1'!$J82) -> 0.6308 | D24: =VALUE('Raw-Data 1'!$J84) -> 0.7938 | F24: =VALUE('Raw-Data 1'!$B82) -> 0.6538 | G24: =VALUE('Raw-Data 1'!$B84) -> 0.8236 | I24: =VALUE('Raw-Data 1'!$F82) -> 0.4921 | J24: =VALUE('Raw-Data 1'!$F83) -> 0.6317 | K24: =VALUE('Raw-Data 1'!$F84) -> 0.6118 | L24: =VALUE('Raw-Data 1'!$F85) -> 0.676 | N24: =VALUE('Raw-Data 1'!$B89) -> 0.9109 | R24: 2015 | S24: 2016 | T24: 2015 | U24: 2016 | W24: 2017 | X24: 2017
B25: Female | C25: =VALUE('Raw-Data 1'!$J94) -> 0.6997 | D25: =VALUE('Raw-Data 1'!$J96) -> 0.869 | F25: =VALUE('Raw-Data 1'!$B94) -> 0.7259 | G25: =VALUE('Raw-Data 1'!$B96) -> 0.8963 | I25: =VALUE('Raw-Data 1'!$F94) -> 0.5506 | J25: =VALUE('Raw-Data 1'!$F95) -> 0.7253 | K25: =VALUE('Raw-Data 1'!$F96) -> 0.7026 | L25: =VALUE('Raw-Data 1'!$F97) -> 0.7917 | N25: =VALUE('Raw-Data 1'!$B101) -> 0.9165 | Q25: Gap | R25: =VALUE('Raw-Data 1'!$J106) -> 0.2998 | S25: =VALUE('Raw-Data 1'!$J108) -> 0.4421 | T25: =VALUE('Raw-Data 1'!$J118) -> 0.3652 | U25: =VALUE('Raw-Data 1'!$J120) -> 0.5228 | W25: =VALUE('Raw-Data 1'!$B113) -> 0.5292 | X25: =VALUE('Raw-Data 1'!$B125) -> 0.5643
Q26: Mean income | R26: =R28-R27 -> 6.098742 | S26: =S28-S27 -> 4.859309 | T26: =T28-T27 -> 5.529108 | U26: =U28-U27 -> 4.156412 | W26: =W28-W27 -> 4.100668 | X26: =X28-X27 -> 3.794947
B27: 1.9 | Q27: Poverty gap | R27: =R25*R28 -> 2.611258 | S27: =S25*S28 -> 3.850691 | T27: =T25*T28 -> 3.180892 | U27: =U25*U28 -> 4.553588 | W27: =W25*W28 -> 4.609332 | X27: =X25*X28 -> 4.915053
B28: + | C28: =VALUE('Raw-Data 1'!$J82-'Raw-Data 1'!$L82) -> 0.0591 | D28: =VALUE('Raw-Data 1'!$J84-'Raw-Data 1'!$L84) -> 0.0426 | F28: ='Raw-Data 1'!$B82-'Raw-Data 1'!$D82 -> 0.0704 | G28: ='Raw-Data 1'!$B94-'Raw-Data 1'!$D94 -> 0.0596 | I28: ='Raw-Data 1'!$F82-'Raw-Data 1'!$H82 -> 0.0548 | J28: ='Raw-Data 1'!$F94-'Raw-Data 1'!$H94 -> 0.0547 | K28: ='Raw-Data 1'!$F83-'Raw-Data 1'!$H83 -> 0.0523 | L28: ='Raw-Data 1'!$F95-'Raw-Data 1'!$H95 -> 0.0859 | N28: ='Raw-Data 1'!$B89-'Raw-Data 1'!$D89 -> 0.0119 | Q28: Poverty line | R28: 8.71 | S28: 8.71 | T28: 8.71 | U28: 8.71 | V28: 8.71 | W28: 8.71 | X28: 8.71
B29: - | C29: =VALUE('Raw-Data 1'!$J94-'Raw-Data 1'!$L94) -> 0.051 | D29: =VALUE('Raw-Data 1'!$J96-'Raw-Data 1'!$L96) -> 0.0308 | F29: ='Raw-Data 1'!$B84-'Raw-Data 1'!$D84 -> 0.046 | G29: ='Raw-Data 1'!$B96-'Raw-Data 1'!$D96 -> 0.0292 | I29: ='Raw-Data 1'!$F84-'Raw-Data 1'!$H84 -> 0.0758 | J29: ='Raw-Data 1'!$F96-'Raw-Data 1'!$H96 -> 0.091 | K29: ='Raw-Data 1'!$F85-'Raw-Data 1'!$H85 -> 0.0652 | L29: ='Raw-Data 1'!$F97-'Raw-Data 1'!$H97 -> 0.063 | N29: ='Raw-Data 1'!$B101-'Raw-Data 1'!$D101 -> 0.0148
Q30: + | R30: =VALUE('Raw-Data 1'!$J106-'Raw-Data 1'!$L106) -> 0.039 | S30: =VALUE('Raw-Data 1'!$J108-'Raw-Data 1'!$L108) -> 0.0386 | T30: =VALUE('Raw-Data 1'!$J118-'Raw-Data 1'!$L118) -> 0.0324 | U30: =VALUE('Raw-Data 1'!$J120-'Raw-Data 1'!$L120) -> 0.0346 | W30: ='Raw-Data 1'!$B113-'Raw-Data 1'!$D113 -> 0.0157 | X30: ='Raw-Data 1'!$B125-'Raw-Data 1'!$D125 -> 0.0208
Q31: - | R31: =VALUE('Raw-Data 1'!$M106-'Raw-Data 1'!$J106) -> 0.0391 | S31: =VALUE('Raw-Data 1'!$M108-'Raw-Data 1'!$J108) -> 0.0385 | T31: =VALUE('Raw-Data 1'!$M118-'Raw-Data 1'!$J118) -> 0.0324 | U31: =VALUE('Raw-Data 1'!$M120-'Raw-Data 1'!$J120) -> 0.0346 | W31: =VALUE('Raw-Data 1'!$E113-'Raw-Data 1'!$B113) -> 0.0158 | X31: =VALUE('Raw-Data 1'!$E125-'Raw-Data 1'!$B125) -> 0.0208

Sheet Raw-Data 1
B1: Urban/Rural
A2: poverty HFS
A3: Wave of data collection | B3: Mean | C3: SE | D3: LB | E3: UB | F3: Mean | G3: SE | H3: LB | I3: UB | J3: Mean | K3: SE | L3: LB | M3: UB
A4: Wave1 | B4: 0.6790 | C4: 0.0329 | D4: 0.6144 | E4: 0.7437 | F4: 0.5138 | G4: 0.0233 | H4: 0.4681 | I4: 0.5595 | J4: 0.6550 | K4: 0.0276 | L4: 0.6009 | M4: 0.7092 | N4: 3,550
A5: Wave2 | F5: 0.6685 | G5: 0.0312 | H5: 0.6071 | I5: 0.7299 | J5: 0.6685 | K5: 0.0312 | L5: 0.6071 | M5: 0.7299 | N5: 1,016
A6: Wave3 | B6: 0.8522 | C6: 0.0179 | D6: 0.8169 | E6: 0.8874 | F6: 0.6476 | G6: 0.0371 | H6: 0.5746 | I6: 0.7205 | J6: 0.8234 | K6: 0.0174 | L6: 0.7891 | M6: 0.8577 | N6: 1,713
A7: Wave4 | F7: 0.7224 | G7: 0.0267 | H7: 0.6699 | I7: 0.7750 | J7: 0.7224 | K7: 0.0267 | L7: 0.6699 | M7: 0.7750 | N7: 800
A8: Total | B8: 0.7648 | C8: 0.0216 | D8: 0.7223 | E8: 0.8073 | F8: 0.6301 | G8: 0.0171 | H8: 0.5966 | I8: 0.6637 | J8: 0.7328 | K8: 0.0168 | L8: 0.6999 | M8: 0.7658 | N8: 7,079
A9: poverty IDP
A10: Dataset | B10: Mean | C10: SE | D10: LB | E10: UB | F10: N
A11: CRS | B11: 0.9133 | C11: 0.0046 | D11: 0.9041 | E11: 0.9225 | F11: 2,396
A12: Total | B12: 0.9133 | C12: 0.0046 | D12: 0.9041 | E12: 0.9225 | F12: 2,396
B13: Urban/Rural
A14: gap HFS
A15: Wave of data collection | B15: Mean | C15: SE | D15: LB | E15: UB | F15: Mean | G15: SE | H15: LB | I15: UB | J15: Mean | K15: SE | L15: LB | M15: UB
A16: Wave1 | B16: 0.3430 | C16: 0.0214 | D16: 0.3010 | E16: 0.3851 | F16: 0.2040 | G16: 0.0152 | H16: 0.1742 | I16: 0.2339 | J16: 0.3228 | K16: 0.0178 | L16: 0.2879 | M16: 0.3578 | N16: 3,550
A17: Wave2 | F17: 0.3498 | G17: 0.0396 | H17: 0.2721 | I17: 0.4275 | J17: 0.3498 | K17: 0.0396 | L17: 0.2721 | M17: 0.4275 | N17: 1,016
A18: Wave3 | B18: 0.5008 | C18: 0.0180 | D18: 0.4654 | E18: 0.5362 | F18: 0.3088 | G18: 0.0357 | H18: 0.2388 | I18: 0.3789 | J18: 0.4738 | K18: 0.0173 | L18: 0.4399 | M18: 0.5078 | N18: 1,713
A19: Wave4 | F19: 0.3614 | G19: 0.0201 | H19: 0.3219 | I19: 0.4009 | J19: 0.3614 | K19: 0.0201 | L19: 0.3219 | M19: 0.4009 | N19: 800
A20: Total | B20: 0.4212 | C20: 0.0164 | D20: 0.3889 | E20: 0.4535 | F20: 0.3010 | G20: 0.0181 | H20: 0.2655 | I20: 0.3366 | J20: 0.3927 | K20: 0.0130 | L20: 0.3671 | M20: 0.4183 | N20: 7,079
A21: gap IDP
A22: Dataset | B22: Mean | C22: SE | D22: LB | E22: UB | F22: N
A23: CRS | B23: 0.5441 | C23: 0.0065 | D23: 0.5314 | E23: 0.5569 | F23: 2,396
A24: Total | B24: 0.5441 | C24: 0.0065 | D24: 0.5314 | E24: 0.5569 | F24: 2,396
B25: Urban/Rural
A26: severity HFS
A27: Wave of data collection | B27: Mean | C27: SE | D27: LB | E27: UB | F27: Mean | G27: SE | H27: LB | I27: UB | J27: Mean | K27: SE | L27: LB | M27: UB
A28: Wave1 | B28: 0.2092 | C28: 0.0145 | D28: 0.1807 | E28: 0.2378 | F28: 0.1069 | G28: 0.0100 | H28: 0.0872 | I28: 0.1266 | J28: 0.1944 | K28: 0.0120 | L28: 0.1707 | M28: 0.2180 | N28: 3,550
A29: Wave2 | F29: 0.2123 | G29: 0.0359 | H29: 0.1418 | I29: 0.2828 | J29: 0.2123 | K29: 0.0359 | L29: 0.1418 | M29: 0.2828 | N29: 1,016
A30: Wave3 | B30: 0.3316 | C30: 0.0162 | D30: 0.2998 | E30: 0.3634 | F30: 0.1862 | G30: 0.0281 | H30: 0.1309 | I30: 0.2414 | J30: 0.3111 | K30: 0.0151 | L30: 0.2815 | M30: 0.3408 | N30: 1,713
A31: Wave4 | F31: 0.2189 | G31: 0.0158 | H31: 0.1878 | I31: 0.2500 | J31: 0.2189 | K31: 0.0158 | L31: 0.1878 | M31: 0.2500 | N31: 800
A32: Total | B32: 0.2698 | C32: 0.0125 | D32: 0.2452 | E32: 0.2945 | F32: 0.1776 | G32: 0.0152 | H32: 0.1478 | I32: 0.2074 | J32: 0.2480 | K32: 0.0100 | L32: 0.2282 | M32: 0.2677 | N32: 7,079
A33: severity IDP
A34: Dataset | B34: Mean | C34: SE | D34: LB | E34: UB | F34: N
A35: CRS | B35: 0.3546 | C35: 0.0072 | D35: 0.3404 | E35: 0.3687 | F35: 2,396
A36: Total | B36: 0.3546 | C36: 0.0072 | D36: 0.3404 | E36: 0.3687 | F36: 2,396
A37: Gini HFS overall - mean
A38: Wave of data collection | B38: Mean | C38: N
A39: Wave1 | B39: 0.4064 | C39: 3,550
A40: Wave3 | B40: 0.4092 | C40: 1,713
A41: Total | B41: 0.4078 | C41: 5,263
B42: Urban/Rural
A43: Gini HFS urban - mean
A44: Wave of data collection | B44: Mean | C44: Mean | D44: Mean
A45: Wave1 | B45: 0.4069 | C45: 0.3774 | D45: 0.4026 | E45: 3,550
A46: Wave2 | C46: 0.4201 | D46: 0.4201 | E46: 1,016
A47: Wave3 | B47: 0.3947 | C47: 0.4084 | D47: 0.3967 | E47: 1,713
A48: Wave4 | C48: 0.4224 | D48: 0.4224 | E48: 800
A49: Total | B49: 0.4009 | C49: 0.4057 | D49: 0.4020 | E49: 7,079
A50: Gini HFS overall - mean
A51: Dataset | B51: Mean | C51: N
A52: CRS | B52: 0.3535 | C52: 2,396
A53: HFS | B53: 0.0000 | C53: 7,079
A54: Total | B54: 0.0062 | C54: 9,475
B55: Urban/Rural
A56: poverty 31 HFS
A57: Wave of data collection | B57: Mean | C57: SE | D57: LB | E57: UB | F57: Mean | G57: SE | H57: LB | I57: UB | J57: Mean | K57: SE | L57: LB | M57: UB
A58: Wave1 | B58: 0.8657 | C58: 0.0268 | D58: 0.8130 | E58: 0.9184 | F58: 0.7883 | G58: 0.0188 | H58: 0.7515 | I58: 0.8252 | J58: 0.8545 | K58: 0.0227 | L58: 0.8099 | M58: 0.8990 | N58: 3,550
A59: Wave2 | F59: 0.8497 | G59: 0.0148 | H59: 0.8207 | I59: 0.8787 | J59: 0.8497 | K59: 0.0148 | L59: 0.8207 | M59: 0.8787 | N59: 1,016
A60: Wave3 | B60: 0.9558 | C60: 0.0092 | D60: 0.9377 | E60: 0.9739 | F60: 0.8811 | G60: 0.0185 | H60: 0.8448 | I60: 0.9174 | J60: 0.9453 | K60: 0.0087 | L60: 0.9283 | M60: 0.9623 | N60: 1,713
A61: Wave4 | F61: 0.9002 | G61: 0.0171 | H61: 0.8666 | I61: 0.9338 | J61: 0.9002 | K61: 0.0171 | L61: 0.8666 | M61: 0.9338 | N61: 800
A62: Total | B62: 0.9103 | C62: 0.0157 | D62: 0.8796 | E62: 0.9411 | F62: 0.8501 | G62: 0.0093 | H62: 0.8318 | I62: 0.8683 | J62: 0.8960 | K62: 0.0120 | L62: 0.8725 | M62: 0.9196 | N62: 7,079
A63: poverty 31 IDP
A64: Dataset | B64: Mean | C64: SE | D64: LB | E64: UB | F64: N
A65: CRS | B65: 0.9794 | C65: 0.0022 | D65: 0.9751 | E65: 0.9836 | F65: 2,396
A66: Total | B66: 0.9794 | C66: 0.0022 | D66: 0.9751 | E66: 0.9836 | F66: 2,396
B67: Urban/Rural
A68: poverty 125 HFS
A69: Wave of data collection | B69: Mean | C69: SE | D69: LB | E69: UB | F69: Mean | G69: SE | H69: LB | I69: UB | J69: Mean | K69: SE | L69: LB | M69: UB
A70: Wave1 | B70: 0.4717 | C70: 0.0275 | D70: 0.4177 | E70: 0.5258 | F70: 0.2951 | G70: 0.0218 | H70: 0.2524 | I70: 0.3379 | J70: 0.4461 | K70: 0.0229 | L70: 0.4010 | M70: 0.4911 | N70: 3,550
A71: Wave2 | F71: 0.4758 | G71: 0.0435 | H71: 0.3902 | I71: 0.5613 | J71: 0.4758 | K71: 0.0435 | L71: 0.3902 | M71: 0.5613 | N71: 1,016
A72: Wave3 | B72: 0.6800 | C72: 0.0221 | D72: 0.6365 | E72: 0.7235 | F72: 0.4368 | G72: 0.0461 | H72: 0.3462 | I72: 0.5274 | J72: 0.6457 | K72: 0.0214 | L72: 0.6036 | M72: 0.6879 | N72: 1,713
A73: Wave4 | F73: 0.5167 | G73: 0.0292 | H73: 0.4592 | I73: 0.5741 | J73: 0.5167 | K73: 0.0292 | L73: 0.4592 | M73: 0.5741 | N73: 800
A74: Total | B74: 0.5749 | C74: 0.0211 | D74: 0.5335 | E74: 0.6163 | F74: 0.4232 | G74: 0.0216 | H74: 0.3807 | I74: 0.4656 | J74: 0.5389 | K74: 0.0166 | L74: 0.5062 | M74: 0.5716 | N74: 7,079
A75: poverty 125 IDP
A76: Dataset | B76: Mean | C76: SE | D76: LB | E76: UB | F76: N
A77: CRS | B77: 0.7523 | C77: 0.0074 | D77: 0.7377 | E77: 0.7669 | F77: 2,396
A78: Total | B78: 0.7523 | C78: 0.0074 | D78: 0.7377 | E78: 0.7669 | F78: 2,396
B79: Urban/Rural
A80: Male head poverty HFS
A81: Wave of data collection | B81: Mean | C81: SE | D81: LB | E81: UB | F81: Mean | G81: SE | H81: LB | I81: UB | J81: Mean | K81: SE | L81: LB | M81: UB
A82: Wave1 | B82: 0.6538 | C82: 0.0358 | D82: 0.5834 | E82: 0.7241 | F82: 0.4921 | G82: 0.0279 | H82: 0.4373 | I82: 0.5470 | J82: 0.6308 | K82: 0.0300 | L82: 0.5717 | M82: 0.6898 | N82: 2,146
A83: Wave2 | F83: 0.6317 | G83: 0.0266 | H83: 0.5794 | I83: 0.6839 | J83: 0.6317 | K83: 0.0266 | L83: 0.5794 | M83: 0.6839 | N83: 570
A84: Wave3 | B84: 0.8236 | C84: 0.0234 | D84: 0.7776 | E84: 0.8695 | F84: 0.6118 | G84: 0.0386 | H84: 0.5360 | I84: 0.6876 | J84: 0.7938 | K84: 0.0217 | L84: 0.7512 | M84: 0.8364 | N84: 1,026
A85: Wave4 | F85: 0.6760 | G85: 0.0332 | H85: 0.6108 | I85: 0.7411 | J85: 0.6760 | K85: 0.0332 | L85: 0.6108 | M85: 0.7411 | N85: 456
A86: Total | B86: 0.7349 | C86: 0.0244 | D86: 0.6870 | E86: 0.7828 | F86: 0.5945 | G86: 0.0163 | H86: 0.5624 | I86: 0.6265 | J86: 0.7023 | K86: 0.0187 | L86: 0.6655 | M86: 0.7390 | N86: 4,198
A87: Male head poverty IDP
A88: Dataset | B88: Mean | C88: SE | D88: LB | E88: UB | F88: N
A89: CRS | B89: 0.9109 | C89: 0.0060 | D89: 0.8990 | E89: 0.9229 | F89: 1,228
A90: Total | B90: 0.9109 | C90: 0.0060 | D90: 0.8990 | E90: 0.9229 | F90: 1,228
B91: Urban/Rural
A92: Female head poverty HFS
A93: Wave of data collection | B93: Mean | C93: SE | D93: LB | E93: UB | F93: Mean | G93: SE | H93: LB | I93: UB | J93: Mean | K93: SE | L93: LB | M93: UB
A94: Wave1 | B94: 0.7259 | C94: 0.0303 | D94: 0.6663 | E94: 0.7855 | F94: 0.5506 | G94: 0.0278 | H94: 0.4959 | I94: 0.6054 | J94: 0.6997 | K94: 0.0259 | L94: 0.6487 | M94: 0.7506 | N94: 1,401
A95: Wave2 | F95: 0.7253 | G95: 0.0437 | H95: 0.6394 | I95: 0.8113 | J95: 0.7253 | K95: 0.0437 | L95: 0.6394 | M95: 0.8113 | N95: 446
A96: Wave3 | B96: 0.8963 | C96: 0.0149 | D96: 0.8671 | E96: 0.9255 | F96: 0.7026 | G96: 0.0463 | H96: 0.6116 | I96: 0.7936 | J96: 0.8690 | K96: 0.0157 | L96: 0.8382 | M96: 0.8998 | N96: 687
A97: Wave4 | F97: 0.7917 | G97: 0.0321 | H97: 0.7287 | I97: 0.8548 | J97: 0.7917 | K97: 0.0321 | L97: 0.7287 | M97: 0.8548 | N97: 344
A98: Total | B98: 0.8153 | C98: 0.0188 | D98: 0.7784 | E98: 0.8523 | F98: 0.6865 | G98: 0.0238 | H98: 0.6397 | I98: 0.7332 | J98: 0.7838 | K98: 0.0154 | L98: 0.7535 | M98: 0.8141 | N98: 2,878
A99: Female head poverty IDP
A100: Dataset | B100: Mean | C100: SE | D100: LB | E100: UB | F100: N
...

Sheet Amenities-Services
B1: 2016 | AB1: 2009
B2: Housing type
E3: Urban | K3: Rural | Q3: IDP | AD3: Urban | AJ3: Rural
C4: National | E4: Poorest Q. | F4: Q2 | G4: Q3 | H4: Q4 | I4: Richest Q. | K4: Poorest Q. | L4: Q2 | M4: Q3 | N4: Q4 | O4: Richest Q. | Q4: Poorest Q. | R4: Q2 | S4: Q3 | T4: Q4 | U4: Richest Q. | V4: IDP | AB4: National | AD4: Poorest Q. | AE4: Q2 | AF4: Q3 | AG4: Q4 | AH4: Richest Q. | AJ4: Poorest Q. | AK4: Q2 | AL4: Q3 | AM4: Q4 | AN4: Richest Q.
B5: Tent | C5: =VALUE('Raw-Data 3'!$B116) -> 0.0048 | E5: =VALUE('Raw-Data 3'!$B4) -> 0 | F5: =VALUE('Raw-Data 3'!$C4) -> 0 | G5: =VALUE('Raw-Data 3'!$D4) -> 0 | H5: =VALUE('Raw-Data 3'!$E4) -> 0 | I5: =VALUE('Raw-Data 3'!$F4) -> 0.006 | K5: =VALUE('Raw-Data 3'!B12) -> 0 | L5: =VALUE('Raw-Data 3'!C12) -> 0.0089 | M5: =VALUE('Raw-Data 3'!D12) -> 0.0139 | N5: =VALUE('Raw-Data 3'!E12) -> 0.005 | O5: =VALUE('Raw-Data 3'!F12) -> 0 | Q5: =VALUE('Raw-Data 3'!B20) -> 0.5404 | R5: =VALUE('Raw-Data 3'!C20) -> 0.5809 | S5: =VALUE('Raw-Data 3'!D20) -> 0.6779 | T5: =VALUE('Raw-Data 3'!E20) -> 0.8494 | U5: =VALUE('Raw-Data 3'!F20) -> 0.9124 | V5: =VALUE('Raw-Data 3'!G20) -> 0.6867 | AA5: Tent | AB5: 0.0025 | AD5: 0 | AE5: 0 | AF5: 0 | AG5: 0.0026 | AH5: 0 | AJ5: 0 | AK5: 0.0057 | AL5: 0.0056 | AM5: 0.0016 | AN5: 0.0016
B6: Tukul/gottiya | C6: =VALUE('Raw-Data 3'!B117) -> 0.7801 | E6: =VALUE('Raw-Data 3'!B5) -> 0.7762 | F6: =VALUE('Raw-Data 3'!C5) -> 0.6183 | G6: =VALUE('Raw-Data 3'!D5) -> 0.5956 | H6: =VALUE('Raw-Data 3'!E5) -> 0.632 | I6: =VALUE('Raw-Data 3'!F5) -> 0.4509 | K6: =VALUE('Raw-Data 3'!B13) -> 0.8775 | L6: =VALUE('Raw-Data 3'!C13) -> 0.909 | M6: =VALUE('Raw-Data 3'!D13) -> 0.8626 | N6: =VALUE('Raw-Data 3'!E13) -> 0.8544 | O6: =VALUE('Raw-Data 3'!F13) -> 0.7283 | Q6: =VALUE('Raw-Data 3'!B21) -> 0.4476 | R6: =VALUE('Raw-Data 3'!C21) -> 0.4164 | S6: =VALUE('Raw-Data 3'!D21) -> 0.3221 | T6: =VALUE('Raw-Data 3'!E21) -> 0.148 | U6: =VALUE('Raw-Data 3'!F21) -> 0.0774 | V6: =VALUE('Raw-Data 3'!G21) -> 0.3085 | AA6: Tukul/gottiya | AB6: 0.8882 | AD6: 0.7533 | AE6: 0.7917 | AF6: 0.8542 | AG6: 0.8121 | AH6: 0.7091 | AJ6: 0.8827 | AK6: 0.906 | AL6: 0.9144 | AM6: 0.9545 | AN6: 0.9183
B7: Mud/wood house | C7: =VALUE('Raw-Data 3'!B118) -> 0.1358 | E7: =VALUE('Raw-Data 3'!B6) -> 0.1776 | F7: =VALUE('Raw-Data 3'!C6) -> 0.157 | G7: =VALUE('Raw-Data 3'!D6) -> 0.2191 | H7: =VALUE('Raw-Data 3'!E6) -> 0.1803 | I7: =VALUE('Raw-Data 3'!F6) -> 0.2059 | K7: =VALUE('Raw-Data 3'!B14) -> 0.1111 | L7: =VALUE('Raw-Data 3'!C14) -> 0.0813 | M7: =VALUE('Raw-Data 3'!D14) -> 0.0988 | N7: =VALUE('Raw-Data 3'!E14) -> 0.1359 | O7: =VALUE('Raw-Data 3'!F14) -> 0.2101 | Q7: =VALUE('Raw-Data 3'!B22) -> 0 | R7: =VALUE('Raw-Data 3'!C22) -> 0.0027 | S7: =VALUE('Raw-Data 3'!D22) -> 0 | T7: =VALUE('Raw-Data 3'!E22) -> 0.0026 | U7: =VALUE('Raw-Data 3'!F22) -> 0 | V7: =VALUE('Raw-Data 3'!G22) -> 0.0011 | AA7: Mud/wood house | AB7: 0.0671 | AD7: 0.1188 | AE7: 0.1201 | AF7: 0.0491 | AG7: 0.0453 | AH7: 0.0706 | AJ7: 0.085 | AK7: 0.076 | AL7: 0.0691 | AM7: 0.0385 | AN7: 0.0655
B8: Concrete/brick house | C8: =VALUE('Raw-Data 3'!B119) -> 0.0794 | E8: =VALUE('Raw-Data 3'!B7) -> 0.0461 | F8: =VALUE('Raw-Data 3'!C7) -> 0.2247 | G8: =VALUE('Raw-Data 3'!D7) -> 0.1853 | H8: =VALUE('Raw-Data 3'!E7) -> 0.1877 | I8: =VALUE('Raw-Data 3'!F7) -> 0.3373 | K8: =VALUE('Raw-Data 3'!B15) -> 0.0114 | L8: =VALUE('Raw-Data 3'!C15) -> 0.0007 | M8: =VALUE('Raw-Data 3'!D15) -> 0.0247 | N8: =VALUE('Raw-Data 3'!E15) -> 0.0047 | O8: =VALUE('Raw-Data 3'!F15) -> 0.0616 | Q8: =VALUE('Raw-Data 3'!B23) -> 0.0121 | R8: =VALUE('Raw-Data 3'!C23) -> 0 | S8: =VALUE('Raw-Data 3'!D23) -> 0 | T8: =VALUE('Raw-Data 3'!E23) -> 0 | U8: =VALUE('Raw-Data 3'!F23) -> 0.0102 | V8: =VALUE('Raw-Data 3'!G23) -> 0.0036 | AA8: Concrete/brick house | AB8: 0.0422 | AD8: 0.128 | AE8: 0.0882 | AF8: 0.0967 | AG8: 0.14 | AH8: 0.2204 | AJ8: 0.0323 | AK8: 0.0123 | AL8: 0.0109 | AM8: 0.0054 | AN8: 0
B10: Cooking
E11: Urban | K11: Rural | Q11: IDP
C12: National | E12: Poorest Q. | F12: Q2 | G12: Q3 | H12: Q4 | I12: Richest Q. | K12: Poorest Q. | L12: Q2 | M12: Q3 | N12: Q4 | O12: Richest Q. | Q12: Poorest Q. | R12: Q2 | S12: Q3 | T12: Q4 | U12: Richest Q. | V12: IDP
B13: Grass | C13: =VALUE('Raw-Data 3'!B122) -> 0.0112 | E13: =VALUE('Raw-Data 3'!B28) -> 0 | F13: =VALUE('Raw-Data 3'!C28) -> 0 | G13: =VALUE('Raw-Data 3'!D28) -> 0 | H13: =VALUE('Raw-Data 3'!E28) -> 0.0047 | I13: =VALUE('Raw-Data 3'!F28) -> 0 | K13: =VALUE('Raw-Data 3'!B36) -> 0.0465 | L13: =VALUE('Raw-Data 3'!C36) -> 0.0054 | M13: =VALUE('Raw-Data 3'!D36) -> 0.0028 | N13: =VALUE('Raw-Data 3'!E36) -> 0.0115 | O13: =VALUE('Raw-Data 3'!F36) -> 0 | Q13: =VALUE('Raw-Data 3'!B44) -> 0.0344 | R13: =VALUE('Raw-Data 3'!C44) -> 0.0658 | S13: =VALUE('Raw-Data 3'!D44) -> 0.0478 | T13: =VALUE('Raw-Data 3'!E44) -> 0.0208 | U13: =VALUE('Raw-Data 3'!F44) -> 0 | V13: =VALUE('Raw-Data 3'!G44) -> 0.039
B14: Firewood | C14: =VALUE('Raw-Data 3'!B123) -> 0.8079 | E14: =VALUE('Raw-Data 3'!B29) -> 0.736 | F14: =VALUE('Raw-Data 3'!C29) -> 0.5518 | G14: =VALUE('Raw-Data 3'!D29) -> 0.4562 | H14: =VALUE('Raw-Data 3'!E29) -> 0.3331 | I14: =VALUE('Raw-Data 3'!F29) -> 0.2184 | K14: =VALUE('Raw-Data 3'!B37) -> 0.9498 | L14: =VALUE('Raw-Data 3'!C37) -> 0.9891 | M14: =VALUE('Raw-Data 3'!D37) -> 0.9798 | N14: =VALUE('Raw-Data 3'!E37) -> 0.9586 | O14: =VALUE('Raw-Data 3'!F37) -> 0.9239 | Q14: =VALUE('Raw-Data 3'!B45) -> 0.6308 | R14: =VALUE('Raw-Data 3'!C45) -> 0.6066 | S14: =VALUE('Raw-Data 3'!D45) -> 0.4744 | T14: =VALUE('Raw-Data 3'!E45) -> 0.4277 | U14: =VALUE('Raw-Data 3'!F45) -> 0.2527 | V14: =VALUE('Raw-Data 3'!G45) -> 0.5005
B15: Charcoal | C15: =VALUE('Raw-Data 3'!B124) -> 0.1774 | E15: =VALUE('Raw-Data 3'!B30) -> 0.264 | F15: =VALUE('Raw-Data 3'!C30) -> 0.4482 | G15: =VALUE('Raw-Data 3'!D30) -> 0.5438 | H15: =VALUE('Raw-Data 3'!E30) -> 0.6583 | I15: =VALUE('Raw-Data 3'!F30) -> 0.7774 | K15: =VALUE('Raw-Data 3'!B38) -> 0.0007 | L15: =VALUE('Raw-Data 3'!C38) -> 0.0055 | M15: =VALUE('Raw-Data 3'!D38) -> 0.0158 | N15: =VALUE('Raw-Data 3'!E38) -> 0.03 | O15: =VALUE('Raw-Data 3'!F38) -> 0.0709 | Q15: =VALUE('Raw-Data 3'!B46) -> 0.3349 | R15: =VALUE('Raw-Data 3'!C46) -> 0.3233 | S15: =VALUE('Raw-Data 3'!D46) -> 0.4778 | T15: =VALUE('Raw-Data 3'!E46) -> 0.5462 | U15: =VALUE('Raw-Data 3'!F46) -> 0.7239 | V15: =VALUE('Raw-Data 3'!G46) -> 0.4555
B16: Elec./Gas/Biogas/Other | C16: =VALUE('Raw-Data 3'!B125) -> 0.0035 | E16: =VALUE('Raw-Data 3'!B31) -> 0 | F16: =VALUE('Raw-Data 3'!C31) -> 0 | G16: =VALUE('Raw-Data 3'!D31) -> 0 | H16: =VALUE('Raw-Data 3'!E31) -> 0.004 | I16: =VALUE('Raw-Data 3'!F31) -> 0.0042 | K16: =VALUE('Raw-Data 3'!B39) -> 0.003 | L16: =VALUE('Raw-Data 3'!C39) -> 0 | M16: =VALUE('Raw-Data 3'!D39) -> 0.0016 | N16: =VALUE('Raw-Data 3'!E39) -> 0 | O16: =VALUE('Raw-Data 3'!F39) -> 0.0051 | Q16: =VALUE('Raw-Data 3'!B47) -> 0 | R16: =VALUE('Raw-Data 3'!C47) -> 0.0043 | S16: =VALUE('Raw-Data 3'!D47) -> 0 | T16: =VALUE('Raw-Data 3'!E47) -> 0.0052 | U16: =VALUE('Raw-Data 3'!F47) -> 0.0233 | V16: =VALUE('Raw-Data 3'!G47) -> 0.005
B18: Sanitation
E19: Urban | K19: Rural | Q19: IDP
C20: National | E20: Poorest Q. | F20: Q2 | G20: Q3 | H20: Q4 | I20: Richest Q. | K20: Poorest Q. | L20: Q2 | M20: Q3 | N20: Q4 | O20: Richest Q. | Q20: Poorest Q. | R20: Q2 | S20: Q3 | T20: Q4 | U20: Richest Q. | V20: IDP
B21: Bush | C21: =VALUE('Raw-Data 3'!B128) -> 0.6072 | E21: =VALUE('Raw-Data 3'!B52) -> 0.4435 | F21: =VALUE('Raw-Data 3'!C52) -> 0.2379 | G21: =VALUE('Raw-Data 3'!D52) -> 0.0857 | H21: =VALUE('Raw-Data 3'!E52) -> 0.0665 | I21: =VALUE('Raw-Data 3'!F52) -> 0.0286 | K21: =VALUE('Raw-Data 3'!B59) -> 0.9695 | L21: =VALUE('Raw-Data 3'!C59) -> 0.9121 | M21: =VALUE('Raw-Data 3'!D59) -> 0.8611 | N21: =VALUE('Raw-Data 3'!E59) -> 0.748 | O21: =VALUE('Raw-Data 3'!F59) -> 0.4523 | Q21: =VALUE('Raw-Data 3'!B66) -> 0 | R21: =VALUE('Raw-Data 3'!C66) -> 0 | S21: =VALUE('Raw-Data 3'!D66) -> 0 | T21: =VALUE('Raw-Data 3'!E66) -> 0 | U21: =VALUE('Raw-Data 3'!F66) -> 0.0049 | V21: =VALUE('Raw-Data 3'!G66) -> 0.0006
B22: Pit Latrine | C22: =VALUE('Raw-Data 3'!B129) -> 0.38 | E22: =VALUE('Raw-Data 3'!B53) -> 0.5565 | F22: =VALUE('Raw-Data 3'!C53) -> 0.7621 | G22: =VALUE('Raw-Data 3'!D53) -> 0.9143 | H22: =VALUE('Raw-Data 3'!E53) -> 0.9229 | I22: =VALUE('Raw-Data 3'!F53) -> 0.9446 | K22: =VALUE('Raw-Data 3'!B60) -> 0.0305 | L22: =VALUE('Raw-Data 3'!C60) -> 0.0879 | M22: =VALUE('Raw-Data 3'!D60) -> 0.1389 | N22: =VALUE('Raw-Data 3'!E60) -> 0.252 | O22: =VALUE('Raw-Data 3'!F60) -> 0.5477 | Q22: =VALUE('Raw-Data 3'!B67) -> 0.8261 | R22: =VALUE('Raw-Data 3'!C67) -> 0.866 | S22: =VALUE('Raw-Data 3'!D67) -> 0.856 | T22: =VALUE('Raw-Data 3'!E67) -> 0.7915 | U22: =VALUE('Raw-Data 3'!F67) -> 0.8634 | V22: =VALUE('Raw-Data 3'!G67) -> 0.8431
B23: Flush | C23: =VALUE('Raw-Data 3'!B130) -> 0.0128 | E23: =VALUE('Raw-Data 3'!B54) -> 0 | F23: =VALUE('Raw-Data 3'!C54) -> 0 | G23: =VALUE('Raw-Data 3'!D54) -> 0 | H23: =VALUE('Raw-Data 3'!E54) -> 0.0106 | I23: =VALUE('Raw-Data 3'!F54) -> 0.0268 | K23: =VALUE('Raw-Data 3'!B61) -> 0 | L23: =VALUE('Raw-Data 3'!C61) -> 0 | M23: =VALUE('Raw-Data 3'!D61) -> 0 | N23: =VALUE('Raw-Data 3'!E61) -> 0 | O23: =VALUE('Raw-Data 3'!F61) -> 0 | Q23: =VALUE('Raw-Data 3'!B68) -> 0.1739 | R23: =VALUE('Raw-Data 3'!C68) -> 0.134 | S23: =VALUE('Raw-Data 3'!D68) -> 0.144 | T23: =VALUE('Raw-Data 3'!E68) -> 0.2085 | U23: =VALUE('Raw-Data 3'!F68) -> 0.1317 | V23: =VALUE('Raw-Data 3'!G68) -> 0.1563 | AA23: Sanitation
AD24: Urban | AJ24: Rural
B25: Lighting | AB25: National | AD25: Poorest Q. | AE25: Q2 | AF25: Q3 | AG25: Q4 | AH25: Richest Q. | AJ25: Poorest Q. | AK25: Q2 | AL25: Q3 | AM25: Q4 | AN25: Richest Q.
E26: Urban | K26: Rural | Q26: IDP | AA26: Bush | AB26: 0.7211 | AD26: 0.5597 | AE26: 0.5012 | AF26: 0.5655 | AG26: 0.4685 | AH26: 0.3272 | AJ26: 0.9265 | AK26: 0.829 | AL26: 0.7974 | AM26: 0.7126 | AN26: 0.6604
C27: National | E27: Poorest Q. | F27: Q2 | G27: Q3 | H27: Q4 | I27: Richest Q. | K27: Poorest Q. | L27: Q2 | M27: Q3 | N27: Q4 | O27: Richest Q. | Q27: Poorest Q. | R27: Q2 | S27: Q3 | T27: Q4 | U27: Richest Q. | V27: IDP | AA27: Pit Latrine | AB27: 0.27 | AD27: 0.4403 | AE27: 0.4921 | AF27: 0.412 | AG27: 0.4927 | AH27: 0.6294 | AJ27: 0.0735 | AK27: 0.1673 | AL27: 0.2004 | AM27: 0.2874 | AN27: 0.329
B28: No Lighting | C28: =VALUE('Raw-Data 3'!B134) -> 0.4142 | E28: =VALUE('Raw-Data 3'!B73) -> 0.3942 | F28: =VALUE('Raw-Data 3'!C73) -> 0.3384 | G28: =VALUE('Raw-Data 3'!D73) -> 0.1515 | H28: =VALUE('Raw-Data 3'!E73) -> 0.1098 | I28: =VALUE('Raw-Data 3'!F73) -> 0.037 | K28: =VALUE('Raw-Data 3'!B82) -> 0.3167 | L28: =VALUE('Raw-Data 3'!C82) -> 0.2883 | M28: =VALUE('Raw-Data 3'!D82) -> 0.1956 | N28: =VALUE('Raw-Data 3'!E82) -> 0.1333 | O28: =VALUE('Raw-Data 3'!F82) -> 0.0355 | Q28: =VALUE('Raw-Data 3'!B91) -> 0.3219 | R28: =VALUE('Raw-Data 3'!C91) -> 0.3105 | S28: =VALUE('Raw-Data 3'!D91) -> 0.217 | T28: =VALUE('Raw-Data 3'!E91) -> 0.1608 | U28: =VALUE('Raw-Data 3'!F91) -> 0.1685 | V28: =VALUE('Raw-Data 3'!G91) -> 0.2448 | AA28: Flush | AB28: 0.0088 | AD28: 0 | AE28: 0.0067 | AF28: 0.0226 | AG28: 0.0388 | AH28: 0.0434 | AJ28: 0 | AK28: 0.0037 | AL28: 0.0022 | AM28: 0 | AN28: 0.0106
B29: Grass / Firewood | C29: =VALUE('Raw-Data 3'!B135) -> 0.4113 | E29: =VALUE('Raw-Data 3'!B74) -> 0.2651 | F29: =VALUE('Raw-Data 3'!C74) -> 0.0822 | G29: =VALUE('Raw-Data 3'!D74) -> 0.1765 | H29: =VALUE('Raw-Data 3'!E74) -> 0.0995 | I29: =VALUE('Raw-Data 3'!F74) -> 0.0571 | K29: =VALUE('Raw-Data 3'!B83) -> 0.6096 | L29: =VALUE('Raw-Data 3'!C83) -> 0.5861 | M29: =VALUE('Raw-Data 3'!D83) -> 0.5397 | N29: =VALUE('Raw-Data 3'!E83) -> 0.665 | O29: =VALUE('Raw-Data 3'!F83) -> 0.4511 | Q29: =VALUE('Raw-Data 3'!B92) -> 0.1272 | R29: =VALUE('Raw-Data 3'!C92) -> 0.1169 | S29: =VALUE('Raw-Data 3'!D92) -> 0.1142 | T29: =VALUE('Raw-Data 3'!E92) -> 0.0845 | U29: =VALUE('Raw-Data 3'!F92) -> 0.0799 | V29: =VALUE('Raw-Data 3'!G92) -> 0.1079
B30: Lamp / Candle / Torch | C30: =VALUE('Raw-Data 3'!B136) -> 0.0227 | E30: =VALUE('Raw-Data 3'!B75) -> 0.3407 | F30: =VALUE('Raw-Data 3'!C75) -> 0.5795 | G30: =VALUE('Raw-Data 3'!D75) -> 0.6476 | H30: =VALUE('Raw-Data 3'!E75) -> 0.7208 | I30: =VALUE('Raw-Data 3'!F75) -> 0.6524 | K30: =VALUE('Raw-Data 3'!B84) -> 0.0737 | L30: =VALUE('Raw-Data 3'!C84) -> 0.1256 | M30: =VALUE('Raw-Data 3'!D84) -> 0.258 | N30: =VALUE('Raw-Data 3'!E84) -> 0.1732 | O30: =VALUE('Raw-Data 3'!F84) -> 0.4873 | Q30: =VALUE('Raw-Data 3'!B93) -> 0.5474 | R30: =VALUE('Raw-Data 3'!C93) -> 0.5559 | S30: =VALUE('Raw-Data 3'!D93) -> 0.6466 | T30: =VALUE('Raw-Data 3'!E93) -> 0.7159 | U30: =VALUE('Raw-Data 3'!F93) -> 0.6686 | V30: =VALUE('Raw-Data 3'!G93) -> 0.6192
B31: Electricity/Solar | C31: =VALUE('Raw-Data 3'!B137) -> 0.0232 | E31: =SUM(E35:E36) -> 0 | F31: =SUM(F35:F36) -> 0 | G31: =SUM(G35:G36) -> 0.0244 | H31: =SUM(H35:H36) -> 0.0699 | I31: =SUM(I35:I36) -> 0.2535 | K31: =SUM(K35:K36) -> 0 | L31: =SUM(L35:L36) -> 0 | M31: =SUM(M35:M36) -> 0.0068 | N31: =SUM(N35:N36) -> 0.0285 | O31: =SUM(O35:O36) -> 0.0262 | Q31: =SUM(Q35:Q36) -> 0.0036 | R31: =SUM(R35:R36) -> 0.0167 | S31: =SUM(S35:S36) -> 0.0222 | T31: =SUM(T35:T36) -> 0.0388 | U31: =VALUE('Raw-Data 3'!F94) -> 0.0154 | V31: =VALUE('Raw-Data 3'!G94) -> 0.0043
B32: No electricity | C32: =1-C31 -> 0.9768 | E32: =1-E31 -> 1 | F32: =1-F31 -> 1 | G32: =1-G31 -> 0.9756 | H32: =1-H31 -> 0.9301 | I32: =1-I31 -> 0.7465 | K32: =1-K31 -> 1 | L32: =1-L31 -> 1 | M32: =1-M31 -> 0.9932 | N32: =1-N31 -> 0.9715 | O32: =1-O31 -> 0.9738 | Q32: =1-Q31 -> 0.9964 | R32: =1-R31 -> 0.9833 | S32: =1-S31 -> 0.9778 | T32: =1-T31 -> 0.9612 | U32: =VALUE('Raw-Data 3'!F95) -> 0.0676 | V32: =1-V31 -> 0.9957 | AA32: Cooking
AD33: Urban | AJ33: Rural
AB34: National | AD34: Poorest Q. | AE34: Q2 | AF34: Q3 | AG34: Q4 | AH34: Richest Q. | AJ34: Poorest Q. | AK34: Q2 | AL34: Q3 | AM34: Q4 | AN34: Richest Q.
B35: Electricity | C35: =VALUE('Raw-Data 3'!G76) -> 0.0806 | E35: =VALUE('Raw-Data 3'!B76) -> 0 | F35: =VALUE('Raw-Data 3'!C76) -> 0 | G35: =VALUE('Raw-Data 3'!D76) -> 0 | H35: =VALUE('Raw-Data 3'!E76) -> 0.0356 | I35: =VALUE('Raw-Data 3'!F76) -> 0.1501 | K35: =VALUE('Raw-Data 3'!B85) -> 0 | L35: =VALUE('Raw-Data 3'!C85) -> 0 | M35: =VALUE('Raw-Data 3'!D85) -> 0 | N35: =VALUE('Raw-Data 3'!E85) -> 0.0093 | O35: =VALUE('Raw-Data 3'!F85) -> 0.0073 | Q35: =VALUE('Raw-Data 3'!B94) -> 0 | R35: =VALUE('Raw-Data 3'!C94) -> 0.0014 | S35: =VALUE('Raw-Data 3'!D94) -> 0.0029 | T35: =VALUE('Raw-Data 3'!E94) -> 0.0069 | U35: =VALUE('Raw-Data 3'!F94) -> 0.0154 | V35: =VALUE('Raw-Data 3'!G94) -> 0.0043 | AA35: Grass | AB35: 0.0075 | AD35: 0.012 | AE35: 0 | AF35: 0.0032 | AG35: 0 | AH35: 0 | AJ35: 0.0197 | AK35: 0.0073 | AL35: 0.0106 | AM35: 0.0051 | AN35: 0.0017
B36: Solar Power / Biogas | E36: =VALUE('Raw-Data 3'!B77) -> 0 | F36: =VALUE('Raw-Data 3'!C77) -> 0 | G36: =VALUE('Raw-Data 3'!D77) -> 0.0244 | H36: =VALUE('Raw-Data 3'!E77) -> 0.0343 | I36: =VALUE('Raw-Data 3'!F77) -> 0.1034 | K36: =VALUE('Raw-Data 3'!B86) -> 0 | L36: =VALUE('Raw-Data 3'!C86) -> 0 | M36: =VALUE('Raw-Data 3'!D86) -> 0.0068 | N36: =VALUE('Raw-Data 3'!E86) -> 0.0192 | O36: =VALUE('Raw-Data 3'!F86) -> 0.0189 | Q36: =VALUE('Raw-Data 3'!B95) -> 0.0036 | R36: =VALUE('Raw-Data 3'!C95) -> 0.0153 | S36: =VALUE('Raw-Data 3'!D95) -> 0.0193 | T36: =VALUE('Raw-Data 3'!E95) -> 0.0319 | U36: =VALUE('Raw-Data 3'!F95) -> 0.0676 | V36: =VALUE('Raw-Data 3'!B138) -> 1 | AA36: Firewood | AB36: 0.8793 | AD36: 0.6064 | AE36: 0.5892 | AF36: 0.5444 | AG36: 0.4977 | AH36: 0.3165 | AJ36: 0.9776 | AK36: 0.9861 | AL36: 0.9756 | AM36: 0.9776 | AN36: 0.968
AA37: Charcoal | AB37: 0.1036 | AD37: 0.3703 | AE37: 0.4108 | AF37: 0.4342 | AG37: 0.4977 | AH37: 0.6414 | AJ37: 0 | AK37: 0 | AL37: 0.0066 | AM37: 0.01 | AN37: 0.0223
AA38: Elec./Gas/Biogas/Other | AB38: 0.0096 | AD38: 0.0113 | AE38: 0 | AF38: 0.0182 | AG38: 0.0046 | AH38: 0.0421 | AJ38: 0.0027 | AK38: 0.0067 | AL38: 0.0072 | AM38: 0.0074 | AN38: 0.008
AA54: Lighting
AD55: Urban | AJ55: Rural
AB56: National | AD56: Poorest Q. | AE56: Q2 | AF56: Q3 | AG56: Q4 | AH56: Richest Q. | AJ56: Poorest Q. | AK56: Q2 | AL56: Q3 | AM56: Q4 | AN56: Richest Q. | AP56: IDP
AA57: No Lighting | AB57: 0.2161 | AD57: 0.2484 | AE57: 0.1941 | AF57: 0.1572 | AG57: 0.1533 | AH57: 0.1109 | AJ57: 0.2066 | AK57: 0.2722 | AL57: 0.2451 | AM57: 0.2524 | AN57: 0.1826
AA58: Grass / Firewood | AB58: 0.4792 | AD58: 0.2664 | AE58: 0.1032 | AF58: 0.1918 | AG58: 0.1104 | AH58: 0.0783 | AJ58: 0.6977 | AK58: 0.5752 | AL58: 0.522 | AM58: 0.5283 | AN58: 0.4758
AA59: Lamp/Candle/Torch | AB59: 0.2706 | AD59: 0.4718 | AE59: 0.6412 | AF59: 0.5739 | AG59: 0.6519 | AH59: 0.5866 | AJ59: 0.0939 | AK59: 0.1458 | AL59: 0.2227 | AM59: 0.2052 | AN59: 0.3226
AA60: Electricity/Solar | AB60: 0.034 | AD60: 0.0134 | AE60: 0.0616 | AF60: 0.0771 | AG60: 0.0844 | AH60: 0.2242 | AJ60: 0.0018 | AK60: 0.0069 | AL60: 0.0102 | AM60: 0.0141 | AN60: 0.019 | AP60: 1
AA61: No Electricity | AB61: 0.966 | AD61: 0.9866 | AE61: 0.9384 | AF61: 0.9229 | AG61: 0.9156 | AH61: 0.7758 | AJ61: 0.9982 | AK61: 0.9931 | AL61: 0.9898 | AM61: 0.9859 | AN61: 0.981 | AP61: 0
AA63: Electricity | AB63: 0.0225 | AD63: 0.0134 | AE63: 0.05 | AF63: 0.0531 | AG63: 0.0596 | AH63: 0.1913 | AJ63: 0.0018 | AK63: 0.0022 | AL63: 0.0024 | AM63: 0.0017 | AN63: 0.0018
AA64: Solar Power/Biogas | AB64: 0.0115 | AD64: 0 | AE64: 0.0116 | AF64: 0.024 | AG64: 0.0248 | AH64: 0.0329 | AJ64: 0 | AK64: 0.0047 | AL64: 0.0078 | AM64: 0.0124 | AN64: 0.0172

Sheet Raw-Data 3
A1: house urban W3
A2: RECODE of housingtype (C.1 What kind of structure does this household live in?) | B2: Poorest Quintile | C2: Q2 | D2: Q3 | E2: Q4 | F2: Richest Quintile | G2: Total | H2: N
B3: Prop. | C3: Prop. | D3: Prop. | E3: Prop. | F3: Prop. | G3: Prop.
A4: Tent | B4: 0.0000 | C4: 0.0000 | D4: 0.0000 | E4: 0.0000 | F4: 0.0060 | G4: 0.0029 | H4: 1
A5: Tukul/gottiya | B5: 0.7762 | C5: 0.6183 | D5: 0.5956 | E5: 0.6320 | F5: 0.4509 | G5: 0.5481 | H5: 281
A6: Mud/wood hut | B6: 0.1776 | C6: 0.1570 | D6: 0.2191 | E6: 0.1803 | F6: 0.2059 | G6: 0.1954 | H6: 112
A7: Concrete/brick house | B7: 0.0461 | C7: 0.2247 | D7: 0.1853 | E7: 0.1877 | F7: 0.3373 | G7: 0.2536 | H7: 125
A8: Total | B8: 1.0000 | C8: 1.0000 | D8: 1.0000 | E8: 1.0000 | F8: 1.0000 | G8: 1.0000 | H8: 519
A9: house rural W3
A10: RECODE of housingtype (C.1 What kind of structure does this household live in?) | B10: Poorest Quintile | C10: Q2 | D10: Q3 | E10: Q4 | F10: Richest Quintile | G10: Total | H10: N
B11: Prop. | C11: Prop. | D11: Prop. | E11: Prop. | F11: Prop. | G11: Prop.
A12: Tent | B12: 0.0000 | C12: 0.0089 | D12: 0.0139 | E12: 0.0050 | F12: 0.0000 | G12: 0.0055 | H12: 4
A13: Tukul/gottiya | B13: 0.8775 | C13: 0.9090 | D13: 0.8626 | E13: 0.8544 | F13: 0.7283 | G13: 0.8422 | H13: 974
A14: Mud/wood hut | B14: 0.1111 | C14: 0.0813 | D14: 0.0988 | E14: 0.1359 | F14: 0.2101 | G14: 0.1305 | H14: 177
A15: Concrete/brick house | B15: 0.0114 | C15: 0.0007 | D15: 0.0247 | E15: 0.0047 | F15: 0.0616 | G15: 0.0218 | H15: 25
A16: Total | B16: 1.0000 | C16: 1.0000 | D16: 1.0000 | E16: 1.0000 | F16: 1.0000 | G16: 1.0000 | H16: 1,180
A17: house National
A18: RECODE of housingtype (C.1 What kind of structure does this household live in?) | B18: Poorest Quintile | C18: Q2 | D18: Q3 | E18: Q4 | F18: Richest Quintile | G18: Total | H18: N
B19: Prop. | C19: Prop. | D19: Prop. | E19: Prop. | F19: Prop. | G19: Prop.
A20: Tent | B20: 0.5404 | C20: 0.5809 | D20: 0.6779 | E20: 0.8494 | F20: 0.9124 | G20: 0.6867 | H20: 1,924
A21: Tukul/gottiya | B21: 0.4476 | C21: 0.4164 | D21: 0.3221 | E21: 0.1480 | F21: 0.0774 | G21: 0.3085 | H21: 440
A22: Mud/wood hut | B22: 0.0000 | C22: 0.0027 | D22: 0.0000 | E22: 0.0026 | F22: 0.0000 | G22: 0.0011 | H22: 2
A23: Concrete/brick house | B23: 0.0121 | C23: 0.0000 | D23: 0.0000 | E23: 0.0000 | F23: 0.0102 | G23: 0.0036 | H23: 5
A24: Total | B24: 1.0000 | C24: 1.0000 | D24: 1.0000 | E24: 1.0000 | F24: 1.0000 | G24: 1.0000 | H24: 2,371
A25: cook urban W3
A26: RECODE of cooking (C.19 Source of energy for cooking) | B26: Poorest Quintile | C26: Q2 | D26: Q3 | E26: Q4 | F26: Richest Quintile | G26: Total | H26: N
B27: Prop. | C27: Prop. | D27: Prop. | E27: Prop. | F27: Prop. | G27: Prop.
A28: Grass | B28: 0.0000 | C28: 0.0000 | D28: 0.0000 | E28: 0.0047 | F28: 0.0000 | G28: 0.0009 | H28: 2
A29: Firewood | B29: 0.7360 | C29: 0.5518 | D29: 0.4562 | E29: 0.3331 | F29: 0.2184 | G29: 0.3471 | H29: 191
A30: Charcoal | B30: 0.2640 | C30: 0.4482 | D30: 0.5438 | E30: 0.6583 | F30: 0.7774 | G30: 0.6492 | H30: 331
A31: Elec./Gas/Biogas/Other | B31: 0.0000 | C31: 0.0000 | D31: 0.0000 | E31: 0.0040 | F31: 0.0042 | G31: 0.0028 | H31: 3
A32: Total | B32: 1.0000 | C32: 1.0000 | D32: 1.0000 | E32: 1.0000 | F32: 1.0000 | G32: 1.0000 | H32: 527
A33: cook rural W3
A34: RECODE of cooking (C.19 Source of energy for cooking) | B34: Poorest Quintile | C34: Q2 | D34: Q3 | E34: Q4 | F34: Richest Quintile | G34: Total | H34: N
B35: Prop. | C35: Prop. | D35: Prop. | E35: Prop. | F35: Prop. | G35: Prop.
A36: Grass | B36: 0.0465 | C36: 0.0054 | D36: 0.0028 | E36: 0.0115 | F36: 0.0000 | G36: 0.0122 | H36: 10
A37: Firewood | B37: 0.9498 | C37: 0.9891 | D37: 0.9798 | E37: 0.9586 | F37: 0.9239 | G37: 0.9591 | H37: 1,138
A38: Charcoal | B38: 0.0007 | C38: 0.0055 | D38: 0.0158 | E38: 0.0300 | F38: 0.0709 | G38: 0.0267 | H38: 32
A39: Elec./Gas/Biogas/Other | B39: 0.0030 | C39: 0.0000 | D39: 0.0016 | E39: 0.0000 | F39: 0.0051 | G39: 0.0020 | H39: 4
A40: Total | B40: 1.0000 | C40: 1.0000 | D40: 1.0000 | E40: 1.0000 | F40: 1.0000 | G40: 1.0000 | H40: 1,184
A41: cook National
A42: RECODE of cooking (C.19 Source of energy for cooking) | B42: Poorest Quintile | C42: Q2 | D42: Q3 | E42: Q4 | F42: Richest Quintile | G42: Total | H42: N
B43: Prop. | C43: Prop. | D43: Prop. | E43: Prop. | F43: Prop. | G43: Prop.
A44: Grass | B44: 0.0344 | C44: 0.0658 | D44: 0.0478 | E44: 0.0208 | F44: 0.0000 | G44: 0.0390 | H44: 61
A45: Firewood | B45: 0.6308 | C45: 0.6066 | D45: 0.4744 | E45: 0.4277 | F45: 0.2527 | G45: 0.5005 | H45: 1,328
A46: Charcoal | B46: 0.3349 | C46: 0.3233 | D46: 0.4778 | E46: 0.5462 | F46: 0.7239 | G46: 0.4555 | H46: 978
A47: Elec./Gas/Biogas/Other | B47: 0.0000 | C47: 0.0043 | D47: 0.0000 | E47: 0.0052 | F47: 0.0233 | G47: 0.0050 | H47: 15
A48: Total | B48: 1.0000 | C48: 1.0000 | D48: 1.0000 | E48: 1.0000 | F48: 1.0000 | G48: 1.0000 | H48: 2,382
A49: sanitation urban W3
A50: C.20 Toilet Type | B50: Poorest Quintile | C50: Q2 | D50: Q3 | E50: Q4 | F50: Richest Quintile | G50: Total | H50: N
B51: Prop. | C51: Prop. | D51: Prop. | E51: Prop. | F51: Prop. | G51: Prop.
A52: Bush | B52: 0.4435 | C52: 0.2379 | D52: 0.0857 | E52: 0.0665 | F52: 0.0286 | G52: 0.0971 | H52: 55
A53: Pit Latrine | B53: 0.5565 | C53: 0.7621 | D53: 0.9143 | E53: 0.9229 | F53: 0.9446 | G53: 0.8876 | H53: 462
A54: Flush | B54: 0.0000 | C54: 0.0000 | D54: 0.0000 | E54: 0.0106 | F54: 0.0268 | G54: 0.0153 | H54: 7
A55: Total | B55: 1.0000 | C55: 1.0000 | D55: 1.0000 | E55: 1.0000 | F55: 1.0000 | G55: 1.0000 | H55: 524
A56: sanitation rural W3
A57: C.20 Toilet Type | B57: Poorest Quintile | C57: Q2 | D57: Q3 | E57: Q4 | F57: Richest Quintile | G57: Total | H57: N
B58: Prop. | C58: Prop. | D58: Prop. | E58: Prop. | F58: Prop. | G58: Prop.
A59: Bush | B59: 0.9695 | C59: 0.9121 | D59: 0.8611 | E59: 0.7480 | F59: 0.4523 | G59: 0.7727 | H59: 883
A60: Pit Latrine | B60: 0.0305 | C60: 0.0879 | D60: 0.1389 | E60: 0.2520 | F60: 0.5477 | G60: 0.2273 | H60: 291
A61: Flush | B61: 0.0000 | C61: 0.0000 | D61: 0.0000 | E61: 0.0000 | F61: 0.0000 | G61: 0.0000 | H61: 0
A62: Total | B62: 1.0000 | C62: 1.0000 | D62: 1.0000 | E62: 1.0000 | F62: 1.0000 | G62: 1.0000 | H62: 1,174
A63: sanitation National
A64: C.20 Toilet Type | B64: Poorest Quintile | C64: Q2 | D64: Q3 | E64: Q4 | F64: Richest Quintile | G64: Total | H64: N
B65: Prop. | C65: Prop. | D65: Prop. | E65: Prop. | F65: Prop. | G65: Prop.
A66: Bush | B66: 0.0000 | C66: 0.0000 | D66: 0.0000 | E66: 0.0000 | F66: 0.0049 | G66: 0.0006 | H66: 1
A67: Pit Latrine | B67: 0.8261 | C67: 0.8660 | D67: 0.8560 | E67: 0.7915 | F67: 0.8634 | G67: 0.8431 | H67: 2,120
A68: Flush | B68: 0.1739 | C68: 0.1340 | D68: 0.1440 | E68: 0.2085 | F68: 0.1317 | G68: 0.1563 | H68: 247
A69: Total | B69: 1.0000 | C69: 1.0000 | D69: 1.0000 | E69: 1.0000 | F69: 1.0000 | G69: 1.0000 | H69: 2,368
A70: lighting urban W3
A71: C.15 Source of Lighting | B71: Poorest Quintile | C71: Q2 | D71: Q3 | E71: Q4 | F71: Richest Quintile | G71: Total | H71: N
B72: Prop. | C72: Prop. | D72: Prop. | E72: Prop. | F72: Prop. | G72: Prop.
A73: No Lighting | B73: 0.3942 | C73: 0.3384 | D73: 0.1515 | E73: 0.1098 | F73: 0.0370 | G73: 0.1255 | H73: 69
A74: Grass / Firewood | B74: 0.2651 | C74: 0.0822 | D74: 0.1765 | E74: 0.0995 | F74: 0.0571 | G74: 0.0996 | H74: 51
A75: Lamp / Candle / Torch | B75: 0.3407 | C75: 0.5795 | D75: 0.6476 | E75: 0.7208 | F75: 0.6524 | G75: 0.6336 | H75: 342
A76: Electricity | B76: 0.0000 | C76: 0.0000 | D76: 0.0000 | E76: 0.0356 | F76: 0.1501 | G76: 0.0806 | H76: 39
A77: Solar Power / Biogas | B77: 0.0000 | C77: 0.0000 | D77: 0.0244 | E77: 0.0343 | F77: 0.1034 | G77: 0.0607 | H77: 26
A78: Total | B78: 1.0000 | C78: 1.0000 | D78: 1.0000 | E78: 1.0000 | F78: 1.0000 | G78: 1.0000 | H78: 527
A79: lighting rural W3
A80: C.15 Source of Lighting | B80: Poorest Quintile | C80: Q2 | D80: Q3 | E80: Q4 | F80: Richest Quintile | G80: Total | H80: N
B81: Prop. | C81: Prop. | D81: Prop. | E81: Prop. | F81: Prop. | G81: Prop.
A82: No Lighting | B82: 0.3167 | C82: 0.2883 | D82: 0.1956 | E82: 0.1333 | F82: 0.0355 | G82: 0.1846 | H82: 255
A83: Grass / Firewood | B83: 0.6096 | C83: 0.5861 | D83: 0.5397 | E83: 0.6650 | F83: 0.4511 | G83: 0.5678 | H83: 618
A84: Lamp / Candle / Torch | B84: 0.0737 | C84: 0.1256 | D84: 0.2580 | E84: 0.1732 | F84: 0.4873 | G84: 0.2343 | H84: 294
A85: Electricity | B85: 0.0000 | C85: 0.0000 | D85: 0.0000 | E85: 0.0093 | F85: 0.0073 | G85: 0.0036 | H85: 6
A86: Solar Power / Biogas | B86: 0.0000 | C86: 0.0000 | D86: 0.0068 | E86: 0.0192 | F86: 0.0189 | G86: 0.0097 | H86: 10
A87: Total | B87: 1.0000 | C87: 1.0000 | D87: 1.0000 | E87: 1.0000 | F87: 1.0000 | G87: 1.0000 | H87: 1,183
A88: lighting National
A89: C.15 Source of Lighting | B89: Poorest Quintile | C89: Q2 | D89: Q3 | E89: Q4 | F89: Richest Quintile | G89: Total | H89: N
B90: Prop. | C90: Prop. | D90: Prop. | E90: Prop. | F90: Prop. | G90: Prop.
A91: No Lighting | B91: 0.3219 | C91: 0.3105 | D91: 0.2170 | E91: 0.1608 | F91: 0.1685 | G91: 0.2448 | H91: 504
A92: Grass / Firewood | B92: 0.1272 | C92: 0.1169 | D92: 0.1142 | E92: 0.0845 | F92: 0.0799 | G92: 0.1079 | H92: 239
A93: Lamp / Candle / Torch | B93: 0.5474 | C93: 0.5559 | D93: 0.6466 | E93: 0.7159 | F93: 0.6686 | G93: 0.6192 | H93: 1,560
A94: Electricity | B94: 0.0000 | C94: 0.0014 | D94: 0.0029 | E94: 0.0069 | F94: 0.0154 | G94: 0.0043 | H94: 13
A95: Solar Power / Biogas | B95: 0.0036 | C95: 0.0153 | D95: 0.0193 | E95: 0.0319 | F95: 0.0676 | G95: 0.0238 | H95: 66
A96: Total | B96: 1.0000 | C96: 1.0000 | D96: 1.0000 | E96: 1.0000 | F96: 1.0000 | G96: 1.0000 | H96: 2,382
A97: phone_network urban W3
A98: C.27 Do you have cell phone reception near your household? | B98: Poorest Quintile | C98: Q2 | D98: Q3 | E98: Q4 | F98: Richest Quintile | G98: Total | H98: N
B99: Prop. | C99: Prop. | D99: Prop. | E99: Prop. | F99: Prop. | G99: Prop.
A100: No | B100: 0.1699 | C100: 0.3157 | D100: 0.2973 | E100: 0.3906 | F100: 0.5117 | G100: 0.4132 | H100: 228
...

Sheet Education
B2: Adult literacy 15+
C3: National | F3: Rural | I3: Urban | N3: IDP | S3: IN 2016
C4: Wave 1 | D4: Wave 3 | F4: Wave1 | G4: Wave3 | I4: Wave 1 | J4: Wave 2 | K4: Wave 3 | L4: Wave 4 | N4: Wave 4 | T4: National | V4: Urban | W4: Rural | Y4: Poorest Q. | Z4: Q2 | AA4: Q3 | AB4: Q4 | AC4: Richest Q. | AE4: Men | AF4: Women | AH4: IDP
B5: Literate | C5: =VALUE('Raw-Data 4'!B5) -> 0.3963 | D5: =VALUE('Raw-Data 4'!F5) -> 0.4146 | F5: =VALUE('Raw-Data 4'!B11) -> 0.3526 | G5: =VALUE('Raw-Data 4'!E11) -> 0.3514 | I5: =VALUE('Raw-Data 4'!B17) -> 0.6341 | J5: =VALUE('Raw-Data 4'!E17) -> 0.6228 | K5: =VALUE('Raw-Data 4'!H17) -> 0.7251 | L5: =VALUE('Raw-Data 4'!K17) -> 0.6291 | N5: =VALUE('Raw-Data 4'!B23) -> 0.5303 | S5: No Education | T5: =Education!D28 -> 0.5355 | V5: =Education!K28 -> 0.2288 | W5: =Education!G28 -> 0.5896 | Y5: =Education!AO13 -> 0.7259 | Z5: =Education!AP13 -> 0.6901 | AA5: =Education!AQ13 -> 0.659 | AB5: =Education!AR13 -> 0.6403 | AC5: =Education!AS13 -> 0.4545 | AE5: =Education!BF42 -> 0.4399 | AF5: =Education!BG42 -> 0.7071 | AH5: =Education!N28 -> 0.3485 | AM5: Literacy
S6: Primary | T6: =Education!D29 -> 0.3689 | V6: =Education!K29 -> 0.4729 | W6: =Education!G29 -> 0.3505 | Y6: =Education!AO14 -> 0.2027 | Z6: =Education!AP14 -> 0.198 | AA6: =Education!AQ14 -> 0.1691 | AB6: =Education!AR14 -> 0.2293 | AC6: =Education!AS14 -> 0.2935 | AE6: =Education!BF43 -> 0.3012 | AF6: =Education!BG43 -> 0.2125 | AH6: =Education!N29 -> 0.4985 | AM6: National | AU6: Urban | BA6: Rural | BG6: IDP
B7: + | C7: =VALUE('Raw-Data 4'!$D5-'Raw-Data 4'!$B5) -> 0.0447 | D7: =VALUE('Raw-Data 4'!$H5-'Raw-Data 4'!$F5) -> 0.0455 | F7: =VALUE('Raw-Data 4'!$D11-'Raw-Data 4'!$B11) -> 0.0566 | G7: =VALUE('Raw-Data 4'!$G11-'Raw-Data 4'!$E11) -> 0.0494 | I7: =VALUE('Raw-Data 4'!D17)-VALUE('Raw-Data 4'!B17) -> 0.0316 | J7: =VALUE('Raw-Data 4'!G17)-VALUE('Raw-Data 4'!E17) -> 0.0449 | K7: =VALUE('Raw-Data 4'!J17)-VALUE('Raw-Data 4'!H17) -> 0.0399 | L7: =VALUE('Raw-Data 4'!M17)-VALUE('Raw-Data 4'!K17) -> 0.0362 | N7: =VALUE('Raw-Data 4'!$D23-'Raw-Data 4'!$B23) -> 0.0239 | S7: Secondary | T7: =Education!D30 -> 0.0792 | V7: =Education!K30 -> 0.2229 | W7: =Education!G30 -> 0.0539 | Y7: =Education!AO15 -> 0.068 | Z7: =Education!AP15 -> 0.0906 | AA7: =Education!AQ15 -> 0.1439 | AB7: =Education!AR15 -> 0.105 | AC7: =Education!AS15 -> 0.1836 | AE7: =Education!BF44 -> 0.21 | AF7: =Education!BG44 -> 0.0653 | AH7: =Education!N30 -> 0.1129 | AM7: Overall | AO7: Poorest Q. | AP7: Q2 | AQ7: Q3 | AR7: Q4 | AS7: Richest Q. | AU7: Poorest Q. | AV7: Q2 | AW7: Q3 | AX7: Q4 | AY7: Richest Q. | BA7: Poorest Q. | BB7: Q2 | BC7: Q3 | BD7: Q4 | BE7: Richest Q. | BG7: Poorest Q. | BH7: Q2 | BI7: Q3 | BJ7: Q4 | BK7: Richest Q.
B8: - | C8: =VALUE('Raw-Data 4'!$B5-'Raw-Data 4'!$C5) -> 0.0431 | D8: =VALUE('Raw-Data 4'!$F5-'Raw-Data 4'!$G5) -> 0.0442 | F8: =VALUE('Raw-Data 4'!$B11-'Raw-Data 4'!$C11) -> 0.0528 | G8: =VALUE('Raw-Data 4'!$E11-'Raw-Data 4'!$F11) -> 0.0464 | I8: =VALUE('Raw-Data 4'!B17)-VALUE('Raw-Data 4'!C17) -> 0.0328 | J8: =VALUE('Raw-Data 4'!E17)-VALUE('Raw-Data 4'!F17) -> 0.0472 | K8: =VALUE('Raw-Data 4'!H17)-VALUE('Raw-Data 4'!I17) -> 0.0439 | L8: =VALUE('Raw-Data 4'!K17)-VALUE('Raw-Data 4'!L17) -> 0.0377 | N8: =VALUE('Raw-Data 4'!$B23-'Raw-Data 4'!$C23) -> 0.0241 | S8: Tertiary | T8: =Education!D31 -> 0.0164 | V8: =Education!K31 -> 0.0754 | W8: =Education!G31 -> 0.006 | Y8: =Education!AO16 -> 0.0034 | Z8: =Education!AP16 -> 0.0213 | AA8: =Education!AQ16 -> 0.028 | AB8: =Education!AR16 -> 0.0255 | AC8: =Education!AS16 -> 0.0684 | AE8: =Education!BF45 -> 0.049 | AF8: =Education!BG45 -> 0.0151 | AH8: =Education!N31 -> 0.0401 | AL8: Literate | AM8: =Education!D5 -> 0.4146 | AO8: =VALUE('Raw-Data 4'!B399) -> 0.3286 | AP8: =VALUE('Raw-Data 4'!E399) -> 0.3439 | AQ8: =VALUE('Raw-Data 4'!H399) -> 0.3643 | AR8: =VALUE('Raw-Data 4'!K399) -> 0.4091 | AS8: =VALUE('Raw-Data 4'!N399) -> 0.565 | AU8: =VALUE('Raw-Data 4'!B405) -> 0.5428 | AV8: =VALUE('Raw-Data 4'!E405) -> 0.698 | AW8: =VALUE('Raw-Data 4'!H405) -> 0.7188 | AX8: =VALUE('Raw-Data 4'!K405) -> 0.7354 | AY8: =VALUE('Raw-Data 4'!N405) -> 0.7606 | BA8: =VALUE('Raw-Data 4'!B411) -> 0.3093 | BB8: =VALUE('Raw-Data 4'!E411) -> 0.2971 | BC8: =VALUE('Raw-Data 4'!H411) -> 0.3153 | BD8: =VALUE('Raw-Data 4'!K411) -> 0.3471 | BE8: =VALUE('Raw-Data 4'!N411) -> 0.4785 | BG8: =VALUE('Raw-Data 4'!B417) -> 0.5056 | BH8: =VALUE('Raw-Data 4'!E417) -> 0.4903 | BI8: =VALUE('Raw-Data 4'!H417) -> 0.517 | BJ8: =VALUE('Raw-Data 4'!K417) -> 0.6157 | BK8: =VALUE('Raw-Data 4'!N417) -> 0.6101
T11: National | V11: Urban | W11: Rural | Y11: Poorest Q. | Z11: Q2 | AA11: Q3 | AB11: Q4 | AC11: Richest Q. | AE11: Men | AF11: Women | AH11: IDP | AM11: National | AU11: Urban | BA11: Rural | BG11: IDP | BM11: IDP
S12: Illiterate | T12: =VALUE('Raw-Data 4'!H901) -> 0.6237 | V12: =VALUE('Raw-Data 4'!E901) -> 0.2946 | W12: =VALUE('Raw-Data 4'!B901) -> 0.6916 | Y12: =VALUE('Raw-Data 4'!B907) -> 0.7207 | Z12: =VALUE('Raw-Data 4'!E907) -> 0.707 | AA12: =VALUE('Raw-Data 4'!H907) -> 0.6647 | AB12: =VALUE('Raw-Data 4'!K907) -> 0.633 | AC12: =VALUE('Raw-Data 4'!N907) -> 0.4697 | AE12: =VALUE('Raw-Data 4'!B913) -> 0.4567 | AF12: =VALUE('Raw-Data 4'!E913) -> 0.7638 | AH12: =VALUE('Raw-Data 4'!B917) -> 0.5094 | AO12: Poorest Q. | AP12: Q2 | AQ12: Q3 | AR12: Q4 | AS12: Richest Q. | AU12: Poorest Q. | AV12: Q2 | AW12: Q3 | AX12: Q4 | AY12: Richest Q. | BA12: Poorest Q. | BB12: Q2 | BC12: Q3 | BD12: Q4 | BE12: Richest Q. | BG12: Poorest Q. | BH12: Q2 | BI12: Q3 | BJ12: Q4 | BK12: Richest Q.
S13: Literate | T13: =VALUE('Raw-Data 4'!H902) -> 0.3763 | V13: =VALUE('Raw-Data 4'!E902) -> 0.7054 | W13: =VALUE('Raw-Data 4'!B902) -> 0.3084 | Y13: =VALUE('Raw-Data 4'!B908) -> 0.2793 | Z13: =VALUE('Raw-Data 4'!E908) -> 0.293 | AA13: =VALUE('Raw-Data 4'!H908) -> 0.3353 | AB13: =VALUE('Raw-Data 4'!K908) -> 0.367 | AC13: =VALUE('Raw-Data 4'!N908) -> 0.5303 | AE13: =VALUE('Raw-Data 4'!B914) -> 0.5433 | AF13: =VALUE('Raw-Data 4'!E914) -> 0.2362 | AH13: =VALUE('Raw-Data 4'!B918) -> 0.4906 | AL13: No Education | AM13: =VALUE('Raw-Data 4'!Q422) -> 0.6169 | AO13: =VALUE('Raw-Data 4'!B422) -> 0.7259 | AP13: =VALUE('Raw-Data 4'!E422) -> 0.6901 | AQ13: =VALUE('Raw-Data 4'!H422) -> 0.659 | AR13: =VALUE('Raw-Data 4'!K422) -> 0.6403 | AS13: =VALUE('Raw-Data 4'!N422) -> 0.4545 | AU13: =VALUE('Raw-Data 4'!B430) -> 0.4901 | AV13: =VALUE('Raw-Data 4'!E430) -> 0.3744 | AW13: =VALUE('Raw-Data 4'!H430) -> 0.2978 | AX13: =VALUE('Raw-Data 4'!K430) -> 0.3094 | AY13: =VALUE('Raw-Data 4'!N430) -> 0.2578 | BA13: =VALUE('Raw-Data 4'!B438) -> 0.7474 | BB13: =VALUE('Raw-Data 4'!E438) -> 0.7308 | BC13: =VALUE('Raw-Data 4'!H438) -> 0.7077 | BD13: =VALUE('Raw-Data 4'!K438) -> 0.7025 | BE13: =VALUE('Raw-Data 4'!N438) -> 0.539 | BG13: =VALUE('Raw-Data 4'!B446) -> 0.5253 | BH13: =VALUE('Raw-Data 4'!E446) -> 0.5488 | BI13: =VALUE('Raw-Data 4'!H446) -> 0.4939 | BJ13: =VALUE('Raw-Data 4'!K446) -> 0.3866 | BK13: =VALUE('Raw-Data 4'!N446) -> 0.3712 | BM13: =VALUE('Raw-Data 4'!Q446) -> 0.4881
AL14: Primary | AM14: =VALUE('Raw-Data 4'!Q423) -> 0.2249 | AO14: =VALUE('Raw-Data 4'!B423) -> 0.2027 | AP14: =VALUE('Raw-Data 4'!E423) -> 0.198 | AQ14: =VALUE('Raw-Data 4'!H423) -> 0.1691 | AR14: =VALUE('Raw-Data 4'!K423) -> 0.2293 | AS14: =VALUE('Raw-Data 4'!N423) -> 0.2935 | AU14: =VALUE('Raw-Data 4'!B431) -> 0.2794 | AV14: =VALUE('Raw-Data 4'!E431) -> 0.2497 | AW14: =VALUE('Raw-Data 4'!H431) -> 0.2365 | AX14: =VALUE('Raw-Data 4'!K431) -> 0.275 | AY14: =VALUE('Raw-Data 4'!N431) -> 0.2255 | BA14: =VALUE('Raw-Data 4'!B439) -> 0.1957 | BB14: =VALUE('Raw-Data 4'!E439) -> 0.1914 | BC14: =VALUE('Raw-Data 4'!H439) -> 0.16 | BD14: =VALUE('Raw-Data 4'!K439) -> 0.2207 | BE14: =VALUE('Raw-Data 4'!N439) -> 0.3227 | BG14: =VALUE('Raw-Data 4'!B447) -> 0.2601 | BH14: =VALUE('Raw-Data 4'!E447) -> 0.23 | BI14: =VALUE('Raw-Data 4'!H447) -> 0.2603 | BJ14: =VALUE('Raw-Data 4'!K447) -> 0.3168 | BK14: =VALUE('Raw-Data 4'!N447) -> 0.2552 | BM14: =VALUE('Raw-Data 4'!Q447) -> 0.2599
T15: =VALUE('Raw-Data 4'!H901-'Raw-Data 4'!I901) -> 0.044 | V15: =VALUE('Raw-Data 4'!E901-'Raw-Data 4'!F901) -> 0.0411 | W15: =VALUE('Raw-Data 4'!B901-'Raw-Data 4'!C901) -> 0.0459 | Y15: =VALUE('Raw-Data 4'!B907-'Raw-Data 4'!C907) -> 0.0626 | Z15: =VALUE('Raw-Data 4'!E907-'Raw-Data 4'!F907) -> 0.0646 | AA15: =VALUE('Raw-Data 4'!H907-'Raw-Data 4'!I907) -> 0.0793 | AB15: =VALUE('Raw-Data 4'!K907-'Raw-Data 4'!L907) -> 0.0632 | AC15: =VALUE('Raw-Data 4'!N907-'Raw-Data 4'!O907) -> 0.0584 | AE15: =VALUE('Raw-Data 4'!B913-'Raw-Data 4'!C913) -> 0.0536 | AF15: =VALUE('Raw-Data 4'!E913-'Raw-Data 4'!F913) -> 0.0405 | AH15: =VALUE('Raw-Data 4'!B917-'Raw-Data 4'!C917) -> 0.0245 | AL15: Secondary | AM15: =VALUE('Raw-Data 4'!Q424) -> 0.125 | AO15: =VALUE('Raw-Data 4'!B424) -> 0.068 | AP15: =VALUE('Raw-Data 4'!E424) -> 0.0906 | AQ15: =VALUE('Raw-Data 4'!H424) -> 0.1439 | AR15: =VALUE('Raw-Data 4'!K424) -> 0.105 | AS15: =VALUE('Raw-Data 4'!N424) -> 0.1836 | AU15: =VALUE('Raw-Data 4'!B432) -> 0.1901 | AV15: =VALUE('Raw-Data 4'!E432) -> 0.3071 | AW15: =VALUE('Raw-Data 4'!H432) -> 0.3236 | AX15: =VALUE('Raw-Data 4'!K432) -> 0.2943 | AY15: =VALUE('Raw-Data 4'!N432) -> 0.3484 | BA15: =VALUE('Raw-Data 4'!B440) -> 0.0569 | BB15: =VALUE('Raw-Data 4'!E440) -> 0.0627 | BC15: =VALUE('Raw-Data 4'!H440) -> 0.1197 | BD15: =VALUE('Raw-Data 4'!K440) -> 0.0693 | BE15: =VALUE('Raw-Data 4'!N440) -> 0.1129 | BG15: =VALUE('Raw-Data 4'!B448) -> 0.1478 | BH15: =VALUE('Raw-Data 4'!E448) -> 0.1671 | BI15: =VALUE('Raw-Data 4'!H448) -> 0.1728 | BJ15: =VALUE('Raw-Data 4'!K448) -> 0.2126 | BK15: =VALUE('Raw-Data 4'!N448) -> 0.2236 | BM15: =VALUE('Raw-Data 4'!Q448) -> 0.1765
T16: =VALUE('Raw-Data 4'!H902-'Raw-Data 4'!I902) -> 0.042 | V16: =VALUE('Raw-Data 4'!E902-'Raw-Data 4'!F902) -> 0.0446 | W16: =VALUE('Raw-Data 4'!B902-'Raw-Data 4'!C902) -> 0.0424 | Y16: =VALUE('Raw-Data 4'!B908-'Raw-Data 4'!C908) -> 0.055 | Z16: =VALUE('Raw-Data 4'!E908-'Raw-Data 4'!F908) -> 0.0573 | AA16: =VALUE('Raw-Data 4'!H908-'Raw-Data 4'!I908) -> 0.0709 | AB16: =VALUE('Raw-Data 4'!K908-'Raw-Data 4'!L908) -> 0.0589 | AC16: =VALUE('Raw-Data 4'!N908-'Raw-Data 4'!O908) -> 0.0593 | AE16: =VALUE('Raw-Data 4'!B914-'Raw-Data 4'!C914) -> 0.0545 | AF16: =VALUE('Raw-Data 4'!E914-'Raw-Data 4'!F914) -> 0.0363 | AH16: =VALUE('Raw-Data 4'!B918-'Raw-Data 4'!C918) -> 0.0245 | AL16: Tertiary | AM16: =VALUE('Raw-Data 4'!Q425) -> 0.0331 | AO16: =VALUE('Raw-Data 4'!B425) -> 0.0034 | AP16: =VALUE('Raw-Data 4'!E425) -> 0.0213 | AQ16: =VALUE('Raw-Data 4'!H425) -> 0.028 | AR16: =VALUE('Raw-Data 4'!K425) -> 0.0255 | AS16: =VALUE('Raw-Data 4'!N425) -> 0.0684 | AU16: =VALUE('Raw-Data 4'!B433) -> 0.0405 | AV16: =VALUE('Raw-Data 4'!E433) -> 0.0689 | AW16: =VALUE('Raw-Data 4'!H433) -> 0.1421 | AX16: =VALUE('Raw-Data 4'!K433) -> 0.1213 | AY16: =VALUE('Raw-Data 4'!N433) -> 0.1682 | BA16: =VALUE('Raw-Data 4'!B441) -> 0 | BB16: =VALUE('Raw-Data 4'!E441) -> 0.0152 | BC16: =VALUE('Raw-Data 4'!H441) -> 0.0126 | BD16: =VALUE('Raw-Data 4'!K441) -> 0.0075 | BE16: =VALUE('Raw-Data 4'!N441) -> 0.0255 | BG16: =VALUE('Raw-Data 4'!B449) -> 0.0668 | BH16: =VALUE('Raw-Data 4'!E449) -> 0.0541 | BI16: =VALUE('Raw-Data 4'!H449) -> 0.0729 | BJ16: =VALUE('Raw-Data 4'!K449) -> 0.084 | BK16: =VALUE('Raw-Data 4'!N449) -> 0.1501 | BM16: =VALUE('Raw-Data 4'!Q449) -> 0.0754
B25: Adult educational attainment 25+
C26: National | F26: Rural | I26: Urban | N26: IDP
C27: Wave 1 | D27: Wave 3 | F27: Wave1 | G27: Wave3 | I27: Wave 1 | J27: Wave 2 | K27: Wave 3 | L27: Wave 4 | N27: Wave 4
B28: No Education | C28: =VALUE('Raw-Data 4'!$B28) -> 0.5013 | D28: =VALUE('Raw-Data 4'!$F28) -> 0.5355 | F28: =VALUE('Raw-Data 4'!$B36) -> 0.5381 | G28: =VALUE('Raw-Data 4'!$E36) -> 0.5896 | I28: =VALUE('Raw-Data 4'!B44) -> 0.2861 | J28: =VALUE('Raw-Data 4'!E44) -> 0.2623 | K28: =VALUE('Raw-Data 4'!H44) -> 0.2288 | L28: =VALUE('Raw-Data 4'!K44) -> 0.275 | N28: =VALUE('Raw-Data 4'!B52) -> 0.3485
B29: Primary | C29: =VALUE('Raw-Data 4'!$B29) -> 0.4107 | D29: =VALUE('Raw-Data 4'!$F29) -> 0.3689 | F29: =VALUE('Raw-Data 4'!$B37) -> 0.3939 | G29: =VALUE('Raw-Data 4'!$E37) -> 0.3505 | I29: =VALUE('Raw-Data 4'!B45) -> 0.5091 | J29: =VALUE('Raw-Data 4'!E45) -> 0.5367 | K29: =VALUE('Raw-Data 4'!H45) -> 0.4729 | L29: =VALUE('Raw-Data 4'!K45) -> 0.4841 | N29: =VALUE('Raw-Data 4'!B53) -> 0.4985
B30: Secondary | C30: =VALUE('Raw-Data 4'!$B30) -> 0.0759 | D30: =VALUE('Raw-Data 4'!$F30) -> 0.0792 | F30: =VALUE('Raw-Data 4'!$B38) -> 0.0602 | G30: =VALUE('Raw-Data 4'!$E38) -> 0.0539 | I30: =VALUE('Raw-Data 4'!B46) -> 0.1676 | J30: =VALUE('Raw-Data 4'!E46) -> 0.1697 | K30: =VALUE('Raw-Data 4'!H46) -> 0.2229 | L30: =VALUE('Raw-Data 4'!K46) -> 0.1987 | N30: =VALUE('Raw-Data 4'!B54) -> 0.1129
B31: Tertiary | C31: =VALUE('Raw-Data 4'!$B31) -> 0.0121 | D31: =VALUE('Raw-Data 4'!$F31) -> 0.0164 | F31: =VALUE('Raw-Data 4'!$B39) -> 0.0078 | G31: =VALUE('Raw-Data 4'!$E39) -> 0.006 | I31: =VALUE('Raw-Data 4'!B47) -> 0.0372 | J31: =VALUE('Raw-Data 4'!E47) -> 0.0313 | K31: =VALUE('Raw-Data 4'!H47) -> 0.0754 | L31: =VALUE('Raw-Data 4'!K47) -> 0.0422 | N31: =VALUE('Raw-Data 4'!B55) -> 0.0401
P36: Primary
C37: National | F37: Rural | I37: Urban | N37: IDP | Q37: National | R37: Rural | S37: Urban | T37: IDP | AC37: Wave 4: | AL37: Attendance
C38: Wave 1 | D38: Wave 3 | F38: Wave1 | G38: Wave3 | I38: Wave 1 | J38: Wave 2 | K38: Wave 3 | L38: Wave 4 | N38: Wave 4 | P38: 39934 | Q38: 0.437 | R38: 0.3889 | S38: 0.6766 | AC38: Why not school | AF38: CI | BF38: Wave 3
B39: Primary attendance | C39: =VALUE('Raw-Data 4'!B61) -> 0.5509 | D39: =VALUE('Raw-Data 4'!F61) -> 0.421 | F39: =VALUE('Raw-Data 4'!B67) -> 0.5217 | G39: =VALUE('Raw-Data 4'!E67) -> 0.3724 | I39: =VALUE('Raw-Data 4'!B73) -> 0.7429 | J39: =VALUE('Raw-Data 4'!E73) -> 0.7748 | K39: =VALUE('Raw-Data 4'!H73) -> 0.7891 | L39: =VALUE('Raw-Data 4'!K73) -> 0.8064 | N39: =VALUE('Raw-Data 4'!B79) -> 0.7228 | AC39: Too young/old | AD39: =VALUE('Raw-Data 4'!B889) -> 0.2692 | AF39: =VALUE('Raw-Data 4'!B889-'Raw-Data 4'!C889) -> 0.0691 | AL39: National | AN39: Urban | AO39: Rural | AQ39: Poorest Q. | AR39: Q2 | AS39: Q3 | AT39: Q4 | AU39: Richest Q. | AW39: Boys | AX39: Girls | AZ39: IDP (2017)
P40: 40695 | AC40: Illness/disability | AD40: =VALUE('Raw-Data 4'!B890) -> 0.038 | AF40: =VALUE('Raw-Data 4'!B890-'Raw-Data 4'!C890) -> 0.021 | AK40: 2016 | AL40: =VALUE('Raw-Data 4'!Q375) -> 0.4735 | AN40: =VALUE('Raw-Data 4'!Q381) -> 0.8084 | AO40: =VALUE('Raw-Data 4'!Q387) -> 0.4232 | AQ40: =VALUE('Raw-Data 4'!B375) -> 0.3974 | AR40: =VALUE('Raw-Data 4'!E375) -> 0.4057 | AS40: =VALUE('Raw-Data 4'!H375) -> 0.4554 | AT40: =VALUE('Raw-Data 4'!K375) -> 0.4751 | AU40: =VALUE('Raw-Data 4'!N375) -> 0.6665 | AW40: =VALUE('Raw-Data 4'!F215) -> 0.5133 | AX40: =VALUE('Raw-Data 4'!F239) -> 0.4347 | AZ40: =VALUE('Raw-Data 4'!N393) -> 0.7739 | BF40: Overall | BI40: Men | BO40: Women
B41: + | C41: =VALUE('Raw-Data 4'!$D61-'Raw-Data 4'!$B61) -> 0.0511 | D41: =VALUE('Raw-Data 4'!$H61-'Raw-Data 4'!$F61) -> 0.0551 | F41: =VALUE('Raw-Data 4'!$D67-'Raw-Data 4'!$B67) -> 0.0599 | G41: =VALUE('Raw-Data 4'!$G67-'Raw-Data 4'!$E67) -> 0.0574 | I41: =VALUE('Raw-Data 4'!D73)-VALUE('Raw-Data 4'!B73) -> 0.0377 | J41: =VALUE('Raw-Data 4'!G73)-VALUE('Raw-Data 4'!E73) -> 0.0404 | K41: =VALUE('Raw-Data 4'!J73)-VALUE('Raw-Data 4'!H73) -> 0.0424 | L41: =VALUE('Raw-Data 4'!M73)-VALUE('Raw-Data 4'!K73) -> 0.05 | N41: =VALUE('Raw-Data 4'!$D79-'Raw-Data 4'!$B79) -> 0.0232 | U41: 1 | AC41: Pregnant | AD41: =VALUE('Raw-Data 4'!B891) -> 0.0947 | AF41: =VALUE('Raw-Data 4'!B891-'Raw-Data 4'!C891) -> 0.0535 | AK41: 2015 | AL41: =VALUE('Raw-Data 4'!Q874) -> 0.5703 | AN41: =VALUE('Raw-Data 4'!Q880) -> 0.747 | AO41: =VALUE('Raw-Data 4'!Q886) -> 0.5396 | AQ41: =VALUE('Raw-Data 4'!B874) -> 0.4639 | AR41: =VALUE('Raw-Data 4'!E874) -> 0.4817 | AS41: =VALUE('Raw-Data 4'!H874) -> 0.5707 | AT41: =VALUE('Raw-Data 4'!K874) -> 0.6233 | AU41: =VALUE('Raw-Data 4'!N874) -> 0.7593 | AW41: =VALUE('Raw-Data 4'!B215) -> 0.6062 | AX41: =VALUE('Raw-Data 4'!B239) -> 0.5265 | BF41: Male | BG41: Female | BI41: Poorest Q. | BJ41: Q2 | BK41: Q3 | BL41: Q4 | BM41: Richest Q. | BO41: Poorest Q. | BP41: Q2 | BQ41: Q3 | BR41: Q4 | BS41: Richest Q.
B42: - | C42: =VALUE('Raw-Data 4'!$B61-'Raw-Data 4'!$C61) -> 0.0522 | D42: =VALUE('Raw-Data 4'!$F61-'Raw-Data 4'!$G61) -> 0.0531 | F42: =VALUE('Raw-Data 4'!$B67-'Raw-Data 4'!$C67) -> 0.0604 | G42: =VALUE('Raw-Data 4'!$E67-'Raw-Data 4'!$F67) -> 0.0539 | I42: =VALUE('Raw-Data 4'!B73)-VALUE('Raw-Data 4'!C73) -> 0.0417 | J42: =VALUE('Raw-Data 4'!E73)-VALUE('Raw-Data 4'!F73) -> 0.0463 | K42: =VALUE('Raw-Data 4'!H73)-VALUE('Raw-Data 4'!I73) -> 0.0496 | L42: =VALUE('Raw-Data 4'!K73)-VALUE('Raw-Data 4'!L73) -> 0.0622 | N42: =VALUE('Raw-Data 4'!$B79-'Raw-Data 4'!$C79) -> 0.0245 | AC42: Working | AD42: =VALUE('Raw-Data 4'!B892) -> 0.0388 | AF42: =VALUE('Raw-Data 4'!B892-'Raw-Data 4'!C892) -> 0.0215 | AK42: 2009 | AL42: 0.4577 | AN42: 0.6825 | AO42: 0.4072 | AQ42: 0.3118 | AR42: 0.3967 | AS42: 0.4747 | AT42: 0.554 | AU42: 0.5722 | AW42: 0.5148 | AX42: 0.3991 | BE42: No Education | BF42: =VALUE('Raw-Data 4'!Q454) -> 0.4399 | BG42: =VALUE('Raw-Data 4'!Q462) -> 0.7071 | BI42: =VALUE('Raw-Data 4'!B454) -> 0.5259 | BJ42: =VALUE('Raw-Data 4'!E454) -> 0.5305 | BK42: =VALUE('Raw-Data 4'!H454) -> 0.4542 | BL42: =VALUE('Raw-Data 4'!K454) -> 0.4729 | BM42: =VALUE('Raw-Data 4'!N454) -> 0.302 | BO42: =VALUE('Raw-Data 4'!B462) -> 0.8115 | BP42: =VALUE('Raw-Data 4'!E462) -> 0.7589 | BQ42: =VALUE('Raw-Data 4'!H462) -> 0.754 | BR42: =VALUE('Raw-Data 4'!K462) -> 0.7116 | BS42: =VALUE('Raw-Data 4'!N462) -> 0.5569
AC43: Taking care of household | AD43: =VALUE('Raw-Data 4'!B893) -> 0.0541 | AF43: =VALUE('Raw-Data 4'!B893-'Raw-Data 4'!C893) -> 0.0232 | BE43: Primary | BF43: =VALUE('Raw-Data 4'!Q455) -> 0.3012 | BG43: =VALUE('Raw-Data 4'!Q463) -> 0.2125 | BI43: =VALUE('Raw-Data 4'!B455) -> 0.3466 | BJ43: =VALUE('Raw-Data 4'!E455) -> 0.2707 | BK43: =VALUE('Raw-Data 4'!H455) -> 0.2488 | BL43: =VALUE('Raw-Data 4'!K455) -> 0.3019 | BM43: =VALUE('Raw-Data 4'!N455) -> 0.3316 | BO43: =VALUE('Raw-Data 4'!B463) -> 0.1437 | BP43: =VALUE('Raw-Data 4'!E463) -> 0.2057 | BQ43: =VALUE('Raw-Data 4'!H463) -> 0.171 | BR43: =VALUE('Raw-Data 4'!K463) -> 0.2196 | BS43: =VALUE('Raw-Data 4'!N463) -> 0.2907
P44: 42186 | Q44: =C39 -> 0.5509 | R44: =F39 -> 0.5217 | S44: =I39 -> 0.7429 | AC44: Lack of financial resources | AD44: =VALUE('Raw-Data 4'!B894) -> 0.4355 | AF44: =VALUE('Raw-Data 4'!B894-'Raw-Data 4'!C894) -> 0.0963 | BE44: Secondary | BF44: =VALUE('Raw-Data 4'!Q456) -> 0.21 | BG44: =VALUE('Raw-Data 4'!Q464) -> 0.0653 | BI44: =VALUE('Raw-Data 4'!B456) -> 0.1198 | BJ44: =VALUE('Raw-Data 4'!E456) -> 0.1635 | BK44: =VALUE('Raw-Data 4'!H456) -> 0.254 | BL44: =VALUE('Raw-Data 4'!K456) -> 0.1873 | BM44: =VALUE('Raw-Data 4'!N456) -> 0.2744 | BO44: =VALUE('Raw-Data 4'!B464) -> 0.0448 | BP44: =VALUE('Raw-Data 4'!E464) -> 0.0291 | BQ44: =VALUE('Raw-Data 4'!H464) -> 0.0641 | BR44: =VALUE('Raw-Data 4'!K464) -> 0.055 | BS44: =VALUE('Raw-Data 4'!N464) -> 0.1161
AC45: Don't understand enrollment | AD45: =VALUE('Raw-Data 4'!B895) -> 0.027 | AF45: =VALUE('Raw-Data 4'!B895-'Raw-Data 4'!C895) -> 0.0199 | AL45: =VALUE('Raw-Data 4'!Q375-'Raw-Data 4'!R375) -> 0.0533 | AN45: =VALUE('Raw-Data 4'!Q381-'Raw-Data 4'!R381) -> 0.0473 | AO45: =VALUE('Raw-Data 4'!Q387-'Raw-Data 4'!R387) -> 0.0556 | AQ45: =VALUE('Raw-Data 4'!B375-'Raw-Data 4'!C375) -> 0.0709 | AR45: =VALUE('Raw-Data 4'!E375-'Raw-Data 4'!F375) -> 0.0746 | AS45: =VALUE('Raw-Data 4'!H375-'Raw-Data 4'!I375) -> 0.0828 | AT45: =VALUE('Raw-Data 4'!K375-'Raw-Data 4'!L375) -> 0.0802 | AU45: =VALUE('Raw-Data 4'!N375-'Raw-Data 4'!O375) -> 0.0739 | AW45: =VALUE('Raw-Data 4'!F215-'Raw-Data 4'!G215) -> 0.0591 | AX45: =VALUE('Raw-Data 4'!F238-'Raw-Data 4'!G238) -> 0.058 | AZ45: =VALUE('Raw-Data 4'!Q393-'Raw-Data 4'!R393) -> 0.0218 | BE45: Tertiary | BF45: =VALUE('Raw-Data 4'!Q457) -> 0.049 | BG45: =VALUE('Raw-Data 4'!Q465) -> 0.0151 | BI45: =VALUE('Raw-Data 4'!B457) -> 0.0076 | BJ45: =VALUE('Raw-Data 4'!E457) -> 0.0354 | BK45: =VALUE('Raw-Data 4'!H457) -> 0.043 | BL45: =VALUE('Raw-Data 4'!K457) -> 0.0379 | BM45: =VALUE('Raw-Data 4'!N457) -> 0.0919 | BO45: =VALUE('Raw-Data 4'!B465) -> 0 | BP45: =VALUE('Raw-Data 4'!E465) -> 0.0064 | BQ45: =VALUE('Raw-Data 4'!H465) -> 0.0109 | BR45: =VALUE('Raw-Data 4'!K465) -> 0.0138 | BS45: =VALUE('Raw-Data 4'!N465) -> 0.0363
P46: 42491 | S46: 0.6685 | AC46: Other | AD46: =VALUE('Raw-Data 4'!B896) -> 0.0426 | AF46: =VALUE('Raw-Data 4'!B896-'Raw-Data 4'!C896) -> 0.0255 | AL46: =VALUE('Raw-Data 4'!Q874-'Raw-Data 4'!R874) -> 0.0543 | AN46: =VALUE('Raw-Data 4'!Q880-'Raw-Data 4'!R880) -> 0.0343 | AO46: =VALUE('Raw-Data 4'!Q886-'Raw-Data 4'!R886) -> 0.0642 | AQ46: =VALUE('Raw-Data 4'!B874-'Raw-Data 4'!C874) -> 0.0446 | AR46: =VALUE('Raw-Data 4'!E874-'Raw-Data 4'!F874) -> 0.0825 | AS46: =VALUE('Raw-Data 4'!H874-'Raw-Data 4'!I874) -> 0.0684 | AT46: =VALUE('Raw-Data 4'!K874-'Raw-Data 4'!L874) -> 0.0867 | AU46: =VALUE('Raw-Data 4'!N874-'Raw-Data 4'!O874) -> 0.0821 | AW46: =VALUE('Raw-Data 4'!B221-'Raw-Data 4'!C221) -> 0.0643 | AX46: =VALUE('Raw-Data 4'!B244-'Raw-Data 4'!C244) -> 0.0666
P47: 42644 | Q47: =D39 -> 0.421 | R47: =G39 -> 0.3724 | S47: =K39 -> 0.7891 | AL47: 0.0394 | AN47: 0.0684 | AO47: 0.0459 | AQ47: 0.0648 | AR47: 0.0492 | AS47: 0.0587 | AT47: 0.0495 | AU47: 0.0668 | AW47: 0.0442 | AX47: 0.0401
P49: 42856 | S49: =L39 -> 0.8064 | T49: =N39 -> 0.7228
P54: Secondary
C55: National | F55: Rural | I55: Urban | N55: IDP | Q55: National | R55: Rural | S55: Urban | T55: IDP
C56: Wave 1 | D56: Wave 3 | F56: Wave1 | G56: Wave3 | I56: Wave 1 | J56: Wave 2 | K56: Wave 3 | L56: Wave 4 | N56: Wave 4 | P56: 39934 | Q56: 0.0954 | R56: 0.0493 | S56: 0.3098
B57: Secondary attendance | C57: =VALUE('Raw-Data 4'!B85) -> 0.089 | D57: =VALUE('Raw-Data 4'!F85) -> 0.0844 | F57: =VALUE('Raw-Data 4'!B91) -> 0.0679 | G57: =VALUE('Raw-Data 4'!E91) -> 0.0589 | I57: =VALUE('Raw-Data 4'!B97) -> 0.1871 | J57: =VALUE('Raw-Data 4'!E97) -> 0.1805 | K57: =VALUE('Raw-Data 4'!H97) -> 0.2174 | L57: =VALUE('Raw-Data 4'!K97) -> 0.2338 | N57: =VALUE('Raw-Data 4'!B103) -> 0.084
P58: 40695 | U58: 0.4
B59: + | C59: =VALUE('Raw-Data 4'!$D85-'Raw-Data 4'!$B85) -> 0.0217 | D59: =VALUE('Raw-Data 4'!$H85-'Raw-Data 4'!$F85) -> 0.025 | F59: =VALUE('Raw-Data 4'!$D91-'Raw-Data 4'!$B91) -> 0.0272 | G59: =VALUE('Raw-Data 4'!$G91-'Raw-Data 4'!$E91) -> 0.0262 | I59: =VALUE('Raw-Data 4'!D97)-VALUE('Raw-Data 4'!B97) -> 0.0307 | J59: =VALUE('Raw-Data 4'!G97)-VALUE('Raw-Data 4'!E97) -> 0.0289 | K59: =VALUE('Raw-Data 4'!J97)-VALUE('Raw-Data 4'!H97) -> 0.0541 | L59: =VALUE('Raw-Data 4'!M97)-VALUE('Raw-Data 4'!K97) -> 0.0882 | N59: =VALUE('Raw-Data 4'!$D103-'Raw-Data 4'!$B103) -> 0.0184 | AL59: National | AN59: Urban | AT59: Rural | AZ59: IDP
B60: - | C60: =VALUE('Raw-Data 4'!$B85-'Raw-Data 4'!$C85) -> 0.0178 | D60: =VALUE('Raw-Data 4'!$F85-'Raw-Data 4'!$G85) -> 0.0197 | F60: =VALUE('Raw-Data 4'!$B91-'Raw-Data 4'!$C91) -> 0.0199 | G60: =VALUE('Raw-Data 4'!$E91-'Raw-Data 4'!$F91) -> 0.0185 | I60: =VALUE('Raw-Data 4'!B97)-VALUE('Raw-Data 4'!C97) -> 0.0274 | J60: =VALUE('Raw-Data 4'!E97)-VALUE('Raw-Data 4'!F97) -> 0.0256 | K60: =VALUE('Raw-Data 4'!H97)-VALUE('Raw-Data 4'!I97) -> 0.0458 | L60: =VALUE('Raw-Data 4'!K97)-VALUE('Raw-Data 4'!L97) -> 0.0698 | N60: =VALUE('Raw-Data 4'!$B103-'Raw-Data 4'!$C103) -> 0.0153 | AN60: Poorest Q. | AO60: Q2 | AP60: Q3 | AQ60: Q4 | AR60: Richest Q. | AT60: Poorest Q. | AU60: Q2 | AV60: Q3 | AW60: Q4 | AX60: Richest Q.
AK61: 2016 | AL61: =Education!AL40 -> 0.4735 | AN61: =VALUE('Raw-Data 4'!B381) -> 0.7084 | AO61: =VALUE('Raw-Data 4'!E381) -> 0.7853 | AP61: =VALUE('Raw-Data 4'!H381) -> 0.81 | AQ61: =VALUE('Raw-Data 4'!K381) -> 0.8045 | AR61: =VALUE('Raw-Data 4'!N381) -> 0.8436 | AT61: =VALUE('Raw-Data 4'!B387) -> 0.3776 | AU61: =VALUE('Raw-Data 4'!E387) -> 0.3688 | AV61: =VALUE('Raw-Data 4'!H387) -> 0.4092 | AW61: =VALUE('Raw-Data 4'!K387) -> 0.427 | AX61: =VALUE('Raw-Data 4'!N387) -> 0.5944 | AZ61: =Education!AZ40 -> 0.7739
P62: 42186 | Q62: =C57 -> 0.089 | R62: =F57 -> 0.0679 | S62: =I57 -> 0.1871 | AK62: 2015 | AN62: =VALUE('Raw-Data 4'!B880) -> 0.6308 | AO62: =VALUE('Raw-Data 4'!E880) -> 0.6098 | AP62: =VALUE('Raw-Data 4'!H880) -> 0.7361 | AQ62: =VALUE('Raw-Data 4'!K880) -> 0.7945 | AR62: =VALUE('Raw-Data 4'!N880) -> 0.8194 | AT62: =VALUE('Raw-Data 4'!B886) -> 0.4512 | AU62: =VALUE('Raw-Data 4'!E886) -> 0.4688 | AV62: =VALUE('Raw-Data 4'!H886) -> 0.5398 | AW62: =VALUE('Raw-Data 4'!K886) -> 0.5796 | AX62: =VALUE('Raw-Data 4'!N886) -> 0.7401 | BF62: In school
AK63: 2009 | AN63: 0.3791 | AO63: 0.5813 | AP63: 0.6595 | AQ63: 0.6834 | AR63: 0.7722 | AT63: 0.308 | AU63: 0.3788 | AV63: 0.4376 | AW63: 0.5088 | AX63: 0.4463 | BF63: National | BL63: Rural | BR63: Urban | BX63: IDP
P64: 42491 | S64: =J57 -> 0.1805 | BF64: Poorest Q. | BG64: Q2 | BH64: Q3 | BI64: Q4 | BJ64: Richest Q. | BL64: Poorest Q. | BM64: Q2 | BN64: Q3 | BO64: Q4 | BP64: Richest Q. | BR64: Poorest Q. | BS64: Q2 | BT64: Q3 | BU64: Q4 | BV64: Richest Q. | BX64: Poorest Q. | BY64: Q2 | BZ64: Q3 | CA64: Q4 | CB64: Richest Q.
P65: 42644 | Q65: =D57 -> 0.0844 | R65: =G57 -> 0.0589 | S65: =K57 -> 0.2174 | BE65: Male | BF65: =VALUE('Raw-Data 4'!B487) -> 0.4431 | BG65: =VALUE('Raw-Data 4'!E487) -> 0.439 | BH65: =VALUE('Raw-Data 4'!H487) -> 0.5182 | BI65: =VALUE('Raw-Data 4'!K487) -> 0.491 | BJ65: =VALUE('Raw-Data 4'!N487) -> 0.7163 | BL65: =VALUE('Raw-Data 4'!B493) -> 0.4225 | BM65: =VALUE('Raw-Data 4'!E493) -> 0.4137 | BN65: =VALUE('Raw-Data 4'!H493) -> 0.4717 | BO65: =VALUE('Raw-Data 4'!K493) -> 0.4418 | BP65: =VALUE('Raw-Data 4'!N493) -> 0.6573 | BR65: =VALUE('Raw-Data 4'!B499) -> 0.7662 | BS65: =VALUE('Raw-Data 4'!E499) -> 0.7276 | BT65: =VALUE('Raw-Data 4'!H499) -> 0.8432 | BU65: =VALUE('Raw-Data 4'!K499) -> 0.8054 | BV65: =VALUE('Raw-Data 4'!N499) -> 0.8751 | BX65: =VALUE('Raw-Data 4'!B505) -> 0.7826 | BY65: =VALUE('Raw-Data 4'!E505) -> 0.7908 | BZ65: =VALUE('Raw-Data 4'!H505) -> 0.7606 | CA65: =VALUE('Raw-Data 4'!K505) -> 0.6883 | CB65: =VALUE('Raw-Data 4'!N505) -> 0.7913
AL66: =Education!AL45 -> 0.0533 | AN66: =VALUE('Raw-Data 4'!B381-'Raw-Data 4'!C381) -> 0.083 | AO66: =VALUE('Raw-Data 4'!E381-'Raw-Data 4'!F381) -> 0.1031 | AP66: =VALUE('Raw-Data 4'!H381-'Raw-Data 4'!I381) -> 0.0947 | AQ66: =VALUE('Raw-Data 4'!K381-'Raw-Data 4'!L381) -> 0.0873 | AR66: =VALUE('Raw-Data 4'!N381-'Raw-Data 4'!O381) -> 0.0749 | AT66: =VALUE('Raw-Data 4'!B387-'Raw-Data 4'!C387) -> 0.0725 | AU66: =VALUE('Raw-Data 4'!E387-'Raw-Data 4'!F387) -> 0.0783 | AV66: =VALUE('Raw-Data 4'!H387-'Raw-Data 4'!I387) -> 0.0821 | AW66: =VALUE('Raw-Data 4'!K387-'Raw-Data 4'!L387) -> 0.0878 | AX66: =VALUE('Raw-Data 4'!N387-'Raw-Data 4'!O387) -> 0.0934 | AZ66: =Education!AZ45 -> 0.0218 | BE66: Female | BF66: =VALUE('Raw-Data 4'!B511) -> 0.3514 | BG66: =VALUE('Raw-Data 4'!E511) -> 0.3698 | BH66: =VALUE('Raw-Data 4'!H511) -> 0.4026 | BI66: =VALUE('Raw-Data 4'!K511) -> 0.4593 | BJ66: =VALUE('Raw-Data 4'!N511) -> 0.6179 | BL66: =VALUE('Raw-Data 4'!B517) -> 0.3326 | BM66: =VALUE('Raw-Data 4'!E517) -> 0.3198 | BN66: =VALUE('Raw-Data 4'!H517) -> 0.3577 | BO66: =VALUE('Raw-Data 4'!K517) -> 0.4125 | BP66: =VALUE('Raw-Data 4'!N517) -> 0.53 | BR66: =VALUE('Raw-Data 4'!B523) -> 0.6496 | BS66: =VALUE('Raw-Data 4'!E523) -> 0.837 | BT66: =VALUE('Raw-Data 4'!H523) -> 0.7773 | BU66: =VALUE('Raw-Data 4'!K523) -> 0.8034 | BV66: =VALUE('Raw-Data 4'!N523) -> 0.8165 | BX66: =VALUE('Raw-Data 4'!B529) -> 0.6475 | BY66: =VALUE('Raw-Data 4'!E529) -> 0.6657 | BZ66: =VALUE('Raw-Data 4'!H529) -> 0.7104 | CA66: =VALUE('Raw-Data 4'!K529) -> 0.7343 | CB66: =VALUE('Raw-Data 4'!N529) -> 0.7555
P67: 42856 | S67: =L57 -> 0.2338 | T67: =N57 -> 0.084 | AN67: =VALUE('Raw-Data 4'!B880-'Raw-Data 4'!C880) -> 0.1095 | AO67: =VALUE('Raw-Data 4'!E880-'Raw-Data 4'!F880) -> 0.1118 | AP67: =VALUE('Raw-Data 4'!H880-'Raw-Data 4'!I880) -> 0.0755 | AQ67: =VALUE('Raw-Data 4'!K880-'Raw-Data 4'!L880) -> 0.0533 | AR67: =VALUE('Raw-Data 4'!N880-'Raw-Data 4'!O880) -> 0.043 | AT67: =VALUE('Raw-Data 4'!B886-'Raw-Data 4'!C886) -> 0.0477 | AU67: =VALUE('Raw-Data 4'!E886-'Raw-Data 4'!F886) -> 0.0889 | AV67: =VALUE('Raw-Data 4'!H886-'Raw-Data 4'!I886) -> 0.0818 | AW67: =VALUE('Raw-Data 4'!K886-'Raw-Data 4'!L886) -> 0.106 | AX67: =VALUE('Raw-Data 4'!N886-'Raw-Data 4'!O886) -> 0.1176
AN68: 0.1706 | AO68: 0.0828 | AP68: 0.1305 | AQ68: 0.0653 | AR68: 0.0503 | AT68: 0.0673 | AU68: 0.0534 | AV68: 0.0668 | AW68: 0.064 | AX68: 0.0988 | BE68: SE Male | BF68: =VALUE('Raw-Data 4'!B487-'Raw-Data 4'!C487) -> 0.0902 | BG68: =VALUE('Raw-Data 4'!E487-'Raw-Data 4'!F487) -> 0.086 | BH68: =VALUE('Raw-Data 4'!H487-'Raw-Data 4'!I487) -> 0.0894 | BI68: =VALUE('Raw-Data 4'!K487-'Raw-Data 4'!L487) -> 0.0985 | BJ68: =VALUE('Raw-Data 4'!N487-'Raw-Data 4'!O487) -> 0.0907 | BL68: =VALUE('Raw-Data 4'!B493-'Raw-Data 4'!C493) -> 0.0929 | BM68: =VALUE('Raw-Data 4'!E493-'Raw-Data 4'!F493) -> 0.0899 | BN68: =VALUE('Raw-Data 4'!H493-'Raw-Data 4'!I493) -> 0.0889 | BO68: =VALUE('Raw-Data 4'!K493-'Raw-Data 4'!L493) -> 0.1096 | BP68: =VALUE('Raw-Data 4'!N493-'Raw-Data 4'!O493) -> 0.1179 | BR68: =VALUE('Raw-Data 4'!B499-'Raw-Data 4'!C499) -> 0.0907 | BS68: =VALUE('Raw-Data 4'!E499-'Raw-Data 4'!F499) -> 0.142 | BT68: =VALUE('Raw-Data 4'!H499-'Raw-Data 4'!I499) -> 0.1075 | BU68: =VALUE('Raw-Data 4'!K499-'Raw-Data 4'!L499) -> 0.0943 | BV68: =VALUE('Raw-Data 4'!N499-'Raw-Data 4'!O499) -> 0.0945 | BX68: =VALUE('Raw-Data 4'!B505-'Raw-Data 4'!C505) -> 0.0563 | BY68: =VALUE('Raw-Data 4'!E505-'Raw-Data 4'!F505) -> 0.0489 | BZ68: =VALUE('Raw-Data 4'!H505-'Raw-Data 4'!I505) -> 0.0654 | CA68: =VALUE('Raw-Data 4'!K505-'Raw-Data 4'!L505) -> 0.1034 | CB68: =VALUE('Raw-Data 4'!N505-'Raw-Data 4'!O505) -> 0.1448
BE69: SE Female | BF69: =VALUE('Raw-Data 4'!B511-'Raw-Data 4'!C511) -> 0.081 | BG69: =VALUE('Raw-Data 4'!E511-'Raw-Data 4'!F511) -> 0.0825 | BH69: =VALUE('Raw-Data 4'!H511-'Raw-Data 4'!I511) -> 0.1007 | BI69: =VALUE('Raw-Data 4'!K511-'Raw-Data 4'!L511) -> 0.0835 | BJ69: =VALUE('Raw-Data 4'!N511-'Raw-Data 4'!O511) -> 0.0895 | BL69: =VALUE('Raw-Data 4'!B517-'Raw-Data 4'!C517) -> 0.0841 | BM69: =VALUE('Raw-Data 4'!E517-'Raw-Data 4'!F517) -> 0.0861 | BN69: =VALUE('Raw-Data 4'!H517-'Raw-Data 4'!I517) -> 0.1057 | BO69: =VALUE('Raw-Data 4'!K517-'Raw-Data 4'!L517) -> 0.0884 | BP69: =VALUE('Raw-Data 4'!N517-'Raw-Data 4'!O517) -> 0.1099 | BR69: =VALUE('Raw-Data 4'!B523-'Raw-Data 4'!C523) -> 0.0787 | BS69: =VALUE('Raw-Data 4'!E523-'Raw-Data 4'!F523) -> 0.0968 | BT69: =VALUE('Raw-Data 4'!H523-'Raw-Data 4'!I523) -> 0.116 | BU69: =VALUE('Raw-Data 4'!K523-'Raw-Data 4'!L523) -> 0.1172 | BV69: =VALUE('Raw-Data 4'!N523-'Raw-Data 4'!O523) -> 0.074 | BX69: =VALUE('Raw-Data 4'!B529-'Raw-Data 4'!C529) -> 0.0562 | BY69: =VALUE('Raw-Data 4'!E529-'Raw-Data 4'!F529) -> 0.053 | BZ69: =VALUE('Raw-Data 4'!H529-'Raw-Data 4'!I529) -> 0.063 | CA69: =VALUE('Raw-Data 4'!K529-'Raw-Data 4'!L529) -> 0.0973 | CB69: =VALUE('Raw-Data 4'!N529-'Raw-Data 4'!O529) -> 0.1205
A77: 2016 | G77: Men | J77: Women
C78: Literate | D78: LB | E78: UB | G78: Literate | H78: LBMen | I78: [95% CI] | J78: Literate | K78: LBWoman | L78: UBWoman | T78: National | W78: Rural | Z78: Urban | AE78: IDP
B79: 5 - 9 Years | C79: =VALUE('Raw-Data 4'!E582) -> 0.1598 | D79: =VALUE('Raw-Data 4'!F582) -> 0.1322 | E79: =VALUE('Raw-Data 4'!G582) -> 0.1918 | G79: =VALUE('Raw-Data 4'!E599) -> 0.1693 | H79: =VALUE('Raw-Data 4'!F599) -> 0.1345 | I79: =VALUE('Raw-Data 4'!G599) -> 0.211 | J79: =VALUE('Raw-Data 4'!E616) -> 0.1506 | K79: =VALUE('Raw-Data 4'!F616) -> 0.1218 | L79: =VALUE('Raw-Data 4'!G616) -> 0.1849 | T79: Wave 1 | U79: Wave 3 | W79: Wave1 | X79: Wave3 | Z79: Wave 1 | AA79: Wave 2 | AB79: Wave 3 | AC79: Wave 4 | AE79: Wave 4
B80: 10 - 14 Years | C80: =VALUE('Raw-Data 4'!E583) -> 0.4362 | D80: =VALUE('Raw-Data 4'!F583) -> 0.3805 | E80: =VALUE('Raw-Data 4'!G583) -> 0.4935 | G80: =VALUE('Raw-Data 4'!E600) -> 0.4789 | H80: =VALUE('Raw-Data 4'!F600) -> 0.409 | I80: =VALUE('Raw-Data 4'!G600) -> 0.5497 | J80: =VALUE('Raw-Data 4'!E617) -> 0.3946 | K80: =VALUE('Raw-Data 4'!F617) -> 0.3321 | L80: =VALUE('Raw-Data 4'!G617) -> 0.4608 | S80: Youth (ages 6-25) | T80: =VALUE('Raw-Data 4'!B263) -> 0.4475 | U80: =VALUE('Raw-Data 4'!F263) -> 0.4245 | W80: =VALUE('Raw-Data 4'!B269) -> 0.4129 | X80: =VALUE('Raw-Data 4'!E269) -> 0.3671 | Z80: =VALUE('Raw-Data 4'!B275) -> 0.6358 | AA80: =VALUE('Raw-Data 4'!E275) -> 0.6654 | AB80: =VALUE('Raw-Data 4'!H275) -> 0.7493 | AC80: =VALUE('Raw-Data 4'!K275) -> 0.6716 | AE80: =VALUE('Raw-Data 4'!B281) -> 0.6513
B81: 15 - 19 Years | C81: =VALUE('Raw-Data 4'!E584) -> 0.6266 | D81: =VALUE('Raw-Data 4'!F584) -> 0.5521 | E81: =VALUE('Raw-Data 4'!G584) -> 0.6956 | G81: =VALUE('Raw-Data 4'!E601) -> 0.6697 | H81: =VALUE('Raw-Data 4'!F601) -> 0.5785 | I81: =VALUE('Raw-Data 4'!G601) -> 0.7497 | J81: =VALUE('Raw-Data 4'!E618) -> 0.5823 | K81: =VALUE('Raw-Data 4'!F618) -> 0.502 | L81: =VALUE('Raw-Data 4'!G618) -> 0.6585 | S81: Adults (ages 26+) | T81: =VALUE('Raw-Data 4'!B319) -> 0.2679 | U81: =VALUE('Raw-Data 4'!F319) -> 0.289 | W81: =VALUE('Raw-Data 4'!B325) -> 0.2307 | X81: =VALUE('Raw-Data 4'!E325) -> 0.2322 | Z81: =VALUE('Raw-Data 4'!B331) -> 0.5043 | AA81: =VALUE('Raw-Data 4'!E331) -> 0.4608 | AB81: =VALUE('Raw-Data 4'!H331) -> 0.6053 | AC81: =VALUE('Raw-Data 4'!K331) -> 0.5347 | AE81: =VALUE('Raw-Data 4'!B337) -> 0.4162
B82: 20 - 24 Years | C82: =VALUE('Raw-Data 4'!E585) -> 0.5832 | D82: =VALUE('Raw-Data 4'!F585) -> 0.5175 | E82: =VALUE('Raw-Data 4'!G585) -> 0.646 | G82: =VALUE('Raw-Data 4'!E602) -> 0.6759 | H82: =VALUE('Raw-Data 4'!F602) -> 0.5891 | I82: =VALUE('Raw-Data 4'!G602) -> 0.7521 | J82: =VALUE('Raw-Data 4'!E619) -> 0.5003 | K82: =VALUE('Raw-Data 4'!F619) -> 0.4207 | L82: =VALUE('Raw-Data 4'!G619) -> 0.5799
B83: 25 - 29 Years | C83: =VALUE('Raw-Data 4'!E586) -> 0.4201 | D83: =VALUE('Raw-Data 4'!F586) -> 0.3609 | E83: =VALUE('Raw-Data 4'!G586) -> 0.4816 | G83: =VALUE('Raw-Data 4'!E603) -> 0.6417 | H83: =VALUE('Raw-Data 4'!F603) -> 0.5557 | I83: =VALUE('Raw-Data 4'!G603) -> 0.7195 | J83: =VALUE('Raw-Data 4'!E620) -> 0.2526 | K83: =VALUE('Raw-Data 4'!F620) -> 0.1953 | L83: =VALUE('Raw-Data 4'!G620) -> 0.3201 | S83: + | T83: =VALUE('Raw-Data 4'!$D263-'Raw-Data 4'!$B263) -> 0.0348 | U83: =VALUE('Raw-Data 4'!$H263-'Raw-Data 4'!$F263) -> 0.0472 | W83: =VALUE('Raw-Data 4'!$D269-'Raw-Data 4'!$B269) -> 0.0424 | X83: =VALUE('Raw-Data 4'!$G269-'Raw-Data 4'!$E269) -> 0.0493 | Z83: =VALUE('Raw-Data 4'!D275)-VALUE('Raw-Data 4'!B275) -> 0.0296 | AA83: =VALUE('Raw-Data 4'!G275)-VALUE('Raw-Data 4'!E275) -> 0.0213 | AB83: =VALUE('Raw-Data 4'!J275)-VALUE('Raw-Data 4'!H275) -> 0.0471 | AC83: =VALUE('Raw-Data 4'!M275)-VALUE('Raw-Data 4'!K275) -> 0.0571 | AE83: =VALUE('Raw-Data 4'!$D281-'Raw-Data 4'!$B281) -> 0.0245
B84: 30 - 34 Years | C84: =VALUE('Raw-Data 4'!E587) -> 0.3331 | D84: =VALUE('Raw-Data 4'!F587) -> 0.2799 | E84: =VALUE('Raw-Data 4'!G587) -> 0.391 | G84: =VALUE('Raw-Data 4'!E604) -> 0.5971 | H84: =VALUE('Raw-Data 4'!F604) -> 0.4899 | I84: =VALUE('Raw-Data 4'!G604) -> 0.6959 | J84: =VALUE('Raw-Data 4'!E621) -> 0.1684 | K84: =VALUE('Raw-Data 4'!F621) -> 0.1234 | L84: =VALUE('Raw-Data 4'!G621) -> 0.2256 | S84: - | T84: =VALUE('Raw-Data 4'!$B263-'Raw-Data 4'!$C263) -> 0.0344 | U84: =VALUE('Raw-Data 4'!$F263-'Raw-Data 4'!$G263) -> 0.0458 | W84: =VALUE('Raw-Data 4'!$B269-'Raw-Data 4'!$C269) -> 0.0411 | X84: =VALUE('Raw-Data 4'!$E269-'Raw-Data 4'!$F269) -> 0.0467 | Z84: =VALUE('Raw-Data 4'!B275)-VALUE('Raw-Data 4'!C275) -> 0.0308 | AA84: =VALUE('Raw-Data 4'!E275)-VALUE('Raw-Data 4'!F275) -> 0.022 | AB84: =VALUE('Raw-Data 4'!H275)-VALUE('Raw-Data 4'!I275) -> 0.0538 | AC84: =VALUE('Raw-Data 4'!K275)-VALUE('Raw-Data 4'!L275) -> 0.0626 | AE84: =VALUE('Raw-Data 4'!$B281-'Raw-Data 4'!$C281) -> 0.0254
B85: 35 - 39 Years | C85: =VALUE('Raw-Data 4'!E588) -> 0.2867 | D85: =VALUE('Raw-Data 4'!F588) -> 0.2265 | E85: =VALUE('Raw-Data 4'!G588) -> 0.3556 | G85: =VALUE('Raw-Data 4'!E605) -> 0.516 | H85: =VALUE('Raw-Data 4'!F605) -> 0.4163 | I85: =VALUE('Raw-Data 4'!G605) -> 0.6144 | J85: =VALUE('Raw-Data 4'!E622) -> 0.1353 | K85: =VALUE('Raw-Data 4'!F622) -> 0.0902 | L85: =VALUE('Raw-Data 4'!G622) -> 0.198
B86: 40 - 44 Years | C86: =VALUE('Raw-Data 4'!E589) -> 0.2878 | D86: =VALUE('Raw-Data 4'!F589) -> 0.2254 | E86: =VALUE('Raw-Data 4'!G589) -> 0.3595 | G86: =VALUE('Raw-Data 4'!E606) -> 0.4108 | H86: =VALUE('Raw-Data 4'!F606) -> 0.3123 | I86: =VALUE('Raw-Data 4'!G606) -> 0.5169 | J86: =VALUE('Raw-Data 4'!E623) -> 0.1354 | K86: =VALUE('Raw-Data 4'!F623) -> 0.0829 | L86: =VALUE('Raw-Data 4'!G623) -> 0.2135
B87: 45 - 49 Years | C87: =VALUE('Raw-Data 4'!E590) -> 0.2207 | D87: =VALUE('Raw-Data 4'!F590) -> 0.1637 | E87: =VALUE('Raw-Data 4'!G590) -> 0.2906 | G87: =VALUE('Raw-Data 4'!E607) -> 0.3677 | H87: =VALUE('Raw-Data 4'!F607) -> 0.268 | I87: =VALUE('Raw-Data 4'!G607) -> 0.4802 | J87: =VALUE('Raw-Data 4'!E624) -> 0.0818 | K87: =VALUE('Raw-Data 4'!F624) -> 0.0471 | L87: =VALUE('Raw-Data 4'!G624) -> 0.1385
B88: 50 - 54 Years | C88: =VALUE('Raw-Data 4'!E591) -> 0.2813 | D88: =VALUE('Raw-Data 4'!F591) -> 0.2146 | E88: =VALUE('Raw-Data 4'!G591) -> 0.3593 | G88: =VALUE('Raw-Data 4'!E608) -> 0.5098 | H88: =VALUE('Raw-Data 4'!F608) -> 0.3847 | I88: =VALUE('Raw-Data 4'!G608) -> 0.6337 | J88: =VALUE('Raw-Data 4'!E625) -> 0.0316 | K88: =VALUE('Raw-Data 4'!F625) -> 0.0139 | L88: =VALUE('Raw-Data 4'!G625) -> 0.0704
B89: 55 - 59 Years | C89: =VALUE('Raw-Data 4'!E592) -> 0.2959 | D89: =VALUE('Raw-Data 4'!F592) -> 0.1936 | E89: =VALUE('Raw-Data 4'!G592) -> 0.424 | G89: =VALUE('Raw-Data 4'!E609) -> 0.5454 | H89: =VALUE('Raw-Data 4'!F609) -> 0.38 | I89: =VALUE('Raw-Data 4'!G609) -> 0.7014 | J89: =VALUE('Raw-Data 4'!E626) -> 0.0444 | K89: =VALUE('Raw-Data 4'!F626) -> 0.0141 | L89: =VALUE('Raw-Data 4'!G626) -> 0.1315
B90: 60 - 64 Years | C90: =VALUE('Raw-Data 4'!E593) -> 0.1412 | D90: =VALUE('Raw-Data 4'!F593) -> 0.0943 | E90: =VALUE('Raw-Data 4'!G593) -> 0.2062 | G90: =VALUE('Raw-Data 4'!E610) -> 0.2474 | H90: =VALUE('Raw-Data 4'!F610) -> 0.1674 | I90: =VALUE('Raw-Data 4'!G610) -> 0.3496 | J90: =VALUE('Raw-Data 4'!E627) -> 0.0561 | K90: =VALUE('Raw-Data 4'!F627) -> 0.0243 | L90: =VALUE('Raw-Data 4'!G627) -> 0.1243
B91: 65 and above | C91: =VALUE('Raw-Data 4'!E594) -> 0.1521 | D91: =VALUE('Raw-Data 4'!F594) -> 0.1021 | E91: =VALUE('Raw-Data 4'!G594) -> 0.2206 | G91: =VALUE('Raw-Data 4'!E611) -> 0.2767 | H91: =VALUE('Raw-Data 4'!F611) -> 0.1765 | I91: =VALUE('Raw-Data 4'!G611) -> 0.4059 | J91: =VALUE('Raw-Data 4'!E628) -> 0.0407 | K91: =VALUE('Raw-Data 4'!F628) -> 0.0147 | L91: =VALUE('Raw-Data 4'!G628) -> 0.1074
G95: Men | J95: Women
C96: Primary | D96: LB | E96: UB | G96: Primary | H96: LBMen | I96: UBMen | J96: Literate | K96: LBWoman | L96: UBWoman
B97: 5 - 9 Years | C97: =VALUE('Raw-Data 4'!E633) -> 0.3702 | D97: =VALUE('Raw-Data 4'!F633) -> 0.3205 | E97: =VALUE('Raw-Data 4'!G633) -> 0.4229 | G97: =VALUE('Raw-Data 4'!E650) -> 0.3766 | H97: =VALUE('Raw-Data 4'!F650) -> 0.3148 | I97: =VALUE('Raw-Data 4'!G650) -> 0.4426 | J97: =VALUE('Raw-Data 4'!E667) -> 0.3644 | K97: =VALUE('Raw-Data 4'!F667) -> 0.3095 | L97: =VALUE('Raw-Data 4'!G667) -> 0.4231
B98: 10 - 14 Years | C98: =VALUE('Raw-Data 4'!E634) -> 0.596 | D98: =VALUE('Raw-Data 4'!F634) -> 0.5248 | E98: =VALUE('Raw-Data 4'!G634) -> 0.6633 | G98: =VALUE('Raw-Data 4'!E651) -> 0.6376 | H98: =VALUE('Raw-Data 4'!F651) -> 0.5587 | I98: =VALUE('Raw-Data 4'!G651) -> 0.7098 | J98: =VALUE('Raw-Data 4'!E668) -> 0.5558 | K98: =VALUE('Raw-Data 4'!F668) -> 0.4806 | L98: =VALUE('Raw-Data 4'!G668) -> 0.6285
B99: 15 - 19 Years | C99: =VALUE('Raw-Data 4'!E635) -> 0.6899 | D99: =VALUE('Raw-Data 4'!F635) -> 0.6066 | E99: =VALUE('Raw-Data 4'!G635) -> 0.7625 | G99: =VALUE('Raw-Data 4'!E652) -> 0.7182 | H99: =VALUE('Raw-Data 4'!F652) -> 0.6181 | I99: =VALUE('Raw-Data 4'!G652) -> 0.8005 | J99: =VALUE('Raw-Data 4'!E669) -> 0.6611 | K99: =VALUE('Raw-Data 4'!F669) -> 0.576 | L99: =VALUE('Raw-Data 4'!G669) -> 0.737
B100: 20 - 24 Years | C100: =VALUE('Raw-Data 4'!E636) -> 0.6502 | D100: =VALUE('Raw-Data 4'!F636) -> 0.5825 | E100: =VALUE('Raw-Data 4'!G636) -> 0.7123 | G100: =VALUE('Raw-Data 4'!E653) -> 0.7262 | H100: =VALUE('Raw-Data 4'!F653) -> 0.6419 | I100: =VALUE('Raw-Data 4'!G653) -> 0.797 | J100: =VALUE('Raw-Data 4'!E670) -> 0.5827 | K100: =VALUE('Raw-Data 4'!F670) -> 0.5049 | L100: =VALUE('Raw-Data 4'!G670) -> 0.6565 | S100: Youth educational attainment 6-25 | X100: Adult educational attainment 26+
B101: 25 - 29 Years | C101: =VALUE('Raw-Data 4'!E637) -> 0.4783 | D101: =VALUE('Raw-Data 4'!F637) -> 0.4096 | E101: =VALUE('Raw-Data 4'!G637) -> 0.5478 | G101: =VALUE('Raw-Data 4'!E654) -> 0.6648 | H101: =VALUE('Raw-Data 4'!F654) -> 0.5838 | I101: =VALUE('Raw-Data 4'!G654) -> 0.7372 | J101: =VALUE('Raw-Data 4'!E671) -> 0.3379 | K101: =VALUE('Raw-Data 4'!F671) -> 0.2625 | L101: =VALUE('Raw-Data 4'!G671) -> 0.4225 | T101: National | Y101: Rural | AD101: Urban | AM101: IDP
B102: 30 - 34 Years | C102: =VALUE('Raw-Data 4'!E638) -> 0.3459 | D102: =VALUE('Raw-Data 4'!F638) -> 0.2894 | E102: =VALUE('Raw-Data 4'!G638) -> 0.4072 | G102: =VALUE('Raw-Data 4'!E655) -> 0.591 | H102: =VALUE('Raw-Data 4'!F655) -> 0.4825 | I102: =VALUE('Raw-Data 4'!G655) -> 0.6913 | J102: =VALUE('Raw-Data 4'!E672) -> 0.1959 | K102: =VALUE('Raw-Data 4'!F672) -> 0.1456 | L102: =VALUE('Raw-Data 4'!G672) -> 0.2583 | T102: Wave 1 | V102: Wave 3 | Y102: Wave 1 | AA102: Wave 3 | AD102: Wave 1 | AF102: Wave 2 | AH102: Wave 3 | AJ102: Wave 4 | AM102: Wave 4
B103: 35 - 39 Years | C103: =VALUE('Raw-Data 4'!E639) -> 0.3131 | D103: =VALUE('Raw-Data 4'!F639) -> 0.2452 | E103: =VALUE('Raw-Data 4'!G639) -> 0.3902 | G103: =VALUE('Raw-Data 4'!E656) -> 0.551 | H103: =VALUE('Raw-Data 4'!F656) -> 0.4378 | I103: =VALUE('Raw-Data 4'!G656) -> 0.6593 | J103: =VALUE('Raw-Data 4'!E673) -> 0.1637 | K103: =VALUE('Raw-Data 4'!F673) -> 0.1134 | L103: =VALUE('Raw-Data 4'!G673) -> 0.2304 | T103: Youth | U103: Adult | V103: Youth | W103: Adult | Y103: Youth | Z103: Adult | AA103: Youth | AB103: Adult | AD103: Youth | AE103: Adult | AF103: Youth | AG103: Adult | AH103: Youth | AI103: Adult | AJ103: Youth | AK103: Adult | AM103: Youth | AN103: Adult
B104: 40 - 44 Years | C104: =VALUE('Raw-Data 4'!E640) -> 0.3291 | D104: =VALUE('Raw-Data 4'!F640) -> 0.2619 | E104: =VALUE('Raw-Data 4'!G640) -> 0.4042 | G104: =VALUE('Raw-Data 4'!E657) -> 0.4273 | H104: =VALUE('Raw-Data 4'!F657) -> 0.3188 | I104: =VALUE('Raw-Data 4'!G657) -> 0.5434 | J104: =VALUE('Raw-Data 4'!E674) -> 0.2138 | K104: =VALUE('Raw-Data 4'!F674) -> 0.1442 | L104: =VALUE('Raw-Data 4'!G674) -> 0.305 | S104: No Education | T104: =VALUE('Raw-Data 4'!$B286) -> 0.3862 | U104: =VALUE('Raw-Data 4'!$B342) -> 0.6981 | V104: =VALUE('Raw-Data 4'!$F286) -> 0.4454 | W104: =VALUE('Raw-Data 4'!$F342) -> 0.6923 | Y104: =VALUE('Raw-Data 4'!$B294) -> 0.421 | Z104: =VALUE('Raw-Data 4'!$B350) -> 0.734 | AA104: =VALUE('Raw-Data 4'!$E294) -> 0.4997 | AB104: =VALUE('Raw-Data 4'!$E350) -> 0.7465 | AD104: =VALUE('Raw-Data 4'!B302) -> 0.1942 | AE104: =VALUE('Raw-Data 4'!$B358) -> 0.4659 | AF104: =VALUE('Raw-Data 4'!E302) -> 0.1665 | AG104: =VALUE('Raw-Data 4'!$E358) -> 0.4594 | AH104: =VALUE('Raw-Data 4'!H302) -> 0.136 | AI104: =VALUE('Raw-Data 4'!$H358) -> 0.3881 | AJ104: =VALUE('Raw-Data 4'!K302) -> 0.1485 | AK104: =VALUE('Raw-Data 4'!$K358) -> 0.4112 | AM104: =VALUE('Raw-Data 4'!B310) -> 0.2261 | AN104: =VALUE('Raw-Data 4'!$B366) -> 0.541
B105: 45 - 49 Years | C105: =VALUE('Raw-Data 4'!E641) -> 0.2205 | D105: =VALUE('Raw-Data 4'!F641) -> 0.1612 | E105: =VALUE('Raw-Data 4'!G641) -> 0.2941 | G105: =VALUE('Raw-Data 4'!E658) -> 0.3419 | H105: =VALUE('Raw-Data 4'!F658) -> 0.2452 | I105: =VALUE('Raw-Data 4'!G658) -> 0.4537 | J105: =VALUE('Raw-Data 4'!E675) -> 0.109 | K105: =VALUE('Raw-Data 4'!F675) -> 0.0662 | L105: =VALUE('Raw-Data 4'!G675) -> 0.1742 | S105: Primary | T105: =VALUE('Raw-Data 4'!$B287) -> 0.5371 | U105: =VALUE('Raw-Data 4'!$B343) -> 0.1945 | V105: =VALUE('Raw-Data 4'!$F287) -> 0.4796 | W105: =VALUE('Raw-Data 4'!$F343) -> 0.1763 | Y105: =VALUE('Raw-Data 4'!$B295) -> 0.5189 | Z105: =VALUE('Raw-Data 4'!$B351) -> 0.1848 | AA105: =VALUE('Raw-Data 4'!$E295) -> 0.4537 | AB105: =VALUE('Raw-Data 4'!$E351) -> 0.1706 | AD105: =VALUE('Raw-Data 4'!B303) -> 0.6379 | AE105: =VALUE('Raw-Data 4'!$B359) -> 0.2572 | AF105: =VALUE('Raw-Data 4'!E303) -> 0.6618 | AG105: =VALUE('Raw-Data 4'!$E359) -> 0.2793 | AH105: =VALUE('Raw-Data 4'!H303) -> 0.6271 | AI105: =VALUE('Raw-Data 4'!$H359) -> 0.2082 | AJ105: =VALUE('Raw-Data 4'!K303) -> 0.6327 | AK105: =VALUE('Raw-Data 4'!$K359) -> 0.324 | AM105: =VALUE('Raw-Data 4'!B311) -> 0.679 | AN105: =VALUE('Raw-Data 4'!$B367) -> 0.2149
B106: 50 - 54 Years | C106: =VALUE('Raw-Data 4'!E642) -> 0.2817 | D106: =VALUE('Raw-Data 4'!F642) -> 0.2131 | E106: =VALUE('Raw-Data 4'!G642) -> 0.3622 | G106: =VALUE('Raw-Data 4'!E659) -> 0.4897 | H106: =VALUE('Raw-Data 4'!F659) -> 0.3636 | I106: =VALUE('Raw-Data 4'!G659) -> 0.6172 | J106: =VALUE('Raw-Data 4'!E676) -> 0.0648 | K106: =VALUE('Raw-Data 4'!F676) -> 0.0309 | L106: =VALUE('Raw-Data 4'!G676) -> 0.1311 | S106: Secondary | T106: =VALUE('Raw-Data 4'!$B288) -> 0.0727 | U106: =VALUE('Raw-Data 4'!$B344) -> 0.0814 | V106: =VALUE('Raw-Data 4'!$F288) -> 0.07 | W106: =VALUE('Raw-Data 4'!$F344) -> 0.0952 | Y106: =VALUE('Raw-Data 4'!$B296) -> 0.0571 | Z106: =VALUE('Raw-Data 4'!$B352) -> 0.0654 | AA106: =VALUE('Raw-Data 4'!$E296) -> 0.0453 | AB106: =VALUE('Raw-Data 4'!$E352) -> 0.0687 | AD106: =VALUE('Raw-Data 4'!B304) -> 0.159 | AE106: =VALUE('Raw-Data 4'!$B360) -> 0.1844 | AF106: =VALUE('Raw-Data 4'!E304) -> 0.1656 | AG106: =VALUE('Raw-Data 4'!$E360) -> 0.1783 | AH106: =VALUE('Raw-Data 4'!H304) -> 0.2108 | AI106: =VALUE('Raw-Data 4'!$H360) -> 0.2438 | AJ106: =VALUE('Raw-Data 4'!K304) -> 0.2083 | AK106: =VALUE('Raw-Data 4'!$K360) -> 0.1885 | AM106: =VALUE('Raw-Data 4'!B312) -> 0.0875 | AN106: =VALUE('Raw-Data 4'!$B368) -> 0.1527
B107: 55 - 59 Years | C107: =VALUE('Raw-Data 4'!E643) -> 0.2455 | D107: =VALUE('Raw-Data 4'!F643) -> 0.1591 | E107: =VALUE('Raw-Data 4'!G643) -> 0.3587 | G107: =VALUE('Raw-Data 4'!E660) -> 0.4733 | H107: =VALUE('Raw-Data 4'!F660) -> 0.3196 | I107: =VALUE('Raw-Data 4'!G660) -> 0.6323 | J107: =VALUE('Raw-Data 4'!E677) -> 0.0444 | K107: =VALUE('Raw-Data 4'!F677) -> 0.0141 | L107: =VALUE('Raw-Data 4'!G677) -> 0.1315 | S107: Tertiary | T107: =VALUE('Raw-Data 4'!$B289) -> 0.0039 | U107: =VALUE('Raw-Data 4'!$B345) -> 0.026 | V107: =VALUE('Raw-Data 4'!$F289) -> 0.005 | W107: =VALUE('Raw-Data 4'!$F345) -> 0.0362 | Y107: =VALUE('Raw-Data 4'!$B297) -> 0.003 | Z107: =VALUE('Raw-Data 4'!$B353) -> 0.0158 | AA107: =VALUE('Raw-Data 4'!$E297) -> 0.0013 | AB107: =VALUE('Raw-Data 4'!$E353) -> 0.0142 | AD107: =VALUE('Raw-Data 4'!B305) -> 0.0089 | AE107: =VALUE('Raw-Data 4'!$B361) -> 0.0925 | AF107: =VALUE('Raw-Data 4'!E305) -> 0.0061 | AG107: =VALUE('Raw-Data 4'!$E361) -> 0.083 | AH107: =VALUE('Raw-Data 4'!H305) -> 0.0262 | AI107: =VALUE('Raw-Data 4'!$H361) -> 0.1599 | AJ107: =VALUE('Raw-Data 4'!K305) -> 0.0105 | AK107: =VALUE('Raw-Data 4'!$K361) -> 0.0763 | AM107: =VALUE('Raw-Data 4'!B313) -> 0.0074 | AN107: =VALUE('Raw-Data 4'!$B369) -> 0.0914
B108: 60 - 64 Years | C108: =VALUE('Raw-Data 4'!E644) -> 0.173 | D108: =VALUE('Raw-Data 4'!F644) -> 0.1083 | E108: =VALUE('Raw-Data 4'!G644) -> 0.2647 | G108: =VALUE('Raw-Data 4'!E661) -> 0.2731 | H108: =VALUE('Raw-Data 4'!F661) -> 0.1814 | I108: =VALUE('Raw-Data 4'!G661) -> 0.3891 | J108: =VALUE('Raw-Data 4'!E678) -> 0.0953 | K108: =VALUE('Raw-Data 4'!F678) -> 0.0433 | L108: =VALUE('Raw-Data 4'!G678) -> 0.1969
B109: 65 and above | C109: =VALUE('Raw-Data 4'!E645) -> 0.1607 | D109: =VALUE('Raw-Data 4'!F645) -> 0.1011 | E109: =VALUE('Raw-Data 4'!G645) -> 0.2458 | G109: =VALUE('Raw-Data 4'!E662) -> 0.2567 | H109: =VALUE('Raw-Data 4'!F662) -> 0.1571 | I109: =VALUE('Raw-Data 4'!G662) -> 0.3902 | J109: =VALUE('Raw-Data 4'!E679) -> 0.0748 | K109: =VALUE('Raw-Data 4'!F679) -> 0.0355 | L109: =VALUE('Raw-Data 4'!G679) -> 0.151

Sheet Raw-Data 4
A1: Literacy W1-3
A2: Literacy (can read and write) | B2: Wave1 | C2: Wave1 | D2: Wave1 | E2: Wave2 | F2: Wave3 | G2: Wave3 | H2: Wave3 | I2: Wave4 | J2: Total | K2: Total | L2: Total | M2: N
B3: Prop. | C3: LB | D3: UB | E3: Prop. | F3: Prop. | G3: LB | H3: UB | I3: Prop. | J3: Prop. | K3: LB | L3: UB
A4: No | B4: 0.6037 | C4: 0.5590 | D4: 0.6468 | E4: 0.0000 | F4: 0.5854 | G4: 0.5399 | H4: 0.6296 | I4: 0.0000 | J4: 0.5944 | K4: 0.5632 | L4: 0.6249 | M4: 8,394
A5: Yes | B5: 0.3963 | C5: 0.3532 | D5: 0.4410 | E5: 0.0000 | F5: 0.4146 | G5: 0.3704 | H5: 0.4601 | I5: 0.0000 | J5: 0.4056 | K5: 0.3751 | L5: 0.4368 | M5: 7,453
A6: Total | B6: 1.0000 | E6: 1.0000 | F6: 1.0000 | I6: 1.0000 | J6: 1.0000 | M6: 15,847
A7: Literacy W1-3 Rural
A8: Literacy (can read and write) | B8: Wave1 | C8: Wave1 | D8: Wave1 | E8: Wave3 | F8: Wave3 | G8: Wave3 | H8: Total | I8: Total | J8: Total | K8: N
B9: Prop. | C9: LB | D9: UB | E9: Prop. | F9: LB | G9: UB | H9: Prop. | I9: LB | J9: UB
A10: No | B10: 0.6474 | C10: 0.5908 | D10: 0.7002 | E10: 0.6486 | F10: 0.5992 | G10: 0.6950 | H10: 0.6480 | I10: 0.6103 | J10: 0.6840 | K10: 6,197
A11: Yes | B11: 0.3526 | C11: 0.2998 | D11: 0.4092 | E11: 0.3514 | F11: 0.3050 | G11: 0.4008 | H11: 0.3520 | I11: 0.3160 | J11: 0.3897 | K11: 3,078
A12: Total | B12: 1.0000 | E12: 1.0000 | H12: 1.0000 | K12: 9,275
A13: Literacy W1-4 Urban
A14: Literacy (can read and write) | B14: Wave1 | C14: Wave1 | D14: Wave1 | E14: Wave2 | F14: Wave2 | G14: Wave2 | H14: Wave3 | I14: Wave3 | J14: Wave3 | K14: Wave4 | L14: Wave4 | M14: Wave4 | N14: Total | O14: Total | P14: Total | Q14: N
B15: Prop. | C15: LB | D15: UB | E15: Prop. | F15: LB | G15: UB | H15: Prop. | I15: LB | J15: UB | K15: Prop. | L15: LB | M15: UB | N15: Prop. | O15: LB | P15: UB
A16: No | B16: 0.3659 | C16: 0.3343 | D16: 0.3987 | E16: 0.3772 | F16: 0.3323 | G16: 0.4244 | H16: 0.2749 | I16: 0.2350 | J16: 0.3188 | K16: 0.3709 | L16: 0.3347 | M16: 0.4086 | N16: 0.3449 | O16: 0.3179 | P16: 0.3730 | Q16: 4,664
A17: Yes | B17: 0.6341 | C17: 0.6013 | D17: 0.6657 | E17: 0.6228 | F17: 0.5756 | G17: 0.6677 | H17: 0.7251 | I17: 0.6812 | J17: 0.7650 | K17: 0.6291 | L17: 0.5914 | M17: 0.6653 | N17: 0.6551 | O17: 0.6270 | P17: 0.6821 | Q17: 8,284
A18: Total | B18: 1.0000 | E18: 1.0000 | H18: 1.0000 | K18: 1.0000 | N18: 1.0000 | Q18: 12,948
A19: Literacy IDP
A20: Literacy (can read and write) | B20: Wave4 | C20: Wave4 | D20: Wave4 | E20: Total | F20: Total | G20: Total | H20: N
B21: Prop. | C21: LB | D21: UB | E21: Prop. | F21: LB | G21: UB
A22: No | B22: 0.4697 | C22: 0.4458 | D22: 0.4938 | E22: 0.4697 | F22: 0.4458 | G22: 0.4938 | H22: 3,024
A23: Yes | B23: 0.5303 | C23: 0.5062 | D23: 0.5542 | E23: 0.5303 | F23: 0.5062 | G23: 0.5542 | H23: 3,709
A24: Total | B24: 1.0000 | E24: 1.0000 | H24: 6,733
A25: Attainment W1-3
A26: edu_levels | B26: Wave1 | C26: Wave1 | D26: Wave1 | E26: Wave2 | F26: Wave3 | G26: Wave3 | H26: Wave3 | I26: Wave4 | J26: Total | K26: Total | L26: Total | M26: N
B27: Prop. | C27: LB | D27: UB | E27: Prop. | F27: Prop. | G27: LB | H27: UB | I27: Prop. | J27: Prop. | K27: LB | L27: UB
A28: No Education | B28: 0.5013 | C28: 0.4551 | D28: 0.5474 | E28: 0.0000 | F28: 0.5355 | G28: 0.4862 | H28: 0.5842 | I28: 0.0000 | J28: 0.5187 | K28: 0.4843 | L28: 0.5529 | M28: 11,091
A29: Primary | B29: 0.4107 | C29: 0.3813 | D29: 0.4408 | E29: 0.0000 | F29: 0.3689 | G29: 0.3312 | H29: 0.4082 | I29: 0.0000 | J29: 0.3894 | K29: 0.3650 | L29: 0.4144 | M29: 10,224
A30: Secondary | B30: 0.0759 | C30: 0.0599 | D30: 0.0958 | E30: 0.0000 | F30: 0.0792 | G30: 0.0665 | H30: 0.0941 | I30: 0.0000 | J30: 0.0776 | K30: 0.0672 | L30: 0.0894 | M30: 2,431
A31: University | B31: 0.0121 | C31: 0.0075 | D31: 0.0193 | E31: 0.0000 | F31: 0.0164 | G31: 0.0114 | H31: 0.0235 | I31: 0.0000 | J31: 0.0143 | K31: 0.0108 | L31: 0.0188 | M31: 526
A32: Total | B32: 1.0000 | E32: 1.0000 | F32: 1.0000 | I32: 1.0000 | J32: 1.0000 | M32: 24,272
A33: Attainment W1-3 Rural
A34: edu_levels | B34: Wave1 | C34: Wave1 | D34: Wave1 | E34: Wave3 | F34: Wave3 | G34: Wave3 | H34: Total | I34: Total | J34: Total | K34: N
B35: Prop. | C35: LB | D35: UB | E35: Prop. | F35: LB | G35: UB | H35: Prop. | I35: LB | J35: UB
A36: No Education | B36: 0.5381 | C36: 0.4819 | D36: 0.5934 | E36: 0.5896 | F36: 0.5356 | G36: 0.6416 | H36: 0.5642 | I36: 0.5238 | J36: 0.6038 | K36: 8,552
A37: Primary | B37: 0.3939 | C37: 0.3593 | D37: 0.4296 | E37: 0.3505 | F37: 0.3076 | G37: 0.3960 | H37: 0.3719 | I37: 0.3435 | J37: 0.4012 | K37: 5,523
A38: Secondary | B38: 0.0602 | C38: 0.0417 | D38: 0.0862 | E38: 0.0539 | F38: 0.0431 | G38: 0.0671 | H38: 0.0570 | I38: 0.0456 | J38: 0.0711 | K38: 707
A39: University | B39: 0.0078 | C39: 0.0032 | D39: 0.0187 | E39: 0.0060 | F39: 0.0036 | G39: 0.0100 | H39: 0.0069 | I39: 0.0040 | J39: 0.0118 | K39: 76
A40: Total | B40: 1.0000 | E40: 1.0000 | H40: 1.0000 | K40: 14,858
A41: Attainment W1-4 Urban
A42: edu_levels | B42: Wave1 | C42: Wave1 | D42: Wave1 | E42: Wave2 | F42: Wave2 | G42: Wave2 | H42: Wave3 | I42: Wave3 | J42: Wave3 | K42: Wave4 | L42: Wave4 | M42: Wave4 | N42: Total | O42: Total | P42: Total | Q42: N
B43: Prop. | C43: LB | D43: UB | E43: Prop. | F43: LB | G43: UB | H43: Prop. | I43: LB | J43: UB | K43: Prop. | L43: LB | M43: UB | N43: Prop. | O43: LB | P43: UB
A44: No Education | B44: 0.2861 | C44: 0.2608 | D44: 0.3129 | E44: 0.2623 | F44: 0.2379 | G44: 0.2882 | H44: 0.2288 | I44: 0.1974 | J44: 0.2637 | K44: 0.2750 | L44: 0.2469 | M44: 0.3051 | N44: 0.2619 | O44: 0.2451 | P44: 0.2793 | Q44: 5,228
A45: Primary | B45: 0.5091 | C45: 0.4895 | D45: 0.5287 | E45: 0.5367 | F45: 0.5143 | G45: 0.5591 | H45: 0.4729 | I45: 0.4338 | J45: 0.5122 | K45: 0.4841 | L45: 0.4448 | M45: 0.5235 | N45: 0.5016 | O45: 0.4845 | P45: 0.5187 | Q45: 9,001
A46: Secondary | B46: 0.1676 | C46: 0.1524 | D46: 0.1840 | E46: 0.1697 | F46: 0.1498 | G46: 0.1916 | H46: 0.2229 | I46: 0.1987 | J46: 0.2492 | K46: 0.1987 | L46: 0.1775 | M46: 0.2218 | N46: 0.1895 | O46: 0.1765 | P46: 0.2033 | Q46: 3,314
A47: University | B47: 0.0372 | C47: 0.0306 | D47: 0.0452 | E47: 0.0313 | F47: 0.0246 | G47: 0.0398 | H47: 0.0754 | I47: 0.0554 | J47: 0.1018 | K47: 0.0422 | L47: 0.0276 | M47: 0.0639 | N47: 0.0470 | O47: 0.0385 | P47: 0.0574 | Q47: 761
A48: Total | B48: 1.0000 | E48: 1.0000 | H48: 1.0000 | K48: 1.0000 | N48: 1.0000 | Q48: 18,304
A49: Attainment IDP
A50: edu_levels | B50: Wave4 | C50: Wave4 | D50: Wave4 | E50: Total | F50: Total | G50: Total | H50: N
B51: Prop. | C51: LB | D51: UB | E51: Prop. | F51: LB | G51: UB
A52: No Education | B52: 0.3485 | C52: 0.3303 | D52: 0.3672 | E52: 0.3485 | F52: 0.3303 | G52: 0.3672 | H52: 3,210
A53: Primary | B53: 0.4985 | C53: 0.4836 | D53: 0.5134 | E53: 0.4985 | F53: 0.4836 | G53: 0.5134 | H53: 5,276
A54: Secondary | B54: 0.1129 | C54: 0.1037 | D54: 0.1227 | E54: 0.1129 | F54: 0.1037 | G54: 0.1227 | H54: 1,121
A55: University | B55: 0.0401 | C55: 0.0348 | D55: 0.0462 | E55: 0.0401 | F55: 0.0348 | G55: 0.0462 | H55: 379
A56: Total | B56: 1.0000 | E56: 1.0000 | H56: 9,986
A57: Primary school attendance W1-3
A58: primary_attend | B58: Wave1 | C58: Wave1 | D58: Wave1 | E58: Wave2 | F58: Wave3 | G58: Wave3 | H58: Wave3 | I58: Wave4 | J58: Total | K58: Total | L58: Total | M58: N
B59: Prop. | C59: LB | D59: UB | E59: Prop. | F59: Prop. | G59: LB | H59: UB | I59: Prop. | J59: Prop. | K59: LB | L59: UB
A60: No | B60: 0.4491 | C60: 0.3980 | D60: 0.5013 | E60: 0.0000 | F60: 0.5790 | G60: 0.5239 | H60: 0.6321 | I60: 0.0000 | J60: 0.5150 | K60: 0.4739 | L60: 0.5558 | M60: 3,631
A61: Yes | B61: 0.5509 | C61: 0.4987 | D61: 0.6020 | E61: 0.0000 | F61: 0.4210 | G61: 0.3679 | H61: 0.4761 | I61: 0.0000 | J61: 0.4850 | K61: 0.4442 | L61: 0.5261 | M61: 4,574
A62: Total | B62: 1.0000 | E62: 1.0000 | F62: 1.0000 | I62: 1.0000 | J62: 1.0000 | M62: 8,205
A63: Primary school attendance W1-3 Rural
A64: primary_attend | B64: Wave1 | C64: Wave1 | D64: Wave1 | E64: Wave3 | F64: Wave3 | G64: Wave3 | H64: Total | I64: Total | J64: Total | K64: N
B65: Prop. | C65: LB | D65: UB | E65: Prop. | F65: LB | G65: UB | H65: Prop. | I65: LB | J65: UB
A66: No | B66: 0.4783 | C66: 0.4184 | D66: 0.5387 | E66: 0.6276 | F66: 0.5702 | G66: 0.6815 | H66: 0.5546 | I66: 0.5085 | J66: 0.5998 | K66: 2,938
A67: Yes | B67: 0.5217 | C67: 0.4613 | D67: 0.5816 | E67: 0.3724 | F67: 0.3185 | G67: 0.4298 | H67: 0.4454 | I67: 0.4002 | J67: 0.4915 | K67: 2,446
A68: Total | B68: 1.0000 | E68: 1.0000 | H68: 1.0000 | K68: 5,384
A69: Primary school attendance W1-4 Urban
A70: primary_attend | B70: Wave1 | C70: Wave1 | D70: Wave1 | E70: Wave2 | F70: Wave2 | G70: Wave2 | H70: Wave3 | I70: Wave3 | J70: Wave3 | K70: Wave4 | L70: Wave4 | M70: Wave4 | N70: Total | O70: Total | P70: Total | Q70: N
B71: Prop. | C71: LB | D71: UB | E71: Prop. | F71: LB | G71: UB | H71: Prop. | I71: LB | J71: UB | K71: Prop. | L71: LB | M71: UB | N71: Prop. | O71: LB | P71: UB
A72: No | B72: 0.2571 | C72: 0.2194 | D72: 0.2988 | E72: 0.2252 | F72: 0.1848 | G72: 0.2715 | H72: 0.2109 | I72: 0.1685 | J72: 0.2605 | K72: 0.1936 | L72: 0.1436 | M72: 0.2558 | N72: 0.2261 | O72: 0.2020 | P72: 0.2521 | Q72: 1,339
A73: Yes | B73: 0.7429 | C73: 0.7012 | D73: 0.7806 | E73: 0.7748 | F73: 0.7285 | G73: 0.8152 | H73: 0.7891 | I73: 0.7395 | J73: 0.8315 | K73: 0.8064 | L73: 0.7442 | M73: 0.8564 | N73: 0.7739 | O73: 0.7479 | P73: 0.7980 | Q73: 3,941
A74: Total | B74: 1.0000 | E74: 1.0000 | H74: 1.0000 | K74: 1.0000 | N74: 1.0000 | Q74: 5,280
A75: Primary school attendance IDP
A76: primary_attend | B76: Wave4 | C76: Wave4 | D76: Wave4 | E76: Total | F76: Total | G76: Total | H76: N
B77: Prop. | C77: LB | D77: UB | E77: Prop. | F77: LB | G77: UB
A78: No | B78: 0.2772 | C78: 0.2540 | D78: 0.3017 | E78: 0.2772 | F78: 0.2540 | G78: 0.3017 | H78: 736
A79: Yes | B79: 0.7228 | C79: 0.6983 | D79: 0.7460 | E79: 0.7228 | F79: 0.6983 | G79: 0.7460 | H79: 2,248
A80: Total | B80: 1.0000 | E80: 1.0000 | H80: 2,984
A81: Secondary school attendance W1-3
A82: secondary_attend | B82: Wave1 | C82: Wave1 | D82: Wave1 | E82: Wave2 | F82: Wave3 | G82: Wave3 | H82: Wave3 | I82: Wave4 | J82: Total | K82: Total | L82: Total | M82: N
B83: Prop. | C83: LB | D83: UB | E83: Prop. | F83: Prop. | G83: LB | H83: UB | I83: Prop. | J83: Prop. | K83: LB | L83: UB
A84: No | B84: 0.9110 | C84: 0.8893 | D84: 0.9288 | E84: 0.0000 | F84: 0.9156 | G84: 0.8906 | H84: 0.9353 | I84: 0.0000 | J84: 0.9134 | K84: 0.8975 | L84: 0.9270 | M84: 3,474
A85: Yes | B85: 0.0890 | C85: 0.0712 | D85: 0.1107 | E85: 0.0000 | F85: 0.0844 | G85: 0.0647 | H85: 0.1094 | I85: 0.0000 | J85: 0.0866 | K85: 0.0730 | L85: 0.1025 | M85: 482
A86: Total | B86: 1.0000 | E86: 1.0000 | F86: 1.0000 | I86: 1.0000 | J86: 1.0000 | M86: 3,956
A87: Secondary school attendance W1-3 Rural
A88: secondary_attend | B88: Wave1 | C88: Wave1 | D88: Wave1 | E88: Wave3 | F88: Wave3 | G88: Wave3 | H88: Total | I88: Total | J88: Total | K88: N
B89: Prop. | C89: LB | D89: UB | E89: Prop. | F89: LB | G89: UB | H89: Prop. | I89: LB | J89: UB
A90: No | B90: 0.9321 | C90: 0.9049 | D90: 0.9520 | E90: 0.9411 | F90: 0.9149 | G90: 0.9596 | H90: 0.9368 | I90: 0.9187 | J90: 0.9511 | K90: 2,103
A91: Yes | B91: 0.0679 | C91: 0.0480 | D91: 0.0951 | E91: 0.0589 | F91: 0.0404 | G91: 0.0851 | H91: 0.0632 | I91: 0.0489 | J91: 0.0813 | K91: 146
A92: Total | B92: 1.0000 | E92: 1.0000 | H92: 1.0000 | K92: 2,249
A93: Secondary school attendance W1-4 Urban
A94: secondary_attend | B94: Wave1 | C94: Wave1 | D94: Wave1 | E94: Wave2 | F94: Wave2 | G94: Wave2 | H94: Wave3 | I94: Wave3 | J94: Wave3 | K94: Wave4 | L94: Wave4 | M94: Wave4 | N94: Total | O94: Total | P94: Total | Q94: N
B95: Prop. | C95: LB | D95: UB | E95: Prop. | F95: LB | G95: UB | H95: Prop. | I95: LB | J95: UB | K95: Prop. | L95: LB | M95: UB | N95: Prop. | O95: LB | P95: UB
A96: No | B96: 0.8129 | C96: 0.7822 | D96: 0.8403 | E96: 0.8195 | F96: 0.7906 | G96: 0.8451 | H96: 0.7826 | I96: 0.7285 | J96: 0.8284 | K96: 0.7662 | L96: 0.6780 | M96: 0.8360 | N96: 0.7992 | O96: 0.7772 | P96: 0.8195 | Q96: 2,582
A97: Yes | B97: 0.1871 | C97: 0.1597 | D97: 0.2178 | E97: 0.1805 | F97: 0.1549 | G97: 0.2094 | H97: 0.2174 | I97: 0.1716 | J97: 0.2715 | K97: 0.2338 | L97: 0.1640 | M97: 0.3220 | N97: 0.2008 | O97: 0.1805 | P97: 0.2228 | Q97: 643
A98: Total | B98: 1.0000 | E98: 1.0000 | H98: 1.0000 | K98: 1.0000 | N98: 1.0000 | Q98: 3,225
A99: Secondary school attendance IDP
A100: secondary_attend | B100: Wave4 | C100: Wave4 | D100: Wave4 | E100: Total | F100: Total | G100: Total | H100: N
...

Sheet Labor
B2: Dependency ratios | Q2: Dependency ratios | AQ2: Labor force participation 7 days
C3: National | F3: Rural | I3: Urban | N3: IDP | T3: Urban | Z3: Rural | AR3: National | AU3: Rural | AX3: Urban | BC3: IDP
C4: Wave 1 | D4: Wave 3 | F4: Wave 1 | G4: Wave 3 | I4: Wave 1 | J4: Wave 2 | K4: Wave 3 | L4: Wave 4 | N4: Wave 4 | R4: National | T4: Poorest Q. | U4: Q2 | V4: Q3 | W4: Q4 | X4: Richest Q. | Z4: Poorest Q. | AA4: Q2 | AB4: Q3 | AC4: Q4 | AD4: Richest Q. | AF4: Poorest Q. | AG4: Q2 | AH4: Q3 | AI4: Q4 | AJ4: Richest Q. | AL4: IDP | AR4: Wave 1 | AS4: Wave 3 | AU4: Wave 1 | AV4: Wave 3 | AX4: Wave 1 | AY4: Wave 2 | AZ4: Wave 3 | BA4: Wave 4 | BC4: Wave 4
C5: =VALUE('Raw-Data 5'!H4) -> 1.5417 | D5: =VALUE('Raw-Data 5'!H6) -> 1.5457 | F5: =VALUE('Raw-Data 5'!B4) -> 1.5815 | G5: =VALUE('Raw-Data 5'!B6) -> 1.6177 | I5: =VALUE('Raw-Data 5'!E4) -> 1.2774 | J5: =VALUE('Raw-Data 5'!E5) -> 1.3084 | K5: =VALUE('Raw-Data 5'!E6) -> 1.0717 | L5: =VALUE('Raw-Data 5'!E7) -> 0.6308 | N5: =VALUE('Raw-Data 5'!B10) -> 1.1623 | R5: =VALUE('Raw-Data 5'!H267) -> 1.4765 | T5: =VALUE('Raw-Data 5'!E262) -> 1.8032 | U5: =VALUE('Raw-Data 5'!E263) -> 1.4785 | V5: =VALUE('Raw-Data 5'!E264) -> 1.2565 | W5: =VALUE('Raw-Data 5'!E265) -> 1.0121 | X5: =VALUE('Raw-Data 5'!E266) -> 0.7259 | Z5: =VALUE('Raw-Data 5'!B262) -> 2.0886 | AA5: =VALUE('Raw-Data 5'!B263) -> 1.7273 | AB5: =VALUE('Raw-Data 5'!B264) -> 1.6821 | AC5: =VALUE('Raw-Data 5'!B265) -> 1.5654 | AD5: =VALUE('Raw-Data 5'!B266) -> 1.0551 | AF5: =VALUE('Raw-Data 5'!B269) -> 1.3933 | AG5: =VALUE('Raw-Data 5'!B270) -> 1.3109 | AH5: =VALUE('Raw-Data 5'!B271) -> 1.2759 | AI5: =VALUE('Raw-Data 5'!B272) -> 1.0274 | AJ5: =VALUE('Raw-Data 5'!B273) -> 0.5446 | AL5: =VALUE('Raw-Data 5'!B274) -> 1.1703 | AQ5: Active / in the labor force | AR5: =VALUE('Raw-Data 5'!$H64) -> 0.6476 | AS5: =VALUE('Raw-Data 5'!$H66) -> 0.5886 | AU5: =VALUE('Raw-Data 5'!$B64) -> 0.6739 | AV5: =VALUE('Raw-Data 5'!$B66) -> 0.6233 | AX5: =VALUE('Raw-Data 5'!$E64) -> 0.5164 | AY5: =VALUE('Raw-Data 5'!$E65) -> 0.4218 | AZ5: =VALUE('Raw-Data 5'!$E66) -> 0.4575 | BA5: =VALUE('Raw-Data 5'!$E67) -> 0.7541 | BC5: =VALUE('Raw-Data 5'!$B70) -> 0.4659
AQ6: Inactive / outside of the labor force | AR6: =1-AR5 -> 0.3524 | AS6: =1-AS5 -> 0.4114 | AU6: =1-AU5 -> 0.3261 | AV6: =1-AV5 -> 0.3767 | AX6: =1-AX5 -> 0.4836 | AY6: =1-AY5 -> 0.5782 | AZ6: =1-AZ5 -> 0.5425 | BA6: =1-BA5 -> 0.2459 | BC6: =1-BC5 -> 0.5341
B7: SE | C7: =VALUE('Raw-Data 5'!H4-'Raw-Data 5'!I4) -> 0.0776 | D7: =VALUE('Raw-Data 5'!H6-'Raw-Data 5'!I6) -> 0.1028 | F7: =VALUE('Raw-Data 5'!B4-'Raw-Data 5'!C4) -> 0.0898 | G7: =VALUE('Raw-Data 5'!B6-'Raw-Data 5'!C6) -> 0.1142 | I7: =VALUE('Raw-Data 5'!E4-'Raw-Data 5'!F4) -> 0.0747 | J7: =VALUE('Raw-Data 5'!E5-'Raw-Data 5'!F5) -> 0.1431 | K7: =VALUE('Raw-Data 5'!E6-'Raw-Data 5'!F6) -> 0.1051 | L7: =VALUE('Raw-Data 5'!E7-'Raw-Data 5'!F7) -> 0.082 | N7: =VALUE('Raw-Data 5'!B10-'Raw-Data 5'!C10) -> 0.0745 | R7: =VALUE('Raw-Data 5'!H267-'Raw-Data 5'!I267) -> 0.0586 | T7: =VALUE('Raw-Data 5'!B262-'Raw-Data 5'!C262) -> 0.144 | U7: =VALUE('Raw-Data 5'!B263-'Raw-Data 5'!C263) -> 0.135 | V7: =VALUE('Raw-Data 5'!B264-'Raw-Data 5'!C264) -> 0.1236 | W7: =VALUE('Raw-Data 5'!B265-'Raw-Data 5'!C265) -> 0.1347 | X7: =VALUE('Raw-Data 5'!B266-'Raw-Data 5'!C266) -> 0.0963 | Z7: =VALUE('Raw-Data 5'!E262-'Raw-Data 5'!F262) -> 0.228 | AA7: =VALUE('Raw-Data 5'!E263-'Raw-Data 5'!F263) -> 0.1759 | AB7: =VALUE('Raw-Data 5'!E264-'Raw-Data 5'!F264) -> 0.1261 | AC7: =VALUE('Raw-Data 5'!E265-'Raw-Data 5'!F265) -> 0.0898 | AD7: =VALUE('Raw-Data 5'!E266-'Raw-Data 5'!F266) -> 0.0761 | AF7: =VALUE('Raw-Data 5'!B269-'Raw-Data 5'!C269) -> 0.1505 | AG7: =VALUE('Raw-Data 5'!B270-'Raw-Data 5'!C270) -> 0.123 | AH7: =VALUE('Raw-Data 5'!B271-'Raw-Data 5'!C271) -> 0.201 | AI7: =VALUE('Raw-Data 5'!B272-'Raw-Data 5'!C272) -> 0.1469 | AJ7: =VALUE('Raw-Data 5'!B273-'Raw-Data 5'!C273) -> 0.1169 | AL7: =VALUE('Raw-Data 5'!B274-'Raw-Data 5'!C274) -> 0.0748
AQ8: SE | AR8: =VALUE('Raw-Data 5'!$H64-'Raw-Data 5'!$I64) -> 0.0269 | AS8: =VALUE('Raw-Data 5'!$H66-'Raw-Data 5'!$I66) -> 0.0465 | AU8: =VALUE('Raw-Data 5'!$B64-'Raw-Data 5'!$C64) -> 0.0317 | AV8: =VALUE('Raw-Data 5'!$B66-'Raw-Data 5'!$C66) -> 0.054 | AX8: =VALUE('Raw-Data 5'!$E64-'Raw-Data 5'!$F64) -> 0.0335 | AY8: =VALUE('Raw-Data 5'!$E65-'Raw-Data 5'!$F65) -> 0.0364 | AZ8: =VALUE('Raw-Data 5'!$E66-'Raw-Data 5'!$F66) -> 0.0696 | BA8: =VALUE('Raw-Data 5'!$E67-'Raw-Data 5'!$F67) -> 0.041 | BC8: =VALUE('Raw-Data 5'!$B70-'Raw-Data 5'!$C70) -> 0.0198
B21: Employment share of hh | Q21: Employment share | AQ21: Labor force participation 12 months
C22: National | F22: Rural | I22: Urban | N22: IDP | T22: Urban | Z22: Rural | AF22: IDP | AR22: National | AU22: Rural | AX22: Urban | BC22: IDP
C23: Wave 1 | D23: Wave 3 | F23: Wave 1 | G23: Wave 3 | I23: Wave 1 | J23: Wave 2 | K23: Wave 3 | L23: Wave 4 | N23: Wave 4 | R23: National | T23: Poorest Q. | U23: Q2 | V23: Q3 | W23: Q4 | X23: Richest Q. | Z23: Poorest Q. | AA23: Q2 | AB23: Q3 | AC23: Q4 | AD23: Richest Q. | AF23: Poorest Q. | AG23: Q2 | AH23: Q3 | AI23: Q4 | AJ23: Richest Q. | AR23: Wave 1 | AS23: Wave 3 | AU23: Wave 1 | AV23: Wave 3 | AX23: Wave 1 | AY23: Wave 2 | AZ23: Wave 3 | BA23: Wave 4 | BC23: Wave 4
C24: =VALUE('Raw-Data 5'!$H15) -> 0.365 | D24: =VALUE('Raw-Data 5'!$H17) -> 0.3534 | F24: =VALUE('Raw-Data 5'!$B15) -> 0.3709 | G24: =VALUE('Raw-Data 5'!$B17) -> 0.3539 | I24: =VALUE('Raw-Data 5'!$E15) -> 0.3265 | J24: =VALUE('Raw-Data 5'!$E16) -> 0.3206 | K24: =VALUE('Raw-Data 5'!$E17) -> 0.3506 | L24: =VALUE('Raw-Data 5'!$E18) -> 0.636 | N24: =VALUE('Raw-Data 5'!$B21) -> 0.3904 | R24: =VALUE('Raw-Data 5'!H283) -> 0.3802 | T24: =VALUE('Raw-Data 5'!E278) -> 0.2559 | U24: =VALUE('Raw-Data 5'!E279) -> 0.326 | V24: =VALUE('Raw-Data 5'!E280) -> 0.3638 | W24: =VALUE('Raw-Data 5'!E281) -> 0.422 | X24: =VALUE('Raw-Data 5'!E282) -> 0.5249 | Z24: =VALUE('Raw-Data 5'!B278) -> 0.2827 | AA24: =VALUE('Raw-Data 5'!B279) -> 0.3242 | AB24: =VALUE('Raw-Data 5'!B280) -> 0.3629 | AC24: =VALUE('Raw-Data 5'!B281) -> 0.3662 | AD24: =VALUE('Raw-Data 5'!B282) -> 0.4483 | AF24: =VALUE('Raw-Data 5'!B285) -> 0.3116 | AG24: =VALUE('Raw-Data 5'!B286) -> 0.3353 | AH24: =VALUE('Raw-Data 5'!B287) -> 0.3913 | AI24: =VALUE('Raw-Data 5'!B288) -> 0.4103 | AJ24: =VALUE('Raw-Data 5'!B289) -> 0.5454 | AQ24: Active / in the labor force | AR24: =VALUE('Raw-Data 5'!$H75) -> 0.8724 | AS24: =VALUE('Raw-Data 5'!$H77) -> 0.8663 | AU24: =VALUE('Raw-Data 5'!$B75) -> 0.8944 | AV24: =VALUE('Raw-Data 5'!$B77) -> 0.9029 | AX24: =VALUE('Raw-Data 5'!$E75) -> 0.7536 | AY24: =VALUE('Raw-Data 5'!$E76) -> 0.7492 | AZ24: =VALUE('Raw-Data 5'!$E77) -> 0.681 | BA24: =VALUE('Raw-Data 5'!$E78) -> 0.7643 | BC24: =VALUE('Raw-Data 5'!$B81) -> 0.4697
AQ25: Inactive / outside of the labor force | AR25: =1-AR24 -> 0.1276 | AS25: =1-AS24 -> 0.1337 | AU25: =1-AU24 -> 0.1056 | AV25: =1-AV24 -> 0.0971 | AX25: =1-AX24 -> 0.2464 | AY25: =1-AY24 -> 0.2508 | AZ25: =1-AZ24 -> 0.319 | BA25: =1-BA24 -> 0.2357 | BC25: =1-BC24 -> 0.5303
R26: =VALUE('Raw-Data 5'!H283-'Raw-Data 5'!I283) -> 0.0156 | T26: =VALUE('Raw-Data 5'!B278-'Raw-Data 5'!C278) -> 0.0287 | U26: =VALUE('Raw-Data 5'!B279-'Raw-Data 5'!C279) -> 0.0231 | V26: =VALUE('Raw-Data 5'!B280-'Raw-Data 5'!C280) -> 0.0285 | W26: =VALUE('Raw-Data 5'!B281-'Raw-Data 5'!C281) -> 0.0332 | X26: =VALUE('Raw-Data 5'!B282-'Raw-Data 5'!C282) -> 0.0675 | Z26: =VALUE('Raw-Data 5'!E278-'Raw-Data 5'!F278) -> 0.0627 | AA26: =VALUE('Raw-Data 5'!E279-'Raw-Data 5'!F279) -> 0.041 | AB26: =VALUE('Raw-Data 5'!E280-'Raw-Data 5'!F280) -> 0.0361 | AC26: =VALUE('Raw-Data 5'!E281-'Raw-Data 5'!F281) -> 0.0411 | AD26: =VALUE('Raw-Data 5'!E282-'Raw-Data 5'!F282) -> 0.0398 | AF26: =VALUE('Raw-Data 5'!B285-'Raw-Data 5'!C285) -> 0.0372 | AG26: =VALUE('Raw-Data 5'!B286-'Raw-Data 5'!C286) -> 0.0299 | AH26: =VALUE('Raw-Data 5'!B287-'Raw-Data 5'!C287) -> 0.0337 | AI26: =VALUE('Raw-Data 5'!B288-'Raw-Data 5'!C288) -> 0.0362 | AJ26: =VALUE('Raw-Data 5'!B289-'Raw-Data 5'!C289) -> 0.0613
B27: SE | C27: =VALUE('Raw-Data 5'!$H15-'Raw-Data 5'!$I15) -> 0.0223 | D27: =VALUE('Raw-Data 5'!$H17-'Raw-Data 5'!$I17) -> 0.0268 | F27: =VALUE('Raw-Data 5'!$B15-'Raw-Data 5'!$C15) -> 0.0261 | G27: =VALUE('Raw-Data 5'!$B17-'Raw-Data 5'!$C17) -> 0.0302 | I27: =VALUE('Raw-Data 5'!$E15-'Raw-Data 5'!$F15) -> 0.0187 | J27: =VALUE('Raw-Data 5'!$E16-'Raw-Data 5'!$F16) -> 0.0474 | K27: =VALUE('Raw-Data 5'!$E17-'Raw-Data 5'!$F17) -> 0.0498 | L27: =VALUE('Raw-Data 5'!$E18-'Raw-Data 5'!$F18) -> 0.0293 | N27: =VALUE('Raw-Data 5'!$B21-'Raw-Data 5'!$C21) -> 0.016 | AQ27: SE | AR27: =VALUE('Raw-Data 5'!$H75-'Raw-Data 5'!$I75) -> 0.0378 | AS27: =VALUE('Raw-Data 5'!$H77-'Raw-Data 5'!$I77) -> 0.025 | AU27: =VALUE('Raw-Data 5'!$B75-'Raw-Data 5'!$C75) -> 0.0464 | AV27: =VALUE('Raw-Data 5'!$B77-'Raw-Data 5'!$C77) -> 0.0238 | AX27: =VALUE('Raw-Data 5'!$E75-'Raw-Data 5'!$F75) -> 0.0259 | AY27: =VALUE('Raw-Data 5'!$E76-'Raw-Data 5'!$F76) -> 0.0286 | AZ27: =VALUE('Raw-Data 5'!$E77-'Raw-Data 5'!$F77) -> 0.0591 | BA27: =VALUE('Raw-Data 5'!$E78-'Raw-Data 5'!$F78) -> 0.0417 | BC27: =VALUE('Raw-Data 5'!$B81-'Raw-Data 5'!$C81) -> 0.0197
B30: employment/enrollment status 7d | R30: Labor force participation
C31: National | F31: Rural | I31: Urban | N31: IDP | R31: National | W31: Urban | AC31: Rural | AI31: IDP | AQ31: unemployment rate 7 days
C32: Wave 1 | D32: Wave 3 | F32: Wave 1 | G32: Wave 3 | I32: Wave 1 | J32: Wave 2 | K32: Wave 3 | L32: Wave 4 | N32: Wave 4 | R32: Overall | T32: Men | U32: Women | W32: Poorest Q. | X32: Q2 | Y32: Q3 | Z32: Q4 | AA32: Richest Q. | AC32: Poorest Q. | AD32: Q2 | AE32: Q3 | AF32: Q4 | AG32: Richest Q. | AI32: Poorest Q. | AJ32: Q2 | AK32: Q3 | AL32: Q4 | AM32: Richest Q. | AO32: IDP | AR32: National | AU32: Rural | AX32: Urban | BC32: IDP
B33: Employed | C33: =VALUE('Raw-Data 5'!B108) -> 0.8433 | D33: =VALUE('Raw-Data 5'!H108) -> 0.8238 | F33: =VALUE('Raw-Data 5'!B122) -> 0.8548 | G33: =VALUE('Raw-Data 5'!E122) -> 0.8431 | I33: =VALUE('Raw-Data 5'!B115) -> 0.769 | J33: =VALUE('Raw-Data 5'!E115) -> 0.7534 | K33: =VALUE('Raw-Data 5'!H115) -> 0.7243 | L33: =VALUE('Raw-Data 5'!K115) -> 0.7894 | N33: =VALUE('Raw-Data 5'!B127) -> 0.5626 | Q33: Active / in the labor force | R33: =AS5 -> 0.5886 | T33: =VALUE('Raw-Data 5'!B605) -> 0.5987 | U33: =VALUE('Raw-Data 5'!E605) -> 0.5792 | W33: =VALUE('Raw-Data 5'!B448) -> 0.6284 | X33: =VALUE('Raw-Data 5'!E448) -> 0.6233 | Y33: =VALUE('Raw-Data 5'!H448) -> 0.6817 | Z33: =VALUE('Raw-Data 5'!K448) -> 0.5477 | AA33: =VALUE('Raw-Data 5'!N448) -> 0.6349 | AC33: =VALUE('Raw-Data 5'!B449) -> 0.4732 | AD33: =VALUE('Raw-Data 5'!E449) -> 0.4716 | AE33: =VALUE('Raw-Data 5'!H449) -> 0.3945 | AF33: =VALUE('Raw-Data 5'!K449) -> 0.4442 | AG33: =VALUE('Raw-Data 5'!N449) -> 0.4754 | AI33: =VALUE('Raw-Data 5'!B454) -> 0.3834 | AJ33: =VALUE('Raw-Data 5'!E454) -> 0.4335 | AK33: =VALUE('Raw-Data 5'!H454) -> 0.5317 | AL33: =VALUE('Raw-Data 5'!K454) -> 0.5237 | AM33: =VALUE('Raw-Data 5'!N454) -> 0.5596 | AO33: =VALUE('Raw-Data 5'!Q454) -> 0.4659 | AR33: Wave 1 | AS33: Wave 3 | AU33: Wave 1 | AV33: Wave 3 | AX33: Wave 1 | AY33: Wave 2 | AZ33: Wave 3 | BA33: Wave 4 | BC33: Wave 4
B34: Employed and Enrolled | C34: =VALUE('Raw-Data 5'!B109) -> 0.1087 | D34: =VALUE('Raw-Data 5'!H109) -> 0.1232 | F34: =VALUE('Raw-Data 5'!B123) -> 0.1047 | G34: =VALUE('Raw-Data 5'!E123) -> 0.1165 | I34: =VALUE('Raw-Data 5'!B116) -> 0.1342 | J34: =VALUE('Raw-Data 5'!E116) -> 0.1606 | K34: =VALUE('Raw-Data 5'!H116) -> 0.1573 | L34: =VALUE('Raw-Data 5'!K116) -> 0.1896 | N34: =VALUE('Raw-Data 5'!B128) -> 0.3392 | Q34: Inactive / outside of the labor force | R34: =1-R33 -> 0.4114 | T34: =1-T33 -> 0.4013 | U34: =1-U33 -> 0.4208 | W34: =1-W33 -> 0.3716 | X34: =1-X33 -> 0.3767 | Y34: =1-Y33 -> 0.3183 | Z34: =1-Z33 -> 0.4523 | AA34: =1-AA33 -> 0.3651 | AC34: =1-AC33 -> 0.5268 | AD34: =1-AD33 -> 0.5284 | AE34: =1-AE33 -> 0.6055 | AF34: =1-AF33 -> 0.5558 | AG34: =1-AG33 -> 0.5246 | AI34: =1-AI33 -> 0.6166 | AJ34: =1-AJ33 -> 0.5665 | AK34: =1-AK33 -> 0.4683 | AL34: =1-AL33 -> 0.4763 | AM34: =1-AM33 -> 0.4404 | AO34: =1-AO33 -> 0.5341 | AQ34: Unemployed | AR34: =VALUE('Raw-Data 5'!$H86) -> 0.048 | AS34: =VALUE('Raw-Data 5'!$H88) -> 0.053 | AU34: =VALUE('Raw-Data 5'!$B86) -> 0.0405 | AV34: =VALUE('Raw-Data 5'!$B88) -> 0.0403 | AX34: =VALUE('Raw-Data 5'!$E86) -> 0.0968 | AY34: =VALUE('Raw-Data 5'!$E87) -> 0.086 | AZ34: =VALUE('Raw-Data 5'!$E88) -> 0.1184 | BA34: =VALUE('Raw-Data 5'!$E89) -> 0.021 | BC34: =VALUE('Raw-Data 5'!$B92) -> 0.0982
B35: Unemployed | C35: =VALUE('Raw-Data 5'!B110) -> 0.048 | D35: =VALUE('Raw-Data 5'!H110) -> 0.053 | F35: =VALUE('Raw-Data 5'!B124) -> 0.0405 | G35: =VALUE('Raw-Data 5'!E124) -> 0.0403 | I35: =VALUE('Raw-Data 5'!B117) -> 0.0968 | J35: =VALUE('Raw-Data 5'!E117) -> 0.086 | K35: =VALUE('Raw-Data 5'!H117) -> 0.1184 | L35: =VALUE('Raw-Data 5'!K117) -> 0.021 | N35: =VALUE('Raw-Data 5'!B129) -> 0.0982 | AQ35: Employed | AR35: =1-AR34 -> 0.952 | AS35: =1-AS34 -> 0.947 | AU35: =1-AU34 -> 0.9595 | AV35: =1-AV34 -> 0.9597 | AX35: =1-AX34 -> 0.9032 | AY35: =1-AY34 -> 0.914 | AZ35: =1-AZ34 -> 0.8816 | BA35: =1-BA34 -> 0.979 | BC35: =1-BC34 -> 0.9018
W36: =VALUE('Raw-Data 5'!B448-'Raw-Data 5'!C448) -> 0.0986 | X36: =VALUE('Raw-Data 5'!E448-'Raw-Data 5'!F448) -> 0.0887 | Y36: =VALUE('Raw-Data 5'!H448-'Raw-Data 5'!I448) -> 0.1082 | Z36: =VALUE('Raw-Data 5'!K448-'Raw-Data 5'!L448) -> 0.091 | AA36: =VALUE('Raw-Data 5'!N448-'Raw-Data 5'!O448) -> 0.0652 | AC36: =VALUE('Raw-Data 5'!B449-'Raw-Data 5'!C449) -> 0.2729 | AD36: =VALUE('Raw-Data 5'!E449-'Raw-Data 5'!F449) -> 0.1414 | AE36: =VALUE('Raw-Data 5'!H449-'Raw-Data 5'!I449) -> 0.2092 | AF36: =VALUE('Raw-Data 5'!K449-'Raw-Data 5'!L449) -> 0.0735 | AG36: =VALUE('Raw-Data 5'!N449-'Raw-Data 5'!O449) -> 0.0581
AQ37: SE | AR37: =VALUE('Raw-Data 5'!$H86-'Raw-Data 5'!$I86) -> 0.0389 | AS37: =VALUE('Raw-Data 5'!$H88-'Raw-Data 5'!$I88) -> 0.0143 | AU37: =VALUE('Raw-Data 5'!$B86-'Raw-Data 5'!$C86) -> 0.0453 | AV37: =VALUE('Raw-Data 5'!$B88-'Raw-Data 5'!$C88) -> 0.0151 | AX37: =VALUE('Raw-Data 5'!$E86-'Raw-Data 5'!$F86) -> 0.0236 | AY37: =VALUE('Raw-Data 5'!$E87-'Raw-Data 5'!$F87) -> 0.0385 | AZ37: =VALUE('Raw-Data 5'!$E88-'Raw-Data 5'!$F88) -> 0.0345 | BA37: =VALUE('Raw-Data 5'!$E89-'Raw-Data 5'!$F89) -> 0.0083 | BC37: =VALUE('Raw-Data 5'!$B92-'Raw-Data 5'!$C92) -> 0.0149
T39: Urban | Z39: Rural | AF39: IDP
R40: National | T40: Poorest Q. | U40: Q2 | V40: Q3 | W40: Q4 | X40: Richest Q. | Z40: Poorest Q. | AA40: Q2 | AB40: Q3 | AC40: Q4 | AD40: Richest Q. | AF40: Poorest Q. | AG40: Q2 | AH40: Q3 | AI40: Q4 | AJ40: Richest Q.
Q41: Active / in the labor force | R41: =AS24 -> 0.8663 | T41: =VALUE('Raw-Data 5'!B459) -> 0.8697 | U41: =VALUE('Raw-Data 5'!E459) -> 0.9102 | V41: =VALUE('Raw-Data 5'!H459) -> 0.9296 | W41: =VALUE('Raw-Data 5'!K459) -> 0.8963 | X41: =VALUE('Raw-Data 5'!N459) -> 0.9033 | Z41: =VALUE('Raw-Data 5'!B460) -> 0.7311 | AA41: =VALUE('Raw-Data 5'!E460) -> 0.6398 | AB41: =VALUE('Raw-Data 5'!H460) -> 0.6235 | AC41: =VALUE('Raw-Data 5'!K460) -> 0.7005 | AD41: =VALUE('Raw-Data 5'!N460) -> 0.6938 | AF41: =VALUE('Raw-Data 5'!B465) -> 0.3846 | AG41: =VALUE('Raw-Data 5'!E465) -> 0.4361 | AH41: =VALUE('Raw-Data 5'!H465) -> 0.5352 | AI41: =VALUE('Raw-Data 5'!K465) -> 0.5335 | AJ41: =VALUE('Raw-Data 5'!N465) -> 0.5653
Q42: Inactive / outside of the labor force | R42: =1-R41 -> 0.1337 | T42: =1-T41 -> 0.1303 | U42: =1-U41 -> 0.0898 | V42: =1-V41 -> 0.0704 | W42: =1-W41 -> 0.1037 | X42: =1-X41 -> 0.0967 | Z42: =1-Z41 -> 0.2689 | AA42: =1-AA41 -> 0.3602 | AB42: =1-AB41 -> 0.3765 | AC42: =1-AC41 -> 0.2995 | AD42: =1-AD41 -> 0.3062 | AF42: =1-AF41 -> 0.6154 | AG42: =1-AG41 -> 0.5639 | AH42: =1-AH41 -> 0.4648 | AI42: =1-AI41 -> 0.4665 | AJ42: =1-AJ41 -> 0.4347
T44: =VALUE('Raw-Data 5'!B459-'Raw-Data 5'!C459) -> 0.0484 | U44: =VALUE('Raw-Data 5'!E459-'Raw-Data 5'!F459) -> 0.0371 | V44: =VALUE('Raw-Data 5'!H459-'Raw-Data 5'!I459) -> 0.0287 | W44: =VALUE('Raw-Data 5'!K459-'Raw-Data 5'!L459) -> 0.0383 | X44: =VALUE('Raw-Data 5'!N459-'Raw-Data 5'!O459) -> 0.0413 | Z44: =VALUE('Raw-Data 5'!B460-'Raw-Data 5'!C460) -> 0.1614 | AA44: =VALUE('Raw-Data 5'!E460-'Raw-Data 5'!F460) -> 0.1208 | AB44: =VALUE('Raw-Data 5'!H460-'Raw-Data 5'!I460) -> 0.1566 | AC44: =VALUE('Raw-Data 5'!K460-'Raw-Data 5'!L460) -> 0.0745 | AD44: =VALUE('Raw-Data 5'!N460-'Raw-Data 5'!O460) -> 0.0589
T48: Rural | Z48: Urban
R49: National | T49: Poorest Q. | U49: Q2 | V49: Q3 | W49: Q4 | X49: Richest Q. | Z49: Poorest Q. | AA49: Q2 | AB49: Q3 | AC49: Q4 | AD49: Richest Q. | AF49: IDP
Q50: 7 days reference period | R50: =R33 -> 0.5886 | T50: =W33 -> 0.6284 | U50: =X33 -> 0.6233 | V50: =Y33 -> 0.6817 | W50: =Z33 -> 0.5477 | X50: =AA33 -> 0.6349 | Z50: =AC33 -> 0.4732 | AA50: =AD33 -> 0.4716 | AB50: =AE33 -> 0.3945 | AC50: =AF33 -> 0.4442 | AD50: =AG33 -> 0.4754 | AF50: =AO33 -> 0.4659
B51: employment/enrollment status 12 months | Q51: 12 months reference period | R51: =R41 -> 0.8663 | T51: =T41 -> 0.8697 | U51: =U41 -> 0.9102 | V51: =V41 -> 0.9296 | W51: =W41 -> 0.8963 | X51: =X41 -> 0.9033 | Z51: =Z41 -> 0.7311 | AA51: =AA41 -> 0.6398 | AB51: =AB41 -> 0.6235 | AC51: =AC41 -> 0.7005 | AD51: =AD41 -> 0.6938 | AQ51: unemployment rate 12 months
C52: National | F52: Rural | I52: Urban | N52: IDP | AR52: National | AU52: Rural | AX52: Urban | BC52: IDP
C53: Wave 1 | D53: Wave 3 | F53: Wave 1 | G53: Wave 3 | I53: Wave 1 | J53: Wave 2 | K53: Wave 3 | L53: Wave 4 | N53: Wave 4 | R53: =VALUE('Raw-Data 5'!$H66-'Raw-Data 5'!$I66) -> 0.0465 | T53: =W36 -> 0.0986 | U53: =X36 -> 0.0887 | V53: =Y36 -> 0.1082 | W53: =Z36 -> 0.091 | X53: =AA36 -> 0.0652 | Z53: =AC36 -> 0.2729 | AA53: =AD36 -> 0.1414 | AB53: =AE36 -> 0.2092 | AC53: =AF36 -> 0.0735 | AD53: =AG36 -> 0.0581 | AF53: =VALUE('Raw-Data 5'!Q465-'Raw-Data 5'!R465) -> 0.0197 | AR53: Wave 1 | AS53: Wave 3 | AU53: Wave 1 | AV53: Wave 3 | AX53: Wave 1 | AY53: Wave 2 | AZ53: Wave 3 | BA53: Wave 4 | BC53: Wave 4
B54: Employed | C54: =VALUE('Raw-Data 5'!B134) -> 0.8318 | D54: =VALUE('Raw-Data 5'!H134) -> 0.8149 | F54: =VALUE('Raw-Data 5'!B148) -> 0.8458 | G54: =VALUE('Raw-Data 5'!E148) -> 0.8278 | I54: =VALUE('Raw-Data 5'!B141) -> 0.7366 | J54: =VALUE('Raw-Data 5'!E141) -> 0.7417 | K54: =VALUE('Raw-Data 5'!H141) -> 0.7237 | L54: =VALUE('Raw-Data 5'!K141) -> 0.7917 | N54: =VALUE('Raw-Data 5'!B153) -> 0.5702 | R54: =VALUE('Raw-Data 5'!$H77-'Raw-Data 5'!$I77) -> 0.025 | T54: =T44 -> 0.0484 | U54: =U44 -> 0.0371 | V54: =V44 -> 0.0287 | W54: =W44 -> 0.0383 | X54: =X44 -> 0.0413 | Z54: =Z44 -> 0.1614 | AA54: =AA44 -> 0.1208 | AB54: =AB44 -> 0.1566 | AC54: =AC44 -> 0.0745 | AD54: =AD44 -> 0.0589 | AQ54: Unemployed | AR54: =VALUE('Raw-Data 5'!$H97) -> 0.048 | AS54: =VALUE('Raw-Data 5'!$H99) -> 0.053 | AU54: =VALUE('Raw-Data 5'!$B97) -> 0.0405 | AV54: =VALUE('Raw-Data 5'!$B99) -> 0.0403 | AX54: =VALUE('Raw-Data 5'!$E97) -> 0.0968 | AY54: =VALUE('Raw-Data 5'!$E98) -> 0.086 | AZ54: =VALUE('Raw-Data 5'!$E99) -> 0.1184 | BA54: =VALUE('Raw-Data 5'!$E100) -> 0.0168 | BC54: =VALUE('Raw-Data 5'!$B103) -> 0.0854
B55: Employed and Enrolled | C55: =VALUE('Raw-Data 5'!B135) -> 0.1303 | D55: =VALUE('Raw-Data 5'!H135) -> 0.1528 | F55: =VALUE('Raw-Data 5'!B149) -> 0.1221 | G55: =VALUE('Raw-Data 5'!E149) -> 0.1482 | I55: =VALUE('Raw-Data 5'!B142) -> 0.1856 | J55: =VALUE('Raw-Data 5'!E142) -> 0.213 | K55: =VALUE('Raw-Data 5'!H142) -> 0.1852 | L55: =VALUE('Raw-Data 5'!K142) -> 0.1914 | N55: =VALUE('Raw-Data 5'!B154) -> 0.3443 | AQ55: Employed | AR55: =1-AR54 -> 0.952 | AS55: =1-AS54 -> 0.947 | AU55: =1-AU54 -> 0.9595 | AV55: =1-AV54 -> 0.9597 | AX55: =1-AX54 -> 0.9032 | AY55: =1-AY54 -> 0.914 | AZ55: =1-AZ54 -> 0.8816 | BA55: =1-BA54 -> 0.9832 | BC55: =1-BC54 -> 0.9146
B56: Unemployed | C56: =VALUE('Raw-Data 5'!B136) -> 0.0379 | D56: =VALUE('Raw-Data 5'!H136) -> 0.0323 | F56: =VALUE('Raw-Data 5'!B150) -> 0.0321 | G56: =VALUE('Raw-Data 5'!E150) -> 0.024 | I56: =VALUE('Raw-Data 5'!B143) -> 0.0778 | J56: =VALUE('Raw-Data 5'!E143) -> 0.0453 | K56: =VALUE('Raw-Data 5'!H143) -> 0.0912 | L56: =VALUE('Raw-Data 5'!K143) -> 0.0168 | N56: =VALUE('Raw-Data 5'!B155) -> 0.0854
AQ57: SE | AR57: =VALUE('Raw-Data 5'!$H97-'Raw-Data 5'!$I97) -> 0.0389 | AS57: =VALUE('Raw-Data 5'!$H99-'Raw-Data 5'!$I99) -> 0.0143 | AU57: =VALUE('Raw-Data 5'!$B97-'Raw-Data 5'!$C97) -> 0.0453 | AV57: =VALUE('Raw-Data 5'!$B99-'Raw-Data 5'!$C99) -> 0.0151 | AX57: =VALUE('Raw-Data 5'!$E97-'Raw-Data 5'!$F97) -> 0.0236 | AY57: =VALUE('Raw-Data 5'!$E98-'Raw-Data 5'!$F98) -> 0.0385 | AZ57: =VALUE('Raw-Data 5'!$E99-'Raw-Data 5'!$F99) -> 0.0345 | BA57: =VALUE('Raw-Data 5'!$E100-'Raw-Data 5'!$F100) -> 0.0068 | BC57: =VALUE('Raw-Data 5'!$B103-'Raw-Data 5'!$C103) -> 0.0142
B60: Main activity 7 days | T60: Rural | Z60: Urban | AQ60: Livelihoods
C61: National | F61: Rural | I61: Urban | N61: IDP | R61: National | T61: Poorest Q. | U61: Q2 | V61: Q3 | W61: Q4 | X61: Richest Q. | Z61: Poorest Q. | AA61: Q2 | AB61: Q3 | AC61: Q4 | AD61: Richest Q. | AF61: Poorest Q. | AG61: Q2 | AH61: Q3 | AI61: Q4 | AJ61: Richest Q. | AL61: IDP | AR61: National | AU61: Rural | AX61: Urban | BC61: IDP
C62: Wave 1 | D62: Wave 3 | F62: Wave 1 | G62: Wave 3 | I62: Wave 1 | J62: Wave 2 | K62: Wave 3 | L62: Wave 4 | N62: Wave 4 | Q62: Unemployed | R62: =AS34 -> 0.053 | T62: =VALUE('Raw-Data 5'!B470) -> 0.0872 | U62: =VALUE('Raw-Data 5'!E470) -> 0.0456 | V62: =VALUE('Raw-Data 5'!H470) -> 0.0224 | W62: =VALUE('Raw-Data 5'!K470) -> 0.0373 | X62: =VALUE('Raw-Data 5'!N470) -> 0.0203 | Z62: =VALUE('Raw-Data 5'!B471) -> 0.0399 | AA62: =VALUE('Raw-Data 5'!E471) -> 0.1387 | AB62: =VALUE('Raw-Data 5'!H471) -> 0.0882 | AC62: =VALUE('Raw-Data 5'!K471) -> 0.1085 | AD62: =VALUE('Raw-Data 5'!N471) -> 0.1379 | AF62: =VALUE('Raw-Data 5'!B476) -> 0.0947 | AG62: =VALUE('Raw-Data 5'!E476) -> 0.1262 | AH62: =VALUE('Raw-Data 5'!H476) -> 0.0751 | AI62: =VALUE('Raw-Data 5'!K476) -> 0.0889 | AJ62: =VALUE('Raw-Data 5'!N476) -> 0.1132 | AL62: =VALUE('Raw-Data 5'!Q476) -> 0.0982 | AR62: Wave 1 | AS62: Wave 3 | AU62: Wave 1 | AV62: Wave 3 | AX62: Wave 1 | AY62: Wave 2 | AZ62: Wave 3 | BA62: Wave 4 | BC62: Wave 4
B63: Salaried labour | C63: =VALUE('Raw-Data 5'!B160) -> 0.0846 | D63: =VALUE('Raw-Data 5'!H160) -> 0.1278 | F63: =VALUE('Raw-Data 5'!B178) -> 0.0721 | G63: =VALUE('Raw-Data 5'!E178) -> 0.0962 | I63: =VALUE('Raw-Data 5'!B169) -> 0.1678 | J63: =VALUE('Raw-Data 5'!E169) -> 0.1951 | K63: =VALUE('Raw-Data 5'!H169) -> 0.3048 | L63: =VALUE('Raw-Data 5'!K169) -> 0.2581 | N63: =VALUE('Raw-Data 5'!B185) -> 0.2346 | Q63: Employed | R63: =1-R62 -> 0.947 | T63: =1-T62 -> 0.9128 | U63: =1-U62 -> 0.9544 | V63: =1-V62 -> 0.9776 | W63: =1-W62 -> 0.9627 | X63: =1-X62 -> 0.9797 | Z63: =1-Z62 -> 0.9601 | AA63: =1-AA62 -> 0.8613 | AB63: =1-AB62 -> 0.9118 | AC63: =1-AC62 -> 0.8915 | AD63: =1-AD62 -> 0.8621 | AF63: =1-AF62 -> 0.9053 | AG63: =1-AG62 -> 0.8738 | AH63: =1-AH62 -> 0.9249 | AI63: =1-AI62 -> 0.9111 | AJ63: =1-AJ62 -> 0.8868 | AL63: =1-AL62 -> 0.9018 | AQ63: Agriculture | AR63: =VALUE('Raw-Data 5'!B26) -> 0.769 | AS63: =VALUE('Raw-Data 5'!H26) -> 0.8264 | AU63: =VALUE('Raw-Data 5'!B46) -> 0.8305 | AV63: =VALUE('Raw-Data 5'!E46) -> 0.9028 | AX63: =VALUE('Raw-Data 5'!B36) -> 0.3498 | AY63: =VALUE('Raw-Data 5'!E36) -> 0.3708 | AZ63: =VALUE('Raw-Data 5'!H36) -> 0.3084 | BA63: =VALUE('Raw-Data 5'!K36) -> 0.3578 | BC63: =VALUE('Raw-Data 5'!B54) -> 0.0344
B64: Run a non-farm business | C64: =VALUE('Raw-Data 5'!B161) -> 0.1211 | D64: =VALUE('Raw-Data 5'!H161) -> 0.1305 | F64: =VALUE('Raw-Data 5'!B179) -> 0.0909 | G64: =VALUE('Raw-Data 5'!E179) -> 0.1081 | I64: =VALUE('Raw-Data 5'!B170) -> 0.3219 | J64: =VALUE('Raw-Data 5'!E170) -> 0.2233 | K64: =VALUE('Raw-Data 5'!H170) -> 0.2558 | L64: =VALUE('Raw-Data 5'!K170) -> 0.1673 | N64: =VALUE('Raw-Data 5'!B186) -> 0.2511 | AQ64: Wages and salaries | AR64: =VALUE('Raw-Data 5'!B27) -> 0.0963 | AS64: =VALUE('Raw-Data 5'!H27) -> 0.0882 | AU64: =VALUE('Raw-Data 5'!B47) -> 0.0586 | AV64: =VALUE('Raw-Data 5'!E47) -> 0.0406 | AX64: =VALUE('Raw-Data 5'!B37) -> 0.3535 | AY64: =VALUE('Raw-Data 5'!E37) -> 0.3472 | AZ64: =VALUE('Raw-Data 5'!H37) -> 0.4107 | BA64: =VALUE('Raw-Data 5'!K37) -> 0.2969 | BC64: =VALUE('Raw-Data 5'!B55) -> 0.0469
B65: Help in non-farm business | C65: =VALUE('Raw-Data 5'!B162) -> 0.0641 | D65: =VALUE('Raw-Data 5'!H162) -> 0.0457 | F65: =VALUE('Raw-Data 5'!B180) -> 0.0566 | G65: =VALUE('Raw-Data 5'!E180) -> 0.0433 | I65: =VALUE('Raw-Data 5'!B171) -> 0.1143 | J65: =VALUE('Raw-Data 5'!E171) -> 0.1414 | K65: =VALUE('Raw-Data 5'!H171) -> 0.0593 | L65: =VALUE('Raw-Data 5'!K171) -> 0.2703 | N65: =VALUE('Raw-Data 5'!B187) -> 0.4115 | Q65: SE | R65: =AS37 -> 0.0143 | T65: =VALUE('Raw-Data 5'!B470-'Raw-Data 5'!C470) -> 0.0502 | U65: =VALUE('Raw-Data 5'!E470-'Raw-Data 5'!F470) -> 0.0299 | V65: =VALUE('Raw-Data 5'!H470-'Raw-Data 5'!I470) -> 0.0213 | W65: =VALUE('Raw-Data 5'!K470-'Raw-Data 5'!L470) -> 0.0259 | X65: =VALUE('Raw-Data 5'!N470-'Raw-Data 5'!O470) -> 0.0142 | Z65: =VALUE('Raw-Data 5'!B471-'Raw-Data 5'!C471) -> 0.0412 | AA65: =VALUE('Raw-Data 5'!E471-'Raw-Data 5'!F471) -> 0.1038 | AB65: =VALUE('Raw-Data 5'!H471-'Raw-Data 5'!I471) -> 0.1012 | AC65: =VALUE('Raw-Data 5'!K471-'Raw-Data 5'!L471) -> 0.0598 | AD65: =VALUE('Raw-Data 5'!N471-'Raw-Data 5'!O471) -> 0.0419 | AF65: =VALUE('Raw-Data 5'!B476-'Raw-Data 5'!C476) -> 0.0375 | AG65: =VALUE('Raw-Data 5'!E476-'Raw-Data 5'!F476) -> 0.0399 | AH65: =VALUE('Raw-Data 5'!H476-'Raw-Data 5'!I476) -> 0.0254 | AI65: =VALUE('Raw-Data 5'!K476-'Raw-Data 5'!L476) -> 0.0334 | AJ65: =VALUE('Raw-Data 5'!N476-'Raw-Data 5'!O476) -> 0.0408 | AL65: =VALUE('Raw-Data 5'!Q476-'Raw-Data 5'!R476) -> 0.0149 | AQ65: Own business | AR65: =VALUE('Raw-Data 5'!B28) -> 0.0569 | AS65: =VALUE('Raw-Data 5'!H28) -> 0.0257 | AU65: =VALUE('Raw-Data 5'!B48) -> 0.0435 | AV65: =VALUE('Raw-Data 5'!E48) -> 0.0127 | AX65: =VALUE('Raw-Data 5'!B38) -> 0.1479 | AY65: =VALUE('Raw-Data 5'!E38) -> 0.1612 | AZ65: =VALUE('Raw-Data 5'!H38) -> 0.1137 | BA65: =VALUE('Raw-Data 5'!K38) -> 0.2219 | BC65: =VALUE('Raw-Data 5'!B56) -> 0.0741
B66: Apprenticeship/training | C66: =VALUE('Raw-Data 5'!B163) -> 0.0327 | D66: =VALUE('Raw-Data 5'!H163) -> 0.0225 | F66: =VALUE('Raw-Data 5'!B181) -> 0.0293 | G66: =VALUE('Raw-Data 5'!E181) -> 0.0119 | I66: =VALUE('Raw-Data 5'!B172) -> 0.0557 | J66: =VALUE('Raw-Data 5'!E172) -> 0.0313 | K66: =VALUE('Raw-Data 5'!H172) -> 0.0815 | L66: =VALUE('Raw-Data 5'!K172) -> 0.0172 | N66: =VALUE('Raw-Data 5'!B188) -> 0.0644 | AQ66: Remittances | AR66: =VALUE('Raw-Data 5'!B29) -> 0.0167 | AS66: =VALUE('Raw-Data 5'!H29) -> 0.0159 | AU66: =VALUE('Raw-Data 5'!B49) -> 0.0103 | AV66: =VALUE('Raw-Data 5'!E49) -> 0.0097 | AX66: =VALUE('Raw-Data 5'!B39) -> 0.0608 | AY66: =VALUE('Raw-Data 5'!E39) -> 0.0373 | AZ66: =VALUE('Raw-Data 5'!H39) -> 0.0581 | BA66: =VALUE('Raw-Data 5'!K39) -> 0.0376 | BC66: =VALUE('Raw-Data 5'!B57) -> 0.0234
B67: Own account agriculture | C67: =VALUE('Raw-Data 5'!B164) -> 0.6975 | D67: =VALUE('Raw-Data 5'!H164) -> 0.6736 | F67: =VALUE('Raw-Data 5'!B182) -> 0.7512 | G67: =VALUE('Raw-Data 5'!E182) -> 0.7406 | I67: =VALUE('Raw-Data 5'!B173) -> 0.3403 | J67: =VALUE('Raw-Data 5'!E173) -> 0.4089 | K67: =VALUE('Raw-Data 5'!H173) -> 0.2986 | L67: =VALUE('Raw-Data 5'!K173) -> 0.2872 | N67: =VALUE('Raw-Data 5'!B189) -> 0.0384 | AQ67: Aid | AR67: =VALUE('Raw-Data 5'!B30) -> 0.0109 | AS67: =VALUE('Raw-Data 5'!H30) -> 0.0096 | AU67: =VALUE('Raw-Data 5'!B50) -> 0.0086 | AV67: =VALUE('Raw-Data 5'!E50) -> 0.0052 | AX67: =VALUE('Raw-Data 5'!B40) -> 0.0268 | AY67: =VALUE('Raw-Data 5'!E40) -> 0.0239 | AZ67: =VALUE('Raw-Data 5'!H40) -> 0.0397 | BA67: =VALUE('Raw-Data 5'!K40) -> 0.0258 | BC67: =VALUE('Raw-Data 5'!B58) -> 0.7569
AQ68: Other | AR68: =VALUE('Raw-Data 5'!B31) -> 0.0501 | AS68: =VALUE('Raw-Data 5'!H31) -> 0.0342 | AU68: =VALUE('Raw-Data 5'!B51) -> 0.0485 | AV68: =VALUE('Raw-Data 5'!E51) -> 0.029 | AX68: =VALUE('Raw-Data 5'!B41) -> 0.0612 | AY68: =VALUE('Raw-Data 5'!E41) -> 0.0595 | AZ68: =VALUE('Raw-Data 5'!H41) -> 0.0694 | BA68: =VALUE('Raw-Data 5'!K41) -> 0.0599 | BC68: =VALUE('Raw-Data 5'!B59) -> 0.0643
R82: National | T82: Urban | Z82: Rural | AF82: IDP | AQ82: Employment sector
T83: Poorest Q. | U83: Q2 | V83: Q3 | W83: Q4 | X83: Richest Q. | Z83: Poorest Q. | AA83: Q2 | AB83: Q3 | AC83: Q4 | AD83: Richest Q. | AF83: Poorest Q. | AG83: Q2 | AH83: Q3 | AI83: Q4 | AJ83: Richest Q. | AR83: National | AU83: Rural | AX83: Urban | BC83: IDP | BF83: Wave 3
B84: Main activity 12 months | Q84: Unemployed | R84: =AS54 -> 0.053 | T84: =VALUE('Raw-Data 5'!B481) -> 0.0872 | U84: =VALUE('Raw-Data 5'!E481) -> 0.0456 | V84: =VALUE('Raw-Data 5'!H481) -> 0.0224 | W84: =VALUE('Raw-Data 5'!K481) -> 0.0373 | X84: =VALUE('Raw-Data 5'!N481) -> 0.0203 | Z84: =VALUE('Raw-Data 5'!B482) -> 0.0399 | AA84: =VALUE('Raw-Data 5'!E482) -> 0.1387 | AB84: =VALUE('Raw-Data 5'!H482) -> 0.0882 | AC84: =VALUE('Raw-Data 5'!K482) -> 0.1085 | AD84: =VALUE('Raw-Data 5'!N482) -> 0.1379 | AF84: =VALUE('Raw-Data 5'!B487) -> 0.0872 | AG84: =VALUE('Raw-Data 5'!E487) -> 0.1151 | AH84: =VALUE('Raw-Data 5'!H487) -> 0.0665 | AI84: =VALUE('Raw-Data 5'!K487) -> 0.0665 | AJ84: =VALUE('Raw-Data 5'!N487) -> 0.0915 | AR84: Wave 1 | AS84: Wave 3 | AU84: Wave 1 | AV84: Wave 3 | AX84: Wave 1 | AY84: Wave 2 | AZ84: Wave 3 | BA84: Wave 4 | BC84: Wave 4 | BF84: Agriculture | BG84: =AR85 -> 0.7607
C85: National | F85: Rural | I85: Urban | N85: IDP | Q85: Employed | R85: =1-R84 -> 0.947 | T85: =1-T84 -> 0.9128 | U85: =1-U84 -> 0.9544 | V85: =1-V84 -> 0.9776 | W85: =1-W84 -> 0.9627 | X85: =1-X84 -> 0.9797 | Z85: =1-Z84 -> 0.9601 | AA85: =1-AA84 -> 0.8613 | AB85: =1-AB84 -> 0.9118 | AC85: =1-AC84 -> 0.8915 | AD85: =1-AD84 -> 0.8621 | AF85: =1-AF84 -> 0.9128 | AG85: =1-AG84 -> 0.8849 | AH85: =1-AH84 -> 0.9335 | AI85: =1-AI84 -> 0.9335 | AJ85: =1-AJ84 -> 0.9085 | AQ85: Agriculture | AR85: =VALUE('Raw-Data 5'!B228) -> 0.7607 | AS85: =VALUE('Raw-Data 5'!H228) -> 0.6846 | AU85: =VALUE('Raw-Data 5'!B246) -> 0.8085 | AV85: =VALUE('Raw-Data 5'!E246) -> 0.7469 | AX85: =VALUE('Raw-Data 5'!B237) -> 0.4119 | AY85: =VALUE('Raw-Data 5'!E237) -> 0.4565 | AZ85: =VALUE('Raw-Data 5'!H237) -> 0.3337 | BA85: =VALUE('Raw-Data 5'!K237) -> 0.368 | BC85: =VALUE('Raw-Data 5'!B253) -> 0.0803 | BF85: Manufacturing | BG85: =AR86 -> 0.0282
C86: Wave 1 | D86: Wave 3 | F86: Wave 1 | G86: Wave 3 | I86: Wave 1 | J86: Wave 2 | K86: Wave 3 | L86: Wave 4 | N86: Wave 4 | AQ86: Manufacturing | AR86: =VALUE('Raw-Data 5'!B229) -> 0.0282 | AS86: =VALUE('Raw-Data 5'!H229) -> 0.0211 | AU86: =VALUE('Raw-Data 5'!B247) -> 0.0251 | AV86: =VALUE('Raw-Data 5'!E247) -> 0.0166 | AX86: =VALUE('Raw-Data 5'!B238) -> 0.0511 | AY86: =VALUE('Raw-Data 5'!E238) -> 0.0577 | AZ86: =VALUE('Raw-Data 5'!H238) -> 0.0466 | BA86: =VALUE('Raw-Data 5'!K238) -> 0.0383 | BC86: =VALUE('Raw-Data 5'!B254) -> 0.0843 | BF86: Services | BG86: =SUM(AR87:AR89) -> 0.211
B87: Salaried labour | C87: =VALUE('Raw-Data 5'!B194) -> 0.0936 | D87: =VALUE('Raw-Data 5'!H194) -> 0.1007 | F87: =VALUE('Raw-Data 5'!B212) -> 0.0813 | G87: =VALUE('Raw-Data 5'!E212) -> 0.0819 | I87: =VALUE('Raw-Data 5'!B203) -> 0.1598 | J87: =VALUE('Raw-Data 5'!E203) -> 0.1116 | K87: =VALUE('Raw-Data 5'!H203) -> 0.2178 | L87: =VALUE('Raw-Data 5'!K203) -> 0.257 | N87: =VALUE('Raw-Data 5'!B219) -> 0.2373 | Q87: SE | R87: =AS57 -> 0.0143 | T87: =VALUE('Raw-Data 5'!B481-'Raw-Data 5'!C481) -> 0.0502 | U87: =VALUE('Raw-Data 5'!E481-'Raw-Data 5'!F481) -> 0.0299 | V87: =VALUE('Raw-Data 5'!H481-'Raw-Data 5'!I481) -> 0.0213 | W87: =VALUE('Raw-Data 5'!K481-'Raw-Data 5'!L481) -> 0.0259 | X87: =VALUE('Raw-Data 5'!N481-'Raw-Data 5'!O481) -> 0.0142 | Z87: =VALUE('Raw-Data 5'!B482-'Raw-Data 5'!C482) -> 0.0412 | AA87: =VALUE('Raw-Data 5'!E482-'Raw-Data 5'!F482) -> 0.1038 | AB87: =VALUE('Raw-Data 5'!H482-'Raw-Data 5'!I482) -> 0.1012 | AC87: =VALUE('Raw-Data 5'!K482-'Raw-Data 5'!L482) -> 0.0598 | AD87: =VALUE('Raw-Data 5'!N482-'Raw-Data 5'!O482) -> 0.0419 | AF87: =VALUE('Raw-Data 5'!B487-'Raw-Data 5'!C487) -> 0.0376 | AG87: =VALUE('Raw-Data 5'!E487-'Raw-Data 5'!F487) -> 0.0393 | AH87: =VALUE('Raw-Data 5'!H487-'Raw-Data 5'!I487) -> 0.0231 | AI87: =VALUE('Raw-Data 5'!K487-'Raw-Data 5'!L487) -> 0.03 | AJ87: =VALUE('Raw-Data 5'!N487-'Raw-Data 5'!O487) -> 0.0339 | AQ87: Services | AR87: =VALUE('Raw-Data 5'!B230) -> 0.1688 | AS87: =VALUE('Raw-Data 5'!H230) -> 0.2175 | AU87: =VALUE('Raw-Data 5'!B248) -> 0.1308 | AV87: =VALUE('Raw-Data 5'!E248) -> 0.1704 | AX87: =VALUE('Raw-Data 5'!B239) -> 0.4461 | AY87: =VALUE('Raw-Data 5'!E239) -> 0.3901 | AZ87: =VALUE('Raw-Data 5'!H239) -> 0.4831 | BA87: =VALUE('Raw-Data 5'!K239) -> 0.4965 | BC87: =VALUE('Raw-Data 5'!B255) -> 0.7335
B88: Run a non-farm business | C88: =VALUE('Raw-Data 5'!B195) -> 0.1896 | D88: =VALUE('Raw-Data 5'!H195) -> 0.151 | F88: =VALUE('Raw-Data 5'!B213) -> 0.1508 | G88: =VALUE('Raw-Data 5'!E213) -> 0.1189 | I88: =VALUE('Raw-Data 5'!B204) -> 0.3991 | J88: =VALUE('Raw-Data 5'!E204) -> 0.3299 | K88: =VALUE('Raw-Data 5'!H204) -> 0.3506 | L88: =VALUE('Raw-Data 5'!K204) -> 0.1725 | N88: =VALUE('Raw-Data 5'!B220) -> 0.2486 | AQ88: Education | AR88: =VALUE('Raw-Data 5'!B231) -> 0.0135 | AS88: =VALUE('Raw-Data 5'!H231) -> 0.0238 | AU88: =VALUE('Raw-Data 5'!B249) -> 0.0122 | AV88: =VALUE('Raw-Data 5'!E249) -> 0.023 | AX88: =VALUE('Raw-Data 5'!B240) -> 0.0231 | AY88: =VALUE('Raw-Data 5'!E240) -> 0.0174 | AZ88: =VALUE('Raw-Data 5'!H240) -> 0.0284 | BA88: =VALUE('Raw-Data 5'!K240) -> 0.0431 | BC88: =VALUE('Raw-Data 5'!B256) -> 0.0868
B89: Help in non-farm business | C89: =VALUE('Raw-Data 5'!B196) -> 0.1041 | D89: =VALUE('Raw-Data 5'!H196) -> 0.0754 | F89: =VALUE('Raw-Data 5'!B214) -> 0.0988 | G89: =VALUE('Raw-Data 5'!E214) -> 0.0768 | I89: =VALUE('Raw-Data 5'!B205) -> 0.1327 | J89: =VALUE('Raw-Data 5'!E205) -> 0.1577 | K89: =VALUE('Raw-Data 5'!H205) -> 0.0662 | L89: =VALUE('Raw-Data 5'!K205) -> 0.2681 | N89: =VALUE('Raw-Data 5'!B221) -> 0.4108 | AQ89: Public sector / defence | AR89: =VALUE('Raw-Data 5'!B232) -> 0.0287 | AS89: =VALUE('Raw-Data 5'!H232) -> 0.0529 | AU89: =VALUE('Raw-Data 5'!B250) -> 0.0234 | AV89: =VALUE('Raw-Data 5'!E250) -> 0.043 | AX89: =VALUE('Raw-Data 5'!B241) -> 0.0679 | AY89: =VALUE('Raw-Data 5'!E241) -> 0.0782 | AZ89: =VALUE('Raw-Data 5'!H241) -> 0.1083 | BA89: =VALUE('Raw-Data 5'!K241) -> 0.0541 | BC89: =VALUE('Raw-Data 5'!B257) -> 0.015
B90: Apprenticeship/training | C90: =VALUE('Raw-Data 5'!B197) -> 0.0438 | D90: =VALUE('Raw-Data 5'!H197) -> 0.1102 | F90: =VALUE('Raw-Data 5'!B215) -> 0.0409 | G90: =VALUE('Raw-Data 5'!E215) -> 0.0975 | I90: =VALUE('Raw-Data 5'!B206) -> 0.0596 | J90: =VALUE('Raw-Data 5'!E206) -> 0.0232 | K90: =VALUE('Raw-Data 5'!H206) -> 0.1886 | L90: =VALUE('Raw-Data 5'!K206) -> 0.0179 | N90: =VALUE('Raw-Data 5'!B222) -> 0.0652
B91: Own account agriculture | C91: =VALUE('Raw-Data 5'!B198) -> 0.5689 | D91: =VALUE('Raw-Data 5'!H198) -> 0.5627 | F91: =VALUE('Raw-Data 5'!B216) -> 0.6282 | G91: =VALUE('Raw-Data 5'!E216) -> 0.6249 | I91: =VALUE('Raw-Data 5'!B207) -> 0.2487 | J91: =VALUE('Raw-Data 5'!E207) -> 0.3776 | K91: =VALUE('Raw-Data 5'!H207) -> 0.1768 | L91: =VALUE('Raw-Data 5'!K207) -> 0.2845 | N91: =VALUE('Raw-Data 5'!B223) -> 0.0382
B95: ACTIVITIES
C96: National - Wave 3 | K96: Urban | Q96: Rural | W96: IDP - Wave 4 | AJ96: National | AT96: Urban | AZ96: Rural | BF96: IDP
C97: Poorest Q. | D97: Q2 | E97: Q3 | F97: Q4 | G97: Richest Q. | I97: National | K97: Poorest Q. | L97: Q2 | M97: Q3 | N97: Q4 | O97: Richest Q. | Q97: Poorest Q. | R97: Q2 | S97: Q3 | T97: Q4 | U97: Richest Q. | W97: Poorest Q. | X97: Q2 | Y97: Q3 | Z97: Q4 | AA97: Richest Q. | AB97: IDP | AJ97: Poorest Q. | AK97: Q2 | AL97: Q3 | AM97: Q4 | AN97: Richest Q. | AQ97: National | AT97: Poorest Q. | AU97: Q2 | AV97: Q3 | AW97: Q4 | AX97: Richest Q. | AZ97: Poorest Q. | BA97: Q2 | BB97: Q3 | BC97: Q4 | BD97: Richest Q. | BF97: Poorest Q. | BG97: Q2 | BH97: Q3 | BI97: Q4 | BJ97: Richest Q. | BL97: IDP
B98: Salaried labour | C98: =VALUE('Raw-Data 5'!B492) -> 0.0511 | D98: =VALUE('Raw-Data 5'!E492) -> 0.0913 | E98: =VALUE('Raw-Data 5'!H492) -> 0.1042 | F98: =VALUE('Raw-Data 5'!K492) -> 0.1217 | G98: =VALUE('Raw-Data 5'!N492) -> 0.2378 | I98: =VALUE('Raw-Data 5'!Q492) -> 0.1278 | K98: =VALUE('Raw-Data 5'!B501) -> 0.1454 | L98: =VALUE('Raw-Data 5'!E501) -> 0.1238 | M98: =VALUE('Raw-Data 5'!H501) -> 0.1092 | N98: =VALUE('Raw-Data 5'!K501) -> 0.3217 | O98: =VALUE('Raw-Data 5'!N501) -> 0.422 | Q98: =VALUE('Raw-Data 5'!B510) -> 0.0426 | R98: =VALUE('Raw-Data 5'!E510) -> 0.0872 | S98: =VALUE('Raw-Data 5'!H510) -> 0.1038 | T98: =VALUE('Raw-Data 5'!K510) -> 0.0833 | U98: =VALUE('Raw-Data 5'!N510) -> 0.1595 | W98: =VALUE('Raw-Data 5'!B519) -> 0.2815 | X98: =VALUE('Raw-Data 5'!E519) -> 0.2179 | Y98: =VALUE('Raw-Data 5'!H519) -> 0.2015 | Z98: =VALUE('Raw-Data 5'!K519) -> 0.2125 | AA98: =VALUE('Raw-Data 5'!N519) -> 0.3182 | AB98: =VALUE('Raw-Data 5'!Q519) -> 0.2348 | AI98: Agriculture | AJ98: =VALUE('Raw-Data 5'!B528) -> 0.8437 | AK98: =VALUE('Raw-Data 5'!E528) -> 0.7362 | AL98: =VALUE('Raw-Data 5'!H528) -> 0.7265 | AM98: =VALUE('Raw-Data 5'!K528) -> 0.6493 | AN98: =VALUE('Raw-Data 5'!N528) -> 0.5164 | AQ98: =VALUE('Raw-Data 5'!Q528) -> 0.6846 | AT98: =VALUE('Raw-Data 5'!B537) -> 0.6686 | AU98: =VALUE('Raw-Data 5'!E537) -> 0.5587 | AV98: =VALUE('Raw-Data 5'!H537) -> 0.4426 | AW98: =VALUE('Raw-Data 5'!K537) -> 0.2889 | AX98: =VALUE('Raw-Data 5'!N537) -> 0.1952 | AZ98: =VALUE('Raw-Data 5'!B546) -> 0.8594 | BA98: =VALUE('Raw-Data 5'!E546) -> 0.7594 | BB98: =VALUE('Raw-Data 5'!H546) -> 0.7466 | BC98: =VALUE('Raw-Data 5'!K546) -> 0.7189 | BD98: =VALUE('Raw-Data 5'!N546) -> 0.6518 | BF98: =VALUE('Raw-Data 5'!B555) -> 0.0438 | BG98: =VALUE('Raw-Data 5'!E555) -> 0.0876 | BH98: =VALUE('Raw-Data 5'!H555) -> 0.0762 | BI98: =VALUE('Raw-Data 5'!K555) -> 0.1209 | BJ98: =VALUE('Raw-Data 5'!N555) -> 0.0751 | BL98: =VALUE('Raw-Data 5'!Q555) -> 0.0803
B99: Run a non-farm business | C99: =VALUE('Raw-Data 5'!B493) -> 0.0549 | D99: =VALUE('Raw-Data 5'!E493) -> 0.1294 | E99: =VALUE('Raw-Data 5'!H493) -> 0.1256 | F99: =VALUE('Raw-Data 5'!K493) -> 0.1713 | G99: =VALUE('Raw-Data 5'!N493) -> 0.16 | I99: =VALUE('Raw-Data 5'!Q493) -> 0.1305 | K99: =VALUE('Raw-Data 5'!B502) -> 0.1212 | L99: =VALUE('Raw-Data 5'!E502) -> 0.1527 | M99: =VALUE('Raw-Data 5'!H502) -> 0.4409 | N99: =VALUE('Raw-Data 5'!K502) -> 0.3059 | O99: =VALUE('Raw-Data 5'!N502) -> 0.2552 | Q99: =VALUE('Raw-Data 5'!B511) -> 0.0489 | R99: =VALUE('Raw-Data 5'!E511) -> 0.1265 | S99: =VALUE('Raw-Data 5'!H511) -> 0.1027 | T99: =VALUE('Raw-Data 5'!K511) -> 0.1455 | U99: =VALUE('Raw-Data 5'!N511) -> 0.1197 | W99: =VALUE('Raw-Data 5'!B520) -> 0.2552 | X99: =VALUE('Raw-Data 5'!E520) -> 0.2361 | Y99: =VALUE('Raw-Data 5'!H520) -> 0.2691 | Z99: =VALUE('Raw-Data 5'!K520) -> 0.2728 | AA99: =VALUE('Raw-Data 5'!N520) -> 0.1918 | AB99: =VALUE('Raw-Data 5'!Q520) -> 0.2507 | AI99: Manufacturing | AJ99: =VALUE('Raw-Data 5'!B529) -> 0.0178 | AK99: =VALUE('Raw-Data 5'!E529) -> 0.0168 | AL99: =VALUE('Raw-Data 5'!H529) -> 0.0182 | AM99: =VALUE('Raw-Data 5'!K529) -> 0.0226 | AN99: =VALUE('Raw-Data 5'!N529) -> 0.0283 | AQ99: =VALUE('Raw-Data 5'!Q529) -> 0.0211 | AT99: =VALUE('Raw-Data 5'!B538) -> 0.0287 | AU99: =VALUE('Raw-Data 5'!E538) -> 0.092 | AV99: =VALUE('Raw-Data 5'!H538) -> 0.0289 | AW99: =VALUE('Raw-Data 5'!K538) -> 0.0441 | AX99: =VALUE('Raw-Data 5'!N538) -> 0.0416 | AZ99: =VALUE('Raw-Data 5'!B547) -> 0.0168 | BA99: =VALUE('Raw-Data 5'!E547) -> 0.007 | BB99: =VALUE('Raw-Data 5'!H547) -> 0.0175 | BC99: =VALUE('Raw-Data 5'!K547) -> 0.0185 | BD99: =VALUE('Raw-Data 5'!N547) -> 0.0227 | BF99: =VALUE('Raw-Data 5'!B556) -> 0.1278 | BG99: =VALUE('Raw-Data 5'!E556) -> 0.103 | BH99: =VALUE('Raw-Data 5'!H556) -> 0.0785 | BI99: =VALUE('Raw-Data 5'!K556) -> 0.048 | BJ99: =VALUE('Raw-Data 5'!N556) -> 0.037 | BL99: =VALUE('Raw-Data 5'!Q556) -> 0.0844
B100: Help in non-farm business | C100: =VALUE('Raw-Data 5'!B494) -> 0.0103 | D100: =VALUE('Raw-Data 5'!E494) -> 0.0458 | E100: =VALUE('Raw-Data 5'!H494) -> 0.0491 | F100: =VALUE('Raw-Data 5'!K494) -> 0.0603 | G100: =VALUE('Raw-Data 5'!N494) -> 0.0575 | I100: =VALUE('Raw-Data 5'!Q494) -> 0.0457 | K100: =VALUE('Raw-Data 5'!B503) -> 0.0451 | L100: =VALUE('Raw-Data 5'!E503) -> 0.0529 | M100: =VALUE('Raw-Data 5'!H503) -> 0.1209 | N100: =VALUE('Raw-Data 5'!K503) -> 0.0586 | O100: =VALUE('Raw-Data 5'!N503) -> 0.0519 | Q100: =VALUE('Raw-Data 5'!B512) -> 0.0071 | R100: =VALUE('Raw-Data 5'!E512) -> 0.0449 | S100: =VALUE('Raw-Data 5'!H512) -> 0.0439 | T100: =VALUE('Raw-Data 5'!K512) -> 0.0606 | U100: =VALUE('Raw-Data 5'!N512) -> 0.0599 | W100: =VALUE('Raw-Data 5'!B521) -> 0.398 | X100: =VALUE('Raw-Data 5'!E521) -> 0.4614 | Y100: =VALUE('Raw-Data 5'!H521) -> 0.4117 | Z100: =VALUE('Raw-Data 5'!K521) -> 0.3882 | AA100: =VALUE('Raw-Data 5'!N521) -> 0.3554 | AB100: =VALUE('Raw-Data 5'!Q521) -> 0.4117 | AI100: Services | AJ100: =VALUE('Raw-Data 5'!B530) -> 0.1077 | AK100: =VALUE('Raw-Data 5'!E530) -> 0.1789 | AL100: =VALUE('Raw-Data 5'!H530) -> 0.1785 | AM100: =VALUE('Raw-Data 5'!K530) -> 0.2394 | AN100: =VALUE('Raw-Data 5'!N530) -> 0.3472 | AQ100: =VALUE('Raw-Data 5'!Q530) -> 0.2175 | AT100: =VALUE('Raw-Data 5'!B539) -> 0.2187 | AU100: =VALUE('Raw-Data 5'!E539) -> 0.2526 | AV100: =VALUE('Raw-Data 5'!H539) -> 0.457 | AW100: =VALUE('Raw-Data 5'!K539) -> 0.5119 | AX100: =VALUE('Raw-Data 5'!N539) -> 0.5986 | AZ100: =VALUE('Raw-Data 5'!B548) -> 0.0977 | BA100: =VALUE('Raw-Data 5'!E548) -> 0.1692 | BB100: =VALUE('Raw-Data 5'!H548) -> 0.1588 | BC100: =VALUE('Raw-Data 5'!K548) -> 0.1867 | BD100: =VALUE('Raw-Data 5'!N548) -> 0.2412 | BF100: =VALUE('Raw-Data 5'!B557) -> 0.7433 | BG100: =VALUE('Raw-Data 5'!E557) -> 0.6995 | BH100: =VALUE('Raw-Data 5'!H557) -> 0.7299 | BI100: =VALUE('Raw-Data 5'!K557) -> 0.7339 | BJ100: =VALUE('Raw-Data 5'!N557) -> 0.8051 | BL100: =VALUE('Raw-Data 5'!Q557) -> 0.7334
B101: Apprenticeship/training | C101: =VALUE('Raw-Data 5'!B495) -> 0.0245 | D101: =VALUE('Raw-Data 5'!E495) -> 0.0165 | E101: =VALUE('Raw-Data 5'!H495) -> 0.0052 | F101: =VALUE('Raw-Data 5'!K495) -> 0.0163 | G101: =VALUE('Raw-Data 5'!N495) -> 0.0454 | I101: =VALUE('Raw-Data 5'!Q495) -> 0.0225 | K101: =VALUE('Raw-Data 5'!B504) -> 0.0287 | L101: =VALUE('Raw-Data 5'!E504) -> 0.0878 | M101: =VALUE('Raw-Data 5'!H504) -> 0.0118 | N101: =VALUE('Raw-Data 5'!K504) -> 0.0348 | O101: =VALUE('Raw-Data 5'!N504) -> 0.1241 | Q101: =VALUE('Raw-Data 5'!B513) -> 0.0241 | R101: =VALUE('Raw-Data 5'!E513) -> 0.0074 | S101: =VALUE('Raw-Data 5'!H513) -> 0.0047 | T101: =VALUE('Raw-Data 5'!K513) -> 0.0128 | U101: =VALUE('Raw-Data 5'!N513) -> 0.0121 | W101: =VALUE('Raw-Data 5'!B522) -> 0.0388 | X101: =VALUE('Raw-Data 5'!E522) -> 0.0555 | Y101: =VALUE('Raw-Data 5'!H522) -> 0.0764 | Z101: =VALUE('Raw-Data 5'!K522) -> 0.0745 | AA101: =VALUE('Raw-Data 5'!N522) -> 0.0824 | AB101: =VALUE('Raw-Data 5'!Q522) -> 0.0644 | AI101: Education | AJ101: =VALUE('Raw-Data 5'!B531) -> 0 | AK101: =VALUE('Raw-Data 5'!E531) -> 0.0316 | AL101: =VALUE('Raw-Data 5'!H531) -> 0.0367 | AM101: =VALUE('Raw-Data 5'!K531) -> 0.0264 | AN101: =VALUE('Raw-Data 5'!N531) -> 0.0222 | AQ101: =VALUE('Raw-Data 5'!Q531) -> 0.0238 | AT101: =VALUE('Raw-Data 5'!B540) -> 0 | AU101: =VALUE('Raw-Data 5'!E540) -> 0.0116 | AV101: =VALUE('Raw-Data 5'!H540) -> 0.0289 | AW101: =VALUE('Raw-Data 5'!K540) -> 0.0423 | AX101: =VALUE('Raw-Data 5'!N540) -> 0.0331 | AZ101: =VALUE('Raw-Data 5'!B549) -> 0 | BA101: =VALUE('Raw-Data 5'!E549) -> 0.0342 | BB101: =VALUE('Raw-Data 5'!H549) -> 0.0372 | BC101: =VALUE('Raw-Data 5'!K549) -> 0.0233 | BD101: =VALUE('Raw-Data 5'!N549) -> 0.0176 | BF101: =VALUE('Raw-Data 5'!B558) -> 0.0809 | BG101: =VALUE('Raw-Data 5'!E558) -> 0.0925 | BH101: =VALUE('Raw-Data 5'!H558) -> 0.1059 | BI101: =VALUE('Raw-Data 5'!K558) -> 0.0673 | BJ101: =VALUE('Raw-Data 5'!N558) -> 0.062 | BL101: =VALUE('Raw-Data 5'!Q558) -> 0.0869
B102: Agricultural production | C102: =VALUE('Raw-Data 5'!B496) -> 0.8591 | D102: =VALUE('Raw-Data 5'!E496) -> 0.7169 | E102: =VALUE('Raw-Data 5'!H496) -> 0.7159 | F102: =VALUE('Raw-Data 5'!K496) -> 0.6304 | G102: =VALUE('Raw-Data 5'!N496) -> 0.4993 | I102: =VALUE('Raw-Data 5'!Q496) -> 0.6736 | K102: =VALUE('Raw-Data 5'!B505) -> 0.6596 | L102: =VALUE('Raw-Data 5'!E505) -> 0.5828 | M102: =VALUE('Raw-Data 5'!H505) -> 0.3173 | N102: =VALUE('Raw-Data 5'!K505) -> 0.279 | O102: =VALUE('Raw-Data 5'!N505) -> 0.1468 | Q102: =VALUE('Raw-Data 5'!B514) -> 0.8772 | R102: =VALUE('Raw-Data 5'!E514) -> 0.7341 | S102: =VALUE('Raw-Data 5'!H514) -> 0.7448 | T102: =VALUE('Raw-Data 5'!K514) -> 0.6978 | U102: =VALUE('Raw-Data 5'!N514) -> 0.6488 | W102: =VALUE('Raw-Data 5'!B523) -> 0.0264 | X102: =VALUE('Raw-Data 5'!E523) -> 0.0292 | Y102: =VALUE('Raw-Data 5'!H523) -> 0.0413 | Z102: =VALUE('Raw-Data 5'!K523) -> 0.052 | AA102: =VALUE('Raw-Data 5'!N523) -> 0.0521 | AB102: =VALUE('Raw-Data 5'!Q523) -> 0.0384 | AI102: Public sector / defence | AJ102: =VALUE('Raw-Data 5'!B532) -> 0.0308 | AK102: =VALUE('Raw-Data 5'!E532) -> 0.0365 | AL102: =VALUE('Raw-Data 5'!H532) -> 0.0401 | AM102: =VALUE('Raw-Data 5'!K532) -> 0.0623 | AN102: =VALUE('Raw-Data 5'!N532) -> 0.0859 | AQ102: =VALUE('Raw-Data 5'!Q532) -> 0.0529 | AT102: =VALUE('Raw-Data 5'!B541) -> 0.0841 | AU102: =VALUE('Raw-Data 5'!E541) -> 0.0852 | AV102: =VALUE('Raw-Data 5'!H541) -> 0.0426 | AW102: =VALUE('Raw-Data 5'!K541) -> 0.1127 | AX102: =VALUE('Raw-Data 5'!N541) -> 0.1315 | AZ102: =VALUE('Raw-Data 5'!B550) -> 0.0261 | BA102: =VALUE('Raw-Data 5'!E550) -> 0.0301 | BB102: =VALUE('Raw-Data 5'!H550) -> 0.0399 | BC102: =VALUE('Raw-Data 5'!K550) -> 0.0526 | BD102: =VALUE('Raw-Data 5'!N550) -> 0.0667 | BF102: =VALUE('Raw-Data 5'!B559) -> 0.0043 | BG102: =VALUE('Raw-Data 5'!E559) -> 0.0173 | BH102: =VALUE('Raw-Data 5'!H559) -> 0.0094 | BI102: =VALUE('Raw-Data 5'!K559) -> 0.0298 | BJ102: =VALUE('Raw-Data 5'!N559) -> 0.0208 | BL102: =VALUE('Raw-Data 5'!Q559) -> 0.015
AZ108: National | BB108: Urban | BC108: Rural | BE108: Men | BF108: Women
AY109: Agriculture | AZ109: =VALUE('Raw-Data 5'!Q528) -> 0.6846 | BB109: =VALUE('Raw-Data 5'!Q537) -> 0.3337 | BC109: =VALUE('Raw-Data 5'!Q546) -> 0.7469
AY110: Manufacturing | AZ110: =VALUE('Raw-Data 5'!Q529) -> 0.0211 | BB110: =VALUE('Raw-Data 5'!Q538) -> 0.0466 | BC110: =VALUE('Raw-Data 5'!Q547) -> 0.0166
AY111: Services | AZ111: =VALUE('Raw-Data 5'!Q530) -> 0.2175 | BB111: =VALUE('Raw-Data 5'!Q539) -> 0.4831 | BC111: =VALUE('Raw-Data 5'!Q548) -> 0.1704
AY112: Education | AZ112: =VALUE('Raw-Data 5'!Q531) -> 0.0238 | BB112: =VALUE('Raw-Data 5'!Q540) -> 0.0284 | BC112: =VALUE('Raw-Data 5'!Q549) -> 0.023
AY113: Public sector / defence | AZ113: =VALUE('Raw-Data 5'!Q532) -> 0.0529 | BB113: =VALUE('Raw-Data 5'!Q541) -> 0.1083 | BC113: =VALUE('Raw-Data 5'!Q550) -> 0.043
B118: LIVELIHOODS
C119: National | K119: Urban | Q119: Rural | W119: IDP
C120: Poorest Q. | D120: Q2 | E120: Q3 | F120: Q4 | G120: Richest Q. | I120: National | K120: Poorest Q. | L120: Q2 | M120: Q3 | N120: Q4 | O120: Richest Q. | Q120: Poorest Q. | R120: Q2 | S120: Q3 | T120: Q4 | U120: Richest Q. | W120: Poorest Q. | X120: Q2 | Y120: Q3 | Z120: Q4 | AA120: Richest Q. | AC120: IDP
B121: Agriculture | C121: =VALUE('Raw-Data 5'!B564) -> 0.8812 | D121: =VALUE('Raw-Data 5'!E564) -> 0.8634 | E121: =VALUE('Raw-Data 5'!H564) -> 0.833 | F121: =VALUE('Raw-Data 5'!K564) -> 0.8631 | G121: =VALUE('Raw-Data 5'!N564) -> 0.7069 | I121: =VALUE('Raw-Data 5'!Q564) -> 0.8283 | K121: =VALUE('Raw-Data 5'!B574) -> 0.4242 | L121: =VALUE('Raw-Data 5'!E574) -> 0.3413 | M121: =VALUE('Raw-Data 5'!H574) -> 0.3094 | N121: =VALUE('Raw-Data 5'!K574) -> 0.3585 | O121: =VALUE('Raw-Data 5'!N574) -> 0.2519 | Q121: =VALUE('Raw-Data 5'!B584) -> 0.9139 | R121: =VALUE('Raw-Data 5'!E584) -> 0.9164 | S121: =VALUE('Raw-Data 5'!H584) -> 0.8972 | T121: =VALUE('Raw-Data 5'!K584) -> 0.9436 | U121: =VALUE('Raw-Data 5'!N584) -> 0.8899 | W121: =VALUE('Raw-Data 5'!B594) -> 0.0307 | X121: =VALUE('Raw-Data 5'!E594) -> 0.0249 | Y121: =VALUE('Raw-Data 5'!H594) -> 0.0178 | Z121: =VALUE('Raw-Data 5'!K594) -> 0.019 | AA121: =VALUE('Raw-Data 5'!N594) -> 0.0363 | AC121: =VALUE('Raw-Data 5'!Q594) -> 0.0245
B122: Salaried labor | C122: =VALUE('Raw-Data 5'!B565) -> 0.0472 | D122: =VALUE('Raw-Data 5'!E565) -> 0.074 | E122: =VALUE('Raw-Data 5'!H565) -> 0.0994 | F122: =VALUE('Raw-Data 5'!K565) -> 0.0851 | G122: =VALUE('Raw-Data 5'!N565) -> 0.1941 | I122: =VALUE('Raw-Data 5'!Q565) -> 0.1012 | K122: =VALUE('Raw-Data 5'!B575) -> 0.1652 | L122: =VALUE('Raw-Data 5'!E575) -> 0.4507 | M122: =VALUE('Raw-Data 5'!H575) -> 0.4404 | N122: =VALUE('Raw-Data 5'!K575) -> 0.4078 | O122: =VALUE('Raw-Data 5'!N575) -> 0.5135 | Q122: =VALUE('Raw-Data 5'!B585) -> 0.0387 | R122: =VALUE('Raw-Data 5'!E585) -> 0.0357 | S122: =VALUE('Raw-Data 5'!H585) -> 0.0576 | T122: =VALUE('Raw-Data 5'!K585) -> 0.0336 | U122: =VALUE('Raw-Data 5'!N585) -> 0.0657 | W122: =VALUE('Raw-Data 5'!B595) -> 0.0393 | X122: =VALUE('Raw-Data 5'!E595) -> 0.0334 | Y122: =VALUE('Raw-Data 5'!H595) -> 0.0461 | Z122: =VALUE('Raw-Data 5'!K595) -> 0.053 | AA122: =VALUE('Raw-Data 5'!N595) -> 0.0967 | AC122: =VALUE('Raw-Data 5'!Q595) -> 0.0454
B123: Own business | C123: =VALUE('Raw-Data 5'!B566) -> 0.0274 | D123: =VALUE('Raw-Data 5'!E566) -> 0.0158 | E123: =VALUE('Raw-Data 5'!H566) -> 0.0107 | F123: =VALUE('Raw-Data 5'!K566) -> 0.0213 | G123: =VALUE('Raw-Data 5'!N566) -> 0.0592 | I123: =VALUE('Raw-Data 5'!Q566) -> 0.027 | K123: =VALUE('Raw-Data 5'!B576) -> 0.2016 | L123: =VALUE('Raw-Data 5'!E576) -> 0.0337 | M123: =VALUE('Raw-Data 5'!H576) -> 0.0528 | N123: =VALUE('Raw-Data 5'!K576) -> 0.1006 | O123: =VALUE('Raw-Data 5'!N576) -> 0.1488 | Q123: =VALUE('Raw-Data 5'!B586) -> 0.0149 | R123: =VALUE('Raw-Data 5'!E586) -> 0.0139 | S123: =VALUE('Raw-Data 5'!H586) -> 0.0055 | T123: =VALUE('Raw-Data 5'!K586) -> 0.0086 | U123: =VALUE('Raw-Data 5'!N586) -> 0.0232 | W123: =VALUE('Raw-Data 5'!B596) -> 0.0259 | X123: =VALUE('Raw-Data 5'!E596) -> 0.0368 | Y123: =VALUE('Raw-Data 5'!H596) -> 0.0719 | Z123: =VALUE('Raw-Data 5'!K596) -> 0.1337 | AA123: =VALUE('Raw-Data 5'!N596) -> 0.1284 | AC123: =VALUE('Raw-Data 5'!Q596) -> 0.0631
B124: Remittances | C124: =VALUE('Raw-Data 5'!B567) -> 0.0101 | D124: =VALUE('Raw-Data 5'!E567) -> 0.0062 | E124: =VALUE('Raw-Data 5'!H567) -> 0.0197 | F124: =VALUE('Raw-Data 5'!K567) -> 0.0135 | G124: =VALUE('Raw-Data 5'!N567) -> 0.0083 | I124: =VALUE('Raw-Data 5'!Q567) -> 0.0116 | K124: =VALUE('Raw-Data 5'!B577) -> 0.0401 | L124: =VALUE('Raw-Data 5'!E577) -> 0.0568 | M124: =VALUE('Raw-Data 5'!H577) -> 0.0985 | N124: =VALUE('Raw-Data 5'!K577) -> 0.0565 | O124: =VALUE('Raw-Data 5'!N577) -> 0.021 | Q124: =VALUE('Raw-Data 5'!B587) -> 0.0079 | R124: =VALUE('Raw-Data 5'!E587) -> 0.0011 | S124: =VALUE('Raw-Data 5'!H587) -> 0.0101 | T124: =VALUE('Raw-Data 5'!K587) -> 0.0067 | U124: =VALUE('Raw-Data 5'!N587) -> 0.0032 | W124: =VALUE('Raw-Data 5'!B597) -> 0.0056 | X124: =VALUE('Raw-Data 5'!E597) -> 0.0055 | Y124: =VALUE('Raw-Data 5'!H597) -> 0.0137 | Z124: =VALUE('Raw-Data 5'!K597) -> 0.0373 | AA124: =VALUE('Raw-Data 5'!N597) -> 0.0533 | AC124: =VALUE('Raw-Data 5'!Q597) -> 0.0155
B125: Aid | C125: =VALUE('Raw-Data 5'!B568) -> 0.0101 | D125: =VALUE('Raw-Data 5'!E568) -> 0.0021 | E125: =VALUE('Raw-Data 5'!H568) -> 0.0055 | F125: =VALUE('Raw-Data 5'!K568) -> 0.0076 | G125: =VALUE('Raw-Data 5'!N568) -> 0.0064 | I125: =VALUE('Raw-Data 5'!Q568) -> 0.0063 | K125: =VALUE('Raw-Data 5'!B578) -> 0.0608 | L125: =VALUE('Raw-Data 5'!E578) -> 0.0226 | M125: =VALUE('Raw-Data 5'!H578) -> 0.0504 | N125: =VALUE('Raw-Data 5'!K578) -> 0.0498 | O125: =VALUE('Raw-Data 5'!N578) -> 0.0085 | Q125: =VALUE('Raw-Data 5'!B588) -> 0.0065 | R125: =VALUE('Raw-Data 5'!E588) -> 0 | S125: =VALUE('Raw-Data 5'!H588) -> 0 | T125: =VALUE('Raw-Data 5'!K588) -> 0.0009 | U125: =VALUE('Raw-Data 5'!N588) -> 0.0056 | W125: =VALUE('Raw-Data 5'!B598) -> 0.85 | X125: =VALUE('Raw-Data 5'!E598) -> 0.8509 | Y125: =VALUE('Raw-Data 5'!H598) -> 0.7806 | Z125: =VALUE('Raw-Data 5'!K598) -> 0.673 | AA125: =VALUE('Raw-Data 5'!N598) -> 0.6203 | AC125: =VALUE('Raw-Data 5'!Q598) -> 0.7914
B126: Other | C126: =VALUE('Raw-Data 5'!B569) -> 0.0241 | D126: =VALUE('Raw-Data 5'!E569) -> 0.0385 | E126: =VALUE('Raw-Data 5'!H569) -> 0.0317 | F126: =VALUE('Raw-Data 5'!K569) -> 0.0094 | G126: =VALUE('Raw-Data 5'!N569) -> 0.025 | I126: =VALUE('Raw-Data 5'!Q569) -> 0.0256 | K126: =VALUE('Raw-Data 5'!B579) -> 0.1081 | L126: =VALUE('Raw-Data 5'!E579) -> 0.095 | M126: =VALUE('Raw-Data 5'!H579) -> 0.0484 | N126: =VALUE('Raw-Data 5'!K579) -> 0.0269 | O126: =VALUE('Raw-Data 5'!N579) -> 0.0564 | Q126: =VALUE('Raw-Data 5'!B589) -> 0.018 | R126: =VALUE('Raw-Data 5'!E589) -> 0.0328 | S126: =VALUE('Raw-Data 5'!H589) -> 0.0296 | T126: =VALUE('Raw-Data 5'!K589) -> 0.0066 | U126: =VALUE('Raw-Data 5'!N589) -> 0.0124 | W126: =VALUE('Raw-Data 5'!B599) -> 0.0485 | X126: =VALUE('Raw-Data 5'!E599) -> 0.0485 | Y126: =VALUE('Raw-Data 5'!H599) -> 0.07 | Z126: =VALUE('Raw-Data 5'!K599) -> 0.0839 | AA126: =VALUE('Raw-Data 5'!N599) -> 0.0649 | AC126: =VALUE('Raw-Data 5'!Q599) -> 0.0601
C131: National | F131: Urban | H131: Rural | K131: IDP | P131: National | S131: Urban | U131: Rural | X131: IDP
C132: Men | D132: Women | F132: Men | G132: Women | H132: Men | I132: Women | K132: Men | L132: Women | P132: Men | Q132: Women | S132: Men | T132: Women | U132: Men | V132: Women | X132: Men | Y132: Women
B133: Salaried labour | C133: =VALUE('Raw-Data 5'!B642) -> 0.1992 | D133: =VALUE('Raw-Data 5'!E642) -> 0.0543 | F133: =VALUE('Raw-Data 5'!E651) -> 0.4056 | G133: =VALUE('Raw-Data 5'!E676) -> 0.1864 | H133: =VALUE('Raw-Data 5'!B651) -> 0.1595 | I133: =VALUE('Raw-Data 5'!B676) -> 0.0325 | K133: =VALUE('Raw-Data 5'!B667) -> 0.3474 | L133: =VALUE('Raw-Data 5'!B692) -> 0.1364 | O133: Agriculture | P133: =VALUE('Raw-Data 5'!B701) -> 0.6242 | Q133: =VALUE('Raw-Data 5'!E701) -> 0.7475 | S133: =VALUE('Raw-Data 5'!E710) -> 0.2833 | T133: =VALUE('Raw-Data 5'!E735) -> 0.3917 | U133: =VALUE('Raw-Data 5'!B710) -> 0.6883 | V133: =VALUE('Raw-Data 5'!B735) -> 0.8068 | X133: =VALUE('Raw-Data 5'!B726) -> 0.0585 | Y133: =VALUE('Raw-Data 5'!B751) -> 0.0994
B134: Run a non-farm business | C134: =VALUE('Raw-Data 5'!B643) -> 0.1062 | D134: =VALUE('Raw-Data 5'!E643) -> 0.1555 | F134: =VALUE('Raw-Data 5'!E652) -> 0.2026 | G134: =VALUE('Raw-Data 5'!E677) -> 0.3182 | H134: =VALUE('Raw-Data 5'!B652) -> 0.0876 | I134: =VALUE('Raw-Data 5'!B677) -> 0.1286 | K134: =VALUE('Raw-Data 5'!B668) -> 0.2367 | L134: =VALUE('Raw-Data 5'!B693) -> 0.2637 | O134: Manufacturing | P134: =VALUE('Raw-Data 5'!B702) -> 0.0229 | Q134: =VALUE('Raw-Data 5'!E702) -> 0.0193 | S134: =VALUE('Raw-Data 5'!E711) -> 0.0579 | T134: =VALUE('Raw-Data 5'!E736) -> 0.0336 | U134: =VALUE('Raw-Data 5'!B711) -> 0.0163 | V134: =VALUE('Raw-Data 5'!B736) -> 0.0169 | X134: =VALUE('Raw-Data 5'!B727) -> 0.1507 | Y134: =VALUE('Raw-Data 5'!B752) -> 0.0263
B135: Help in non-farm business | C135: =VALUE('Raw-Data 5'!B644) -> 0.0356 | D135: =VALUE('Raw-Data 5'!E644) -> 0.0561 | F135: =VALUE('Raw-Data 5'!E653) -> 0.0291 | G135: =VALUE('Raw-Data 5'!E678) -> 0.0946 | H135: =VALUE('Raw-Data 5'!B653) -> 0.0368 | I135: =VALUE('Raw-Data 5'!B678) -> 0.0497 | K135: =VALUE('Raw-Data 5'!B669) -> 0.2973 | L135: =VALUE('Raw-Data 5'!B694) -> 0.511 | O135: Services | P135: =VALUE('Raw-Data 5'!B703) -> 0.2242 | Q135: =VALUE('Raw-Data 5'!E703) -> 0.2106 | S135: =VALUE('Raw-Data 5'!E712) -> 0.4606 | T135: =VALUE('Raw-Data 5'!E737) -> 0.5089 | U135: =VALUE('Raw-Data 5'!B712) -> 0.1797 | V135: =VALUE('Raw-Data 5'!B737) -> 0.1609 | X135: =VALUE('Raw-Data 5'!B728) -> 0.6299 | Y135: =VALUE('Raw-Data 5'!B753) -> 0.8241
B136: Apprenticeship/training | C136: =VALUE('Raw-Data 5'!B645) -> 0.0353 | D136: =VALUE('Raw-Data 5'!E645) -> 0.0092 | F136: =VALUE('Raw-Data 5'!E654) -> 0.1087 | G136: =VALUE('Raw-Data 5'!E679) -> 0.0496 | H136: =VALUE('Raw-Data 5'!B654) -> 0.0212 | I136: =VALUE('Raw-Data 5'!B679) -> 0.0025 | K136: =VALUE('Raw-Data 5'!B670) -> 0.0784 | L136: =VALUE('Raw-Data 5'!B695) -> 0.0521 | O136: Education | P136: =VALUE('Raw-Data 5'!B704) -> 0.0373 | Q136: =VALUE('Raw-Data 5'!E704) -> 0.0099 | S136: =VALUE('Raw-Data 5'!E713) -> 0.0341 | T136: =VALUE('Raw-Data 5'!E738) -> 0.0217 | U136: =VALUE('Raw-Data 5'!B713) -> 0.0378 | V136: =VALUE('Raw-Data 5'!B738) -> 0.0079 | X136: =VALUE('Raw-Data 5'!B729) -> 0.1345 | Y136: =VALUE('Raw-Data 5'!B754) -> 0.0451
B137: Agricultural production | C137: =VALUE('Raw-Data 5'!B646) -> 0.6237 | D137: =VALUE('Raw-Data 5'!E646) -> 0.725 | F137: =VALUE('Raw-Data 5'!E655) -> 0.2539 | G137: =VALUE('Raw-Data 5'!E680) -> 0.3511 | H137: =VALUE('Raw-Data 5'!B655) -> 0.6948 | I137: =VALUE('Raw-Data 5'!B680) -> 0.7866 | K137: =VALUE('Raw-Data 5'!B671) -> 0.0402 | L137: =VALUE('Raw-Data 5'!B696) -> 0.0368 | O137: Public sector / defence | P137: =VALUE('Raw-Data 5'!B705) -> 0.0915 | Q137: =VALUE('Raw-Data 5'!E705) -> 0.0127 | S137: =VALUE('Raw-Data 5'!E714) -> 0.164 | T137: =VALUE('Raw-Data 5'!E739) -> 0.044 | U137: =VALUE('Raw-Data 5'!B714) -> 0.0778 | V137: =VALUE('Raw-Data 5'!B739) -> 0.0075 | X137: =VALUE('Raw-Data 5'!B730) -> 0.0263 | Y137: =VALUE('Raw-Data 5'!B755) -> 0.0052
H142: Agriculture | I142: =I121 -> 0.8283
H143: Salaried labor | I143: =I122 -> 0.1012
H144: Own business | I144: =I123 -> 0.027
H145: Remittances/Aid/Other | I145: =SUM(I124:I126) -> 0.0435

Sheet Raw-Data 5
A1: dependency share W1-4
A2: Wave of data collection | B2: Rural | C2: Rural | D2: Rural | E2: Urban | F2: Urban | G2: Urban | H2: Total | I2: Total | J2: Total | K2: N
B3: Mean | C3: LB | D3: UB | E3: Mean | F3: LB | G3: UB | H3: Mean | I3: LB | J3: UB
A4: Wave1 | B4: 1.5815 | C4: 1.4917 | D4: 1.6714 | E4: 1.2774 | F4: 1.2027 | G4: 1.3521 | H4: 1.5417 | I4: 1.4641 | J4: 1.6193 | K4: 3,550
A5: Wave2 | E5: 1.3084 | F5: 1.1653 | G5: 1.4514 | H5: 1.3084 | I5: 1.1653 | J5: 1.4514 | K5: 1,016
A6: Wave3 | B6: 1.6177 | C6: 1.5035 | D6: 1.7319 | E6: 1.0717 | F6: 0.9666 | G6: 1.1767 | H6: 1.5457 | I6: 1.4429 | J6: 1.6485 | K6: 1,713
A7: Wave4 | E7: 0.6308 | F7: 0.5488 | G7: 0.7128 | H7: 0.6308 | I7: 0.5488 | J7: 0.7128 | K7: 800
A8: Total | B8: 1.5996 | C8: 1.5271 | D8: 1.6722 | E8: 1.0723 | F8: 1.0105 | G8: 1.1342 | H8: 1.4770 | I8: 1.4184 | J8: 1.5356 | K8: 7,079
A9: Wave of data collection | B9: Mean | C9: LB | D9: UB | E9: N
A10: Wave4 | B10: 1.1623 | C10: 1.0878 | D10: 1.2368 | E10: 2,396
A11: Total | B11: 1.1623 | C11: 1.0878 | D11: 1.2368 | E11: 2,396
A12: employed share W1-4
A13: Wave of data collection | B13: Rural | C13: Rural | D13: Rural | E13: Urban | F13: Urban | G13: Urban | H13: Total | I13: Total | J13: Total | K13: N
B14: Mean | C14: LB | D14: UB | E14: Mean | F14: LB | G14: UB | H14: Mean | I14: LB | J14: UB
A15: Wave1 | B15: 0.3709 | C15: 0.3448 | D15: 0.3969 | E15: 0.3265 | F15: 0.3078 | G15: 0.3452 | H15: 0.3650 | I15: 0.3427 | J15: 0.3872 | K15: 3,550
A16: Wave2 | E16: 0.3206 | F16: 0.2732 | G16: 0.3680 | H16: 0.3206 | I16: 0.2732 | J16: 0.3680 | K16: 1,016
A17: Wave3 | B17: 0.3539 | C17: 0.3237 | D17: 0.3841 | E17: 0.3506 | F17: 0.3008 | G17: 0.4003 | H17: 0.3534 | I17: 0.3266 | J17: 0.3802 | K17: 1,713
A18: Wave4 | E18: 0.6360 | F18: 0.6067 | G18: 0.6653 | H18: 0.6360 | I18: 0.6067 | J18: 0.6653 | K18: 800
A19: Total | B19: 0.3632 | C19: 0.3447 | D19: 0.3817 | E19: 0.4300 | F19: 0.4087 | G19: 0.4512 | H19: 0.3800 | I19: 0.3644 | J19: 0.3956 | K19: 7,079
A20: Wave of data collection | B20: Mean | C20: LB | D20: UB | E20: N
A21: Wave4 | B21: 0.3904 | C21: 0.3744 | D21: 0.4063 | E21: 2,396
A22: Total | B22: 0.3904 | C22: 0.3744 | D22: 0.4063 | E22: 2,396
A23: livelihood national W1-4
A24: RECODE of lhood (C.90 What is the household's main source of livelihood?) | B24: Wave1 | C24: Wave1 | D24: Wave1 | E24: Wave2 | F24: Wave2 | G24: Wave2 | H24: Wave3 | I24: Wave3 | J24: Wave3 | K24: Wave4 | L24: Wave4 | M24: Wave4 | N24: Total | O24: Total | P24: Total | Q24: N
B25: Prop. | C25: LB | D25: UB | E25: Prop. | F25: LB | G25: UB | H25: Prop. | I25: LB | J25: UB | K25: Prop. | L25: LB | M25: UB | N25: Prop. | O25: LB | P25: UB
A26: Agriculture | B26: 0.7690 | C26: 0.6969 | D26: 0.8282 | E26: 0.3708 | F26: 0.3160 | G26: 0.4292 | H26: 0.8264 | I26: 0.7845 | J26: 0.8616 | K26: 0.3578 | L26: 0.2864 | M26: 0.4362 | N26: 0.7484 | O26: 0.7100 | P26: 0.7832 | Q26: 4,292
A27: Wages and salaries | B27: 0.0963 | C27: 0.0691 | D27: 0.1326 | E27: 0.3472 | F27: 0.2942 | G27: 0.4044 | H27: 0.0882 | I27: 0.0665 | J27: 0.1162 | K27: 0.2969 | L27: 0.2551 | M27: 0.3424 | N27: 0.1184 | O27: 0.1012 | P27: 0.1381 | Q27: 1,482
A28: Own business | B28: 0.0569 | C28: 0.0349 | D28: 0.0914 | E28: 0.1612 | F28: 0.1201 | G28: 0.2129 | H28: 0.0257 | I28: 0.0169 | J28: 0.0390 | K28: 0.2219 | L28: 0.1681 | M28: 0.2870 | N28: 0.0584 | O28: 0.0449 | P28: 0.0756 | Q28: 589
A29: Remittances | B29: 0.0167 | C29: 0.0108 | D29: 0.0258 | E29: 0.0373 | F29: 0.0233 | G29: 0.0591 | H29: 0.0159 | I29: 0.0101 | J29: 0.0249 | K29: 0.0376 | L29: 0.0231 | M29: 0.0608 | N29: 0.0187 | O29: 0.0145 | P29: 0.0241 | Q29: 208
A30: Aid | B30: 0.0109 | C30: 0.0056 | D30: 0.0211 | E30: 0.0239 | F30: 0.0131 | G30: 0.0433 | H30: 0.0096 | I30: 0.0058 | J30: 0.0159 | K30: 0.0258 | L30: 0.0130 | M30: 0.0504 | N30: 0.0119 | O30: 0.0083 | P30: 0.0171 | Q30: 97
A31: Other | B31: 0.0501 | C31: 0.0388 | D31: 0.0645 | E31: 0.0595 | F31: 0.0437 | G31: 0.0805 | H31: 0.0342 | I31: 0.0242 | J31: 0.0482 | K31: 0.0599 | L31: 0.0264 | M31: 0.1303 | N31: 0.0442 | O31: 0.0367 | P31: 0.0531 | Q31: 391
A32: Total | B32: 1.0000 | E32: 1.0000 | H32: 1.0000 | K32: 1.0000 | N32: 1.0000 | Q32: 7,059
A33: livelihood urban W1-4
A34: RECODE of lhood (C.90 What is the household's main source of livelihood?) | B34: Wave1 | C34: Wave1 | D34: Wave1 | E34: Wave2 | F34: Wave2 | G34: Wave2 | H34: Wave3 | I34: Wave3 | J34: Wave3 | K34: Wave4 | L34: Wave4 | M34: Wave4 | N34: Total | O34: Total | P34: Total | Q34: N
B35: Prop. | C35: LB | D35: UB | E35: Prop. | F35: LB | G35: UB | H35: Prop. | I35: LB | J35: UB | K35: Prop. | L35: LB | M35: UB | N35: Prop. | O35: LB | P35: UB
A36: Agriculture | B36: 0.3498 | C36: 0.2898 | D36: 0.4151 | E36: 0.3708 | F36: 0.3158 | G36: 0.4295 | H36: 0.3084 | I36: 0.2174 | J36: 0.4172 | K36: 0.3578 | L36: 0.2861 | M36: 0.4366 | N36: 0.3467 | O36: 0.3105 | P36: 0.3848 | Q36: 1,307
A37: Wages and salaries | B37: 0.3535 | C37: 0.3134 | D37: 0.3957 | E37: 0.3472 | F37: 0.2940 | G37: 0.4046 | H37: 0.4107 | I37: 0.3323 | J37: 0.4939 | K37: 0.2969 | L37: 0.2549 | M37: 0.3426 | N37: 0.3521 | O37: 0.3214 | P37: 0.3841 | Q37: 1,315
A38: Own business | B38: 0.1479 | C38: 0.1184 | D38: 0.1832 | E38: 0.1612 | F38: 0.1200 | G38: 0.2132 | H38: 0.1137 | I38: 0.0769 | J38: 0.1650 | K38: 0.2219 | L38: 0.1679 | M38: 0.2873 | N38: 0.1612 | O38: 0.1371 | P38: 0.1887 | Q38: 524
A39: Remittances | B39: 0.0608 | C39: 0.0438 | D39: 0.0837 | E39: 0.0373 | F39: 0.0233 | G39: 0.0592 | H39: 0.0581 | I39: 0.0346 | J39: 0.0961 | K39: 0.0376 | L39: 0.0230 | M39: 0.0610 | N39: 0.0484 | O39: 0.0383 | P39: 0.0611 | Q39: 178
A40: Aid | B40: 0.0268 | C40: 0.0173 | D40: 0.0412 | E40: 0.0239 | F40: 0.0130 | G40: 0.0435 | H40: 0.0397 | I40: 0.0231 | J40: 0.0673 | K40: 0.0258 | L40: 0.0130 | M40: 0.0505 | N40: 0.0290 | O40: 0.0210 | P40: 0.0400 | Q40: 80
A41: Other | B41: 0.0612 | C41: 0.0461 | D41: 0.0809 | E41: 0.0595 | F41: 0.0437 | G41: 0.0807 | H41: 0.0694 | I41: 0.0461 | J41: 0.1032 | K41: 0.0599 | L41: 0.0263 | M41: 0.1308 | N41: 0.0625 | O41: 0.0489 | P41: 0.0797 | Q41: 239
A42: Total | B42: 1.0000 | E42: 1.0000 | H42: 1.0000 | K42: 1.0000 | N42: 1.0000 | Q42: 3,643
A43: livelihood rural W1-4
A44: RECODE of lhood (C.90 What is the household's main source of livelihood?) | B44: Wave1 | C44: Wave1 | D44: Wave1 | E44: Wave3 | F44: Wave3 | G44: Wave3 | H44: Total | I44: Total | J44: Total | K44: N
B45: Prop. | C45: LB | D45: UB | E45: Prop. | F45: LB | G45: UB | H45: Prop. | I45: LB | J45: UB
A46: Agriculture | B46: 0.8305 | C46: 0.7371 | D46: 0.8955 | E46: 0.9028 | F46: 0.8708 | G46: 0.9275 | H46: 0.8667 | I46: 0.8168 | J46: 0.9045 | K46: 2,985
A47: Wages and salaries | B47: 0.0586 | C47: 0.0306 | D47: 0.1094 | E47: 0.0406 | F47: 0.0274 | G47: 0.0597 | H47: 0.0496 | I47: 0.0325 | J47: 0.0750 | K47: 167
A48: Own business | B48: 0.0435 | C48: 0.0207 | D48: 0.0895 | E48: 0.0127 | F48: 0.0062 | G48: 0.0258 | H48: 0.0281 | I48: 0.0151 | J48: 0.0518 | K48: 65
A49: Remittances | B49: 0.0103 | C49: 0.0047 | D49: 0.0224 | E49: 0.0097 | F49: 0.0049 | G49: 0.0191 | H49: 0.0100 | I49: 0.0059 | J49: 0.0167 | K49: 30
A50: Aid | B50: 0.0086 | C50: 0.0033 | D50: 0.0224 | E50: 0.0052 | F50: 0.0023 | G50: 0.0117 | H50: 0.0069 | I50: 0.0035 | J50: 0.0136 | K50: 17
A51: Other | B51: 0.0485 | C51: 0.0360 | D51: 0.0651 | E51: 0.0290 | F51: 0.0185 | G51: 0.0452 | H51: 0.0388 | I51: 0.0302 | J51: 0.0496 | K51: 152
A52: Total | B52: 1.0000 | E52: 1.0000 | H52: 1.0000 | K52: 3,416
A53: RECODE of lhood (C.90 What is the household's main source of livelihood?) | B53: Prop. | C53: LB | D53: UB | E53: N
A54: Agriculture | B54: 0.0344 | C54: 0.0256 | D54: 0.0460 | E54: 74
A55: Wages and salaries | B55: 0.0469 | C55: 0.0392 | D55: 0.0561 | E55: 159
A56: Own business | B56: 0.0741 | C56: 0.0629 | D56: 0.0871 | E56: 195
A57: Remittances | B57: 0.0234 | C57: 0.0140 | D57: 0.0388 | E57: 35
A58: Aid | B58: 0.7569 | C58: 0.7331 | D58: 0.7793 | E58: 1,763
A59: Other | B59: 0.0643 | C59: 0.0541 | D59: 0.0762 | E59: 162
A60: Total | B60: 1.0000 | E60: 2,388
A61: labor force participation W1-4
A62: Wave of data collection | B62: Rural | C62: Rural | D62: Rural | E62: Urban | F62: Urban | G62: Urban | H62: Total | I62: Total | J62: Total | K62: N
B63: Mean | C63: LB | D63: UB | E63: Mean | F63: LB | G63: UB | H63: Mean | I63: LB | J63: UB
A64: Wave1 | B64: 0.6739 | C64: 0.6422 | D64: 0.7055 | E64: 0.5164 | F64: 0.4829 | G64: 0.5499 | H64: 0.6476 | I64: 0.6207 | J64: 0.6744 | K64: 23,004
A65: Wave2 | E65: 0.4218 | F65: 0.3854 | G65: 0.4582 | H65: 0.4218 | I65: 0.3854 | J65: 0.4582 | K65: 7,340
A66: Wave3 | B66: 0.6233 | C66: 0.5693 | D66: 0.6773 | E66: 0.4575 | F66: 0.3879 | G66: 0.5271 | H66: 0.5886 | I66: 0.5421 | J66: 0.6351 | K66: 10,770
A67: Wave4 | E67: 0.7541 | F67: 0.7131 | G67: 0.7951 | H67: 0.7541 | I67: 0.7131 | J67: 0.7951 | K67: 3,859
A68: Total | B68: 0.6507 | C68: 0.6251 | D68: 0.6763 | E68: 0.5378 | F68: 0.5089 | G68: 0.5667 | H68: 0.6165 | I68: 0.5967 | J68: 0.6363 | K68: 44,973
A69: Wave of data collection | B69: Mean | C69: LB | D69: UB | E69: N
A70: Wave4 | B70: 0.4659 | C70: 0.4461 | D70: 0.4856 | E70: 12,571
A71: Total | B71: 0.4659 | C71: 0.4461 | D71: 0.4856 | E71: 12,571
A72: labor force participation 12 months W1-4
A73: Wave of data collection | B73: Rural | C73: Rural | D73: Rural | E73: Urban | F73: Urban | G73: Urban | H73: Total | I73: Total | J73: Total | K73: N
B74: Mean | C74: LB | D74: UB | E74: Mean | F74: LB | G74: UB | H74: Mean | I74: LB | J74: UB
A75: Wave1 | B75: 0.8944 | C75: 0.8480 | D75: 0.9408 | E75: 0.7536 | F75: 0.7277 | G75: 0.7795 | H75: 0.8724 | I75: 0.8346 | J75: 0.9102 | K75: 23,004
A76: Wave2 | E76: 0.7492 | F76: 0.7206 | G76: 0.7778 | H76: 0.7492 | I76: 0.7206 | J76: 0.7778 | K76: 7,340
A77: Wave3 | B77: 0.9029 | C77: 0.8791 | D77: 0.9267 | E77: 0.6810 | F77: 0.6219 | G77: 0.7400 | H77: 0.8663 | I77: 0.8413 | J77: 0.8913 | K77: 10,770
A78: Wave4 | E78: 0.7643 | F78: 0.7226 | G78: 0.8060 | H78: 0.7643 | I78: 0.7226 | J78: 0.8060 | K78: 3,859
A79: Total | B79: 0.8987 | C79: 0.8727 | D79: 0.9247 | E79: 0.7355 | F79: 0.7122 | G79: 0.7588 | H79: 0.8544 | I79: 0.8352 | J79: 0.8737 | K79: 44,973
A80: Wave of data collection | B80: Mean | C80: LB | D80: UB | E80: N
A81: Wave4 | B81: 0.4697 | C81: 0.4500 | D81: 0.4894 | E81: 12,571
A82: Total | B82: 0.4697 | C82: 0.4500 | D82: 0.4894 | E82: 12,571
A83: unemployment rate W1-4
A84: Wave of data collection | B84: Rural | C84: Rural | D84: Rural | E84: Urban | F84: Urban | G84: Urban | H84: Total | I84: Total | J84: Total | K84: N
B85: Mean | C85: LB | D85: UB | E85: Mean | F85: LB | G85: UB | H85: Mean | I85: LB | J85: UB
A86: Wave1 | B86: 0.0405 | C86: -0.0048 | D86: 0.0859 | E86: 0.0968 | F86: 0.0732 | G86: 0.1205 | H86: 0.0480 | I86: 0.0091 | J86: 0.0869 | K86: 23,004
A87: Wave2 | E87: 0.0860 | F87: 0.0475 | G87: 0.1245 | H87: 0.0860 | I87: 0.0475 | J87: 0.1245 | K87: 7,340
A88: Wave3 | B88: 0.0403 | C88: 0.0252 | D88: 0.0555 | E88: 0.1184 | F88: 0.0839 | G88: 0.1528 | H88: 0.0530 | I88: 0.0387 | J88: 0.0673 | K88: 10,770
A89: Wave4 | E89: 0.0210 | F89: 0.0127 | G89: 0.0294 | H89: 0.0210 | I89: 0.0127 | J89: 0.0294 | K89: 3,859
A90: Total | B90: 0.0404 | C90: 0.0141 | D90: 0.0667 | E90: 0.0737 | F90: 0.0614 | G90: 0.0860 | H90: 0.0492 | I90: 0.0298 | J90: 0.0686 | K90: 44,973
A91: Wave of data collection | B91: Mean | C91: LB | D91: UB | E91: N
A92: Wave4 | B92: 0.0982 | C92: 0.0833 | D92: 0.1131 | E92: 12,571
A93: Total | B93: 0.0982 | C93: 0.0833 | D93: 0.1131 | E93: 12,571
A94: unemployment rate 12 months W1-4
A95: Wave of data collection | B95: Rural | C95: Rural | D95: Rural | E95: Urban | F95: Urban | G95: Urban | H95: Total | I95: Total | J95: Total | K95: N
B96: Mean | C96: LB | D96: UB | E96: Mean | F96: LB | G96: UB | H96: Mean | I96: LB | J96: UB
A97: Wave1 | B97: 0.0405 | C97: -0.0048 | D97: 0.0859 | E97: 0.0968 | F97: 0.0732 | G97: 0.1205 | H97: 0.0480 | I97: 0.0091 | J97: 0.0869 | K97: 23,004
A98: Wave2 | E98: 0.0860 | F98: 0.0475 | G98: 0.1245 | H98: 0.0860 | I98: 0.0475 | J98: 0.1245 | K98: 7,340
A99: Wave3 | B99: 0.0403 | C99: 0.0252 | D99: 0.0555 | E99: 0.1184 | F99: 0.0839 | G99: 0.1528 | H99: 0.0530 | I99: 0.0387 | J99: 0.0673 | K99: 10,770
A100: Wave4 | E100: 0.0168 | F100: 0.0100 | G100: 0.0236 | H100: 0.0168 | I100: 0.0100 | J100: 0.0236 | K100: 3,859
...

Sheet Perceptions
E5: Poorest Quintile | F5: Q2 | G5: Q3 | H5: Q4 | I5: Richest Quintile | M5: National | O5: Poorest Q. | P5: Q2 | Q5: Q3 | R5: Q4 | S5: Richest Q.
B6: Strongly disagree | C6: =VALUE('Raw-Data 19'!B4) -> 0.372 | E6: =VALUE('Raw-Data 19'!B15) -> 0.4313 | F6: =VALUE('Raw-Data 19'!E15) -> 0.4298 | G6: =VALUE('Raw-Data 19'!H15) -> 0.347 | H6: =VALUE('Raw-Data 19'!K15) -> 0.3449 | I6: =VALUE('Raw-Data 19'!N15) -> 0.3312 | L6: Strongly disagree | M6: =VALUE('Raw-Data 19'!F4) -> 0.3723 | O6: =VALUE('Raw-Data 19'!B26) -> 0.5471 | P6: =VALUE('Raw-Data 19'!E26) -> 0.426 | Q6: =VALUE('Raw-Data 19'!H26) -> 0.4083 | R6: =VALUE('Raw-Data 19'!K26) -> 0.3407 | S6: =VALUE('Raw-Data 19'!N26) -> 0.2284
B7: Disagree | C7: =VALUE('Raw-Data 19'!B5) -> 0.3156 | E7: =VALUE('Raw-Data 19'!B16) -> 0.3073 | F7: =VALUE('Raw-Data 19'!E16) -> 0.3226 | G7: =VALUE('Raw-Data 19'!H16) -> 0.3825 | H7: =VALUE('Raw-Data 19'!K16) -> 0.3122 | I7: =VALUE('Raw-Data 19'!N16) -> 0.2726 | L7: Disagree | M7: =VALUE('Raw-Data 19'!F5) -> 0.4636 | O7: =VALUE('Raw-Data 19'!B27) -> 0.3711 | P7: =VALUE('Raw-Data 19'!E27) -> 0.4532 | Q7: =VALUE('Raw-Data 19'!H27) -> 0.4187 | R7: =VALUE('Raw-Data 19'!K27) -> 0.5196 | S7: =VALUE('Raw-Data 19'!N27) -> 0.5146
B8: Slightly disagree | C8: =VALUE('Raw-Data 19'!B6) -> 0.0523 | E8: =VALUE('Raw-Data 19'!B17) -> 0.0397 | F8: =VALUE('Raw-Data 19'!E17) -> 0.0695 | G8: =VALUE('Raw-Data 19'!H17) -> 0.0285 | H8: =VALUE('Raw-Data 19'!K17) -> 0.0484 | I8: =VALUE('Raw-Data 19'!N17) -> 0.0689 | L8: Slightly disagree | M8: =VALUE('Raw-Data 19'!F6) -> 0.046 | O8: =VALUE('Raw-Data 19'!B28) -> 0.0113 | P8: =VALUE('Raw-Data 19'!E28) -> 0.0541 | Q8: =VALUE('Raw-Data 19'!H28) -> 0.0464 | R8: =VALUE('Raw-Data 19'!K28) -> 0.0391 | S8: =VALUE('Raw-Data 19'!N28) -> 0.0672
B9: Neither agree nor disagree | C9: =VALUE('Raw-Data 19'!B7) -> 0.0981 | E9: =VALUE('Raw-Data 19'!B18) -> 0.1482 | F9: =VALUE('Raw-Data 19'!E18) -> 0.0454 | G9: =VALUE('Raw-Data 19'!H18) -> 0.0857 | H9: =VALUE('Raw-Data 19'!K18) -> 0.0866 | I9: =VALUE('Raw-Data 19'!N18) -> 0.1133 | L9: Neither agree nor disagree | M9: =VALUE('Raw-Data 19'!F7) -> 0.0412 | O9: =VALUE('Raw-Data 19'!B29) -> 0.0413 | P9: =VALUE('Raw-Data 19'!E29) -> 0.0358 | Q9: =VALUE('Raw-Data 19'!H29) -> 0.0429 | R9: =VALUE('Raw-Data 19'!K29) -> 0.0308 | S9: =VALUE('Raw-Data 19'!N29) -> 0.0522
B10: Slightly agree | C10: =VALUE('Raw-Data 19'!B8) -> 0.062 | E10: =VALUE('Raw-Data 19'!B19) -> 0.0203 | F10: =VALUE('Raw-Data 19'!E19) -> 0.0433 | G10: =VALUE('Raw-Data 19'!H19) -> 0.0566 | H10: =VALUE('Raw-Data 19'!K19) -> 0.0602 | I10: =VALUE('Raw-Data 19'!N19) -> 0.1106 | L10: Slightly agree | M10: =VALUE('Raw-Data 19'!F8) -> 0.042 | O10: =VALUE('Raw-Data 19'!B30) -> 0.0102 | P10: =VALUE('Raw-Data 19'!E30) -> 0.0093 | Q10: =VALUE('Raw-Data 19'!H30) -> 0.0429 | R10: =VALUE('Raw-Data 19'!K30) -> 0.0464 | S10: =VALUE('Raw-Data 19'!N30) -> 0.0791
B11: Agree | C11: =VALUE('Raw-Data 19'!B9) -> 0.0765 | E11: =VALUE('Raw-Data 19'!B20) -> 0.0371 | F11: =VALUE('Raw-Data 19'!E20) -> 0.0718 | G11: =VALUE('Raw-Data 19'!H20) -> 0.0647 | H11: =VALUE('Raw-Data 19'!K20) -> 0.1132 | I11: =VALUE('Raw-Data 19'!N20) -> 0.0873 | L11: Agree | M11: =VALUE('Raw-Data 19'!F9) -> 0.031 | O11: =VALUE('Raw-Data 19'!B31) -> 0.0119 | P11: =VALUE('Raw-Data 19'!E31) -> 0.0216 | Q11: =VALUE('Raw-Data 19'!H31) -> 0.0343 | R11: =VALUE('Raw-Data 19'!K31) -> 0.0235 | S11: =VALUE('Raw-Data 19'!N31) -> 0.0526
B12: Strongly agree | C12: =VALUE('Raw-Data 19'!B10) -> 0.0235 | E12: =VALUE('Raw-Data 19'!B21) -> 0.0161 | F12: =VALUE('Raw-Data 19'!E21) -> 0.0177 | G12: =VALUE('Raw-Data 19'!H21) -> 0.035 | H12: =VALUE('Raw-Data 19'!K21) -> 0.0345 | I12: =VALUE('Raw-Data 19'!N21) -> 0.0162 | L12: Strongly agree | M12: =VALUE('Raw-Data 19'!F10) -> 0.0039 | O12: =VALUE('Raw-Data 19'!B32) -> 0.007 | P12: =VALUE('Raw-Data 19'!E32) -> 0 | Q12: =VALUE('Raw-Data 19'!H32) -> 0.0065 | R12: =VALUE('Raw-Data 19'!K32) -> 0 | S12: =VALUE('Raw-Data 19'!N32) -> 0.006
H16: 2016
I17: Richest Q. | J17: Q4 | K17: Q3 | L17: Q2 | M17: Poorest Q. | T17: 2015 | AE17: SAFETY
H18: Strongly agree | I18: =S6 -> 0.2284 | J18: =R6 -> 0.3407 | K18: =Q6 -> 0.4083 | L18: =P6 -> 0.426 | M18: =O6 -> 0.5471 | U18: National | W18: Richest Q. | X18: Q4 | Y18: Q3 | Z18: Q2 | AA18: Poorest Q. | AE18: In general, when alone at home | AI18: Walking around during the day | AM18: Walking around after dark
H19: Agree | I19: =S7 -> 0.5146 | J19: =R7 -> 0.5196 | K19: =Q7 -> 0.4187 | L19: =P7 -> 0.4532 | M19: =O7 -> 0.3711 | T19: Strongly disagree | U19: =M6 -> 0.3723 | W19: =S6 -> 0.2284 | X19: =R6 -> 0.3407 | Y19: =Q6 -> 0.4083 | Z19: =P6 -> 0.426 | AA19: =O6 -> 0.5471 | AF19: Urban | AG19: Rural | AJ19: Urban | AK19: Rural | AN19: Urban | AO19: Rural
H20: Slightly agree | I20: =S8 -> 0.0672 | J20: =R8 -> 0.0391 | K20: =Q8 -> 0.0464 | L20: =P8 -> 0.0541 | M20: =O8 -> 0.0113 | T20: Disagree | U20: =M7 -> 0.4636 | W20: =S7 -> 0.5146 | X20: =R7 -> 0.5196 | Y20: =Q7 -> 0.4187 | Z20: =P7 -> 0.4532 | AA20: =O7 -> 0.3711 | AD20: Very safe | AE20: =VALUE('Raw-Data 19'!H166) -> 0.4533 | AF20: =VALUE('Raw-Data 19'!B166) -> 0.4652 | AG20: =VALUE('Raw-Data 19'!E166) -> 0.3728 | AI20: =VALUE('Raw-Data 19'!H184) -> 0.5647 | AJ20: =VALUE('Raw-Data 19'!B184) -> 0.5758 | AK20: =VALUE('Raw-Data 19'!E184) -> 0.4903 | AM20: =VALUE('Raw-Data 19'!H175) -> 0.2377 | AN20: =VALUE('Raw-Data 19'!B175) -> 0.2627 | AO20: =VALUE('Raw-Data 19'!E175) -> 0.0716
H21: Neither agree nor disagree | I21: =S9 -> 0.0522 | J21: =R9 -> 0.0308 | K21: =Q9 -> 0.0429 | L21: =P9 -> 0.0358 | M21: =O9 -> 0.0413 | T21: Slightly disagree | U21: =M8 -> 0.046 | W21: =S8 -> 0.0672 | X21: =R8 -> 0.0391 | Y21: =Q8 -> 0.0464 | Z21: =P8 -> 0.0541 | AA21: =O8 -> 0.0113 | AD21: Moderately safe | AE21: =VALUE('Raw-Data 19'!H167) -> 0.3063 | AF21: =VALUE('Raw-Data 19'!B167) -> 0.3104 | AG21: =VALUE('Raw-Data 19'!E167) -> 0.2789 | AI21: =VALUE('Raw-Data 19'!H185) -> 0.2577 | AJ21: =VALUE('Raw-Data 19'!B185) -> 0.2562 | AK21: =VALUE('Raw-Data 19'!E185) -> 0.2675 | AM21: =VALUE('Raw-Data 19'!H176) -> 0.2039 | AN21: =VALUE('Raw-Data 19'!B176) -> 0.222 | AO21: =VALUE('Raw-Data 19'!E176) -> 0.0833
H22: Slightly disagree | I22: =S10 -> 0.0791 | J22: =R10 -> 0.0464 | K22: =Q10 -> 0.0429 | L22: =P10 -> 0.0093 | M22: =O10 -> 0.0102 | T22: Neither agree nor disagree | U22: =M9 -> 0.0412 | W22: =S9 -> 0.0522 | X22: =R9 -> 0.0308 | Y22: =Q9 -> 0.0429 | Z22: =P9 -> 0.0358 | AA22: =O9 -> 0.0413 | AD22: Neither safe nor unsafe | AE22: =VALUE('Raw-Data 19'!H168) -> 0.081 | AF22: =VALUE('Raw-Data 19'!B168) -> 0.0753 | AG22: =VALUE('Raw-Data 19'!E168) -> 0.1192 | AI22: =VALUE('Raw-Data 19'!H186) -> 0.0614 | AJ22: =VALUE('Raw-Data 19'!B186) -> 0.0564 | AK22: =VALUE('Raw-Data 19'!E186) -> 0.0947 | AM22: =VALUE('Raw-Data 19'!H177) -> 0.0725 | AN22: =VALUE('Raw-Data 19'!B177) -> 0.0698 | AO22: =VALUE('Raw-Data 19'!E177) -> 0.0905
H23: Disagree | I23: =S11 -> 0.0526 | J23: =R11 -> 0.0235 | K23: =Q11 -> 0.0343 | L23: =P11 -> 0.0216 | M23: =O11 -> 0.0119 | T23: Slightly agree | U23: =M10 -> 0.042 | W23: =S10 -> 0.0791 | X23: =R10 -> 0.0464 | Y23: =Q10 -> 0.0429 | Z23: =P10 -> 0.0093 | AA23: =O10 -> 0.0102 | AD23: Moderately unsafe | AE23: =VALUE('Raw-Data 19'!H169) -> 0.0944 | AF23: =VALUE('Raw-Data 19'!B169) -> 0.0936 | AG23: =VALUE('Raw-Data 19'!E169) -> 0.1002 | AI23: =VALUE('Raw-Data 19'!H187) -> 0.077 | AJ23: =VALUE('Raw-Data 19'!B187) -> 0.0804 | AK23: =VALUE('Raw-Data 19'!E187) -> 0.0543 | AM23: =VALUE('Raw-Data 19'!H178) -> 0.1318 | AN23: =VALUE('Raw-Data 19'!B178) -> 0.1283 | AO23: =VALUE('Raw-Data 19'!E178) -> 0.1553
H24: Strongly disagree | I24: =S12 -> 0.006 | J24: =R12 -> 0 | K24: =Q12 -> 0.0065 | L24: =P12 -> 0 | M24: =O12 -> 0.007 | T24: Agree | U24: =M11 -> 0.031 | W24: =S11 -> 0.0526 | X24: =R11 -> 0.0235 | Y24: =Q11 -> 0.0343 | Z24: =P11 -> 0.0216 | AA24: =O11 -> 0.0119 | AD24: Very unsafe | AE24: =VALUE('Raw-Data 19'!H170) -> 0.0651 | AF24: =VALUE('Raw-Data 19'!B170) -> 0.0556 | AG24: =VALUE('Raw-Data 19'!E170) -> 0.1289 | AI24: =VALUE('Raw-Data 19'!H188) -> 0.0392 | AJ24: =VALUE('Raw-Data 19'!B188) -> 0.0312 | AK24: =VALUE('Raw-Data 19'!E188) -> 0.0931 | AM24: =VALUE('Raw-Data 19'!H179) -> 0.3541 | AN24: =VALUE('Raw-Data 19'!B179) -> 0.3172 | AO24: =VALUE('Raw-Data 19'!E179) -> 0.5993
T25: Strongly agree | U25: =M12 -> 0.0039 | W25: =S12 -> 0.006 | X25: =R12 -> 0 | Y25: =Q12 -> 0.0065 | Z25: =P12 -> 0 | AA25: =O12 -> 0.007
AD26: unsafe | AE26: =SUM(AE23:AE24) -> 0.1595 | AF26: =SUM(AF23:AF24) -> 0.1492 | AG26: =SUM(AG23:AG24) -> 0.2291 | AH26: =SUM(AH23:AH24) -> 0 | AI26: =SUM(AI23:AI24) -> 0.1162 | AJ26: =SUM(AJ23:AJ24) -> 0.1116 | AK26: =SUM(AK23:AK24) -> 0.1474 | AL26: =SUM(AL23:AL24) -> 0 | ... AO26: =SUM(AO23:AO24) -> 0.7546
AE29: Avoid certain roads | AI29: Neighbourhood is peaceful | AM29: Repeated violence in neighbourhood | AQ29: Neighbourhood violence increased (6 months)
AE30: National | AF30: Urban | AG30: Rural | AI30: National | AJ30: Urban | AK30: Rural | AM30: National | AN30: Urban | AO30: Rural | AQ30: National | AR30: Urban | AS30: Rural
AD31: Strongly disagree | AE31: =VALUE('Raw-Data 19'!H193) -> 0.0746 | AF31: =VALUE('Raw-Data 19'!B193) -> 0.0774 | AG31: =VALUE('Raw-Data 19'!E193) -> 0.0554 | AI31: =VALUE('Raw-Data 19'!H201) -> 0.0362 | AJ31: =VALUE('Raw-Data 19'!B201) -> 0.0308 | AK31: =VALUE('Raw-Data 19'!E201) -> 0.0718 | AM31: =VALUE('Raw-Data 19'!H209) -> 0.1827 | AN31: =VALUE('Raw-Data 19'!B209) -> 0.1873 | AO31: =VALUE('Raw-Data 19'!E209) -> 0.1522 | AQ31: =VALUE('Raw-Data 19'!H217) -> 0.2837 | AR31: =VALUE('Raw-Data 19'!B217) -> 0.2915 | AS31: =VALUE('Raw-Data 19'!E217) -> 0.2334
T32: Economic conditions | Y32: Personal living conditions | AD32: Disagree | AE32: =VALUE('Raw-Data 19'!H194) -> 0.1722 | AF32: =VALUE('Raw-Data 19'!B194) -> 0.1756 | AG32: =VALUE('Raw-Data 19'!E194) -> 0.1493 | AI32: =VALUE('Raw-Data 19'!H202) -> 0.0993 | AJ32: =VALUE('Raw-Data 19'!B202) -> 0.0949 | AK32: =VALUE('Raw-Data 19'!E202) -> 0.1279 | AM32: =VALUE('Raw-Data 19'!H210) -> 0.5908 | AN32: =VALUE('Raw-Data 19'!B210) -> 0.5965 | AO32: =VALUE('Raw-Data 19'!E210) -> 0.553 | AQ32: =VALUE('Raw-Data 19'!H218) -> 0.5151 | AR32: =VALUE('Raw-Data 19'!B218) -> 0.5217 | AS32: =VALUE('Raw-Data 19'!E218) -> 0.4725
C33: Future living conditions | E33: Present living conditions | T33: Present | V33: Future | Y33: Present | AA33: Future | AD33: Agree | AE33: =VALUE('Raw-Data 19'!H195) -> 0.5521 | AF33: =VALUE('Raw-Data 19'!B195) -> 0.554 | AG33: =VALUE('Raw-Data 19'!E195) -> 0.539 | AI33: =VALUE('Raw-Data 19'!H203) -> 0.7279 | AJ33: =VALUE('Raw-Data 19'!B203) -> 0.733 | AK33: =VALUE('Raw-Data 19'!E203) -> 0.6946 | AM33: =VALUE('Raw-Data 19'!H211) -> 0.2038 | AN33: =VALUE('Raw-Data 19'!B211) -> 0.1998 | AO33: =VALUE('Raw-Data 19'!E211) -> 0.2303 | AQ33: =VALUE('Raw-Data 19'!H219) -> 0.1672 | AR33: =VALUE('Raw-Data 19'!B219) -> 0.1593 | AS33: =VALUE('Raw-Data 19'!E219) -> 0.2184
C34: 2016 | D34: 2015 | E34: 2016 | F34: 2015 | T34: 2015 | U34: 2016 | V34: 2015 | W34: 2016 | Y34: 2015 | Z34: 2016 | AA34: 2015 | AB34: 2016 | AD34: Strongly agree | AE34: =VALUE('Raw-Data 19'!H196) -> 0.2011 | AF34: =VALUE('Raw-Data 19'!B196) -> 0.1929 | AG34: =VALUE('Raw-Data 19'!E196) -> 0.2563 | AI34: =VALUE('Raw-Data 19'!H204) -> 0.1365 | AJ34: =VALUE('Raw-Data 19'!B204) -> 0.1413 | AK34: =VALUE('Raw-Data 19'!E204) -> 0.1057 | AM34: =VALUE('Raw-Data 19'!H212) -> 0.0227 | AN34: =VALUE('Raw-Data 19'!B212) -> 0.0164 | AO34: =VALUE('Raw-Data 19'!E212) -> 0.0645 | AQ34: =VALUE('Raw-Data 19'!H220) -> 0.034 | AR34: =VALUE('Raw-Data 19'!B220) -> 0.0275 | AS34: =VALUE('Raw-Data 19'!E220) -> 0.0758
B35: Very good/Much better | C35: =VALUE('Raw-Data 19'!F50) -> 0.0321 | D35: =VALUE('Raw-Data 19'!B50) -> 0.2044 | E35: =VALUE('Raw-Data 19'!F37) -> 0.0086 | F35: =VALUE('Raw-Data 19'!B37) -> 0.0494 | S35: Very bad/Much Worse | T35: =D48 -> 0.2705 | U35: =C48 -> 0.4766 | V35: =F48 -> 0.5651 | W35: =E48 -> 0.8712 | Y35: =D39 -> 0.1934 | Z35: =C39 -> 0.3165 | AA35: =F39 -> 0.4391 | AB35: =E39 -> 0.5877
B36: Fairly good/Better | C36: =VALUE('Raw-Data 19'!F49) -> 0.1204 | D36: =VALUE('Raw-Data 19'!B49) -> 0.2506 | E36: =VALUE('Raw-Data 19'!F38) -> 0.1741 | F36: =VALUE('Raw-Data 19'!B38) -> 0.2504 | S36: Fairly bad/Worse | T36: =D49 -> 0.1577 | U36: =C49 -> 0.2889 | V36: =F49 -> 0.1462 | W36: =E49 -> 0.0647 | Y36: =D38 -> 0.1591 | Z36: =C38 -> 0.3266 | AA36: =F38 -> 0.1648 | AB36: =E38 -> 0.1479
