Workbook
Name Flecha_Este: [1]Aux_0!$D$1
Name Flecha_Este: [1]Aux_0!$D$1

Sheet Definitions, shorthand, codes
B1: Definition | C1: Abbreviation
A2: Household | B2: Eats at least one meal together each day, shares a budget managed by the household head, and usually sleeps under the same roof. | C2: HH | D2: This page left intentionally blank.
A3: Household head | B3: The primary decision-maker in the household. Frequently but not always primary earner/breadwinner. | C3: HH head
A4: Dwelling | B4: A contiguous building or area where one or more HH members sleep.
A5: Refugee from Syria | B5: Anyone who was living in Syria in September 2010 (before the beginning of the civil war) including Syrian refugees (SR), Palestinian Refugees from Syria (PRS), and Lebanese Returnees (LR). | C5: SR
A6: Temporary residence | B6: We need a definition here and in the interviewer manual

Sheet Cover
D1: MULTICOUNTRY SURVEY OF SYRIAN REFUGEES AND HOSTING COMMUNITIES
Y5: HOUSEHOLD NUMBER (WITHIN DWELLING)
Y7: UPDATED NAME OF HEAD OF HOUSEHOLD
Y10: UPDATED ADDRESS / DIRECTIONS
Y13: UPDATED PHONE NUMBERS
A20: USE STICKER NUMBERS TO SELECT: 1) A CHILD (3-18) ON BEHALF OF WHOM THE MAIN RESPONDENT WILL ANSWER SECTION K; 2) A RANDOM RESPONDENT (15-64) WHO WILL ANSWER SECTIONS L THROUGH W; AND 3) A SECOND RANDOM RESPONDENT (15-64) WHO WILL ANSWER SECTIONS MM-TT. READ THE NUMBERS FROM LEFT TO RIGHT UNTIL YOU REACH THE ID OF A HOUSEHOLD MEMBER THAT FULFILLS THE AGE CRITERIA. CIRCLE THE SELECTED NUMBERS AND RECORD THEM IN THE APPROPRIATE FIELDS.
B24: NUMBER OF HOUSEHOLD MEMBERS | AE24: SELECTED CHILD ID | AJ24: SELECTED RANDOM RESPONDENT ID1 | AO24: SELECTED RANDOM RESPONDENT ID2
B25: MALE | F25: FEMALE | J25: TOTAL
B32: NAME OF SURVEYOR | N32: ID | V32: DAY | X32: MONTH | Z32: RESULT | AB32: COMMENTS | AJ32: 1- COMPLETED ALL SECTIONS
T33: VISIT 1 | AJ33: 2- COMPLETED SECTIONS A-K/ VISIT SCHEDULED WITH RANDOM RESPONDENT
AJ34: 3- COMPLETED RANDOM RESPONDENT SECTIONS
B35: NAME OF REVIEWER | N35: ID | T35: VISIT 2 | AJ35: 4- OTHER PARTIALLY COMPLETED (SPECIFY)
AJ36: 5- VACANT DWELLING
T37: VISIT 3 | AJ37: 6- HOUSEHOLD IS ABSENT
B38: NAME OF FIELD SUPERVISOR | N38: ID | AJ38: 7- HOUSEHOLD REFUSED TO COOPERATE | AS38: ► | AT38: =R42 -> PROXY
T39: VISIT 4 | AJ39: 8- RANDOM RESPONDENT REFUSED TO COOPERATE
AJ40: 9- OTHER, SPECIFY ( ▼)
B41: NAME OF DATA ENTRY OPERATOR | N41: ID
R42: PROXY | V42: PROXY RESPONDENT | Z42: 1 - YES | AH42: ► | AI42: A
Z43: 2 - NO | AB43: (Source)
B45: GENERAL COMMENTS

Sheet A- Roster
A1: MAIN RESPONDENT (ADULT WHO HAS LIVED WITH THE HOUSEHOLD SINCE 2010 | N1: Roster ID code of main respondent:
A2: AND IS KNOWLEDGEABLE ABOUT ALL ASPECTS OF THE HOUSEHOLD) | N2: (IF PROXY RESPONDENT RECORD 99)
A4: TIME STARTED: | G4: :
A6: A- Household members not included in the roster
J8: =A18+1 -> 4 | K8: Does your household include any financially dependent members who temporarily reside outside the household dwelling? (Hospital, army, studies, etc.)
A9: 1 | B9: Were you part of the household in 2010?
B10: 1- Yes | K10: 1- Yes | L10: If yes, do not include these members in the roster
B11: 2- No | C11: ► | D11: Ask for different main respondent | K11: 2- No | L11: ► | M11: =J19 -> 6
A13: =A9+1 -> 2 | B13: Does the primary breadwinner for your household live outside the household?
J14: =J8+1 -> 5 | K14: Number of financially dependents members who temporarily reside outside the household dwelling? (Hospital, army, studies, etc.)
B15: 1- Yes | C15: If yes, do not include in the roster
B16: 2- No | C16: ► | D16: =J8 -> 4
A18: =A13+1 -> 3 | B18: Where does the primary breadwinner reside?
B19: 1-Lebanon | J19: =J14+1 -> 6 | K19: Does your household include any domestic workers?
B20: 2-Syria | K20: 1- Yes | L20: If yes, do not include these members in the roster
B21: 3-Palestine | K21: 2- No | L21: ► | M21: =B40 -> 8
B22: 4-Iraq
B23: 5-Jordan | J23: =J19+1 -> 7 | K23: Number of domestic workers
B24: 6-US/Canada
B25: 7-Europe
B26: 8-Other, specify
A36: Roster ID code of main respondent: | J36: (IF PROXY RESPONDENT RECORD 99) | R36: Questionnaire Number:
A38: For each member of your household…
A39: Enumerator: Write the name of the head of the household first, followed by the name of the spouse, then the children as per age (the ones who are married with their families...husband / wife and their children as per age) then the name of the father / mother, then the brother / sister then the other relatives then those who are not related to the household. Then proceed with remaining questions.
A40: Roster ID code | B40: =J23+1 -> 8 | D40: =B40+1 -> 9 | G40: =D40+1 -> 10 | J40: =G40+1 -> 11 | M40: =J40+1 -> 12 | Q40: =M40+1 -> 13 | S40: =Q40+1 -> 14 | V40: =S40+1 -> 15 | Y40: =V40+1 -> 16 | AB40: =Y40+1 -> 17
B41: What is [NAME]'s name or initials? If respondent is uncomfortable giving name, use initials instead | D41: What is [NAME]'s gender? | G41: What is [NAME]'s relationship to the HH head? | J41: Does [NAME] live in the primary dwelling? | M41: When was [NAME] born? | Q41: What was [NAME]'s age at his/her last birthday? | S41: What country was [NAME] born in? | V41: What nationality or nationalities is [NAME]? Multiple responses allowed | Y41: Does [NAME] have papers that prove his/her nationality? (government-issued ID, passport, etc) | AB41: What is [NAME]'s marital status?
D42: 1- Male | G42: 1-Head of household | J42: 1-Yes | M42: [year] | Q42: [# years] | S42: 1-Lebanon | V42: 1-Lebanese | Y42: 1- Yes | AB42: 1- Never married
D43: 2- Female | G43: 2-Spouse | J43: 2-No | K43: ► Next member | S43: 2-Syria | V43: 2-Syrian | Y43: 2- No | AB43: 2-Currently married
G44: 3-Child | S44: 3-Palestine | V44: 3-Palestinian
G45: 4-Sibling | S45: 4-Iraq | V45: 4-Iraqi | AB45: 3-Widowed
G46: 5-Father/Mother | S46: 5-Jordan | V46: 5-Jordanian | AB46: 4-Divorced / Separated
G47: 6-Son/Daughter in Law | S47: 6-US/Canada | V47: 6-US/Canadian
G48: 7-Grandchild | S48: 7-Europe | V48: 7-European
G49: 8-Father/Mother in Law | S49: 8-Other, specify | V49: 8-Other, specify
G50: 9-Other relative
G51: 10-No relation
A53: 1
A55: 2
A57: 3
A59: 4
...

Sheet B- Dwellings
A3: B- Dwellings
A4: Dwelling # | B4: Dwelling | G4: =1 -> 1 | K4: =G4+1 -> 2 | N4: =K4+1 -> 3 | Q4: =N4+1 -> 4 | T4: =Q4+1 -> 5
G5: Where do / did you live? (district): | K5: What type of dwelling is/was this? | N5: How many rooms in total are/were there in this dwelling? (including kitchens and bathrooms. Rooms defined as separated by permanent structures) | Q5: How many bedrooms are/were there in this dwelling? | T5: What material is/was this dwelling's floor made out of primarily?
K6: 1- Apartment
K7: 2- House
K8: 3- Informal settlement/tent
K9: 4- Collective center | T9: 1- Marble
K10: 5- Worksite/unfinished home | T10: 2- Parquet
K11: 6- Farm building | T11: 3- Tiles
K12: 7- Garage, shop, workshop, school, or other structure not intended for habitation | T12: 4- Concrete
T13: 5- Soil
K14: 8- Other (specify) | T14: 6- Other (specify)
A15: 1 | B15: Current
A16: 2 | B16: September 2010
A17: 3 | B17: Refugees only: Upon arrival to Lebanon
A19: =T4+1 -> 6 | B19: Who owns your current dwelling? | N19: =A29+1 -> 8 | O19: Enumerator: What is the household's rental status?
B20: 1- Unrelated person
B21: 2- HH member | O21: 1- Owns land and dwelling and does not pay rent | U21: ► | V21: C1
B22: 3- Friend or relative | O22: 2- Owns apartment and does not pay rent | U22: ► | V22: C1
B23: 4- NGO/non-religious charity | O23: 3 - Potentially pays rent on land or dwelling
B24: 5- Government agency or municipality
B25: 6- Religious organization/charity | N25: =N19+1 -> 9 | O25: How much rent do you pay each month to stay in this dwelling, including both rent on the dwelling and on the land underneath?
B26: 7- Unowned/squatting | S26: Thousand LBP
B27: 8- Other (specify)
A29: =A19+1 -> 7 | B29: Who owns the land that your current dwelling is built on?
N30: =N25+1 -> 10 | O30: Has your household experienced difficulty paying the rent on your dwelling or land anytime in the last 3 months?
B31: 1- Unrelated person
B32: 2- HH member
B33: 3- Friend or relative | O33: 1- Yes
B34: 4- NGO/non-religious charity | O34: 2- No
B35: 5- Government ministry or municipality
B36: 6- Religious organization/charity | N36: =N30+1 -> 11 | O36: Do you have a written rental contract for this property?
B37: 7- Unowned/squatting
B38: 8- N/A Apartment building | O38: 1- Yes
B39: 9- Other (specify) | O39: 2- No

Sheet C- Services
A2: C- Services
B3: For each souce of water:
A4: Source # | B4: Source | H4: 1 | K4: =H4+1 -> 2 | N4: =K4+1 -> 3 | Q4: =N4+1 -> 4 | T4: =A31+1 -> 7 | U4: What kind of latrine/toilet do you use?
H5: Is [SOURCE] currently used for drinking? | K5: How satisfied are you with the quality of [SOURCE] for drinking water? | N5: Is [SOURCE] currently used for service (such as cooking and cleaning)? | Q5: How satisfied are you with the quality of [SOURCE] for service water? | U5: 1- Latrine (simple pit)
U6: 2- Latrine in house (pour flush with soakage pit)
U7: 3- Latrine in house (pour flush with septic tank)
U8: 4- Latrine in house (pour flush to sewage)
U9: 5- Communal latrine
U10: 6- Near the house
H11: 1- Yes | K11: 1- Very satisfied | N11: 1- Yes | Q11: 1- Very satisfied
H12: 2-No | I12: ► | J12: =N4 -> 3 | K12: 2- Satisfied, | N12: 2-No | O12: ► Next source | Q12: 2- Satisfied, | T12: =T4+1 -> 8 | U12: Is your overall access to sewerage services today better, worse, or the same as it was in September 2010 (wherever you may have been living at that time)?
K13: 3- Dissatisfied | Q13: 3- Dissatisfied
K14: 4- Very dissatisfied | Q14: 4- Very dissatisfied
A15: 1 | B15: Public network | U15: 1- Better today
A16: 2 | B16: Private network | U16: 2- Same
A17: 3 | B17: Artesian well or borehole | U17: 3- Worse today
A18: 4 | B18: Mineral water (Bottles)
A19: 5 | B19: Mineral water (Gallons) | T19: =T12+1 -> 9 | U19: How do you dispose of your garbage/solid waste?
A20: 6 | B20: Water delivery trucks / tankers | U20: 1- Dumpster | Z20: 5- Leave it where it is
A21: 7 | B21: Community tank | U21: 2- Refuse pit/Dump site | Z21: 6- Near the road
A22: 8 | B22: Fountain / Spring / River / Creek | U22: 3- Burning | Z22: 7- Other
A23: 9 | B23: Rain water | U23: 4- Burying
A24: 10 | B24: Other, specify
T25: =T19+1 -> 10 | U25: Is your overall access to solid waste disposal services better, worse, or the same as it was in September 2010 (wherever you may have been living at that time)?
A26: =Q4+1 -> 5 | B26: Do you feel you have sufficient access to clean water for your needs, including drinking, cooking, and cleaning?
U27: 1- Better today
B28: 1- Yes | U28: 2- Same
B29: 2- No | U29: 3- Worse today
A31: =A26+1 -> 6 | B31: Is your overall access to water today better, worse, or the same as it was in September 2010 (wherever you may have been living)? | T31: =T25+1 -> 11 | U31: What type of fuel does your household mainly use for cooking?
U32: 1- Gas | Y32: 5- Straw/shrubs/grass
B33: 1- Better today | U33: 2- Kerosene/gasoil | Y33: 6- Animal dung
B34: 2- Same | U34: 3- Electricity | Y34: 7- Agricultural crop residue
B35: 3- Worse today | U35: 4- Wood/coal | Y35: 8- Other
A37: =T31+1 -> 12 | B37: What sources of electricity do you use regularly? | L37: Up to 2 responses
B38: 1- No electricity
B39: 2- Public network
B40: 3- Common generator (shared with other dwellings)
B41: 4- Private generator
B42: 5- Solar lamp
B43: 6- Other
...

Sheet D - Assets
A2: D- Assets
A3: 1 | B3: How many of [ASSET] in total do you or members of your HH own?
F4: Asset # | G4: Asset | H4: 3 | K4: =H4+1 -> 4 | N4: =K4+1 -> 5 | Q4: =N4+1 -> 6 | T4: =Q4+1 -> 7
H5: Did you own any [ASSET] in September 2010? | K5: What was the state of the [ASSET] when you left Syria? | N5: Do you have proof of ownership to reclaim or recover the [ASSET]? | Q5: What is the current state of [ASSET]? | T5: Do you currently own any [ASSET] in Lebanon?
A6: Asset: | C6: 2015
A7: 1- Air conditioners
A8: 2- Microwaves | K8: 1 - Destroyed | M8: ► D7 | Q8: 1 - In care of someone else
A9: 3- Laptops/desktops | H9: 1- Yes | K9: 2 - Partially destroyed | N9: 1- Yes | T9: 1- Yes
A10: 4- Cars | H10: 2 - No | I10: ► | J10: D7 | K10: 3 - Intact, left in Syria | N10: 2 - No | Q10: 2 - Checked on periodically by household | T10: 2 - No
A11: 5- Motorcycle/scooter | K11: 4 - Intact, brought to Lebanon | M11: ► D7
A12: 6- Washing machine | M12: ► D7 | Q12: 3 - Abandoned
A13: 7- Water heating system | K13: 5 - Sold in preparation for Lebanon | M13: ► D7 | Q13: 4 - Destroyed
A14: 8- Refrigerator | Q14: 5 - Sold
A15: 9-Burner (with or without oven) | K15: 6 - Sold for other reasons | M15: ► D7 | Q15: 6 - Stolen / confiscated
A16: 10- Radio
A17: 11- TVs | K17: 7 - Stolen / Confiscated | Q17: 7 - Don't Know
A18: 12- DVD recorder | K18: 8 - Other, specify | Q18: 8 - Other, specify
A19: 13- Cable subscription/receiver | F19: 1 | G19: Owned dwelling
A20: 14- Camera | F20: 2 | G20: Owned residential land (excluding dwelling)
A21: 15- Cellphone | F21: 3 | G21: Owned agricultural land
F22: 4 | G22: Agricultural crop, livestock, farm equipment
F23: 5 | G23: Place of business, commercial land
A24: D2 | B24: Enumerator: Were any members of this household in Syria in 2010? | F24: 6 | G24: Business Assets: machinery, equipment, or inventory
F25: 7 | G25: Cash, jewelry or savings
B26: 1- Yes | F26: 8 | G26: Vehicles (cars, trucks, motorcycles, etc.)
B27: 2- No | C27: ► | D27: =E..F!F6 -> 1

Sheet E..F
A1: E- Sources of income
A2: 1 | B2: Did your household receive any income from this source in the last month? | L2: =A28+1 -> 4 | M2: (In case respondent refuses to specify exact income): What is the appropriate income range for your household?
A4: =A2+1 -> 2 | B4: What percent of your household's income was derived from that source in the last month? (%) | M4: 1- Less than 300 thousand LBP | Q4: 7- [3-4[ million LBP
M5: 2- [300 - 675[ thousand | Q5: 8- [4-5[ million LBP
A6: Source of Income Enumerator: Read sources to the respondent) | F6: =A2 -> 1 | I6: =A4 -> 2 | M6: 3- [675-1000[ thousand LBP | Q6: 9- [5-6[ million LBP
F7: 1- Yes | G7: ► | H7: =I6 -> 2 | I7: % | M7: 4- [1-1.5[ million LBP | Q7: 10- 6 million LBP or more
F8: 2-No ►next source | M8: 5- [1.5-2[ million LBP | Q8: 11- Refused (98)
A9: 1- Income from wages | M9: 6- [2-3[ million LBP
A11: 2- Income from business earnings (inc. very small and household enterprises) | L11: =L2+1 -> 5 | M11: In your view, what is the minimum monthly income necessary to meet your household's needs?
Q12: Thousand LBP
A13: 3-Remittances from family members
L14: =L11+1 -> 6 | M14: Do you consider your household to be poor or non-poor?
A15: 4- Asset earnings (capital, rent, interest earnings inc. retirement lump sum)
M16: 1- Poor
M17: 2- Non-poor
A18: 5-Pensions
L19: =L14+1 -> 7 | M19: In 2013, did your household earn enough to meet its minimum basic needs?
A20: 6- Assistance from government/NGO/WFP /UNHCR (cash or in-kind)
M21: 1- Yes
A22: 7- Consumption from self-production (autoconsumption) | M22: 2- No
A25: 8-Other (specify) | L25: =L19+1 -> 8 | M25: In 2010, did your household earn enough to meet its minimum basic needs?
A26: Enumerator: total % is | I26: 1
M27: 1- Yes
A28: =A4+1 -> 3 | B28: What is your total household monthly income? | M28: 2- No
H29: Thousand LBP
A39: F- Sources of assistance
A40: 1 | B40: Did your household benefit from any NPTP programs in the last year?
B41: 1- Yes
B42: 2- No | C42: ► | D42: F3
B43: 3- Non-Lebanese | E43: ► | F43: F3
A45: =A40+1 -> 2 | B45: Which (multiple answers allowed)? | G45: Lebanon only.
B46: 1- Free/subsidized books
B47: 2- Free/subsidized tuition
B48: 3- Free/subsidized medication
B49: 4- Free/subsidized healthcare
B50: 5- Free/subsidized electricity
B51: 6- Other (specify)
A53: Other types of Assistance | F53: =A45+1 -> 3 | I53: =F53+1 -> 4 | L53: =I53+1 -> 5
F54: Has your household ever received [ASSISTANCE] ? | I54: Has your household received [ASSISTANCE] in the last month? | L54: Who gave you this [ASSISTANCE] most recently?
L55: 1- Government of Lebanon
...

Sheet G...H...I
A2: G- Income shocks | L2: H- Prices | W2: I- Food security
A3: 1 | B3: In the last 12 months, did you or your household experience any of the following negative shocks to your income? | L3: 1 | M3: What is the average price your household pays for the following items? | X3: In the past 4 weeks…
B5: 1- Yes | F5: 2- No | M5: Don't know: -999 | W5: 1 | X5: Did you worry that your household would not have enough food?
B7: 1- Unexpected loss of job or shutdown of business | M7: Item | R7: Price paid per unit | U7: Units | X7: 1- Yes | AB7: 2- No
B8: 2- Involuntary reduction in working hours | W8: =W5+1 -> 2 | X8: Were you or any household member not able to eat the kinds of foods you preferred because of a lack of resources?
B9: 3- Non-payment or delay in payment of wages | M9: 1- White arabic bread | U9: pack (1.5 Kg)
B10: 4- Cut-off or decrease in remittances
B11: 5- Increase in prices of food or other necessities | M11: 2- Lebneh | U11: 500 gms | X11: 1- Yes | AB11: 2- No
B12: 6- Increase in cost of housing (rent) | W12: =W8+1 -> 3 | X12: Did you or any household member have to eat a limited variety of foods due to a lack of resources?
B13: 7- Forced eviction or loss of assets | M13: 3- Fresh cow meat (kafta…) | U13: Kg
B14: 8- Involuntary breakup of family | X14: 1- Yes | AB14: 2- No
B15: 9- Serious illness or injury to a household member (including yourself) | M15: 4- Eggs | U15: Pack of 30 | W15: =W12+1 -> 4 | X15: Did you or any household member have to eat some foods that you really did not want to eat because of a lack of resources to obtain other types of food?
B16: 10- Death of a household member
B17: 11- Loss of livestock, crops, or other agricultural assets | M17: 5- Sugar | U17: Kg
B18: 12- Reduced or suspended assistance | X18: 1- Yes | AB18: 2- No
M19: 6- Tomato | U19: Kg | W19: =W15+1 -> 5 | X19: Did you or any household member have to eat a smaller meal than you felt you needed because there was not enough food?
A21: =A3+1 -> 2 | B21: Enumerator: did the respondent experience any shocks? | M21: 7- Cucumber | U21: Kg
X22: 1- Yes | AB22: 2- No
B23: 1- Yes | M23: 8- Grapes | U23: Kg
B24: 2-No | C24: ► | D24: =L3 -> 1 | W24: =W19+1 -> 6 | X24: Did you or any household member have to eat fewer meals in a day because there was not enough food?
M25: 9- Soft drinks | U25: Number bottles (litre)
A26: =A21+1 -> 3 | B26: How did your household respond to these shocks?
B27: Up to 3 responses | X27: 1- Yes | AB27: 2- No
B28: 1- Depended on cash or in-kind assistance from others | M28: 10- Bottled water | U28: Number bottles (litre) | W28: =W24+1 -> 7 | X28: Was there ever no food to eat of any kind in your household because of lack of resources to get food?
B29: 2- Relied on own savings
B30: 3- Reduced food stocks or purchases | X30: 1- Yes | AB30: 2- No
B31: 4- Reduced expenditures on health/education | W31: =W28+1 -> 8 | X31: Did you or any household member go to sleep at night hungry because there was not enough food?
B32: 5- Employed HH members took on more work or HH members who were not previously working began to work | L32: H2 | M32: Compared to September 2010, is […] more affordable, less affordable, or about the same?
X33: 1- Yes | AB33: 2- No
B34: 6- HH members (inc. children) migrated | M34: 1 | N34: Less affordable | R34: A | S34: Food | W34: =W31+1 -> 9 | X34: Did you or any household member go a whole day and night without eating anything because there was not enough food?
B35: 7- Took out loans or made purchases on credit | M35: 2 | N35: About the same | R35: B | S35: Shoes, clothes
B36: 8- Sold assets, buildings, land, crops, or livestock | M36: 3 | N36: More afforable | R36: C | S36: Rent
B37: 9- Nothing | X37: 1- Yes | AB37: 2- No
B38: 10- Other (specify)
L39: H3 | M39: How long does it take your household to get to the closest market (grocery store, butcher, etc.)?
U41: minutes
L43: H4 | M43: Is this market closer, further, or the same distance as the market you used in 2010?
M45: 1- Closer
M46: 2- Same
M47: 3- Farther

Sheet J-Health access 
A2: J- HEALTH ACCESS
A4: 1 | B4: When was the last time any current member of this household visited a hospital, health clinic, mobile clinic, doctor or pharmacist for an illness or injury? This should not include any visits by former or deceased members of the household. | L4: =A36+1 -> 6 | M4: Who runs the health care provider that you/your HH member went to? | W4: =L37+1 -> 12 | X4: Did anyone other than members of your HH help pay for this visit, including organizations, private individuals, or insurance companies?
M6: 1- Central government
M7: 2- Local municipality | X7: 1- Yes | AA7: 2- No | AB7: ► | AC7: =W20 -> 14 | AE7: 3- Don't Know | AF7: ► | AG7: =AC7 -> 14
M8: 3- UN
M9: 4- NGO/non-religious charity | W9: =W4+1 -> 13 | X9: Who else helped pay for this visit?
E10: Month | H10: year | M10: 5- Religious group or religious charity | X10: 1- Government agency
M11: 6- Privately-run | X11: 2- UN
A12: =A4+1 -> 2 | B12: Enumerator: Is this visit within the past 12 months? | M12: 7- Don't Know | X12: 3- NGO/non-religious charity
B13: 1- Yes | M13: 8- Other (specify) | X13: 4- Religious group or religious charity
B14: 2- No | D14: ► | E14: =A43 -> 15 | X14: 5- Non-HH family member
L15: =L4+1 -> 7 | M15: What mode of transit was taken on that visit? | X15: 6- Non-HH friend
M16: 1- Walk | R16: 7- Car | X16: 7- Health insurance
M17: 2- Shared cab (service) | R17: 8- Carpool | X17: 8 - Don't Know
M18: 3- Motorbike | R18: 9 - Don't Know | X18: 9- Other (specify)
A19: =A12+1 -> 3 | B19: Which household members were being treated during this visit? (Specify Roster IDs) | M19: 4- Taxi | R19: 10 - Other (specify)
M20: 5- Bus / Minivan | W20: =W9+1 -> 14 | X20: Why did you/your household choose to go to this health care provider rather than any other?
M21: 6- Ambulance
X22: Give the main reason then ► | AC22: =L42 -> 18
B23: Enumerator: Did the respondent give current household member IDs? If not, redo question. | L23: =L15+1 -> 8 | M23: How long did it take to get there (one-way)? (99 for Don't Know) | X23: 1- Usual provider/family doctor
U24: [minutes] | X24: 2- Cheaper
X25: 3- Only they offer the treatment I needed/Only option
A26: =A19+1 -> 4 | B26: What was the main reason for this visit? | L26: =L23+1 -> 9 | M26: How much did it cost you/your HH to get there (one-way), including bus fare, cab fare, petrol, etc.? | X26: 4- Closer
S27: Thousand Lebanese Pounds | X27: 5- Political/sectarian/confessional reasons
B28: 1- Pregnancy/ delivery | G28: 7- Hypertension | S28: (write zero in case of carpooling or walking, 99 in case of Don't Know) | X28: 6- References/recommended by friends or relatives
B29: 2- Diarrhea | G29: 8- Diabetes | X29: 7- Others are too crowded
B30: 3- Cough | G30: 9- Vaccinations | X30: 8- Refused by other providers
B31: 4- Difficulty breathing | G31: 10- To get medication | L31: =L26+1 -> 10 | M31: What was the out-of-pocket cost of consultation (doctors' fees) and diagnostics (x-rays, blood tests, etc.) of this visit? | X31: 9 - Don't Know
B32: 5- Chest pain | G32: 11- Cold / Flu | S32: Thousand Lebanese Pounds | X32: 10 - Other (specify)
B33: 6- Injury | G33: 12- Don't Know | S33: (write zero in case of carpooling or walking, 99 in case of Don't Know)
G34: 13- Other, specify
A36: =A26+1 -> 5 | B36: What kind of health care provider did you/the HH member go to?
L37: =L31+1 -> 11 | M37: In this visit, were you prescribed medication that you did not purchase because it was too expensive? | T37: 1- Yes
B38: 1- Hospital | F38: 4- Doctor in private clinic | T38: 2- No
B39: 2- Health clinic/PHC | F39: 5- Pharmacist | T39: 3 - Don't Know
B40: 3- Mobile clinic | F40: 6- Other, specify | L40: Think about your access to health care in 2010, wherever you might have lived at that time
A41: Reminder: Only those who answered "No" to | I41: =A12 -> 2
A42: answer questions | E42: =A43 -> 15 | F42: =A63 -> 16 | G42: =A68 -> 17 | L42: =A68+1 -> 18 | M42: Compared to 2010, how has your current overall access to health care improved?
A43: =W20+1 -> 15 | B43: Why hasn't any household member gone to a hospital or health clinic in the last 12 months? | W43: =L65+1 -> 21 | X43: What do you think caused it to worsen?
X44: The main reason
...

Sheet K- School access
A1: MAIN RESPONDENT (ON BEHALF OF RANDOMLY SELECTED CHILD BETWEEN THE AGES OF 3 AND 18) | Z1: Roster ID of Selected Child
A3: K- School access
A5: 1 | B5: Who is this child's primary caretaker (Person who takes care of child's daily needs such as bathing, feeding, helping)?
L6: =A12+1 -> 4 | M6: During the previous schoolyear, that is 2014-2015, did this child attend school/preschool at any time? | W6: =L29+1 -> 9 | X6: Why did this child attend fewer than 5 days of school in the last week?
F7: [Roster ID]
A8: =A5+1 -> 2 | B8: Has this child ever attended school or pre-school? | X8: 1- School holiday last week
B9: 1- Yes | D9: ► | E9: =L6 -> 4 | M9: 1- Yes | X9: 2- Child was ill
B10: 2- No, but can read and write | M10: 2- No | O10: ► | P10: =L18 -> 6 | X10: 3- Roads were closed or transport was otherwise difficult
B11: 3- No, can't read and write | X11: 4- Needed to work to support family
A12: =A8+1 -> 3 | B12: What is the main reason this child never attended school? | L12: =L6+1 -> 5 | M12: How much did you/the HH pay for education for this child last school year, including tuition, books, supplies, school uniforms, transport, private tuition, etc.)? | X12: 5- Needed to take care of family member
T13: Thousand Lebanese Pounds | X13: 6- Teacher did not come
B14: Answer the question and ► | G14: Selection of random respondent | X14: 7- Security concerns
B15: 1- No easily accessible school in the neighborhood | X15: 8- Standard schedule is less than 5 days per week
B16: 2- Teaching is of poor quality | X16: 9- Other (specify)
B17: 3- School time is not flexible
B18: 4- Mistreatment by the instructor or other students | L18: =L12+1 -> 6 | M18: During the current school year, that is 2015-2016, did this child attend school or preschool at any time? | W18: =W6+1 -> 10 | X18: What mode of transit does this child usually use to get to school?
B19: 5- Has to work to support the family
B20: 6- HH could not afford school’s expenses | X20: 1- Walk | AC20: 6- Minibus
B21: 7- Household thought that education is not useful to get a better job | M21: 1- Yes | X21: 2- Shared cab (service) | AC21: 7- Car
M22: 2- No | O22: ► | P22: =L40 -> 16 | X22: 3- Motorbike | AC22: 8- Carpool
B23: 8- Going to school is hazardous | X23: 4- Taxi | AC23: 9- Other (specify)
B24: 9- Social reasons: family disapproves / does not think child needs to study | X24: 5- Bus
L25: =L18+1 -> 7 | M25: Did this child attend school anytime in the past month?
B26: 10- Early marriage | W26: =W18+1 -> 11 | X26: How long does it usually take for this child to get to school (one-way)?
B27: 11- Sickness or disability | M27: 1- Yes | Q27: 2- No | S27: ► | T27: =W18 -> 10 | AF27: [minutes]
B28: 12- Still too young
B29: 13- Not interested in going to school | L29: =L25+1 -> 8 | M29: How many days of the last week did the child attend any school?
B30: 14- Helping in house chores
B31: 15- Parents do not understand how to enroll | M31: if 0-4 days ► Next | O31: =W6 -> 9 | R31: if 5 days + ► | U31: =W18 -> 10
B32: 16- Schools were full and not accepting new students
B33: 17- Teachers frequently absent
B34: 18- Schools are mixed gender
B35: 19- Does not understand language of instruction
B36: 20- It costs too much to get to school
B37: 21- Other (specify)
A40: =W26+1 -> 12 | B40: Who runs the school that child attended on their most recent trip to school? | L40: =A64+1 -> 16 | M40: What is the main reason this child hasn't been attending school? | W40: =L67+1 -> 18 | X40: What is the main reason why this child did not attend school at that time?
B42: 1- Public school (ministry of education) | M42: 1- No easily accessible school in my neighborhood | X42: 1- No easily accessible school in my neighborhood
B43: 2- UN agency (including UNRWA) | M43: 2- Teaching is of poor quality | X43: 2- Teaching is of poor quality
B44: 3- NGO/non-religious charity | M44: 3- School time is not flexible | X44: 3- School time is not flexible
B45: 4- Religious group/charity | M45: 4- Mistreatment by the instructor or other students | X45: 4- Mistreatment by the instructor or other students
...

Sheet L- Movements
A1: RANDOMLY SELECTED INDIVIDUAL (BETWEEN THE AGES OF 15 AND 64) WHO ANSWERS SECTIONS L THROUGH W | X1: Roster ID of Random Respondent 1
A3: TIME STARTED: | H3: :
A4: L- Movements
V5: =A37+1 -> 9 | W5: How many people (excl. household members) did you know in your current neighborhood before moving to your current dwelling?
A6: 1 | B6: What year did you move to your current dwelling? (In case they left this dwelling and moved back, record the most recent move. Do not include vacation or trips home for the summer as moves.)
W7: 1- 0
W8: 2- 1-5
A9: =A6+1 -> 2 | B9: Enumerator: Has the respondent moved at all since September 2010? (If the respondent moved in 2010, ask which month they moved) | W9: 3- 6-10
W10: 4- 11-20
B11: 1- Yes | N11: 2- No | O11: ► | P11: =V12 -> 10 | W11: 5- More than 20
A12: =A9+1 -> 3 | B12: Where were you living in September 2010 (district, governorate, and country)? | V12: =V5+1 -> 10 | W12: Do you have firm plans to change your residence from your current location within the next six months?
B13: a-District: | S13: a
B14: b- Governorate: | S14: b
B15: c- Country: | S15: c | W15: 1- Yes, I am moving on a specific date
W16: 2- Yes, I have looked for other residences
A17: =A12+1 -> 4 | B17: What year did you move to this dwelling? | W17: 3- Yes, but I have not started looking for other residences
W18: 4- No, I do not have plans to change residences | AE18: ► | AF18: =V38 -> 13
B19: Think about all the times you have moved since September 2010. This includes every time you moved into a new primary dwelling, even if your new dwelling was in the same town as your old one (but not if you went on vacation or home for the summer).
V20: =V12+1 -> 11 | W20: Where are you planning to go (country, governorate and district)? | AE20: a | AF20: b | AG20: c
B21: For each move, starting with your first move since 2010…
W22: a-District: | Z22: b- Governorate: | AD22: c- Country:
A23: Move ID | B23: =A17+1 -> 5 | F23: =B23+1 -> 6 | N23: =F23+1 -> 7
B24: When did that move take place? | F24: Where did you move from? | N24: Where did you move to?
V25: =V20+1 -> 12 | W25: Why are you planning to leave?
N26: if not last move ► next move | W26: 1- I or a member of my household got a job/started a business somewhere else or going to look for work
F27: First location should match location in | M27: =A12 -> 3 | N27: if last move ► | Q27: =A37 -> 8
B28: [month/year] | F28: a-District: | I28: b- Governorate: | L28: c- Country: | N28: a-District: | Q28: b- Governorate: | T28: c- Country: | W28: 2- Educational reasons: I am going to begin school or am about to finish school
A29: 1 | W29: 3- Marital reasons: I am getting married or divorced
A30: 2 | W30: 4- I am going to join my relatives
A31: 3 | W31: 5- Cost of living/rent here is too high
A32: 4 | W32: 6- Area here is too dangerous
A33: 5 | W33: 7- Threat of eviction from formal/informal armed forces
A34: 6 | W34: 8- Threat of eviction from landlord
A35: etc. | W35: 9- Threat of eviction from municipality or local government
W36: 10- Want to move to a bigger/better home
A37: =N23+1 -> 8 | B37: Why did you make that last move (to your current dwelling)? | W37: 11- Other (specify)
B38: 1- I or a member of my household got a job/started a business here, or came here looking for work | V38: =V25+1 -> 13 | W38: Have you taken any concrete steps towards moving to the US or Europe? For instance, have you looked for a job, looked into the prices, contacted an agent, called the embassy, or contacted family or friends about moving?
B39: 2-Educational reasons: I began school here or finished school where I lived before
B40: 3- Marital reasons: I got married or divorced
B41: 4- I joined my relatives/friends here | W41: 1- Yes | Y41: ► | Z41: =V53 -> 15 | AC41: 2- No
...

Sheet M-N-O-P
A1: RANDOMLY SELECTED ADULT
A2: M- Current labor screener | L2: N- Current unemployment
L3: ASK THIS SECTION IF DIRECTED BY MODULE M | W3: =L31+1 -> 5 | X3: Which of the following methods have you used to search for work or find a job? | AH3: =W22+1 -> 7 | AI3: What do you think is your biggest impediment to finding a job?
A4: 1 | B4: During the past 7 days, have you worked for at least one hour? By "work" we mean any activities you undertook for remuneration, including working for wages or in-kind, running a business, or working on a farm or with livestock.
L5: 1 | M5: Are you interested in having a job or starting your own business? | X5: Multiple answers allowed | AH5: 1- Too many people searching for jobs
AH6: 2- Underqualified for available jobs
M7: 1- Yes | O7: ► | P7: =L26 -> 3 | R7: 2- No | W7: 1- Contacted public employment office | AH7: 3- Legal issues
W8: 2- Contacted commercial employment office | AH8: 4- Available jobs are too far away
L9: =L5+1 -> 2 | M9: Why aren't you interested in having a job or starting your own business? | W9: 3- Placed/answered job advertisements in newspapers | AH9: 5- Discrimination by employers
B10: 1- Yes | D10: ► | E10: =A18 -> 3 | G10: 2- No | W10: 4- Asked friends, relatives or other personal connections | AH10: 6- No jobs available that are suitable for education
M11: Answer the question and ► | R11: ='Q-R-S-T'!A5 -> 1 | W11: 5- Contacted employer directly | AH11: 7- Lack of personal or political connections
A12: =A4+1 -> 2 | B12: During the past 7 days, did you have a job that you were temporarily absent from, for example because of vacation or sickness? | M12: 1- Too young | W12: 6- Tried to find land, workplace, equipment, financial resources/credit to start own business, applied for relevant licenses, permits, etc | AH12: 8- Don't have enough time to look for work
M13: 2- Fulltime student | AH13: 9- Wages are too low
M14: 3- Social reasons (family doesn't let me work) | AH14: 10- Overqualified for available jobs
M15: 4- Disability or chronic illness | W15: 7- Sought to obtain working permit | AH15: 11- Harassment or discrimination (other than by employers)
B16: 1- Yes | G16: 2- No | I16: ► | J16: =L5 -> 1 | M16: 5- Retired | W16: 8- Went door to door looking for employment | AH16: 12- Jobs are too dangerous
M17: 6- Housewife | W17: 9- Contacted cash-for-work program | AH17: 13- Disability or chronic illness
A18: =A12+1 -> 3 | B18: Think about your main job for the last 7 days; that is, the job that you spent the most time working at. How many hours did you spend working at that job over the last 7 days? | M18: 7- Don't want to work | W18: 10- Contacted an NGO | AH18: 14- Other (specify)
J19: [hours] | M19: 8- Discrimination | W19: 11- Contacted local authorities or municipal government | AH19: Answer the question then ► | AL19: ='Q-R-S-T'!A5 -> 1
M20: 9- No good jobs available | W20: 12 - Searched online job sites
M21: 10- Don't plan on staying in this area for very long | W21: 13- Other (specify) | AH21: =AH3+1 -> 8 | AI21: During the past 30 days, have you worked for at least one hour? By "work" we mean any activities you undertook for remuneration, including working for wages or in-kind, running a business, or working on a farm or with livestock.
M22: 11- Local security situation | W22: =W3+1 -> 6 | X22: What is your main source of information for employment opportunities?
A23: =A18+1 -> 4 | B23: Did you work at any other jobs besides your main job during the last 7 days? | M23: 12- Discouragement
M24: 13 - Don't have the right papers | W24: 1- Job ads in print media
B25: 1- Yes | G25: 2- No | M25: 14- Other (specify) | W25: 2- Job ads on radio or TV
L26: =L9+1 -> 3 | M26: Have you actively searched for a job or attempted to set up your own business within the last year? | W26: 3- Job ads on the internet/SMS
A27: =A23+1 -> 5 | B27: Which of the following statements best describes your main job: | W27: 4- Public employment agency | AI27: 1- Yes | AN27: 2- No | AQ27: ► | AR27: ='Q-R-S-T'!A5 -> 1
W28: 5- Private employment agency
B29: Read statements | M29: 1- Yes | R29: 2- No | T29: ► | U29: =AH21 -> 8 | W29: 6- Family relations | AH29: =AH21+1 -> 9 | AI29: Which of the following statements best describes your main job:
B30: 1- I work for wages or payment (either in cash or in kind) for a company, the government or any other individual. | J30: ► | K30: =A42 -> 1 | W30: 7- Friends
L31: =L26+1 -> 4 | M31: When was the last time you actively searched for a job or attempted to set up your own business? | W31: 8- Political connections | AI31: Read statements
W32: 9- NGO | AI32: 1- I work for wages or payment (either in cash or in kind) for a company, the government or any other individual. | AQ32: ► | AR32: =A42 -> 1
B33: 2- I do not work for wages, but rather work on my account or in a business enterprise or farm belonging to me or someone else in my household, for example, as a farmer, trader, shop-keeper, barber, dressmaker, carpenter or taxi driver | J33: ► | K33: =A87 -> 1 | M33: 1- 7 days or less | W33: 10- Door-to-door searches
M34: 2- Between 7 and 30 days | W34: 11- Local authorities or municipal government
M35: 3- Between 1 and 6 months | W35: 12- Don't have any sources of information | AI35: 2- I do not work for wages, but rather work on my account or in a business enterprise or farm belonging to me or someone else in my household, for example, as a farmer, trader, shop-keeper, barber, dressmaker, carpenter or taxi driver | AQ35: ► | AR35: =A87 -> 1
M36: 4- More than 6 months | W36: 13-Other (specify)
A40: O- Current wage job
A41: ASK THIS SECTION IF DIRECTED BY MODULE M | AH41: =W71+1 -> 25 | AI41: How satisfied are you with your job security today compared to 2013?
A42: 1 | B42: What industry do you work in? | L42: =A77+1 -> 10 | M42: Does your work provide social insurance or health insurance? | W42: =L75+1 -> 18 | X42: How did you find this job?
B43: [ISICV.4 code] 2 digits | X43: 1- Asked close relative or HH member | AI43: 1- More satisfied today
...

Sheet Q-R-S-T
A1: RANDOMLY SELECTED ADULT
A2: Q- Retro labor screener | L2: R- Retro wage job
A3: Ask this section if directed by modules M-N-O-P | L3: ASK THIS SECTION IF DIRECTED BY MODULE Q
M4: In your main job in 2010: | W4: =L41+1 -> 10 | X4: How satisfied are you with your job security today compared to 2010?
A5: 1 | B5: What was your work status in 2013? | L5: 1 | M5: What industry do you work in?
B6: 1- employed | M6: [ISICV.4 code] 2 digits | X6: 1- More satisfied today
B7: 2- not employed | E7: ► | F7: =A54 -> 11 | X7: 2- More satisfied in 2010
A8: =A5+1 -> 2 | B8: What industry do you work in? | L8: =L5+1 -> 2 | M8: What is your profession? | X8: 3- No difference
B9: [ISICV.4 code] 2 digits | M9: [ISCO08 code] 2 digits
W10: =W4+1 -> 11 | X10: How satisfied are you with your earnings today compared to 2010?
A11: =A8+1 -> 3 | B11: What is your profession?
B12: [ISCO08 code] 2 digits | L12: =L8+1 -> 3 | M12: What kind of organization did you work for? | X12: 1 - More satisfied today
M13: 1- Private sector | X13: 2 - More satisfied in 2010
A14: =A11+1 -> 4 | B14: Enumerator: what is the respondent's 2013 work status? | M14: 2- NGO or international organization | X14: 3 - No difference
M15: 3- Public sector (non-military)
B16: 1- wage worker | M16: 4- Army | W16: =W10+1 -> 12 | X16: How do your hours worked today compare to the hours you worked in 2010?
B17: 2- self-employed/employer | G17: ► | H17: =A38 -> 8 | L17: =L12+1 -> 4 | M17: Did you have a written contract?
M18: 1- Yes | R18: 2- No | X18: 1 - More hours today
A19: =A14+1 -> 5 | B19: What was your total cash income from this job during a typical month? | L19: =L17+1 -> 5 | M19: Did your work provide social insurance or health insurance? | X19: 2 - More hours in 2010
X20: 3 - No difference
B21: Refused to Answer: 98 | H21: 1 - Thousand LBP | M21: 1- Yes: NSSF insurance only
B22: Amount | F22: Currency | H22: 2 - Thousand SYP | M22: 2- Yes: private insurance only | W22: =W16+1 -> 13 | X22: Which activity made better use of your qualifications?
H23: 3 - USD | M23: 3- Yes: both NSSF and private | X23: 1 - Today's activity
M24: 4- No | X24: 2 - My activity in 2010
A25: =A19+1 -> 6 | B25: How satisfied are you with your job security today compared to 2013? | L25: =L19+1 -> 6 | M25: Did you receive a regular paycheck? | X25: 3 - No difference
M26: 1- Yes | R26: 2- No | T26: ► | U26: =L41 -> 9 | W26: =W22+1 -> 14 | X26: When did you leave this job?
B27: 1- More satisfied today
B28: 2- More satisfied in 2013 | L28: =L25+1 -> 7 | M28: How often did you get paid? | AA28: month | AD28: year
B29: 3- No difference | W29: =W26+1 -> 15 | X29: Why did you leave this job?
M30: 1- Hourly | Q30: 5- Monthly | X30: 1- Fired or dismissed
A31: =A25+1 -> 7 | B31: How do your hours worked today compare to the hours you worked in 2013? | M31: 2- Daily | Q31: 6- Quarterly | X31: 2- Found a better job
M32: 3- Weekly | Q32: 7- Other (specify) | X32: 3- Pay was too low
B33: Answer the question then ► | G33: =A43 -> 9 | M33: 4- Bi-monthly | X33: 4- Moved further away
B34: 1 - More hours today | L34: =L28+1 -> 8 | M34: How much did you earn during a typical pay period in 2010 (excluding bonuses and benefits)? | X34: 5- Bad experience on the job
B35: 2 - More hours in 2013 | X35: 6- Contract ended
B36: 3 - No difference | X36: 7- Season ended
M37: Refused to Answer: 98 | S37: 1 - Thousand LBP | X37: 8- Needed to take care of family members
A38: =A31+1 -> 8 | B38: How do you compare the stability of your activity/enterprise today with your activity/enterprise in 2013? | M38: Amount | Q38: Currency | S38: 2 - Thousand SYP | X38: 9- Business shut down
B39: 1- More stable today | S39: 3 - USD | X39: 10- Security reasons
B40: 2- More stable in 2013 | X40: 11- Sickness or injury
...

Sheet U-V-W
A1: RANDOMLY SELECTED ADULT
A3: U- Norms and relations
A4: 1 | B4: Do you regularly attend church or mosque with the "other" community (Syrian refugees/host communities)? | L4: =A32+1 -> 6 | M4: In January 2015, that is the beginning of this year, the Lebanese government implemented new controls at the Lebanese-Syrian border. Has this policy affected your life in a positive way, a negative way, or in no way whatsoever? | W4: =L39+1 -> 11 | X4: Is security better or worse for you now compared to September 2010 (referring to the place and circumstances of your life at that time)?
B7: 1- Yes
B8: 2- No members of "other" community in my place of worship | X8: 1- Better
B9: 3- I do not regularly attend church/mosque | X9: 2- Same
M10: Ask this question only in Lebanon. | X10: 3- Worse
B11: To what extent do you agree with the following statements regarding the "other" community (Syrian refugees/host communities)? | M11: 1- Positive
M12: 2- Negative | W12: =W4+1 -> 12 | X12: Enumerator: are there children under the age of 12 in this household?
M13: 3- No effect
X14: 1- Yes
A15: =A4+1 -> 2 | B15: My values are very different from those of the other community. | L15: =L4+1 -> 7 | M15: What is your greatest challenge right now? | X15: 2- No | Z15: ► | AA15: =K50 -> 1
B17: 1- Strongly agree | F17: 3- Disagree | M17: 1- Lack of proper ID documents | W17: For your life/household today and your life/household in September 2010:
B18: 2- Agree | F18: 4- Strongly disagree | M18: 2- Inadequate income/work
M19: 3- Lack of cash | W19: How safe do/did you feel safe allowing children under the age of 12 to play outside?
A20: =A15+1 -> 3 | B20: My lifestyle is different compared to that of the other community. | M20: 4- Lack of food
M21: 5- Quality of dwelling
B22: 1- Strongly agree | F22: 3- Disagree | M22: 6- Access to services (health, education) | W22: =W12+1 -> 13 | X22: Today | AC22: 1- Very safe
B23: 2- Agree | F23: 4- Strongly disagree | M23: 7- Discrimination | AC23: 2- Safe
M24: 8- Safety | W24: =W22+1 -> 14 | X24: September 2010 | AC24: 3- Unsafe
A25: =A20+1 -> 4 | B25: Do the children in this household have any friends from the "other" community (Syrian refugees/host community)? | M25: 9- Psychological stress | AC25: 4- Very unsafe
M26: 10- Worrying about family members who are away
M27: 11- Other (specify) | W27: How safe do/did you feel safe allowing children under the age of 12 to be home alone?
B28: 1- Yes
B29: 2- No | L29: =L15+1 -> 8 | M29: Is there a curfew in the area where you live?
B30: 3- N/A | M30: 1- Yes | W30: =W24+1 -> 15 | X30: Today | AC30: 1- Very safe
M31: 2- No | AC31: 2- Safe
A32: =A25+1 -> 5 | B32: Does the children share recreational spaces with children from the "other" community (Syrian refugees/host community)? | W32: =W30+1 -> 16 | X32: September 2010 | AC32: 3- Unsafe
L33: =L29+1 -> 9 | M33: How safe do you think it is for you to walk outside during the day in the area where you live? | AC33: 4- Very unsafe
B35: 1- Yes | W35: How comfortable are/were you leaving children under the age of 12 with neighbors during the day?
B36: 2- No | M36: 1- Very safe | Q36: 3- Unsafe
B37: 3- N/A | M37: 2- Safe | Q37: 4- Very unsafe
W38: =W32+1 -> 17 | X38: Today | AC38: 1- Very safe
L39: =L33+1 -> 10 | M39: How safe do you think it is for you to walk outside during the evening in the area where you live? | AC39: 2- Safe
W40: =W38+1 -> 18 | X40: September 2010 | AC40: 3- Unsafe
AC41: 4- Very unsafe
M42: 1- Very safe | Q42: 3- Unsafe
M43: 2- Safe | Q43: 4- Very unsafe
A48: V - Conflicts
K50: 1 | O50: =K50+1 -> 2 | S50: =O50+1 -> 3 | W50: =S50+1 -> 4 | AC50: =W50+1 -> 5 | AI50: =AC50+1 -> 6
...

Sheet MM-NN-OO-PP
A1: SECOND RANDOMLY SELECTED INDIVIDUAL (BETWEEN THE AGES OF 15 AND 64) WHO ANSWERS SECTIONS MM THROUGH TT | Z1: Roster ID of Random Respondent 2
A3: TIME STARTED: | H3: :
A5: MM- Current labor screener | L5: NN- Current unemployment
L6: ASK THIS SECTION IF DIRECTED BY MODULE M | W6: =L34+1 -> 5 | X6: Which of the following methods have you used to search for work or find a job? | AH6: =W25+1 -> 7 | AI6: What do you think is your biggest impediment to finding a job?
A7: 1 | B7: During the past 7 days, have you worked for at least one hour? By "work" we mean any activities you undertook for remuneration, including working for wages or in-kind, running a business, or working on a farm or with livestock.
L8: 1 | M8: Are you interested in having a job or starting your own business? | X8: Multiple answers allowed | AH8: 1- Too many people searching for jobs
AH9: 2- Underqualified for available jobs
M10: 1- Yes | O10: ► | P10: =L29 -> 3 | R10: 2- No | W10: 1- Contacted public employment office | AH10: 3- Legal issues
W11: 2- Contacted commercial employment office | AH11: 4- Available jobs are too far away
L12: =L8+1 -> 2 | M12: Why aren't you interested in having a job or starting your own business? | W12: 3- Placed/answered job advertisements in newspapers | AH12: 5- Discrimination by employers
B13: 1- Yes | D13: ► | E13: =A21 -> 3 | G13: 2- No | W13: 4- Asked friends, relatives or other personal connections | AH13: 6- No jobs available that are suitable for education
M14: Answer the question and ► | R14: ='Q-R-S-T'!A5 -> 1 | W14: 5- Contacted employer directly | AH14: 7- Lack of personal or political connections
A15: =A7+1 -> 2 | B15: During the past 7 days, did you have a job that you were temporarily absent from, for example because of vacation or sickness? | M15: 1- Too young | W15: 6- Tried to find land, workplace, equipment, financial resources/credit to start own business, applied for relevant licenses, permits, etc | AH15: 8- Don't have enough time to look for work
M16: 2- Fulltime student | AH16: 9- Wages are too low
M17: 3- Social reasons (family doesn't let me work) | AH17: 10- Overqualified for available jobs
M18: 4- Disability or chronic illness | W18: 7- Sought to obtain working permit | AH18: 11- Harassment or discrimination (other than by employers)
B19: 1- Yes | G19: 2- No | I19: ► | J19: =L8 -> 1 | M19: 5- Retired | W19: 8- Went door to door looking for employment | AH19: 12- Jobs are too dangerous
M20: 6- Housewife | W20: 9- Contacted cash-for-work program | AH20: 13- Disability or chronic illness
A21: =A15+1 -> 3 | B21: Think about your main job for the last 7 days; that is, the job that you spent the most time working at. How many hours did you spend working at that job over the last 7 days? | M21: 7- Don't want to work | W21: 10- Contacted an NGO | AH21: 14- Other (specify)
J22: [hours] | M22: 8- Discrimination | W22: 11- Contacted local authorities or municipal government | AH22: Answer the question then ► | AL22: ='Q-R-S-T'!A5 -> 1
M23: 9- No good jobs available | W23: 12 - Searched online job sites
M24: 10- Don't plan on staying in this area for very long | W24: 13- Other (specify) | AH24: =AH6+1 -> 8 | AI24: During the past 30 days, have you worked for at least one hour? By "work" we mean any activities you undertook for remuneration, including working for wages or in-kind, running a business, or working on a farm or with livestock.
M25: 11- Local security situation | W25: =W6+1 -> 6 | X25: What is your main source of information for employment opportunities?
A26: =A21+1 -> 4 | B26: Did you work at any other jobs besides your main job during the last 7 days? | M26: 12- Discouragement
M27: 13 - Don't have the right papers | W27: 1- Job ads in print media
B28: 1- Yes | G28: 2- No | M28: 14- Other (specify) | W28: 2- Job ads on radio or TV
L29: =L12+1 -> 3 | M29: Have you actively searched for a job or attempted to set up your own business within the last year? | W29: 3- Job ads on the internet/SMS
A30: =A26+1 -> 5 | B30: Which of the following statements best describes your main job: | W30: 4- Public employment agency | AI30: 1- Yes | AN30: 2- No | AQ30: ► | AR30: ='Q-R-S-T'!A5 -> 1
W31: 5- Private employment agency
B32: Read statements | M32: 1- Yes | R32: 2- No | T32: ► | U32: =AH24 -> 8 | W32: 6- Family relations | AH32: =AH24+1 -> 9 | AI32: Which of the following statements best describes your main job:
B33: 1- I work for wages or payment (either in cash or in kind) for a company, the government or any other individual. | J33: ► | K33: =A45 -> 1 | W33: 7- Friends
L34: =L29+1 -> 4 | M34: When was the last time you actively searched for a job or attempted to set up your own business? | W34: 8- Political connections | AI34: Read statements
W35: 9- NGO | AI35: 1- I work for wages or payment (either in cash or in kind) for a company, the government or any other individual. | AQ35: ► | AR35: =A45 -> 1
B36: 2- I do not work for wages, but rather work on my account or in a business enterprise or farm belonging to me or someone else in my household, for example, as a farmer, trader, shop-keeper, barber, dressmaker, carpenter or taxi driver | J36: ► | K36: =A90 -> 1 | M36: 1- 7 days or less | W36: 10- Door-to-door searches
M37: 2- Between 7 and 30 days | W37: 11- Local authorities or municipal government
M38: 3- Between 1 and 6 months | W38: 12- Don't have any sources of information | AI38: 2- I do not work for wages, but rather work on my account or in a business enterprise or farm belonging to me or someone else in my household, for example, as a farmer, trader, shop-keeper, barber, dressmaker, carpenter or taxi driver | AQ38: ► | AR38: =A90 -> 1
M39: 4- More than 6 months | W39: 13-Other (specify)
A43: OO- Current wage job
A44: ASK THIS SECTION IF DIRECTED BY MODULE M OR N | AH44: =W74+1 -> 25 | AI44: How satisfied are you with your job security today compared to 2013?
A45: 1 | B45: What industry do you work in? | L45: =A80+1 -> 10 | M45: Does your work provide social insurance or health insurance? | W45: =L78+1 -> 18 | X45: How did you find this job?
...

Sheet QQ-RR-SS-TT
A1: SECOND RANDOMLY SELECTED ADULT
A2: QQ- Retro labor screener | L2: RR- Retro wage job
A3: Ask this section if directed by modules MM-NN-OO-PP | L3: ASK THIS SECTION IF DIRECTED BY MODULE QQ
M4: In your main job in 2010: | W4: =L41+1 -> 10 | X4: How satisfied are you with your job security today compared to 2010?
A5: 1 | B5: What was your work status in 2013? | L5: 1 | M5: What industry do you work in?
B6: 1- employed | M6: [ISICV.4 code] 2 digits | X6: 1- More satisfied today
B7: 2- not employed | E7: ► | F7: =A53 -> 11 | X7: 2- More satisfied in 2010
A8: =A5+1 -> 2 | B8: What industry do you work in? | L8: =L5+1 -> 2 | M8: What is your profession? | X8: 3- No difference
B9: [ISICV.4 code] 2 digits | M9: [ISCO08 code] 2 digits
W10: =W4+1 -> 11 | X10: How satisfied are you with your earnings today compared to 2010?
A11: =A8+1 -> 3 | B11: What is your profession?
B12: [ISCO08 code] 2 digits | L12: =L8+1 -> 3 | M12: What kind of organization did you work for? | X12: 1 - More satisfied today
M13: 1- Private sector | X13: 2 - More satisfied in 2010
A14: =A11+1 -> 4 | B14: Enumerator: what is the respondent's 2013 work status? | M14: 2- NGO or international organization | X14: 3 - No difference
M15: 3- Public sector (non-military)
B16: 1- wage worker | M16: 4- Army | W16: =W10+1 -> 12 | X16: How do your hours worked today compare to the hours you worked in 2010?
B17: 2- self-employed/employer | G17: ► | H17: =A38 -> 8 | L17: =L12+1 -> 4 | M17: Did you have a written contract?
M18: 1- Yes | R18: 2- No | X18: 1 - More hours today
A19: =A14+1 -> 5 | B19: What was your total cash income from this job during a typical month? | L19: =L17+1 -> 5 | M19: Did your work provide social insurance or health insurance? | X19: 2 - More hours in 2010
X20: 3 - No difference
B21: Refused to Answer: 98 | H21: 1 - Thousand LBP | M21: 1- Yes: NSSF insurance only
B22: Amount | F22: Currency | H22: 2 - Thousand SYP | M22: 2- Yes: private insurance only | W22: =W16+1 -> 13 | X22: Which activity made better use of your qualifications?
H23: 3 - USD | M23: 3- Yes: both NSSF and private | X23: 1 - Today's activity
M24: 4- No | X24: 2 - My activity in 2010
A25: =A19+1 -> 6 | B25: How satisfied are you with your job security today compared to 2013? | L25: =L19+1 -> 6 | M25: Did you receive a regular paycheck? | X25: 3 - No difference
M26: 1- Yes | R26: 2- No | T26: ► | U26: =L41 -> 9
B27: 1- More satisfied today | W27: =W22+1 -> 14 | X27: When did you leave this job?
B28: 2- More satisfied in 2013 | L28: =L25+1 -> 7 | M28: How often did you get paid?
B29: 3- No difference | AA29: month | AD29: year
M30: 1- Hourly | Q30: 5- Monthly | W30: =W27+1 -> 15 | X30: Why did you leave this job?
A31: =A25+1 -> 7 | B31: How do your hours worked today compare to the hours you worked in 2013? | M31: 2- Daily | Q31: 6- Quarterly | X31: 1- Fired or dismissed
M32: 3- Weekly | Q32: 7- Other (specify) | X32: 2- Found a better job
B33: Answer the question then ► | G33: =A43 -> 9 | M33: 4- Bi-monthly | X33: 3- Pay was too low
B34: 1 - More hours today | L34: =L28+1 -> 8 | M34: How much did you earn during a typical pay period in 2010 (excluding bonuses and benefits)? | X34: 4- Moved further away
B35: 2 - More hours in 2013 | X35: 5- Bad experience on the job
B36: 3 - No difference | X36: 6- Contract ended
M37: Refused to Answer: 98 | S37: 1 - Thousand LBP | X37: 7- Season ended
A38: =A31+1 -> 8 | B38: How do you compare the stability of your activity/enterprise today with your activity/enterprise in 2013? | M38: Amount | Q38: Currency | S38: 2 - Thousand SYP | X38: 8- Needed to take care of family members
B39: 1- More stable today | S39: 3 - USD | X39: 9- Business shut down
B40: 2- More stable in 2013 | X40: 10- Security reasons
...
