Workbook

Sheet Cover 
G2: HEALTH RESULTS BASED FINANCING IMPACT EVALUATION | AV2: IDENTIFIER | BL2: БАҲОДИИИ ТАЪСИРИ МАБЛАҒГУЗОРИИ СОҲАИ ТАНДУРУСТӢ | DA2: МУАЙЯНКУНАНДА
G3: FOLLOW-UP SURVEY - TAJIKISTAN | AV3: HEALTH DISTRICT | BB3: HF | BL3: ДАР АСОСИ НАТИҶАҲОИ ФАЪОЛИЯТ - ТАДҚИҚОТИ МИНБАЪДА | DA3: НОҲИЯ | DE3: РАҚАМИ МТ
G4: 2017-2018 | BL4: ТОҶИКИСТОН, 2017-2018
G5: Health Facility Questionnaire | BL5: САВОЛНОМАИ МУАССИСАИ ТИББӢ
A7: F2 - HEALTH WORKER INDIVIDUAL QUESTIONNAIRE (f2_rhc) | BH7: F2 - САВОЛНОМАИ ИНДИВИДУАЛИИ КОРМАНДИ ТИБ (f2_rhc)
C9: PROVINCE NAME | O9: PROVINCE CODE | V9: DISTRICT NAME | AG9: DISTRICT CODE | AN9: LOCALITY NAME | AZ9: LOCALITY CODE | BH9: НОМИ ВИЛОЯТ | BT9: РАМЗИ ВИЛОЯТ | CA9: НОМИ НОҲИЯ | CL9: РАМЗИ НОҲИЯ | CS9: НОМИ МАҲАЛ | DE9: РАМЗИ МАҲАЛ
C13: IE ARM: | BH13: ГУРӮҲҲОИ МАҚСАДНОКИ БАҲОДИҲИИ БЕВОСИТА:
D14: Treatment 1 = 01 | K14: Treatment 2 = 02 | P14: Treatment 3 = 03 | X14: Treatment 4 = 04 | AF14: Treatment 5 = 05 | AO14: Comparison Only = 06 | BI14: Гурӯҳи мақсаднокӣ 1 = 01 | BQ14: Гурӯҳи мақсаднокӣ 2 = 02 | BY14: Гурӯҳи мақсаднокӣ 3 = 03 | CF14: Гурӯҳи мақсаднокӣ 4 = 04 | CM14: Гурӯҳи мақсаднокӣ 5 = 05 | CT14: Гурӯҳи муқоисавӣ = 06
C16: GPS COORDINATES OF HEALTH FACILITY | AH16: RESULT OF THE INTERVIEW | AN16: INTERVIEW DONE | BD16: 1 | BH16: КООРДИНАТАҲОИ GPS-И МУАССИСАИ ТИББӢ | CM16: НАТИҶАИ МУСОҲИБА | CS16: МУСОҲИБА ГУЗАРОНИДА ШУД | DI16: 1
AN17: PARTIALLY COMPLETED | BD17: 2 | CS17: ҚИСМАН ГУЗАРОНИДА ШУДА | DI17: 2
C18: LATITUDE (NORTH) | R18: . | AN18: PERSON IN CHARGE REFUSED INTERVIEW | BD18: 3 | BH18: АРЗ (ШИМОЛ) | BW18: . | CS18: ШАХСИ ИНТИХОБШУДА АЗ МУСОҲИБА ДАСТ КАШИД | DI18: 3
AN19: PERSON IN CHARGE IS OUT (STAFF THAT IS PRESENT IS NOT AUTHORIZED) | BD19: 4 | CS19: ШАХСИ ИНТИХОБШУДА ҲУЗУР НАДОШТ (КОРМАНДЕ, КИ ҲУЗУР ДОШТ, ВАКОЛАТ НАДОРАД) | DI19: 4
C21: LONGITUDE (EAST) | D21: LONGITUDE (EAST) | R21: . | BH21: ТӮЛ (ШАРҚ) | BI21: LONGITUDE (EAST) | BW21: .
AN22: FACILITY IS EMPTY (NO STAFF MEMBERS) | BD22: 5 | CS22: МУАССИСА ХОЛӢ АСТ (КОРМАНДОН ҲУЗУР НАДОРАНД) | DI22: 5
AN24: HEALTH FACILITY NOT FOUND | BD24: 6 | CS24: МУАССИСАИ ТИББӢ ЁФТА НАШУД | DI24: 6
C25: NAME OF HEALTH FACILITY | Q25: LOCATION OF HEALTH FACILITY | BH25: НОМИ МУАССИСАИ ТИББӢ | BV25: ҶОЙГИРШАВИИ МУАССИСАИ ТИББӢ
AN26: HEALTH FACILITY IS CLOSED FOR REPAIR | BD26: 7 | CS26: МУАССИСАИ ТИББӢ БАРОИ ТАЪМИР МАХКАМ КАРДА ШУДААСТ | DI26: 7
AN28: OTHER, SPECIFY: | BD28: 96 | CS28: ДИГАР (ҚАЙД КУНЕД) | DI28: 96
AJ31: LANGUAGE | CO31: ЗАБОН | DB31: ПУРСИШ
C32: INTERVIEWER | I32: CODE | M32: VISIT 1 | Q32: DAY | U32: MONTH | Y32: YEAR | AJ32: TAJIK | AT32: 1 | BH32: САВОЛДИҲАНДА | BN32: РАМЗ | BR32: ТАШРИФИ 1 | BV32: РӮЗ | BZ32: МОҲ | CD32: СОЛ | CO32: ТОҶИКӢ | CY32: 1
Y33: 2 | AA33: 0 | AC33: 1 | AE33: 8 | AJ33: RUSSIAN | AT33: 2 | AW33: RESPONDENT | CD33: 2 | CF33: 0 | CH33: 1 | CJ33: 8 | CO33: РУСӢ | CY33: 2 | DB33: МУСОҲИБ
AJ34: UZBEK | AT34: 3 | CO34: ӮЗБЕКӢ | CY34: 3
M35: VISIT 2 | Q35: DAY | U35: MONTH | Y35: YEAR | AJ35: OTHER, SPECIFY: | AT35: 96 | BR35: ТАШРИФИ 2 | BV35: РӮЗ | BZ35: МОҲ | CD35: СОЛ | CO35: ДИГАР (ҚАЙД КУНЕД) | CY35: 96
Y36: 2 | AA36: 0 | AC36: 1 | AE36: 8 | CD36: 2 | CF36: 0 | CH36: 1 | CJ36: 8
M38: VISIT 3 | Q38: DAY | U38: MONTH | Y38: YEAR | AI38: Translator Used? | AW38: CODE | BR38: ТАШРИФИ 3 | BV38: РӮЗ | BZ38: МОҲ | CD38: СОЛ | CN38: ТАРҶУМОН ИСТИФОДА ШУД | DB38: РАМЗ
Y39: 2 | AA39: 0 | AC39: 1 | AE39: 8 | AK39: NEVER | AT39: 1 | CD39: 2 | CF39: 0 | CH39: 1 | CJ39: 8 | CP39: ҲЕҶ ГОҲ | CY39: 1
AK40: SOMETIMES | AT40: 2 | CP40: БАЪЗАН | CY40: 2
C41: SUPERVISOR | I41: CODE | Q41: DAY | U41: MONTH | Y41: YEAR | AK41: ALWAYS | AT41: 3 | BH41: СУПЕРВИЗОР | BN41: РАМЗ | BV41: РӮЗ | BZ41: МОҲ | CD41: СОЛ | CP41: ДОИМО | CY41: 3
Y42: 2 | AA42: 0 | AC42: 1 | AE42: 8 | CD42: 2 | CF42: 0 | CH42: 1 | CJ42: 8

Sheet 1General
A1: =-1 -> -1 | B1: GENERAL INFORMATION | G1: RECORD RESPONSE | J1: =-1 -> -1 | K1: МАЪЛУМОТИ УМУМӢ | P1: ҶАВОБРО НАВИСЕД
A2: =A1-0.01 -> -1.01 | B2: May I know your name? | J2: =J1-0.01 -> -1.01 | K2: Номи Шумо чист?
A3: =A2-0.01 -> -1.02 | B3: ENTER HEALTH WORKER ID CODE FROM STAFF ROSTER IN FORM F1 | J3: =J2-0.01 -> -1.02 | K3: РАҚАМИ РАМЗИИ КОРМАНДИ ТИБРО АЗ РУЙХАТИ КОРМАНДОН, КИ ДАР ФОРМАИ F1 ОВАРДА ШУДААСТ, ВОРИД КУНЕД
A5: =A3-0.01 -> -1.03 | B5: GENDER | C5: MALE | E5: 1 | J5: =J3-0.01 -> -1.03 | K5: ҶИНС | L5: МАРД | N5: 1
C6: FEMALE | E6: 2 | L6: ЗАН | N6: 2
A7: =A5-0.01 -> -1.04 | B7: How old are you? | C7: YEARS | J7: =J5-0.01 -> -1.04 | K7: Шумо чанд сола? | L7: СОЛҲО
A8: =A7-0.01 -> -1.05 | B8: What is your marital status? | C8: Single | E8: 1 | J8: =J7-0.01 -> -1.05 | K8: Вазъи оилавии Шумо? | L8: Муҷаррад | N8: 1
C9: Married/Living together | E9: 2 | L9: Оиладор/якҷоя зиндагӣ мекунем | N9: 2
C10: Widowed | E10: 3 | L10: Бевамард/бевазан | N10: 3
C11: Divorced/separated | E11: 4 | L11: Ҷудо шуда | N11: 4
A12: =A8-0.01 -> -1.06 | B12: Were you born in this district? | C12: YES | E12: 1 | J12: =J8-0.01 -> -1.06 | K12: Шумо дар ҳамин ноҳия таваллуд шудаед? | L12: ҲА | N12: 1
C13: NO | E13: 2 | L13: НЕ | N13: 2
A14: -1.09 | B14: What is the highest level of education you ever completed? | C14: Graduated from the Medical College | E14: 1 | J14: =J12-0.01 -> -1.07 | K14: Дараҷаи баландтарини маълумоте, ки Шумо гирифтаед? | L14: Коллеҷи тиббиро хатм кардаам | N14: 1
C15: Graduated from the Medical University | E15: 2 | L15: Донишгоҳи тиббиро хатм кардаам | N15: 2
C16: Undergraduate (Baccalaureate) | E16: 3 | L16: Бакалавр | N16: 3
C17: Masters (magistracy) | E17: 4 | L17: Магистр | N17: 4
C18: Postgraduate student | E18: 5 | L18: Аспирантура | N18: 5
C19: PhD/MD | E19: 6 | L19: Докторантура | N19: 6
C20: Other, specify: | E20: 96 | L20: Дигар, муайян кунед: | N20: 96
A21: -1.1 | B21: How many year(s) and month(s) have you been working after formal completion of your highest education? | C21: a. | D21: YEARS | J21: =J14-0.01 -> -1.08 | K21: Пас аз хатми расмии муассисаи олӣ Шумо чанд сол ва чанд моҳ кор карда истодаед? | L21: a. | M21: СОЛҲО
B25: RECORD YEARS AND MONTHS. IF LESS THAN A YEAR, RECORD "0" IN YEARS AND RECORD NUMBER OF MONTHS. | C25: b. | D25: MONTHS (RANGE IS 0-11) | K25: СОЛҲО ВА МОҲҲОРО ҚАЙД КУНЕД. АГАР АЗ ЯК СОЛ КАМ БОШАД, ДАР СУТУНИ "СОЛҲО" "0" ҚАЙД КУНЕД ВА МИҚДОРИ МОҲҲОРО НАВИСЕД. | L25: b. | M25: МОҲҲО (АЗ 0-11)
A29: -1.11 | B29: How many year(s) and month(s) have you worked as a health worker at this facility? | C29: a. | D29: YEARS | J29: =J21-0.01 -> -1.09 | K29: Чанд солу чанд моҳ Шумо дар ин муассиса ҳамчун корманди тиб кор мекунед? | L29: a. | M29: СОЛҲО
B33: RECORD YEARS AND MONTHS. IF LESS THAN A YEAR, RECORD "0" IN YEARS AND RECORD NUMBER OF MONTHS. | C33: b. | D33: MONTHS (RANGE IS 0-11) | K33: СОЛҲО ВА МОҲҲОРО ҚАЙД КУНЕД. АГАР АЗ ЯК СОЛ КАМ БОШАД, ДАР СУТУНИ "СОЛҲО" "0" ҚАЙД КУНЕД ВА МИҚДОРИ МОҲҲОРО НАВИСЕД. | L33: b. | M33: МОҲҲО (АЗ 0-11)
A37: =A29-0.01 -> -1.12 | B37: What is your position as a health worker as designated by the Ministry of Health? | C37: Family Physician | E37: 1 | J37: =J29-0.01 -> -1.1 | K37: Мувофиқи муқаррароти Вазорати тандурустӣ вазифаи Шумо ҳамчун корманди тиб чист? | L37: Духтури оилавӣ | N37: 1
C38: Obstetrician/Gynecologist | E38: 2 | L38: Акушер/гинеколог | N38: 2
C39: Clinical intern/junior doctor Midwife Family Nurse Feldsher | E39: 3 | L39: Коромӯзи дармонгоҳ/духтури хурд | N39: 3
C40: Midwife | E40: 4 | L40: Момодоя | N40: 4
C41: Family Nurse | E41: 5 | L41: Ҳамшираи шафқати оилавӣ | N41: 5
C42: Feldsher | E42: 6 | L42: Фелдшер | N42: 6
C43: Other, specify: | E43: 96 | L43: Дигар, муайян кунед: | N43: 96
A44: =A37-0.01 -> -1.13 | B44: Now I am going to ask you about the services that you have provided in the past 3 months. | G44: RECORD RESPONSE | J44: =J37-0.01 -> -1.11 | K44: Ҳоло мехостам ба Шумо дар бораи хизматрасониҳои тиббие, ки Шумо дар 3 моҳи охир пешниҳод кардаед, савол диҳам. | P44: ҶАВОБРО НАВИСЕД
B46: INTERVIEWER: READ EACH OPTION ALOUD. FOR EACH OPTION, RECORD "1" IF THE HEALTH WORKER PROVIDED THE SERVICE AT LEAST ONCE IN THE PAST 3 MONTHS, "2" IF NOT. | C46: a | D46: Curative consultation for children | K46: САВОЛДИҲАНДА: ҲАР ЯК ВАРИАНТРО ХОНЕД. АГАР ПЕШНИХОД КАРДА БОШАД, ВАРИАНТИ "1"-РО ҚАЙД КУНЕД, АГАР ПЕШНИХОД НАКАРДА БОШАД, "2"-РО ҚАЙД КУНЕД. | L46: a | M46: Машварати табобатӣ барои кӯдакон
C47: b | D47: Curative consultation for adults | L47: b | M47: Машварати табобатӣ барои калонсолон
C48: c | D48: Family planning consultation | L48: c | M48: Машварат оид ба банақшагирии оила
C49: d | D49: Antenatal care consultation (ANC) | L49: d | M49: Машварат оид ба назорати пеш аз таваллуд
C51: e | D51: Postnatal care consultation (PNC) | K51: АГАР КОРМАНДИ ТИБ ДАР МУАССИСАИ ТИББИИ МАЗКУР АЗ 3 МОҲ КАМТАР КОР КАРДА БОШАД, ОН ГОҲ ДАР БОРАИ ОН МУДДАТЕ, КИ ДАР МУАССИСАИ МАЗКУР КОР КАРДААС, ПУРСЕД. | L51: e | M51: Машварат оид ба назорати баъди таваллуд
C53: f | D53: Deliveries at home | L53: f | M53: Таваллудкунӣ дар хона
C54: g | D54: Tuberculosis diagnosis/treatment | L54: g | M54: Ташхис/табобати касалии сил
C55: h | D55: Vaccinations | L55: h | M55: Эмкунӣ
C56: i | D56: Growth monitoring /Nutrition counselling | L56: i | M56: Мониторинги инкишофи кудак/машварат оид ба ғизо
...

Sheet 2Training
A1: =-2 -> -2 | B1: STAFF TRAINING | M1: =-2 -> -2 | N1: ОМӮЗИШ БАРОИ КОРМАНДОН
A2: =A1-0.01 -> -2.01 | B2: For each subject I mention, I would like to know the most recent time you received in-service training. Please do not include your initial medical or nursing education. | M2: =M1-0.01 -> -2.01 | N2: Барои ҳар як мавзӯе, ки ман номбар мекунам, мехостам иштироки охирони Шуморо дар курсҳои такмили ихтисос фаҳмам. Илтимос, маълумоти базавии тиббӣ ё ҳамширагии худро ба ин ҷо дохил накунед.
B5: INTERVIEWER: THIS TRAINING INCLUDES ONLY THE TRAINING RECEIVED AFTER UNDERGOING PROFESSIONAL EDUCATION. FOR EXAMPLE, TRAINING RECEIVED AS PART OF THE BACHELOR OF MEDICINE AND SURGERY (MBBS) OR MEDICAL DOCTOR (MD) PROGRAM SHOULD NOT BE MENTIONED HERE. READ EACH OPTION ALOUD. FOR EACH OPTION, RECORD "1"IF THE TRAINING OCCURED LESS THAN A YEAR AGO, "2" IF IT OCCURED MORE THAN A YEAR AGO, AND "3" IF THE WORKER WAS NEVER TRAINED IN THIS SPECIALTY AFTER THEIR EDUCATION. RECORD "1" OR "2" FOR UP TO 3 "OTHER" TRAINING AND SPECIFY WHICH ONES. | N5: САВОЛДИҲАНДА: БА ИН САВОЛ ДОХИЛ МЕШАВАНД ТАНҲО ОМӮЗИШҲОЕ, КИ ДАР ОН МУСОҲИБ ПАС АЗ ХАТМИ МУАССИСАИ КАСБӢ ИШТИРОК КАРДААСТ. МАСАЛАН, ОМӮЗИШҲОЕ, КИ ҲАМЧУН ҚИСМИ БАКАЛАВРИАТИ ТИББӢ ВА ХИРУРГӢ Ё ДОКТОРАНТУРАИ ИЛМҲОИ ТИБ ҲАСТАНД, ДАР ИН ҶО НАБОЯД ҚАЙД КАРДА ШАВАНД. ҲАР ЯК ВАРИАНТРО ХОНЕД. БАРОИ ҲАР ЯК ВАРИАНТ "1"-РО ҚАЙД КУНЕД, АГАР ОМӮЗИШ АЗ ЯК СОЛ КАМТАР ПЕШ ГУЗАРОНИДА ШУДА БОШАД, "2"-РО ҚАЙД КУНЕД, АГАР ОН ЯК СОЛ ЗИЁДТАР ПЕШ ГУЗАРОНИДА ШУДА БОШАД ВА "3"-РО ҚАЙД КУНЕД, АГАР КОРМАНД ЯГОН МАРОТИБА АЗ РӮИ МАВЗӮИ МАЗКУР ПАС АЗ ХАТМИ МУАССИСАИ ИЛМӢ ДАР ОМӮЗИШ ИШТИРОК НАКАРДА БОШАД. "1" Ё "2"-РО ҚАЙД КУНЕД БАРОИ 3 "ДИГАР" ОМӮЗИШҲО ВА МУАЙЯН КУНЕД КАДОМҲО.
C12: TRAINING LESS THAN 1 YEAR AGO | E12: TRAINING MORE THAN 1 YEAR AGO | G12: NEVER TRAINED | J12: RECORD RESPONSE | O12: ОМӮЗИШ НА ЗИЁДА АЗ 1 СОЛ ПЕШ | Q12: ОМӮЗИШ ЗИЁДА АЗ 1 СОЛ ПЕШ | S12: ЯГОН МАРОТИБА ИШТИРОК НАКАРДААМ | V12: ҶАВОБРО НАВИСЕД
A15: a | B15: Integrated Management of Childhood Illness (IMCI) | C15: 1 | E15: 2 | G15: 3 | M15: a | N15: Хамбастагии беморихои кудакона | O15: 1 | Q15: 2 | S15: 3
A17: b | B17: Malaria | C17: 1 | E17: 2 | G17: 3 | M17: b | N17: Вараҷа | O17: 1 | Q17: 2 | S17: 3
A18: c | B18: Tuberculosis diagnosis and treatment | C18: 1 | E18: 2 | G18: 3 | M18: c | N18: Ташхис ва табобати бемории сил | O18: 1 | Q18: 2 | S18: 3
A19: d | B19: Reproductive Health / Family planning | C19: 1 | E19: 2 | G19: 3 | M19: d | N19: Саломатии репродуктивӣ / Банақшагирии оила | O19: 1 | Q19: 2 | S19: 3
A20: e | B20: Antenatal care | C20: 1 | E20: 2 | G20: 3 | M20: e | N20: Назорати пеш аз таваллуд | O20: 1 | Q20: 2 | S20: 3
A21: f | B21: Labor and delivery | C21: 1 | E21: 2 | G21: 3 | M21: f | N21: Таваллудкуни | O21: 1 | Q21: 2 | S21: 3
A22: g | B22: Newborn Care | C22: 1 | E22: 2 | G22: 3 | M22: g | N22: Нигоҳубини навзод | O22: 1 | Q22: 2 | S22: 3
A23: h | B23: Postnatal / Postpartum care | C23: 1 | E23: 2 | G23: 3 | M23: h | N23: Назорати баъди таваллуд/нигоҳубини зани навзоида | O23: 1 | Q23: 2 | S23: 3
A25: i | B25: Breastfeeding, including Environmental Breastfeeding | C25: 1 | E25: 2 | G25: 3 | M25: i | N25: Синамакконӣ, гуруххои дастгири он | O25: 1 | Q25: 2 | S25: 3
A27: j | B27: Nutrition and growth monitoring | C27: 1 | E27: 2 | G27: 3 | M27: j | N27: Мониторинги ғизо ва инкишофи кудак | O27: 1 | Q27: 2 | S27: 3
A28: k | B28: HIV/AIDS testing and counseling | C28: 1 | E28: 2 | G28: 3 | M28: k | N28: Санҷиши сирояти ВИЧ/ СПИД ва машваратдиҳӣ оид ба он | O28: 1 | Q28: 2 | S28: 3
A30: l | B30: Management of Sexually Transmitted Infections (STI) | C30: 1 | E30: 2 | G30: 3 | M30: l | N30: Идоракунии касалиҳои сироятие, ки бо воситаи алоқаи ҷинсӣ мегузарад | O30: 1 | Q30: 2 | S30: 3
... A42: t | B42: Other, specify: | C42: 1 | E42: 2 | G42: 3 | M42: t | N42: Дигар, муайян кунед: | O42: 1 | Q42: 2 | S42: 3
J43: RECORD RESPONSE | V43: ҶАВОБРО НАВИСЕД
A45: =A2-0.01 -> -2.02 | B45: Are there other training needs you personally feel you need for your present job? | C45: YES | F45: 1 | M45: =M2-0.01 -> -2.02 | N45: Оё талаботҳои дигари омӯзишӣ ҳастанд, ки ба фикратон ба Шумо барои кори ҳозираатон лозим аст? | O45: ҲА | R45: 1
C47: NO | F47: 2 | H47: ► | I47: -3.01 | O47: НЕ | R47: 2 | T47: ► | U47: -3.01
A48: =A45-0.01 -> -2.03 | B48: What kind of additional training do you feel you need for your present job? | J48: RECORD RESPONSE | M48: =M45-0.01 -> -2.03 | N48: Ба фикратон, боз кадом намуди омӯзишҳои иловагӣ барои кори ҳозираатон лозим аст? | V48: ҶАВОБРО ҚАЙД КУНЕД
B49: INTERVIEWER: DO NOT READ EACH OPTION ALOUD. FOR EACH OPTION, RECORD "1" IF MENTIONED, "2" IF NOT MENTIONED. | N49: САВОЛДИҲАНДА: ҲАР ЯК ВАРИАНТРО НАХОНЕД. БАРОИ ҲАР ЯК ВАРИАНТ "1"-РО ҚАЙД КУНЕД, МУСОҲИБ ОНРО НОМБАР КУНАД ВА "2"-РО ҚАЙД КУНЕД, АГАР МУСОҲИБ НОМБАР НАКУНАД.
F52: YES | H52: NO | R52: ҲА | T52: НЕ
A53: a | B53: INTEGRATED MANAGEMENT OF CHILDHOOD ILLNESS (IMCI) | F53: 1 | H53: 2 | I53: 1 | M53: a | N53: ҲАМБАСТАГИИ БЕМОРИҲОИ КӮДАКОНА | R53: 1 | T53: 2 | U53: 1
A54: b | B54: MALARIA | F54: 1 | H54: 2 | M54: b | N54: ВАРАҶА | R54: 1 | T54: 2
A55: c | B55: TUBERCULOSIS DIAGNOSIS AND TREATMENT | F55: 1 | H55: 2 | M55: c | N55: ТАШХИС ВА ТАБОБАТИ БЕМОРИИ СИЛ | R55: 1 | T55: 2
A56: d | B56: REPRODUCTIVE HEALTH / FAMILY PLANNING | F56: 1 | H56: 2 | M56: d | N56: САЛОМАТИИ РЕПРОДУКТИВӢ / БАНАҚШАГИРИИ ОИЛА | R56: 1 | T56: 2
A57: e | B57: ANTENATAL CARE | F57: 1 | H57: 2 | M57: e | N57: НАЗОРАТИ ПЕШ АЗ ТАВАЛЛУД | R57: 1 | T57: 2
A58: f | B58: LABOR AND DELIVERY | F58: 1 | H58: 2 | M58: f | N58: ТАВАЛЛУД | R58: 1 | T58: 2
A59: g | B59: NEWBORN CARE | F59: 1 | H59: 2 | M59: g | N59: НИГОҲУБИНИ НАВЗОД | R59: 1 | T59: 2
A60: h | B60: POSTNATAL / POSTPARTUM CARE | F60: 1 | H60: 2 | M60: h | N60: НАЗОРАТИ БАЪДИ ТАВАЛЛУД/НИГОҲУБИНИ ЗАНИ НАВЗОИДА | R60: 1 | T60: 2
A61: i | B61: BREASTFEEDING, INCLUDING ENVIRONMENTAL BREASTFEEDING | F61: 1 | H61: 2 | M61: i | N61: СИНАМАККОНӢ ВА ГУРӮҲҲОИ ДАСТГИРИ ОН | R61: 1 | T61: 2
A62: j | B62: NUTRITION AND GROWTH MONITORING | F62: 1 | H62: 2 | M62: j | N62: МОНИТОРИНГИ ҒИЗО ВА ИНКИШОФИ КӮДАК | R62: 1 | T62: 2
A63: k | B63: HIV/AIDS TESTING AND COUNSELING | F63: 1 | H63: 2 | M63: k | N63: САНҶИШИ ВИЧ/СПИД ВА МАШВАРАТДИҲӢ ОИД БА ОН | R63: 1 | T63: 2
A64: l | B64: MANAGEMENT OF SEXUALLY TRANSMITTED INFECTIONS (STI) | F64: 1 | H64: 2 | M64: l | N64: ИДОРАКУНИИ КАСАЛИҲОИ СИРОЯТИЕ, КИ БО ВОСИТАИ АЛОҚАИ ҶИНСӢ МЕГУЗАРАД | R64: 1 | T64: 2
A66: m | B66: IMMUNIZATION / VACCINATION | F66: 1 | H66: 2 | M66: m | N66: ИММУНИЗАТСИЯ/ЭМГУЗАРОНӢ | R66: 1 | T66: 2
... A77: u | B77: OTHER, SPECIFY: | F77: 1 | H77: 2 | M77: u | N77: ДИГАР, МУАЙЯН КУНЕД: | R77: 1 | T77: 2

Sheet 3Hours
A1: =-3 -> -3 | B1: HOURS AND DUTIES | H1: RECORD RESPONSE | K1: =-3 -> -3 | L1: СОАТҲОИ КОРӢ ВА ВАЗИФАҲО | R1: ҶАВОБРО НАВИСЕД
A3: =A1-0.01 -> -3.01 | B3: How many hours per week are you contracted to work at this facility? | C3: HOURS PER WEEK | K3: =K1-0.01 -> -3.01 | L3: Чанд соат дар як ҳафта Шумо бояд мувофиқи шартнома дар ин муассиса кор кунед? | M3: СОАТ ДАР ЯК ҲАФТА
B5: RECORD AVERAGE NUMBER OF HOURS PER WEEK. | L5: МИҚДОРИ СОАТҲОРО ДАР ЯК ҲАФТА БА ҲИСОБИ МИЁНА ҚАЙД КУНЕД.
A7: =A3-0.01 -> -3.02 | B7: we understand that absences are expected and unavoidable. In the last 30 days, how many days were you absent from work? | C7: NUMBER OF DAYS IN THE LAST 30 DAYS | K7: =K3-0.01 -> -3.02 | L7: Мо мефаҳмем ки корманди тиб на ҳамавақт метавонад дар ҷои кор ҳузур надошта бошад бо сабабҳои узрнок.Дар давоми 30 рӯзи охир чанд рӯз Шумо дар ҷойи кор ҳузур надоштед? | M7: ШУМОРАИ РӮЗҲО ДАР 30 РӮЗИ ОХИР
A12: =A7-0.01 -> -3.03 | B12: In the last 7 days, how many days did you work at this facility including home visits? | C12: NUMBER OF DAYS IN THE LAST 7 DAYS. MAXIMUM 7. | K12: =K7-0.01 -> -3.03 | L12: Дар давоми хафтаи охир Шумо чанд рӯз дар ин муассиса бо назардошти ташрифҳои хонагӣ кор кардед? | M12: ШУМОРАИ РӮЗҲО ДАР ДАВОМИ 7 РӮЗИ ОХИР. МАКСИМУМ 7.
A15: =A12-0.01 -> -3.04 | B15: In the last 7 days, how many hours did you work at this facility in total, including time spent on home visits? | C15: NUMBER OF HOURS IN THE LAST 7 DAYS. MAXIMUM 168. | K15: =K12-0.01 -> -3.04 | L15: Дар давоми 7 рӯзи охир Шумо умуман чанд соат дар ин муассиса бо назардошти вақтҳои барои ташрифҳои хонагӣ сарфшуда кор кардед? | M15: МИҚДОРИ СОАТҲО ДАР ДАВОМИ 7 РӮЗИ ОХИР. МАКСИМУМ 168.
A18: =A15-0.01 -> -3.05 | B18: In comparing to 12 months ago, would you say the number of hours you work in a week have increased, decreased or remained the same, including home visits and other prevention activities? | C18: Increased | E18: 1 | K18: =K15-0.01 -> -3.05 | L18: Дар муқоиса бо 12 моҳи охир, оё соатҳои кории Шумо дар як ҳафта, бо назардошти ташрифҳои хонагӣ ва дигар корҳои пешгирикунӣ зиёд шуд, кам шуд ё бетағир монд? | M18: Зиёд шуд | O18: 1
C20: Decreased | E20: 2 | M20: Кам шуд | O20: 2
C22: Remained the same | E22: 3 | M22: Бетағир монд | O22: 3
A24: =A18-0.01 -> -3.06 | B24: Have you ever been absent from work without authorized leave? | C24: YES | E24: 1 | K24: =K18-0.01 -> -3.06 | L24: Оё Шумо ягон маротиба бе иҷозати расмӣ дар ҷойи кор ғоиб будед? | M24: ҲА | O24: 1
C25: NO | E25: 2 | F25: ► | G25: =A40 -> -3.08 | M25: НЕ | O25: 2 | P25: ► | Q25: =K40 -> -3.08
A26: =A24-0.01 -> -3.07 | B26: The last time you were away from work without authorized leave, what type of activity were you doing? | C26: a. | D26: I GOT STUCK TRAVELING TO WORK | K26: =K24-0.01 -> -3.07 | L26: Бори охир вақте, ки Шумо бе иҷозати расмӣ аз ҷойи кор берун будед, Шумо бо чӣ кор машғул будед? | M26: a. | N26: МАН ҲАНГОМИ БА КОР РАФТАН ДАР РОҲ РУСТ МОНДАМ
C28: b. | D28: I WAS SICK | M28: b. | N28: МАН БЕМОР БУДАМ
C29: c. | D29: I WAS CARING FOR SICK RELATIVES | M29: c. | N29: МАН БА ХЕШОВАНДОНИ БЕМОР БУДАМ НИГОҲУБИН КАРДАМ
B31: INTERVIEWER: DO NOT READ OPTIONS ALOUD. FOR EACH OPTION, NOTE WHETHER THE HEALTH WORKER MENTIONED THIS ACTION OR NOT. | C31: d. | D31: I WAS ATTENDING ANOTHER JOB (PAID) | L31: САВОЛДИҲАНДА: ВАРИАНТҲОРО НАХОНЕД. БАРОИ ҲАР ЯК ВАРИАНТ ҚАЙД КУНЕД, КИ ОЁ КОРМАНДИ ТИБ ИН АМАЛҲОРО НОМБАР КАРД Ё НЕ. | M31: d. | N31: МАН ДАР ҶОЙИ ДИГАРИ КОРӢ (ПАРДОХТШАВАНДА) БУДАМ
C33: e. | D33: I WAS ATTENDING ANOTHER JOB (UNPAID) | M33: e. | N33: МАН ДАР ҶОЙИ ДИГАРИ КОРӢ (ПАРДОХТНАШАВАНДА) БУДАМ
C35: f. | D35: I WAS CARING FOR CHILDREN | M35: f. | N35: МАН КӮДАКОНАМРО НИГОҲУБИН КАРДАМ
C36: g. | D36: I WAS DOING HOUSEHOLD CHORES | M36: g. | N36: МАН КОРҲОИ ХОНААМРО КАРДАМ
B37: MENTIONED……….....1 | C37: h. | D37: I WAS TIRED FROM THE PREVIOUS DAY | L37: НОМБАР КАРД………..1 | M37: h. | N37: МАН ЯК РӮЗ ПЕШ ХЕЛЕ ХАСТА ШУДАМ
B38: NOT MENTIONED……2 | L38: НОМБАР НАКАРД……2
C39: i. | D39: OTHER, SPECIFY: | M39: i. | N39: ДИГАР, МУАЙЯН КУНЕД:
A40: =A26-0.01 -> -3.08 | B40: When you are away from the facility without authorized leave, do any of the following occur? | C40: a. | D40: Facility head / manager contacts you | K40: =K26-0.01 -> -3.08 | L40: Вақте, ки Шумо бе иҷозати расмӣ аз ҷойи кор берун будед, ягон ҳолати зерин ба вуҷуд омад? | M40: a. | N40: Роҳбари муассиса/менеҷер бо Шумо сӯҳбат кард
C42: b. | D42: Your salary / allowance / bonus is reduced | M42: b. | N42: Маош/музди меҳнат/бонуси Шумо кам карда шуд
C44: c. | D44: Manager discusses this with you | M44: c. | N44: Менеҷер ин ҳолатро бо Шумо муҳокима кард
B46: INTERVIEWER: READ OPTIONS ALOUD. FOR EACH OPTION, RECORD "1" FOR YES OR "2" FOR NO. | C46: d. | D46: Absences are reflected in your performance assessment | L46: САВОЛДИҲАНДА: ВАРИАНТҲОРО ХОНЕД. БАРОИ ҲАР ЯК ВАРИАНТ "1"-РО ҚАЙД КУНЕД, АГАР ҲА Ё "2"-РО ҚАЙД КУНЕД, АГАР НЕ. | M46: d. | N46: Ғоиб буданатон ба натиҷаи кори Шумо таъсир расонд
C48: e. | D48: Your coworkers speak to you about it | M48: e. | N48: Ҳамкоронатон ба Шумо дар ин бора гап заданд
C50: f. | D50: Other, specify: | M50: f. | N50: Дигар, муайян кунед:
A51: =A40-0.01 -> -3.09 | B51: How many individual patients did you see on your last full working day? | C51: NUMBER OF PATIENTS | K51: =K40-0.01 -> -3.09 | L51: Дар рӯзи кории пурраи охирини худ Шумо чанд нафар беморонро қабул кардед? | M51: ШУМОРАИ БЕМОРОН
B53: INTERVIEWER: PLEASE COUNT GROUP SENSITIZATION OF MOTHERS/PATIENTS AND COUNT PATIENTS SEEN ON HOME VISITS | L53: САВОЛДИҲАНДА: АЗ ҶУМЛА АГАР БА ХОНАИ ЯГОН БЕМОР ТАШРИФ ОВАРДА БОШАД ИЛТИМОС ГУРӮҲИ МОДАРОН/БЕМОРОНРО БА ҲИСОБ НАГИРЕД

Sheet 4Salary
A1: =-4 -> -4 | B1: SALARY | I1: RECORD RESPONSE | L1: =-4 -> -4 | M1: МАОШ | T1: ҶАВОБРО НАВИСЕД
A3: =A1-0.01 -> -4.01 | B3: What is your current monthly net salary? | C3: TJ SOMONI | L3: =L1-0.01 -> -4.01 | M3: Музди маоши моҳонаи софи Шумо ҳоло чанд аст? | N3: СОМОНӢ
B4: INTERVIEWER! ADDITIONAL SUM FROM PBF SHOULD NOT BE INCLUDED! | M4: САВОЛДИҲАНДА! ТАНҲО БАРОИ НОҲИЯҲОИ МАНФ: МАБЛАҒҲОИ ИЛОВАГИ АЗ ҲИСОБИ МАНФ ГИРИФТА ШУДАРО ДОХИЛ НАКУНЕД!
A7: =A3-0.01 -> -4.02 | B7: What was your monthly net salary one year ago? | C7: TJ SOMONI | L7: =L3-0.01 -> -4.02 | M7: Музди маоши моҳонаи софи Шумо як сол пеш чанд буд? | N7: СОМОНӢ
B8: INTERVIEWER! ONLY FOR PBF DISTRICTS: ADDITIONAL SUM FROM PBF SHOULD NOT BE INCLUDED! | M8: САВОЛДИҲАНДА! ТАНҲО БАРОИ НОҲИЯҲОИ МАНФ: МАБЛАҒҲОИ ИЛОВАГИ АЗ ҲИСОБИ МАНФ ГИРИФТА ШУДАРО ДОХИЛ НАКУНЕД!
A11: =A7-0.01 -> -4.03 | B11: Over the past 2 years, has your salary increased because of the following reasons? | C11: a. | D11: Routine or general increase | L11: =L7-0.01 -> -4.03 | M11: Дар давоми 2 соли охир оё маоши Шумо аз сабабҳои зерин зиёд шуд? | N11: a. | O11: Зиёдшавии нақшавӣ ё умумӣ
B13: INTERVIEWER: READ ALL OPTIONS ALOUD. FOR EACH OPTION, RECORD "1" IF YES, "2" IF NO. | C13: b. | D13: Other, specify: | M13: САВОЛДИҲАНДА: ВАРИАНТҲОРО ХОНЕД. БАРОИ ҲАР ЯК ВАРИАНТ "1"-РО ҚАЙД КУНЕД АГАР ҲА Ё "2"-РО ҚАЙД КУНЕД АГАР НЕ. | N13: b. | O13: Дигар, муайян кунед:
A16: =A11-0.01 -> -4.04 | B16: In the last 12 months, did you receive all your due salary according to the payment schedule? | C16: YES | F16: 1 | G16: ► | H16: =A43 -> -4.13 | L16: =L11-0.01 -> -4.04 | M16: Дар давоми 12 моҳи охир оё Шумо ҳамаи маоши худро мувофиқи ҷадвали пардохти маош мегиред? | N16: ҲА | Q16: 1 | R16: ► | S16: =L43 -> -4.13
C17: NO | F17: 2 | N17: НЕ | Q17: 2
A18: =A16-0.01 -> -4.05 | B18: What day of the month are you supposed to receive your salary? | C18: INTERVIEWER: ENTER A NUMBER, EG 08 OR 21. MAX 31. | L18: =L16-0.01 -> -4.05 | M18: Дар кадом рӯзи ҳар моҳ Шумо бояд маош гиред? | N18: САВОЛДИҲАНДА: РАҚАМРО ВОРИД КУНЕД, МАСАЛАН 08 Ё 21. МАКС 31.
A20: =A18-0.01 -> -4.06 | B20: Last month, how many days was your salary delayed? | C20: STILL NOT RECEIVED | F20: 77 | G20: ► | H20: =A24 -> -4.08 | L20: =L18-0.01 -> -4.06 | M20: Моҳи гузашта пардохти маош чанд рӯз дер ба амал омад ? | N20: ҲОЛО ҲАМ НАГИРИФТААМ | Q20: 77 | S20: =L24 -> -4.08
C21: RECEIVED ON TIME | F21: 00 | N21: ДАР ВАҚТАШ ГИРИФТАМ | Q21: 00
A22: =A20-0.01 -> -4.07 | B22: Have you received your salary in totality? | C22: YES | F22: 1 | L22: =L20-0.01 -> -4.07 | M22: Шумо маоши худро ба пуррагӣ гирифтед? | N22: ҲА | Q22: 1
C23: NO | F23: 2 | N23: НЕ | Q23: 2
A24: =A22-0.01 -> -4.08 | B24: The previous month (2 months ago), how many days was your salary delayed? | C24: STILL NOT RECEIVED | F24: 77 | G24: ► | H24: =A28 -> -4.1 | L24: =L22-0.01 -> -4.08 | M24: Моҳи пешина (2 моҳ пеш) пардохти маош чанд рӯз дер ба амал омад? | N24: ҲОЛО ҲАМ НАГИРИФТААМ | Q24: 77 | S24: =L28 -> -4.1
C25: RECEIVED ON TIME | F25: 00 | N25: ДАР ВАҚТАШ ГИРИФТАМ | Q25: 00
A26: =A24-0.01 -> -4.09 | B26: Have you received it in totality? | C26: YES | F26: 1 | L26: =L24-0.01 -> -4.09 | M26: Шумо маоши худро ба пуррагӣ гирифтед? | N26: ҲА | Q26: 1
C27: NO | F27: 2 | N27: НЕ | Q27: 2
A28: =A26-0.01 -> -4.1 | B28: In the last 12 months, those times that you did not receive your full salary on time, what reason was usually given for you not being paid? | C28: a. | D28: LACK OF FUNDS | L28: =L26-0.01 -> -4.1 | M28: Дар давоми 12 моҳи охир дар он вақтҳое, ки маош ба Шумо дар вақташ пардохт карда нашуд, одатан кадом сабабҳоро ҳамчун сабаби пардохт нашудани маош ба Шумо пеш оварданд? | N28: a. | O28: НАБУДАНИ МАБЛАҒ
C30: b. | D30: SYSTEMIC DELAY / ADMINISTRATIVE PROBLEM | N30: b. | O30: ДЕРМОНИИ СИСТЕМАТИКӢ/МУШКИЛИҲОИ МАЪМУРӢ
C31: c. | D31: SALARY WITHHELD TO SERVICE OUTSTANDING DEBTS | N31: c. | O31: ПАРДОХТИ МАОШ БАРОИ РӮЙПУШ КАРДАНИ ҚАРЗҲОИ ПАРДОХТНАШУДА БОЗ ДОШТА ШУД
B32: INTERVIEWER: DO NOT READ OPTIONS ALOUD. FOR EACH OPTION, NOTE WHETHER THE HEALTH WORKER MENTIONED THIS REASON OR NOT. | M32: САВОЛДИҲАНДА: ВАРИАНТҲОРО НАХОНЕД. БАРОИ ҲАР ЯК ВАРИАНТ ҚАЙД КУНЕД, КИ ОЁ КОРМАНДИ ТИБ ИН САБАБРО НОМБАР КАРД Ё НЕ.
C33: d. | D33: NON-PAYMENT WAS NOT EXPLAINED | N33: d. | O33: САБАБИ БОЗДОШТИ ПАРДОХТРО НАФАҲМОНДАНД
C35: e. | D35: RELATED TO PERFORMANCE / ABSENCE | N35: e. | O35: ВОБАСТА БА ИҶРОИШИ КОР/ҒОИБ БУДАН
B36: MENTIONED………..1 | M36: НОМБАР КАРД………..1
B37: NOT MENTIONED……2 | C37: f. | D37: OTHER, SPECIFY: | M37: НОМБАР НАКАРД……2 | N37: f. | O37: Дигар, муайян кунед:
A38: =A28-0.01 -> -4.11 | B38: For the last 12 months, have you received all the salary due to you, even if it was not according to the payment schedule? | C38: YES | F38: 1 | G38: ► | H38: =A43 -> -4.13 | L38: =L28-0.01 -> -4.11 | M38: Дар давоми 12 моҳи охир оё Шумо ҳамаи маоши худро, ҳатто агар мувофиқи нақшаи пардохти маош набошад ҳам, гирифтед? | N38: ҲА | Q38: 1 | R38: ► | S38: =L43 -> -4.13
C40: NO | F40: 2 | N40: НЕ | Q40: 2
A41: =A38-0.01 -> -4.12 | B41: How many months' salary are you currently owed regarding the past 12 months? | C41: NUMBER OF MONTHS (RANGE IS 1-12) | L41: =L38-0.01 -> -4.12 | M41: Мувофиқи 12 моҳи охир чанд қадар маоши Шумо ҳоло пардохтношуда мондааст? | N41: МИҚДОРИ МОҲҲО (АЗ 1-12)
A43: =A41-0.01 -> -4.13 | B43: ONLY FOR PBF DISTRICTS | C43: YES | F43: 1 | L43: =L41-0.01 -> -4.13 | M43: ТАНҲО БАРОИ НОҲИЯҲОИ МАНФ: | N43: ҲА | Q43: 1
B44: Do you receive payments in the context of the Performance-Based Financing project? | M44: Оё шумо дар доираи лоиҳаи МАНФ маблағ мегиред?
C45: NO | F45: 2 | N45: НЕ | Q45: 2
A46: =A43-0.01 -> -4.14 | B46: When was the last time you were provided such payment? | C46: MONTH/YEAR | L46: =L43-0.01 -> -4.14 | M46: Бори охирон кай ба Шумо чунин маблағ дода шуд? | N46: МОҲ/СОЛ
A48: =A46-0.01 -> -4.15 | B48: What was the payment amount? | C48: TJ SOMONI | L48: =L46-0.01 -> -4.15 | M48: Бори охирон ин маблағ чӣ қадарро ташкил кард? | N48: СОМОНӢ
A49: =A48-0.01 -> -4.16 | B49: What was the amount of the previous payment (before last one)? | C49: TJ SOMONI | L49: =L48-0.01 -> -4.16 | M49: Маблағи пештара чӣ қадарро ташкил дод (пеш аз охирон маротиба)? | N49: СОМОНӢ
A51: =A49-0.01 -> -4.17 | B51: From the beginning of the project in 2015, have the individual payments you received in the context of the PBF project increase, decrease or remain the same? | C51: Became less | F51: 1 | L51: =L49-0.01 -> -4.17 | M51: Аз оғози лоиҳа дар соли 2015, маблағҳои инфиродие, ки Шумо аз ҳисоби лоиҳаи МАНФ мегирифтед, чи гуна тағйир ёфтанд? | N51: Кам шуд | O51: 1 | P51: 1
C52: Without changes | F52: 2 | N52: Бе тағйир монд | O52: 2 | P52: 2
C53: Increased | F53: 3 | N53: Зиед шуд | O53: 3 | P53: 3
A54: =A51-0.01 -> -4.18 | B54: Since the beginning of the PBF in 2015, have you changed the way in which you conduct your work in order to increase the performance payments to your health facility? | C54: Yes | F54: 1 | L54: =L51-0.01 -> -4.18 | M54: Аз оғози лоиҳаи МАНФ дар соли 2015, Шумо тарзи кори худро нисбати фаъолиятатон иваз кардед, ки он барои баланд бардоштани самаранокии пардохтҳо ба муассисаи тиббии Шумо имконият дод? | N54: ҲА | Q54: 1
C56: No | F56: 2 | G56: ► | H56: ='5OtherComp'!A3 -> -5.01 | N56: НЕ | Q56: 2 | R56: ► | S56: ='5OtherComp'!A3 -> -5.01
...

Sheet 5OtherComp
A1: =-5 -> -5 | B1: OTHER COMPENSATION | E1: RECORD RESPONSE | H1: =-5 -> -5 | I1: ТОВОНҲОИ (КУМАКХОИ) ДИГАР | L1: ҶАВОБРО НАВИСЕД
A3: =A1-0.01 -> -5.01 | B3: Do you currently receive any of the following benefits as part of your primary job? | C3: a. | D3: Free or subsidized housing | H3: =H1-0.01 -> -5.01 | I3: Оё Шумо ягон кӯмакҳои зеринро ҳамчун як қисми кори аввалиндараҷаи худ мегиред? | J3: a. | K3: Кӯмаки моддии пурра ё қисмӣ барои хона
C4: b. | D4: Health care benefits and/or medicines | J4: b. | K4: Кӯмаки пулӣ барои нигоҳдошти саломатӣ/дорувориҳо
C6: c. | D6: Free food/meals at work | J6: c. | K6: Хӯроки/ғизои бепул дар ҷойи кор
B7: INTERVIEWER: READ OPTIONS ALOUD. FOR EACH OPTION, RECORD "1" FOR YES OR "2" FOR NO. | C7: d. | D7: Uniform for your work | I7: САВОЛДИҲАНДА: ВАРИАНТҲОРО ХОНЕД. БАРОИ ҲАР ЯК ВАРИАНТ "1"-РО ҚАЙД КУНЕД, АГАР ҲА БОШАД, Ё "2"-РО ҚАЙД КУНЕД, АГАР НЕ БОШАД. | J7: d. | K7: Форма барои кори Шумо
C8: e. | D8: Shoes for your work | J8: e. | K8: Пойафзол барои кори Шумо
C9: f. | D9: Transport between work and home | J9: f. | K9: Нақлиёти байни кор ва хона
C10: g. | D10: Other, specify | J10: g. | K10: Дигар, муаяйн кунед
A11: =A3-0.01 -> -5.02 | B11: How much did you receive in the last period or at your last ad hoc payment for the Rural Hardship allowance in TJ Somoni? | C11: TJ SOMONI | H11: =H3-0.01 -> -5.02 | I11: Дар давраи гузашта шумо чӣ қадар маблағ ё ҳангоми пардохти махсуси Кӯмаки иҷтимоии деҳот ба ҳисоби сомонӣ Шумо чанд пул гирифтед? | J11: СОМОНӢ

Sheet 6Superv
A1: =-6 -> -6 | B1: SUPERVISION (INTERNAL AND EXTERNAL) | K1: =-6 -> -6 | L1: НАЗОРАТ (ДОХИЛӢ ВА БЕРУНӢ)
A2: (A) | B2: INTERNAL SUPERVISION | H2: RECORD RESPONSE | K2: (A) | L2: НАЗОРАТИ ДОХИЛӢ | R2: ҶАВОБРО НАВИСЕД
A4: Now I would like to talk with you about supervision of your work by people who also work in this facility. | K4: Ҳоло ман мехоҳам бо Шумо дар бораи назорати коратон аз тарафи одамоне, ки инчунин дар ин муассиса кор мекунанд, сӯҳбат кунам.
A6: =A1-0.01 -> -6.01 | B6: Within the facility, is there anyone who is responsible for supervising your work? This could include providing feedback on your performance, giving you advice, discussing your career with you? | C6: YES | E6: 1 | K6: =K1-0.01 -> -6.01 | L6: Дар муассиса ягон нафар ҳамчун шахси масъул барои назорати кори Шумо таъин карда шудааст? Ва ӯ метавонад шарҳу эзоҳоти худро оиди иҷроиши коратон дихад. Додани маслиҳат, муҳокимаи ихтисоси Шумо низ ҳам дохил кунад? | M6: ҲА | O6: 1
C9: NO | E9: 2 | F9: ► | G9: =A39 -> -6.07 | M9: НЕ | O9: 2 | P9: ► | Q9: =K39 -> -6.07
A12: =A6-0.01 -> -6.02 | B12: Within the facility, who is responsible for supervising your work? | C12: Health facility head | E12: 1 | K12: =K6-0.01 -> -6.02 | L12: Дар чорчӯбаи муассиса кӣ барои назорати кори Шумо вобаста ухдадор аст? | M12: Мудири муассисаи тиббӣ | O12: 1
C13: Head of service within the facility | E13: 2 | M13: Мудири шӯъба дар муассиса | O13: 2
C14: Other health worker in the facility | E14: 3 | M14: Дигар корманди муассиса | O14: 3
C15: Other, specify: | E15: 96 | M15: Дигар, муайян кунед: | O15: 96
A16: =A12-0.01 -> -6.03 | B16: What is the position of your supervisor as designated by the Ministry of Health? | C16: Family Physician | E16: 1 | K16: =K12-0.01 -> -6.03 | L16: Вазифаи назоратчии Шумо мувофиқи муқаррароти Вазорати тандурустӣ чист? | M16: Духтури оилавӣ | O16: 1
C17: Obstetrician/Gynecologist | E17: 2 | M17: Духтури занона/Акушер-Гинеколог | O17: 2
C18: Clinical intern/junior doctor Midwife Family Nurse Feldsher | E18: 3 | M18: Духтури хурд/Интерн | O18: 3
C19: Midwife | E19: 4 | M19: Момодоя | O19: 4
C20: Family Nurse | E20: 5 | M20: Ҳамшираи тибби оилавӣ | O20: 5
C21: Feldsher | E21: 6 | M21: Фелдшер | O21: 6
C22: Other, specify: | E22: 96 | M22: Дигар, муайян кунед: | O22: 96
A23: =A16-0.01 -> -6.04 | B23: When was the last time you met with this internal supervisor to discuss your performance or your career development? | C23: Within the past 30 days | E23: 1 | K23: =K16-0.01 -> -6.04 | L23: Кай бори охирон Шумо бо назоратчии дохилии худ вохӯрда иҷроиши кор ва такмили ихтисоси худро муҳокима кардед? | M23: Дар давоми 30 рӯзи охир | O23: 1
C24: Within the past 31-90 days | E24: 2 | M24: Дар давоми 31-90 рӯзи охир | O24: 2
C25: Within the past 4-6 months | E25: 3 | M25: Дар давоми 4-6 моҳи охир | O25: 3
C26: More than 6 months ago | E26: 4 | M26: Зиёда аз 6 моҳ пеш | O26: 4
A27: =A23-0.01 -> -6.05 | B27: Within the last 12 months, have you discussed any job difficulties with your internal supervisor? | C27: YES | E27: 1 | K27: =K23-0.01 -> -6.05 | L27: Дар давоми 12 моҳи охир оё Шумо бо назоратчии дохилӣ мушкилиҳои корро муҳокима кардед? | M27: ҲА | O27: 1
C29: NO | E29: 2 | F29: ► | G29: =A39 -> -6.07 | M29: НЕ | O29: 2 | P29: ► | Q29: =K39 -> -6.07
A31: =A27-0.01 -> -6.06 | B31: After these discussions, did you notice a lot of improvements, some improvements or no improvements? | C31: A LOT OF IMPROVEMENTS | E31: 1 | K31: =K27-0.01 -> -6.06 | L31: Пас аз ин муҳокимаҳо оё Шумо беҳбудиҳои зиёдро дидед, беҳбудиҳои на он кадар зиёд ё умуман ягон беҳбудихоро надидед? | M31: БЕҲБУДИҲОИ ЗИЁД | O31: 1
C33: SOME IMPROVEMENTS | E33: 2 | M33: БЕҲБУДИҲОИ НА ОН КАДАР ЗИЁД | O33: 2
C34: NO IMPROVEMENTS | E34: 3 | M34: ЯГОН БЕҲБУДИ НАШУД | O34: 3
A35: (B) | B35: EXTERNAL SUPERVISION | H35: RECORD RESPONSE | K35: (B) | L35: НАЗОРАТИ БЕРУНӢ | R35: ҶАВОБРО НАВИСЕД
A37: Now I would like to talk with you about supervision of your work by people from outside of the facility. | K37: Ҳоло ман мехоҳам бо Шумо дар бораи назорати коратон аз тарафи одамоне, ки берун аз ин муассиса кор мекунанд, сӯҳбат кунам.
A39: =A31-0.01 -> -6.07 | B39: Outside of this health facility, is there anyone who is responsible for supervising your work? This could include providing feedback on your performance, giving you advice, discussing your career with you? | C39: YES | E39: 1 | K39: =K31-0.01 -> -6.07 | L39: Берун аз ин муассиса ягон нафар ҳамчун шахси масъул барои назорати кори Шумо таъин карда шудааст? Ва у метавонад додани шарҳу эзоҳот оиди иҷроиши коратон, додани маслиҳат, муҳокимаи ихтисоси Шумо дохил шавад? | M39: ҲА | O39: 1
C42: NO | E42: 2 | F42: ► | G42: -7.01 | M42: НЕ | O42: 2 | P42: ► | Q42: -7.01
A45: =A39-0.01 -> -6.08 | B45: Who outside the facility is responsible for supervising your work? | C45: DHMT Official | E45: 1 | K45: =K39-0.01 -> -6.08 | L45: Берун аз муассиса кӣ барои назорати кори Шумо вобаста карда шудааст? | M45: Раёсати тандурустии ноҳия | O45: 1
C46: PHO Official | E46: 2 | M46: Намояндаи КАТС | O46: 2
C47: MoH Official | E47: 3 | M47: Намояндаи расмии Вазорати тандурустӣ | O47: 3
C49: Donor | E49: 4 | M49: Донор | O49: 4
C50: Other, specify: | E50: 96 | M50: Дигар, муайян кунед: | O50: 96
A51: =A45-0.01 -> -6.09 | B51: In the last 12 months, how many times have you met with this external supervisor? | C51: NUMBER OF TIMES | K51: =K45-0.01 -> -6.09 | L51: Дар давоми 12 моҳи охир Шумо бо ин назоратчии беруна чанд маротиба вохӯрдед? | M51: МАРОТИБА
A54: =A51-0.01 -> -6.1 | B54: When was the last time you met with your external supervisor to discuss your performance or your career development? | C54: Within the past 30 days | E54: 1 | K54: =K51-0.01 -> -6.1 | L54: Кай бори охирон Шумо бо назоратчии берунаи худ вохӯрда иҷроиши кор ва такмили ихтисоси худро муҳокима кардед? | M54: Дар давоми 30 рӯзи охир | O54: 1
C55: Within the past 31-90 days | E55: 2 | M55: Дар давоми 31-90 рӯзи охир | O55: 2
C56: Within the past 4-6 months | E56: 3 | M56: Дар давоми 4-6 моҳи охир | O56: 3
C57: More than 6 months ago | E57: 4 | M57: Зиёда аз 6 моҳ пеш | O57: 4
C58: Never | E58: 5 | F58: ► | G58: ='7SecJob'!A7 -> -7.01 | M58: Ҳеҷ гоҳ | O58: 5 | P58: ► | Q58: ='7SecJob'!A7 -> -7.01
...

Sheet 7SecJob
A1: =-7 -> -7 | B1: SUPPLEMENTAL INCOME | H1: RECORD RESPONSE | K1: =-7 -> -7 | L1: ДАРОМАДИ ИЛОВАГӢ | R1: ҶАВОБРО НАВИСЕД
A3: It is common for health workers to have additional work to their primary job at the health facility. I would like to ask you questions about additional work you might be doing. Please answer the following questions with regards to your supplemental activity. | K3: Дар байни кормандони тиб кори иловагӣ бар замми кори асосиашон дар муассисаи тиббӣ хеле маъмул аст. Ман мехоҳам дар бораи ҷои кори иловагие, ки шояд Шумо дар он кор кунед, савол диҳам. Лутфан ба саволҳои зерин оид ба фаъолияти иловагиатон ҷавоб диҳед.
A7: =A1-0.01 -> -7.01 | B7: What is this work or activity? | C7: a. | D7: Work in another government agency | K7: =K1-0.01 -> -7.01 | L7: Ин кадом намуди кор ё фаъолият аст? | M7: a. | N7: Кор дар дигар муассисаи давлатӣ
C8: b. | D8: In a private hospital or as a private doctor | M8: b. | N8: Дар дармонгоҳи шахсӣ ё хамчун духтури шахси
B10: INTERVIEWER: READ THE OPTIONS, FOR EACH OPTION INDICATE 1 IF "YES" AND 2 IF "NO". | C10: c. | D10: Work at a drug store/pharmacy | L10: САВОЛДИҲАНДА: ВАРИАНТҲОРО ХОНЕД. БАРОИ ҲАР ЯК ВАРИАНТ, "1"-РО ҚАЙД КУНЕД АГАР ҲА ВА "2"-РО ҚАЙД КУНЕД АГАР НЕ. | M10: c. | N10: Кор дар дорухона
C11: d. | D11: Work in business, apart of medical and agricultural sector | M11: d. | N11: Кор дар тиҷорати ғайритиббӣ, ба ғайр аз соҳаи хоҷагии деҳқонӣ
C13: e. | D13: Agriculture | M13: e. | N13: Хоҷагии деҳқонӣ
C14: f. | D14: Other (specify) | M14: f. | N14: Дигар, муайян кунед:
A15: IF ALL ANSWERS ARE “NO”, THEN MOVE TO ANOTHER SECTION OF THE QUESTIONNAIRE | K15: АГАР ҲАМА ҶАВОБҲО "НЕ" БОШАНД, БА ҚИСМИ ДИГАР ГУЗАРЕД
A16: =A7-0.01 -> -7.02 | B16: What is the main reason that you are doing this other job or activity? | C16: I CANNOT MAKE ENDS MEET ON MY PRIMARY INCOME | G16: 1 | K16: =K7-0.01 -> -7.02 | L16: Сабаби асосӣ дар чист, ки Шумо бо ин кор ё фаъолияти дигар машғул мебошед? | M16: МАН ДАРОМАДИ АСОСИЯМРО БАЗУР МЕРАСОНАМ | Q16: 1
C18: HOURLY PAY IS LUCRATIVE IN THIS SECONDARY JOB | G18: 2 | M18: ПАРДОХТ АЗ РӮИ СОАТИ КОРӢ ДАР КОРИ ДУЮМДАРАҶАИНА ХУБ АСТ | Q18: 2
B20: INTERVIEWER: DO NOT READ OPTIONS ALOUD. | C20: I CAN GAIN EXPERIENCE THAT IS NOT AVAILABLE IN MY PRIMARY JOB. | G20: 3 | L20: САВОЛДИҲАНДА: ВАРИАНТҲОРО НАХОНЕД. | M20: МАН ТАҶРИБАЕ МЕГИРАМ, КИ ДАР ҶОЙИ КОРИ ЯКУМАМ ГИРИФТАНИ ОН ИМКОННОПАЗИР АСТ. | Q20: 3
C23: THE SECONDARY JOB HAS A BETTER ENVIRONMENT | G23: 4 | M23: КОРИ ДУЮМ ШАРОИТИ БЕҲТАР ДОРАД | Q23: 4
C25: I CAN SEE PATIENTS I COULD NOT SEE DURING WORKING HOURS | G25: 5 | M25: МАН БЕМОРОНЕРО, КИ ДАР СОАТҲОИ КОРӢ ҚАБУЛ КАРДА НАТАВОНИСТАМ, ҚАБУЛ МЕКУНАМ | Q25: 5
C28: OTHER, SPECIFY: | G28: 96 | M28: ДИГАР, МУАЙЯН КУНЕД: | Q28: 96
A29: =A16-0.01 -> -7.03 | B29: How long have you been doing this additional job or activity? RECORD BOTH YEARS AND MONTHS. | C29: a. | D29: YEARS | K29: =K16-0.01 -> -7.03 | L29: Шумо чанд муддат бо ин кор ё фаъолият машғул ҳастед? ҲАМ СОЛ ВА ҲАМ МОҲҲОРО ҚАЙД КУНЕД. | M29: a. | N29: СОЛҲО
C31: b. | D31: MONTHS (RANGE IS 0-11) | M31: b. | N31: МОҲҲО (АЗ 0-11)
A33: =A29-0.01 -> -7.04 | B33: How many hours did you spend on this other work in the last 7 days? | C33: HOURS IN LAST 7 DAYS | K33: =K29-0.01 -> -7.04 | L33: Шумо барои ин кори дигар дар 7 рӯзи охир чанд соат сарф кардед? | M33: МИҚДОРИ СОАТҲО ДАР 7 РӮЗИ ОХИР
A35: =A33-0.01 -> -7.05 | B35: What is your monthly net income in this other work in TJ Somoni? (based on last month) | C35: TJ SOMONI | K35: =K33-0.01 -> -7.05 | L35: Даромади софи моҳонаи Шумо аз ин кори дигар ба ҳисоби сомонӣ чанд пулро ташкил медиҳад? (дар асоси даромади моҳи гузашта) | M35: СОМОНӢ

Sheet 8Wellbeing
A1: =-8 -> -8 | B1: WHO WELL-BEING INDEX | H1: =-8 -> -8 | I1: НИШОНДИҲАНДАИ БЕҲБУДӢ МУВОФИҚИ СУТ (СОЗМОНИ УМУМИҶАҲОНИИ ТАНДУРУСТӢ)
A2: Now I will read five statements about how a person might be feeling. For each of the five statements, please indicate whether in the last two weeks, you have been feeling this way most of the time, more than half of the time, less than half of the time, only rarely, or never. | H2: Ҳоло ман панҷ изҳоротеро дар бораи чӣ гуна худро ҳис кардани инсон мехонам. Барои ҳар кадоми ин изҳорот лутфан қайд кунед, ки оё дар ду ҳафтаи охир Шумо худро чунин ҳис кардед: бисёри вақт, зиёда аз нисфи вақт, камтар аз нисфи вақт, баъзан вақт ё ҳеҷ гоҳ.
A5: INTERVIEWER: READ EACH STATEMENT TO THE RESPONDENT AND RECORD THE RESPONSE CODE FOR EACH QUESTION. | H5: САВОЛДИҲАНДА: ҲАР ЯК ИЗҲОРОТРО БА МУСОҲИБ ХОНЕД ВА РАМЗИ ҶАВОБРО БАРОИ ҲАР ЯК САВОЛ ҚАЙД КУНЕД.
A7: PLEASE SHOW AND ASK TO PICK OUT THE COLORED AND NUMBERED CARDS. | C7: RESPONSE CODE | E7: RECORD RESPONSE | H7: ЛУТФАН БА МУСОҲИБ НИШОН ДИҲЕД ВА ХОҲИШ КУНЕД, КИ ВАРАҚАҲОИ РАНГА ВА РАҚАМГУЗОРӢ КАРДА ШУДАРО КАШАНД. | J7: РАМЗИ ҶАВОБ | L7: ҶАВОБРО НАВИСЕД
C8: MOST OF THE TIME | D8: 1 | J8: БИСЁРИ ВАҚТ | K8: 1
C9: MORE THAN HALF OF THE TIME | D9: 2 | J9: ЗИЁДА АЗ НИСФИ ВАҚТ | K9: 2
C10: LESS THAN HALF OF THE TIME | D10: 3 | J10: КАМТАР АЗ НИСФИ ВАҚТ | K10: 3
C11: NEVER | D11: 4 | J11: ҲЕҶ ГОҲ | K11: 4
A12: =A1-0.01 -> -8.01 | B12: In the past 2 weeks, I have felt cheerful and in good spirits….. | H12: =H1-0.01 -> -8.01 | I12: Дар 2 ҳафтаи охир ман худро хушҳол ҳис кардам ва табъи хуш доштам…..
A13: =A12-0.01 -> -8.02 | B13: In the past 2 weeks, I have felt calm and relaxed… | H13: =H12-0.01 -> -8.02 | I13: Дар 2 ҳафтаи охир ман худро ором ва осуда ҳис кардам…
A14: =A13-0.01 -> -8.03 | B14: In the past 2 weeks, I have felt active and vigorous… | H14: =H13-0.01 -> -8.03 | I14: Дар 2 ҳафтаи охир ман худро фаъол ва серҳаракат ҳис кардам…
A15: =A14-0.01 -> -8.04 | B15: In the past 2 weeks, I woke up feeling fresh and rested… | H15: =H14-0.01 -> -8.04 | I15: Дар 2 ҳафтаи охир ман аз хоб бардам ва роҳат карда мехезам…
A16: =A15-0.01 -> -8.05 | B16: In the past 2 weeks, my daily life has been filled with things that interest me…. | H16: =H15-0.01 -> -8.05 | I16: Дар 2 ҳафтаи охир ҳаёти ҳаррӯзаи ман бо он чизҳое, ки бароям шавқовар аст, иҳота карда шудааст….

Sheet 9Satisf
A1: =-9 -> -9 | B1: HEALTH WORKER SATISFACTION | H1: =-9 -> -9 | I1: ҚАНОАТМАНДИИ КОРМАНДИ ТИБ
A2: In this part of the questionnaire I would like to ask you some questions regarding your satisfaction with your current job. All answers are confidential. I am going to read you a series of statements about your level of satisfaction with various aspects of your current job. For each of these aspects, please tell me whether you are satisfied, neither satisfied nor unsatisfied, meaning you are indifferent, or unsatisfied using these cards. | H2: Дар ин қисми саволнома ман мехостам ба Шумо оиди қаноатмандиатон аз кори ҳозираатон савол диҳам. Ҳамаи ҷавобҳо махфӣ нигоҳ дошта мешаванд. Ман ба Шумо якчанд изҳоротро дар бораи сатҳи қаноатмандиатон аз тарафи ҷихатхои гуногуни кори ҳозираатон мехонам. Барои ҳар як ҷихати кори бо истифода бурдани аз ин варақаҳо лутфан гӯед, ки оё Шумо қаноатманд ҳастед, на қаноатманду на ғайриқаноатманд, яъне фарқ надорад ё ғайриқаноатманд.
A8: INTERVIEWER: READ EACH STATEMENT TO THE RESPONDENT AND RECORD THE RESPONSE CODE FOR EACH QUESTION. | H8: САВОЛДИҲАНДА: ҲАР ЯК ИЗҲОРОТРО БА МУСОҲИБ ХОНЕД ВА БАРОИ ҲАР ЯК САВОЛ РАМЗИ ҶАВОБРО ҚАЙД КУНЕД.
A10: PLEASE SHOW AND ASK TO PICK OUT THE COLORED AND NUMBERED CARDS. | C10: RESPONSE CODE | E10: RECORD RESPONSE | H10: ЛУТФАН БА МУСОҲИБ НИШОН ДИҲЕД ВА ХОҲИШ КУНЕД, КИ ВАРАҚАҲОИ РАНГА ВА РАҚАМГУЗОРӢ КАРДА ШУДАРО КАШАНД. | J10: РАМЗИ ҶАВОБ | L10: ҶАВОБРО НАВИСЕД
C11: SATISFIED | D11: 1 | J11: ҚАНОАТМАНД | K11: 1
C12: NEITHER SATISFIED NOR UNSATISFIED, I.E. INDIFFERENT | D12: 2 | J12: НА ҚАНОАТМАНДУ НА ҒАЙРИҚАНОАТМАНД, ЯЪНЕ ФАРҚ НАДОРАД | K12: 2
C14: UNSATISFIED | D14: 3 | J14: ҒАЙРИҚАНОАТМАНД | K14: 3
A15: =A1-0.01 -> -9.01 | B15: Working relationships with other facility staff | H15: =H1-0.01 -> -9.01 | I15: Муносибатҳои корӣ бо кормандони муассиса
A16: =A15-0.01 -> -9.02 | B16: Working relationships with District/ Ministry of Health staff | H16: =H15-0.01 -> -9.02 | I16: Муносибатҳои корӣ бо кормандони Маркази тандурустии ноҳиявӣ/Вазорати тандурустӣ
A17: =A16-0.01 -> -9.03 | B17: Working relationships with Management staff within the health facility | H17: =H16-0.01 -> -9.03 | I17: Муносибатҳои корӣ бо ҳайати роҳбарикунандаи муассиса
A18: =A17-0.01 -> -9.04 | B18: Quality of the management of the health facility by the management staff within the health facility | H18: =H17-0.01 -> -9.04 | I18: Сифати идоракунии муассисаи тиббӣ аз тарафи ҳайати роҳбарикунандаи муассисаи тиббӣ
A19: =A18-0.01 -> -9.05 | B19: Quantity of medicine available in the health facility | H19: =H18-0.01 -> -9.05 | I19: Миқдори дорувориҳое, ки дар муассисаи тиббӣ дастрас аст
A20: =A19-0.01 -> -9.06 | B20: Quality of medicine available in the health facility | H20: =H19-0.01 -> -9.06 | I20: Сифати дорувориҳое, ки дар муассисаи тиббӣ дастрас аст
A21: =A20-0.01 -> -9.07 | B21: Quantity of equipment in the health facility | H21: =H20-0.01 -> -9.07 | I21: Миқдори таҷҳизот дар муассисаи тиббӣ
A22: =A21-0.01 -> -9.08 | B22: Quality and physical condition of equipment in the health facility | H22: =H21-0.01 -> -9.08 | I22: Сифат ва ҳолати коршоямии таҷҳизот дар муассисаи тиббӣ
A23: =A22-0.01 -> -9.09 | B23: Availability of other supplies in the health facility (compresses, etc.; office supplies) | H23: =H22-0.01 -> -9.09 | I23: Дастрасии дигар маводҳо дар муассисаи тиббӣ, (Компресс,(тарбанди) ва ғ.; маводҳои идора)
A25: =A23-0.01 -> -9.1 | B25: The physical condition of the health facility building | H25: =H23-0.01 -> -9.1 | I25: Ҳолати коршоямии бинои муассисаи тиббӣ
A26: =A25-0.01 -> -9.11 | B26: Your ability to provide high quality of care given the current working conditions in the facility | H26: =H25-0.01 -> -9.11 | I26: Қобилияти Шумо барои пешкаш кардани сифати баланди хизматрасонӣ бо назардошти шароити корӣ дар муассиса
A28: =A26-0.01 -> -9.12 | B28: Your salary | H28: =H26-0.01 -> -9.12 | I28: Маоши Шумо
A29: =A28-0.01 -> -9.13 | B29: Respect by the community | H29: =H28-0.01 -> -9.13 | I29: Эҳтиром аз ҷониби ҷомеа
A30: =A29-0.01 -> -9.14 | B30: Support received from the community | H30: =H29-0.01 -> -9.14 | I30: Гирифтани дастгирии аз ҷомеа
A31: =A30-0.01 -> -9.15 | B31: Overall, how satisfied are you with your job? | H31: =H30-0.01 -> -9.15 | I31: Умуман, то чӣ андоза Шумо аз кори худ қаноатманд ҳастед?

Sheet 10PDrive
A1: =-10 -> -10 | B1: PERSONAL DRIVE | H1: =-10 -> -10 | I1: МУҲИТИ КОРӢ
A2: In this part of the questionnaire I would like to talk with you about your work environment. All answers are confidential. I am going to read you a series of statements about your work with your colleagues. For each of these aspects, please tell me whether you feel these are true most of the time, more than half of the time, less than half of the time, rarely or never. | H2: Дар ин қисми саволнома ман мехостам ба Шумо оиди муҳити кориатон савол диҳам. Ҳамаи ҷавобҳо махфӣ нигоҳ дошта мешаванд. Ман ба Шумо якчанд изҳоротро дар бораи кори Шумо бо ҳамкоронатон мехонам. Барои ҳар як ҷихат лутфан гӯед, ки оё ба фикри Шумо ин изҳорот бисёри вақт дуруст аст, зиёда аз нисфи вақт дуруст аст, камтар аз нисфи вақт дуруст аст, баъзе вақт дуруст аст ё ҳеҷ гоҳ дуруст нест.
A8: INTERVIEWER: READ EACH STATEMENT TO THE RESPONDENT AND RECORD THE RESPONSE CODE FOR EACH QUESTION. | H8: САВОЛНОМА: БА МУСОҲИБ ҲАР ЯК ИЗҲОРОТРО ХОНЕД ВА РАМЗИ ҶАВОБРО БАРОИ ҲАР ЯК САВОЛ ҚАЙД КУНЕД.
A10: PLEASE SHOW AND ASK TO PICK OUT THE COLORED AND NUMBERED CARDS. | C10: RESPONSE CODE | E10: RECORD RESPONSE | H10: ЛУТФАН БА МУСОҲИБ НИШОН ДИҲЕД ВА ХОҲИШ КУНЕД, КИ ВАРАҚАҲОИ РАНГА ВА РАҚАМГУЗОРӢ КАРДА ШУДАРО КАШАНД. | J10: РАМЗИ ҶАВОБҲО | L10: ҶАВОБРО НАВИСЕД
C11: MOST OF THE TIME | D11: 1 | J11: БИСЁРИ ВАҚТ | K11: 1
C12: MORE THAN HALF OF THE TIME | D12: 2 | J12: ЗИЁДА АЗ НИСФИ ВАҚТ | K12: 2
C13: LESS THAN HALF OF THE TIME | D13: 3 | J13: КАМТАР АЗ НИСФИ ВАҚТ | K13: 3
C14: ONLY RARELY | D14: 4 | J14: ТАНҲО БАЪЗЕ ВАҚТ | K14: 4
C15: NEVER | D15: 5 | J15: ҲЕҶ ГОҲ | K15: 5
A16: =A1-0.01 -> -10.01 | B16: Staff willingly share their expertise with other members. | H16: =H1-0.01 -> -10.01 | I16: Кормандон бо хохиши худ бо дигар аъзоён таҷриба ивазкуни мекунанд.
A17: =A16-0.01 -> -10.02 | B17: When disagreements occur among staff, they try to act like peacemakers to resolve the situation themselves. | H17: =H16-0.01 -> -10.02 | I17: Ҳангоми сар задани нофаҳмоӣ дар байни кормандон, онҳо кӯшиш мекунанд, ки чунон сулҳхоҳона рафтор кунанд, ки то вазъиятро худашон ҳал кунанд.
A19: =A17-0.01 -> -10.03 | B19: Staff willingly give their time to help each other out when someone falls behind or has difficulties with work. | H19: =H17-0.01 -> -10.03 | I19: Кормандон бо ҷону дил ба ҳамдигар кӯмак мерасонанд, агар ягон нафар қафо монад ё дар кор бо мушкилӣ рӯ ба рӯ шаванд.
A21: =A19-0.01 -> -10.04 | B21: Staff talk to each other before taking an action that might affect them. | H21: =H19-0.01 -> -10.04 | I21: Пеш аз ягон қарори мухим қабул кардан, кормандон бо ҳамдигарин масъаларо муҳокима мекунанд, ки ин қарор ба онҳо таъсир расонад.
A23: =A21-0.01 -> -10.05 | B23: Staff take steps to prevent problems arising between them. | H23: =H21-0.01 -> -10.05 | I23: Кормандон барои пешгирии проблемаҳое, ки дар байни онҳо сар мезанад, қарор қабул мекунанд.
A25: =A23-0.01 -> -10.06 | B25: Staff focus on what is wrong rather than the positive side. | H25: =H23-0.01 -> -10.06 | I25: Кормандон диққати худро ба он чизҳое, ки нодуруст аст, равон мекунанд, на ин ки ба ҷиҳатҳои мусбӣ.
A27: =A25-0.01 -> -10.07 | B27: Staff spend their time chatting amongst themselves about things that are not related to work. | H27: =H25-0.01 -> -10.07 | I27: Кормандон бо ҳамдигар дар бораи он чизҳое, ки ба кор тааллуқ надорад, сӯҳбат мекунанд.
A29: =A27-0.01 -> -10.08 | B29: Staff spend time complaining about work-related issues. | H29: =H27-0.01 -> -10.08 | I29: Кормандон вақти худро бо танқиди масъалаҳои ба кор тааллуқдошта сарф мекунанд.
A31: =A29-0.01 -> -10.09 | B31: My job allows me freedom in how I organize my work and the methods and approaches to use. | H31: =H29-0.01 -> -10.09 | I31: Кори ман озодӣ медиҳад, ки ман кори худро мувофиқи табъам ташкил кунам ва методу тарзҳои худро истифода барам.
A33: =A31-0.01 -> -10.1 | B33: I am given enough authority by my supervisors to do my job well. | H33: =H31-0.01 -> -10.1 | I33: Роҳбарам ба ман барои иҷроиши хуби корам ваколати кофӣ медиҳад.
A34: =A33-0.01 -> -10.11 | B34: It is important for me that the community recognizes my work as a professional. | H34: =H33-0.01 -> -10.11 | I34: Ба ман хеле муҳим аст, ки ҷамъият кори маро ҳамчун одами кордон эътироф кунад.
A36: =A34-0.01 -> -10.12 | B36: It is important for me that my peers recognize my work as a professional. | H36: =H34-0.01 -> -10.12 | I36: Ба ман муҳим аст, ки ҳамкасбон кори маро ҳамчун одами кордон эътироф кунад.
A38: =A36-0.01 -> -10.13 | B38: Changes in the facility are easy to adjust to. | H38: =H36-0.01 -> -10.13 | I38: Ба тағироти муассиса одат кардан осон аст.
A39: =A38-0.01 -> -10.14 | B39: Rapid changes are difficult to cope with. | H39: =H38-0.01 -> -10.14 | I39: Аз ӯҳдаи тағиротҳои тез-тез баромадан мушкил аст.
A40: =A39-0.01 -> -10.15 | B40: Changes bring opportunities to make improvements in the facility. | H40: =H39-0.01 -> -10.15 | I40: Тағиротҳо барои ворид кардани беҳбудиҳо дар муассиса имконият пеш меоранд.
A42: =A40-0.01 -> -10.16 | B42: My job makes me feel good about myself. | H42: =H40-0.01 -> -10.16 | I42: Ман аз кори худам хеле хушҳол ҳастам.
A43: =A42-0.01 -> -10.17 | B43: I am proud of the work I'm doing in this facility. | H43: =H42-0.01 -> -10.17 | I43: Ман аз кори худ дар ин муассиса фахр мекунам.
A44: =A43-0.01 -> -10.18 | B44: I am proud to be working for this health facility. | H44: =H43-0.01 -> -10.18 | I44: Ман аз кор кардан дар ин муассисаи тиббӣ фахр мекунам.
A45: =A44-0.01 -> -10.19 | B45: I am glad that I am working for this facility rather than in other facilities in the country. | H45: =H44-0.01 -> -10.19 | I45: Ман аз кор кардан маҳз дар ҳамин муассиса, на ин ки дар муассисаи дигари кишвар хурсанд ҳастам.
A47: =A45-0.01 -> -10.2 | B47: I would prefer to work somewhere else than in this facility. | H47: =H45-0.01 -> -10.2 | I47: Ман мехостам дар муассисаи дигар кор кунам.
A48: =A47-0.01 -> -10.21 | B48: This health facility inspires me to do my very best on the job. | H48: =H47-0.01 -> -10.21 | I48: Кор дар ин муассисаи тиббӣ ба ман барои хуб иҷро кардани корам фараҳ мебахшад.
A50: =A48-0.01 -> -10.22 | B50: I complete my tasks efficiently and effectively. | H50: =H48-0.01 -> -10.22 | I50: Ман кори худро босамара ва бонатиҷа анҷом медиҳам.

Sheet 11Innov
A1: =-11 -> -11 | B1: INNOVATION | H1: =-11 -> -11 | I1: НАВГОНИҲО
A2: I am now going to read you some examples of situations that may happen at the health center. These situations may or may not be currently true in the health facility where you work. For each situation, I would like to know what kind of actions you would take. All answers are confidential. | H2: Ҳоло ман ба Шумо якчанд ҳолатҳоеро мехонам, ки дар маркази саломатӣ ба вуҷуд омаданаш мумкин аст. Чунин ҳолатҳо барои муассисаи тиббие, ки Шумо кор мекунед шояд рост ояд ва шояд не. Барои ҳар як ҳолат ман мехостам фаҳмам, ки Шумо чӣ чора меҷустед. Ҳамаи ҷавобҳо махфӣ ҳастанд.
A6: # | B6: CASE SCENARIOS | C6: POTENTIAL RESPONSES | E6: RECORD REPONSE | H6: # | I6: ҲОЛАТҲО | J6: ҶАВОБҲОИ ИМКОНПАЗИР | L6: ҶАВОБРО НАВИСЕД
A8: =A1-0.01 -> -11.01 | B8: If it were the case that too few women in the community come in for prenatal care, what would you do? | C8: A | D8: NOTHING. IT IS THE WOMEN'S OWN CHOICE. | H8: =H1-0.01 -> -11.01 | I8: Агар ҳолате шавад, ки миқдори ками занҳои минтақа барои назорати ҳомиладорӣ муроҷиат кунанд, он гоҳ Шумо чӣ кор мекардед? | J8: A | K8: ҲЕҶ ЧИЗ. ИН ИНТИХОБИ ХУДИ ЗАНҲО АСТ.
C9: B | D9: OFFER AN IN-KIND INCENTIVE TO WOMEN WHO COME IN | J9: B | K9: БА ЗАНҲОЕ, КИ МЕОЯНД, ҲАВАСМАНДГАРДОНИИ ҒАЙРИ ПУЛӢ ПЕШНИҲОД МЕКАРДАМ
C11: C | D11: OFFER A CASH INCENTIVE TO WOMEN WHO COME IN | J11: C | K11: БА ЗАНҲОЕ, КИ МЕОЯНД, ҲАВАСМАНДГАРДОНИИ ПУЛӢ ПЕШНИҲОД МЕКАРДАМ
B12: INTERVIEWER: DO NOT READ OPTIONS ALOUD. FOR EACH OPTION, NOTE WHETHER THE HEALTH WORKER MENTIONED THIS REASON OR NOT. | I12: САВОЛДИҲАНДА: ВАРИАНТҲОРО НАХОНЕД. БАРОИ ҲАР ЯК ВАРИАНТ ҚАЙД КУНЕД, КИ ОЁ КОРМАНДИ ТИБ ИН САБАБРО НОМБАР КАРД Ё НЕ.
C13: D | D13: ENGAGE WITH COMMUNITY HEALTH WORKERS | J13: D | K13: ҲАМКОРӢ БО КОРМАНДОНИ ТИБ ДАР МАҲАЛҲО
C14: E | D14: OFFER INCENTIVE TO COMMUNITY HEALTH WORKERS | J14: E | K14: БА КОРМАНДОНИ ТИБ ДАР МАҲАЛҲО ҲАВАСМАНДГАРДОНӢ ПЕШНИҲОД МЕКУНАМ
C16: F | D16: TALK TO THE COMMUNITY LEADERS AND HAVE THEM CONVINCE THE WOMEN | J16: F | K16: БА ФАЪОЛОНИ МАҲАЛЛӢ СӮҲБАТ КАРДА, АЗ ОНҲО ХОҲИШ МЕКАРДАМ, КИ ЗАНҲОРО РОЗӢ КУНОНАНД.
B18: MENTIONED….1 | C18: G | D18: ORGANIZE SENSITIZATION/OUTREACH ACTIVITIES | I18: НОМБАР КАРД….1 | J18: G | K18: КОРҲОИ ФАҲМОНДАДИҲӢ/ТАРҒИБОТӢ ТАШКИЛ МЕКАРДАМ
B19: NOT MENTIONED….2 | C19: H | D19: OTHER, SPECIFY | I19: НОМБАР НАКАРД….2 | J19: H | K19: ДИГАР, МУАЙЯН КУНЕД:
A20: # | B20: CASE SCENARIOS | C20: POTENTIAL RESPONSES | E20: RECORD REPONSE | H20: # | I20: ҲОЛАТҲО | J20: ҶАВОБҲОИ ИМКОНПАЗИР | L20: ҶАВОБРО НАВИСЕД
A22: =A8-0.01 -> -11.02 | B22: If it were the case that too few women in the community come in for post-natal care, what would you do? | C22: A | D22: NOTHING. IT IS THE WOMEN'S OWN CHOICE. | H22: =H8-0.01 -> -11.02 | I22: Агар ҳолате шавад, ки миқдори ками занҳои минтақа барои назорати пас аз таваллуд муроҷиат кунанд, он гоҳ Шумо чӣ кор мекардед? | J22: A | K22: ҲЕҶ ЧИЗ. ИН ИНТИХОБИ ХУДИ ЗАНҲО АСТ.
C23: B | D23: ENGAGE WITH TRADITIONAL BIRTH ATTENDANTS | J23: B | K23: БО МОМОДОЯИ ХАЛҚӢ/ХОНАГӢ ҲАМКОРӢ МЕКАРДАМ
C25: C | D25: OFFER INCENTIVE TO TRADITIONAL BIRTH ATTENDANTS | J25: C | K25: МОМОДОЯИ ХАЛҚӢ/ХОНАГИРО ҲАВАСМАНД МЕГАРДОНИДАМ
B27: INTERVIEWER:DO NOT READ OPTIONS ALOUD. FOR EACH OPTION, NOTE WHETHER THE HEALTH WORKER MENTIONED THIS REASON OR NOT. | C27: D | D27: OFFER AN IN-KIND INCENTIVE TO WOMEN WHO COME IN | I27: САВОЛДИҲАНДА: ВАРИАНТҲОРО НАХОНЕД. БАРОИ ҲАР ЯК ВАРИАНТ ҚАЙД КУНЕД, КИ ОЁ КОРМАНДИ ТИБ ИН САБАБРО НОМБАР КАРД Ё НЕ. | J27: D | K27: БА ЗАНҲОЕ, КИ МЕОЯНД ҲАВАСМАНДГАРДОНИИ ҒАЙРИ ПУЛӢ ПЕШНИҲОД МЕКАРДАМ
C29: E | D29: OFFER A CASH INCENTIVE TO WOMEN WHO COME IN | J29: E | K29: БА ЗАНҲОЕ, КИ МЕОЯНД ҲАВАСМАНДГАРДОНИИ ПУЛӢ ПЕШНИҲОД МЕКАРДАМ.
C31: F | D31: ENGAGE WITH COMMUNITY HEALTH WORKERS | J31: F | K31: ҲАМКОРӢ БО КОРМАНДОНИ ТИБ ДАР МАҲАЛҲО
C32: G | D32: OFFER INCENTIVE TO COMMUNITY HEALTH WORKERS | J32: G | K32: БА КОРМАНДОНИ ТИБ ДАР МАҲАЛҲО ҲАВАСМАНДГАРДОНӢ ПЕШНИҲОД МЕКУНАМ
C34: H | D34: TALK TO THE COMMUNITY LEADERS AND HAVE THEM CONVINCE THE WOMEN | J34: H | K34: БА ФАЪОЛОНИ МАҲАЛЛӢ СӮҲБАТ КАРДА, АЗ ОНҲО ХОҲИШ МЕКАРДАМ, КИ ЗАНҲОРО РОЗӢ КУНОНАНД.
C36: I | D36: ORGANIZE SENSITIZATION/OUTREACH ACTIVITIES | J36: I | K36: КОРҲОИ ФАҲМОНДАДИҲӢ/ТАРҒИБОТӢ ТАШКИЛ МЕКАРДАМ
B37: MENTIONED….1 | I37: НОМБАР КАРД….1
B38: NOT MENTIONED….2 | C38: J | D38: OTHER, SPECIFY | I38: НОМБАР НАКАРД….2 | J38: J | K38: ДИГАР, МУАЙЯН КУНЕД:
A39: -11.04 | B39: Say that the facility does not have any means of transportation for patients in emergencies. What would you do? | C39: A | D39: NOTHING. THE PATIENTS AND THEIR FAMILIES HAVE TO SORT IT OUT. | H39: =H22-0.01 -> -11.03 | I39: Фарз мекунем, ки муассиса ягон воситаи нақлиёт барои беморон барои ҳолатҳои таъҷилӣ надорад. Шумо чӣ кор мекунед? | J39: A | K39: ҲЕҶ ЧИЗ. БЕМОРОН ВА ОИЛАИ ОНҲО ХУДАШОН БОЯД ҲАЛ КУНАНД.
C41: B | D41: CONTRACT A PRIVATE PERSON/FIRM IN THE COMMUNITY WHO HAS A CAR | J41: B | K41: БО ШАХС/ТАШКИЛОТИ ХУСУСИЕ, КИ МОШИН ДОРАД, ШАРТНОМА МЕБАСТАМ
C43: C | D43: ORGANIZE A COMMUNITY FUND RAISER TO BUY A VEHICLE | J43: C | K43: БАРОИ ХАРИДАНИ ВОСИТАИ НАҚЛИЁТ АЗ МАҲАЛҲО ПУЛ ҶАМЪОВАРӢ МЕКАРДАМ
B45: INTERVIEWER:DO NOT READ OPTIONS ALOUD. FOR EACH OPTION, NOTE WHETHER THE HEALTH WORKER MENTIONED THIS REASON OR NOT. | C45: D | D45: SEEK FUNDS FROM THE GOVERNMENT TO BUY VEHICLE | I45: САВОЛДИҲАНДА: ВАРИАНТҲОРО НАХОНЕД. БАРОИ ҲАР ЯК ВАРИАНТ ҚАЙД КУНЕД, КИ ОЁ КОРМАНДИ ТИБ ИН САБАБРО НОМБАР КАРД Ё НЕ. | J45: D | K45: АЗ ҲУКУМАТ БАРОИ ХАРИДАНИ ВОСИТАИ НАҚЛИЁТ БУҶА ДАРХОСТ МЕКАРДАМ
C47: E | D47: SEEK FUNDS FROM NGO'S TO BUY VEHICLE | J47: E | K47: АЗ ТАШКИЛОТҲОИ ҒАЙРИҲУКУМАТӢ (НПО) БАРОИ ХАРИДАНИ ВОСИТАИ НАҚЛИЁТ МАБЛАҒ ДАРХОСТ МЕКАРДАМ
C49: F | D49: BUY A VEHICLE FROM THE FACILITY'S FUNDS | J49: F | K49: ВОСИТАИ НАҚЛИЁТРО АЗ ҲИСОБИ БУҶАИ МУАССИСА МЕХАРИДАМ
C51: G | D51: ENCOURAGE THEM TO USE COMMUNITY BASED TRANSPORT | J51: G | K51: ОНҲОРО ВОДОР МЕКАРДАМ, КИ АЗ НАҚЛИЁТИ ҶАМЪИЯТӢ ИСТИФОДА БАРАНД
B52: MENTIONED….1 | I52: НОМБАР КАРД….1
B53: NOT MENTIONED….2 | C53: H | D53: OTHER, SPECIFY | I53: НОМБАР НАКАРД….2 | J53: H | K53: ДИГАР, МУАЙЯН КУНЕД:
A54: THANK YOU FOR YOUR TIME | H54: ТАШАККУР БАРОИ ВАҚТИ ҶУДОКАРДААТОН
A56: SKIP TO F22 - CLINICAL VIGNETTES | H56: ГУЗАРЕД БА F22 - ВИНЕТКАҲОИ КЛИНИКӢ
