Workbook
Name POWER_USER_EXCEL_CHART_44D0C708_3ADC_4C7B_8B8F_FEB917D0C418: [1]F1b!#REF!
Name POWER_USER_EXCEL_CHART_44D0C708_3ADC_4C7B_8B8F_FEB917D0C418: [1]F1b!#REF!
Name POWER_USER_EXCEL_CHART_44D0C708_3ADC_4C7B_8B8F_FEB917D0C418: [1]F1b!#REF!
Name POWER_USER_EXCEL_CHART_44D0C708_3ADC_4C7B_8B8F_FEB917D0C418: [1]F1b!#REF!
Name POWER_USER_EXCEL_CHART_44D0C708_3ADC_4C7B_8B8F_FEB917D0C418: [2]F1b!#REF!
Name POWER_USER_EXCEL_CHART_44D0C708_3ADC_4C7B_8B8F_FEB917D0C418: [1]F1b!#REF!
Name POWER_USER_EXCEL_CHART_44D0C708_3ADC_4C7B_8B8F_FEB917D0C418: [1]F1b!#REF!
Name POWER_USER_EXCEL_CHART_44D0C708_3ADC_4C7B_8B8F_FEB917D0C418: [1]F1b!#REF!
Name POWER_USER_EXCEL_CHART_C64A436F_1D8E_4E3E_9D3C_59F85339ECFE: [1]F1b!#REF!
Name POWER_USER_EXCEL_CHART_C64A436F_1D8E_4E3E_9D3C_59F85339ECFE: [1]F1b!#REF!
Name POWER_USER_EXCEL_CHART_C64A436F_1D8E_4E3E_9D3C_59F85339ECFE: [1]F1b!#REF!
Name POWER_USER_EXCEL_CHART_C64A436F_1D8E_4E3E_9D3C_59F85339ECFE: [1]F1b!#REF!
Name POWER_USER_EXCEL_CHART_C64A436F_1D8E_4E3E_9D3C_59F85339ECFE: [2]F1b!#REF!
Name POWER_USER_EXCEL_CHART_C64A436F_1D8E_4E3E_9D3C_59F85339ECFE: [1]F1b!#REF!

Sheet Index
A1: Metadata
B2: =Metadata1!A1 -> Table 0.1: Sample Composition (# of Households)
B3: =Metadata2!A1 -> Table 0.2: Contact Rate
B4: =Figure1!A1 -> Number of Attempts
B5: =Metadata3!A1 -> Table 0.3: Result of Interview
B6: =Metadata4!A1 -> Table 0.4: Language of interivew
B7: Duration of Interview
B8: Table 0.5: Sample Compostition
A9: Basic Information
B10: Table 1.1: Respondent Characteristics (Age and Sex)
B11: Table 1.2: Respondent relationship to head
B12: Table 1.3: Respondent education*
B13: Table 1.4: Characteristics of Household
B14: Table 1.5: Older Adults and Dependency
A15: Behavior, and concerns
B16: Table 2.5. Prevalence of safe practices
B17: =Knowledge_Behav_Concerns2!A1 -> Table 2.7. Degree of worry about self/immediate family becoming seriously ill from Coronavirus
B18: =Knowledge_Behav_Concerns3!A1 -> Table 2.8. Degree of perception of threat to household's finance caused by coronavirus
B19: Table 2.11a. Prevalence of Safe Practises(Washing Hands with Soap after being in Public), Last 7 days
B20: Table 2.11b. Prevalence of Safe Practises(Wearing a Mask when in Public), Last 7 days
B21: Table 2.20. Patient Health
B22: Table 2.21. Early Child Development
B23: Table 2.21. Early Child Development Continued..
A24: Access
B25: Table 3.1. Access to Medicine and Medical Services, past 7 days
B26: Table 3.2a. Reasons basic needs were not available (% of HHs that could not Acess)
B27: Table 3.5. Reasons unable to access medical treatment (% of HHs where one of the members needed medical treatment)
B28: Table 3.3. Food Security Problems
B29: Table 3.3. Food Security Problems
B30: Table 3.4. Medical treatment in the past 4 weeks
B31: Table 3.4b. Type of Services Needed
A32: Employment
B33: Table 4.1. Overall Work Status
B34: Table 4.17 Job Stability
B35: Table 4.19. Work stoppages, main reason
B36: Table 4.21. Type of work of those respondents working
B37: Table 4.22. Hours worked (average for working population)
A38: Safety Nets
B39: Table 5.6 Other Income sources
B40: Table 6.10b. Share of Households that needed to Sell Livestock but Could Not. (% of households that kept livestock)
...

Sheet Metadata1
A1: Table 0.1: Sample Composition (# of Households) | I1: Back to Table of Contents
C2: Total | D2: Sector | F2: Design Strata
D3: Urban | E3: Rural | F3: Urban North | G3: Urban Center | H3: Urban South | I3: Rural North | J3: Rural Center | K3: Rural South
A4: Sample size, IHPS 2019 | C4: 2337 | D4: 779 | E4: 1558 | F4: 123 | G4: 390 | H4: 266 | I4: 202 | J4: 658 | K4: 698 | L4: Round 1
A5: Phone Number Availability | B5: Household Phone | C5: 1993 | D5: 736 | E5: 1257 | F5: 117 | G5: 370 | H5: 249 | I5: 158 | J5: 534 | K5: 565
B6: Only Reference Contact | C6: 344 | D6: 43 | E6: 301 | F6: 6 | G6: 20 | H6: 17 | I6: 44 | J6: 124 | K6: 133
A7: HHs called for Round 1 (sample size) | C7: 2337 | D7: 779 | E7: 1558 | F7: 123 | G7: 390 | H7: 266 | I7: 202 | J7: 658 | K7: 698
A8: HHs fully interviewed | C8: 1729 | D8: 617 | E8: 1112 | F8: 107 | G8: 292 | H8: 218 | I8: 149 | J8: 443 | K8: 520
A9: HHs reached but not fully interviewed | C9: 4 | D9: 3 | E9: 1 | F9: 1 | G9: 1 | H9: 1 | I9: 0 | J9: 0 | K9: 1
A10: HHs refused | C10: 10 | D10: 7 | E10: 3 | F10: 1 | G10: 3 | H10: 3 | I10: 0 | J10: 2 | K10: 1
A11: HHs unable to reach | C11: 594 | D11: 152 | E11: 442 | F11: 14 | G11: 94 | H11: 44 | I11: 53 | J11: 213 | K11: 176
A13: Sample size, IHPS 2019 | C13: 1729 | D13: 637 | E13: 1092 | F13: 108 | G13: 304 | H13: 225 | I13: 148 | J13: 431 | K13: 513 | L13: Round 2
A14: Phone Number Availability | B14: Household Phone | C14: 1542 | D14: 615 | E14: 927 | F14: 102 | G14: 298 | H14: 215 | I14: 123 | J14: 374 | K14: 430
B15: Only Reference Contact | C15: 187 | D15: 22 | E15: 165 | F15: 6 | G15: 6 | H15: 10 | I15: 25 | J15: 57 | K15: 83
A16: HHs called for Round 2 (sample size) | C16: 1729 | D16: 637 | E16: 1092 | F16: 108 | G16: 304 | H16: 225 | I16: 148 | J16: 431 | K16: 513
A17: HHs fully interviewed | C17: 1646 | D17: 613 | E17: 1033 | F17: 103 | G17: 293 | H17: 217 | I17: 141 | J17: 403 | K17: 489
A18: HHs reached but not fully interviewed | C18: 2 | D18: 1 | E18: 1 | F18: 0 | G18: 0 | H18: 1 | I18: 0 | J18: 1 | K18: 0
A19: HHs refused | C19: 7 | D19: 4 | E19: 3 | F19: 1 | G19: 3 | H19: 0 | I19: 0 | J19: 0 | K19: 3
A20: HHs unable to reach | C20: 74 | D20: 19 | E20: 55 | F20: 4 | G20: 8 | H20: 7 | I20: 7 | J20: 27 | K20: 21
A22: Sample size, IHPS 2019 | C22: =SUM(C23:C24) -> 1722 | D22: =SUM(D23:D24) -> 633 | E22: =SUM(E23:E24) -> 1089 | F22: =SUM(F23:F24) -> 107 | G22: =SUM(G23:G24) -> 301 | H22: =SUM(H23:H24) -> 225 | I22: =SUM(I23:I24) -> 148 | J22: =SUM(J23:J24) -> 431 | K22: =SUM(K23:K24) -> 510 | L22: Round 3
A23: Phone Number Availability | B23: Household Phone | C23: 1536 | D23: 611 | E23: 925 | F23: 101 | G23: 295 | H23: 215 | I23: 123 | J23: 374 | K23: 428
B24: Only Reference Contact | C24: 186 | D24: 22 | E24: 164 | F24: 6 | G24: 6 | H24: 10 | I24: 25 | J24: 57 | K24: 82
A25: HHs called for Round 3 (sample size) | C25: 1722 | D25: 633 | E25: 1089 | F25: 107 | G25: 301 | H25: 225 | I25: 148 | J25: 431 | K25: 510
A26: HHs fully interviewed | C26: 1624 | D26: 596 | E26: 1028 | F26: 103 | G26: 279 | H26: 214 | I26: 142 | J26: 403 | K26: 483
A27: HHs reached but not fully interviewed | C27: 1 | D27: 1 | E27: 0 | F27: 1 | G27: 0 | H27: 0 | I27: 0 | J27: 0 | K27: 0
A28: HHs refused | C28: 11 | D28: 8 | E28: 3 | F28: 2 | G28: 3 | H28: 3 | I28: 0 | J28: 2 | K28: 1
A29: HHs unable to reach | C29: 86 | D29: 28 | E29: 58 | F29: 1 | G29: 19 | H29: 8 | I29: 6 | J29: 26 | K29: 26
A31: Sample size, IHPS 2019 | C31: =SUM(C32:C33) -> 1707 | D31: =SUM(D32:D33) -> 622 | E31: =SUM(E32:E33) -> 1085 | F31: =SUM(F32:F33) -> 104 | G31: =SUM(G32:G33) -> 297 | H31: =SUM(H32:H33) -> 221 | I31: =SUM(I32:I33) -> 148 | J31: =SUM(J32:J33) -> 428 | K31: =SUM(K32:K33) -> 509 | L31: Round 4
A32: Phone Number Availability | B32: Household Phone | C32: 1521 | D32: 600 | E32: 921 | F32: 98 | G32: 291 | H32: 211 | I32: 123 | J32: 371 | K32: 427
B33: Only Reference Contact | C33: 186 | D33: 22 | E33: 164 | F33: 6 | G33: 6 | H33: 10 | I33: 25 | J33: 57 | K33: 82
A34: HHs called for Round 4 (sample size) | C34: 1707 | D34: 622 | E34: 1085 | F34: 104 | G34: 297 | H34: 221 | I34: 148 | J34: 428 | K34: 509
A35: HHs fully interviewed | C35: 1616 | D35: 596 | E35: 1020 | F35: 101 | G35: 285 | H35: 210 | I35: 141 | J35: 400 | K35: 479
A36: HHs reached but not fully interviewed | C36: 1 | D36: 0 | E36: 1 | F36: 0 | G36: 0 | H36: 0 | I36: 0 | J36: 1 | K36: 0
A37: HHs refused | C37: 3 | D37: 3 | E37: 0 | F37: 1 | G37: 1 | H37: 1 | I37: 0 | J37: 0 | K37: 0
A38: HHs unable to reach | C38: 87 | D38: 23 | E38: 64 | F38: 2 | G38: 11 | H38: 10 | I38: 7 | J38: 27 | K38: 30
A40: Sample size, IHPS 2019 | C40: =SUM(C41:C42) -> 1706 | D40: =SUM(D41:D42) -> 621 | E40: =SUM(E41:E42) -> 1085 | F40: =SUM(F41:F42) -> 104 | G40: =SUM(G41:G42) -> 296 | H40: =SUM(H41:H42) -> 221 | I40: =SUM(I41:I42) -> 148 | J40: =SUM(J41:J42) -> 428 | K40: =SUM(K41:K42) -> 509 | L40: Round 5
A41: Phone Number Availability | B41: Household Phone | C41: 1520 | D41: 599 | E41: 921 | F41: 98 | G41: 290 | H41: 211 | I41: 123 | J41: 371 | K41: 427
B42: Only Reference Contact | C42: 186 | D42: 22 | E42: 164 | F42: 6 | G42: 6 | H42: 10 | I42: 25 | J42: 57 | K42: 82
A43: HHs called for Round 5 (sample size) | C43: 1704 | D43: 619 | E43: 1085 | F43: 103 | G43: 296 | H43: 220 | I43: 148 | J43: 428 | K43: 509
A44: HHs fully interviewed | C44: 1589 | D44: 584 | E44: 1005 | F44: 97 | G44: 280 | H44: 207 | I44: 137 | J44: 395 | K44: 473
...

Sheet Metadata2
A1: Table 0.2: Contact Rate
B2: Average # per HH | C2: % of Total HHs
A3: Calls made - all HHs | B3: 3.8482697 | D3: Round 1
A4: Calls made, HHs interviewed | B4: 3.1298327 | C4: 76.885537
A5: Calls made, HHs refused | B5: 4.2 | C5: 0.44365572
A6: Calls made, no contact | B6: 6.4640523 | C6: 20.363798
A7: Calls made, other non-response | B7: 4.6346154 | C7: 2.3070098
A9: Calls made - all HHs | B9: 3.178716 | C9: 95.315211 | D9: Round 2
A10: Calls made, HHs interviewed | B10: 2.7870146 | C10: 0.4048583
A11: Calls made, HHs refused | B11: 2.8571429 | C11: 4.1642568
A12: Calls made, no contact | B12: 12.125 | C12: 0.1156738
A13: Calls made, other non-response
A15: Calls made - all HHs | B15: 3.1354651 | C15: 94.476744 | D15: Round 3
A16: Calls made, HHs interviewed | B16: 2.7470769 | C16: 0.63953488
A17: Calls made, HHs refused | B17: 4.6363636 | C17: 4.5930233
A18: Calls made, no contact | B18: 10.822785 | C18: 0.29069767
A19: Calls made, other non-response
A21: Calls made - all HHs | B21: 2.7627417 | C21: 94.727592 | D21: Round 4
A22: Calls made, HHs interviewed | B22: 2.4291899 | C22: 0.17574692
A23: Calls made, HHs refused | B23: 8.6666667 | C23: 4.8623316
A24: Calls made, no contact | B24: 9.0843373 | C24: 0.23432923
A25: Calls made, other non-response
A27: Calls made - all HHs | B27: 3.0774648 | C27: 93.251174 | D27: Round 5
A28: Calls made, HHs interviewed | B28: 2.6236627 | C28: 0.058685446
A29: Calls made, HHs refused | B29: 11 | C29: 6.2206573
A30: Calls made, no contact | B30: 9.5283019 | C30: 0.46948357
A31: Calls made, other non-response
A33: Calls made - all HHs | B33: 3.3129771 | C33: 93.59953 | D33: Round 6
A34: Calls made, HHs interviewed | B34: 2.718946 | C34: 0.11743981
A35: Calls made, HHs refused | B35: 7.5 | C35: 5.6958309
A36: Calls made, no contact | B36: 12.226804 | C36: 0.58719906
A37: Calls made, other non-response
A38: Back to Table of Contents

Sheet Figure1
A1: Number of Attempts | B1: Reached | C1: Not reached | D1: Reached | E1: Not Reached
A2: 1 | B2: 649 | C2: 166 | D2: =B2/SUM($B$2:$B$21) -> 0.37234653 | E2: =C2/SUM($C$2:$C$21) -> 0.16242661 | F2: Round 1
A3: 2 | B3: 323 | C3: 134 | D3: =B3/SUM($B$2:$B$36) -> 0.095477387 | E3: =C3/SUM($C$2:$C$36) -> 0.11921708
A4: 3 | B4: 225 | C4: 62 | D4: =B4/SUM($B$2:$B$36) -> 0.066509016 | E4: =C4/SUM($C$2:$C$36) -> 0.055160142
A5: 4 | B5: 169 | C5: 92 | D5: =B5/SUM($B$2:$B$36) -> 0.049955661 | E5: =C5/SUM($C$2:$C$36) -> 0.081850534
A6: 5 | B6: 117 | C6: 94 | D6: =B6/SUM($B$2:$B$36) -> 0.034584688 | E6: =C6/SUM($C$2:$C$36) -> 0.083629893
A7: 6 | B7: 78 | C7: 76 | D7: =B7/SUM($B$2:$B$36) -> 0.023056459 | E7: =C7/SUM($C$2:$C$36) -> 0.067615658
A8: 7 | B8: 45 | C8: 42 | D8: =B8/SUM($B$2:$B$36) -> 0.013301803 | E8: =C8/SUM($C$2:$C$36) -> 0.037366548
A9: 8 | B9: 35 | C9: 56 | D9: =B9/SUM($B$2:$B$36) -> 0.010345847 | E9: =C9/SUM($C$2:$C$36) -> 0.049822064
A10: 9 | B10: 27 | C10: 32 | D10: =B10/SUM($B$2:$B$36) -> 0.0079810819 | E10: =C10/SUM($C$2:$C$36) -> 0.028469751
A11: 10 | B11: 25 | C11: 86 | D11: =B11/SUM($B$2:$B$36) -> 0.0073898906 | E11: =C11/SUM($C$2:$C$36) -> 0.076512456
A12: 11 | B12: 19 | C12: 38 | D12: =B12/SUM($B$2:$B$36) -> 0.0056163169 | E12: =C12/SUM($C$2:$C$36) -> 0.033807829
A13: 12 | B13: 6 | C13: 28 | D13: =B13/SUM($B$2:$B$36) -> 0.0017735738 | E13: =C13/SUM($C$2:$C$36) -> 0.024911032
A14: 13 | B14: 8 | C14: 28 | D14: =B14/SUM($B$2:$B$36) -> 0.002364765 | E14: =C14/SUM($C$2:$C$36) -> 0.024911032
... A21: 20 | B21: 6 | C21: 24 | D21: =B21/SUM($B$2:$B$36) -> 0.0017735738 | E21: =C21/SUM($C$2:$C$36) -> 0.021352313
A22: Number of Attempts | B22: Reached | C22: Not reached | D22: Reached | E22: Not Reached
A23: 1 | B23: 688 | C23: 4 | D23: =B23/SUM($B$23:$B$41) -> 0.41570997 | E23: =C23/SUM($C$23:$C$41) -> 0.027027027 | F23: Round 2
A24: 2 | B24: 370 | C24: 0 | D24: =B24/SUM($B$2:$B$36) -> 0.10937038 | E24: =C24/SUM($C$2:$C$36) -> 0
A25: 3 | B25: 197 | C25: 0 | D25: =B25/SUM($B$2:$B$36) -> 0.058232338 | E25: =C25/SUM($C$2:$C$36) -> 0
A26: 4 | B26: 128 | C26: 12 | D26: =B26/SUM($B$2:$B$36) -> 0.03783624 | E26: =C26/SUM($C$2:$C$36) -> 0.010676157
A27: 5 | B27: 81 | C27: 0 | D27: =B27/SUM($B$2:$B$36) -> 0.023943246 | E27: =C27/SUM($C$2:$C$36) -> 0
A28: 6 | B28: 63 | C28: 10 | D28: =B28/SUM($B$2:$B$36) -> 0.018622524 | E28: =C28/SUM($C$2:$C$36) -> 0.0088967972
A29: 7 | B29: 28 | C29: 8 | D29: =B29/SUM($B$2:$B$36) -> 0.0082766775 | E29: =C29/SUM($C$2:$C$36) -> 0.0071174377
A30: 8 | B30: 25 | C30: 4 | D30: =B30/SUM($B$2:$B$36) -> 0.0073898906 | E30: =C30/SUM($C$2:$C$36) -> 0.0035587189
A31: 9 | B31: 18 | C31: 14 | D31: =B31/SUM($B$2:$B$36) -> 0.0053207213 | E31: =C31/SUM($C$2:$C$36) -> 0.012455516
A32: 10 | B32: 16 | C32: 10 | D32: =B32/SUM($B$2:$B$36) -> 0.00472953 | E32: =C32/SUM($C$2:$C$36) -> 0.0088967972
A33: 11 | B33: 8 | C33: 10 | D33: =B33/SUM($B$2:$B$36) -> 0.002364765 | E33: =C33/SUM($C$2:$C$36) -> 0.0088967972
A34: 12 | B34: 14 | C34: 10 | D34: =B34/SUM($B$2:$B$36) -> 0.0041383388 | E34: =C34/SUM($C$2:$C$36) -> 0.0088967972
A35: 13 | B35: 1 | C35: 10 | D35: =B35/SUM($B$2:$B$36) -> 0.00029559563 | E35: =C35/SUM($C$2:$C$36) -> 0.0088967972
... A41: 20 | B41: 6 | C41: 18 | D41: =B41/SUM($B$2:$B$36) -> 0.0017735738 | E41: =C41/SUM($C$2:$C$36) -> 0.016014235
A42: Number of Attempts | B42: Reached | C42: Not reached | D42: Reached | E42: Not Reached
A43: 1 | B43: 674 | C43: 2 | D43: =B43/SUM($B$43:$B$62) -> 0.41198044 | E43: =C43/SUM($C$43:$C$62) -> 0.011904762 | F43: Round 3
A44: 2 | B44: 371 | C44: 8 | D44: =B44/SUM($B$2:$B$36) -> 0.10966598 | E44: =C44/SUM($C$2:$C$36) -> 0.0071174377
A45: 3 | B45: 235 | C45: 14 | D45: =B45/SUM($B$2:$B$36) -> 0.069464972 | E45: =C45/SUM($C$2:$C$36) -> 0.012455516
A46: 4 | B46: 108 | C46: 0 | D46: =B46/SUM($B$2:$B$36) -> 0.031924328 | E46: =C46/SUM($C$2:$C$36) -> 0
A47: 5 | B47: 68 | C47: 16 | D47: =B47/SUM($B$2:$B$36) -> 0.020100503 | E47: =C47/SUM($C$2:$C$36) -> 0.014234875
A48: 6 | B48: 44 | C48: 10 | D48: =B48/SUM($B$2:$B$36) -> 0.013006208 | E48: =C48/SUM($C$2:$C$36) -> 0.0088967972
A49: 7 | B49: 47 | C49: 18 | D49: =B49/SUM($B$2:$B$36) -> 0.013892994 | E49: =C49/SUM($C$2:$C$36) -> 0.016014235
A50: 8 | B50: 14 | C50: 2 | D50: =B50/SUM($B$2:$B$36) -> 0.0041383388 | E50: =C50/SUM($C$2:$C$36) -> 0.0017793594
A51: 9 | B51: 16 | C51: 14 | D51: =B51/SUM($B$2:$B$36) -> 0.00472953 | E51: =C51/SUM($C$2:$C$36) -> 0.012455516
...

Sheet Figure2
T1: Total time spent in all sections for complete interviews (minutes)
B2: Duration | U2: All sections | V2: Crop Production and Sales | W2: Livestock | X2: Credit | Y2: Concerns | Z2: Income_Loss | AA2: Other Income | AB2: Non-Farm Ent | AC2: Employment_New | AD2: Employment_Old | AE2: Access | AF2: Behaviour | AG2: Household Roster
A3: Mean | B3: 13.664616 | T3: Mean | U3: 13.664616 | V3: 0.54679249 | W3: 0.31186056 | X3: 0.43255886 | Y3: 0.97297604 | Z3: 0.86888545 | AA3: 0.37001649 | AB3: 0.70645329 | AC3: 0.91700162 | AD3: 1.1041229 | AE3: 1.1549907 | AF3: 1.028489 | AG3: 0.41401773
A4: Median | B4: 12.783334 | O4: Note: time getting the attempts also included here | T4: Median | U4: 12.783334 | V4: 0.41666666 | W4: 0.21666667 | X4: 0.28333333 | Y4: 0.93333334 | Z4: 0.85000002 | AA4: 0.36666667 | AB4: 0.60000002 | AC4: 0.9083333 | AD4: 1.0666667 | AE4: 1.1333333 | AF4: 1 | AG4: 0.31666666
A5: Min | B5: 1.6166667 | O5: Add: actual interviewing time after getting consent | T5: Min | U5: 1.6166667 | V5: 0.083333336 | W5: 0.033333335 | X5: 0.083333336 | Y5: 0.40000001 | Z5: 0.26666668 | AA5: 0.13333334 | AB5: 0.050000001 | AC5: 0.34999999 | AD5: 0.44999999 | AE5: 0.46666667 | AF5: 0.5 | AG5: 0.11666667
A6: Max | B6: 58.716667 | T6: Max | U6: 58.716667 | V6: 1.6166667 | W6: 1.1833333 | X6: 1.4666667 | Y6: 1.7333333 | Z6: 1.95 | AA6: 0.71666664 | AB6: 2.25 | AC6: 2.8166666 | AD6: 2.2 | AE6: 2.1333334 | AF6: 1.8833333 | AG6: 1.9166666
A8: Back to Table of Contents

Sheet Metadata3
A1: Table 0.3: Result of Interview
B2: OVERALL | D2: Residence
D3: Urban | F3: Rural
B4: # of households | C4: % of overall sample | D4: # of households | E4: % of urban sample | F4: # of households | G4: % of rural sample
A5: Reached | H5: Round 1
A6: Complete | B6: 1729 | C6: 73.98374 | D6: 617 | E6: 79.204108 | F6: 1112 | G6: 71.373556
A7: Partially Complete | B7: 4 | C7: 0.17115961 | D7: 3 | E7: 0.38510911 | F7: 1 | G7: 0.064184852
A8: Refused | B8: 10 | C8: 0.42789902 | D8: 7 | E8: 0.89858793 | F8: 3 | G8: 0.19255456
A9: Language barrier
A10: Not Reached
A11: Nobody answering | B11: 21 | C11: 0.89858793 | D11: 9 | E11: 1.1553273 | F11: 12 | G11: 0.77021823
A12: Number does not exist | B12: 54 | C12: 2.3106547 | D12: 9 | E12: 1.1553273 | F12: 45 | G12: 2.8883184
A13: Phone turned off | B13: 467 | C13: 19.982884 | D13: 119 | E13: 15.275995 | F13: 348 | G13: 22.336329
A14: Wrong number (don't know the household) | B14: 29 | C14: 1.2409071 | D14: 6 | E14: 0.77021823 | F14: 23 | G14: 1.4762516
A15: Reference person can't connect to household | B15: 23 | C15: 0.98416774 | D15: 9 | E15: 1.1553273 | F15: 14 | G15: 0.89858793
A17: Reached | H17: Round 2
A18: Complete | B18: 1646 | C18: 95.199537 | D18: 613 | E18: 96.232339 | F18: 1033 | G18: 94.59707
A19: Partially Complete | B19: 2 | C19: 0.1156738 | D19: 1 | E19: 0.15698587 | F19: 1 | G19: 0.091575092
A20: Refused | B20: 7 | C20: 0.4048583 | D20: 4 | E20: 0.62794349 | F20: 3 | G20: 0.27472527
A21: Language barrier
A22: Not Reached
A23: Nobody answering | B23: 6 | C23: 0.3470214 | D23: 5 | E23: 0.78492936 | F23: 1 | G23: 0.091575092
A24: Number does not exist | B24: 1 | C24: 0.0578369 | D24: 0 | E24: 0 | F24: 1 | G24: 0.091575092
A25: Phone turned off | B25: 65 | C25: 3.7593985 | D25: 14 | E25: 2.1978022 | F25: 51 | G25: 4.6703297
A26: Wrong number (don't know the household)
A27: Reference person can't connect to household | B27: 2 | C27: 0.1156738 | D27: 0 | E27: 0 | F27: 2 | G27: 0.18315018
A29: Reached | H29: Round 3
A30: Complete | B30: 1624 | C30: 94.418605 | D30: 596 | E30: 94.303797 | F30: 1028 | G30: 94.485294
A31: Partially Complete | B31: 1 | C31: 0.058139535 | D31: 1 | E31: 0.15822785 | F31: 0 | G31: 0
A32: Refused | B32: 11 | C32: 0.63953488 | D32: 8 | E32: 1.2658228 | F32: 3 | G32: 0.27573529
A33: Language barrier
A34: Not Reached
A35: Nobody answering | B35: 9 | C35: 0.52325581 | D35: 7 | E35: 1.1075949 | F35: 2 | G35: 0.18382353
A36: Number does not exist
A37: Phone turned off | B37: 70 | C37: 4.0697674 | D37: 18 | E37: 2.8481013 | F37: 52 | G37: 4.7794118
A38: Wrong number (don't know the household)
A39: Reference person can't connect to household | B39: 5 | C39: 0.29069767 | D39: 2 | E39: 0.3164557 | F39: 3 | G39: 0.27573529
A41: Reached | H41: Round 4
A42: Complete | B42: 1616 | C42: 94.66901 | D42: 596 | E42: 95.819936 | F42: 1020 | G42: 94.009217
A43: Partially Complete | B43: 1 | C43: 0.058582308 | D43: 0 | E43: 0 | F43: 1 | G43: 0.092165899
...

Sheet Metadata4
A1: Table 0.4: Language of interivew
B2: Round 1 | C2: Round 2 | D2: Round 3 | E2: Round 4 | F2: Round 5 | G2: Round 6
B3: % of Interviews | C3: % of Interviews | D3: % of Interviews | E3: % of Interviews | F3: % of Interviews | G3: % of Interviews
A4: Chewa | B4: 88.37 | C4: 88.274605 | D4: 88.485222 | E4: 89.108911 | F4: 89.616111 | G4: 89.384422
A5: Nyanja | B5: 0.29 | C5: 0.91130012 | D5: 0 | E5: 0.12376238 | F5: 0.062932662 | G5: 0.12562814
A6: Yao | B6: 3.64 | C6: 3.6452005 | D6: 4.0640394 | E6: 3.960396 | F6: 4.468219 | G6: 4.3969849
A7: Tumbuka | B7: 5.32 | C7: 4.3134872 | D7: 5.0492611 | E7: 4.3316832 | F7: 3.6500944 | G7: 3.7688442
A8: Lhomwe | B8: 0 | C8: 0.060753341 | D8: 0 | E8: 0.061881188 | F8: 0 | G8: 0
A9: Nkhonde | B9: 0 | C9: 0 | D9: 0.061576355 | E9: 0 | F9: 0 | G9: 0
A10: Ngoni | B10: 0 | C10: 0.060753341 | D10: 0 | E10: 0 | F10: 0 | G10: 0
A11: Sena | B11: 0.06 | C11: 0 | D11: 0 | E11: 0 | F11: 0 | G11: 0
A12: Nyakyusa | B12: 0 | C12: 0 | D12: 0 | E12: 0.061881188 | F12: 0 | G12: 0
A13: Tonga | B13: 2.2 | C13: 2.5516403 | D13: 2.2783251 | E13: 2.3514851 | F13: 2.2026432 | G13: 2.1984925
A14: Lambya | B14: 0.06 | C14: 0 | D14: 0 | E14: 0 | F14: 0 | G14: 0
A15: Senga | B15: 0 | C15: 0 | D15: 0 | E15: 0 | F15: 0 | G15: 0
... A18: Other | B18: 0 | C18: 0 | D18: 0 | E18: 0 | F18: 0 | G18: 0
A19: Back to Table of Contents

Sheet Metadata5
A1: Table 0.5: Sample Composition*
B2: Round 1 | F2: Round 2 | J2: Round 3 | N2: Round 4 | R2: Round 5 | V2: Round 6
A3: Characteristic | B3: IHPS | D3: Phone sample | F3: IHPS | H3: Phone sample | J3: IHPS | L3: Phone sample | N3: IHPS | P3: Phone sample | R3: IHPS | T3: Phone sample | V3: IHPS | X3: Phone sample
B4: Unweighted | C4: Weighted | D4: Unweighted | E4: Weighted | F4: Unweighted | G4: Weighted | H4: Unweighted | I4: Weighted | J4: Unweighted | K4: Weighted | L4: Unweighted | M4: Weighted | N4: Unweighted | O4: Weighted | P4: Unweighted | Q4: Weighted | R4: Unweighted | S4: Weighted | T4: Unweighted | U4: Weighted | V4: Unweighted | W4: Weighted | X4: Unweighted | Y4: Weighted
A5: Sample size (successful interviews) | B5: 1724 | D5: 1640 | F5: 1720 | H5: 1616 | J5: 1720 | L5: 1624 | N5: 1707 | P5: 1616 | R5: 1704 | T5: 1589 | V5: 1703 | X5: 1592
A6: Average household size | B6: 4.7900232 | C6: 5.0684351 | D6: 4.8189024 | E6: 4.997087 | F6: 4.7843023 | G6: 5.0789827 | H6: 4.7939356 | I6: 4.975215 | J6: 4.7843023 | K6: 5.0789827 | L6: 4.7906404 | M6: 4.9823075 | N6: 4.7791447 | O6: 5.0792691 | P6: 4.8007426 | Q6: 5.1297538 | R6: 4.7775822 | S6: 5.0783476 | T6: 4.7967275 | U6: 5.1290004 | V6: 4.7774516 | W6: 5.0783616 | X6: 4.8140704 | Y6: 5.1214573
A7: Household head characteristics
A8: Female head (%) | B8: 21.925754 | C8: 25.329604 | D8: 21.646341 | E8: 29.432854 | F8: 22.151163 | G8: 25.08563 | H8: 21.967822 | I8: 29.375436 | J8: 22.151163 | K8: 25.08563 | L8: 22.044335 | M8: 29.909655 | N8: 22.144112 | O8: 25.251795 | P8: 21.720297 | Q8: 24.731631 | R8: 22.183099 | S8: 25.281482 | T8: 21.585903 | U8: 24.357697 | V8: 22.196124 | W8: 25.285995 | X8: 21.482412 | Y8: 25.130702
A9: Age | B9: 41.837587 | C9: 45.532897 | D9: 41.971341 | E9: 45.888494 | F9: 41.756977 | G9: 45.229743 | H9: 41.918317 | I9: 45.591022 | J9: 41.756977 | K9: 45.229743 | L9: 41.968596 | M9: 45.637347 | N9: 41.750439 | O9: 45.242973 | P9: 41.918936 | Q9: 44.584192 | R9: 41.759977 | S9: 45.251669 | T9: 41.864695 | U9: 44.406122 | V9: 41.761597 | W9: 45.252785 | X9: 41.837312 | Y9: 44.193056
A10: Literate (%) | B10: 88.457077 | C10: 84.118467 | D10: 88.841463 | E10: 77.583815 | F10: 88.372093 | G10: 83.696421 | H10: 88.923267 | I10: 76.692244 | J10: 88.372093 | K10: 83.696421 | L10: 88.916256 | M10: 76.768567 | N10: 88.400703 | O10: 83.603526 | P10: 88.861386 | Q10: 83.328961 | R10: 88.380282 | S10: 83.58425 | T10: 88.923851 | U10: 83.955804 | V10: 88.373459 | W10: 83.581319 | X10: 88.693467 | Y10: 83.590775
A11: Asset ownership
A12: Mobile phone | B12: 88.63109 | C12: 86.717826 | D12: 89.207317 | E12: 80.606308 | F12: 88.488372 | G12: 86.662451 | H12: 88.985149 | I12: 80.284525 | J12: 88.488372 | K12: 86.662451 | L12: 88.85468 | M12: 79.732412 | N12: 88.400703 | O12: 86.549379 | P12: 88.923267 | Q12: 87.421965 | R12: 88.380282 | S12: 86.533566 | T12: 89.112649 | U12: 87.889638 | V12: 88.373459 | W12: 86.531162 | X12: 88.944724 | Y12: 87.552256
A13: Television | B13: 27.4942 | C13: 24.69082 | D13: 28.109756 | E13: 17.548778 | F13: 27.325581 | G13: 23.993018 | H13: 27.908416 | I13: 16.903102 | J13: 27.325581 | K13: 23.993018 | L13: 27.832512 | M13: 16.495668 | N13: 27.123609 | O13: 23.887524 | P13: 27.846535 | Q13: 22.652362 | R13: 27.053991 | S13: 23.815844 | T13: 28.005035 | U13: 23.051821 | V13: 27.011157 | W13: 23.802244 | X13: 27.889447 | Y13: 22.799407
A14: Refrigerator | B14: 14.849188 | C14: 13.302656 | D14: 15.121951 | E14: 8.7947551 | F14: 14.534884 | G14: 12.929688 | H14: 14.542079 | I14: 8.1999123 | J14: 14.534884 | K14: 12.929688 | L14: 14.53202 | M14: 7.95135 | N14: 14.294083 | O14: 12.450128 | P14: 14.851485 | Q14: 10.531312 | R14: 14.260563 | S14: 12.381102 | T14: 14.789176 | U14: 10.703662 | V14: 14.268937 | W14: 12.383312 | X14: 15.012563 | Y14: 10.768639
A15: Car | B15: 5.6264501 | C15: 4.5346533 | D15: 5.7926829 | E15: 3.116501 | F15: 5.4651163 | G15: 4.1108975 | H15: 5.4455446 | I15: 2.5641527 | J15: 5.4651163 | K15: 4.1108975 | L15: 5.4187192 | M15: 2.5020414 | N15: 5.2138254 | O15: 3.6264372 | P15: 5.3836634 | Q15: 3.1767905 | R15: 5.2230047 | S15: 3.6307006 | T15: 5.3492763 | U15: 3.1261636 | V15: 5.2260716 | W15: 3.6313488 | X15: 5.4020101 | Y15: 3.2149291
A16: Generator | B16: 2.0301624 | C16: 1.7620946 | D16: 2.0731707 | E16: 1.1787592 | F16: 1.9767442 | G16: 1.4187793 | H16: 1.980198 | I16: 0.95770834 | J16: 1.9767442 | K16: 1.4187793 | L16: 1.9704433 | M16: 0.96599145 | N16: 1.9332162 | O16: 1.2637521 | P16: 1.980198 | Q16: 1.5412797 | R16: 1.8779343 | S16: 1.1815744 | T16: 2.0138452 | U16: 1.6426825 | V16: 1.879037 | W16: 1.1817854 | X16: 2.0100503 | Y16: 1.6189995
A17: IHPS PCA Index Based Wealth Quintiles
A18: Q1 | B18: 7.8306265 | C18: 6.685713 | D18: 7.195122 | E18: 13.461091 | F18: 7.9069767 | G18: 7.6649704 | H18: 7.6732673 | I18: 14.678958 | J18: 7.9069767 | K18: 7.6649704 | L18: 7.6970443 | M18: 15.314809 | N18: 7.8500293 | O18: 7.5633686 | P18: 7.6732673 | Q18: 9.131935 | R18: 7.8638498 | S18: 7.5722606 | T18: 7.4260541 | U18: 8.8610874 | V18: 7.8684674 | W18: 7.5736123 | X18: 7.3492462 | Y18: 8.7719116
A19: Q2 | B19: 13.689095 | C19: 13.254784 | D19: 13.170732 | E19: 17.588921 | F19: 13.72093 | G19: 14.713925 | H19: 12.809406 | I19: 17.662268 | J19: 13.72093 | K19: 14.713925 | L19: 12.807882 | M19: 18.123671 | N19: 13.825425 | O19: 14.838665 | P19: 13.180693 | Q19: 14.970175 | R19: 13.849765 | S19: 14.85611 | T19: 12.712398 | U19: 13.973946 | V19: 13.857898 | W19: 14.858762 | X19: 13.190955 | Y19: 14.739325
A20: Q3 | B20: 20.765661 | C20: 23.246193 | D20: 20.609756 | E20: 25.589547 | F20: 20.813953 | G20: 22.429545 | H20: 20.730198 | I20: 25.485923 | J20: 20.813953 | K20: 22.429545 | L20: 20.751232 | M20: 24.858979 | N20: 20.913884 | O20: 22.593711 | P20: 20.668317 | Q20: 24.577983 | R20: 20.950704 | S20: 22.620274 | T20: 21.019509 | U20: 24.610944 | V20: 20.963006 | W20: 22.624312 | X20: 20.665829 | Y20: 23.907608
A21: Q4 | B21: 26.740139 | C21: 28.613408 | D21: 27.134146 | E21: 23.400861 | F21: 26.802326 | G21: 27.932176 | H21: 27.413366 | I21: 23.438476 | J21: 26.802326 | K21: 27.932176 | L21: 27.401478 | M21: 23.401048 | N21: 26.947862 | O21: 28.149639 | P21: 26.856436 | Q21: 26.854996 | R21: 26.93662 | S21: 28.166633 | T21: 27.18691 | U21: 28.177337 | V21: 26.952437 | W21: 28.171661 | X21: 27.072864 | Y21: 28.410325
A22: Q5 | B22: 30.974478 | C22: 28.199902 | D22: 31.890244 | E22: 19.959582 | F22: 30.755814 | G22: 27.259383 | H22: 31.373762 | I22: 18.734376 | J22: 30.755814 | K22: 27.259383 | L22: 31.342365 | M22: 18.301493 | N22: 30.4628 | O22: 26.854616 | P22: 31.621287 | Q22: 24.46491 | R22: 30.399061 | S22: 26.784722 | T22: 31.655129 | U22: 24.376686 | V22: 30.358191 | W22: 26.771653 | X22: 31.721106 | Y22: 24.17083
A23: * Based on information from the IHPS only.
A24: Back to Table of Contents

Sheet Basic_Info1
A1: Table 1.1. Respondent Characteristics - AGE & SEX
B2: Number of respondents | C2: % of respondents | D2: By Sex
D3: Male respondents | E3: Female respondents
A4: Median age of respondents | B4: 37 | D4: 38 | E4: 36 | F4: Round 1
A5: 15-24 years | B5: 192 | C5: 11.104685 | D5: 9.2421442 | E5: 14.219474
A6: 25-39 years | B6: 789 | C6: 45.633314 | D6: 44.454713 | E6: 47.604328
A7: 40-49 years | B7: 351 | C7: 20.300752 | D7: 21.996303 | E7: 17.465224
A8: 50-64 years | B8: 281 | C8: 16.252169 | D8: 17.190388 | E8: 14.683153
A9: 65 years and above | B9: 116 | C9: 6.7090804 | D9: 7.116451 | E9: 6.0278207
C10: Total | D10: 1082 | E10: 647
C11: Percent | D11: 60.137642 | E11: 39.862358
A13: Median age of respondents | B13: 37 | D13: 38 | E13: 37 | F13: Round 2
A14: 15-24 years | B14: 173 | C14: 8.1325125 | D14: 7.8856454 | E14: 8.4841145
A15: 25-39 years | B15: 753 | C15: 40.162336 | D15: 36.566106 | E15: 45.28429
A16: 40-49 years | B16: 345 | C16: 24.174805 | D16: 26.404355 | E16: 20.999354
A17: 50-64 years | B17: 276 | C17: 19.113609 | D17: 20.611382 | E17: 16.980396
A18: 65 years and above | B18: 99 | C18: 8.4167377 | D18: 8.5325114 | E18: 8.2518463
C19: Total | D19: 1013 | E19: 633
C20: Percent | D20: 58.750237 | E20: 41.249763
A22: Median age of respondents | B22: 37 | D22: 38 | E22: 36.5 | F22: Round 3
A23: 15-24 years | B23: 181 | C23: 8.613324 | D23: 8.1722321 | E23: 9.1918488
A24: 25-39 years | B24: 732 | C24: 38.669214 | D24: 34.899928 | E24: 43.612913
A25: 40-49 years | B25: 345 | C25: 24.876731 | D25: 27.40696 | E25: 21.558149
A26: 50-64 years | B26: 270 | C26: 19.762117 | D26: 21.951544 | E26: 16.890521
A27: 65 years and above | B27: 94 | C27: 8.0786133 | D27: 7.5693363 | E27: 8.7465679
C28: Total | D28: 946 | E28: 678
C29: Percent | D29: 56.696135 | E29: 43.303865
A31: Median age of respondents | B31: 37 | D31: 38 | E31: 36 | F31: Round 4
A32: 15-24 years | B32: 173 | C32: 7.2023514 | D32: 6.3484631 | E32: 8.5367053
A33: 25-39 years | B33: 740 | C33: 40.921477 | D33: 37.467347 | E33: 46.319177
A34: 40-49 years | B34: 342 | C34: 25.443702 | D34: 27.354131 | E34: 22.458312
A35: 50-64 years | B35: 268 | C35: 19.422545 | D35: 20.930076 | E35: 17.066757
A36: 65 years and above | B36: 93 | C36: 7.0099247 | D36: 7.8999828 | E36: 5.619049
C37: Total | D37: 976 | E37: 640
C38: Percent | D38: 60.978348 | E38: 39.021652
A40: Median age of respondents | B40: 37 | D40: 37 | E40: 36 | F40: Round 5
A41: 15-24 years | B41: 162 | C41: 6.2172117 | D41: 5.93499 | E41: 6.6525527
A42: 25-39 years | B42: 756 | C42: 42.848881 | D42: 38.348418 | E42: 49.79107
A43: 40-49 years | B43: 327 | C43: 25.390224 | D43: 27.994239 | E43: 21.373402
A44: 50-64 years | B44: 253 | C44: 18.645534 | D44: 20.277246 | E44: 16.128537
...

Sheet Basic_Info2
A1: Table 1.2: Respondent relationship to head
B2: Number of respondents | E2: Distribution of respondents
A3: Relationship to HH Head: | B3: Total | C3: Male | D3: Female | E3: Total | F3: Male | G3: Female
A4: Head | B4: 1353 | C4: 1039 | D4: 314 | E4: 78.253326 | F4: 96.025878 | G4: 48.531685 | H4: Round 1
A5: Spouse | B5: 290 | C5: 8 | D5: 282 | E5: 16.772701 | F5: 0.73937153 | G5: 43.585781
A6: Child (own/step/adopted) | B6: 60 | C6: 23 | D6: 37 | E6: 3.470214 | F6: 2.1256932 | G6: 5.7187017
A7: Other relative | B7: 25 | C7: 11 | D7: 14 | E7: 1.4459225 | F7: 1.0166359 | G7: 2.1638331
A8: Not related | B8: 1 | C8: 1 | E8: 0.0578369 | F8: 0.092421442
A10: Head | B10: 1273 | C10: 975 | D10: 298 | E10: 78.441093 | F10: 93.987056 | G10: 56.299658 | H10: Round 2
A11: Spouse | B11: 296 | C11: 6 | D11: 290 | E11: 15.732337 | F11: 0.71366108 | G11: 37.122782
A12: Child (own/step/adopted) | B12: 48 | C12: 17 | D12: 31 | E12: 3.5452391 | F12: 2.7795163 | G12: 4.6358248
A13: Other relative | B13: 28 | C13: 14 | D13: 14 | E13: 2.2214318 | F13: 2.4178121 | G13: 1.9417359
A14: Not related | B14: 1 | C14: 1 | E14: 0.059898568 | F14: 0.1019546
A16: Head | B16: 1207 | C16: 907 | D16: 300 | E16: 76.472815 | F16: 93.74075 | G16: 53.864553 | H16: Round 3
A17: Spouse | B17: 335 | C17: 7 | D17: 328 | E17: 17.174068 | F17: 0.63615266 | G17: 38.826544
A18: Child (own/step/adopted) | B18: 59 | C18: 21 | D18: 38 | E18: 4.5323682 | F18: 3.7989095 | G18: 5.4926583
A19: Other relative | B19: 22 | C19: 10 | D19: 12 | E19: 1.7595447 | F19: 1.716238 | G19: 1.8162446
A20: Not related | B20: 1 | C20: 1 | E20: 0.061203651 | F20: 0.10795031
A22: Head | B22: 1221 | C22: 934 | D22: 287 | E22: 77.287155 | F22: 95.094477 | G22: 49.460013 | H22: Round 4
A23: Spouse | B23: 308 | C23: 8 | D23: 300 | E23: 16.772402 | F23: 0.38121055 | G23: 42.386587
A24: Child (own/step/adopted) | B24: 63 | C24: 24 | D24: 39 | E24: 4.419005 | F24: 3.3024108 | G24: 6.1638842
A25: Other relative | B25: 23 | C25: 9 | D25: 14 | E25: 1.4526235 | F25: 1.1090517 | G25: 1.9895161
A26: Not related | B26: 1 | C26: 1 | E26: 0.068813801 | F26: 0.11284957
A28: Head | B28: 1190 | C28: 910 | D28: 280 | E28: 76.639483 | F28: 95.051453 | G28: 48.238097 | H28: Round 5
A29: Spouse | B29: 314 | C29: 8 | D29: 306 | E29: 17.817785 | F29: 0.58523512 | G29: 44.399856
A30: Child (own/step/adopted) | B30: 63 | C30: 23 | D30: 40 | E30: 4.2580694 | F30: 3.0792537 | G30: 6.0764517
A31: Other relative | B31: 21 | C31: 9 | D31: 12 | E31: 1.2175305 | F31: 1.173406 | G31: 1.2855949
A32: Not related | B32: 1 | C32: 1 | E32: 0.067131942 | F32: 0.11065205
A34: Head | B34: 1184 | C34: 906 | D34: 278 | E34: 75.12857 | F34: 94.089211 | G34: 47.630955 | H34: Round 6
A35: Spouse | B35: 319 | C35: 11 | D35: 308 | E35: 18.668461 | F35: 1.3605176 | G35: 43.769254
A36: Child (own/step/adopted) | B36: 63 | C36: 21 | D36: 42 | E36: 4.3194859 | F36: 3.1652873 | G36: 5.9933592
A37: Other relative | B37: 24 | C37: 8 | D37: 16 | E37: 1.8176879 | F37: 1.2738196 | G37: 2.6064313
A38: Not related | B38: 1 | C38: 1 | E38: 0.065795595 | F38: 0.11116414
A39: Back to Table of Contents

Sheet Basic_Info3
A1: Table 1.3: Respondent education*
A2: Education | B2: Number of respondents | E2: Distribution of respondents
B3: Total | C3: Male | D3: Female | E3: Total | F3: Male | G3: Female
A4: Literate (in any language) | B4: 1516 | C4: 987 | D4: 529 | E4: 87.68074 | F4: 91.219963 | G4: 81.761978 | H4: Round 1
A5: Level
A6: No school | B6: 94 | C6: 38 | D6: 56 | E6: 5.5391868 | F6: 3.5613871 | G6: 8.8888889
A7: Primary - partial | B7: 841 | C7: 492 | D7: 349 | E7: 49.558044 | F7: 46.11059 | G7: 55.396825
A8: Primary - completed | B8: 607 | C8: 417 | D8: 190 | E8: 35.769004 | F8: 39.081537 | G8: 30.15873
A9: Secondary - partial
A10: Secondary - completed
A11: Tertiary - partial & completed | B11: 155 | C11: 120 | D11: 35 | E11: 9.1337655 | F11: 11.246485 | G11: 5.5555556
A12: Religious
A14: Literate (in any language) | B14: 1583 | C14: 995 | D14: 588 | E14: 92.149008 | F14: 97.311892 | G14: 84.795738 | H14: Round 2
A15: Level
A16: No school | B16: 62 | C16: 17 | D16: 45 | E16: 7.8451055 | F16: 2.6775266 | G16: 15.204262
A17: Primary - partial | B17: 526 | C17: 308 | D17: 218 | E17: 44.353025 | F17: 42.803728 | G17: 46.559382
A18: Primary - completed | B18: 290 | C18: 169 | D18: 121 | E18: 15.078403 | F18: 15.26726 | G18: 14.809451
A19: Secondary - partial | B19: 606 | C19: 400 | D19: 206 | E19: 28.48093 | F19: 33.447585 | G19: 21.407909
A20: Secondary - completed
A21: Tertiary - partial & completed | B21: 161 | C21: 118 | D21: 43 | E21: 4.242537 | F21: 5.8039013 | G21: 2.0189956
A22: Religious
A24: Literate (in any language) | B24: 1461 | C24: 895 | D24: 566 | E24: 83.445508 | F24: 92.4956 | G24: 71.596561 | H24: Round 3
A25: Level
A26: No school | B26: 73 | C26: 20 | D26: 53 | E26: 9.8556901 | F26: 4.9728415 | G26: 16.268464
A27: Primary - partial | B27: 520 | C27: 289 | D27: 231 | E27: 42.960324 | F27: 40.735027 | G27: 45.882865
A28: Primary - completed | B28: 288 | C28: 161 | D28: 127 | E28: 15.425377 | F28: 15.420258 | G28: 15.432101
A29: Secondary - partial | B29: 590 | C29: 370 | D29: 220 | E29: 27.793896 | F29: 33.211716 | G29: 20.67853
A30: Secondary - completed
A31: Tertiary - partial & completed | B31: 152 | C31: 106 | D31: 46 | E31: 3.9647131 | F31: 5.6601582 | G31: 1.7380404
A32: Religious
A34: Literate (in any language) | B34: 1404 | C34: 876 | D34: 528 | E34: 85.413722 | F34: 88.55667 | G34: 80.502301 | H34: Round 4
A35: Level
A36: No school | B36: 64 | C36: 20 | D36: 44 | E36: 6.1002249 | F36: 3.4232086 | G36: 10.295198
A37: Primary - partial | B37: 519 | C37: 309 | D37: 210 | E37: 39.862582 | F37: 40.292465 | G37: 39.188941
A38: Primary - completed | B38: 272 | C38: 157 | D38: 115 | E38: 15.816648 | F38: 15.698165 | G38: 16.002315
A39: Secondary - partial | B39: 602 | C39: 383 | D39: 219 | E39: 32.457014 | F39: 34.023845 | G39: 30.001736
A40: Secondary - completed
A41: Tertiary - partial & completed | B41: 153 | C41: 103 | D41: 50 | E41: 4.027933 | F41: 4.6585634 | G41: 3.1113899
A42: Religious
A44: Literate (in any language) | B44: 1407 | C44: 876 | D44: 531 | E44: 86.605119 | F44: 91.078581 | G44: 79.704579 | H44: Round 5
...

Sheet Basic_Info4
A1: Table 1.4: Characteristics of Household
B2: Overall | C2: IHPS PCA Index Based Wealth Quintiles
C3: Q1 | D3: Q2 | E3: Q3 | F3: Q4 | G3: Q5
A4: Household size (average # individuals) | B4: 4.9617613 | C4: 4.6341463 | D4: 5.0313589 | E4: 5.0422961 | F4: 4.802521 | G4: 5.0982318 | H4: Round 1
A5: Household head, female (%) | B5: 21.205098 | C5: 24.390244 | D5: 22.648084 | E5: 25.981873 | F5: 22.689076 | G5: 15.127701
A6: Education level of HH Head:
A7: No school | B7: 5.8684055 | C7: 10 | D7: 9.6085409 | E7: 7.4766355 | F7: 5.3763441 | G7: 2.2
A8: Primary - partial | B8: 48.725548 | C8: 73.333333 | D8: 70.818505 | E8: 61.682243 | F8: 47.956989 | G8: 22.8
A9: Primary - completed | B9: 35.506817 | C9: 16.666667 | D9: 19.572954 | E9: 29.595016 | F9: 41.72043 | G9: 47
A10: Secondary - partial | B10: 9.8992294 | E10: 1.2461059 | F10: 4.9462366 | G10: 28
A11: Secondary - completed
A12: Tertiary - partial & completed
A13: Religious
A15: Household size (average # individuals) | B15: 5.2335708 | C15: 4.6001455 | D15: 5.3749252 | E15: 5.3496233 | F15: 5.1350365 | G15: 5.5475465 | H15: Round 2
A16: Household head, female (%) | B16: 27.159379 | C16: 29.980447 | D16: 31.983895 | E16: 34.000459 | F16: 24.224631 | G16: 14.306971
A17: Education level of HH Head:
A18: No school | B18: 7.8481769 | C18: 12.363638 | D18: 11.458709 | E18: 10.39055 | F18: 4.9381558 | G18: 0.71139838
A19: Primary - partial | B19: 44.37039 | C19: 64.279801 | D19: 61.239674 | E19: 46.584163 | F19: 38.345243 | G19: 15.769317
A20: Primary - completed | B20: 15.045156 | C20: 12.564541 | D20: 11.117856 | E20: 13.390688 | F20: 21.907786 | G20: 14.868724
A21: Secondary - partial | B21: 28.49208 | C21: 10.79202 | D21: 15.973903 | E21: 28.531498 | F21: 32.393076 | G21: 50.427809
A22: Secondary - completed
A23: Tertiary - partial & completed | B23: 4.2441979 | D23: 0.20985734 | E23: 1.1031017 | F23: 2.4157382 | G23: 18.222752
A24: Religious
A26: Household size (average # individuals) | B26: 5.2731487 | C26: 4.726432 | D26: 5.5004001 | E26: 5.3229579 | F26: 5.1585025 | G26: 5.5845369 | H26: Round 3
A27: Household head, female (%) | B27: 27.317333 | C27: 32.305619 | D27: 32.14083 | E27: 32.774775 | F27: 24.677651 | G27: 14.328815
A28: Education level of HH Head:
A29: No school | B29: 9.8556901 | C29: 17.494309 | D29: 13.380249 | E29: 13.406656 | F29: 5.465791 | G29: 0.78895253
A30: Primary - partial | B30: 42.960324 | C30: 62.023211 | D30: 59.837454 | E30: 42.379213 | F30: 39.233008 | G30: 15.974013
A31: Primary - completed | B31: 15.425377 | C31: 11.590569 | D31: 11.321466 | E31: 13.588103 | F31: 22.967074 | G31: 15.520811
A32: Secondary - partial | B32: 27.793896 | C32: 0 | D32: 0 | E32: 0 | F32: 0 | G32: 0
A33: Secondary - completed
A34: Tertiary - partial & completed | B34: 3.9647131 | C34: 8.8919114 | D34: 15.460831 | E34: 29.50311 | F34: 30.180086 | G34: 50.361427
A35: Religious
A37: Household size (average # individuals) | B37: 5.4842569 | C37: 4.9172816 | D37: 5.6315729 | E37: 5.5416098 | F37: 5.3653032 | G37: 5.6787033 | H37: Round 4
A38: Household head, female (%) | B38: 22.49427 | C38: 25.60474 | D38: 22.263745 | E38: 28.664106 | F38: 23.157971 | G38: 14.547401
A39: Education level of HH Head:
A40: No school | B40: 6.1002249 | C40: 11.935354 | D40: 6.0963283 | E40: 10.778289 | F40: 4.093935 | G40: 1.3879134
A41: Primary - partial | B41: 39.862582 | C41: 65.088242 | D41: 63.871513 | E41: 42.18416 | F41: 37.711543 | G41: 15.714876
A42: Primary - completed | B42: 15.816648 | C42: 11.543102 | D42: 12.242264 | E42: 16.217736 | F42: 21.763693 | G42: 12.691123
A43: Secondary - partial | B43: 32.457014 | C43: 0 | D43: 0 | E43: 0 | F43: 0 | G43: 0
...

Sheet Basic_Info5
A1: Table 1.5: Older Adults and Dependency
B2: Overall | C2: IHPS PCA Index Based Wealth Quintiles
C3: Q1 | D3: Q2 | E3: Q3 | F3: Q4 | G3: Q5 | H3: Urban | I3: Rural
A4: Individuals | J4: Round 1
A5: 50 - 64 years old (%) | B5: 5.8342102 | C5: 3.1195841 | D5: 5.7638889 | E5: 6.0204696 | F5: 5.5579869 | G5: 6.6023166
A6: 65 years old and older (%) | B6: 2.7826494 | C6: 4.5060659 | D6: 2.3611111 | E6: 3.2510536 | F6: 3.1947484 | G6: 1.969112
A7: Household
A8: HHs with at least 1 person 50 - 64 (%) | B8: 23.481781 | C8: 12.903226 | D8: 21.95122 | E8: 25.679758 | F8: 22.431866 | G8: 26.470588
A9: HHs with at least 1 person 65+ (%) | B9: 11.972238 | C9: 18.548387 | D9: 9.7560976 | E9: 13.897281 | F9: 12.997904 | G9: 9.4117647
A10: HHs with at least 1 person 50+ (%) | B10: 30.537883 | C10: 29.032258 | D10: 27.526132 | E10: 33.534743 | F10: 30.398323 | G10: 30.784314
A11: Average share of members 50 - 64 | B11: 5.7865665 | C11: 3.2634704 | D11: 5.7985154 | E11: 5.9044808 | F11: 5.4005162 | G11: 6.677843
A12: Average share of members 65+ | B12: 3.4254468 | C12: 5.731916 | D12: 2.8216084 | E12: 3.9569956 | F12: 3.9478796 | G12: 2.3708514
A13: HHs with at least 1 person below 15 | B13: 83.805668 | C13: 85.483871 | D13: 89.89547 | E13: 85.196375 | F13: 81.341719 | G13: 81.372549
A14: Dependency ratio | B14: 0.89535436 | C14: 1.0809917 | D14: 1.1051925 | E14: 1.0129065 | F14: 0.83760762 | G14: 0.71204643 | H14: 0.73766357 | I14: 0.98392042
A16: Individuals | J16: Round 2
A17: 50 - 64 years old (%) | B17: 6.6161813 | C17: 7.2256324 | D17: 4.8005038 | E17: 6.4694807 | F17: 7.4490289 | G17: 7.2797829
A18: 65 years old and older (%) | B18: 3.7548334 | C18: 7.0724868 | D18: 2.5574372 | E18: 4.2404172 | F18: 3.8569778 | G18: 2.0409694
A19: Household
A20: HHs with at least 1 person 50 - 64 (%) | B20: 27.809538 | C20: 26.490836 | D20: 20.040763 | E20: 27.565575 | F20: 30.752664 | G20: 33.577588
A21: HHs with at least 1 person 65+ (%) | B21: 17.082486 | C21: 25.543865 | D21: 12.315257 | E21: 20.935006 | F21: 16.719789 | G21: 10.578641
A22: HHs with at least 1 person 50+ (%) | B22: 38.589291 | C22: 45.571867 | D22: 28.705628 | E22: 38.957368 | F22: 41.821001 | G22: 38.835602
A23: Average share of members 50 - 64 | B23: 7.9798694 | C23: 9.2063564 | D23: 5.3825608 | E23: 7.3414721 | F23: 9.6319989 | G23: 8.5340589
A24: Average share of members 65+ | B24: 5.4695943 | C24: 10.349302 | D24: 3.2372154 | E24: 5.4533497 | F24: 5.8476093 | G24: 3.4974942
A25: HHs with at least 1 person below 15 | B25: 83.367204 | C25: 77.483939 | D25: 88.097822 | E25: 88.688222 | F25: 77.371769 | G25: 83.251984
A26: Dependency ratio | B26: 1.028438 | C26: 1.1786666 | D26: 1.2530426 | E26: 1.0697548 | F26: 0.93423111 | G26: 0.74354582 | H26: 0.78607157 | I26: 1.0861379
A28: Individuals | J28: Round 3
A29: 50 - 64 years old (%) | B29: 6.5594665 | C29: 7.0695381 | D29: 4.7746512 | E29: 6.3691816 | F29: 7.3505299 | G29: 7.2511021
A30: 65 years old and older (%) | B30: 3.8594243 | C30: 7.0016088 | D30: 2.4618701 | E30: 4.0669765 | F30: 4.1973543 | G30: 2.3293329
A31: Household
A32: HHs with at least 1 person 50 - 64 (%) | B32: 28.049655 | C32: 27.232989 | D32: 19.833338 | E32: 28.358309 | F32: 30.57341 | G32: 33.223307
A33: HHs with at least 1 person 65+ (%) | B33: 17.175424 | C33: 25.763381 | D33: 10.859551 | E33: 20.06949 | F33: 17.339942 | G33: 12.10209
A34: HHs with at least 1 person 50+ (%) | B34: 38.60493 | C34: 46.828915 | D34: 26.791905 | E34: 38.593743 | F34: 42.373225 | G34: 38.618192
A35: Average share of members 50 - 64 | B35: 7.7194044 | C35: 8.7249698 | D35: 4.8478404 | E35: 7.0701239 | F35: 9.4732943 | G35: 8.3609276
A36: Average share of members 65+ | B36: 5.8067494 | C36: 10.985167 | D36: 3.0885585 | E36: 5.2919134 | F36: 6.6357161 | G36: 3.8045478
A37: HHs with at least 1 person below 15 | B37: 83.499637 | C37: 77.473519 | D37: 89.31903 | E37: 87.658353 | F37: 78.230211 | G37: 83.86839
A38: Dependency ratio | B38: 1.0097426 | C38: 1.1491284 | D38: 1.1610815 | E38: 1.0570948 | F38: 0.94287265 | G38: 0.77000516 | H38: 0.81734032 | I38: 1.0538844
A40: Individuals | J40: Round 4
A41: 50 - 64 years old (%) | B41: 6.5882273 | C41: 7.5548855 | D41: 4.4349359 | E41: 6.7116502 | F41: 7.033301 | G41: 6.999866
A42: 65 years old and older (%) | B42: 3.0884513 | C42: 4.8549286 | D42: 2.3373913 | E42: 3.5721527 | F42: 3.4271191 | G42: 2.1478139
A43: Household
...

Sheet Knowledge_Behav_Concerns1
A1: Table 2.5. Prevalence of safe practices
B2: % of respondents | C2: % of respondents by residence
C3: Urban | D3: Rural
A4: More frequent handwashing with soap | B4: 87.187895 | C4: 90.983996 | D4: 86.237102 | E4: Round 1
A5: Avoid handshakes/physical greetings | B5: 68.244433 | C5: 68.352732 | D5: 68.217308
A6: Avoid groups of more than 10 people | B6: 17.309157 | C6: 22.013685 | D6: 16.130833
A7: Cancel Travel Plans | B7: 58.490631 | C7: 55.222179 | D7: 59.309267
A8: Stock up more food than normal, due to restricted movement | B8: 26.981763 | C8: 28.515712 | D8: 26.597561
A9: Reduce Trips to Grocery Store | B9: 62.906402 | C9: 60.537089 | D9: 63.499834
A11: More frequent handwashing with soap | B11: 79.387982 | C11: 77.656094 | D11: 79.800734 | E11: Round 2
A12: Avoid handshakes/physical greetings | B12: 71.393165 | C12: 65.204326 | D12: 72.868117
A13: Avoid groups of more than 10 people | B13: 22.460383 | C13: 24.249088 | D13: 22.034091
A14: Cancel Travel Plans | B14: 33.307848 | C14: 33.875411 | D14: 33.172584
A15: Stock up more food than normal, due to restricted movement | B15: 15.453041 | C15: 15.918725 | D15: 15.342057
A16: Reduce Trips to Grocery Store | B16: 47.380658 | C16: 48.991279 | D16: 46.996807
A18: More frequent handwashing with soap | B18: 73.588994 | C18: 77.057606 | D18: 72.786919 | E18: Round 3
A19: Avoid handshakes/physical greetings | B19: 75.375555 | C19: 74.12645 | D19: 75.664396
A20: Avoid groups of more than 10 people | B20: 44.998064 | C20: 46.706348 | D20: 44.603044
A22: More frequent handwashing with soap | B22: 50.434507 | C22: 49.471995 | D22: 50.674468 | E22: Round 4
A23: Avoid handshakes/physical greetings | B23: 77.710964 | C23: 75.273134 | D23: 78.318732
A24: Avoid groups of more than 10 people | B24: 39.224307 | C24: 44.341906 | D24: 37.948453
A26: More frequent handwashing with soap | B26: 33.514593 | C26: 29.541931 | D26: 34.523843 | E26: Round 5
A27: Avoid handshakes/physical greetings | B27: 64.143834 | C27: 64.460028 | D27: 64.063505
A28: Avoid groups of more than 10 people | B28: 51.4641 | C28: 49.341225 | D28: 52.003414
A29: Reduce Number of Times of going to the Market | B29: 42.789791 | C29: 33.550898 | D29: 45.13692
A31: More frequent handwashing with soap | B31: 25.978155 | C31: 28.035367 | D31: 25.466766 | E31: Round 6
A32: Avoid handshakes/physical greetings | B32: 70.643544 | C32: 72.939372 | D32: 70.073913
A33: Avoid groups of more than 10 people | B33: 54.804278 | C33: 55.960506 | D33: 54.5174
A34: Reduce Number of Times of going to the Market | B34: 41.87796 | C34: 33.106177 | D34: 44.054376
A35: Back to Table of Contents

Sheet Knowledge_Behav_Concerns2
A1: Table 2.7. Degree of worry about self/immediate family becoming seriously ill from Coronavirus
B2: % of respondents | C2: % of respondents by IHPS Wealth Quintile | H2: % of respondents by residence
C3: Q1 | D3: Q2 | E3: Q3 | F3: Q4 | G3: Q5 | H3: Urban | I3: Rural
A4: Very worried | B4: 88.788642 | C4: 94.015938 | D4: 93.445189 | E4: 87.120347 | F4: 85.486541 | G4: 86.443869 | H4: 84.875783 | I4: 89.767482 | J4: Round 1
A5: Somewhat worried | B5: 5.1174022 | C5: 0.19873817 | D5: 4.8459045 | E5: 6.5498468 | F5: 5.6098964 | G5: 6.7307666 | H5: 6.2567105 | I5: 4.8323931
A6: Not too worried | B6: 2.2632414 | C6: 2.5343858 | D6: 0.29744631 | E6: 1.6549927 | F6: 4.0873129 | G6: 2.5322509 | H6: 3.7837859 | I6: 1.8828624
A7: Not worried at all | B7: 3.8307141 | C7: 3.2509384 | D7: 1.4114605 | E7: 4.6748137 | F7: 4.8162495 | G7: 4.2931139 | H7: 5.0837204 | I7: 3.5172624
A9: Very worried | B9: 89.546354 | C9: 92.06281 | D9: 91.399318 | E9: 90.742491 | F9: 85.946812 | G9: 88.451549 | H9: 90.316154 | I9: 89.362892 | J9: Round 2
A10: Somewhat worried | B10: 3.2511106 | C10: 2.9726625 | D10: 3.1130155 | E10: 3.7819175 | F10: 2.2627699 | G10: 4.1046152 | H10: 3.2265415 | I10: 3.2569661
A11: Not too worried | B11: 2.6127881 | C11: 1.3548875 | D11: 2.6311869 | E11: 1.4787305 | F11: 3.7476487 | G11: 3.7267549 | H11: 1.4447674 | I11: 2.8911561
A12: Not worried at all | B12: 4.5897475 | C12: 3.6096397 | D12: 2.8564795 | E12: 3.9968607 | F12: 8.0427699 | G12: 3.7170807 | H12: 5.0125375 | I12: 4.4889863
A14: Very worried | B14: 88.088536 | C14: 81.147235 | D14: 95.333619 | E14: 91.190173 | F14: 86.343457 | G14: 84.740742 | H14: 83.173147 | I14: 89.225161 | J14: Round 3
A15: Somewhat worried | B15: 4.642146 | C15: 10.295912 | D15: 1.1525677 | E15: 3.1837852 | F15: 4.330853 | G15: 5.745639 | H15: 7.7647611 | I15: 3.920079
A16: Not too worried | B16: 2.5490633 | C16: 0.14505992 | D16: 1.261132 | E16: 1.278979 | F16: 5.3642926 | G16: 3.9616572 | H16: 3.342077 | I16: 2.3656884
A17: Not worried at all | B17: 4.7202543 | C17: 8.4117928 | D17: 2.2526809 | E17: 4.347063 | F17: 3.9613971 | G17: 5.5519618 | H17: 5.7200152 | I17: 4.4890717
A19: Very worried | B19: 72.530777 | C19: 80.909322 | D19: 79.38416 | E19: 67.457897 | F19: 71.11955 | G19: 71.855156 | H19: 72.101323 | I19: 72.637843 | J19: Round 4
A20: Somewhat worried | B20: 11.160197 | C20: 9.3445049 | D20: 5.2823332 | E20: 16.249127 | F20: 10.234831 | G20: 11.33794 | H20: 12.012843 | I20: 10.947626
A21: Not too worried | B21: 8.4462622 | C21: 3.948995 | D21: 7.5947174 | E21: 7.4963381 | F21: 10.346044 | G21: 9.5149405 | H21: 6.7135984 | I21: 8.8782277
A22: Not worried at all | B22: 7.8627638 | C22: 5.7971781 | D22: 7.7387895 | E22: 8.7966373 | F22: 8.2995754 | G22: 7.291963 | H22: 9.1722353 | I22: 7.5363032
A24: Very worried | B24: 65.290025 | C24: 61.664557 | D24: 75.694867 | E24: 64.028744 | F24: 66.639677 | G24: 60.356649 | H24: 65.503119 | I24: 65.235889 | J24: Round 5
A25: Somewhat worried | B25: 11.690699 | C25: 17.146455 | D25: 6.6008855 | E25: 13.232079 | F25: 7.6441336 | G25: 15.74652 | H25: 10.777674 | I25: 11.922652
A26: Not too worried | B26: 11.163122 | C26: 12.878932 | D26: 8.0963226 | E26: 12.037205 | F26: 12.086949 | G26: 10.34711 | H26: 7.8094533 | I26: 12.015117
A27: Not worried at all | B27: 11.856154 | C27: 8.3100552 | D27: 9.6079246 | E27: 10.701972 | F27: 13.62924 | G27: 13.549721 | H27: 15.909753 | I27: 10.826342
A29: Very worried | B29: 68.537206 | C29: 72.748938 | D29: 79.173408 | E29: 67.640204 | F29: 66.510278 | G29: 63.792458 | H29: 64.883353 | I29: 69.443784 | J29: Round 6
A30: Somewhat worried | B30: 10.241474 | C30: 5.1043194 | D30: 6.0180991 | E30: 9.576571 | F30: 10.553242 | G30: 14.972431 | H30: 13.511112 | I30: 9.4302257
A31: Not too worried | B31: 9.428419 | C31: 7.8617277 | D31: 7.9539074 | E31: 9.001016 | F31: 12.193712 | G31: 8.0685769 | H31: 8.9089747 | I31: 9.5573013
A32: Not worried at all | B32: 11.792901 | C32: 14.285015 | D32: 6.8545856 | E32: 13.782209 | F32: 10.742767 | G32: 13.166534 | H32: 12.69656 | I32: 11.568689
A33: Back to Table of Contents

Sheet Knowledge_Behav_Concerns3
A1: Table 2.8. Degree of perception of threat to household's finance caused by coronavirus
B2: % of respondents | C2: % of respondents by IHPS Wealth Quintile | H2: % of respondents by residence
C3: Q1 | D3: Q2 | E3: Q3 | F3: Q4 | G3: Q5 | H3: Urban | I3: Rural
A4: A substantial threat | B4: 90.356349 | C4: 93.223443 | D4: 92.7054 | E4: 90.928388 | F4: 88.163065 | G4: 87.784518 | H4: 89.916317 | I4: 90.466428 | J4: Round 1
A5: A moderate threat | B5: 4.6469856 | C5: 1.6041102 | D5: 5.3083641 | E5: 5.1804816 | F5: 4.5194361 | G5: 5.8345533 | H5: 5.8998625 | I5: 4.3335662
A6: Not much of a threat | B6: 2.0931571 | C6: 2.4755865 | D6: 0.056951683 | E6: 1.6931847 | F6: 3.9692475 | G6: 2.010069 | H6: 0.53037754 | I6: 2.4841017
A7: Not a threat at all | B7: 2.9035081 | C7: 2.6968606 | D7: 1.9292843 | E7: 2.1979454 | F7: 3.3482513 | G7: 4.37086 | H7: 3.653443 | I7: 2.7159046
A9: A substantial threat | B9: 89.490094 | C9: 90.886413 | D9: 92.359249 | E9: 88.295422 | F9: 90.276349 | G9: 86.089908 | H9: 83.245632 | I9: 90.978302 | J9: Round 2
A10: A moderate threat | B10: 6.0542868 | C10: 5.2182741 | D10: 4.3238467 | E10: 6.9072156 | F10: 5.0463416 | G10: 8.5750601 | H10: 9.8206438 | I10: 5.1566714
A11: Not much of a threat | B11: 2.3124468 | C11: 3.1286746 | D11: 1.7198439 | E11: 2.1152628 | F11: 1.7336254 | G11: 3.2589225 | H11: 3.8272083 | I11: 1.951442
A12: Not a threat at all | B12: 2.1431728 | C12: 0.76663799 | D12: 1.5970609 | E12: 2.6821 | F12: 2.9436837 | G12: 2.0761089 | H12: 3.1065163 | I12: 1.9135844
A14: A substantial threat | B14: 89.072082 | C14: 92.511633 | D14: 96.105183 | E14: 87.669275 | F14: 87.567447 | G14: 83.058406 | H14: 84.987333 | I14: 90.016632 | J14: Round 3
A15: A moderate threat | B15: 6.634711 | C15: 0.51273476 | D15: 2.7866454 | E15: 7.7626172 | F15: 8.3690557 | G15: 11.818654 | H15: 11.405995 | I15: 5.5314093
A16: Not much of a threat | B16: 1.8071554 | C16: 4.305905 | D16: 0.35174425 | E16: 1.9267546 | F16: 1.3168027 | G16: 1.6219887 | H16: 0.12181082 | I16: 2.196871
A17: Not a threat at all | B17: 2.4860511 | C17: 2.6697275 | D17: 0.75642747 | E17: 2.6413527 | F17: 2.7466951 | G17: 3.5009508 | H17: 3.4848618 | I17: 2.2550882
A19: A substantial threat | B19: 74.941495 | C19: 80.423127 | D19: 76.044334 | E19: 76.568749 | F19: 74.785438 | G19: 70.757079 | H19: 68.486103 | I19: 76.55087 | J19: Round 4
A20: A moderate threat | B20: 19.171696 | C20: 13.652785 | D20: 20.117872 | E20: 20.859711 | F20: 18.552749 | G20: 19.636352 | H20: 23.777809 | I20: 18.023359
A21: Not much of a threat | B21: 2.8140379 | C21: 2.4994282 | D21: 2.0424072 | E21: 0.79271828 | F21: 4.4006506 | G21: 3.6926811 | H21: 1.2835889 | I21: 3.1955899
A22: Not a threat at all | B22: 3.0727713 | C22: 3.4246601 | D22: 1.7953869 | E22: 1.778822 | F22: 2.2611623 | G22: 5.9138879 | H22: 6.4524989 | I22: 2.2301809
A24: A substantial threat | B24: 77.748073 | C24: 81.49796 | D24: 84.307107 | E24: 80.55969 | F24: 79.877311 | G24: 67.325144 | H24: 71.892626 | I24: 79.235642 | J24: Round 5
A25: A moderate threat | B25: 14.379326 | C25: 14.833282 | D25: 9.6257753 | E25: 10.312937 | F25: 12.628511 | G25: 23.068543 | H25: 21.758905 | I25: 12.504553
A26: Not much of a threat | B26: 4.6828594 | C26: 3.1986672 | D26: 3.4518268 | E26: 6.7239142 | F26: 4.7773082 | G26: 3.7582195 | H26: 2.7039689 | I26: 5.1855941
A27: Not a threat at all | B27: 3.1897414 | C27: 0.4700911 | D27: 2.6152904 | E27: 2.4034588 | F27: 2.7168701 | G27: 5.8480935 | H27: 3.6444995 | I27: 3.0742106
A29: A substantial threat | B29: 70.441799 | C29: 71.460287 | D29: 74.729891 | E29: 71.541 | F29: 69.295931 | G29: 67.716924 | H29: 65.463879 | I29: 71.676898 | J29: Round 6
A30: A moderate threat | B30: 16.109858 | C30: 15.856753 | D30: 17.53284 | E30: 16.318518 | F30: 15.732308 | G30: 15.571365 | H30: 17.686 | I30: 15.718792
A31: Not much of a threat | B31: 9.2308906 | C31: 5.2325354 | D31: 5.4455361 | E31: 8.3759945 | F31: 10.359029 | G31: 12.509824 | H31: 13.468862 | I31: 8.1793839
A32: Not a threat at all | B32: 4.2174529 | C32: 7.4504254 | D32: 2.2917331 | E32: 3.7644874 | F32: 4.6127326 | G32: 4.2018869 | H32: 3.3812587 | I32: 4.4249257
A33: Back to Table of Contents

Sheet Knowledge_Behav_Concerns4
A1: Table 2.11a. Prevalence of Safe Practises(Washing Hands with Soap after being in Public), Last 7 days
B2: % of respondents | C2: % of respondents by IHPS Wealth Quintile | H2: % of respondents by residence
C3: Q1 | D3: Q2 | E3: Q3 | F3: Q4 | G3: Q5 | H3: Urban | I3: Rural
A4: All of the time | B4: 61.317343 | C4: 50.263078 | D4: 61.185007 | E4: 55.835497 | F4: 68.531367 | G4: 68.717982 | H4: 64.839557 | I4: 60.477913 | J4: Round 2
A5: Most of the time | B5: 16.412389 | C5: 22.664231 | D5: 12.176219 | E5: 20.195935 | F5: 14.102316 | G5: 13.576635 | H5: 11.988129 | I5: 17.466799
A6: About half of the time | B6: 3.5515939 | C6: 1.0619551 | D6: 6.3287492 | E6: 4.6183038 | F6: 2.1750703 | G6: 2.8860564 | H6: 2.8486142 | I6: 3.7191312
A7: Some of the time | B7: 9.3997638 | C7: 13.118629 | D7: 11.278599 | E7: 10.008575 | F7: 7.1201782 | G7: 6.5116118 | H7: 7.1445385 | I7: 9.9372394
A8: None of the time | B8: 4.7410984 | C8: 5.76256 | D8: 5.2201749 | E8: 5.0327069 | F8: 4.6609613 | G8: 3.1482282 | H8: 8.3121737 | I8: 3.8900234
A9: I have not been in public during the last 7 days | B9: 4.5778117 | C9: 7.1295472 | D9: 3.8112521 | E9: 4.3089827 | F9: 3.4101077 | G9: 5.1594865 | H9: 4.8669872 | I9: 4.5088941
A11: All of the time | B11: 30.750114 | C11: 29.812222 | D11: 29.462411 | E11: 26.835832 | F11: 31.137742 | G11: 35.333054 | H11: 33.683777 | I11: 30.004821 | J11: Round 5
A12: Most of the time | B12: 28.588514 | C12: 16.477405 | D12: 29.022012 | E12: 29.790233 | F12: 30.064539 | G12: 29.823057 | H12: 32.609437 | I12: 27.567004
A13: About half of the time | B13: 5.7013531 | C13: 5.0616526 | D13: 2.6627329 | E13: 9.0032973 | F13: 5.2460654 | G13: 4.8683763 | H13: 6.1349442 | I13: 5.5911998
A14: Some of the time | B14: 19.197135 | C14: 20.621643 | D14: 21.872832 | E14: 19.167426 | F14: 20.298639 | G14: 15.902222 | H14: 17.939918 | I14: 19.516529
A15: None of the time | B15: 10.647678 | C15: 18.031 | D15: 10.921737 | E15: 10.336649 | F15: 10.554543 | G15: 8.22836 | H15: 5.6726149 | I15: 11.911587
A16: I have not been in public during the last 7 days | B16: 5.1152058 | C16: 9.9960776 | D16: 6.0582736 | E16: 4.8665635 | F16: 2.6984712 | G16: 5.8449301 | H16: 3.9593095 | I16: 5.4088598
A18: All of the time | B18: 28.539285 | C18: 24.736546 | D18: 26.440982 | E18: 24.478899 | F18: 31.420306 | G18: 31.828714 | H18: 33.048099 | I18: 27.420578 | J18: Round 6
A19: Most of the time | B19: 25.08678 | C19: 21.602958 | D19: 25.479379 | E19: 24.724272 | F19: 23.61125 | G19: 28.204594 | H19: 24.80764 | I19: 25.156039
A20: About half of the time | B20: 4.8713525 | C20: 3.5647362 | D20: 3.8095677 | E20: 6.7886798 | F20: 4.5141373 | G20: 4.5164373 | H20: 5.2356677 | I20: 4.7809603
A21: Some of the time | B21: 24.745602 | C21: 20.054337 | D21: 26.3415 | E21: 25.705782 | F21: 26.786092 | G21: 22.126841 | H21: 23.087541 | I21: 25.156993
A22: None of the time | B22: 10.812786 | C22: 18.28289 | D22: 11.898999 | E22: 10.876371 | F22: 9.4187282 | G22: 9.0150976 | H22: 8.6251025 | I22: 11.355585
A23: I have not been in public during the last 7 days | B23: 5.9441937 | C23: 11.758534 | D23: 6.0295732 | E23: 7.4259966 | F23: 4.2494874 | G23: 4.3083162 | H23: 5.1959505 | I23: 6.1298445
A24: Back to Table of Contents

Sheet Knowledge_Behav_Concerns5
A1: Table 2.11b. Prevalence of Safe Practises(Wearing a Mask when in Public), Last 7 days
B2: % of respondents | C2: % of respondents by IHPS Wealth Quintile | H2: % of respondents by residence
C3: Q1 | D3: Q2 | E3: Q3 | F3: Q4 | G3: Q5 | H3: Urban | I3: Rural
A4: All of the time | B4: 19.413489 | C4: 11.423909 | D4: 21.669073 | E4: 19.111453 | F4: 14.867619 | G4: 29.343673 | H4: 26.473709 | I4: 17.730865 | J4: Round 2
A5: Most of the time | B5: 6.4643492 | C5: 2.5644569 | D5: 4.8152317 | E5: 4.2049146 | F5: 10.156127 | G5: 9.7626283 | H5: 6.6095782 | I5: 6.4297376
