Workbook
Name POWER_USER_EXCEL_CHART_44D0C708_3ADC_4C7B_8B8F_FEB917D0C418: [1]F1b!#REF!
Name POWER_USER_EXCEL_CHART_44D0C708_3ADC_4C7B_8B8F_FEB917D0C418: [1]F1b!#REF!
Name POWER_USER_EXCEL_CHART_44D0C708_3ADC_4C7B_8B8F_FEB917D0C418: [1]F1b!#REF!
Name POWER_USER_EXCEL_CHART_44D0C708_3ADC_4C7B_8B8F_FEB917D0C418: [1]F1b!#REF!
Name POWER_USER_EXCEL_CHART_C64A436F_1D8E_4E3E_9D3C_59F85339ECFE: [1]F1b!#REF!
Name POWER_USER_EXCEL_CHART_C64A436F_1D8E_4E3E_9D3C_59F85339ECFE: [1]F1b!#REF!
Name POWER_USER_EXCEL_CHART_C64A436F_1D8E_4E3E_9D3C_59F85339ECFE: [1]F1b!#REF!
Name POWER_USER_EXCEL_CHART_C64A436F_1D8E_4E3E_9D3C_59F85339ECFE: [1]F1b!#REF!

Sheet Index
A1: Metadata
B2: =Metadata1!A1 -> Table 0.1: Sample Composition (# of Households)
B3: =Metadata2!A1 -> Table 0.2: Contact Rate
B4: =Metadata3!A1 -> Table 0.3: Result of Interview
B5: =Metadata4!A1 -> Table 0.4: Language of interivew
B6: Table 0.5: Sample Compostition
A7: Behavior, and concerns
B8: =Knowledge_Behav_Concerns6!A1 -> Table 2.7. Degree of worry about self/immediate family becoming seriously ill from Coronavirus
B9: =Knowledge_Behav_Concerns7!A1 -> Table 2.8. Degree of perception of threat to household's finance caused by coronavirus
B10: Table 2.11a. Prevalence of Safe Practises(Washing Hands with Soap after being in Public), Last 7 days
B11: Table 2.11b. Prevalence of Safe Practises(Wearing a Mask when in Public), Last 7 days
B12: Table 2.21. Early Child Development
B13: Table 2.21. Early Child Development Continued..
A14: Access
B15: Table 3.1. Access to Medical Services, past 7 days
B16: Table 3.3. Food Security Problems
A17: Employment
B18: Table 4.1. Overall Work Status
B19: Table 4.17 Job Stability
B20: Table 4.19. Work stoppages, main reason
B21: Table 4.21. Type of work of those respondents working
B22: Table 4.9b Family businesses, main reason for closure
B23: Table 4.30. None/Less revenues in family business

Sheet Metadata1
A1: Table 0.1: Sample Composition (# of Households) | I1: Back to Table of Contents
C2: Total | D2: Sector | F2: Design Strata
D3: Urban | E3: Rural | F3: Urban North | G3: Urban Center | H3: Urban South | I3: Rural North | J3: Rural Center | K3: Rural South
A4: Sample size, IHPS 2019 | C4: 2337 | D4: 779 | E4: 1558 | F4: 123 | G4: 390 | H4: 266 | I4: 202 | J4: 658 | K4: 698 | L4: Round 1
A5: Phone Number Availability | B5: Household Phone | C5: 1993 | D5: 736 | E5: 1257 | F5: 117 | G5: 370 | H5: 249 | I5: 158 | J5: 534 | K5: 565
B6: Only Reference Contact | C6: 344 | D6: 43 | E6: 301 | F6: 6 | G6: 20 | H6: 17 | I6: 44 | J6: 124 | K6: 133
A7: HHs called for Round 1 (sample size) | C7: 2337 | D7: 779 | E7: 1558 | F7: 123 | G7: 390 | H7: 266 | I7: 202 | J7: 658 | K7: 698
A8: HHs fully interviewed | C8: 1729 | D8: 617 | E8: 1112 | F8: 107 | G8: 292 | H8: 218 | I8: 149 | J8: 443 | K8: 520
A9: HHs reached but not fully interviewed | C9: 4 | D9: 3 | E9: 1 | F9: 1 | G9: 1 | H9: 1 | I9: 0 | J9: 0 | K9: 1
A10: HHs refused | C10: 10 | D10: 7 | E10: 3 | F10: 1 | G10: 3 | H10: 3 | I10: 0 | J10: 2 | K10: 1
A11: HHs unable to reach | C11: 594 | D11: 152 | E11: 442 | F11: 14 | G11: 94 | H11: 44 | I11: 53 | J11: 213 | K11: 176
A13: Sample size, IHPS 2019 | C13: 1729 | D13: 637 | E13: 1092 | F13: 108 | G13: 304 | H13: 225 | I13: 148 | J13: 431 | K13: 513 | L13: Round 2
A14: Phone Number Availability | B14: Household Phone | C14: 1542 | D14: 615 | E14: 927 | F14: 102 | G14: 298 | H14: 215 | I14: 123 | J14: 374 | K14: 430
B15: Only Reference Contact | C15: 187 | D15: 22 | E15: 165 | F15: 6 | G15: 6 | H15: 10 | I15: 25 | J15: 57 | K15: 83
A16: HHs called for Round 2 (sample size) | C16: 1729 | D16: 637 | E16: 1092 | F16: 108 | G16: 304 | H16: 225 | I16: 148 | J16: 431 | K16: 513
A17: HHs fully interviewed | C17: 1646 | D17: 613 | E17: 1033 | F17: 103 | G17: 293 | H17: 217 | I17: 141 | J17: 403 | K17: 489
A18: HHs reached but not fully interviewed | C18: 2 | D18: 1 | E18: 1 | F18: 0 | G18: 0 | H18: 1 | I18: 0 | J18: 1 | K18: 0
A19: HHs refused | C19: 7 | D19: 4 | E19: 3 | F19: 1 | G19: 3 | H19: 0 | I19: 0 | J19: 0 | K19: 3
A20: HHs unable to reach | C20: 74 | D20: 19 | E20: 55 | F20: 4 | G20: 8 | H20: 7 | I20: 7 | J20: 27 | K20: 21
A22: Sample size, IHPS 2019 | C22: =SUM(C23:C24) -> 1722 | D22: =SUM(D23:D24) -> 633 | E22: =SUM(E23:E24) -> 1089 | F22: =SUM(F23:F24) -> 107 | G22: =SUM(G23:G24) -> 301 | H22: =SUM(H23:H24) -> 225 | I22: =SUM(I23:I24) -> 148 | J22: =SUM(J23:J24) -> 431 | K22: =SUM(K23:K24) -> 510 | L22: Round 3
A23: Phone Number Availability | B23: Household Phone | C23: 1536 | D23: 611 | E23: 925 | F23: 101 | G23: 295 | H23: 215 | I23: 123 | J23: 374 | K23: 428
B24: Only Reference Contact | C24: 186 | D24: 22 | E24: 164 | F24: 6 | G24: 6 | H24: 10 | I24: 25 | J24: 57 | K24: 82
A25: HHs called for Round 3 (sample size) | C25: 1722 | D25: 633 | E25: 1089 | F25: 107 | G25: 301 | H25: 225 | I25: 148 | J25: 431 | K25: 510
A26: HHs fully interviewed | C26: 1624 | D26: 596 | E26: 1028 | F26: 103 | G26: 279 | H26: 214 | I26: 142 | J26: 403 | K26: 483
A27: HHs reached but not fully interviewed | C27: 1 | D27: 1 | E27: 0 | F27: 1 | G27: 0 | H27: 0 | I27: 0 | J27: 0 | K27: 0
A28: HHs refused | C28: 11 | D28: 8 | E28: 3 | F28: 2 | G28: 3 | H28: 3 | I28: 0 | J28: 2 | K28: 1
A29: HHs unable to reach | C29: 86 | D29: 28 | E29: 58 | F29: 1 | G29: 19 | H29: 8 | I29: 6 | J29: 26 | K29: 26
A31: Sample size, IHPS 2019 | C31: =SUM(C32:C33) -> 1707 | D31: =SUM(D32:D33) -> 622 | E31: =SUM(E32:E33) -> 1085 | F31: =SUM(F32:F33) -> 104 | G31: =SUM(G32:G33) -> 297 | H31: =SUM(H32:H33) -> 221 | I31: =SUM(I32:I33) -> 148 | J31: =SUM(J32:J33) -> 428 | K31: =SUM(K32:K33) -> 509 | L31: Round 4
A32: Phone Number Availability | B32: Household Phone | C32: 1521 | D32: 600 | E32: 921 | F32: 98 | G32: 291 | H32: 211 | I32: 123 | J32: 371 | K32: 427
B33: Only Reference Contact | C33: 186 | D33: 22 | E33: 164 | F33: 6 | G33: 6 | H33: 10 | I33: 25 | J33: 57 | K33: 82
A34: HHs called for Round 4 (sample size) | C34: 1707 | D34: 622 | E34: 1085 | F34: 104 | G34: 297 | H34: 221 | I34: 148 | J34: 428 | K34: 509
A35: HHs fully interviewed | C35: 1616 | D35: 596 | E35: 1020 | F35: 101 | G35: 285 | H35: 210 | I35: 141 | J35: 400 | K35: 479
A36: HHs reached but not fully interviewed | C36: 1 | D36: 0 | E36: 1 | F36: 0 | G36: 0 | H36: 0 | I36: 0 | J36: 1 | K36: 0
A37: HHs refused | C37: 3 | D37: 3 | E37: 0 | F37: 1 | G37: 1 | H37: 1 | I37: 0 | J37: 0 | K37: 0
A38: HHs unable to reach | C38: 87 | D38: 23 | E38: 64 | F38: 2 | G38: 11 | H38: 10 | I38: 7 | J38: 27 | K38: 30
A40: Sample size, IHPS 2019 | C40: =SUM(C41:C42) -> 1706 | D40: =SUM(D41:D42) -> 621 | E40: =SUM(E41:E42) -> 1085 | F40: =SUM(F41:F42) -> 104 | G40: =SUM(G41:G42) -> 296 | H40: =SUM(H41:H42) -> 221 | I40: =SUM(I41:I42) -> 148 | J40: =SUM(J41:J42) -> 428 | K40: =SUM(K41:K42) -> 509 | L40: Round 5
A41: Phone Number Availability | B41: Household Phone | C41: 1520 | D41: 599 | E41: 921 | F41: 98 | G41: 290 | H41: 211 | I41: 123 | J41: 371 | K41: 427
B42: Only Reference Contact | C42: 186 | D42: 22 | E42: 164 | F42: 6 | G42: 6 | H42: 10 | I42: 25 | J42: 57 | K42: 82
A43: HHs called for Round 5 (sample size) | C43: 1704 | D43: 619 | E43: 1085 | F43: 103 | G43: 296 | H43: 220 | I43: 148 | J43: 428 | K43: 509
A44: HHs fully interviewed | C44: 1589 | D44: 584 | E44: 1005 | F44: 97 | G44: 280 | H44: 207 | I44: 137 | J44: 395 | K44: 473
...

Sheet Metadata2
A1: Table 0.2: Contact Rate
B2: Average # per HH | C2: % of Total HHs
A3: Calls made - all HHs | B3: 3.8482697 | D3: Round 1
A4: Calls made, HHs interviewed | B4: 3.1298327 | C4: 76.885537
A5: Calls made, HHs refused | B5: 4.2 | C5: 0.44365572
A6: Calls made, no contact | B6: 6.4640523 | C6: 20.363798
A7: Calls made, other non-response | B7: 4.6346154 | C7: 2.3070098
A9: Calls made - all HHs | B9: 3.178716 | D9: Round 2
A10: Calls made, HHs interviewed | B10: 2.7870146 | C10: 95.315211
A11: Calls made, HHs refused | B11: 2.8571429 | C11: 0.4048583
A12: Calls made, no contact | B12: 12.125 | C12: 4.1642568
A13: Calls made, other non-response | B13: 5 | C13: 0.1156738
A15: Calls made - all HHs | B15: 3.1354651 | D15: Round 3
A16: Calls made, HHs interviewed | B16: 2.7470769 | C16: 94.476744
A17: Calls made, HHs refused | B17: 4.6363636 | C17: 0.63953488
A18: Calls made, no contact | B18: 10.822785 | C18: 4.5930233
A19: Calls made, other non-response | B19: 4.6 | C19: 0.29069767
A21: Calls made - all HHs | B21: 2.7627417 | D21: Round 4
A22: Calls made, HHs interviewed | B22: 2.4291899 | C22: 94.727592
A23: Calls made, HHs refused | B23: 8.6666667 | C23: 0.17574692
A24: Calls made, no contact | B24: 9.0843373 | C24: 4.8623316
A25: Calls made, other non-response | B25: 2 | C25: 0.23432923
A27: Calls made - all HHs | B27: 3.0774648 | D27: Round 5
A28: Calls made, HHs interviewed | B28: 2.6236627 | C28: 93.251174
A29: Calls made, HHs refused | B29: 11 | C29: 0.058685446
A30: Calls made, no contact | B30: 9.5283019 | C30: 6.2206573
A31: Calls made, other non-response | B31: 6.75 | C31: 0.46948357
A33: Calls made - all HHs | B33: 3.3129771 | D33: Round 6
A34: Calls made, HHs interviewed | B34: 2.718946 | C34: 91.710758
A35: Calls made, HHs refused | B35: 7.5 | C35: 7.7601411
A36: Calls made, no contact | B36: 12.226804 | C36: 0.52910053
A37: Calls made, other non-response | B37: 10.7 | C37: 0.58719906
A39: Calls made - all HHs | B39: 3.3121693 | D39: Round 7
A40: Calls made, HHs interviewed | B40: 2.6846154 | C40: 91.710758
A41: Calls made, HHs refused
A42: Calls made, no contact | B42: 10.257576 | C42: 7.7601411
A43: Calls made, other non-response | B43: 10.222222 | C43: 0.52910053
A45: Calls made - all HHs | B45: 3.4174015 | D45: Round 8
A46: Calls made, HHs interviewed | B46: 2.7066409 | C46: 91.181658
A47: Calls made, HHs refused | B47: 6 | C47: 0.058788948
...

Sheet Metadata3
A1: Table 0.3: Result of Interview
B2: OVERALL | D2: Residence
D3: Urban | F3: Rural
B4: # of households | C4: % of overall sample | D4: # of households | E4: % of urban sample | F4: # of households | G4: % of rural sample
A5: Reached | H5: Round 1
A6: Complete | B6: 1729 | C6: 73.98374 | D6: 617 | E6: 79.204108 | F6: 1112 | G6: 71.373556
A7: Partially Complete | B7: 4 | C7: 0.17115961 | D7: 3 | E7: 0.38510911 | F7: 1 | G7: 0.064184852
A8: Refused | B8: 10 | C8: 0.42789902 | D8: 7 | E8: 0.89858793 | F8: 3 | G8: 0.19255456
A9: Language barrier
A10: Not Reached
A11: Nobody answering | B11: 21 | C11: 0.89858793 | D11: 9 | E11: 1.1553273 | F11: 12 | G11: 0.77021823
A12: Number does not exist | B12: 54 | C12: 2.3106547 | D12: 9 | E12: 1.1553273 | F12: 45 | G12: 2.8883184
A13: Phone turned off | B13: 467 | C13: 19.982884 | D13: 119 | E13: 15.275995 | F13: 348 | G13: 22.336329
A14: Wrong number (don't know the household) | B14: 29 | C14: 1.2409071 | D14: 6 | E14: 0.77021823 | F14: 23 | G14: 1.4762516
A15: Reference person can't connect to household | B15: 23 | C15: 0.98416774 | D15: 9 | E15: 1.1553273 | F15: 14 | G15: 0.89858793
A17: Reached | H17: Round 2
A18: Complete | B18: 1646 | C18: 95.199537 | D18: 613 | E18: 96.232339 | F18: 1033 | G18: 94.59707
A19: Partially Complete | B19: 2 | C19: 0.1156738 | D19: 1 | E19: 0.15698587 | F19: 1 | G19: 0.091575092
A20: Refused | B20: 7 | C20: 0.4048583 | D20: 4 | E20: 0.62794349 | F20: 3 | G20: 0.27472527
A21: Language barrier
A22: Not Reached
A23: Nobody answering | B23: 6 | C23: 0.3470214 | D23: 5 | E23: 0.78492936 | F23: 1 | G23: 0.091575092
A24: Number does not exist | B24: 1 | C24: 0.0578369 | D24: 0 | E24: 0 | F24: 1 | G24: 0.091575092
A25: Phone turned off | B25: 65 | C25: 3.7593985 | D25: 14 | E25: 2.1978022 | F25: 51 | G25: 4.6703297
A26: Wrong number (don't know the household)
A27: Reference person can't connect to household | B27: 2 | C27: 0.1156738 | D27: 0 | E27: 0 | F27: 2 | G27: 0.18315018
A29: Reached | H29: Round 3
A30: Complete | B30: 1624 | C30: 94.418605 | D30: 596 | E30: 94.303797 | F30: 1028 | G30: 94.485294
A31: Partially Complete | B31: 1 | C31: 0.058139535 | D31: 1 | E31: 0.15822785 | F31: 0 | G31: 0
A32: Refused | B32: 11 | C32: 0.63953488 | D32: 8 | E32: 1.2658228 | F32: 3 | G32: 0.27573529
A33: Language barrier
A34: Not Reached
A35: Nobody answering | B35: 9 | C35: 0.52325581 | D35: 7 | E35: 1.1075949 | F35: 2 | G35: 0.18382353
A36: Number does not exist
A37: Phone turned off | B37: 70 | C37: 4.0697674 | D37: 18 | E37: 2.8481013 | F37: 52 | G37: 4.7794118
A38: Wrong number (don't know the household)
A39: Reference person can't connect to household | B39: 5 | C39: 0.29069767 | D39: 2 | E39: 0.3164557 | F39: 3 | G39: 0.27573529
A41: Reached | H41: Round 4
A42: Complete | B42: 1616 | C42: 94.66901 | D42: 596 | E42: 95.819936 | F42: 1020 | G42: 94.009217
A43: Partially Complete | B43: 1 | C43: 0.058582308 | D43: 0 | E43: 0 | F43: 1 | G43: 0.092165899
...

Sheet Metadata4
A1: Table 0.4: Language of interivew
B2: Round 1 | C2: Round 2 | D2: Round 3 | E2: Round 4 | F2: Round 5 | G2: Round 6 | H2: Round 7 | I2: Round 8 | J2: Round 9 | K2: Round 10 | L2: Round 11 | M2: Round 12
B3: % of Interviews | C3: % of Interviews | D3: % of Interviews | E3: % of Interviews | F3: % of Interviews | G3: % of Interviews | H3: % of Interviews | I3: % of Interviews | J3: % of Interviews | K3: % of Interviews | L3: % of Interviews | M3: % of Interviews
A4: Chewa | B4: 88.37 | C4: 88.274605 | D4: 88.485222 | E4: 89.108911 | F4: 89.616111 | G4: 89.384422 | H4: 89.358974 | I4: 90.006447 | J4: 90.097087 | K4: 90.206746 | L4: 89.682025 | M4: 90.019569
A5: Nyanja | B5: 0.29 | C5: 0.91130012 | D5: 0 | E5: 0.12376238 | F5: 0.062932662 | G5: 0.12562814 | H5: 0.064102564 | J5: 0.12944984 | K5: 0.21762786 | L5: 0.12978585 | M5: 0.13046314
A6: Yao | B6: 3.64 | C6: 3.6452005 | D6: 4.0640394 | E6: 3.960396 | F6: 4.468219 | G6: 4.3969849 | H6: 4.3589744 | I6: 3.6105738 | J6: 3.5598706 | K6: 3.2644178 | L6: 3.569111 | M6: 3.7181996
A7: Tumbuka | B7: 5.32 | C7: 4.3134872 | D7: 5.0492611 | E7: 4.3316832 | F7: 3.6500944 | G7: 3.7688442 | H7: 4.1025641 | I7: 4.1263701 | J7: 4.0776699 | K7: 3.3732318 | L7: 4.1531473 | M7: 3.9138943
A8: Lhomwe | B8: 0 | C8: 0.060753341 | D8: 0 | E8: 0.061881188 | F8: 0 | G8: 0 | I8: 0.064474533 | M8: 0.065231572
A9: Nkhonde | B9: 0 | C9: 0 | D9: 0.061576355 | E9: 0 | F9: 0 | G9: 0 | L9: 0.064892927 | M9: 0
A10: Ngoni | B10: 0 | C10: 0.060753341 | D10: 0 | E10: 0 | F10: 0 | G10: 0 | J10: 0.064724919 | M10: 0
A11: Sena | B11: 0.06 | C11: 0 | D11: 0 | E11: 0 | F11: 0 | G11: 0 | K11: 0.10881393 | M11: 0
A12: Nyakyusa | B12: 0 | C12: 0 | D12: 0 | E12: 0.061881188 | F12: 0 | G12: 0 | M12: 0
A13: Tonga | B13: 2.2 | C13: 2.5516403 | D13: 2.2783251 | E13: 2.3514851 | F13: 2.2026432 | G13: 2.1984925 | H13: 2.0512821 | I13: 2.063185 | J13: 2.0711974 | K13: 2.7203482 | L13: 2.2063595 | M13: 2.0874103
A14: Lambya | B14: 0.06 | C14: 0 | D14: 0 | E14: 0 | F14: 0 | G14: 0 | M14: 0
A15: Senga | B15: 0 | C15: 0 | D15: 0 | E15: 0 | F15: 0 | G15: 0 | L15: 0.064892927 | M15: 0
A16: Sukwa/Ndali | B16: 0 | C16: 0 | D16: 0 | E16: 0 | F16: 0 | G16: 0 | H16: 0.064102564 | I16: 0.064474533 | L16: 0.064892927 | M16: 0.065231572
A17: English | B17: 0.06 | C17: 0.18226002 | D17: 0.061576355 | E17: 0 | F17: 0 | G17: 0.12562814 | I17: 0.064474533 | K17: 0.10881393 | L17: 0.064892927
A18: Other | B18: 0 | C18: 0 | D18: 0 | E18: 0 | F18: 0 | G18: 0
A19: Back to Table of Contents

Sheet Metadata5
A1: Table 0.5: Sample Composition*
B2: Round 1 | F2: Round 2 | J2: Round 3 | N2: Round 4 | R2: Round 5 | V2: Round 6 | Z2: Round 7 | AD2: Round 8 | AH2: Round 9 | AL2: Round 10 | AP2: Round 11 | AT2: Round 12
A3: Characteristic | B3: IHPS | D3: Phone sample | F3: IHPS | H3: Phone sample | J3: IHPS | L3: Phone sample | N3: IHPS | P3: Phone sample | R3: IHPS | T3: Phone sample | V3: IHPS | X3: Phone sample | Z3: IHPS | AB3: Phone sample | AD3: IHPS | AF3: Phone sample | AH3: IHPS | AJ3: Phone sample | AL3: IHPS | AN3: Phone sample | AP3: IHPS | AR3: Phone sample | AT3: IHPS | AV3: Phone sample
B4: Unweighted | C4: Weighted | D4: Unweighted | E4: Weighted | F4: Unweighted | G4: Weighted | H4: Unweighted | I4: Weighted | J4: Unweighted | K4: Weighted | L4: Unweighted | M4: Weighted | N4: Unweighted | O4: Weighted | P4: Unweighted | Q4: Weighted | R4: Unweighted | S4: Weighted | T4: Unweighted | U4: Weighted | V4: Unweighted | W4: Weighted | X4: Unweighted | Y4: Weighted | Z4: Unweighted | AA4: Weighted | AB4: Unweighted | AC4: Weighted | AD4: Unweighted | AE4: Weighted | AF4: Unweighted | AG4: Weighted | AH4: Unweighted | AI4: Weighted | AJ4: Unweighted | AK4: Weighted | AL4: Unweighted | AM4: Weighted | AN4: Unweighted | AO4: Weighted | AP4: Unweighted | AQ4: Weighted | AR4: Unweighted | AS4: Weighted | AT4: Unweighted | AU4: Weighted | AV4: Unweighted | AW4: Weighted
A5: Sample size (successful interviews) | B5: 1724 | D5: 1640 | F5: 1720 | H5: 1616 | J5: 1720 | L5: 1624 | N5: 1707 | P5: 1616 | R5: 1704 | T5: 1589 | V5: 1703 | X5: 1592 | Z5: 1701 | AB5: 1560 | AD5: 1701 | AF5: 1551 | AH5: 1700 | AJ5: 1545 | AL5: 1136 | AN5: 919 | AP5: 1699 | AR5: 1541 | AT5: 1698 | AV5: 1533
A6: Average household size | B6: 4.7900232 | C6: 5.0684351 | D6: 4.8189024 | E6: 4.997087 | F6: 4.7843023 | G6: 5.0789827 | H6: 4.7939356 | I6: 4.975215 | J6: 4.7843023 | K6: 5.0789827 | L6: 4.7906404 | M6: 4.9823075 | N6: 4.7791447 | O6: 5.0792691 | P6: 4.8007426 | Q6: 5.1297538 | R6: 4.7775822 | S6: 5.0783476 | T6: 4.7967275 | U6: 5.1290004 | V6: 4.7774516 | W6: 5.0783616 | X6: 4.8140704 | Y6: 5.1214573 | Z6: 4.7795414 | AA6: 5.080503 | AB6: 4.8 | AC6: 5.1399653 | AD6: 4.7795414 | AE6: 5.080503 | AF6: 4.8336557 | AG6: 5.1369658 | AH6: 4.7794118 | AI6: 5.0805051 | AJ6: 4.8090615 | AK6: 5.1263674 | AL6: 5.2464789 | AM6: 5.5236395 | AN6: 5.257889 | AO6: 5.5618217 | AP6: 4.7786933 | AQ6: 5.0799918 | AR6: 4.8195977 | AS6: 5.1375397 | AT6: 4.7791519 | AU6: 5.0802631 | AV6: 4.8232224 | AW6: 5.1080288
A7: Household head characteristics
A8: Female head (%) | B8: 21.925754 | C8: 25.329604 | D8: 21.646341 | E8: 29.432854 | F8: 22.151163 | G8: 25.08563 | H8: 21.967822 | I8: 29.375436 | J8: 22.151163 | K8: 25.08563 | L8: 22.044335 | M8: 29.909655 | N8: 22.144112 | O8: 25.251795 | P8: 21.720297 | Q8: 24.731631 | R8: 22.183099 | S8: 25.281482 | T8: 21.585903 | U8: 24.357697 | V8: 22.196124 | W8: 25.285995 | X8: 21.482412 | Y8: 25.130702 | Z8: 22.163433 | AA8: 25.298223 | AB8: 21.474359 | AC8: 24.645131 | AD8: 22.163433 | AE8: 25.298223 | AF8: 21.856867 | AG8: 24.909648 | AH8: 22.176471 | AI8: 25.298887 | AJ8: 21.553398 | AK8: 25.008982 | AL8: 23.679577 | AM8: 27.267791 | AN8: 23.721436 | AO8: 27.718805 | AP8: 22.189523 | AQ8: 25.31301 | AR8: 21.73913 | AS8: 25.098931 | AT8: 22.202591 | AU8: 25.31937 | AV8: 21.852577 | AW8: 25.08587
A9: Age | B9: 41.837587 | C9: 45.532897 | D9: 41.971341 | E9: 45.888494 | F9: 41.756977 | G9: 45.229743 | H9: 41.918317 | I9: 45.591022 | J9: 41.756977 | K9: 45.229743 | L9: 41.968596 | M9: 45.637347 | N9: 41.750439 | O9: 45.242973 | P9: 41.918936 | Q9: 44.584192 | R9: 41.759977 | S9: 45.251669 | T9: 41.864695 | U9: 44.406122 | V9: 41.761597 | W9: 45.252785 | X9: 41.837312 | Y9: 44.193056 | Z9: 41.759553 | AA9: 45.230205 | AB9: 41.779487 | AC9: 44.158876 | AD9: 41.759553 | AE9: 45.230205 | AF9: 41.929723 | AG9: 44.233072 | AH9: 41.763529 | AI9: 45.230473 | AJ9: 41.926861 | AK9: 44.4906 | AL9: 42.786092 | AM9: 46.587325 | AN9: 42.904244 | AO9: 45.690626 | AP9: 41.762802 | AQ9: 45.231718 | AR9: 41.824789 | AS9: 44.100299 | AT9: 41.768551 | AU9: 45.235043 | AV9: 41.99152 | AW9: 44.409954
A10: Literate (%) | B10: 88.457077 | C10: 84.118467 | D10: 88.841463 | E10: 77.583815 | F10: 88.372093 | G10: 83.696421 | H10: 88.923267 | I10: 76.692244 | J10: 88.372093 | K10: 83.696421 | L10: 88.916256 | M10: 76.768567 | N10: 88.400703 | O10: 83.603526 | P10: 88.861386 | Q10: 83.328961 | R10: 88.380282 | S10: 83.58425 | T10: 88.923851 | U10: 83.955804 | V10: 88.373459 | W10: 83.581319 | X10: 88.693467 | Y10: 83.590775 | Z10: 88.359788 | AA10: 83.55659 | AB10: 88.846154 | AC10: 83.864939 | AD10: 88.359788 | AE10: 83.55659 | AF10: 88.845906 | AG10: 83.597178 | AH10: 88.352941 | AI10: 83.556158 | AJ10: 88.996764 | AK10: 83.833268 | AL10: 87.235915 | AM10: 83.504505 | AN10: 87.704026 | AO10: 84.218654 | AP10: 88.346086 | AQ10: 83.546979 | AR10: 88.643738 | AS10: 84.172375 | AT10: 88.339223 | AU10: 83.542845 | AV10: 88.519243 | AW10: 83.874123
A11: Asset ownership
A12: Mobile phone | B12: 88.63109 | C12: 86.717826 | D12: 89.207317 | E12: 80.606308 | F12: 88.488372 | G12: 86.662451 | H12: 88.985149 | I12: 80.284525 | J12: 88.488372 | K12: 86.662451 | L12: 88.85468 | M12: 79.732412 | N12: 88.400703 | O12: 86.549379 | P12: 88.923267 | Q12: 87.421965 | R12: 88.380282 | S12: 86.533566 | T12: 89.112649 | U12: 87.889638 | V12: 88.373459 | W12: 86.531162 | X12: 88.944724 | Y12: 87.552256 | Z12: 88.418577 | AA12: 86.536733 | AB12: 88.974359 | AC12: 87.356263 | AD12: 88.418577 | AE12: 86.536733 | AF12: 89.426177 | AG12: 88.038766 | AH12: 88.411765 | AI12: 86.53638 | AJ12: 89.320388 | AK12: 87.574451 | AL12: 87.5 | AM12: 84.753069 | AN12: 88.030468 | AO12: 86.045541 | AP12: 88.404944 | AQ12: 86.528864 | AR12: 89.422453 | AS12: 88.250141 | AT12: 88.398115 | AU12: 86.525479 | AV12: 89.236791 | AW12: 87.635974
A13: Television | B13: 27.4942 | C13: 24.69082 | D13: 28.109756 | E13: 17.548778 | F13: 27.325581 | G13: 23.993018 | H13: 27.908416 | I13: 16.903102 | J13: 27.325581 | K13: 23.993018 | L13: 27.832512 | M13: 16.495668 | N13: 27.123609 | O13: 23.887524 | P13: 27.846535 | Q13: 22.652362 | R13: 27.053991 | S13: 23.815844 | T13: 28.005035 | U13: 23.051821 | V13: 27.011157 | W13: 23.802244 | X13: 27.889447 | Y13: 22.799407 | Z13: 27.042916 | AA13: 23.838095 | AB13: 28.205128 | AC13: 23.055422 | AD13: 27.042916 | AE13: 23.838095 | AF13: 28.562218 | AG13: 23.015601 | AH13: 27.058824 | AI13: 23.83872 | AJ13: 28.414239 | AK13: 22.911235 | AL13: 27.024648 | AM13: 25.955065 | AN13: 27.203482 | AO13: 23.995768 | AP13: 27.07475 | AQ13: 23.852028 | AR13: 28.423102 | AS13: 22.901578 | AT13: 27.031802 | AU13: 23.832895 | AV13: 28.440965 | AW13: 22.844661
A14: Refrigerator | B14: 14.849188 | C14: 13.302656 | D14: 15.121951 | E14: 8.7947551 | F14: 14.534884 | G14: 12.929688 | H14: 14.542079 | I14: 8.1999123 | J14: 14.534884 | K14: 12.929688 | L14: 14.53202 | M14: 7.95135 | N14: 14.294083 | O14: 12.450128 | P14: 14.851485 | Q14: 10.531312 | R14: 14.260563 | S14: 12.381102 | T14: 14.789176 | U14: 10.703662 | V14: 14.268937 | W14: 12.383312 | X14: 15.012563 | Y14: 10.768639 | Z14: 14.285714 | AA14: 12.401964 | AB14: 15.064103 | AC14: 10.902032 | AD14: 14.285714 | AE14: 12.401964 | AF14: 15.280464 | AG14: 10.811919 | AH14: 14.294118 | AI14: 12.402289 | AJ14: 15.145631 | AK14: 10.838699 | AL14: 14.348592 | AM14: 13.30322 | AN14: 14.68988 | AO14: 11.126445 | AP14: 14.302531 | AQ14: 12.409213 | AR14: 15.184945 | AS14: 11.108566 | AT14: 14.310954 | AU14: 12.412331 | AV14: 15.198956 | AW14: 11.027867
A15: Car | B15: 5.6264501 | C15: 4.5346533 | D15: 5.7926829 | E15: 3.116501 | F15: 5.4651163 | G15: 4.1108975 | H15: 5.4455446 | I15: 2.5641527 | J15: 5.4651163 | K15: 4.1108975 | L15: 5.4187192 | M15: 2.5020414 | N15: 5.2138254 | O15: 3.6264372 | P15: 5.3836634 | Q15: 3.1767905 | R15: 5.2230047 | S15: 3.6307006 | T15: 5.3492763 | U15: 3.1261636 | V15: 5.2260716 | W15: 3.6313488 | X15: 5.4020101 | Y15: 3.2149291 | Z15: 5.2322163 | AA15: 3.6368182 | AB15: 5.5769231 | AC15: 3.3595606 | AD15: 5.2322163 | AE15: 3.6368182 | AF15: 5.5448098 | AG15: 3.2075706 | AH15: 5.2352941 | AI15: 3.6369137 | AJ15: 5.4368932 | AK15: 3.2186086 | AL15: 5.721831 | AM15: 3.8027581 | AN15: 5.7671382 | AO15: 3.5610726 | AP15: 5.2383755 | AQ15: 3.6389439 | AR15: 5.5158988 | AS15: 3.3500985 | AT15: 5.2414605 | AU15: 3.6398582 | AV15: 5.4142205 | AW15: 3.1190882
A16: Generator | B16: 2.0301624 | C16: 1.7620946 | D16: 2.0731707 | E16: 1.1787592 | F16: 1.9767442 | G16: 1.4187793 | H16: 1.980198 | I16: 0.95770834 | J16: 1.9767442 | K16: 1.4187793 | L16: 1.9704433 | M16: 0.96599145 | N16: 1.9332162 | O16: 1.2637521 | P16: 1.980198 | Q16: 1.5412797 | R16: 1.8779343 | S16: 1.1815744 | T16: 2.0138452 | U16: 1.6426825 | V16: 1.879037 | W16: 1.1817854 | X16: 2.0100503 | Y16: 1.6189995 | Z16: 1.8812463 | AA16: 1.1835654 | AB16: 2.0512821 | AC16: 1.689722 | AD16: 1.8812463 | AE16: 1.1835654 | AF16: 2.063185 | AG16: 1.6535056 | AH16: 1.8823529 | AI16: 1.1835964 | AJ16: 2.0711974 | AK16: 1.7056077 | AL16: 2.1126761 | AM16: 1.2227324 | AN16: 2.1762786 | AO16: 1.7010596 | AP16: 1.8834609 | AQ16: 1.1842571 | AR16: 2.0116807 | AS16: 1.664279 | AT16: 1.8845701 | AU16: 1.1845547 | AV16: 2.0874103 | AW16: 1.6658015
A17: IHPS PCA Index Based Wealth Quintiles
A18: Q1 | B18: 7.8306265 | C18: 6.685713 | D18: 7.195122 | E18: 13.461091 | F18: 7.9069767 | G18: 7.6649704 | H18: 7.6732673 | I18: 14.678958 | J18: 7.9069767 | K18: 7.6649704 | L18: 7.6970443 | M18: 15.314809 | N18: 7.8500293 | O18: 7.5633686 | P18: 7.6732673 | Q18: 9.131935 | R18: 7.8638498 | S18: 7.5722606 | T18: 7.4260541 | U18: 8.8610874 | V18: 7.8684674 | W18: 7.5736123 | X18: 7.3492462 | Y18: 8.7719116 | Z18: 7.877719 | AA18: 7.5850196 | AB18: 7.1153846 | AC18: 8.2389596 | AD18: 7.877719 | AE18: 7.5850196 | AF18: 6.7698259 | AG18: 7.9551259 | AH18: 7.8823529 | AI18: 7.5852187 | AJ18: 7.0550162 | AK18: 8.0640012 | AL18: 7.9225352 | AM18: 7.2202065 | AN18: 8.0522307 | AO18: 8.6822605 | AP18: 7.8869923 | AQ18: 7.5894529 | AR18: 7.4626866 | AS18: 8.3258465 | AT18: 7.8916372 | AU18: 7.5913598 | AV18: 7.3059361 | AW18: 8.5013387
A19: Q2 | B19: 13.689095 | C19: 13.254784 | D19: 13.170732 | E19: 17.588921 | F19: 13.72093 | G19: 14.713925 | H19: 12.809406 | I19: 17.662268 | J19: 13.72093 | K19: 14.713925 | L19: 12.807882 | M19: 18.123671 | N19: 13.825425 | O19: 14.838665 | P19: 13.180693 | Q19: 14.970175 | R19: 13.849765 | S19: 14.85611 | T19: 12.712398 | U19: 13.973946 | V19: 13.857898 | W19: 14.858762 | X19: 13.190955 | Y19: 14.739325 | Z19: 13.874192 | AA19: 14.881142 | AB19: 13.461538 | AC19: 15.130754 | AD19: 13.874192 | AE19: 14.881142 | AF19: 13.023856 | AG19: 14.891941 | AH19: 13.882353 | AI19: 14.881533 | AJ19: 12.880259 | AK19: 14.628051 | AL19: 13.292254 | AM19: 12.882825 | AN19: 12.948857 | AO19: 12.302801 | AP19: 13.831666 | AQ19: 14.834018 | AR19: 12.913692 | AS19: 14.226618 | AT19: 13.839812 | AU19: 14.837745 | AV19: 13.176778 | AW19: 15.02872
A20: Q3 | B20: 20.765661 | C20: 23.246193 | D20: 20.609756 | E20: 25.589547 | F20: 20.813953 | G20: 22.429545 | H20: 20.730198 | I20: 25.485923 | J20: 20.813953 | K20: 22.429545 | L20: 20.751232 | M20: 24.858979 | N20: 20.913884 | O20: 22.593711 | P20: 20.668317 | Q20: 24.577983 | R20: 20.950704 | S20: 22.620274 | T20: 21.019509 | U20: 24.610944 | V20: 20.963006 | W20: 22.624312 | X20: 20.665829 | Y20: 23.907608 | Z20: 20.928865 | AA20: 22.63253 | AB20: 20.320513 | AC20: 23.64038 | AD20: 20.928865 | AE20: 22.63253 | AF20: 20.438427 | AG20: 24.340479 | AH20: 20.941176 | AI20: 22.633124 | AJ20: 20.776699 | AK20: 24.741395 | AL20: 20.774648 | AM20: 22.632071 | AN20: 19.368879 | AO20: 22.644651 | AP20: 20.953502 | AQ20: 22.645759 | AR20: 20.116807 | AS20: 24.088915 | AT20: 20.965842 | AU20: 22.651449 | AV20: 20.808871 | AW20: 24.495793
A21: Q4 | B21: 26.740139 | C21: 28.613408 | D21: 27.134146 | E21: 23.400861 | F21: 26.802326 | G21: 27.932176 | H21: 27.413366 | I21: 23.438476 | J21: 26.802326 | K21: 27.932176 | L21: 27.401478 | M21: 23.401048 | N21: 26.947862 | O21: 28.149639 | P21: 26.856436 | Q21: 26.854996 | R21: 26.93662 | S21: 28.166633 | T21: 27.18691 | U21: 28.177337 | V21: 26.952437 | W21: 28.171661 | X21: 27.072864 | Y21: 28.410325 | Z21: 26.925338 | AA21: 28.089332 | AB21: 27.115385 | AC21: 28.457065 | AD21: 26.925338 | AE21: 28.089332 | AF21: 27.466151 | AG21: 28.469539 | AH21: 26.941176 | AI21: 28.090069 | AJ21: 27.249191 | AK21: 28.054747 | AL21: 27.112676 | AM21: 30.06724 | AN21: 27.747552 | AO21: 30.759954 | AP21: 26.957034 | AQ21: 28.10575 | AR21: 27.384815 | AS21: 28.461474 | AT21: 26.972909 | AU21: 28.112811 | AV21: 26.54925 | AW21: 27.172284
A22: Q5 | B22: 30.974478 | C22: 28.199902 | D22: 31.890244 | E22: 19.959582 | F22: 30.755814 | G22: 27.259383 | H22: 31.373762 | I22: 18.734376 | J22: 30.755814 | K22: 27.259383 | L22: 31.342365 | M22: 18.301493 | N22: 30.4628 | O22: 26.854616 | P22: 31.621287 | Q22: 24.46491 | R22: 30.399061 | S22: 26.784722 | T22: 31.655129 | U22: 24.376686 | V22: 30.358191 | W22: 26.771653 | X22: 31.721106 | Y22: 24.17083 | Z22: 30.393886 | AA22: 26.811976 | AB22: 31.987179 | AC22: 24.532841 | AD22: 30.393886 | AE22: 26.811976 | AF22: 32.301741 | AG22: 24.342915 | AH22: 30.352941 | AI22: 26.810055 | AJ22: 32.038835 | AK22: 24.511806 | AL22: 30.897887 | AM22: 27.197657 | AN22: 31.882481 | AO22: 25.610334 | AP22: 30.370806 | AQ22: 26.825021 | AR22: 32.121999 | AS22: 24.897147 | AT22: 30.3298 | AU22: 26.806636 | AV22: 32.159165 | AW22: 24.801864
A23: * Based on information from the IHPS only.
A24: Back to Table of Contents

Sheet Knowledge_Behav_Concerns4
A1: Table 2.11a. Prevalence of Safe Practises(Washing Hands with Soap after being in Public), Last 7 days
B2: % of respondents | C2: % of respondents by IHPS Wealth Quintile | H2: % of respondents by residence
C3: Q1 | D3: Q2 | E3: Q3 | F3: Q4 | G3: Q5 | H3: Urban | I3: Rural
A4: All of the time | B4: 61.317343 | C4: 50.263078 | D4: 61.185007 | E4: 55.835497 | F4: 68.531367 | G4: 68.717982 | H4: 64.839557 | I4: 60.477913 | J4: Round 2
A5: Most of the time | B5: 16.412389 | C5: 22.664231 | D5: 12.176219 | E5: 20.195935 | F5: 14.102316 | G5: 13.576635 | H5: 11.988129 | I5: 17.466799
A6: About half of the time | B6: 3.5515939 | C6: 1.0619551 | D6: 6.3287492 | E6: 4.6183038 | F6: 2.1750703 | G6: 2.8860564 | H6: 2.8486142 | I6: 3.7191312
A7: Some of the time | B7: 9.3997638 | C7: 13.118629 | D7: 11.278599 | E7: 10.008575 | F7: 7.1201782 | G7: 6.5116118 | H7: 7.1445385 | I7: 9.9372394
A8: None of the time | B8: 4.7410984 | C8: 5.76256 | D8: 5.2201749 | E8: 5.0327069 | F8: 4.6609613 | G8: 3.1482282 | H8: 8.3121737 | I8: 3.8900234
A9: I have not been in public during the last 7 days | B9: 4.5778117 | C9: 7.1295472 | D9: 3.8112521 | E9: 4.3089827 | F9: 3.4101077 | G9: 5.1594865 | H9: 4.8669872 | I9: 4.5088941
A11: All of the time | B11: 30.750114 | C11: 29.812222 | D11: 29.462411 | E11: 26.835832 | F11: 31.137742 | G11: 35.333054 | H11: 33.683777 | I11: 30.004821 | J11: Round 5
A12: Most of the time | B12: 28.588514 | C12: 16.477405 | D12: 29.022012 | E12: 29.790233 | F12: 30.064539 | G12: 29.823057 | H12: 32.609437 | I12: 27.567004
A13: About half of the time | B13: 5.7013531 | C13: 5.0616526 | D13: 2.6627329 | E13: 9.0032973 | F13: 5.2460654 | G13: 4.8683763 | H13: 6.1349442 | I13: 5.5911998
A14: Some of the time | B14: 19.197135 | C14: 20.621643 | D14: 21.872832 | E14: 19.167426 | F14: 20.298639 | G14: 15.902222 | H14: 17.939918 | I14: 19.516529
A15: None of the time | B15: 10.647678 | C15: 18.031 | D15: 10.921737 | E15: 10.336649 | F15: 10.554543 | G15: 8.22836 | H15: 5.6726149 | I15: 11.911587
A16: I have not been in public during the last 7 days | B16: 5.1152058 | C16: 9.9960776 | D16: 6.0582736 | E16: 4.8665635 | F16: 2.6984712 | G16: 5.8449301 | H16: 3.9593095 | I16: 5.4088598
A18: All of the time | B18: 28.539285 | C18: 24.736546 | D18: 26.440982 | E18: 24.478899 | F18: 31.420306 | G18: 31.828714 | H18: 33.048099 | I18: 27.420578 | J18: Round 6
A19: Most of the time | B19: 25.08678 | C19: 21.602958 | D19: 25.479379 | E19: 24.724272 | F19: 23.61125 | G19: 28.204594 | H19: 24.80764 | I19: 25.156039
A20: About half of the time | B20: 4.8713525 | C20: 3.5647362 | D20: 3.8095677 | E20: 6.7886798 | F20: 4.5141373 | G20: 4.5164373 | H20: 5.2356677 | I20: 4.7809603
A21: Some of the time | B21: 24.745602 | C21: 20.054337 | D21: 26.3415 | E21: 25.705782 | F21: 26.786092 | G21: 22.126841 | H21: 23.087541 | I21: 25.156993
A22: None of the time | B22: 10.812786 | C22: 18.28289 | D22: 11.898999 | E22: 10.876371 | F22: 9.4187282 | G22: 9.0150976 | H22: 8.6251025 | I22: 11.355585
A23: I have not been in public during the last 7 days | B23: 5.9441937 | C23: 11.758534 | D23: 6.0295732 | E23: 7.4259966 | F23: 4.2494874 | G23: 4.3083162 | H23: 5.1959505 | I23: 6.1298445
A25: All of the time | B25: 59.939066 | C25: 52.987679 | D25: 55.64449 | E25: 58.436356 | F25: 59.598114 | G25: 66.765812 | H25: 63.59755 | I25: 59.03877 | J25: Round 7
A26: Most of the time | B26: 17.926321 | C26: 16.437565 | D26: 21.400226 | E26: 15.75188 | F26: 17.657098 | G26: 18.691373 | H26: 18.01092 | I26: 17.905502
A27: About half of the time | B27: 2.8264122 | C27: 5.0871346 | D27: 0.6061954 | E27: 3.0696197 | F27: 4.2956905 | G27: 1.4978538 | H27: 2.5338819 | I27: 2.8983994
A28: Some of the time | B28: 8.2147062 | C28: 7.3901041 | D28: 14.421914 | E28: 10.853623 | F28: 5.1116559 | G28: 5.7197992 | H28: 6.9495277 | I28: 8.5260471
A29: None of the time | B29: 2.6806756 | C29: 4.1162208 | D29: 1.82719 | E29: 3.3864267 | F29: 2.8203885 | G29: 1.8828242 | H29: 2.9900668 | I29: 2.6045392
A30: I have not been in public during the last 7 days | B30: 8.4128194 | C30: 13.981297 | D30: 6.0999849 | E30: 8.5020948 | F30: 10.517054 | G30: 5.4423372 | H30: 5.9180536 | I30: 9.0267427
A32: All of the time | B32: 57.906061 | C32: 57.179663 | D32: 50.783121 | E32: 56.89797 | F32: 59.77578 | G32: 61.322264 | H32: 62.016402 | I32: 56.903387 | J32: Round 8
A33: Most of the time | B33: 21.538706 | C33: 15.544488 | D33: 26.213916 | E33: 17.936628 | F33: 22.886471 | G33: 22.662968 | H33: 21.514706 | I33: 21.54456
A34: About half of the time | B34: 4.3002287 | C34: 8.2044517 | D34: 2.962176 | E34: 5.4548717 | F34: 3.5019255 | G34: 3.622018 | H34: 4.5104661 | I34: 4.2489435
A35: Some of the time | B35: 8.9161068 | C35: 15.937886 | D35: 12.977783 | E35: 9.1507787 | F35: 6.3892422 | G35: 6.8572432 | H35: 5.9438765 | I35: 9.6411507
A36: None of the time | B36: 2.3992629 | C36: 1.762837 | D36: 1.7877507 | E36: 4.9526124 | F36: 2.1235487 | G36: 0.75069947 | H36: 1.5910614 | I36: 2.5964151
A37: I have not been in public during the last 7 days | B37: 4.9396352 | C37: 1.3706738 | D37: 5.2752537 | E37: 5.6071395 | F37: 5.3230322 | G37: 4.7848066 | H37: 4.4234881 | I37: 5.0655439
A39: All of the time | B39: 51.538127 | C39: 47.5704 | D39: 54.181885 | E39: 50.740192 | F39: 50.003302 | G39: 53.827795 | H39: 49.444054 | I39: 52.075247 | J39: Round 9
A40: Most of the time | B40: 20.067715 | C40: 10.472843 | D40: 18.062244 | E40: 19.493283 | F40: 22.555759 | G40: 22.153242 | H40: 26.391802 | I40: 18.445616
A41: About half of the time | B41: 3.4948207 | C41: 8.1442225 | D41: 4.8571473 | E41: 1.8526639 | F41: 3.2627367 | G41: 3.075404 | H41: 2.8715594 | I41: 3.6546844
A42: Some of the time | B42: 16.265402 | C42: 23.777701 | D42: 14.952022 | E42: 19.442376 | F42: 15.483797 | G42: 12.265616 | H42: 14.383988 | I42: 16.747977
A43: None of the time | B43: 4.8801582 | C43: 2.0336418 | D43: 5.6108894 | E43: 7.0981244 | F43: 2.5495694 | G43: 5.8092467 | H43: 4.5499159 | I43: 4.9648638
A44: I have not been in public during the last 7 days | B44: 3.7537766 | C44: 8.0011916 | D44: 2.3358123 | E44: 1.3733616 | F44: 6.1448365 | G44: 2.8686972 | H44: 2.3586817 | I44: 4.1116122
A46: All of the time | B46: 43.997673 | C46: 44.818978 | D46: 43.09841 | E46: 44.297352 | F46: 41.69554 | G46: 46.578633 | H46: 41.205678 | I46: 44.695207 | J46: Round 11
...

Sheet Knowledge_Behav_Concerns5
A1: Table 2.11b. Prevalence of Safe Practises(Wearing a Mask when in Public), Last 7 days
B2: % of respondents | C2: % of respondents by IHPS Wealth Quintile | H2: % of respondents by residence
C3: Q1 | D3: Q2 | E3: Q3 | F3: Q4 | G3: Q5 | H3: Urban | I3: Rural
A4: All of the time | B4: 19.413489 | C4: 11.423909 | D4: 21.669073 | E4: 19.111453 | F4: 14.867619 | G4: 29.343673 | H4: 26.473709 | I4: 17.730865 | J4: Round 2
A5: Most of the time | B5: 6.4643492 | C5: 2.5644569 | D5: 4.8152317 | E5: 4.2049146 | F5: 10.156127 | G5: 9.7626283 | H5: 6.6095782 | I5: 6.4297376
A6: About half of the time | B6: 1.3976115 | C6: 0.59157766 | D6: 3.3778169 | E6: 0.6411766 | F6: 0.77709115 | G6: 1.7742431 | H6: 1.7622698 | I6: 1.3107045
A7: Some of the time | B7: 7.189124 | C7: 12.058078 | D7: 4.5458228 | E7: 3.2158561 | F7: 6.7713244 | G7: 11.984224 | H7: 11.757489 | I7: 6.1003703
A8: None of the time | B8: 60.912814 | C8: 66.232431 | D8: 61.834839 | E8: 68.863583 | F8: 63.631147 | G8: 41.683504 | H8: 47.827536 | I8: 64.031357
A9: I have not been in public during the last 7 days | B9: 4.6226127 | C9: 7.1295472 | D9: 3.7572159 | E9: 3.9630164 | F9: 3.7966918 | G9: 5.4517272 | H9: 5.5694183 | I9: 4.3969656
A11: All of the time | B11: 55.744133 | C11: 35.909877 | D11: 51.014886 | E11: 58.274013 | F11: 57.661221 | G11: 71.138958 | H11: 68.036484 | I11: 52.901983 | J11: Round 3
A12: Most of the time | B12: 15.924457 | C12: 15.937976 | D12: 15.778363 | E12: 15.25136 | F12: 19.132256 | G12: 12.870125 | H12: 11.872558 | I12: 16.861308
A13: About half of the time | B13: 3.2817145 | C13: 3.0818763 | D13: 2.2740524 | E13: 4.1273495 | F13: 4.0658256 | G13: 2.2954768 | H13: 4.1270385 | I13: 3.0862646
A14: Some of the time | B14: 7.567925 | C14: 6.4692993 | D14: 8.0855319 | E14: 7.116732 | F14: 7.7091338 | G14: 8.407079 | H14: 8.3198303 | I14: 7.3940748
A15: None of the time | B15: 14.906151 | C15: 32.232992 | D15: 22.580425 | E15: 12.071695 | F15: 9.7681325 | G15: 3.2256673 | H15: 5.9655726 | I15: 16.973328
A16: I have not been in public during the last 7 days | B16: 2.5756197 | C16: 6.367979 | D16: 0.26674137 | E16: 3.1588505 | F16: 1.6634312 | G16: 2.062694 | H16: 1.6785168 | I16: 2.7830415
A18: All of the time | B18: 47.36166 | C18: 41.676481 | D18: 51.177034 | E18: 47.293435 | F18: 44.949902 | G18: 49.865018 | H18: 53.027204 | I18: 45.949199 | J18: Round 4
A19: Most of the time | B19: 22.913702 | C19: 18.802956 | D19: 22.450445 | E19: 20.979535 | F19: 24.959772 | G19: 24.428721 | H19: 22.91494 | I19: 22.913393
A20: About half of the time | B20: 4.4979396 | C20: 3.0867834 | D20: 4.8065801 | E20: 3.4112319 | F20: 6.2673989 | G20: 3.9852235 | H20: 3.2649372 | I20: 4.805336
A21: Some of the time | B21: 12.97259 | C21: 14.200461 | D21: 11.250658 | E21: 12.37512 | F21: 14.048633 | G21: 12.986987 | H21: 13.876244 | I21: 12.747302
A22: None of the time | B22: 11.005442 | C22: 18.938283 | D22: 8.2493916 | E22: 15.222213 | F22: 8.4781937 | G22: 8.2687006 | H22: 6.2978571 | I22: 12.179077
A23: I have not been in public during the last 7 days | B23: 1.2486672 | C23: 3.2950361 | D23: 2.0658905 | E23: 0.71846502 | F23: 1.2961004 | G23: 0.46534943 | H23: 0.61881716 | I23: 1.4056934
A25: All of the time | B25: 27.143567 | C25: 27.119793 | D25: 31.094983 | E25: 26.159119 | F25: 25.54713 | G25: 27.726308 | H25: 29.759061 | I25: 26.479103 | J25: Round 5
A26: Most of the time | B26: 21.745385 | C26: 18.654049 | D26: 17.385346 | E26: 23.155548 | F26: 25.399281 | G26: 19.721198 | H26: 24.655066 | I26: 21.006184
A27: About half of the time | B27: 5.0626367 | C27: 5.836236 | D27: 4.1783086 | E27: 4.9122649 | F27: 4.6081797 | G27: 5.9654993 | H27: 4.0969848 | I27: 5.3079593
A28: Some of the time | B28: 24.836439 | C28: 21.58688 | D28: 31.310254 | E28: 25.429085 | F28: 24.883273 | G28: 21.654081 | H28: 22.398433 | I28: 25.455812
A29: None of the time | B29: 16.343747 | C29: 16.806965 | D29: 10.021488 | E29: 15.496713 | F29: 17.699202 | G29: 19.087985 | H29: 15.154585 | I29: 16.645852
A30: I have not been in public during the last 7 days | B30: 4.8682261 | C30: 9.9960776 | D30: 6.0096193 | E30: 4.847269 | F30: 1.8629335 | G30: 5.8449301 | H30: 3.9358694 | I30: 5.1050901
A32: All of the time | B32: 23.822791 | C32: 23.732576 | D32: 23.323784 | E32: 22.352198 | F32: 25.618869 | G32: 23.5033 | H32: 23.642958 | I32: 23.867411 | J32: Round 6
A33: Most of the time | B33: 14.063466 | C33: 11.059655 | D33: 15.640786 | E33: 13.056843 | F33: 18.792284 | G33: 9.6291615 | H33: 12.533879 | I33: 14.44298
A34: About half of the time | B34: 2.6805266 | C34: 1.9894201 | D34: 2.7848565 | E34: 3.7710468 | F34: 1.7492514 | G34: 2.883692 | H34: 4.3115608 | I34: 2.2758417
A35: Some of the time | B35: 29.825267 | C35: 23.980312 | D35: 20.978903 | E35: 33.8657 | F35: 28.473793 | G35: 34.93306 | H35: 33.171798 | I35: 28.994941
A36: None of the time | B36: 23.961506 | C36: 27.479503 | D36: 31.147949 | E36: 20.593229 | F36: 21.316976 | G36: 24.742471 | H36: 21.626396 | I36: 24.540884
A37: I have not been in public during the last 7 days | B37: 5.6464429 | C37: 11.758534 | D37: 6.1237209 | E37: 6.3609841 | F37: 4.0488259 | G37: 4.3083162 | H37: 4.7134088 | I37: 5.8779432
A39: All of the time | B39: 64.367285 | C39: 61.653479 | D39: 55.495534 | E39: 62.594637 | F39: 62.732018 | G39: 74.355375 | H39: 69.552556 | I39: 63.09127 | J39: Round 7
A40: Most of the time | B40: 10.706063 | C40: 9.3177946 | D40: 15.741131 | E40: 9.8371407 | F40: 10.445639 | G40: 9.2062787 | H40: 8.0415137 | I40: 11.361767
A41: About half of the time | B41: 2.3341208 | C41: 1.039168 | D41: 1.9100901 | E41: 1.9777704 | F41: 3.9364457 | G41: 1.5152904 | H41: 3.3965858 | I41: 2.0726646
A42: Some of the time | B42: 8.9937633 | C42: 6.2463549 | D42: 11.395655 | E42: 11.359428 | F42: 8.505526 | G42: 6.7217863 | H42: 8.800672 | I42: 9.0412802
A43: None of the time | B43: 5.3298083 | C43: 8.9946459 | D43: 9.3576045 | E43: 5.728929 | F43: 4.4908182 | G43: 2.2034597 | H43: 3.9488279 | I43: 5.6696462
A44: I have not been in public during the last 7 days | B44: 8.2689595 | C44: 12.748557 | D44: 6.0999849 | E44: 8.5020948 | F44: 9.8895531 | G44: 5.9978101 | H44: 6.2598446 | I44: 8.7633717
A46: All of the time | B46: 62.315885 | C46: 64.640078 | D46: 58.455605 | E46: 62.938073 | F46: 62.668872 | G46: 62.882954 | H46: 61.834225 | I46: 62.433381 | J46: Round 8
...

Sheet Knowledge_Behav_Concerns6
A1: Table 2.7. Degree of worry about self/immediate family becoming seriously ill from Coronavirus
B2: % of respondents | C2: % of respondents by IHPS Wealth Quintile | H2: % of respondents by residence
C3: Q1 | D3: Q2 | E3: Q3 | F3: Q4 | G3: Q5 | H3: Urban | I3: Rural
A4: Very worried | B4: 88.788642 | C4: 94.015938 | D4: 93.445189 | E4: 87.120347 | F4: 85.486541 | G4: 86.443869 | H4: 84.875783 | I4: 89.767482 | J4: Round 1
A5: Somewhat worried | B5: 5.1174022 | C5: 0.19873817 | D5: 4.8459045 | E5: 6.5498468 | F5: 5.6098964 | G5: 6.7307666 | H5: 6.2567105 | I5: 4.8323931
A6: Not too worried | B6: 2.2632414 | C6: 2.5343858 | D6: 0.29744631 | E6: 1.6549927 | F6: 4.0873129 | G6: 2.5322509 | H6: 3.7837859 | I6: 1.8828624
A7: Not worried at all | B7: 3.8307141 | C7: 3.2509384 | D7: 1.4114605 | E7: 4.6748137 | F7: 4.8162495 | G7: 4.2931139 | H7: 5.0837204 | I7: 3.5172624
A9: Very worried | B9: 89.546354 | C9: 92.06281 | D9: 91.399318 | E9: 90.742491 | F9: 85.946812 | G9: 88.451549 | H9: 90.316154 | I9: 89.362892 | J9: Round 2
A10: Somewhat worried | B10: 3.2511106 | C10: 2.9726625 | D10: 3.1130155 | E10: 3.7819175 | F10: 2.2627699 | G10: 4.1046152 | H10: 3.2265415 | I10: 3.2569661
A11: Not too worried | B11: 2.6127881 | C11: 1.3548875 | D11: 2.6311869 | E11: 1.4787305 | F11: 3.7476487 | G11: 3.7267549 | H11: 1.4447674 | I11: 2.8911561
A12: Not worried at all | B12: 4.5897475 | C12: 3.6096397 | D12: 2.8564795 | E12: 3.9968607 | F12: 8.0427699 | G12: 3.7170807 | H12: 5.0125375 | I12: 4.4889863
A14: Very worried | B14: 88.088536 | C14: 81.147235 | D14: 95.333619 | E14: 91.190173 | F14: 86.343457 | G14: 84.740742 | H14: 83.173147 | I14: 89.225161 | J14: Round 3
A15: Somewhat worried | B15: 4.642146 | C15: 10.295912 | D15: 1.1525677 | E15: 3.1837852 | F15: 4.330853 | G15: 5.745639 | H15: 7.7647611 | I15: 3.920079
A16: Not too worried | B16: 2.5490633 | C16: 0.14505992 | D16: 1.261132 | E16: 1.278979 | F16: 5.3642926 | G16: 3.9616572 | H16: 3.342077 | I16: 2.3656884
A17: Not worried at all | B17: 4.7202543 | C17: 8.4117928 | D17: 2.2526809 | E17: 4.347063 | F17: 3.9613971 | G17: 5.5519618 | H17: 5.7200152 | I17: 4.4890717
A19: Very worried | B19: 72.530777 | C19: 80.909322 | D19: 79.38416 | E19: 67.457897 | F19: 71.11955 | G19: 71.855156 | H19: 72.101323 | I19: 72.637843 | J19: Round 4
A20: Somewhat worried | B20: 11.160197 | C20: 9.3445049 | D20: 5.2823332 | E20: 16.249127 | F20: 10.234831 | G20: 11.33794 | H20: 12.012843 | I20: 10.947626
A21: Not too worried | B21: 8.4462622 | C21: 3.948995 | D21: 7.5947174 | E21: 7.4963381 | F21: 10.346044 | G21: 9.5149405 | H21: 6.7135984 | I21: 8.8782277
A22: Not worried at all | B22: 7.8627638 | C22: 5.7971781 | D22: 7.7387895 | E22: 8.7966373 | F22: 8.2995754 | G22: 7.291963 | H22: 9.1722353 | I22: 7.5363032
A24: Very worried | B24: 65.290025 | C24: 61.664557 | D24: 75.694867 | E24: 64.028744 | F24: 66.639677 | G24: 60.356649 | H24: 65.503119 | I24: 65.235889 | J24: Round 5
A25: Somewhat worried | B25: 11.690699 | C25: 17.146455 | D25: 6.6008855 | E25: 13.232079 | F25: 7.6441336 | G25: 15.74652 | H25: 10.777674 | I25: 11.922652
A26: Not too worried | B26: 11.163122 | C26: 12.878932 | D26: 8.0963226 | E26: 12.037205 | F26: 12.086949 | G26: 10.34711 | H26: 7.8094533 | I26: 12.015117
A27: Not worried at all | B27: 11.856154 | C27: 8.3100552 | D27: 9.6079246 | E27: 10.701972 | F27: 13.62924 | G27: 13.549721 | H27: 15.909753 | I27: 10.826342
A29: Very worried | B29: 68.537206 | C29: 72.748938 | D29: 79.173408 | E29: 67.640204 | F29: 66.510278 | G29: 63.792458 | H29: 64.883353 | I29: 69.443784 | J29: Round 6
A30: Somewhat worried | B30: 10.241474 | C30: 5.1043194 | D30: 6.0180991 | E30: 9.576571 | F30: 10.553242 | G30: 14.972431 | H30: 13.511112 | I30: 9.4302257
A31: Not too worried | B31: 9.428419 | C31: 7.8617277 | D31: 7.9539074 | E31: 9.001016 | F31: 12.193712 | G31: 8.0685769 | H31: 8.9089747 | I31: 9.5573013
A32: Not worried at all | B32: 11.792901 | C32: 14.285015 | D32: 6.8545856 | E32: 13.782209 | F32: 10.742767 | G32: 13.166534 | H32: 12.69656 | I32: 11.568689
A34: Very worried | B34: 86.742017 | C34: 84.419247 | D34: 88.926792 | E34: 87.902675 | F34: 88.014832 | G34: 83.579762 | H34: 79.873558 | I34: 88.432238 | J34: Round 7
A35: Somewhat worried | B35: 5.6532773 | C35: 2.6767283 | D35: 4.2629578 | E35: 5.308358 | F35: 5.2086489 | G35: 8.3585119 | H35: 9.8352943 | I35: 4.6241475
A36: Not too worried | B36: 4.0468825 | C36: 6.5498791 | D36: 2.5845089 | E36: 3.392102 | F36: 5.0672068 | G36: 3.555645 | H36: 5.1890581 | I36: 3.7658107
A37: Not worried at all | B37: 3.5578235 | C37: 6.3541451 | D37: 4.2257415 | E37: 3.3968646 | F37: 1.7093127 | G37: 4.5060806 | H37: 5.1020893 | I37: 3.1778036
A39: Very worried | B39: 76.593811 | C39: 80.164856 | D39: 79.483244 | E39: 77.884426 | F39: 74.436922 | G39: 74.891225 | H39: 72.233923 | I39: 77.657359 | J39: Round 8
A40: Somewhat worried | B40: 8.4475175 | C40: 5.5959447 | D40: 7.4834612 | E40: 8.6999674 | F40: 7.8363125 | G40: 10.431556 | H40: 12.863408 | I40: 7.370308
A41: Not too worried | B41: 7.5703586 | C41: 6.3862216 | D41: 6.4119049 | E41: 7.7900123 | F41: 11.182092 | G41: 4.2223916 | H41: 5.0173585 | I41: 8.1931358
A42: Not worried at all | B42: 7.3883128 | C42: 7.8529773 | D42: 6.6213894 | E42: 5.6255944 | F42: 6.544674 | G42: 10.454828 | H42: 9.88531 | I42: 6.7791969
A44: Very worried | B44: 70.819754 | C44: 62.834594 | D44: 78.477948 | E44: 71.323732 | F44: 72.714055 | G44: 66.199718 | H44: 61.635412 | I44: 73.175496 | J44: Round 9
A45: Somewhat worried | B45: 10.055412 | C45: 9.4944085 | D45: 9.3278954 | E45: 9.2202058 | F45: 9.1776318 | G45: 12.521822 | H45: 15.56816 | I45: 8.6414174
A46: Not too worried | B46: 9.4469295 | C46: 13.119257 | D46: 7.0523416 | E46: 13.134463 | F46: 7.0593585 | G46: 8.6784214 | H46: 10.471347 | I46: 9.184171
A47: Not worried at all | B47: 9.6779046 | C47: 14.55174 | D47: 5.1418147 | E47: 6.3215993 | F47: 11.048954 | G47: 12.600038 | H47: 12.325082 | I47: 8.9989157
A49: Very worried | B49: 67.603359 | C49: 62.583323 | D49: 76.448828 | E49: 65.400151 | F49: 69.456399 | G49: 64.241028 | H49: 61.90806 | I49: 69.026237 | J49: Round 11
...

Sheet Knowledge_Behav_Concerns7
A1: Table 2.8. Degree of perception of threat to household's finance caused by coronavirus
B2: % of respondents | C2: % of respondents by IHPS Wealth Quintile | H2: % of respondents by residence
C3: Q1 | D3: Q2 | E3: Q3 | F3: Q4 | G3: Q5 | H3: Urban | I3: Rural
A4: A substantial threat | B4: 90.356349 | C4: 93.223443 | D4: 92.7054 | E4: 90.928388 | F4: 88.163065 | G4: 87.784518 | H4: 89.916317 | I4: 90.466428 | J4: Round 1
A5: A moderate threat | B5: 4.6469856 | C5: 1.6041102 | D5: 5.3083641 | E5: 5.1804816 | F5: 4.5194361 | G5: 5.8345533 | H5: 5.8998625 | I5: 4.3335662
A6: Not much of a threat | B6: 2.0931571 | C6: 2.4755865 | D6: 0.056951683 | E6: 1.6931847 | F6: 3.9692475 | G6: 2.010069 | H6: 0.53037754 | I6: 2.4841017
A7: Not a threat at all | B7: 2.9035081 | C7: 2.6968606 | D7: 1.9292843 | E7: 2.1979454 | F7: 3.3482513 | G7: 4.37086 | H7: 3.653443 | I7: 2.7159046
A9: A substantial threat | B9: 89.490094 | C9: 90.886413 | D9: 92.359249 | E9: 88.295422 | F9: 90.276349 | G9: 86.089908 | H9: 83.245632 | I9: 90.978302 | J9: Round 2
A10: A moderate threat | B10: 6.0542868 | C10: 5.2182741 | D10: 4.3238467 | E10: 6.9072156 | F10: 5.0463416 | G10: 8.5750601 | H10: 9.8206438 | I10: 5.1566714
A11: Not much of a threat | B11: 2.3124468 | C11: 3.1286746 | D11: 1.7198439 | E11: 2.1152628 | F11: 1.7336254 | G11: 3.2589225 | H11: 3.8272083 | I11: 1.951442
A12: Not a threat at all | B12: 2.1431728 | C12: 0.76663799 | D12: 1.5970609 | E12: 2.6821 | F12: 2.9436837 | G12: 2.0761089 | H12: 3.1065163 | I12: 1.9135844
A14: A substantial threat | B14: 89.072082 | C14: 92.511633 | D14: 96.105183 | E14: 87.669275 | F14: 87.567447 | G14: 83.058406 | H14: 84.987333 | I14: 90.016632 | J14: Round 3
A15: A moderate threat | B15: 6.634711 | C15: 0.51273476 | D15: 2.7866454 | E15: 7.7626172 | F15: 8.3690557 | G15: 11.818654 | H15: 11.405995 | I15: 5.5314093
A16: Not much of a threat | B16: 1.8071554 | C16: 4.305905 | D16: 0.35174425 | E16: 1.9267546 | F16: 1.3168027 | G16: 1.6219887 | H16: 0.12181082 | I16: 2.196871
A17: Not a threat at all | B17: 2.4860511 | C17: 2.6697275 | D17: 0.75642747 | E17: 2.6413527 | F17: 2.7466951 | G17: 3.5009508 | H17: 3.4848618 | I17: 2.2550882
A19: A substantial threat | B19: 74.941495 | C19: 80.423127 | D19: 76.044334 | E19: 76.568749 | F19: 74.785438 | G19: 70.757079 | H19: 68.486103 | I19: 76.55087 | J19: Round 4
A20: A moderate threat | B20: 19.171696 | C20: 13.652785 | D20: 20.117872 | E20: 20.859711 | F20: 18.552749 | G20: 19.636352 | H20: 23.777809 | I20: 18.023359
A21: Not much of a threat | B21: 2.8140379 | C21: 2.4994282 | D21: 2.0424072 | E21: 0.79271828 | F21: 4.4006506 | G21: 3.6926811 | H21: 1.2835889 | I21: 3.1955899
A22: Not a threat at all | B22: 3.0727713 | C22: 3.4246601 | D22: 1.7953869 | E22: 1.778822 | F22: 2.2611623 | G22: 5.9138879 | H22: 6.4524989 | I22: 2.2301809
A24: A substantial threat | B24: 77.748073 | C24: 81.49796 | D24: 84.307107 | E24: 80.55969 | F24: 79.877311 | G24: 67.325144 | H24: 71.892626 | I24: 79.235642 | J24: Round 5
A25: A moderate threat | B25: 14.379326 | C25: 14.833282 | D25: 9.6257753 | E25: 10.312937 | F25: 12.628511 | G25: 23.068543 | H25: 21.758905 | I25: 12.504553
A26: Not much of a threat | B26: 4.6828594 | C26: 3.1986672 | D26: 3.4518268 | E26: 6.7239142 | F26: 4.7773082 | G26: 3.7582195 | H26: 2.7039689 | I26: 5.1855941
A27: Not a threat at all | B27: 3.1897414 | C27: 0.4700911 | D27: 2.6152904 | E27: 2.4034588 | F27: 2.7168701 | G27: 5.8480935 | H27: 3.6444995 | I27: 3.0742106
A29: A substantial threat | B29: 70.441799 | C29: 71.460287 | D29: 74.729891 | E29: 71.541 | F29: 69.295931 | G29: 67.716924 | H29: 65.463879 | I29: 71.676898 | J29: Round 6
A30: A moderate threat | B30: 16.109858 | C30: 15.856753 | D30: 17.53284 | E30: 16.318518 | F30: 15.732308 | G30: 15.571365 | H30: 17.686 | I30: 15.718792
A31: Not much of a threat | B31: 9.2308906 | C31: 5.2325354 | D31: 5.4455361 | E31: 8.3759945 | F31: 10.359029 | G31: 12.509824 | H31: 13.468862 | I31: 8.1793839
A32: Not a threat at all | B32: 4.2174529 | C32: 7.4504254 | D32: 2.2917331 | E32: 3.7644874 | F32: 4.6127326 | G32: 4.2018869 | H32: 3.3812587 | I32: 4.4249257
A34: A substantial threat | B34: 87.904305 | C34: 89.296006 | D34: 87.906426 | E34: 92.010356 | F34: 86.616441 | G34: 84.972806 | H34: 83.33556 | I34: 89.028603 | J34: Round 7
A35: A moderate threat | B35: 7.2178894 | C35: 5.2420211 | D35: 8.144425 | E35: 5.1782026 | F35: 8.6201545 | G35: 7.6489254 | H35: 9.5191238 | I35: 6.6515912
A36: Not much of a threat | B36: 2.8344652 | C36: 0.027632609 | D36: 1.0599456 | E36: 2.1364822 | F36: 2.532012 | G36: 5.8949633 | H36: 5.4255651 | I36: 2.1968355
A37: Not a threat at all | B37: 2.04334 | C37: 5.4343402 | D37: 2.8892037 | E37: 0.67495868 | F37: 2.2313924 | G37: 1.4833056 | H37: 1.7197513 | I37: 2.1229702
A39: A substantial threat | B39: 81.877689 | C39: 83.692444 | D39: 84.514811 | E39: 84.978973 | F39: 81.070696 | G39: 77.514181 | H39: 75.168353 | I39: 83.51436 | J39: Round 8
A40: A moderate threat | B40: 11.176218 | C40: 9.0021048 | D40: 9.7571601 | E40: 9.0112638 | F40: 11.777558 | G40: 14.21628 | H40: 15.617131 | I40: 10.092904
A41: Not much of a threat | B41: 4.1463645 | C41: 3.2993947 | D41: 2.1363794 | E41: 4.3321692 | F41: 4.2874077 | G41: 5.3020323 | H41: 7.0570561 | I41: 3.4363323
A42: Not a threat at all | B42: 2.799729 | C42: 4.0060563 | D42: 3.5916491 | E42: 1.6775939 | F42: 2.8643384 | G42: 2.9675063 | H42: 2.1574603 | I42: 2.9564036
A44: A substantial threat | B44: 70.883034 | C44: 79.686553 | D44: 73.360835 | E44: 74.744792 | F44: 68.249452 | G44: 65.624434 | H44: 63.21511 | I44: 72.849822 | J44: Round 9
A45: A moderate threat | B45: 14.384743 | C45: 9.8072063 | D45: 14.810081 | E45: 12.280728 | F45: 15.7418 | G45: 16.207366 | H45: 17.57671 | I45: 13.566018
A46: Not much of a threat | B46: 10.531192 | C46: 4.1061904 | D46: 7.0712407 | E46: 10.400718 | F46: 13.528961 | G46: 11.410363 | H46: 13.491134 | I46: 9.7719807
A47: Not a threat at all | B47: 4.2010302 | C47: 6.4000504 | D47: 4.7578426 | E47: 2.5737619 | F47: 2.4797871 | G47: 6.7578366 | H47: 5.7170464 | I47: 3.8121788
A49: A substantial threat | B49: 66.748671 | C49: 69.351304 | D49: 69.515899 | E49: 69.758354 | F49: 66.89039 | G49: 61.223101 | H49: 61.451261 | I49: 68.072143 | J49: Round 11
...

Sheet ECD1
A1: Table 2.20: Primary Caregiver relationship to Selected Child
B2: Number of Caregivers | E2: Distribution of Caregivers
A3: Relationship to Child: | B3: Total | C3: Male | D3: Female | E3: Total | F3: Male | G3: Female
A4: Mother | B4: 754 | C4: 0 | D4: 754 | E4: 70.626682 | F4: 0 | G4: 84.145879
A5: Father | B5: 128 | C5: 128 | D5: 0 | E5: 13.04587 | F5: 81.199811 | G5: 0
A6: Sibling | B6: 15 | C6: 4 | D6: 11 | E6: 1.5615565 | F6: 1.7692856 | G6: 1.5217934
A7: GrandParent | B7: 130 | C7: 18 | D7: 112 | E7: 10.519945 | F7: 11.177967 | G7: 10.393988
A8: Other Relative | B8: 40 | C8: 11 | D8: 29 | E8: 3.4610266 | F8: 5.8529369 | G8: 3.0031727
A9: Household Worker | B9: 11 | C9: 0 | D9: 11 | E9: 0.66403569 | F9: 0 | G9: 0.79114387
A10: Other Non-Relative | B10: 1 | D10: 1 | E10: 0.12088405 | G10: 0.1440234
A11: Back to Table of Contents

Sheet ECD2
A1: Table 2.21. Parental Support at Home
B2: % of respondents | C2: % of respondents by IHPS Wealth Quintile | H2: % of respondents by residence
C3: Q1 | D3: Q2 | E3: Q3 | F3: Q4 | G3: Q5 | H3: Urban | I3: Rural
A4: Played with Child | B4: 83.739242 | C4: 83.874662 | D4: 83.770272 | E4: 82.220952 | F4: 84.821779 | G4: 84.17159 | H4: 84.592807 | I4: 83.539714
A5: Read books or looked at picture books with child | B5: 72.848316 | C5: 63.507898 | D5: 67.681333 | E5: 69.958283 | F5: 78.362521 | G5: 76.865679 | H5: 76.396899 | I5: 72.018806
A6: Told stories to Child | B6: 64.755804 | C6: 58.848967 | D6: 62.817884 | E6: 70.458755 | F6: 64.958066 | G6: 61.750019 | H6: 64.961602 | I6: 64.707697
A7: Sang songs to or with child, including lullabies | B7: 67.928606 | C7: 61.263331 | D7: 70.775228 | E7: 68.609997 | F7: 75.490607 | G7: 59.608901 | H7: 62.581523 | I7: 69.178529
A8: Took child outside the home | B8: 61.092746 | C8: 73.792707 | D8: 68.511099 | E8: 59.523328 | F8: 61.402143 | G8: 53.142725 | H8: 53.209233 | I8: 62.935579
A9: Named, counted, or drew things for or with child | B9: 64.881801 | C9: 59.512254 | D9: 64.595794 | E9: 60.817594 | F9: 67.404858 | G9: 68.570274 | H9: 65.263134 | I9: 64.792661
A10: Number of children’s books or picture books child has at home | B10: 1.9653492 | C10: 1.1354445 | D10: 1.679451 | E10: 2.0519639 | F10: 1.8132449 | G10: 2.5011277 | H10: 2.2776045 | I10: 1.8923571
A11: Table 2.21. Household Characteristics
A12: Electricity | B12: 27.302189 | C12: 1.9270977 | D12: 6.8920517 | E12: 10.808107 | F12: 25.947092 | G12: 68.731901 | H12: 54.326469 | I12: 20.98505
A13: Radio | B13: 53.451216 | C13: 34.670621 | D13: 42.252858 | E13: 35.503676 | F13: 60.592319 | G13: 79.109621 | H13: 69.877094 | I13: 49.611537
A14: Television | B14: 23.665651 | C14: 3.1904145 | D14: 2.8759172 | E14: 7.8082648 | F14: 21.852768 | G14: 63.537696 | H14: 53.882631 | I14: 16.602193
A15: Mobile Telephone | B15: 89.711788 | C15: 74.106012 | D15: 87.43464 | E15: 83.188801 | F15: 96.150375 | G15: 96.71626 | H15: 95.996369 | I15: 88.242717
A16: Landline Telephone | B16: 1.1784363 | C16: 0 | D16: 2.2804523 | E16: 1.1553149 | F16: 0.077959063 | G16: 1.969878 | H16: 1.3396049 | I16: 1.1407619
A17: Computer / Laptop / Tablet | B17: 5.6980135 | C17: 3.3208424 | D17: 1.4296569 | E17: 0.051459905 | F17: 5.7920304 | G17: 15.348706 | H17: 18.546628 | I17: 2.694548
A18: Internet | B18: 15.788834 | C18: 4.9693848 | D18: 10.925627 | E18: 6.697157 | F18: 13.091091 | G18: 35.193583 | H18: 33.848996 | I18: 11.567128
A19: Table 2.21. Engagement with Educational Content
A20: Radio | B20: 15.831286 | C20: 8.4567123 | D20: 20.311496 | E20: 16.779898 | F20: 17.123673 | G20: 12.821411 | H20: 14.197425 | I20: 16.213214
A21: Television | B21: 8.6348358 | C21: 1.8701649 | D21: 0.03577063 | E21: 2.1030989 | F21: 8.9595272 | G21: 23.424174 | H21: 21.25919 | I21: 5.6837929
A22: Computer with Internet | B22: 0.47711749 | C22: 0 | D22: 0 | E22: 0 | F22: 0 | G22: 1.9659112 | H22: 2.5181927 | I22: 0
A23: Computer with no Internet | B23: 0.56948449 | C23: 0 | D23: 0 | E23: 0 | F23: 0.53075175 | G23: 1.7972533 | H23: 3.0056993 | I23: 0
A24: Smart phone or tablet | B24: 3.1017414 | C24: 2.2141581 | D24: 0 | E24: 0.79451741 | F24: 2.1823321 | G24: 8.9454071 | H24: 12.92295 | I24: 0.80595608
A25: Feature phone using SMS (text messaging) | B25: 3.2532646 | C25: 2.8165099 | D25: 4.6721458 | E25: 3.8754093 | F25: 3.2834421 | G25: 1.7237306 | H25: 3.9330904 | I25: 3.09435
A26: Printed materials from school | B26: 43.601323 | C26: 38.857795 | D26: 37.146311 | E26: 37.039656 | F26: 42.924265 | G26: 57.31396 | H26: 51.389069 | I26: 41.780875
A27: Printed reading materials | B27: 42.811274 | C27: 32.280247 | D27: 38.672609 | E27: 40.257274 | F27: 39.786034 | G27: 54.99023 | H27: 45.642943 | I27: 42.149349
A28: Table 2.21. Child Behavior
A29: Crying more than he/she used to | B29: 12.634084 | C29: 12.418602 | D29: 9.2278705 | E29: 15.013392 | F29: 12.888627 | G29: 12.25522 | H29: 15.637433 | I29: 11.932027
A30: Speaking less well than he/she used to | B30: 23.188384 | C30: 25.858275 | D30: 28.558997 | E30: 17.771281 | F30: 27.737156 | G30: 19.671056 | H30: 20.047963 | I30: 23.922483
A31: Being withdrawn or very quiet more than usual | B31: 14.460628 | C31: 8.8476026 | D31: 13.89956 | E31: 13.89487 | F31: 17.670962 | G31: 13.97821 | H31: 11.023945 | I31: 15.26398
A32: Being irritable more than he/she used to | B32: 18.439978 | C32: 14.9626 | D32: 22.396499 | E32: 18.662893 | F32: 14.94856 | G32: 20.231431 | H32: 21.374634 | I32: 17.753979
A33: Defiant (does not follow the house rules) more than usual. | B33: 21.792674 | C33: 13.290231 | D33: 17.235645 | E33: 27.231029 | F33: 24.381304 | G33: 19.261766 | H33: 20.76007 | I33: 22.034053
