Workbook
Name Z_62A28031_BB72_409E_8219_7B624D8945FD__wvu_PrintArea: '12Observation directe'!$A$1:$I$19
Name Z_62A28031_BB72_409E_8219_7B624D8945FD__wvu_PrintArea: '13DOEquipment'!$A$1:$I$80
Name Z_62A28031_BB72_409E_8219_7B624D8945FD__wvu_PrintArea: '14DOMédicaments'!$A$1:$H$163
Name Z_62A28031_BB72_409E_8219_7B624D8945FD__wvu_PrintArea: '1Generale'!$A$1:$I$137
Name Z_62A28031_BB72_409E_8219_7B624D8945FD__wvu_PrintArea: '3 Ressource humaine'!$A$1:$J$79
Name Z_62A28031_BB72_409E_8219_7B624D8945FD__wvu_PrintArea: '4Liste du personnel'!$A$5:$AE$38
Name Z_62A28031_BB72_409E_8219_7B624D8945FD__wvu_PrintArea: '5Laboratoire'!$A$1:$H$26
Name Z_62A28031_BB72_409E_8219_7B624D8945FD__wvu_PrintArea: '6Services'!$A$3:$J$161
Name Z_62A28031_BB72_409E_8219_7B624D8945FD__wvu_PrintArea: '7SNIS'!$A$1:$J$34
Name Z_62A28031_BB72_409E_8219_7B624D8945FD__wvu_PrintArea: '8Util_HMIS'!$A$3:$T$96
Name Z_62A28031_BB72_409E_8219_7B624D8945FD__wvu_PrintArea: '9Frais imposés aux usagers'!$A$1:$J$59
Name Z_62A28031_BB72_409E_8219_7B624D8945FD__wvu_PrintTitles: '8Util_HMIS'!$A:$B
Name Z_62A28031_BB72_409E_8219_7B624D8945FD__wvu_Rows: '8Util_HMIS'!#REF!
Name Z_DC1A9161_9D02_40DA_9D1E_35691CCD702E__wvu_PrintArea: '11Autonomie'!$A$1:$H$22
Name Z_DC1A9161_9D02_40DA_9D1E_35691CCD702E__wvu_PrintArea: '12Observation directe'!$A$1:$I$80
Name Z_DC1A9161_9D02_40DA_9D1E_35691CCD702E__wvu_PrintArea: '13DOEquipment'!$A$1:$I$80
Name Z_DC1A9161_9D02_40DA_9D1E_35691CCD702E__wvu_PrintArea: '14DOMédicaments'!$A$1:$I$183
Name Z_DC1A9161_9D02_40DA_9D1E_35691CCD702E__wvu_PrintArea: '1Generale'!$A$1:$I$206
Name Z_DC1A9161_9D02_40DA_9D1E_35691CCD702E__wvu_PrintArea: '2Administration'!$A$1:$I$101
Name Z_DC1A9161_9D02_40DA_9D1E_35691CCD702E__wvu_PrintArea: '3 Ressource humaine'!$A$1:$J$79
Name Z_DC1A9161_9D02_40DA_9D1E_35691CCD702E__wvu_PrintArea: '4Liste du personnel'!$A$1:$AI$38
Name Z_DC1A9161_9D02_40DA_9D1E_35691CCD702E__wvu_PrintArea: '5Laboratoire'!$A$1:$H$61
Name Z_DC1A9161_9D02_40DA_9D1E_35691CCD702E__wvu_PrintArea: '6Services'!$A$1:$J$172
Name Z_DC1A9161_9D02_40DA_9D1E_35691CCD702E__wvu_PrintArea: '7SNIS'!$A$1:$J$34
Name Z_DC1A9161_9D02_40DA_9D1E_35691CCD702E__wvu_PrintArea: '8Util_HMIS'!$A$1:$T$96
Name Z_DC1A9161_9D02_40DA_9D1E_35691CCD702E__wvu_PrintArea: '9Frais imposés aux usagers'!$A$1:$J$84
Name Z_DC1A9161_9D02_40DA_9D1E_35691CCD702E__wvu_PrintArea: Couverture!$A$1:$U$56
Name Z_DC1A9161_9D02_40DA_9D1E_35691CCD702E__wvu_PrintTitles: '4Liste du personnel'!$A:$A
Name Z_DC1A9161_9D02_40DA_9D1E_35691CCD702E__wvu_PrintTitles: '8Util_HMIS'!$A:$B

Sheet Couverture
A1: REPUBLIQUE DEMOCRATIQUE DU CONGO
A2: MINISTERE DE LA SANTE PUBLIQUE
A3: ENQUETE À MI-PARCOURS POUR L'ÉVALUATION D'IMPACT DU PDSS
A4: 2018
A6: QUESTIONNAIRE DESTINE AUX FORMATIONS SANITAIRES
A7: F1 : QUESTIONNAIRE D'ÉVALUATION DES FORMATIONS SANITAIRES
A9: SITUATION GÉOGRAPHIQUE
A11: Province (DPS): | I11: District (DPS)
I12: Aire de santé
A13: Zone de Santé (ZS)_______________ | I13: Nom de Fosa
K14: Type de la Formation sanitaire: | O14: Hôpital | R14: 1
A15: Village / Quartier : | O15: Centre de santé | R15: 2
F18: Public | L18: 1 | M18: Catégorie de formation sanitaire
A19: Statut de FOSA | F19: Privé à but lucratif | L19: 2 | N19: PMA | P19: 1
F20: Privé à but non-lucratif | L20: 3 | N20: PCA | P20: 2
F21: Confessionel | L21: 4
F22: Parapublic (État-confessionel, État-Privé) | L22: 5
B24: COORDONNÉES GPS DE LA FORMATION SANITAIRE
C26: LATITUDE (NORD): | J26: .
C28: LONGITUDE (EST): | J28: .
C31: MILIEU DE RESIDENCE | G31: Urbain | I31: 1
G33: Rural | I33: 2
A35: VISITES DES FORMATIONS SANITAIRES
A37: NOM/PRENOM DE L'ENQUÊTEUR: | N37: CODE ENQUETEUR:
A39: Date Visite | C39: JOUR | E39: MOIS | G39: ANNÉE
A47: CONSENTEMENT ECLAIRE, A RECUEILLIR AVANT LE DEBUT DE L'ENTREVUE
A48: ENQUETEUR : Bonjour/Bonsoir ! Je m'appelle _______ , je travaille pour ACT for performance. Le Ministère de la santé publique nous a demandé de mener une étude sur les formations sanitaires dans la province (du)de l'..... . Aujourd'hui, nous allons nous entretenir avec les personnes concernées par l'offre et la demande des soins de santé . Nous voulons déterminer le niveau général et la qualité des prestations de service dans les formations sanitaires dans la province (du)de l'..... Si vous acceptez de prendre part à cet entretien, nous vous assurons que les informations fournies seront traitées confidentiellement. Vous avez le droit de refuser de prendre part à l'entretien au début ou de l'interrompre à n'importe quelle étape. Toutefois, nous vous réaffirmons que les informations que vous allez fournir sont d'une importance capitale pour les décideurs et acteurs impliqués dans le secteur de la santé (Gouvernements central et provincial, partenaires au dévelopement, confessions réligieuses, ONGs, société civile) qui s'en serviront pour l'amélioration des services de santé et des conditions de vie de la population dans votre province . Acceptez-vous prendre part à l'enquête aujourd'hui ?
F54: OUI | H54: 1
F55: NON | H55: 2

Sheet 1Generale
A1: =-1 -> -1 | B1: Informations générales
A2: (A) | B2: Général | H2: INSCRIRE LES RÉPONSES
A3: PERSONNE INTERROGÉE : RESPONSABLE DE LA FORMATION SANITAIRE MEDECIN Directeur(HGR) ou Infirmier titulaire(CS) OU TOUT AUTRE MEMBRE DU PERSONNEL AUTORISÉ
A4: =A1-0.01 -> -1.01 | B4: Êtes-vous responsable de cette formation sanitaire( ? (Si non, demandez à voir la personne autorisée le jour du passage pour continuer) | C4: OUI | E4: 1 | H4: |___|
C5: NON | E5: 2
A6: =A4-0.01 -> -1.02 | B6: A) Quelle fonction occupez-vous dans cette formation sanitaire? | C6: Médecin Directeur | E6: 1 | H6: |___||___|
C7: Médecin Chef de Staff | E7: 2
C8: Directeur de nursing | E8: 3
C9: Infirmier Titulaire/ | E9: 4
C10: Autre, préciser _______________ _____) | E10: 7
A11: =A6-0.01 -> -1.03 | B11: B) Quel est votre profil ? | C11: Médecin (y compris spécialiste) | E11: 1 | H11: |___||___|
C12: Administrateur Gestionnaire | E12: 2
C13: Chirurgien Dentiste | E13: 3
C14: Infirmier L2 | E14: 4
C15: Infirmier A1 | E15: 5
C16: Infirmier A2 | E16: 6
C17: Technicien de Laboratoire A1 | E17: 7
C18: Kinésithérapeute | E18: 8
C19: Technicien de Laboratoire A2 | E19: 9
C20: Sage femme | D20: 0 | E20: 10
C21: Autre (à préciser) | E21: 97
A23: =A11-0.01 -> -1.04 | B23: Qui est le propriétaire de cette formation sanitaire? | C23: Gouvernement | E23: 1 | H23: |___|
C24: Para étatique | E24: 2
C25: Organisation privée à but lucratif | E25: 3
C26: Organisation Non Gouvernementale à but non lucratif | E26: 4
C27: Organisation confessionnelle | E27: 5
C28: Particulier | E28: 6
C29: Militaire / police | E29: 7
C30: Autre Spécifiez | E30: 97
A31: =A23-0.01 -> -1.05 | B31: En quelle année cette formation sanitaire a-t-elle été mise en service? ENQUETEUR : UTILISER CE FORMAT POUR L'ANNÉE AAAA (EX 1941). | H31: |___|___|___|___|
A32: =A31-0.01 -> -1.06 | B32: Quand a eu lieu le dernier investissement de grande importance dans l'infrastructure ? ENQUETEUR : INSCRIRE l' ANNÉE. IL S'AGIT ENTRE AUTRES DE GRANDS TRAVAUX DE PEINTURE, PLOMBERIE, AGRANDISSEMENT DU BÂTIMENT, ETC. | D32: ANNÉE "AAAA" | H32: |___|___|___|___|
B33: SI NON APPLICABLE; NOTEZ 9999
A34: =A32-0.01 -> -1.07 | B34: Cette formation sanitaire fonctionne-t-elle 24 heures sur 24, 7 jours sur 7, avec des agents sanitaires compétents? | C34: OUI, OFFICIELLEMENT | E34: 1 | F34: ► | G34: =A52 -> -1.13 | H34: |___|
C35: OUI, DE MANIÈRE INFORMELLE / DANS LA PRATIQUE | E35: 2 | F35: ► | G35: =A52 -> -1.13
C36: NON | E36: 3
A37: =A34-0.01 -> -1.08 | B37: À quelle heure de la journée commencez-vous les soins aux malades externes? | C37: a. | D37: Jours fériés | H37: |___|___|___|___|
B38: ENQUÊTEUR : INSCRIRE DANS TOUTES LES CASES SELON LE FORMAT SUIVANT. EX SI LE DÉBUT C'EST 7h, INSCRIRE 0700. SI C'EST 19 heures, INSCRIRE 1900. | C38: b. | D38: Jours ouvrés | H38: |___|___|___|___|
H39: |___|___|___|___|
B40: SI LA FOSA EST FERMEE, INSCRIRE 9996 | C40: d. | D40: Dimanche | H40: |___|___|___|___|
A41: =A37-0.01 -> -1.09 | B41: À quelle heure prennent fin les soins aux malades externes? | C41: a. | D41: Jours fériés | H41: |___|___|___|___|
...

Sheet 2Administration
A1: =-2 -> -2 | B1: Administration et gestion | H1: INSCRIRE LES REPONSES
A2: PERSONNE INTERROGÉE: RESPONSABLE DE LA FORMATION SANITAIRE MÉDECIN Directeur(HGR) ou Infirmier titulaire(CS) OU AUTRE MEMBRE DU PERSONNEL AUTORISE
A3: =A1-0.01 -> -2.01 | B3: Y a-t-il un Comité de santé (COSA), Comité de Direction (CODI), ou un Comité de Gestion (COGE) pour cette formation sanitaire ? | C3: OUI | E3: 1 | H3: |___|
C4: NON | E4: 2 | F4: ► | G4: =A45 -> -2.07
A5: =A3-0.01 -> -2.02 | B5: Combien de membres siègent à ces comités? (ECRIRE LE NOMBRE) | H5: |___|___|
A6: =A5-0.01 -> -2.03 | B6: Les personnes suivantes sont-elles représentées dans ce comité? | C6: a. | D6: Chef de de service ou Chef d'unité | H6: |___|
C7: b. | D7: Médecin Directeur | H7: |___|
C8: c. | D8: Représentant des infirmiers titulaires | H8: |___|
C9: d. | D9: Représentant du comité de santé | H9: |___|
B10: ENQUÊTEUR : LIRE TOUTES LES OPTIONS À HAUTE VOIX. POUR CHAQUE OPTION, INSCRIRE "1" si OUI, "2" SI NON. | C10: e. | D10: Représentant(s) du village/quartier | H10: |___|
C11: f. | D11: Partenaires privés et confessionnels | H11: |___|
C12: g. | D12: Médecin Inspecteur/Chef de la division provinciale | H12: |___|
C13: g1 | D13: Medicin chef de staff
C14: h. | D14: Représentant des associations de développement | H14: |___|
C15: I. | D15: Autre (A préciser) | H15: |___|
A16: =A6-0.01 -> -2.04 | B16: Au cours des 12 derniers mois, combien de réunions du CODI/COGES/COSA de la formation sanitaire - avec Compte Rendu - ont été tenues? | H16: |__|__|
A17: (2.04a) | B17: Lors de ces réunions, en quoi les CODI/ COGES/ COSA ont participé? 1 OUI 2 NON | C17: a. | D17: dans la définition des Objectifs/ résultats attendus | H17: |___|
C18: b. | D18: dans la mise en oeuvre des activités | H18: |___|
C19: c. | D19: Dans le suivi/ évaluation des résultats | H19: |___|
C20: d. | D20: dans le suivi/ évaluation de la qualité de soins? | H20: |___|
C21: e. | D21: dans la définition des motivations/ sanctions | H21: |___|
A22: =A16-0.01 -> -2.05 | B22: La formation sanitaire possède t-elle des documents écrits des réunions du CODI/COGES/COSA (minutes, décisions,rapports,procès verbal, etc)? | C22: OUI | E22: 1 | H22: |___|
C23: NON | E23: 2
A24: =A22-0.01 -> -2.06 | B24: Quelles initiatives ont été prises par le CODI/COGES/ COSA de la formation sanitaire et mis en œuvre au cours des 12 derniers mois? | C24: a. | D24: Soutien administratif à la formation sanitaire, par exemple approuver les paiements | H24: |___|
C25: b. | D25: Fourniture de matériel ou équipements nouveaux | H25: |___|
C26: c. | D26: Nouvelles infrastructures | H26: |___|
C27: d. | D27: Travaux de réparations | H27: |___|
B28: NE LISEZ PAS LES OPTIONS À HAUTE VOIX. Pour chaque option, INSCRIRE "1" si mentionné, ET "2" si rien n'est indiqué. | C28: e. | D28: Approvisionnement en médicaments | H28: |___|
C29: f. | D29: Action de sensibilisation/Mobilisation de la communauté à l'utilisation des services de la formation sanitaire | H29: |___|
C30: g. | D30: Aider à transporter le personnel pour les visites à domicile | H30: |___|
C31: h. | D31: Dons en nature | H31: |___|
C32: i. | D32: Amélioration de la sécurité de la formation sanitaire | H32: |___|
C33: j. | D33: Amelioration de la qualité de l'eau | H33: |___|
C34: k. | D34: Augmenter la quantité d'une eau de qualité à la formation | H34: |___|
C35: l. | D35: Appui à la formation des agents de santé communautaires | H35: |___|
C36: m | D36: Appui aux équipes mobiles | H36: |___|
C37: n. | D37: Vérification des performances de la formation sanitaire en matière de santé maternelle et infantile | H37: |___|
C38: o. | D38: Assainissement de l'environnement (ex. destruction des gîtes larvaires) | H38: |___|
C39: p. | D39: Pulvérisation à effet permanent dans les domiciles | H39: |___|
C40: q. | D40: Dépistage des maladies | H40: |___|
...

Sheet 3 Ressource humaine
A1: =-3 -> -3 | B1: Ressources humaines
A2: PERSONNE INTERROGÉE: Responsable des ressources humaines, Chef de la formation sanitaire ou le membre du personnel le mieux informé
A3: (A) | B3: Gestion des ressources humaines | G3: INSCRIRE LES RÉPONSES
A4: =A1-0.01 -> -3.01 | B4: Qui a le pouvoir d'embaucher le nouveau personnel? | C4: Chef de la formation sanitaire | G4: |___|
C5: Équipe cadre de zone (ECZ)? | G5: |___|
C6: Ministère de la fonction publique | G6: |___|
B7: LIRE TOUTES LES OPTIONS À HAUTE VOIX. POUR CHAQUE OPTION, INSCRIRE "1" SI LA RÉPONSE EST OUI, ET "2" SI C'EST NON. | C7: Administration locale | G7: |___|
C8: Organisation Non Gouvernementale | G8: |___|
C9: Autorité religieuse | G9: |___|
C10: Membres de la communauté | G10: |___|
C11: COSA/CODI/COGES | G11: |___|
C12: AUTRE, spécifiez | G12: |___|
A13: =A4-0.01 -> -3.02 | B13: Qui a le pouvoir de licencier le personnel? | C13: Chef de la formation sanitaire | G13: |___|
C14: Équipe cadre de zone (ECZ) | G14: |___|
C15: Ministère de la fonction publique | G15: |___|
B16: LIRE TOUTES LES OPTIONS À HAUTE VOIX. POUR CHAQUE OPTION, INSCRIRE "1" SI LA RÉPONSE EST OUI, ET "2" SI C'EST NON. | C16: Administration locale | G16: |___|
C17: Organisation Non Gouvernementale | G17: |___|
C18: Autorité religieuse | G18: |___|
C19: Membres de la communauté | G19: |___|
C20: COSA /CODI/COGES | G20: |___|
C21: AUTRE, spécifiez | G21: |___|
A22: =A13-0.01 -> -3.03 | B22: Qui a le pouvoir de déterminer la rémunération du personnel? | C22: Chef de la formation sanitaire | G22: |___|
C23: Équipe cadre de zone (ECZ) | G23: |___|
C24: Ministère de la fonction publique | G24: |___|
C25: Administration locale | G25: |___|
B26: LIRE TOUTES LES OPTIONS À HAUTE VOIX. POUR CHAQUE OPTION, INSCRIRE "1" SI LA RÉPONSE EST OUI, ET "2" SI C'EST NON. | C26: Organisation Non Gouvernementale | G26: |___|
C27: Autorité religieuse | G27: |___|
C28: Membres de la communauté | G28: |___|
C29: COSA /CODI/COGES | G29: |___|
C30: AUTRE, spécifiez | G30: |___|
A31: ="POUR CHAQUE TYPE DE POSTE CI-DESSOUS, POSEZ DES QUESTIONS (3,04) à (3,06). SI ZERO, NOTER 0 ." -> POUR CHAQUE TYPE DE POSTE CI-DESSOUS, POSEZ DES QUESTIONS (3,04) à (3,06). SI ZERO, NOTER 0 .
A32: NATURE DU POSTE | C32: =A22-0.01 -> -3.04 | D32: =C32-0.01 -> -3.05 | F32: =D32-0.01 -> -3.06
C33: Combien de postes y'a t'il pour [NATURE FONCTION/ TITRE] ? | D33: Combien de postes autorisés pour [NATURE FONCTION/TITRE] sont actuellement occupés? | F33: Au cours des 12 derniers mois, combien de [NATURE FONCTION/TITRE] ont-ils définitivement quitté la formation sanitaire?
A34: Médecin Directeur, | C34: |___||___| | D34: |___||___| | F34: |___||___|
A35: Infirmier Titulaire | C35: |___||___| | D35: |___||___| | F35: |___||___|
A36: Administrateur gestionnaire G3 | C36: |___||___| | D36: |___||___| | F36: |___||___|
A37: Sage-femmes | C37: |___||___| | D37: |___||___| | F37: |___||___|
A38: Accoucheur(se)s | C38: |___||___| | D38: |___||___| | F38: |___||___|
A39: Administrateur gestionnaire L2 | C39: |___||___| | D39: |___||___| | F39: |___||___|
A40: Personnel administratif | C40: |___||___| | D40: |___||___| | F40: |___||___|
...

Sheet 4Liste du personnel
A1: =-4 -> -4 | C1: 4 Liste du personnel | O1: =-4 -> -4 | P1: 4 Liste du personnel
C3: OBJET: TOUS LES MEMBRES DU PERSONNEL, temporaires ou permanents, clinique ou non, en commençant par la liste de la fiche de contrôle
C4: PERSONNE INTERROGÉE: Responsable de la formation sanitaire ou le membre du personnel le mieux informé
A5: -4 | B5: -4 | C5: =A1-0.01 -> -4.01 | D5: =C5-0.01 -> -4.02 | F5: =D5-0.01 -> -4.03 | G5: =F5-0.01 -> -4.04 | I5: =G5-0.01 -> -4.05 | O5: -4 | P5: -4.07 | Q5: =P5-0.01 -> -4.08 | R5: =Q5-0.01 -> -4.09 | T5: =R5-0.01 -> -4.1 | U5: =T5-0.01 -> -4.11 | V5: =U5-0.01 -> -4.12 | W5: =V5-0.01 -> -4.13 | Y5: =W5-0.01 -> -4.14 | AC5: =Y5-0.01 -> -4.15 | AE5: =AC5-0.01 -> -4.16
A6: CODE ID | C6: ECRIRE LE NOM ET LE PRÉNOM DE TOUS LES MEMBRES DU PERSONNEL EN SERVICE DANS LA FORMATION SANITAIRE. Pour chaque employé, posez toutes les questions de cette section, puis passez au personnel suivant. Commencez avec la liste de la fiche de contrôle. | D6: [nom] est un homme ou une femme? | F6: Quel âge a [NOM]? | G6: Quelle est la plus haute qualification académique que [NOM] a obtenu? | I6: Quel poste occupe [NOM] au sein de cette formation sanitaire? | O6: CODE ID | P6: En quelle année [NOM] a-t-il/elle reçu son diplôme professionnel (le cas échéant) correspondant au poste occupé ? | Q6: [NOM] a été affecté(e) dans cette formation sanitaire en quelle année? | R6: Quelle est l'échelle salariale de [NOM] selon le contrat ou l'entente avec l'employeur? (sauf primes) | T6: Combien de jours par semaine est-ce que [NOM] travaille en général dans cette formation sanitaire? | U6: Combien d'heures par semaine est ce que [NOM] travaille en général dans cette formation sanitaire? | V6: Combien d'heures par semaine [NOM] passe-t-il/elle généralement à fournir des soins directement aux patients? | W6: [nom] travaille-t-il/elle aussi dans un cabinet de santé privé ou à domicile ? | Y6: [nom] est-t-il/elle présente aujourd'hui? | AC6: Pouvez vous me dire pourquoi [NOM] n'est pas ici aujourd'hui? | AE6: Quels sont les services fournis par [nom] aujourd'hui?
I7: Cliniques | K7: Non cliniques | AE7: ENQUÊTEUR : NOTEZ 3 PRINCIPAUX SOINS ADMINISTRES PAR L'AGENT DE SANTE CE JOUR, NOTEZ 99 SI PAS DE REPONSE
I8: Médecin Directeur, Infirmier Titulaire | J8: 1 | K8: Administrateur gestionnaire G3 | L8: 31 | M8: ► | N8: =$Q$5 -> -4.08
G9: Aucune | H9: 1 | I9: Accoucheur(se)s / Sage-femmes | J9: 2 | K9: Administrateur gestionnaire L2 | L9: 32 | M9: ► | N9: =$Q$5 -> -4.08
I10: Aide-Soignant | J10: 3 | K10: Agent d'entretien (technicien de surface) | L10: 33 | M10: ► | N10: =$Q$5 -> -4.08 | AE10: Soins prénataux | AI10: 1
G11: Certificat d'études primaires | H11: 2 | I11: Anesthésiste réanimateur | J11: 4 | K11: Ambulancier | L11: 34 | M11: ► | N11: =$Q$5 -> -4.08 | AC11: Congés annuels | AD11: 1 | AE11: l'Accouchement assisté par un personnel qualifié | AI11: 2
I12: Chirurgien | J12: 5 | K12: caissier ( e ) | L12: 35 | M12: ► | N12: =$Q$5 -> -4.08 | Q12: ENQUÊTEUR : UTILISER CE FORMAT POUR L'ANNÉE "AAAA" (EX 1958). | AC12: Congés de maladie | AD12: 2 | AE12: Soins post partum/ consultation post-natale | AI12: 3
G13: Diplôme d'État | H13: 3 | I13: Chirurgien dentiste | J13: 6 | K13: Chauffeur | L13: 36 | M13: ► | N13: =$Q$5 -> -4.08 | AC13: En formation | AD13: 3 | AE13: Vaccination | AI13: 4
G14: Graduat | H14: 4 | I14: Directeur de nursing | J14: 7 | K14: Comptable | L14: 37 | M14: ► | N14: =$Q$5 -> -4.08 | AC14: En congé de maternité | AD14: 4 | AE14: Consultations curatives | AI14: 5
G15: Licence | H15: 5 | I15: Garçon/Fille de Salle (G/F Salle) | J15: 8 | K15: Gardien/ sentinelle | L15: 38 | M15: ► | N15: =$Q$5 -> -4.08 | AC15: Autres absences autorisées | AD15: 5 | AE15: Planification familiale | AI15: 6
G16: Doctorat en médecine | H16: 6 | I16: Gynécologue | J16: 9 | K16: huissier (planton) | L16: 39 | M16: ► | N16: =$Q$5 -> -4.08 | AE16: Nutrition | AI16: 7
G17: Diplôme de spécialisation DES | H17: 7 | I17: Infirmier A1 | J17: 10 | K17: Logisticien | L17: 40 | M17: ► | N17: =$Q$5 -> -4.08 | AC17: Décédé | AD17: 6 | AE17: Prise en charge integré des maladies de l'enfant (PCIME) | AI17: 8
G18: DEA | H18: 8 | I18: Infirmier A2 | J18: 11 | K18: Morguier | L18: 41 | M18: ► | N18: =$Q$5 -> -4.08 | V18: ENQUÊTEUR : Si personnel non clinique: INSCRIRE 00 | AC18: Ne sais pas | AD18: 8 | AE18: Paludisme | AI18: 9
G19: AUTRE, PRÉCISER: _____ | H19: 97 | I19: Infirmier L2 | J19: 12 | K19: Ouvrier (plombier, électricien, jardinier, mécanicien, etc) | L19: 42 | M19: ► | N19: =$Q$5 -> -4.08 | AE19: Tuberculose | AI19: 10
I20: Infirmier spécialiste anesthésiste | J20: 13 | K20: Personnel administratif | L20: 43 | M20: ► | N20: =$Q$5 -> -4.08 | AE20: VIH / Sida | AI20: 11
I21: Infirmier spécialiste en ORL | J21: 14 | K21: Personnel de maintenance | L21: 44 | M21: ► | N21: =$Q$5 -> -4.08 | AE21: Promotion et suivi de la santé | AI21: 12
I22: Infirmier spécialiste Ophtalmogiste | J22: 15 | K22: Secrétaire | L22: 45 | M22: ► | N22: =$Q$5 -> -4.08 | AE22: Consultations préscolaires | AI22: 13
I23: Infirmier spécialiste stomatologiste | J23: 16 | K23: Statisticien | L23: 46 | M23: ► | N23: =$Q$5 -> -4.08 | AE23: Pharmacie/Dispensation des soins | AI23: 14
I24: Infirmière / accoucheuse A0 / L2 | J24: 17 | K24: Technicien d'assainissement A1 / L2 | L24: 47 | M24: ► | N24: =$Q$5 -> -4.08 | AE24: Autre non curatif (administratif, registres) | AI24: 15
I25: Infirmière / accoucheuse A1 | J25: 18 | K25: Technicien d'Hygiène | L25: 48 | M25: ► | N25: =$Q$5 -> -4.08 | R25: 1. | S25: Moins de 50 000
I26: Infirmière / accoucheuse A2 | J26: 19 | K26: Techniciens (Autres) L2 / A1 / A2 | L26: 49 | M26: ► | N26: =$Q$5 -> -4.08 | R26: 2. | S26: 50 000 - 90 000
I27: Infirmière / accoucheuse A3 | J27: 20 | K27: Autre à preciser | L27: 50 | M27: ► | N27: =$Q$5 -> -4.08 | R27: 3. | S27: 90 001 - 130 000
I28: Internistes | J28: 21 | R28: 4. | S28: 130 001 - 160 000
I29: Kinésithérapeute | J29: 22 | R29: 5. 160 001 - 190 000
I30: Médecin (généraliste) | J30: 23 | R30: 6. 190 001 - 220 000
I31: Médecin (Autre spécialité) | J31: 24 | R31: 7. 220 001 - 250 000
I32: Diéteticien / Nutritionnistes A2 / A1 / L2 | J32: 25 | R32: 8. Plus de 250 000
I33: Pédiatre | J33: 26
I34: Pharmacien | J34: 27
I35: Préposé(e) à la pharmacie | J35: 28
I36: Techniciens de Laboratoire A2 / A1 / L2 | J36: 29
D37: HOMME | E37: 1 | I37: Techniciens en radiologie A1 / L2 | J37: 30 | W37: OUI | X37: 1 | Y37: OUI | Z37: 1 | AA37: ► | AB37: =AE5 -> -4.16
C38: NOM COMPLET | D38: FEMME | E38: 2 | F38: ANS | I38: Autre (à preciser)_____ | J38: 97 | P38: ANNÉE | Q38: ANNÉE | R38: Code | T38: MAX 7 | U38: MAX 168 | V38: MAX 168 | W38: NON | X38: 2 | Y38: NON | Z38: 2 | AE38: A. | AF38: B. | AG38: C.
A39: 1 | B39: 01 | D39: |___| | F39: |___||___| | G39: |___||___| | I39: |___||___| | O39: 1 | P39: |___||___||___||___| | Q39: |___||___||___||___| | R39: |___||___| | T39: |___| | U39: |___||___|___| | V39: |___||___|___| | W39: |___| | AB39: |___| | AC39: |___| | AE39: |___||___| | AF39: |___||___| | AG39: |___||___|
A40: 2 | B40: 02 | D40: |___| | F40: |___||___| | G40: |___||___| | I40: |___||___| | O40: 2 | P40: |___||___||___||___| | Q40: |___||___||___||___| | R40: |___||___| | T40: |___| | U40: |___||___|___| | V40: |___||___|___| | W40: |___| | AB40: |___| | AC40: |___| | AE40: |___||___| | AF40: |___||___| | AG40: |___||___|
A41: 3 | B41: 03 | D41: |___| | F41: |___||___| | G41: |___||___| | I41: |___||___| | O41: 3 | P41: |___||___||___||___| | Q41: |___||___||___||___| | R41: |___||___| | T41: |___| | U41: |___||___|___| | V41: |___||___|___| | W41: |___| | AB41: |___| | AC41: |___| | AE41: |___||___| | AF41: |___||___| | AG41: |___||___|
...

Sheet 5Laboratoire
A1: =-5 -> -5 | B1: Laboratoire
A2: PERSONNE INTERROGÉE: TECHNICIEN DE LABORATOIRE OU MEMBRE DU PERSONNEL LE MIEUX INFORMÉ
A3: CODE D'IDENTIFICATION DE LA PERSONNE INTERROGÉE À PARTIR DE LA LISTE DU PERSONNEL
A4: =A1-0.01 -> -5.01 | B4: La formation sanitaire fournit-elle des services de laboratoire? | C4: OUI | D4: 1 | G4: |___|
C5: NON | D5: 2 | E5: ► | F5: ='6Services'!A4 -> -6.01
A6: (A) | B6: Tests de laboratoire
C7: =A4-0.01 -> -5.02 | E7: =C7-0.01 -> -5.03 | G7: =E7-0.01 -> -5.04
C8: Pour les examens suivants, veuillez nous dire si vous êtes en mesure de les effectuer aujourd'hui, si vous étiez capable de les faire il y a 3 mois mais pas aujourd'hui, ou tout simplement si vous ne pouvez pas le faire (que ce soit aujourd'hui ou il y a 3 mois). | E8: Combien d'examens de […] ont été réalisé au cours des 3 derniers mois? | G8: ENQUÊTEUR : INSCRIRE LA SOURCE DE RENSEIGNEMENTS. INSCRIRE UNE RÉPONSE PAR EXAMEN.
C9: ENQUÊTEUR : INSCRIRE UNE RÉPONSE PAR EXAMEN. | E9: ENQUÊTEUR : SI AUCUN, INSCRIRE "0". INSCRIRE UNE RÉPONSE PAR EXAMEN.
C10: Capable de faire ce test d'aujourd'hui | D10: 1 | G10: REGISTRES | H10: 1
C11: Capable de le faire les 3 derniers mois mais pas aujourd'hui | D11: 2 | G11: PAS DE REGISTRES DISPONIBLES, RAPPORT VERBAL | H11: 2
C12: Incapable de faire cet examen que ce soit aujourd'hui ou durant les 3 derniers mois | D12: 3
A13: b. | B13: Culture d'urines | C13: |___| | F13: |___||___| | G13: |___|
A14: c | B14: Dépistage de la syphilis (test VDRL/TPHA) | C14: |___| | F14: |___||___| | G14: |___|
A15: f. | B15: Numération de la formule sanguine | C15: |___| | F15: |___||___| | G15: |___|
A16: g. | B16: Ziehl sur crachat | C16: |___| | F16: |___||___| | G16: |___|
A17: i | B17: goutte épaisse | C17: |___| | F17: |___||___| | G17: |___|
A18: j | B18: Test de dépistage rapide du paludisme | C18: |___| | F18: |___||___| | G18: |___|
A19: l. | B19: Test d'EMMEL | C19: |___| | F19: |___||___| | G19: |___|
A20: M | B20: Groupe sanguin/Rhesus | C20: |___| | F20: |___||___| | G20: |___|
A21: s | B21: Test de coagulation(TC/TS) | C21: |___| | F21: |___||___| | G21: |___|
A22: t | B22: Test de dépistage de l'hépatite B/C | C22: |___| | F22: |___||___| | G22: |___|
A23: u | B23: Test de dépistage du VIH | C23: |___| | F23: |___||___| | G23: |___|
A24: v | B24: Test de glycémie | C24: |___| | F24: |___||___| | G24: |___|
... A29: AD | B29: Autre | C29: |___| | F29: |___||___| | G29: |___|
A30: =G7-0.01 -> -5.05 | B30: À quelle heure de la journée commencez-vous à prélever les échantillons pour examen ? | C30: Jours ouvrés | F30: |___|___|___|___|
C31: Dimanche | F31: |___|___|___|___|
B32: SI LE PRÉLEVEMENT NE SE FAIT PAS EN CE JOUR, NOTEZ 9999 | C32: Jours fériés | F32: |___|___|___|___|
A33: =A30-0.01 -> -5.06 | B33: À quelle heure de la journée arrêtez-vous de prélever les échantillons pour examen ? | C33: Jours ouvrés | F33: |___|___|___|___|
C34: Dimanche | F34: |___|___|___|___|
B35: SI LE PRELEVEMENT NE SE FAIT PAS EN CE JOUR, NOTEZ 9999 | C35: Jours fériés | F35: |___|___|___|___|
A36: =A33-0.01 -> -5.07 | B36: À quelle heure de la journée commencez-vous les rendus des examens de laboratoire ? | C36: Jours ouvrés | F36: |___|___|___|___|
C37: Dimanche | F37: |___|___|___|___|
B38: SI LE RENDU DES RESULTATS NE SE FAIT PAS EN CE JOUR, NOTEZ 9999 | C38: Jours fériés | F38: |___|___|___|___|
A39: =A36-0.01 -> -5.08 | B39: À quelle heure de la journée arretez-vous les rendus des examens de laboratoire | C39: Jours ouvrés | F39: |___|___|___|___|
C40: Dimanche | F40: |___|___|___|___|
B41: SI LE RENDU DES RESULTATS NE SE FAIT PAS EN CE JOUR, NOTEZ 9999 | C41: Jours fériés | F41: |___|___|___|___|
A42: (B) | B42: Équipement de laboratoire | G42: INSCRIRE LES RÉPONSES
A43: =A39-0.01 -> -5.09 | B43: Où est situé l'équipement de laboratoire? | C43: Dans un local reservé uniquement pour le laboratoire | F43: 1 | G43: |___|
C44: Dans une salle également utilisée pour d'autres activités | F44: 2
...

Sheet 6Services
A1: =-6 -> -6 | B1: Services
A2: PERSONNE INTERROGÉE: RESPONSABLE DE LA FORMATION SANITAIRE OU LE MEMBRE DU PERSONNEL LE MIEUX INFORMÉ
A3: (A) | B3: Services de vaccination | G3: INSCRIRE LES RÉPONSES
A4: =A1-0.01 -> -6.01 | B4: Cette formation sanitaire offre-t-elle des services de vaccination? | C4: OUI | D4: 1
C5: NON | D5: 2 | E5: ► | F5: =A46 -> -6.19
A6: =A4-0.01 -> -6.02 | B6: Pendant combien d'heures la formation sanitaire offre-t-elle des services de vaccination les jours suivants (stratégie fixe) ? | C6: a. Lundi | G6: |___|___|
C7: b. Mardi | G7: |___|___|
C8: c. Mercredi | G8: |___|___|
C9: d. Jeudi | G9: |___|___|
B10: ENQUÊTEUR : POUR CHACUN DES JOURS, INSCRIRE LE NOMBRE D'HEURES PENDANT LESQUELLES CE SERVICE EST OFFERT. SI CE SERVICE N'EST PAS OFFERT, INSCRIRE "00". | C10: e. Vendredi | G10: |___|___|
C11: f. Samedi | G11: |___|___|
G12: |___|___|
A13: =A6-0.01 -> -6.03 | B13: Existe-t-il un espace ou une salle prévu pour les vaccinations? | C13: OUI | D13: 1 | G13: |___|
C14: NON | D14: 2
A15: =A13-0.01 -> -6.04 | B15: Les vaccinations sont- elles faites aux enfants et aux femmes enceintes au sein de la formation sanitaire ou pendant les activités de sensibilisation? | C15: Exclusivement au sein de la formation sanitaire | D15: 1 | G15: |___|
C16: Seulement lors des activités de sensibilisation hors de la formation sanitaire | D16: 2
C17: Au sein de la formation sanitaire et lors des activités de sensibilisation | D17: 3
A18: =A15-0.01 -> -6.05 | B18: Existe-t-il un calendrier de statégie avancée de vaccination? | C18: OUI | D18: 1 | G18: |___|
C19: NON | D19: 2
A20: -6.07 | B20: Combien de séances de stratégies avancées de vaccination ont été menées au cours des 30 derniers jours? | G20: |___||___|
A21: =A20-0.01 -> -6.08 | B21: Quelle était la cible pour la sensibilisation? | C21: A. Mères des enfants de 0 à 5ans | G21: |___||___|
C22: B. les femmes des tontines | G22: |___||___|
C23: C. les femmes venues consulter à l'hôpital | G23: |___||___|
C24: D. Autres à préciser | G24: |___||___|
A25: =A21-0.01 -> -6.09 | B25: Au cours des 30 derniers jours, combien de séances de sensibilisation sur la vaccination ont été menée dans la communauté? | G25: |___||___|
A26: =A25-0.01 -> -6.1 | B26: Parmi ces matériels de la chaine du froid , lesquels sont disponibles et fonctionnels dans votre formation sanitaire? (déterminez le nombre) ENQUÊTEUR : SI C'EST ZERO, INSCRIRE '00'. | C26: a. Glacière | G26: |___||___||___|
C27: b. Frigo (pour vaccins) | G27: |___||___||___|
C28: c. Porte-vaccins | G28: |___||___||___|
C29: d. Congélateur | G29: |___||___||___|
C30: e. Autre | G30: |___||___||___|
A31: =A26-0.02 -> -6.12 | B31: existe-t-il une fiche de relevés des variations de température biquotidienne? ENQUÊTEUR : SI OUI, DEMANDEZ A VOIR LA FEUILLE DE TEMPÉRATURE | C31: OUI, VU | D31: 1 | G31: |___|
C32: OUI, PAS VU | D32: 2
C33: NON | D33: 3 | E33: ► | F33: =A36 -> -6.16
A34: =A31-0.01 -> -6.13 | B34: Au cours des 7 derniers jours, combien de fois au total est-ce que la température a été consignée? | G34: |___|
B35: OBSERVATION DIRECTE SUR LA FEUILLE
A36: -6.16 | B36: Est-ce que chaque enfant qui commence son calendrier de vaccination reçoit une carte de vaccination? | C36: OUI | D36: 1 | G36: |___|
C37: NON | D37: 2 | E37: ► | F37: =A46 -> -6.19
A38: (6.16a) | B38: Est -ce que les parents ou gardiens paient pour les cartes de vaccination ? | C38: OUI | D38: 1 | G38: |___|
C39: NON | D39: 2 | E39: ► | F39: =A41 -> -6.17
A40: (6.16b) | B40: Combien paient-t-ils pour une carte de vaccination? (en francs congolais) | G40: |___||___||___||___||___|
...

Sheet 7SNIS
A1: =-7 -> -7 | B1: Gestion de l'Information Sanitaire | G1: INSCRIRE LES RÉPONSES
A2: PERSONNE INTERROGÉE: Responsable de la formation sanitaire ou le membre du personnel le mieux informé
A3: =A1-0.01 -> -7.01 | B3: Connaissez-vous la taille de la population desservie par votre formation sanitaire? | C3: OUI | D3: 1 | G3: |___|
C4: NON | D4: 2 | E4: ► | F4: =A10 -> -7.2
A5: =A3-0.01 -> -7.02 | B5: Combien de personnes ? [CATÉGORIE DE POPULATION] | C5: a. Population totale | G5: |__|__|__|__||__|__|__|__|
C6: b. Population totale des femmes enceintes attendues | G6: |__|__|__|__||__|__|__|__|
B7: ENQUÊTEUR : S'IL N Y A PAS DE DONNÉES POUR CERTAINES CATÉGORIES, INSCRIRE 9999 POUR CES CATÉGORIES. | C7: c. Population totale des femmes âgées entre 15 et 49 ans | G7: |__|__|__|__||__|__|__|__|
C8: d. Total population 0 à 59 mois | G8: |__|__|__|__||__|__|__|__|
A9: Maintenant, je voudrais voir le registre qui indique le nombre total de patients ayant consulté dans cette formation sanitaire au cours du dernier mois | G9: INSCRIRE LES RÉPONSES
A10: -7.2 | B10: Rapport mensuel d'activités (RMA) ENQUETEUR: "ANALYSEE" VEUT DIRE SI ON DECRIT SEULEMENT LES TABLEAUX AVEC LES CHIFFRES - OU AUSSI DISCUTE CES CHIFFRES DANS LE RAPPORT | C10: VU, dûment rempli | F10: 1 | G10: |___|
C11: VU, PAS REMPLI | F11: 2
C12: VU, ANALYSÉE | F12: 3
C13: EXISTE, PAS VU | F13: 4
C14: N'EXISTE PAS | F14: 5
A15: =A10-0.01 -> -7.21 | B15: Rapport mensuel d'activités du Programme élargi de vaccination (RMA PEV: Formulaire 1) ENQUETEUR: "ANALYSEE" VEUT DIRE SI ON DECRIT SEULEMENT LES TABLEAUX AVEC LES CHIFFRES - OU AUSSI DISCUTE CES CHIFFRES DANS LE RAPPORT | C15: VU, dûment rempli | F15: 1 | G15: |___|
C16: vu, ANALYSÉE | F16: 2
C17: VU, PAS REMPLI | F17: 3
C18: EXISTE, PAS VU | F18: 4
C19: N'EXISTE PAS | F19: 5
A20: =A15-0.01 -> -7.22 | B20: Rapport sur la surveillance épidémiologique des maladies à déclaration obligatoire ENQUETEUR: "ANALYSEE" VEUT DIRE SI ON DECRIT SEULEMENT LES TABLEAUX AVEC LES CHIFFRES - OU AUSSI DISCUTE CES CHIFFRES DANS LE RAPPORT | C20: VU, dûment rempli | F20: 1 | G20: |___|
C21: vu, ANALYSÉE | F21: 2
C22: VU, PAS REMPLI | F22: 3
C23: EXISTE, PAS VU | F23: 4
C24: N'EXISTE PAS | F24: 5
A25: =A20-0.01 -> -7.23 | B25: Rapport mensuel sur les IST/VIH/SIDA ENQUETEUR: "ANALYSEE" VEUT DIRE SI ON DECRIT SEULEMENT LES TABLEAUX AVEC LES CHIFFRES - OU AUSSI DISCUTE CES CHIFFRES DANS LE RAPPORT | C25: VU, dûment rempli | F25: 1 | G25: |___|
C26: vu, ANALYSÉE | F26: 2
C27: VU, PAS REMPLI | F27: 3
C28: EXISTE, PAS VU | F28: 4
C29: N'EXISTE PAS | F29: 5
A30: =A25-0.01 -> -7.24 | B30: Rapport sur la Prévention de la transmission du VIH de la mère à l'enfant (PTME) ENQUETEUR: "ANALYSEE" VEUT DIRE SI ON DECRIT SEULEMENT LES TABLEAUX AVEC LES CHIFFRES - OU AUSSI DISCUTE CES CHIFFRES DANS LE RAPPORT | C30: VU, dûment rempli | F30: 1 | G30: |___|
C31: vu, ANALYSÉE | F31: 2
C32: VU, PAS REMPLI | F32: 3
C33: EXISTE, PAS VU | F33: 4
C34: N'EXISTE PAS | F34: 5
A35: =A30-0.01 -> -7.25 | B35: Registre de planification familiale ENQUETEUR: "ANALYSEE" VEUT DIRE SI ON DECRIT SEULEMENT LES TABLEAUX AVEC LES CHIFFRES - OU AUSSI DISCUTE CES CHIFFRES DANS LE RAPPORT | C35: VU, dûment rempli | F35: 1 | G35: |___|
C36: vu, ANALYSÉE | F36: 2
C37: VU, PAS REMPLI | F37: 3
C38: EXISTE, PAS VU | F38: 4
C39: N'EXISTE PAS | F39: 5
A40: =A35-0.01 -> -7.26 | B40: Registre de consultations prénatales ENQUETEUR: "ANALYSEE" VEUT DIRE SI ON DECRIT SEULEMENT LES TABLEAUX AVEC LES CHIFFRES - OU AUSSI DISCUTE CES CHIFFRES DANS LE RAPPORT | C40: VU, dûment rempli | F40: 1 | G40: |___|
...

Sheet 8Util_HMIS
A1: =-8 -> -8 | B1: L'utilisation des services de santé conformément au SNIS
A2: PERSONNE INTERROGÉE: RESPONSABLE DE LA FORMATION SANITAIRE OU MEMBRE DU PERSONNEL LE MIEUX INFORMÉ
A3: Je voudrais vous poser quelques questions sur les services de santé disponibles.
A4: ="POSER LES QUESTIONS DE ("&-C4&") A ("&-I4&") POUR CHACUN DES SERVICES AVANT LE SERVICE SUIVANT." -> POSER LES QUESTIONS DE (8.01) A (8.04) POUR CHACUN DES SERVICES AVANT LE SERVICE SUIVANT. | C4: =A1-0.01 -> -8.01 | E4: =C4-0.01 -> -8.02 | F4: =E4-0.01 -> -8.03 | I4: =F4-0.01 -> -8.04
C5: Cette formation sanitaire fournit - elle [SERVICE] en son sein et/ou pendant les activités de stratégie avancée ? ENQUÊTEUR : INSCRIRE A LA FOIS POUR LA FORMATION SANITAIRE ET POUR LA STRATÉGIE AVANCÉE. | E5: Combien de jours par semaine ce service est-il offert? | F5: Quel est le montant total en Frs Congolais exigé pour ce type de service? ENQUÊTEUR : SI AUCUN FRAIS, INSCRIRE «00». SI SANS OBJET, INSCRIRE "999 999" | I5: ENQUÊTEUR : POUR CHAQUE SERVICE, INSCRIRE LE NOMBRE TOTAL MENSUEL DE MALADES HOSPITALISÉS ET DE CONSULTATIONS EXTERNES LISTES DANS LE REGISTRE, POUR LES 6 DERNIERS MOIS PRÉCÉDANT LE MOIS DE L'ENQUÊTE (EX. SI AUJOURD'HUI C'EST LE 14 MARS, INSCRIRE LES PATIENTS DE LA PÉRIODE ALLANT DU 1er SEPTEMBRE AU 28 Février, AFIN DE COUVRIR 6 MOIS COMPLETS) . SI SANS OBJET, INSCRIRE "999"
E10: ENQUÊTEUR : SI SUR RENDEZ-VOUS SEULEMENT, INSCRIRE 8, SI SANS OBJET, INSCRIRE "9"
C17: OUI | D17: 1
C18: NON | D18: 2
A19: Code de Services | C19: a. Au sein de la Formation Sanitaire | D19: b. Stratégie avancée | E19: JOURS / SEMAINE | F19: Frs Congolais | H19: c. UNITÉ | I19: MOIS 1: le plus éloigné | K19: MOIS 2 | M19: MOIS 3 | O19: MOIS 4 | Q19: MOIS 5 | S19: MOIS 6: le plus récent
B20: Service | F20: a. Au sein de la Formation Sanitaire | G20: b. Stratégie avancée | I20: INTERNE | J20: EXTERNE | K20: INTERNE | L20: EXTERNE | M20: INTERNE | N20: EXTERNE | O20: INTERNE | P20: EXTERNE | Q20: INTERNE | R20: EXTERNE | S20: INTERNE | T20: EXTERNE
A21: Planning familial / clinique | I21: Planning familial / clinique
A22: 1 | B22: Pillule contraceptive | C22: |__| | D22: |__| | E22: |__| | F22: |__|__|__|__|__|__| | G22: |__|__|__|__|__|__| | H22: par visite initiale | I22: |__|__|__| | J22: |__|__|__| | K22: |__|__|__| | L22: |__|__|__| | M22: |__|__|__| | N22: |__|__|__| | O22: |__|__|__| | P22: |__|__|__| | Q22: |__|__|__| | R22: |__|__|__| | S22: |__|__|__| | T22: |__|__|__|
A23: 2 | B23: Injectables/ Depo-Provera | C23: |__| | D23: |__| | E23: |__| | F23: |__|__|__|__|__|__| | G23: |__|__|__|__|__|__| | H23: par visite | I23: |__|__|__| | J23: |__|__|__| | K23: |__|__|__| | L23: |__|__|__| | M23: |__|__|__| | N23: |__|__|__| | O23: |__|__|__| | P23: |__|__|__| | Q23: |__|__|__| | R23: |__|__|__| | S23: |__|__|__| | T23: |__|__|__|
A24: 3 | B24: Insertion d'implant/Norplant | C24: |__| | D24: |__| | E24: |__| | F24: |__|__|__|__|__|__| | G24: |__|__|__|__|__|__| | H24: par insertion (pose) | I24: |__|__|__| | J24: |__|__|__| | K24: |__|__|__| | L24: |__|__|__| | M24: |__|__|__| | N24: |__|__|__| | O24: |__|__|__| | P24: |__|__|__| | Q24: |__|__|__| | R24: |__|__|__| | S24: |__|__|__| | T24: |__|__|__|
A25: 4 | B25: Préservatifs masculins (il s'agit ici pas de l'achat mais de la consultation) | C25: |__| | D25: |__| | E25: |__| | F25: |__|__|__|__|__|__| | G25: |__|__|__|__|__|__| | H25: par visite | I25: |__|__|__| | J25: |__|__|__| | K25: |__|__|__| | L25: |__|__|__| | M25: |__|__|__| | N25: |__|__|__| | O25: |__|__|__| | P25: |__|__|__| | Q25: |__|__|__| | R25: |__|__|__| | S25: |__|__|__| | T25: |__|__|__|
A26: 5 | B26: Préservatifs féminins (il s'agit ici pas de l'achat mais de la consultation) | C26: |__| | D26: |__| | E26: |__| | F26: |__|__|__|__|__|__| | G26: |__|__|__|__|__|__| | H26: par visite | I26: |__|__|__| | J26: |__|__|__| | K26: |__|__|__| | L26: |__|__|__| | M26: |__|__|__| | N26: |__|__|__| | O26: |__|__|__| | P26: |__|__|__| | Q26: |__|__|__| | R26: |__|__|__| | S26: |__|__|__| | T26: |__|__|__|
A27: 6 | B27: Dispositif intra-utérin (DIU) | C27: |__| | D27: |__| | E27: |__| | F27: |__|__|__|__|__|__| | G27: |__|__|__|__|__|__| | H27: par insertion | I27: |__|__|__| | J27: |__|__|__| | K27: |__|__|__| | L27: |__|__|__| | M27: |__|__|__| | N27: |__|__|__| | O27: |__|__|__| | P27: |__|__|__| | Q27: |__|__|__| | R27: |__|__|__| | S27: |__|__|__| | T27: |__|__|__|
A28: 7 | B28: Stérilisation féminine | C28: |__| | D28: |__| | E28: |__| | F28: |__|__|__|__|__|__| | G28: |__|__|__|__|__|__| | H28: par intervention / acte | I28: |__|__|__| | J28: |__|__|__| | K28: |__|__|__| | L28: |__|__|__| | M28: |__|__|__| | N28: |__|__|__| | O28: |__|__|__| | P28: |__|__|__| | Q28: |__|__|__| | R28: |__|__|__| | S28: |__|__|__| | T28: |__|__|__|
A29: 8 | B29: Stérilisation masculine (Vasectomie) | C29: |__| | D29: |__| | E29: |__| | F29: |__|__|__|__|__|__| | G29: |__|__|__|__|__|__| | H29: par intervention / acte | I29: |__|__|__| | J29: |__|__|__| | K29: |__|__|__| | L29: |__|__|__| | M29: |__|__|__| | N29: |__|__|__| | O29: |__|__|__| | P29: |__|__|__| | Q29: |__|__|__| | R29: |__|__|__| | S29: |__|__|__| | T29: |__|__|__|
A30: 9 | B30: Diaphragme / Collier du cycle | C30: |__| | D30: |__| | E30: |__| | F30: |__|__|__|__|__|__| | G30: |__|__|__|__|__|__| | H30: par unité | I30: |__|__|__| | J30: |__|__|__| | K30: |__|__|__| | L30: |__|__|__| | M30: |__|__|__| | N30: |__|__|__| | O30: |__|__|__| | P30: |__|__|__| | Q30: |__|__|__| | R30: |__|__|__| | S30: |__|__|__| | T30: |__|__|__|
A31: 10 | B31: Pillule du lendemain | C31: |__| | D31: |__| | E31: |__| | F31: |__|__|__|__|__|__| | G31: |__|__|__|__|__|__| | H31: par unité | I31: |__|__|__| | J31: |__|__|__| | K31: |__|__|__| | L31: |__|__|__| | M31: |__|__|__| | N31: |__|__|__| | O31: |__|__|__| | P31: |__|__|__| | Q31: |__|__|__| | R31: |__|__|__| | S31: |__|__|__| | T31: |__|__|__|
A32: 11 | B32: Inj. Norestera - Seyana Press | C32: |__| | D32: |__| | E32: |__| | F32: |__|__|__|__|__|__| | G32: |__|__|__|__|__|__| | H32: par injection | I32: |__|__|__| | J32: |__|__|__| | K32: |__|__|__| | L32: |__|__|__| | M32: |__|__|__| | N32: |__|__|__| | O32: |__|__|__| | P32: |__|__|__| | Q32: |__|__|__| | R32: |__|__|__| | S32: |__|__|__| | T32: |__|__|__|
A33: 12 | B33: Spermicides | C33: |__| | D33: |__| | E33: |__| | F33: |__|__|__|__|__|__| | G33: |__|__|__|__|__|__| | H33: par unité | I33: |__|__|__| | J33: |__|__|__| | K33: |__|__|__| | L33: |__|__|__| | M33: |__|__|__| | N33: |__|__|__| | O33: |__|__|__| | P33: |__|__|__| | Q33: |__|__|__| | R33: |__|__|__| | S33: |__|__|__| | T33: |__|__|__|
... A35: 15 | B35: Traitement infertilité | C35: |__| | D35: |__| | E35: |__| | F35: |__|__|__|__|__|__| | G35: |__|__|__|__|__|__| | H35: par visite | I35: |__|__|__| | J35: |__|__|__| | K35: |__|__|__| | L35: |__|__|__| | M35: |__|__|__| | N35: |__|__|__| | O35: |__|__|__| | P35: |__|__|__| | Q35: |__|__|__| | R35: |__|__|__| | S35: |__|__|__| | T35: |__|__|__|
B36: Accouchement au sein de la formation sanitaire | I36: =B36 -> Accouchement au sein de la formation sanitaire
A37: 16 | B37: Accouchement spontané par voie basse (eutocique) | E37: |__| | F37: |__|__|__|__|__|__| | G37: |__|__|__|__|__|__| | H37: par accouchement | I37: |__|__|__| | J37: |__|__|__| | K37: |__|__|__| | L37: |__|__|__| | M37: |__|__|__| | N37: |__|__|__| | O37: |__|__|__| | P37: |__|__|__| | Q37: |__|__|__| | R37: |__|__|__| | S37: |__|__|__| | T37: |__|__|__|
A38: 17 | B38: Accouchement par césarienne | E38: |__| | F38: |__|__|__|__|__|__| | G38: |__|__|__|__|__|__| | H38: par accouchement | I38: |__|__|__| | J38: |__|__|__| | K38: |__|__|__| | L38: |__|__|__| | M38: |__|__|__| | N38: |__|__|__| | O38: |__|__|__| | P38: |__|__|__| | Q38: |__|__|__| | R38: |__|__|__| | S38: |__|__|__| | T38: |__|__|__|
A39: 18 | B39: Accouchement dystocique | E39: |__| | F39: |__|__|__|__|__|__| | G39: |__|__|__|__|__|__| | H39: par accouchement | I39: |__|__|__| | J39: |__|__|__| | K39: |__|__|__| | L39: |__|__|__| | M39: |__|__|__| | N39: |__|__|__| | O39: |__|__|__| | P39: |__|__|__| | Q39: |__|__|__| | R39: |__|__|__| | S39: |__|__|__| | T39: |__|__|__|
A40: 19 | B40: Accouchement à domicile assisté par un personnel qualifié | E40: |__| | F40: |__|__|__|__|__|__| | G40: |__|__|__|__|__|__| | H40: par accouchement | I40: |__|__|__| | J40: |__|__|__| | K40: |__|__|__| | L40: |__|__|__| | M40: |__|__|__| | N40: |__|__|__| | O40: |__|__|__| | P40: |__|__|__| | Q40: |__|__|__| | R40: |__|__|__| | S40: |__|__|__| | T40: |__|__|__|
A41: 20 | B41: Soins post-nataux | E41: |__| | F41: |__|__|__|__|__|__| | G41: |__|__|__|__|__|__| | H41: par visite | I41: |__|__|__| | J41: |__|__|__| | K41: |__|__|__| | L41: |__|__|__| | M41: |__|__|__| | N41: |__|__|__| | O41: |__|__|__| | P41: |__|__|__| | Q41: |__|__|__| | R41: |__|__|__| | S41: |__|__|__| | T41: |__|__|__|
A42: 21 | B42: Mère ayant bénéficie de la GATPA | E42: |__| | F42: |__|__|__|__|__|__| | G42: |__|__|__|__|__|__| | H42: par visite | I42: |__|__|__| | J42: |__|__|__| | K42: |__|__|__| | L42: |__|__|__| | M42: |__|__|__| | N42: |__|__|__| | O42: |__|__|__| | P42: |__|__|__| | Q42: |__|__|__| | R42: |__|__|__| | S42: |__|__|__| | T42: |__|__|__|
B43: Vaccinations de Routine (il s'agit ici de la séance de Vaccination et pas du vaccin en tant que consommable) | I43: =B43 -> Vaccinations de Routine (il s'agit ici de la séance de Vaccination et pas du vaccin en tant que consommable)
A44: 22 | B44: BCG | E44: |__| | F44: |__|__|__|__|__|__| | G44: |__|__|__|__|__|__| | H44: par dose | I44: |__|__|__| | J44: |__|__|__| | K44: |__|__|__| | L44: |__|__|__| | M44: |__|__|__| | N44: |__|__|__| | O44: |__|__|__| | P44: |__|__|__| | Q44: |__|__|__| | R44: |__|__|__| | S44: |__|__|__| | T44: |__|__|__|
A45: 23 | B45: VPO 0 | E45: |__| | F45: |__|__|__|__|__|__| | G45: |__|__|__|__|__|__| | H45: par dose | I45: |__|__|__| | J45: |__|__|__| | K45: |__|__|__| | L45: |__|__|__| | M45: |__|__|__| | N45: |__|__|__| | O45: |__|__|__| | P45: |__|__|__| | Q45: |__|__|__| | R45: |__|__|__| | S45: |__|__|__| | T45: |__|__|__|
A46: 24 | B46: VPO 1 | E46: |__| | F46: |__|__|__|__|__|__| | G46: |__|__|__|__|__|__| | H46: par dose | I46: |__|__|__| | J46: |__|__|__| | K46: |__|__|__| | L46: |__|__|__| | M46: |__|__|__| | N46: |__|__|__| | O46: |__|__|__| | P46: |__|__|__| | Q46: |__|__|__| | R46: |__|__|__| | S46: |__|__|__| | T46: |__|__|__|
A47: 25 | B47: VPO 2 | E47: |__| | F47: |__|__|__|__|__|__| | G47: |__|__|__|__|__|__| | H47: par dose | I47: |__|__|__| | J47: |__|__|__| | K47: |__|__|__| | L47: |__|__|__| | M47: |__|__|__| | N47: |__|__|__| | O47: |__|__|__| | P47: |__|__|__| | Q47: |__|__|__| | R47: |__|__|__| | S47: |__|__|__| | T47: |__|__|__|
A48: 26 | B48: VPO 3 | E48: |__| | F48: |__|__|__|__|__|__| | G48: |__|__|__|__|__|__| | H48: par dose | I48: |__|__|__| | J48: |__|__|__| | K48: |__|__|__| | L48: |__|__|__| | M48: |__|__|__| | N48: |__|__|__| | O48: |__|__|__| | P48: |__|__|__| | Q48: |__|__|__| | R48: |__|__|__| | S48: |__|__|__| | T48: |__|__|__|
A49: 27 | B49: DTC-HepB Hib1 | E49: |__| | F49: |__|__|__|__|__|__| | G49: |__|__|__|__|__|__| | H49: par dose | I49: |__|__|__| | J49: |__|__|__| | K49: |__|__|__| | L49: |__|__|__| | M49: |__|__|__| | N49: |__|__|__| | O49: |__|__|__| | P49: |__|__|__| | Q49: |__|__|__| | R49: |__|__|__| | S49: |__|__|__| | T49: |__|__|__|
A50: 28 | B50: DTC-HepB Hib2 | E50: |__| | F50: |__|__|__|__|__|__| | G50: |__|__|__|__|__|__| | H50: par dose | I50: |__|__|__| | J50: |__|__|__| | K50: |__|__|__| | L50: |__|__|__| | M50: |__|__|__| | N50: |__|__|__| | O50: |__|__|__| | P50: |__|__|__| | Q50: |__|__|__| | R50: |__|__|__| | S50: |__|__|__| | T50: |__|__|__|
A51: 29 | B51: DTC-HepB Hib3 | E51: |__| | F51: |__|__|__|__|__|__| | G51: |__|__|__|__|__|__| | H51: par dose | I51: |__|__|__| | J51: |__|__|__| | K51: |__|__|__| | L51: |__|__|__| | M51: |__|__|__| | N51: |__|__|__| | O51: |__|__|__| | P51: |__|__|__| | Q51: |__|__|__| | R51: |__|__|__| | S51: |__|__|__| | T51: |__|__|__|
...

Sheet 9Frais imposés aux usagers
A1: =-9 -> -9 | B1: FRAIS DES PRESTATIONS ET DES MEDICAMENTS | G1: INSCRIRE LES RÉPONSES
A2: PERSONNE INTERROGÉE: RESPONSABLE DE LA FORMATION SANITAIRE OU LE MEMBRE DU PERSONNEL LE MIEUX INFORMÉ
A3: =A1-0.01 -> -9.01 | B3: Quel est le mode de paiement pour la consultation curative dans la Formation Sanitaire | C3: Forfait | D3: 1 | G3: |___|
C4: Acte | D4: 2
A5: =A3-0.01 -> -9.02 | B5: Les patients paient-ils les frais de consultation ? | C5: OUI | D5: 1 | G5: |___|
C6: NON | D6: 2
A7: =A5-0.01 -> -9.03 | B7: Les patients paient-ils les frais de laboratoire pour les examens ? | C7: OUI | D7: 1 | G7: |___|
C8: NON | D8: 2
C9: SANS OBJET | D9: 9
A10: =A7-0.01 -> -9.04 | B10: Les patients paient-ils les frais de radiographie/imagerie médicale ? | C10: OUI | D10: 1 | G10: |___|
C11: NON | D11: 2
C12: SANS OBJET | D12: 9
A13: =A10-0.01 -> -9.05 | B13: Les patients paient-ils les frais d'hospitalisation / Observation ? | C13: OUI | D13: 1 | G13: |___|
C14: NON | D14: 2
A15: =A13-0.01 -> -9.06 | B15: Les patients paient-ils les frais pour les consommables (ex : compresses, seringues, etc)? | C15: OUI | D15: 1 | G15: |___|
C16: NON | D16: 2
A17: =A15-0.01 -> -9.07 | B17: Les patients paient-ils les frais pour les médicaments? | C17: OUI | D17: 1 | G17: |___|
C18: NON | D18: 2 | E18: ► | F18: =A28 -> -9.11 | L18: =UPPER(L17)
A19: -9.1 | B19: Qui fixe les prix des médicaments ? | C19: a. Chef de la formation sanitaire / personne en charge de la formation sanitaire | G19: |___|
C20: b. Personnel de la formation sanitaire | G20: |___|
B21: ENQUÊTEUR : LIRE TOUTES LES OPTIONS À HAUTE VOIX. POUR CHAQUE OPTION, INSCRIRE "1" SI LA RÉPONSE EST OUI, ET "2" SI C'EST NON. | C21: d. Ministère de la Santé (Siège) - niveau national | G21: |___|
C22: e. DPS/ Ministere provencial de sante | G22: |___|
C23: f. ECZS
C24: f. Relais communautaire ou leur représentant /leader | G24: |___|
C25: g. Membres de la communauté | G25: |___|
C26: h. Comité Directeur/gestion/santé (COSA/CODI/COGE) | G26: |___|
C27: i. Autre, spécifiez | G27: |___|
A28: =A19-0.01 -> -9.11 | B28: Pendant les 3 derniers mois, à quelle fin la formation sanitaire a utilisé les revenus des frais imposables aux usagers? | C28: a. Infrastructure de la formation sanitaire | G28: |___|
C29: b. Achat d'équipement et de fournitures pour la formation sanitaire | G29: |___|
C30: c. Médicaments | G30: |___|
C31: d. Activités du plan d'action de la formation sanitaire | G31: |___|
B32: ENQUÊTEUR : LIRE TOUTES LES OPTIONS À HAUTE VOIX. POUR CHAQUE OPTION, INSCRIRE "1" SI LA RÉPONSE EST OUI, ET "2" SI C'EST NON. | C32: e. Consultations et médicaments des personnes indigentes | G32: |___|
C33: f. Les salaires du personnel | G33: |___|
C34: g. Des primes au rendement du personnel | G34: |___|
C35: h. Autre, spécifiez | G35: |___|
A36: =A28-0.01 -> -9.12 | B36: Les personnes suivantes sont-elles exonérées de certains frais? | C36: a. Veuves | G36: |___|
C37: b. Les enfants de moins de 5 ans | G37: |___|
C38: c. Personnes âgées (plus de 60 ans) | G38: |___|
C39: d. Orphelins | G39: |___|
C40: e. Les patients tuberculeux | G40: |___|
...

Sheet 11Autonomie
A1: =-11 -> -11 | B1: Autonomie
A2: PERSONNE INTERROGÉE: Responsable de la formation sanitaire
A4: =A1-0 -> -11 | B4: CODE D'IDENTIFICATION DE LA PERSONNE INTERROGÉE À PARTIR DE LA LISTE DU PERSONNEL
A6: Dans cette partie du questionnaire, j'aimerais savoir comment le travail est organisé et les décisions prises au sein de cette formation sanitaire. Toutes les réponses sont confidentielles.
A7: Je vais à présent vous lire une série de déclarations concernant la prise de décision et l'exercice de d'autorité au sein de cette formation sanitaire. Veuillez me dire si vous avez l'impression qu'elles sont vérifiées, la plupart du temps, plus de la moitié du temps, moins de la moitié du temps, rarement ou jamais. | J7: `
D8: CODE DE LA RÉPONSE | H8: INSCRIRE LE CODE DE LA RÉPONSE
D9: LA PLUPART DU TEMPS | G9: 1
D10: PLUS DE LA MOITIÉ DU TEMPS | G10: 2
D11: MOINS DE LA MOITIE DU TEMPS | G11: 3
D12: RAREMENT | G12: 4
D13: JAMAIS | G13: 5
A14: =A1-0.01 -> -11.01 | B14: Je suis en mesure d'allouer le budget de ma formation sanitaire en tenant compte des besoins - sans autorisation d'un niveau superieur. Il existe suffisamment de flexibilité dans mon budget. | H14: |___|
A15: =A14-0.01 -> -11.02 | B15: Je suis en mesure d'assigner des tâches et des activités au personnel de manière à atteindre les résultats escomptés pour la formation sanitaire. Il existe assez de flexibilité dans l'utilisation du personnel afin de parvenir à des solutions . | C15: 1 | D15: 2 | E15: 3 | F15: 4 | G15: 5 | H15: |___|
A16: =A15-0.01 -> -11.03 | B16: L' équipe cadre zone de santé soutient mes décisions et actions visant à améliorer le rendement de la formation sanitaire. | C16: 1 | D16: 2 | E16: 3 | F16: 4 | G16: 5 | H16: |___|
A17: =A16-0.01 -> -11.04 | B17: J'ai la liberté de choisir à qui confier telle ou telle tâche. | C17: 1 | D17: 2 | E17: 3 | F17: 4 | G17: 5 | H17: |___|
A18: =A17-0.01 -> -11.05 | B18: J'ai la liberté de choisir les services à fournir par la formation sanitaire. | C18: 1 | D18: 2 | E18: 3 | F18: 4 | G18: 5 | H18: |___|
A19: =A18-0.01 -> -11.06 | B19: J'ai suffisamment d'autorité me permettant d'obtenir les ressources dont j'ai besoin (médicaments, fournitures, financement) afin de répondre aux besoins de ma formation sanitaire. | C19: 1 | D19: 2 | E19: 3 | F19: 4 | G19: 5 | H19: |___|
A20: =A19-0.01 -> -11.07 | B20: Je comprends très bien les politiques de santé et les procédures de soins. | C20: 1 | D20: 2 | E20: 3 | F20: 4 | G20: 5 | H20: |___|
A21: =A20-0.01 -> -11.08 | B21: Les politiques et procédures sont des outils utiles me permettant de relever les défis qui se présentent à moi dans le cadre de la prestation des services et des rapports sur les activités. | C21: 1 | D21: 2 | E21: 3 | F21: 4 | G21: 5 | H21: |___|
A22: =A21-0.01 -> -11.09 | B22: L' équipe cadre zone de santé me donne un feedback adéquat sur mon travail et le rendement de ma formation sanitaire. | C22: 1 | D22: 2 | E22: 3 | F22: 4 | G22: 5 | H22: |___|

Sheet 12Observation directe
A1: =-12 -> -12 | B1: Observation directe
A2: ENQUÊTEUR : IL N'Y A PAS DE PERSONNE À INTERROGER POUR CETTE SECTION DU QUESTIONNAIRE. APRÈS AVOIR DEMANDÉ L'AUTORISATION, VOUS DEVEZ FAIRE LE TOUR DE LA FORMATION SANITAIRE ET OBSERVEZ LES POINTS DÉCRITS DANS CETTE SECTION.
A3: (A) | B3: GENERAL | H3: ENREGISTRER LES RÉPONSES
A4: -12.02 | B4: Existe-t-il une salle d'attente dans cette formation sanitaire? ENQUÊTEUR : CONFIRMER PAR OBSERVATION DIRECTE. | C4: OUI, VU | E4: 1 | H4: |___|
C5: PAS VU | E5: 2
A6: -12.04 | B6: Existe-il des Salles d'observations dans cette formation sanitaire? ENQUÊTEUR : CONFIRMEZ PAR OBSERVATION DIRECTE. | C6: OUI, VU | E6: 1 | H6: |___|
C7: PAS VU | E7: 2 | F7: ► | G7: =A13 -> (12.09a)
A8: =A6-0.01 -> -12.05 | B8: est-ce qu'on trouve aucune ordure (medicale, nouriture, ou autre) dans tous les salles mentionnées ci-dessus? | C8: OUI, VU | E8: 1 | H8: |___||___|
C9: Pas des ordures, VU | E9: 2
C10: PAS VU | E10: 3
A11: =A8-0.01 -> -12.06 | B11: Existe-t-il des salles séparées pour les hommes et les femmes en cas d'hospitalisation dans cette formation sanitaire (Hopital)? ENQUÊTEUR : CONFIRMEZ PAR OBSERVATION DIRECTE. | C11: OUI, VU | E11: 1 | H11: |___|
C12: PAS VU | E12: 2 | F12: ► | G12: =A13 -> (12.09a)
A13: (12.09a) | B13: Existe-t-il des toilettes fonctionnelles et PROPRES dans cette formation sanitaire? ENQUÊTEUR : CONFIRMEZ PAR OBSERVATION DIRECTE. | C13: OUI, VU- et saines | E13: 1 | H13: |___|
C14: OUI, VU, mais pas saines | E14: 2
C15: PAS VU | E15: 3
A16: -12.1 | B16: Existe-t-il des toilettes séparées pour les hommes et les femmes? ENQUÊTEUR : CONFIRMEZ PAR OBSERVATION DIRECTE. | C16: OUI, VU | E16: 1 | H16: |___|
C17: PAS VU | E17: 2
A18: -12.11 | B18: Est-ce que la formation sanitaire dispose des logements d'astreinte(salle de garde) pour le personnel soignant qui est de garde en dehors des heures habituelles de travail, ex: la nuit? ENQUÊTEUR : CONFIRMEZ PAR OBSERVATION DIRECTE. | C18: OUI, VU | E18: 1 | H18: |___|
C19: PAS VU | E19: 2
A20: -12.12 | B20: Existe-t-il de l'eau pour le lavage des mains et du savon dans la zone de l'examen du patient ? ENQUÊTEUR : CONFIRMEZ PAR OBSERVATION DIRECTE. | C20: OUI, VU | E20: 1 | H20: |___|
C21: PAS VU | E21: 2
A22: -12.13 | B22: Existe-t-il de Gel antiseptique pour le lavage des mains ou du savon dans la zone de l'examen du patient ? ENQUÊTEUR : CONFIRMEZ PAR OBSERVATION DIRECTE. | C22: OUI, VU | E22: 1 | H22: |___|
C23: PAS VU | E23: 2
A24: -12.14 | B24: Existe-t-il un système d’évacuation des déchets (bac à ordures, fosse ou incinérateur)? ENQUÊTEUR : CONFIRMEZ PAR OBSERVATION DIRECTE. | C24: OUI, VU | E24: 1 | H24: |___|
C25: PAS VU | E25: 2
A26: -12.15 | B26: Existe-t-il des receptacles pour les objets pointus et tranchants? ENQUÊTEUR : CONFIRMEZ PAR OBSERVATION DIRECTE. | C26: OUI, VU | E26: 1 | H26: |___|
C27: PAS VU | E27: 2
A28: (B) | B28: AFFICHAGE DES FRAIS EXIGIBLES AUX USAGERS(le tarif) | H28: ENREGISTRER LES RÉPONSES | K28: =UPPER(J28)
A29: -12.17 | B29: Y a-t-il des affiches dans la formation sanitaire qui précisent le montant des frais exigibles pour la consultation, acte, laboratoire etc..? ENQUÊTEUR : SI OUI, CHERCHEZ À VOIR LES AFFICHES DANS LA FORMATION SANITAIRE. | C29: Oui, vu | E29: 1 | H29: |___|
C30: OUI, pas vu | E30: 2
C31: NON | E31: 3
A32: =A29-0.01 -> -12.18 | B32: Est ce que l'un des éléments suivants est affiché publiquement à l'intention des patients? | C32: b. | D32: Jours / heures de service | H32: |___|
B33: ENQUÊTEUR : POUR CHACUN DES DOCUMENTS, DEMANDEZ À VOIR L'AFFICHE ENREGISTREZ LES DONNES SELON LES CODES SUIVANTS: | C33: c. | D33: Rotation du personnel | H33: |___|
C34: d. | D34: Contact de la Direction | H34: |___|
B35: OUI ET VU ………….1 | C35: e. | D35: Politique de gestion des plaintes et suggestions | H35: |___|
B36: OUI, PAS VU……..….2 | C36: f. | D36: Liste des devoirs du patient | H36: |___|
B37: NON………..…….…..3 | C37: g. | D37: Liste des prix des actes et services | H37: |___|
A38: =A32-0.01 -> -12.19 | B38: La Clôture de la Formation sanitaire existe-t-elle et bien entretenue? | C38: VU, bien entretenue | E38: 1 | H38: |___|
C39: VU, mal entretenue | E39: 2
C40: Pas Vu | E40: 3
...

Sheet 13DOEquipment
A1: =-13 -> -13 | B1: Équipement (Observation directe)
A2: ENQUÊTEUR : IL N'Y A PAS DE PERSONNE À INTERROGER POUR CETTE SECTION DU QUESTIONNAIRE. APRÈS AVOIR DEMANDÉ L'AUTORISATION, VOUS DEVEZ FAIRE LE TOUR DE LA FORMATION SANITAIRE ET OBSERVER LES POINTS DÉCRITS DANS CETTE SECTION.
A3: (A) | B3: Équipement général | H3: ENREGISTRER LES RÉPONSES
A4: -13.02 | B4: BIEN VOULOIR NOTER LA QUANTITE DE CHAQUE TYPE DE MATÉRIEL. NOTER "0" SI AUCUN DES MATÉRIELS NE FONCTIONNE | H4: QUANTITE OPERATIONNELLE | I4: QUANTITE OPERATIONNELLE
A5: 1 | B5: Horloge munie d'une aiguille de secondes | H5: |__|__| | I5: |__|__|
A6: 2 | B6: Mètre ruban | H6: |__|__| | I6: |__|__|
A7: 3 | B7: Balance pour adultes | H7: |__|__| | I7: |__|__|
A8: 4 | B8: Toise bébé | H8: |__|__| | I8: |__|__|
A9: 5 | B9: Pèse-bébé | H9: |__|__| | I9: |__|__|
A10: 6 | B10: Tensiomètre muni de brassard pour adultes | H10: |__|__| | I10: |__|__|
A11: 7 | B11: Tensiomètre muni de brassard pour enfants | H11: |__|__| | I11: |__|__|
A12: 8 | B12: Thermomètre | H12: |__|__| | I12: |__|__|
A13: 9 | B13: Stéthoscope médical adulte | H13: |__|__| | I13: |__|__|
A14: 10 | B14: Stéthoscope médical enfant | H14: |__|__| | I14: |__|__|
A15: 11 | B15: Tubes pour perfusion | H15: |__|__| | I15: |__|__|
... A29: 25 | B29: microperfuseur | H29: |__|__| | I29: |__|__|
A30: (B) | B30: Matériel de stérilisation | H30: ENREGISTRER LES RÉPONSES
A31: =-13.04 -> -13.04 | B31: BIEN VOULOIR NOTER LA QUANTITÉ DE CHAQUE TYPE DE MATÉRIEL. NOTER "0" SI LE MATÉRIEL NE FONCTIONNE PAS OU N'EST PAS DISPONIBLE. | H31: QUANTITE DISPONIBLE | I31: QUANTITE OPERATIONNELLE
A32: a. | B32: Autoclave électrique (pression et chaleur humide) | H32: |__|__| | I32: |__|__|
A33: b. | B33: Autoclave non-électrique (pression et chaleur humide) | H33: |__|__| | I33: |__|__|
A34: c. | B34: Stérilisateur électrique (Poupinel) | H34: |__|__| | I34: |__|__|
A35: d. | B35: Bouilloire ou chauffe-eau électrique (sans pression) | H35: |__|__| | I35: |__|__|
A36: e. | B36: Marmite non électrique avec couvercle (chauffage à vapeur) | H36: |__|__| | I36: |__|__|
A37: f. | B37: Source de chaleur pour les appareils non électriques | H37: |__|__| | I37: |__|__|
A38: (D) | B38: Matériel de consultations prénatales | H38: ENREGISTRER LES RÉPONSES
A39: -13.08 | B39: BIEN VOULOIR NOTER LA QUANTITÉ DE CHAQUE TYPE DE MATÉRIEL. NOTER 00 SI LE MATÉRIEL NE FONCTIONNE PAS OU N'EST PAS DISPONIBLE. | H39: QUANTITE DISPONIBLE | I39: QUANTITE OPERATIONNELLE
A40: a. | B40: Table de consultation gynécologique | H40: |__|__| | I40: |__|__|
A41: b. | B41: Réglette ou courbe d'estimation de la date d'accouchement (Gravidogramme) | H41: |__|__| | I41: |__|__|
A42: c. | B42: Stéthoscope obstétrical | H42: |__|__| | I42: |__|__|
A43: d. | B43: Sonicaid | H43: |__|__| | I43: |__|__|
A44: e | B44: Echographe | H44: |__|__| | I44: |__|__|
A45: h. | B45: Speculum | H45: |__|__| | I45: |__|__|
A46: k. | B46: Lampe baladeuse/torche | H46: |__|__| | I46: |__|__|
A47: l | B47: Toise adulte | H47: |__|__| | I47: |__|__|
A48: ( E ) | B48: Matériel pour accouchement et soins aux nouveaux-nés | H48: ENREGISTRER LES RÉPONSES
A49: -13.1 | B49: BIEN VOULOIR NOTER LA QUANTITÉ DE CHAQUE TYPE DE MATÉRIEL. NOTER 00 SI LE MATÉRIEL NE FONCTIONNE PAS OU N'EST PAS DISPONIBLE. | H49: QUANTITE DISPONIBLE | I49: QUANTITE OPERATIONNELLE
