Workbook
Name Z_0FA6C61B_5D69_45A6_B753_810BACE552D4_.wvu.Cols: '16Anth'!#REF!
Name Z_0FA6C61B_5D69_45A6_B753_810BACE552D4_.wvu.PrintArea: '10Preg'!$A$1:$BN$38
Name Z_0FA6C61B_5D69_45A6_B753_810BACE552D4_.wvu.PrintArea: '13Repr'!$A$1:$CM$48
Name Z_0FA6C61B_5D69_45A6_B753_810BACE552D4_.wvu.PrintArea: '19Mat Santé psy'!$A$1:$Q$41
Name Z_0FA6C61B_5D69_45A6_B753_810BACE552D4_.wvu.PrintArea: '20COVID'!$A$1:$AJ$48
Name Z_173E41C6_F793_4836_931B_07E2CF29825D_.wvu.Cols: '16Anth'!#REF!
Name Z_173E41C6_F793_4836_931B_07E2CF29825D_.wvu.PrintArea: '10Preg'!$A$1:$BN$38
Name Z_173E41C6_F793_4836_931B_07E2CF29825D_.wvu.PrintArea: '13Repr'!$A$1:$CM$48
Name Z_173E41C6_F793_4836_931B_07E2CF29825D_.wvu.PrintArea: '19Mat Santé psy'!$A$1:$Q$41
Name Z_173E41C6_F793_4836_931B_07E2CF29825D_.wvu.PrintArea: '20COVID'!$A$1:$AJ$48
Name Z_5D50646D_E318_43BF_A447_05EA9F27B315_.wvu.Cols: '16Anth'!#REF!
Name Z_5D50646D_E318_43BF_A447_05EA9F27B315_.wvu.PrintArea: '10Preg'!$A$1:$BN$38
Name Z_5D50646D_E318_43BF_A447_05EA9F27B315_.wvu.PrintArea: '13Repr'!$A$1:$CM$48
Name Z_5D50646D_E318_43BF_A447_05EA9F27B315_.wvu.PrintArea: '19Mat Santé psy'!$A$1:$Q$41
Name Z_5D50646D_E318_43BF_A447_05EA9F27B315_.wvu.PrintArea: '20COVID'!$A$1:$AJ$48
Name Z_5F65594C_FA75_4A86_A3E4_8227EEB77D02_.wvu.Cols: '16Anth'!#REF!
Name Z_5F65594C_FA75_4A86_A3E4_8227EEB77D02_.wvu.PrintArea: '10Preg'!$A$1:$BN$38
Name Z_5F65594C_FA75_4A86_A3E4_8227EEB77D02_.wvu.PrintArea: '13Repr'!$A$1:$CM$48
Name Z_5F65594C_FA75_4A86_A3E4_8227EEB77D02_.wvu.PrintArea: '19Mat Santé psy'!$A$1:$Q$41
Name Z_5F65594C_FA75_4A86_A3E4_8227EEB77D02_.wvu.PrintArea: '20COVID'!$A$1:$AJ$48
Name Z_75D0AFA1_72F4_4D37_82B1_16CDC1782011_.wvu.PrintArea: '09 Woman Health'!$A$1:$BO$50
Name Z_75D0AFA1_72F4_4D37_82B1_16CDC1782011_.wvu.PrintArea: '15 Child Health'!$A$1:$EC$50
Name Z_7A111591_EC51_4691_AC01_E587AFA51198_.wvu.Cols: '09 Woman Health'!#REF!,'09 Woman Health'!#REF!,'09 Woman Health'!#REF!
Name Z_7A111591_EC51_4691_AC01_E587AFA51198_.wvu.Cols: '11Hist'!#REF!,'11Hist'!#REF!,'11Hist'!#REF!
Name Z_7A111591_EC51_4691_AC01_E587AFA51198_.wvu.Cols: '13Repr'!#REF!,'13Repr'!#REF!,'13Repr'!$N:$N
Name Z_7A111591_EC51_4691_AC01_E587AFA51198_.wvu.Cols: '15 Child Health'!#REF!,'15 Child Health'!#REF!,'15 Child Health'!#REF!
Name Z_7A111591_EC51_4691_AC01_E587AFA51198_.wvu.Cols: '16Anth'!#REF!,'16Anth'!#REF!,'16Anth'!#REF!
Name Z_7A111591_EC51_4691_AC01_E587AFA51198_.wvu.Cols: '17CHW'!#REF!,'17CHW'!#REF!,'17CHW'!#REF!
Name Z_7A111591_EC51_4691_AC01_E587AFA51198_.wvu.Cols: '19Mat Santé psy'!#REF!,'19Mat Santé psy'!#REF!,'19Mat Santé psy'!$K:$K
Name Z_7A111591_EC51_4691_AC01_E587AFA51198_.wvu.Cols: '20COVID'!#REF!,'20COVID'!#REF!,'20COVID'!#REF!
Name Z_7A111591_EC51_4691_AC01_E587AFA51198_.wvu.Cols: Flap_1!#REF!,Flap_1!#REF!,Flap_1!#REF!
Name Z_7A111591_EC51_4691_AC01_E587AFA51198_.wvu.PrintArea: '09 Woman Health'!#REF!
Name Z_7A111591_EC51_4691_AC01_E587AFA51198_.wvu.PrintArea: '11Hist'!$H$2:$U$60
Name Z_7A111591_EC51_4691_AC01_E587AFA51198_.wvu.PrintArea: '13Repr'!$C$2:$R$31
Name Z_7A111591_EC51_4691_AC01_E587AFA51198_.wvu.PrintArea: '15 Child Health'!#REF!
Name Z_7A111591_EC51_4691_AC01_E587AFA51198_.wvu.PrintArea: '16Anth'!#REF!
Name Z_7A111591_EC51_4691_AC01_E587AFA51198_.wvu.PrintArea: '17CHW'!#REF!
Name Z_7A111591_EC51_4691_AC01_E587AFA51198_.wvu.PrintArea: '19Mat Santé psy'!$C$2:$O$24
Name Z_7A111591_EC51_4691_AC01_E587AFA51198_.wvu.PrintArea: '20COVID'!#REF!
Name Z_7A111591_EC51_4691_AC01_E587AFA51198_.wvu.PrintArea: Flap_1!$A$2:$N$43
Name Z_7A111591_EC51_4691_AC01_E587AFA51198_.wvu.Rows: '09 Woman Health'!#REF!,'09 Woman Health'!#REF!
Name Z_7A111591_EC51_4691_AC01_E587AFA51198_.wvu.Rows: '11Hist'!#REF!,'11Hist'!#REF!
Name Z_7A111591_EC51_4691_AC01_E587AFA51198_.wvu.Rows: '13Repr'!#REF!,'13Repr'!#REF!
Name Z_7A111591_EC51_4691_AC01_E587AFA51198_.wvu.Rows: '15 Child Health'!#REF!,'15 Child Health'!#REF!
Name Z_7A111591_EC51_4691_AC01_E587AFA51198_.wvu.Rows: '16Anth'!#REF!,'16Anth'!#REF!
Name Z_7A111591_EC51_4691_AC01_E587AFA51198_.wvu.Rows: '17CHW'!#REF!,'17CHW'!#REF!
Name Z_7A111591_EC51_4691_AC01_E587AFA51198_.wvu.Rows: '19Mat Santé psy'!#REF!,'19Mat Santé psy'!#REF!
Name Z_7A111591_EC51_4691_AC01_E587AFA51198_.wvu.Rows: '20COVID'!#REF!,'20COVID'!#REF!
Name Z_7A111591_EC51_4691_AC01_E587AFA51198_.wvu.Rows: Flap_1!#REF!,Flap_1!#REF!
Name Z_7A111591_EC51_4691_AC01_E587AFA51198_.wvu.Rows: Notes!#REF!
Name Z_8BA3C514_D57A_4F35_B228_74EE997D93F5_.wvu.Cols: '16Anth'!#REF!
Name Z_8BA3C514_D57A_4F35_B228_74EE997D93F5_.wvu.PrintArea: '10Preg'!$A$1:$BN$38
Name Z_8BA3C514_D57A_4F35_B228_74EE997D93F5_.wvu.PrintArea: '13Repr'!$A$1:$CM$48
Name Z_8BA3C514_D57A_4F35_B228_74EE997D93F5_.wvu.PrintArea: '19Mat Santé psy'!$A$1:$Q$41
Name Z_8BA3C514_D57A_4F35_B228_74EE997D93F5_.wvu.PrintArea: '20COVID'!$A$1:$AJ$48
Name Z_8C7CF8DA_E59E_4E05_A9FB_675A67E7B122_.wvu.Cols: '16Anth'!#REF!
Name Z_8C7CF8DA_E59E_4E05_A9FB_675A67E7B122_.wvu.PrintArea: '10Preg'!$A$1:$BN$38
Name Z_8C7CF8DA_E59E_4E05_A9FB_675A67E7B122_.wvu.PrintArea: '13Repr'!$A$1:$CM$48
Name Z_8C7CF8DA_E59E_4E05_A9FB_675A67E7B122_.wvu.PrintArea: '19Mat Santé psy'!$A$1:$Q$41
Name Z_8C7CF8DA_E59E_4E05_A9FB_675A67E7B122_.wvu.PrintArea: '20COVID'!$A$1:$AJ$48

Sheet Cover 
D2: RÉPUBLIQUE DÉMOCRATIQUE DU CONGO
A3: MINISTÈRE DE LA SANTÉ PUBLIQUE
D4: ENQUÊTE FINALE POUR L'ÉVALUATION D'IMPACT DU FINANCEMENT BASÉ SUR LES RÉSULTATS 2021
A6: QUESTIONNAIRE MÉNAGE
A9: SITUATION GÉOGRAPHIQUE
A12: Province : | I12: District:
A14: Zone de Santé (ZS): | I14: Aire de santé (AS):
A16: Code du village ou Quartier : | I16: (0.09)a Voudriez vous remplacer le village? | Q16: Oui | U16: 1
Q17: Non | U17: 2 | V17: ► | W17: (0.09)d
A18: (0.09)b Nom du village remplacement: | I18: (0.09)c Code du village remplacement:
A20: (0.09)d Est-ce que c'est une deuxième ou troisième village pour completer le premier village de moins 50 ménages? | F20: Oui | G20: 1 | I20: (0.09e) Nom du deuxième ou troisième village pour completer le premier village de moins 50 ménages:
F21: Non | G21: 2 | H21: ►(0.10)
A22: Numéro du ménage:____________ | I22: Groupe du ménage:
I23: Groupe A | S23: 1
I24: Groupe B | S24: 2
I25: Groupe C | S25: 3
A26: COORDONNÉES GPS DU MÉNAGE | P26: (0.10) Milieu de résidence
B28: LATITUDE (NORD): | H28: . | Q28: Urbain …… 1
Q29: Rural …………2
B30: LONGITUDE (EST): | H30: .
B31: Le répondant :
D32: Chef de ménage………...…...…. 1
D33: Épouse du Chef du ménage …. 2
D34: Enfant du Chef du ménage ……..3
D35: Autre personne (à préciser) …….7
A36: VISITES DANS LE MENAGE
A38: NOM/PRENOM DE L'ENQUÊTEUR: | N38: CODE ENQUETEUR:
A40: Date Visite | C40: JOUR | E40: MOIS | G40: ANNÉE
A45: LANGUE UTILISÉE
A46: PAR L'ENQUÊTEUR ? | F46: PAR LE RÉPONDANT ? | K46: Français | Q46: 1
K47: Lingala | Q47: 2
K48: Swahili | Q48: 3
K49: Kikongo | Q49: 4
K50: Autre, à préciser | Q50: 7
A51: RECAPITULATIF DU MENAGE | K51: RÉSULTAT DE L'ENTRETIEN :
A52: Nombre total des membres du ménage : | K52: Entièrement rempli | P52: 1
A53: Nombre total d'enfants de 0-4 ans : | K53: Partiellement rempli | P53: 2
A54: Nombre total de filles de 5-14 ans : | K54: Refus d'autoriser l'entretien | P54: 3
A55: Nombre total de garçons 5-14 ans : | K55: Absence des membres du ménage | P55: 4
A56: Nombre total de femmes de 15-49 ans : | K56: Autre (à préciser) | P56: 7
...

Sheet Flap_1
A1: 1 | B1: Caractéristiques des femmes éligibles du ménages
A3: SUJET : TOUTES FEMMES AGÉES DE 15-49 ANS
A4: RÉPONDANT : LE CHEF DU MÉNAGE OU LE MEMBRE DU MÉNAGE LE MIEUX INFORMÉ
A6: CODE ID | C6: -1.01 | E6: -1.02 | H6: =E6-0.01 -> -1.03 | I6: (1.04)a | J6: (1.04)b | K6: (1.04)c | L6: -1.06 | N6: =L$6-0.01 -> -1.07 | R6: =N$6-0.01 -> -1.08 | T6: =R6-0.01 -> -1.09
C7: Veuillez me communiquer le nom des toutes les femmes de 15-49 vivant dans ce ménage | E7: Quelle est la date de naissance de [NOM] ? | H7: Quel âge a [NOM] ? | I7: Est-ce que [NOM] a été enceinte au cours de 24 derniers mois? | J7: [NOM] a-t-elle vécu sans intéruption dans ce ménage au cours des deux dernières années? | K7: Combien de temps était-elle hors de ce ménage au cours des deux dernières années? (TOTAL EN JOURS) | L7: Quelle est la situation matrimoniale actuelle de [NOM] ? | N7: Quel est le niveau d'instruction le plus élevé atteint par [NOM] ? | R7: À ce niveau d'instruc tion quelle est la classe la plus élevée achevée par [NOM] ? | T7: Quelle est la religion de [NOM] ?
E10: SI LE RÉPONDANT NE CONNAIT PAS LE JOUR OU LE MOIS, INSCRIRE "98". S'IL NE CONNAIT PAS L'ANNÉE, APPROFONDIR EN UTILISANT UN CALENDRIER DES ÉVÉNEMENTS.
C14: INSCRIRE ICI LE PRÉNOM ET LE NOM DE FAMILLE
E16: A. | F16: B. | G16: C.
E17: JJ | F17: MM | G17: AAAA | H17: ANS | I17: OUI 1 | J17: OUI 1 ►(1.06) | L17: Célibataire | M17: 1 | N17: Sans niveau | O17: 0 | P17: ► | Q17: =T6 -> -1.09 | R17: Primaire 1 | S17: 5 | T17: Aucune | U17: 1
I18: NON 2 | J18: NON 2 | L18: Mariée monogame | M18: 2 | N18: Primaire | O18: 2 | R18: Primaire 2 | S18: 6 | T18: Catholique | U18: 2
C19: a.NOM | D19: b.PRÉNOM | L19: Mariée polygame | M19: 3 | N19: cycle d'orientation ( 1 ère et 2 ème année) | O19: 3 | R19: Primaire 3 | S19: 7 | T19: Protestante | U19: 3
L20: Union libre | M20: 4 | N20: cycle humanités ( 3 ème,4ème,5ème et 6ème) | O20: 4 | R20: Primaire 4 | S20: 8 | T20: Musulmane | U20: =U19+1 -> 4
L21: Divorcée/séparée | M21: 5 | N21: Supérieur et plus | O21: 5 | R21: Primaire 5 | S21: 9 | T21: Eglise de Réveil | U21: 5
L22: Veuve | M22: 6 | R22: Primaire 6 | S22: 10 | T22: Kimbanguiste | U22: 6
R23: cycle d'orientation 1 | S23: 11 | T23: Salutiste | U23: 7
R24: cycle d'orientation 2 | S24: 12 | T24: Autre à préciser | U24: 97
R25: cycle des humanités 3 | S25: 13
R26: cycle des humanités 4 | S26: 14
R27: cycle des humanités 5 | S27: 15
R28: cycle des humanités 6 | S28: 16
R29: Graduat 1 | S29: 17
R30: Graduat 2 | S30: 18
R31: Graduat 3 | S31: 19
R32: Licence 1 | S32: 20
R33: Licence 2 | S33: 21
A34: =A33+1 -> 1 | E34: |__|__| | F34: |__|__| | G34: |__|__|__|__| | H34: |__|__| | I34: |__| | J34: |__| | K34: |__| | L34: |__| | N34: |__| | R34: Autre | S34: 22 | T34: |__|
A35: =A34+1 -> 2 | E35: |__|__| | F35: |__|__| | G35: |__|__|__|__| | H35: |__|__| | I35: |__| | J35: |__| | K35: |__| | L35: |__| | N35: |__| | R35: |__| | T35: |__|
A36: =A35+1 -> 3 | E36: |__|__| | F36: |__|__| | G36: |__|__|__|__| | H36: |__|__| | I36: |__| | J36: |__| | K36: |__| | L36: |__| | N36: |__| | R36: |__| | T36: |__|
A37: =A36+1 -> 4 | E37: |__|__| | F37: |__|__| | G37: |__|__|__|__| | H37: |__|__| | I37: |__| | J37: |__| | K37: |__| | L37: |__| | N37: |__| | R37: |__| | T37: |__|
A38: =A37+1 -> 5 | E38: |__|__| | F38: |__|__| | G38: |__|__|__|__| | H38: |__|__| | I38: |__| | J38: |__| | K38: |__| | L38: |__| | N38: |__| | R38: |__| | T38: |__|
A39: =A38+1 -> 6 | E39: |__|__| | F39: |__|__| | G39: |__|__|__|__| | H39: |__|__| | I39: |__| | J39: |__| | K39: |__| | L39: |__| | N39: |__| | R39: |__| | T39: |__|
A40: =A39+1 -> 7 | E40: |__|__| | F40: |__|__| | G40: |__|__|__|__| | H40: |__|__| | I40: |__| | J40: |__| | K40: |__| | L40: |__| | N40: |__| | R40: |__| | T40: |__|
A41: =A40+1 -> 8 | E41: |__|__| | F41: |__|__| | G41: |__|__|__|__| | H41: |__|__| | I41: |__| | J41: |__| | K41: |__| | L41: |__| | N41: |__| | R41: |__| | T41: |__|
A42: =A41+1 -> 9 | E42: |__|__| | F42: |__|__| | G42: |__|__|__|__| | H42: |__|__| | I42: |__| | J42: |__| | K42: |__| | L42: |__| | N42: |__| | R42: |__| | T42: |__|
A43: =A42+1 -> 10 | E43: |__|__| | F43: |__|__| | G43: |__|__|__|__| | H43: |__|__| | I43: |__| | J43: |__| | K43: |__| | L43: |__| | N43: |__| | R43: |__| | T43: |__|

Sheet Flap_2
A1: 2 | B1: Caractéristiques des enfants de moins de 5 ans du ménage
A3: SUJET : TOUS LES ENFANTS DE MOINS DE 5 ANS
A4: RÉPONDANT : LE CHEF DU MÉNAGE OU LE GARDIEN DE L'ENFANT
A6: CODE ID | C6: -2.01 | D6: =C6-0.01 -> -2.02 | F6: =D6-0.01 -> -2.03 | I6: =F6-0.01 -> -2.04 | K6: =I6-0.01 -> -2.05 | N6: =K$6-0.01 -> -2.06
C7: Veuillez me communiquer le nom des enfants de 0-4 ans révolu (0 à 59 mois)vivant dans le ménage | D7: Quel est le sexe de [NOM] ? | F7: Quelle est la date de naissance de [NOM] ? | I7: Quel âge a [NOM] ? | K7: La mère de [NOM] vit-elle dans ce ménage? | N7: COPIER LE CODE D'IDENTIFICATION DE LA MÈRE
I9: (INDIQUER AUSSI LE NOMBRE EN ANNEES ET EN MOIS)
F10: SI LE RÉPONDANT NE CONNAIT PAS LE JOUR OU LE MOIS, INSCRIRE "98". S'IL NE CONNAIT PAS L'ANNÉE, APPROFONDIR EN UTILISANT UN CALENDRIER DES ÉVÉNEMENTS.
C14: INSCRIRE ICI LE PRÉNOM ET LE NOM DE FAMILLE
F18: A. | G18: B. | H18: C.
C19: NOM ET PRENOMS | D19: Masculin | E19: 1 | F19: JJ | G19: MM | H19: AAAA | I19: ANNÉES | J19: MOIS | K19: Oui 1 | L19: 1
A20: 1 | D20: Féminin | E20: 2 | F20: |__|__| | G20: |__|__| | H20: |__|__|__|__| | I20: |__|__| | J20: |__|__| | K20: Non | L20: 2 | M20: ► PASSER À L'ENFANT SUIVANT | N20: |__|
A21: =A20+1 -> 2 | D21: |__| | F21: |__|__| | G21: |__|__| | H21: |__|__|__|__| | I21: |__|__| | J21: |__|__| | K21: |__| | N21: |__|
A22: =A21+1 -> 3 | D22: |__| | F22: |__|__| | G22: |__|__| | H22: |__|__|__|__| | I22: |__|__| | J22: |__|__| | K22: |__| | N22: |__|
A23: =A22+1 -> 4 | D23: |__| | F23: |__|__| | G23: |__|__| | H23: |__|__|__|__| | I23: |__|__| | J23: |__|__| | K23: |__| | N23: |__|
A24: =A23+1 -> 5 | D24: |__| | F24: |__|__| | G24: |__|__| | H24: |__|__|__|__| | I24: |__|__| | J24: |__|__| | K24: |__| | N24: |__|
A25: =A24+1 -> 6 | D25: |__| | F25: |__|__| | G25: |__|__| | H25: |__|__|__|__| | I25: |__|__| | J25: |__|__| | K25: |__| | N25: |__|
A26: =A25+1 -> 7 | D26: |__| | F26: |__|__| | G26: |__|__| | H26: |__|__|__|__| | I26: |__|__| | J26: |__|__| | K26: |__| | N26: |__|
A27: =A26+1 -> 8 | D27: |__| | F27: |__|__| | G27: |__|__| | H27: |__|__|__|__| | I27: |__|__| | J27: |__|__| | K27: |__| | N27: |__|
A28: =A27+1 -> 9 | D28: |__| | F28: |__|__| | G28: |__|__| | H28: |__|__|__|__| | I28: |__|__| | J28: |__|__| | K28: |__| | N28: |__|
A29: =A28+1 -> 10 | D29: |__| | F29: |__|__| | G29: |__|__| | H29: |__|__|__|__| | I29: |__|__| | J29: |__|__| | K29: |__| | N29: |__|

Sheet Caract_HH_3
A1: 3 | B1: Situation économique du ménage : Revenus
A3: SUJET : UNE RÉPONSE GLOBALE PAR MÉNAGE
A4: RÉPONDANT : LE CHEF DU MÉNAGE OU LE MEMBRE DU MÉNAGE LE MIEUX INFORMÉ
A6: =-A1-0.01 -> -3.01 | B6: Y a-t-il dans le ménage quelqu'un qui est couvert par une assurance maladie ou membre d'une mutuelle de santé ? | X6: =A30-0.01 -> -3.06 | Y6: Au cours des 4 dernières semaines, est-ce que votre ménage a reçu de l'argent de la part d'amis ou de membres vivant ailleurs ?
B8: Oui | F8: 1
B9: Non | F9: 2 | H9: ► | I9: =A18 -> -3.03 | Y9: Oui | AC9: 1
Y10: Non | AC10: 2
A11: =A6-0.01 -> -3.02 | B11: Qui sont ceux qui sont couverts par une assurance maladie ou membre d'une mutuelle de santé ?
C12: a. Chef de ménage
C13: b. Epouse du CM | O13: Oui | S13: 1 | X13: =X6-0.01 -> -3.07 | Y13: Au cours des 4 dernières semaines, est-ce que votre ménage a reçu de l'argent provenant des programmes d'assistance sociale ?
C14: c. Enfants du CM | O14: Non | S14: 2
C15: d. Tous
C16: e. Autre (à préciser) | Y16: Oui | AC16: 1
Y17: Non | AC17: 2
A18: =A11-0.01 -> -3.03 | B18: Au cours des 4 dernières semaines, est-ce votre ménage a reçu/gagné de l'argent par la vente de ses produits agricoles ?
B21: Oui | F21: 1
B22: Non | F22: 2
A24: =A18-0.01 -> -3.04 | B24: Au cours des 4 dernières semaines, est-ce que votre ménage a reçu/gagné de l'argent grâce au travail rémuneré par un salaire de l'un de ses membres?
B27: Oui | F27: 1
B28: Non | F28: 2
A30: =A24-0.01 -> -3.05 | B30: Au cours des 4 dernières semaines, est-ce que votre ménage a reçu/gagné de l'argent grâce au travail non-salarié de l'un de ses membres?
AI31: ,
B33: Oui | F33: 1
B34: Non | F34: 2
A37: 3 | B37: Caractéristiques socioéconomiques du ménage : Chocs financiers liés à la santé
A39: =-3.09 -> -3.09 | B39: Au cours des 12 derniers mois, avez-vous eu des dépenses de santé excédant les moyens financiers acquis par vos revenus habituels? | X39: =K57-0.01 -> -3.13 | Y39: Au cours des 12 derniers mois, un membre de votre ménage a-t-il dû emprunter de l'argent pour couvrir des dépenses de santé ? (Emprunter de l'argent signifie que vous devrez le rembourser au bout d'un certain temps).
D42: Oui | H42: 1 | AB42: OUI | AD42: 1 | AM42: |__|
D43: Non | H43: 2 | AB43: NON | AD43: 2 | AE43: ► | AF43: =X49 -> -3.16
A45: =A39-0.01 -> -3.1 | B45: Au cours des 12 derniers mois, un membre de votre ménage a-t-il dû vendre des terrains, des bâtiments, du matériel agricole, du bétail, des réserves alimentaires ou d'autres possessions pour faire face à des dépenses de santé ? | X45: =X39-0.01 -> -3.14 | Y45: Au total, combien avez-vous emprunté pour payer les frais de santé au cours des 12 derniers mois ?
AF47: MONTANT EN CDF : | AG47: |___|___|___|___|___|___|___|
C49: APPROFONDIR : LES DÉPENSES DE SANTÉ COMPRENNENT LES FACTURES DES FORMATINS SANITAIRES, LES HONORAIRES DES MÉDECINS, L'ACHAT DES MÉDICAMENTS, LES FRAIS DE CHAMBRE OU DE TRANSPORT POUR SE RENDRE DANS UNE FORMATION SANITAIRE, LES FRAIS LIÉS AUX SOINS HABITUELS, ETC... | X49: =X45-0.02 -> -3.16 | Y49: Au cours des 12 derniers mois un membre de votre ménage a-t-il du utiliser un emprunt fait dans un autre objectif mais utiliser pour les dépenses de santé ?
AB51: Oui | AD51: 1 | AM51: |__|
AB52: Non | AD52: 2 | AE52: ► | AF52: =X58 -> -3.19
D54: Oui | H54: 1 | X54: =X49-0.01 -> -3.17 | Y54: Au total, combien d'argent d'un autre crédit avez-vous utilisé pour payer des frais de santé au cours des 12 derniers mois ?
D55: Non | H55: 2 | I55: ► | J55: =X39 -> -3.13
AF56: MONTANT EN CDF : | AG56: |___|___|___|___|___|___|___|
H57: =A45-0.01 -> -3.11 | K57: =H57- 0.01 -> -3.12
H58: Avez-vous dû vendre [BIEN] ? | K58: Au total, quelle est la somme que vous avez obtenue ? | X58: =X54-0.02 -> -3.19 | Y58: Au cours des 12 derniers mois, un membre de votre ménage a-t-il reçu de l'argent en cadeau, pour l'aider à payer des soins de santé ? Il peut s'agir d'une aide de votre communauté pour votre ménage afin de l'aider à payer des factures, mais aussi de cadeaux de membres de votre famille qui n'habitent pas dans votre ménage et autres assistances pour vous aider à payer des soins de santé.
H61: OUI | J61: 1
H62: NON | J62: 2 | K62: MONTANT EN CDF
...

Sheet Biens_4
A1: 4 | B1: Biens du ménage
A2: SUJET : UNE RÉPONSE GLOBALE PAR MÉNAGE
A3: RÉPONDANT : LE CHEF DU MÉNAGE OU LE MEMBRE DU MÉNAGE LE MIEUX INFORMÉ
A4: Partie A : Biens durables | M4: Partie B : Biens immobiliers
A6: CODE DES BIENS DURABLES | B6: BIENS DURABLES | E6: =-A1-0.01 -> -4.01 | L6: =E6-0.02 -> -4.03 | N6: Votre ménage est-il propriétaire d'une parcelle sur laquelle cette habitation est construite (possession signifie que vous pouvez par example le vendre et en tirer de l'argent) ?
E7: Combien de [BIENS DURABLES] votre ménage possède-t-il ?
O8: OUI | Q8: 1 | W8: |__|
O9: NON | Q9: 2 | R9: ► | S9: =L16 -> -4.05
L11: =L6-0.01 -> -4.04 | N11: Quelle est la superficie de cette parcelle ?
O12: UNITÉ DE SURFACE : | V12: SUPERFICIE | W12: |___|___|___| | AF12: UNITÉ DE SURFACE : | AG12: |__| | AH12: |__|
O13: MÈTRE CARRÉ | R13: 1
E14: N'INSCRIRE QUE LES BIENS QUI FONCTIONNENT | O14: HECTARE | R14: 2
L16: =L11-0.01 -> -4.05 | N16: Sans tenir compte de cette résidence, votre ménage possède-t-il du terrain/champ?
O17: OUI | Q17: 1
E18: SI CE N'EST PAS LE CAS, INSCRIRE 0 PASSER AUX BIENS DURABLE SUIVANT | O18: NON | Q18: 2 | R18: ► | S18: =Q29 -> -4.07 | AG18: |__|
L20: =L16-0.01 -> -4.06 | N20: Quelle est la superficie de cet(s) autre(s) terrain(s)/champ que possède votre ménage ?
O22: UNITÉ DE SURFACE : | V22: SUPERFICIE | W22: |___|___|___| | AF22: UNITÉ DE SURFACE : | AG22: |__| | AH22: |__|
E23: NOMBRE | O23: MÈTRE CARRÉ | Q23: 1
A24: 1 | B24: Radio | E24: |___|___| | O24: HECTARE | Q24: 2
A25: 6 | B25: Lampe à pétrole / Pile | E25: |___|___|
A26: 7 | B26: Lit/matelas | E26: |___|___|
A27: 8 | B27: Moustiquaires | E27: |___|___| | L27: Partie C : Elevage
A28: 12 | B28: Téléphone portable | E28: |___|___|
A29: 14 | B29: Moto | E29: |___|___| | L29: CODE DES ANIMAUX | M29: ANIMAL | Q29: =L20-0.01 -> -4.07 | S29: =S25-0.01 -> -0.01 | U29: =U25-0.01 -> -0.01
A30: 15 | B30: Bicyclette | E30: |___|___| | Q30: Combien de [ANIMAUX] votre ménage possède-t-il ?
A31: 16 | B31: Camionnette ou voiture | E31: |___|___|
A32: 20 | B32: Houes/herses/haches | E32: |___|___|
A33: 21 | B33: Groupe électrogène | E33: |___|___| | Q33: SI PAS DE [ANIMAL], INSCRIRE 0 PUIS PASSER À L'ANIMAL SUIVANT
A34: 22 | B34: Panneau solaire | E34: |___|___|
A35: 28 | B35: Pirogue | E35: |___|___|
A36: 31 | B36: Table à manger | E36: |___|___|
A37: 33 | B37: Chaises | E37: |___|___|
Q38: NOMBRE
L39: 1 | M39: Chèvre | Q39: |___|___| |___|___|___|
L40: =1+L39 -> 2 | M40: Mouton | Q40: |___|___| |___|___|___|
L41: 3 | M41: Porc | Q41: |___|___| |___|___|___|
L42: 4 | M42: Volaille | Q42: |___|___| |___|___|___|
L43: 5 | M43: Boeufs | Q43: |___|___| |___|___|___|
L44: =L43+1 -> 6 | M44: Autres, specifiez: | Q44: |___|___| |___|___|___|

Sheet Services_sante_5
A1: 5 | B1: Services de santé: appréciation des formations les plus frequentées et les plus proches
V2: =A61-0.01 -> -5.05 | W2: Quelle formation sanitaire (hôpital, centre de santé, etc.) frequentez-vous le plus souvent ?
A3: SUJET : UNE RÉPONSE GLOBALE PAR MÉNAGE
A4: RÉPONDANT : LE CHEF DU MÉNAGE OU LE MEMBRE DU MÉNAGE LE MIEUX INFORMÉ | W4: Nom de la formation sanitaire | AK4: Code
W5: ………………………………………………………………………….
A6: =-A1-0.01 -> -5.01 | B6: Quelle est la formation sanitaire (hôpital, Centre de Santé, Poste de santé) la plus proche de votre ménage ? | W6: SI LA FOSA EST LA MEME QUE CELLE LA PLUS PROCHE, ALLEZ AU (5,11)
V7: =V2-0.01 -> -5.06 | W7: Quel est le type de cette formation sanitaire ?
B8: Nom de la formation sanitaire | P8: Code | W8: Hôpital général de référence | AK8: 1
B9: …………………………………………………………………………. | W9: Centre de santé de référence | AK9: 3
W10: Centre de santé | AK10: 2
A11: (5,01)a | B11: De quel type de formation sanitaire s'agit-il? | W11: Poste de santé | AK11: 4
B12: Hôpital général de référence | O12: 1 | W12: Autre (préciser) | AK12: 97
B13: Centre de santé de référence | O13: 3
B14: Centre de santé | O14: 2 | V14: =V7-0.01 -> -5.07 | W14: Quel est le statut de cette formation sanitaire ?
B15: Poste de santé | O15: 4 | W15: Public | AK15: 1
B16: Autre (préciser) | O16: 97 | W16: Privé à but lucratif | AK16: 2
W17: Privé à but non-lucratif | AK17: 3
A18: (5,01)b | B18: Quel est le statut de cette formation sanitaire? | W18: Confessionel | AK18: 4
B19: Public | O19: 1 | W19: Parapublic (État-confessionel, État-Privé) | AK19: 5
B20: Privé à but lucratif | O20: 2
B21: Privé à but non-lucratif | O21: 3 | V21: (5,07)a | W21: Combien de temps faut-il pour se rendre à cette formation sanitaire?
B22: Confessionel | O22: 4 | AK22: |__|__|__| minutes
B23: Parapublic (État-confessionel, État-Privé) | O23: 5
V24: (5,07)b | W24: En général, quel mode de transport utilisez-vous pour vous rendre à cette formation sanitaire?
A25: (5,01)c | B25: Combien de temps faut-il pour se rendre à cette formation sanitaire? | W25: À pied | AJ25: 1
P26: |__|__|__| minutes | W26: En voiture ou en camionette | AJ26: 2
W27: À moto | AJ27: 3
A28: (5,01)d | B28: En général, quel mode de transport utilisez-vous pour vous rendre à cette formation sanitaire? | W28: À vélo | AJ28: 4
B29: À pied | O29: 1 | W29: En pirogue | AJ29: 5
B30: En voiture ou en camionette | O30: 2 | W30: En hors bord | AJ30: 6
B31: À moto | O31: 3 | W31: Une combinaison de moyens de transport ou autre (préciser) | AJ31: 97
B32: À vélo | O32: 4
B33: En pirogue | O33: 5 | W33: Quelle appréciation faites-vous des aspects suivants de cette formation sanitaire ? | AK33: Très bon | AN33: 1
B34: En hors bord | O34: 6 | V34: =V14-0.01 -> -5.08 | AK34: Bon | AN34: 2
B35: Une combinaison de moyens de transport ou autre (préciser) | O35: 97 | AK35: Passable | AN35: 3
AK36: Mauvais | AN36: 4
A37: =A6-0.01 -> -5.02 | B37: Quelle appréciation faites-vous des aspects suivants de cette formation sanitaire ? | P37: Très bon | S37: 1 | AK37: Très mauvais | AN37: 5
P38: Bon | S38: 2 | W38: Les horaires d'ouverture de la formation sanitaire
P39: Passable | S39: 3 | W39: La propreté, le confort des salles/du lieu de soin
P40: Mauvais | S40: 4 | W40: Matériel pour être examiné / soigné
...

Sheet 20COVID
B1: 20 | D1: COVID
B3: SUJET : UNE RÉPONSE GLOBALE PAR MÉNAGE
B4: RÉPONDANT : LE CHEF DU MÉNAGE OU LE MEMBRE DU MÉNAGE LE MIEUX INFORMÉ
B6: CODE ID | D6: =-B1-0.01 -> -20.01 | H6: =D6-0.01 -> -20.02 | R6: =H6-0.01 -> -20.03 | AA6: =R6-0.01 -> -20.04 | AJ6: =AA6-0.01 -> -20.05
D7: Avez-vous entendu parlé du coronavirus? | H7: Quelles mesures connaissez-vous pour réduire le risque de contracter le coronavirus ? ENQUETEUR: NE PAS LIRE LES REPONSES. SELECTIONNEZ TOUTES LES REPONSES QUI S'APPLIQUENT. | R7: Quelles mesures le gouvernement ou les autorités locales ont-ils prises pour réduire la propagation du virus dans votre localité/région? | AA7: Depuis le début de la pandémie de COVID19, avez-vous adopté les comportements suivants? ENQUETEUR: LISTER LES MODALITES. | AJ7: Globalement, depuis le début de la pandémie de COVID19 votre revenu total:
R9: ENQUETEUR: NE PAS LIRE LES REPONSES. SELECTIONNEZ TOUTES LES REPONSES QUI S'APPLIQUENT.
H10: (a) Se laver les mains | I10: (b) Utiliser du désinfectant | J10: (c) Aucune poignée de main/ salutations | K10: (d) Porter un masque | L10: (e) Porter des gants | M10: (f) Eviter les voyages | N10: (g) Eviter les rassemblements | O10: (h) Respecter la disctanciation sociale | P10: (i) En cas de toux ou d'éternuement, couvrez-vous le nez et la bouche avec le pli du coude ou avec un mouchoir | Q10: (j) Autre (spécifier) | R10: (a) Prière de rester à la maison | S10: (b) Restrictions pour les déplacements dans le pays | T10: (d) Fermeture des écoles et des universités | U10: (e) Couvre-feu | V10: (f) Confinement obligatoire | W10: (g) Fermeture de toute activité non-essentielle | X10: (h) Fermeture des marchés | Y10: (i) Interdiction des rassemblements | Z10: (i) Autre (spécifier) | AA10: (a) Se laver les mains | AB10: (b) Utiliser du désinfectant | AC10: (c) Aucune poignée de main/ salutations | AD10: (d) Porter un masque | AE10: (e) Porter des gants | AF10: (f) Eviter les voyages | AG10: (g) Eviter les rassemblements | AH10: (h) Respecter la disctanciation sociale | AI10: (i) En cas de toux ou d'éternuement, couvrez-vous le nez et la bouche avec le pli du coude ou avec un mouchoir
AJ19: a augmenté | AN19: 1
D20: OUI | E20: 1 | H20: OUI 1 | I20: OUI 1 | J20: OUI 1 | K20: OUI 1 | L20: OUI 1 | M20: OUI 1 | N20: OUI 1 | O20: OUI 1 | P20: OUI 1 | Q20: OUI 1 | R20: OUI 1 | S20: OUI 1 | T20: OUI 1 | U20: OUI 1 | V20: OUI 1 | W20: OUI 1 | X20: OUI 1 | Y20: OUI 1 | Z20: OUI 1 | AA20: OUI 1 | AB20: OUI 1 | AC20: OUI 1 | AD20: OUI 1 | AE20: OUI 1 | AF20: OUI 1 | AG20: OUI 1 | AH20: OUI 1 | AI20: OUI 1 | AJ20: est resté le même | AN20: 2
D21: NON | E21: 2 | F21: ► | G21: Section suivante | H21: NON 2 | I21: NON 2 | J21: NON 2 | K21: NON 2 | L21: NON 2 | M21: NON 2 | N21: NON 2 | O21: NON 2 | P21: NON 2 | Q21: NON 2 | R21: NON 2 | S21: NON 2 | T21: NON 2 | U21: NON 2 | V21: NON 2 | W21: NON 2 | X21: NON 2 | Y21: NON 2 | Z21: NON 2 | AA21: NON 2 | AB21: NON 2 | AC21: NON 2 | AD21: NON 2 | AE21: NON 2 | AF21: NON 2 | AG21: NON 2 | AH21: NON 2 | AI21: NON 2 | AJ21: a diminué | AN21: 3
B29: 1
B30: =B29+1 -> 2
B31: =B30+1 -> 3
B32: =B31+1 -> 4
B33: =B32+1 -> 5
B34: =B33+1 -> 6
B35: =B34+1 -> 7
B36: =B35+1 -> 8
B37: =B36+1 -> 9
B38: =B37+1 -> 10
B39: =B38+1 -> 11
B40: =B39+1 -> 12
B41: =B40+1 -> 13
... B48: =B47+1 -> 20

Sheet 09 Woman Health
A1: 9 | B1: Statut de Santé | AJ1: Statut de Santé | AK1: 9 Statut de Santé et Utilisation de service de santé | BI1: Statut de Santé | BJ1: 9 Statut de Santé et Utilisation de service de santé
C2: OBJET : TOUTES FEMMES 15 à 49 ANS DANS LE MÉNAGE
C3: RÉPONDANT : ELLE-MÊME
C4: Enqueteur : Prière de demander à la femme de trouver un espace privé dans la concession
N5: HANDICAP ET MALADIES CHRONIQUES | W5: ASSURANCE | Y5: MALADIE AIGUË | AK5: MALADIE AIGUË | AN5: RECHERCHE DE SOINS, DERNIÈRE VISITE | BJ5: DÉPENSES
A6: CODE ID | C6: =-A1-0.01 -> -9.01 | D6: (9,01a) | H6: (9,01b) | L6: =C6-0.01 -> -9.02 | N6: =L6-0.01 -> -9.03 | R6: =N6-0.01 -> -9.04 | U6: =R6-0.01 -> -9.05 | W6: =U6-0.01 -> -9.06 | Y6: =W6-0.01 -> -9.07 | AC6: =Y6-0.01 -> -9.08 | AG6: =AC6-0.01 -> -9.09 | AI6: CODE ID | AK6: =AG6-0.01 -> -9.1 | AN6: =AK6-0.01 -> -9.11 | AR6: =AN6-0.01 -> -9.12 | AU6: =AR6-0.01 -> -9.13 | AZ6: =AU6-0.01 -> -9.14 | BC6: =AZ6-0.02 -> -9.16 | BF6: =BC6-0.01 -> -9.17 | BH6: CODE ID | BJ6: =BF6-0.01 -> -9.18
C7: CODE D'IDENTIFICATION DE LA FEMME | D7: Pensez-vous que [NOM] est en état ou a la capacité de répondre aux questions concernant sa santé? ENQUÊTEUR: ÉCHANGER AVEC LE CHEF DE MÉNAGE OU LE MEMBRE LE PLUS INFORMÉ DU MÉNAGE | H7: Aujourd'hui, nous allons nous entretenir avec vous concernant votre état de santé. Nous vous assurons que cette entretien restera privé et que les informations que vous allez fournir resteront confidentielles. Acceptez-vous cet entretien ? | L7: Comment a été votre état de santé durant les 12 derniers mois ? | N7: Souffrez-vous d'handicap ou de maladies chroniques ? | R7: De quel handicap ou maladie chronique souffrez-vous principalement? | U7: Étant donnée votre santé actuelle , comment êtes-vous en mesure d'effectuer vos activités quotidiennes (travail, école, etc.) ? | W7: Etes-vous présentement couvert (e) par une assurance maladie? | Y7: Au cours des 4 dernières semaines, avez-vous été malade, ou souffrez-vous d'une maladie ou blessure, en dehors des handicaps ou des maladies chroniques ? | AC7: Connaissez-vous le nom de votre maladie? | AG7: Si oui, quellle est-elle? | AK7: Qui vous a dit le nom de votre maladie ? | AN7: Avez-vous effectué une quelconque démarche pour vous soignez que ce soit chez un guérisseur, de l'automédication ou une consultation dans une formation sanitaire ? | AR7: Combien de temps après le début de votre maladie avez-vous attendu avant de chercher à se faire soigner pour la 1ère fois ? | AU7: Quel type de recours avez-vous choisi et dans quel ordre ? | AZ7: Dans quel village/quartier avez-vous cherché premièrement à se faire soigner ? | BC7: S'IL S'AGIT D'UN HÔPITAL, D'UN CENTRE DE SANTÉ OU D'UN POSTE DE SANTÉ OU CLINIQUE, APPROFONDIR POUR OBTENIR LE NOM DE CET ÉTABLISSEMENT ET INSCRIRE SON CODE. | BF7: Pourquoi ne vous-êtes-vous pas rendu(e) dans un établissement de santé ou n'avez-vous pas vu du personnel médical pour vous faire soigner ? | BJ7: Au cours des 4 dernières semaines, quel est le montant dépensé par votre ménage de sa propre poche pour traiter votre maladie? Plus spécifiquement, combien votre ménage a-t-il dépensé pour…
R9: HANDICAPS | BF9: TROP CHER | BG9: 1
R10: HANDICAP PHYSIQUE | T10: 1 | BF10: TROP LOIN | BG10: 2
R11: HANDICAP MENTAL | T11: 2 | BF11: TROP OCCUPÉ(E) (TRAVAIL, ENFANTS) | BG11: 3
R12: CÉCITÉ | T12: 3 | AG12: ENQUÊTEUR : ÉCRIRE CI-DESSOUS LE CODE CORRESPONDANT À LA MALADIE MENTIONNÉE PAR LE RÉPONDANT | BF12: N'ÉTAIT PAS SUFFISAMMENT MALADE | BG12: 4
R13: SURDITÉ/MUTITÉ | T13: 4 | AU13: Formation sanitaire | AW13: 1 | BF13: ETAT PHYSIQUE DU BATIMENT N' INSPIRANT PAS CONFIANCE | BG13: 5 | BJ13: INSCRIRE 00 SI PAS DE DÉPENSE
R14: AUTRE HANDICAP | T14: 5 | AU14: Tradipraticien | AW14: 2 | AX14: ► | AY14: =$BF$6 -> -9.17 | BF14: L'ÉTABLISSEMENT A DES STOCKS MEDICAMENTS INSUFFISANTS | BG14: 6
AU15: Automédication moderne | AW15: 3 | AX15: ► | AY15: =$BF$6 -> -9.17 | AZ15: NOTER 99 SI VILLAGE HORS ZONE DE LA SANTÉ | BF15: MAUVAISE ATTITUDE DU PERSONNEL | BG15: =BG14+1 -> 7 | BJ15: Pouvez-vous me montrer l'ordonnance ou le carnet de vaccination ?
R16: MALADIE CHRONIQUE | AU16: Automédication traditionnelle | AW16: 4 | AX16: ► | AY16: =$BF$6 -> -9.17 | BF16: NE CONNAIT AUCUN MEMBRE DU PERSONNEL | BG16: =BG15+1 -> 8
R17: TROUBLE CARDIAQUE | T17: 6 | AU17: Médecine asiatique | AW17: 5 | AX17: ► | AY17: =$BF$6 -> -9.17 | BF17: NE FAIT PAS CONFIANCE AU PERSONNEL | BG17: =BG16+1 -> 9 | BJ17: LIRE À HAUTE VOIX CHAQUE CATÉGORIE
R18: DIABÈTE | T18: 7 | AU18: Agent de santé communautaire | AW18: 6 | AX18: ► | AY18: =$BF$6 -> -9.17 | BC18: ENQUÊTEUR: APRÉS RÉPONSE | BF18: PERSONNEL HABITUELLEMENT ABSENT | BG18: =BG17+1 -> 10
R19: ÉPILEPSIE | T19: 8 | AU19: Prière de guérison | AW19: 7 | AX19: ► | AY19: =$BF$6 -> -9.17 | BD19: ► | BE19: =BJ6 -> -9.18 | BF19: ÉTABLISSEMENT DE SANTÉ FERMÉ | BG19: =BG18+1 -> 11
R20: ASTHME | T20: 9 | AU20: Autre, préciser | AW20: 8 | AX20: ► | AY20: =$BF$6 -> -9.17 | BF20: PAS DE TRANSPORT | BG20: =BG19+1 -> 12
R21: ULCERES GASTRIQUES | T21: 10 | BF21: MAUVAISE QUALITÉ DES SOINS | BG21: =BG20+1 -> 13 | BJ21: A. | BK21: B. | BL21: C. | BM21: D. | BN21: E | BO21: F
R22: INCONTINENCE URINAIRE | T22: 11 | BF22: HORAIRES PEU PRATIQUES | BG22: =BG21+1 -> 14 | BJ22: Frais de consultation officiels | BK22: Frais de laboratoire/radiographie et de chirurgie | BL22: Autres paiements (frais non réglementaires,etc) | BM22: Transports | BN22: Médicaments | BO22: Montant total des frais de santé
D23: OUI | E23: 1 | H23: OUI | I23: 1 | L23: Très bon | M23: 1 | N23: OUI | O23: 1 | R23: CANCER | T23: 12 | U23: AISÉMENT | V23: 1 | W23: OUI | X23: 1 | Y23: OUI | Z23: 1 | AC23: OUI | AD23: 1 | AK23: ÉVIDENT (Cas d'accident) | AL23: 1 | AN23: OUI | AO23: 1 | AR23: DANS LES 24 HEURES | AT23: 1 | BF23: LONGUES ATTENTES | BG23: 15
D24: NON | E24: 2 | F24: ► | G24: SECTION 16 | H24: NON | I24: 2 | J24: ► | K24: SECTION 16 | L24: Bon | M24: 2 | N24: NON | O24: 2 | P24: ► | Q24: =W6 -> -9.06 | R24: VIH/SIDA | T24: 13 | U24: DIFFICILEMENT | V24: 2 | W24: NON | X24: 2 | Y24: NON 2 | AA24: ► | AB24: SECTION SUIVANTE | AC24: NON | AD24: 2 | AE24: ► | AF24: =AN6 -> -9.11 | AN24: NON | AO24: 2 | AP24: ► | AQ24: =BF6 -> -9.17 | BF24: INSECURITE | BG24: 16
L25: Moyen | M25: 3 | R25: TUBERCULOSE | T25: 14 | U25: TRES DIFFICILEMENT | V25: 3 | AC25: NE SAIT PAS | AD25: 98 | AE25: ► | AF25: =AN6 -> -9.11 | AK25: GUÉRISSEUR | AL25: 2 | AR25: ENTRE 24 ET 48 HEURES | AT25: 2 | AU25: ENQUÊTEUR: UTILISER LA MÊME STRUCTURE POUR LES QUESTIONS DE (9,13) À (9,17), ORDONNER LES RÉPONSES | AZ25: ` | BF25: PREFERE AUTOMEDICATION | BG25: 17
R26: HYPERTENSION ( HTA) | T26: 15 | U26: INCAPABLE DE LE FAIRE | V26: 4 | AK26: PERSONNEL DE SANTÉ | AL26: 3 | BF26: PREFERE MEDECINE TRADITIONNELLE | BG26: 18
L27: Mauvais | M27: 4 | R27: DOULEURS ARTICULAIRES | T27: 16 | AK27: MOI-MÊME | AL27: 4 | AR27: DANS LA MEME SEMAINE | AT27: 3 | BF27: ETABLISSEMENT OFFRE PLUS DES MEDICAMENTS PAR VOIE ORALE | BG27: 19
L28: Très mauvais | M28: 5 | R28: DREPANOCITOSE | T28: 17 | AK28: AUTRE PERSONNE | AL28: 97 | BF28: MANQUE D'EXAMEN DE LABORATOIRE | BG28: 20
R29: AUTRE MALADIE CHRONIQUE | T29: 97 | AR29: DANS LES 15 JOURS | AT29: 4 | AU29: 1er | AV29: 2ème | AX29: 3ème | AZ29: Code 1er VILLAGE | BA29: Code 2e VILLAGE | BB29: Code 3e VILLAGE | BC29: Nom 1er ÉTABLISSEMENT | BD29: Nom 2e ÉTABLISSEMENT | BE29: Nom 3e ÉTABLISSEMENT | BF29: AUTRE 97 APRÉS RÉPONSE ► | BG29: ='10Preg'!D6 -> -10 | BJ29: CDF | BK29: CDF | BL29: CDF | BM29: CDF | BN29: CDF | BO29: CDF
R30: A | S30: B | T30: C | BF30: ENQUÊTEUR : POUR LES RÉPONSES AUTRES, PRCISER ICI NB: Il faut toujours préciser si la réponse est "Autre". | BG30: CODE RÉPONSE
A31: 1 | AI31: 1 | AK31: |__|__| | AN31: |___| | AR31: DANS LES 3 SEMAINES | AT31: 5 | BG31: |___|___| | BH31: 1 | BJ31: |__|__||__|__|__||__|__|__| | BK31: |__|__||__|__|__||__|__|__| | BL31: |__|__||__|__|__||__|__|__| | BM31: |__|__||__|__|__||__|__|__| | BN31: |__|__||__|__|__||__|__|__| | BO31: |__|__||__|__|__||__|__|__|
A32: =A31+1 -> 2 | AI32: =AI31+1 -> 2 | AK32: |__|__| | AN32: |___| | BC32: Code 1er ÉTABLISSEMENT | BD32: Code 2eme ÉTABLISSEMENT | BE32: Code 3eme ÉTABLISSEMENT | BG32: |___|___| | BH32: =BH31+1 -> 2 | BJ32: |__|__||__|__|__||__|__|__| | BK32: |__|__||__|__|__||__|__|__| | BL32: |__|__||__|__|__||__|__|__| | BM32: |__|__||__|__|__||__|__|__| | BN32: |__|__||__|__|__||__|__|__| | BO32: |__|__||__|__|__||__|__|__|
A33: =A32+1 -> 3 | AI33: =AI32+1 -> 3 | AK33: |__|__| | AN33: |___| | AR33: PLUS DE 3 SEMAINES | AT33: 6 | BG33: |___|___| | BH33: =BH32+1 -> 3 | BJ33: |__|__||__|__|__||__|__|__| | BK33: |__|__||__|__|__||__|__|__| | BL33: |__|__||__|__|__||__|__|__| | BM33: |__|__||__|__|__||__|__|__| | BN33: |__|__||__|__|__||__|__|__| | BO33: |__|__||__|__|__||__|__|__|
A34: =A33+1 -> 4 | AI34: =AI33+1 -> 4 | AK34: |__|__| | AN34: |___| | BG34: |___|___| | BH34: =BH33+1 -> 4 | BJ34: |__|__||__|__|__||__|__|__| | BK34: |__|__||__|__|__||__|__|__| | BL34: |__|__||__|__|__||__|__|__| | BM34: |__|__||__|__|__||__|__|__| | BN34: |__|__||__|__|__||__|__|__| | BO34: |__|__||__|__|__||__|__|__|
A35: =A34+1 -> 5 | AI35: =AI34+1 -> 5 | AK35: |__|__| | AN35: |___| | AR35: |___| | BG35: |___|___| | BH35: =BH34+1 -> 5 | BJ35: |__|__||__|__|__||__|__|__| | BK35: |__|__||__|__|__||__|__|__| | BL35: |__|__||__|__|__||__|__|__| | BM35: |__|__||__|__|__||__|__|__| | BN35: |__|__||__|__|__||__|__|__| | BO35: |__|__||__|__|__||__|__|__|
A36: =A35+1 -> 6 | AI36: =AI35+1 -> 6 | AK36: |__|__| | AN36: |___| | AR36: |___| | BG36: |___|___| | BH36: =BH35+1 -> 6 | BJ36: |__|__||__|__|__||__|__|__| | BK36: |__|__||__|__|__||__|__|__| | BL36: |__|__||__|__|__||__|__|__| | BM36: |__|__||__|__|__||__|__|__| | BN36: |__|__||__|__|__||__|__|__| | BO36: |__|__||__|__|__||__|__|__|
A37: =A36+1 -> 7 | AI37: =AI36+1 -> 7 | AK37: |__|__| | AN37: |___| | AR37: |___| | BG37: |___|___| | BH37: =BH36+1 -> 7 | BJ37: |__|__||__|__|__||__|__|__| | BK37: |__|__||__|__|__||__|__|__| | BL37: |__|__||__|__|__||__|__|__| | BM37: |__|__||__|__|__||__|__|__| | BN37: |__|__||__|__|__||__|__|__| | BO37: |__|__||__|__|__||__|__|__|
A38: =A37+1 -> 8 | AI38: =AI37+1 -> 8 | AK38: |__|__| | AN38: |___| | AR38: |___| | BG38: |___|___| | BH38: =BH37+1 -> 8 | BJ38: |__|__||__|__|__||__|__|__| | BK38: |__|__||__|__|__||__|__|__| | BL38: |__|__||__|__|__||__|__|__| | BM38: |__|__||__|__|__||__|__|__| | BN38: |__|__||__|__|__||__|__|__| | BO38: |__|__||__|__|__||__|__|__|
A39: =A38+1 -> 9 | AI39: =AI38+1 -> 9 | AK39: |__|__| | AN39: |___| | AR39: |___| | BG39: |___|___| | BH39: =BH38+1 -> 9 | BJ39: |__|__||__|__|__||__|__|__| | BK39: |__|__||__|__|__||__|__|__| | BL39: |__|__||__|__|__||__|__|__| | BM39: |__|__||__|__|__||__|__|__| | BN39: |__|__||__|__|__||__|__|__| | BO39: |__|__||__|__|__||__|__|__|
A40: =A39+1 -> 10 | AI40: =AI39+1 -> 10 | AK40: |__|__| | AN40: |___| | AR40: |___| | BG40: |___|___| | BH40: =BH39+1 -> 10 | BJ40: |__|__||__|__|__||__|__|__| | BK40: |__|__||__|__|__||__|__|__| | BL40: |__|__||__|__|__||__|__|__| | BM40: |__|__||__|__|__||__|__|__| | BN40: |__|__||__|__|__||__|__|__| | BO40: |__|__||__|__|__||__|__|__|
A41: =A40+1 -> 11 | AI41: =AI40+1 -> 11 | AK41: |__|__| | AN41: |___| | AR41: |___| | BG41: |___|___| | BH41: =BH40+1 -> 11 | BJ41: |__|__||__|__|__||__|__|__| | BK41: |__|__||__|__|__||__|__|__| | BL41: |__|__||__|__|__||__|__|__| | BM41: |__|__||__|__|__||__|__|__| | BN41: |__|__||__|__|__||__|__|__| | BO41: |__|__||__|__|__||__|__|__|
...

Sheet 10Preg
A1: 10 | B1: Dossier Grossesse | AN1: 10 | AO1: Dossier Grossesse
D3: OBJET : TOUTES FEMMES 15 à 49 ANS DANS LE MÉNAGE
D4: RÉPONDANT : ELLE-MÊME
A6: CODE ID | D6: -10 | E6: =-A1-0.01 -> -10.01 | I6: =E6-0.01 -> -10.02 | M6: =I6-0.01 -> -10.03 | N6: =M6-0.01 -> -10.04 | R6: =N6-0.01 -> -10.05 | T6: =R6-0.01 -> -10.06 | X6: =T6-0.01 -> -10.07 | Z6: =X6-0.01 -> -10.08 | AD6: =Z6-0.01 -> -10.09 | AH6: =AD6-0.01 -> -10.1 | AK6: =AH6-0.01 -> -10.11 | AN6: CODE ID | AP6: =AK6-0.01 -> -10.12 | AR6: =AP6-0.01 -> -10.13 | AV6: =AR6-0.01 -> -10.14 | AX6: =AV6-0.01 -> -10.15 | BB6: =AX6-0.01 -> -10.16 | BC6: =BB6-0.01 -> -10.17 | BE6: =BC6-0.01 -> -10.18 | BI6: =BE6-0.01 -> -10.19 | BJ6: =BI6-0.01 -> -10.2 | BL6: =BJ6-0.01 -> -10.21
D7: Quel âge avez-vous? | E7: Avez-vous déjà été enceinte? | I7: Êtes-vous enceinte en ce moment ? | M7: De combien de mois êtes-vous enceinte ? | N7: Avez-vous des enfants auxquels vous avez donné naissance et qui vivent aujourd'hui avec vous ? | R7: A. | S7: B. | T7: Avez-vous des enfants auxquels vous avez donné naissance, qui sont encore en vie mais qui ne vivent pas aujourd'hui avec vous ? | X7: A. | Y7: B. | Z7: Madame/Mademoiselle, je comprends parfaitement que c’est difficile d’en parler, mais c’est très important pour nous de savoir/comprendre si cet événement est rare ou commun afin de permettre à l’État et ses partenaires de prendre de bonnes décisions. A cet effet, vous voudriez bien nous dire s’il vous est déjà arrivé de donner naissance à un enfant qui est né (e) en vie mais qui est mort par la suite ? | AD7: APPROFONDIR: Est-ce qu’il vous est déjà arrivé de donner naissance à un enfant qui a pleuré quand il/elle est né (e), mais qui est décédé par après ? | AH7: A. | AI7: B. | AK7: A. | AL7: B. | AP7: Veuillez confirmer que le nombre total d'enfants auxquels vous avez donné naissance s'élève à... [NOMBRE EN QUESTION] | AR7: EST-CE QUE LE NOMBRE DE BÉBÉS NÉS EN VIE | AV7: Quand avez-vous donné naissance pour la dernière fois à un enfant en vie ? | AX7: Avez-vous déjà eu une grossesse qui s'est terminée par un enfant mort-né, c'est-à-dire une grossesse d'au mois 28 semaines mais dont le bébé est mort avant sa naissance ? | BB7: Combien de grossesses se sont-elles terminées par un enfant mort-né ? | BC7: Quand avez-vous eu pour la dernière fois un enfant mort-né ? | BE7: Avez-vous déjà eu une grossesse qui s'est terminée par une fausse couche ou un avortement ? | BI7: Combien de grossesses se sont-elles terminées par une fausse couche ou un avortement ? | BJ7: Quand avez-vous eu pour la dernière fois une fausse couche ou un avortement ? | BL7: FEMMES DE 15-49 ANS AYANT EU AU MOINS UNE NAISSANCE VIVANTE, UN MORT-NÉ, UNE FAUSSE COUCHE/AVORTEMENT AU COURS DES 2 DERNIÈRES ANNÉES (ENTRE 2018 ET 2020)
R8: Combien de fils vivent avec vous ? | S8: ` | X8: Combien de fils vivent ailleurs ? | Y8: Combien de filles vivent ailleurs ? | AD8: APPROFONDISSEZ : | AH8: Combien de fils sont morts ? | AI8: Combien de filles sont mortes ? | AK8: TOTALISER LES RÉPONSES DE
D12: INDIQUER LE NOMBRE D'ANNEES | AR12: =AK6 -> -10.11
AR13: EST AU MOINS ÉGAL A UN?
AK15: =R6 -> -10.05
AK16: =X6 -> -10.07 | BL16: VÉRIFIEZ LES INFORMATIONS A
AK17: =AH6 -> -10.1 | AP17: =AK6 -> -10.11
AK19: ENTRER TOTAL ICI. S'IL N'Y EN A PAS EU, INSCRIRE 00. | AP19: Nombre: | AQ19: |__|__|
AP20: APPROFONDIR SI INCORRECT ET CORRIGER SI BESOIN | BL20: =AV6 -> -10.14
BL21: =BC6 -> -10.17
BL22: =BJ6 -> -10.2
E23: ENQUETEUR: VÉRIFIER QUE LA RÉPONSE CORRESPOND À LA RÉPONSE DONNÉE EN 104a ("Est-ce que [NOM] a été enceinte au cours de 24 derniers mois?") | AV23: MOIS NON CONNU…...98 | BC23: MOIS NON CONNU…...98 | BJ23: MOIS NON CONNU…...98 | BL23: ENQUETEUR: VÉRIFIER QUE LA RÉPONSE CORRESPOND À LA RÉPONSE DONNÉE EN 104a ("Est-ce que [NOM] a été enceinte au cours de 24 derniers mois?")
E24: OUI | F24: 1 | I24: OUI | J24: 1 | N24: OUI | O24: 1 | T24: OUI | U24: 1 | Z24: OUI | AA24: 1 | AB24: ► | AC24: =AH6 -> -10.1 | AD24: OUI | AE24: 1 | AR24: OUI | AS24: 1 | AX24: OUI | AY24: 1 | BE24: OUI | BF24: 1 | BL24: OUI | BM24: 1
B25: 1 | E25: NON | F25: 2 | G25: ► | H25: =BE6 -> -10.18 | I25: NON | J25: 2 | K25: ► | L25: =N6 -> -10.04 | N25: NON | O25: 2 | P25: ► | Q25: =T6 -> -10.06 | T25: NON | U25: 2 | V25: ► | W25: =Z6 -> -10.08 | Z25: NON | AA25: 2 | AD25: NON | AE25: 2 | AF25: ► | AG25: =AK6 -> -10.11 | AR25: NON | AS25: 2 | AT25: ► | AU25: =AX6 -> -10.15 | AX25: NON | AY25: 2 | AZ25: ► | BA25: =BE6 -> -10.18 | BE25: NON | BF25: 2 | BG25: ► | BH25: =BL6 -> -10.21 | BL25: NON | BM25: 2
I26: PAS SÛRE | J26: 3 | K26: ► | L26: =N6 -> -10.04
M27: MOIS | R27: FILS | S27: FILLES | X27: FILS | Y27: FILLES | AH27: FILS | AI27: FILLES | AK27: FILS | AL27: FILLES | AV27: MOIS | AW27: ANNÉE | BA27: ` | BB27: NOMBRE | BC27: MOIS | BD27: ANNÉE | BI27: NOMBRE | BJ27: MOIS | BK27: ANNÉE
AY28: `
A29: 1 | I29: ` | AN29: 1
A30: =A29+1 -> 2 | AN30: =AN29+1 -> 2 | AX30: `
A31: =A30+1 -> 3 | AN31: =AN30+1 -> 3
A32: =A31+1 -> 4 | AN32: =AN31+1 -> 4
A33: =A32+1 -> 5 | AN33: =AN32+1 -> 5
A34: =A33+1 -> 6 | AN34: =AN33+1 -> 6
A35: =A34+1 -> 7 | AN35: =AN34+1 -> 7
A36: =A35+1 -> 8 | AN36: =AN35+1 -> 8
A37: =A36+1 -> 9 | AN37: =AN36+1 -> 9
A38: =A37+1 -> 10 | AN38: =AN37+1 -> 10

Sheet 11Hist
A1: 11 | B1: Historique des naissances | V1: 11 | W1: Historique des naissances
A3: OBJET : TOUTES FEMMES 15 à 49 ANS DANS LE MÉNAGE | V3: =A3 -> OBJET : TOUTES FEMMES 15 à 49 ANS DANS LE MÉNAGE
A4: ENQUÊTEUR: LISTER LES NAISSANCES PAR ORDRE, DE LA PREMIÈRE À LA DERNIÈRE. LES NAISSANCES MULTIPLES SONT LISTÉES COMME DES NAISSANCES SEPARÉES | V4: =A4 -> ENQUÊTEUR: LISTER LES NAISSANCES PAR ORDRE, DE LA PREMIÈRE À LA DERNIÈRE. LES NAISSANCES MULTIPLES SONT LISTÉES COMME DES NAISSANCES SEPARÉES
A5: RÉPONDANT : ELLE-MÊME
V6: RÉPONDANT : ELLE-MÊME
A7: CODE ID | C7: =-A1-0.01 -> -11.01 | D7: (11.01)a | H7: =C7-0.01 -> -11.02 | I7: =H7-0.01 -> -11.03 | K7: =I7-0.01 -> -11.04 | N7: =K7-0.01 -> -11.05 | R7: =N7-0.01 -> -11.06 | T7: =R7-0.01 -> -11.07 | V7: =T7-0.01 -> -11.08 | Z7: =V7-0.01 -> -11.09 | AD7: (11,09a) | AE7: =Z7-0.01 -> -11.1
D8: CONTROLE: EST-CE QUE LA FEMME A EU AU MOINS UNE NAISSANCE VIVANTE ? | H8: Listez le noms des naissances en commençant par la plus récente, y compris des enfants décédés | I8: [NOM DE L'ENFANT] est-il de sexe masculin ou féminin ? | K8: Quelle est la date de naissance de [NOM DE L'ENFANT] ? | N8: [NOM DE L'ENFANT] est-il/elle encore en vie ? | R8: Quel âge a [NOM DE L'ENFANT] ? | T8: Quel âge avait [NOM DE L'ENFANT DÉCÉDÉ] au décès? | V8: Avez-vous consulté un prestataire de santé (y compris un RECO et un tradipraticien ) pour traiter la maladie qui a conduit a la mort de l enfant? | Z8: Dans quel type de formation sanitaire avez-vous consulté le prestataire de santé? Note : si la femme a fait recours plusieurs fosa, considerez le niveau le plus élévé | AD8: Dans quel village/quartier avez-vous consulté le prestataire de santé ? | AE8: S'IL S'AGIT D'UN HÔPITAL, D'UN CENTRE DE SANTE, D'UN POSTE DE SANTE OU CLINIQUE, APPROFONDIR POUR OBTENIR LE NOM DE CET ÉTABLISSEMENT ET INSCRIRE SON CODE.
C9: COPIER LE CODE ID DE LA MERE
R11: (SI <5 ANS, INDIQUER EN PLUS NOMBRE DE MOIS)
K14: INSCRIRE "98" SI LE RÉPONDANT NE CONNAIT PAS LE JOUR OU LE MOIS. S'IL NE CONNAIT PAS L'ANNÉE, APPROFONDIR EN UTILISANT UN TABLEAU D'ÉVÉNEMENTS
T15: (SI <5 ANS, INDIQUER AUSSI NOMBRE DE MOIS)
D16: OUI | E16: 1 | I16: MASCULIN | J16: 1 | N16: OUI | O16: 1 | V16: Oui | W16: 1 | Z16: Clinique Universitaire | AA16: 1 | AB16: ► | AC16: LIGNE SUIVANTE | AD16: SI VILLAGE HORS ZONE DE LA SANTÉ, SPÉCIFIER
D17: NON | E17: 2 | F17: ► | G17: ='12MatCare'!C7 -> -12 | N17: NON | O17: 2 | P17: ► | Q17: =T7 -> -11.07 | Z17: Hôpital Général Provincial de Reference | AA17: 2 | AB17: ► | AC17: LIGNE SUIVANTE
I18: FÉMININ | J18: 2 | V18: Non | W18: 2 | X18: ► | Y18: ENFANT SUIVANT
Z19: Hôpital General de reference | AA19: 3
Z20: Centre de Santé de reference | AA20: 4
R21: ► ALLER À L'ENFANT SUIVANT | Z21: Centre de Santé | AA21: 5
Z22: Poste de santé | AA22: 6
Z23: Personnel de santé en privé | AA23: 7 | AB23: ► | AC23: LIGNE SUIVANTE
Z24: Relais Communautaire | AA24: 8 | AB24: ► | AC24: LIGNE SUIVANTE
K25: A. | L25: B. | M25: C. | R25: A. | S25: B. | T25: A. | U25: B. | Z25: Tradipraticien | AA25: 9 | AB25: ► | AC25: LIGNE SUIVANTE
K26: JOUR | L26: MOIS | M26: ANNÉE | R26: ANNÉES | S26: MOIS | T26: ANNÉES | U26: MOIS | Z26: Pharmacie | AA26: 10 | AB26: ► | AC26: LIGNE SUIVANTE
Z27: Autre, precisez: ______ | AA27: 11 | AB27: ► | AC27: LIGNE SUIVANTE
D28: VÉRIFIER LA QUESTION (10,11)
A30: 1 | B30: 1
B31: 2
B32: 3
B33: 4
B34: 5
B35: 6
B36: 7
B37: 8
A38: 2 | B38: 1
B39: 2
B40: 3
B41: 4
B42: 5
B43: 6
B44: 7
B45: 8
...

Sheet 12MatCare
A1: 12 Soins prenatals et postnatals | X1: 12 Soins prenatals et postnatals | AM1: 12 Soins prenatals et postnatals | BG1: 12 Soins prenatals et postnatals | BN1: 12 Soins prenatals et postnatals | DF1: 12 Soins prenatals et postnatals | EJ1: 12 Soins prenatals et postnatals | ET1: 12 | FK1: 12 Soins prenatals et postnatals | FX1: 12 Soins prenatals et postnatals | GE1: 12 Soins prenatals et postnatals | HG1: 12 Soins prenatals et postnatals | IL1: 12 Soins prenatals et postnatals
C3: OBJET : FEMMES AYANT EU UN OU PLUSIEURS ENFANT(S) EN VIE OU MORT(S)-NÉ(S), FAUSSE(S) COUCHE(S) OU AVORTEMENT(S) DANS LES 24 DERNIERS MOIS
C4: ENQUETEUR: LES QUESTIONS DANS CETTE MODULE PORTENT SUR LA GROSSESSE PLUS RÉCENTE ARRIVÉE À TERME
C5: RÉPONDANT : ELLE-MÊME | K5: {=AM5:AO5SOINS PRÉNATALS} -> #NAME?
L6: SOINS PRÉNATALS | Y6: SOINS PRÉNATALS | AN6: SOINS PRÉNATALS | BG6: DÉPENSES VISITE PRENATALE | BO6: SIDA, TÉTANOS | CJ6: FER | CO6: PALUDISME | DG6: ISSUE DE LA GROSSESSE | DT6: ACCOUCHEMENT | EJ6: DÉPENSES ACCOUCHEMENT | FL6: SOINS POST-NATALS | FX6: DÉPENSES VISITE POST-NATALE | GF6: SOINS POST-NATALS | HH6: COMPRIMÉS/SIROP DE FER | HR6: VITAMINE A
A7: CODE ID | C7: =-12 -> -12 | D7: -12.01 | H7: (12,01)a | L7: -12.02 | P7: =L7-0.01 -> -12.03 | S7: =P7-0.01 -> -12.04 | X7: CODE ID | Y7: =S7-0.01 -> -12.05 | AA7: =Y7-0.01 -> -12.06 | AC7: (12,06)b | AE7: (12,06)a | AF7: =AA7-0.01 -> -12.07 | AK7: =AF7-0.01 -> -12.08 | AN7: =AK7-0.01 -> -12.09 | AO7: =AN7-0.01 -> -12.1 | AQ7: =AO7-0.01 -> -12.11 | AR7: =AQ7-0.01 -> -12.12 | AS7: -12.13 | BG7: (12.13a) | BN7: CODE ID | BO7: -12.14 | BS7: =BO7-0.01 -> -12.15 | BW7: =BS7-0.01 -> -12.16 | BY7: =BW7-0.01 -> -12.17 | CC7: =BY7-0.01 -> -12.18 | CD7: (12,18)a | CH7: (12,18)b | CJ7: -12.19 | CN7: =CJ7-0.01 -> -12.2 | CO7: =CN7-0.01 -> -12.21 | CS7: =CO7-0.01 -> -12.22 | CU7: =CS7-0.01 -> -12.23 | CW7: =CU7-0.01 -> -12.24 | CY7: =CW7-0.01 -> -12.25 | DC7: =CY7-0.01 -> -12.26 | DF7: CODE ID | DG7: =DC7-0.01 -> -12.27 | DK7: =DG7-0.01 -> -12.28 | DM7: =DK7-0.01 -> -12.29 | DR7: (12.29a) | DT7: =DM7-0.01 -> -12.3 | DV7: =DT7-0.01 -> -12.31 | DX7: (12,31)b | DZ7: (12,31)a | EA7: =DV7-0.01 -> -12.32 | EF7: =EA7-0.01 -> -12.33 | EJ7: (12.33A) | ET7: CODE ID | EU7: -12.34 | EY7: (12,34)b | FA7: (12.34a) | FC7: -12.35 | FE7: =FC7-0.01 -> -12.36 | FG7: =FE7-0.01 -> -12.37 | FK7: CODE ID | FL7: -12.47 | FQ7: -12.5 | FS7: -12.48 | FV7: =FS7-0.01 -> -12.49 | FX7: (12.50a) | GE7: CODE ID | GF7: -12.51 | GH7: (12,51)a | GI7: (12,51)b | GK7: =GF7-0.01 -> -12.52 | GP7: =GK7-0.01 -> -12.53 | GT7: =GP7-0.01 -> -12.54 | GX7: (12,54)a | HB7: (12,54)b | HG7: CODE ID | HH7: =GT7-0.01 -> -12.55 | HL7: =HH7-0.01 -> -12.56 | HN7: =HL7-0.01 -> -12.57 | HP7: =HN7-0.01 -> -12.58 | HR7: =HP7-0.01 -> -12.59 | HV7: =HR7-0.01 -> -12.6 | HY7: =HV7-0.01 -> -12.61 | IA7: =HY7-0.01 -> -12.62 | IE7: =IA7-0.01 -> -12.63 | IL7: CODE ID | IM7: =IE7-0.01 -> -12.64 | IQ7: =IM7-0.01 -> -12.65 | IT7: =IQ7-0.01 -> -12.66
C8: ENQUÊTEUR : COPIER LE CODE ID POUR FEMME AYANT RÉPONDU OUI À | D8: [NOM] vivait-elle dans ce village pendant sa dernière grossesse ? | H8: [NOM] vivait-elle dans une autre province durant sa dernière grossesse ? | L8: Maintenant, je vais vous poser quelques questions sur votre dernière grossesse qui s'est terminée par un enfant vivant, un enfant mort-né, une fausse couche ou un avortement. Avez-vous consulté un prestataire pour les soins prénatals lors de cette grossesse ? | P8: Pourquoi n'avez-vous pas consulté un personnel de santé pour les soins prénatals lors de cette grossesse ? INSCRIRE UN MAXIMUM DE 3 RAISONS | S8: Avez-vous essayé d'obtenir des soins prénatals mais le personnel de l'établissement vous a demandé de partir et de revenir un autre jour ? | Y8: Quel type de prestataire avez-vous vu pour les soins prénatals lors de cette grossesse ? | AA8: Dans quel village/Quartier avez-vous cherché les soins prénatals lors de cette grossesse ? | AC8: Quel mode de transport utilisez-vous pour vous rendre à ce village ou ce quartier? | AE8: Combien de temps vous faut-il pour vous rendre dans ce village ou ce quartier? | AF8: Dans quel type d'établissement ou de lieu avez-vous vu ce type de personnel ? | AK8: S'IL S'AGIT D'UN HÔPITAL, CENTRE DE SANTÉ,POSTE DE SANTÉ OU CLINIQUE, APPROFONDIR POUR OBTENIR LE NOM DE CET ÉTABLISSEMENT ET INSCRIRE SON CODE | AN8: De combien de mois étiez-vous enceinte lorsque vous avez reçu les premiers soins prénatals pour cette grossesse ? | AO8: Pourriez-vous nous montrer votre carnet de santé ou fiche CPN? ENQUÊTEUR: DEMANDER LE CARNET DE SANTÉ OU LA FICHE ET NOTER 1 POUR "VU" OU 2 SI "NON VU" | AQ8: Combien de fois avez-vous été en consultations prénatales pour cette grossesse ? | AR8: De combien de mois étiez-vous enceinte lorsque vous avez reçu les derniers soins prénatals pour cette grossesse ? | AS8: Maintenant, j'aimerais vous poser des questions sur ce qui a peut-être été effectué lors des visites de soins prénatals pour votre dernière grossesse. Durant ces visites, l'élément décrit ci-dessous a-t-il été réalisé lors d'au moins une visite ? | BG8: Au cours des votre première visite prénatale, quel a été le montant dépensé par votre ménage de sa propre poche pour la visite? Plus spécifiquement, combien votre ménage a-t-il dépensé pour… | BO8: Pendant cette grossesse, vous a-t-on proposé des conseils et un test pour détecter le virus qui provoque le SIDA ? | BS8: Je ne vais pas vous demander le résultat, mais avez-vous fait le test ? | BW8: Je ne vais pas vous demander le résultat mais l'avez-vous reçu ? | BY8: Pendant cette grossesse, vous a-t-on fait une injection (VAT) dans le bras pour éviter que le bébé n'attrape le tétanos, c'est-à-dire qu'il n'ait des convulsions après la naissance ? | CC8: Combien de fois avez-vous reçu cette injection durant cette grossesse ? | CD8: À n'importe quel moment avant cette grossesse, vous a-t-on fait des injections contre le tétanos ? | CH8: Avant cette grossesse, il y a combien d'années que vous avez reçu la dernière injection contre le tétanos ? | CJ8: Pendant cette grossesse, vous a-t-on donné ou avez-vous acheté des comprimés de fer ou du sirop de fer ? | CN8: Au cours de cette grossesse, pendant combien de jours avez-vous pris ces comprimés de fer ou ce sirop de fer ? | CO8: Pendant cette grossesse, avez-vous pris des médicaments pour éviter d'attraper le paludisme ? | CS8: Quels médicaments avez-vous pris ? ENQUÊTEUR: LIRE CHACUN D'ENTRE EUX À HAUTE VOIX ET ENREGISTRER LA RÉPONSE | CU8: Où avez-vous obtenu ces médicaments ? | CW8: Combien de doses de ce médicament avez-vous pris ? (EXPRIMER LE RESULTAT EN TERMES DE COMPRIMES) | CY8: Vous a-t-on parlé des signes de complications de la grossesse lors des consultations prénatales ? | DC8: Vous a-t-on dit où aller si vous aviez ces complications ? | DG8: Avez-vous eu des complications durant cette grossesse ou au moment de l’accouchement ? | DK8: Quelle est la principale complication que vous avez eue ? | DM8: Quel a été l'issue de cette grossesse ? | DR8: Quels sont le mois et l'année de l'accouchement ? | DT8: Lors de cette grossesse, qui vous a assisté pendant l'accouchement ? | DV8: Dans quel village/Quartier avez-vous accouché ? | DX8: Quel mode de transport utilisez-vous pour vous rendre à ce village ou ce quartier? | DZ8: Combien de temps vous faut-il pour vous rendre dans ce village ou ce quartier? | EA8: Où avez-vous accouché ? | EF8: S'IL S'AGIT D'UN HÔPITAL, CENTRE DE SANTÉ, POSTE DE SANTÉ OU CLINIQUE, APPROFONDIR POUR OBTENIR LE NOM DE CET ÉTABLISSEMENT ET INSCRIRE SON CODE. | EJ8: Au cours de l'accouchement en question, quel a été le montant dépensé par votre ménage de sa propre poche? Plus spécifiquement, combien votre ménage a-t-il dépensé pour… | EU8: Pourquoi n'avez-vous pas accouché dans un établissement de santé formel pour cette grossesse ? INSCRIRE UN MAXIMUM DE 3 RAISONS | EY8: Quel mode de transport utilisez-vous pour vous rendre à la formation sanitaire que vous avez choisi pour l'accouchement ? | FA8: Combien de temps vous faut-il pendant la période de l'accouchement pour aller de chez vous jusqu'a la formation sanitaire que vous avez choisi pour l'accouchement | FC8: L'accouchement s'est-il fait par césarienne, c'est-à-dire, a-t-on ouvert votre ventre pour en sortir le bébé ? | FE8: VERIFIER: SI L'ISSUE DE CETTE GROSSESSE EST UNE FAUSSE-COUCHE | FG8: Ce ou ces nouveau-nés étaient-ils des garçons ou des filles ? | FL8: Si vous avez accouché dans une formation sanitaire, un professionnel de santé a-t-il vérifié votre santé dans les 24 heurs suivant la naissance et avant que vous ayiez quitté la formation pour rentrer chez vous? | FQ8: Quel était le profil de la personne qui a effectué ce contrôle? | FS8: A combien de contrôles post-natals vous êtes-vous rendue ou combien de fois avez-vous été reçue au cours des 2 premiers mois suivant la naissance/fausse couche ? | FV8: Combien de temps après la naissance/fausse couche avez-vous eu le premier contrôle post-natal (qui ne soit pas celui reçu dans la formation où l'accouchemet a eu lieu dans les 24 heures suivant la naissance)? | FX8: Au cours de votre première visite post-natale (après votre éventuelle sortie de l'hôpital/centre/poste de santé) quel a été le montant dépensé par votre ménage de sa propre poche pour la visite? Plus spécifiquement, combien votre ménage a-t-il dépensé pour… | GF8: Dans quel village/quartier avez-vous effectué le premier contrôle (après votre éventuelle sortie d'une formation sanitaire)? | GH8: Combien de temps vous faut-il pour vous rendre dans ce village ou ce quartier? | GI8: Quel mode de transport utilisez-vous pour vous rendre à ce village ou ce quartier? | GK8: Où ce contrôle a-t-il eu lieu ? | GP8: S'IL S'AGIT D'UN HÔPITAL, D'UN CENTRE DE SANTÉ, D'UN POSTE DE SANTÉ OU CLINIQUE, APPROFONDIR POUR OBTENIR LE NOM DE CET ÉTABLISSEMENT ET INSCRIRE SON CODE. | GT8: Pourquoi n'avez-vous pas eu de contrôle post-natal dans une institution de santé formelle ou par du personnel de santé formel pour cette grossesse ? | GX8: Après cette naissance/fausse couche, vous a-t-on parlé des méthodes de planification familiale avant que vous quittiez la formation sanitaire? | HB8: Vous a-t-on parlé des méthodes de planification familiale en une autre occasion? | HH8: Après cette naissance/fausse couche, vous a-t-on donné ou avez-vous acheté des comprimés de fer, du sirop de fer ou de l'acide folique ? | HL8: Qui vous a fourni la dose de fer ? | HN8: Combien de temps après l'accouchement/fausse couche avez-vous pris la première dose de fer ? | HP8: Pendant combien de jours après la naissance/fausse couche avez-vous pris ces comprimés de fer ou ce sirop de fer ? | HR8: Au cours des deux premiers mois suivant la naissance/fausse couche, avez-vous reçu une dose de vitamine A (comme celle-ci) ? MONTRER LES AMPOULES/CAPSULES/SIROPS HABITUELS. | HV8: Qui vous a prescrit la dose de vitamine A ? | HY8: VÉRIFIER: SI L'ISSUE DE CETTE GROSSESSE EST UNE FAUSSE-COUCHE | IA8: Le ou les enfants est-il ou sont-ils toujours en vie ? | IE8: Quel âge avai(en)t cet enfant ou ces enfants lors de son ou de leur décès ? | IM8: Cet ou ces enfants vit-il ou vivent-ils toujours avec vous ? | IQ8: INSCRIRE LE CODE INDIVIDUEL D'IDENTIFICATION DE CET OU CES ENFANTS EN CONSULTANT LA LISTE | IT8: Au cours des dernières 24 heures, avez-vous donné à ce(s) enfant(s) l'un des produits suivants ?
AF10: S'IL Y EN A PLUS D'UN, INSCRIRE L'ÉTABLISSEMENT OU LE LIEU QUI CORRESPOND AU PROFESSIONNEL DONNÉ EN (12,06)
P11: TROP CHER | R11: 1 | AT11: OUI | AU11: 1 | DK11: SAIGNEMENTS PDT GROSSESSE | DL11: 1 | GT11: TROP CHER | GW11: 1
C12: ='10Preg'!BL6 -> -10.21 | P12: TROP LOIN | R12: 2 | Y12: S'IL Y A PLUS D'UN PERSONNEL DE SANTÉ, INSCRIRE LE PLUS QUALIFIÉ. | AT12: NON | AU12: 2 | EA12: CLINIQUE UNIVERSITAIRE | EC12: 1 | EU12: TROP CHER | EX12: 1 | GT12: TROP LOIN | GW12: 2 | HL12: DOCTEUR EN MÉDECINE | HM12: 1 | HV12: DOCTEUR EN MÉDECINE | HW12: 1 | IE12: INSCRIRE LA RÉPONSE EN MOIS
