Workbook
Name _Print_Area: '15CatchmentA'!$A$1:$K$3
Name _Toc283162339: '16Finances'!$A$1
Name _Toc283162340: '16Finances'!#REF!
Name _Toc283162341: '16Finances'!#REF!

Sheet Cover
A1: Health Results Based Financing Impact Evaluation | O1: IDENTIFIER
A2: ZAMBIA | O2: SURVEY AREA NUMBER | R2: QUESTIONNAIRE NUMBER
A3: 2014 | R3: 1
A5: HEALTH FACILITY QUESTIONNAIRE
A6: F1: HEALTH FACILITY ASSESSMENT QUESTIONNAIRE
A8: GEOGRAPHICAL LOCATION
B10: Province: | G10: DIstrict:
B12: HEALTH FACILITY NAME: | N12: HEALTH FACILITY CODE:
B14: GPS COORDINATES OF HEALTH FACILITY
C16: LATITUDE (NORTH): | J16: .
C18: LONGITUDE (EAST): | J18: .
C21: LOCATION | G21: URBAN | I21: 1
G22: RURAL | I22: 2
G23: PERI-URBAN | I23: 3
A25: HEALTH FACILITY VISITS
A27: INTERVIEWER'S NAME: | N27: CODE:
A29: VISIT # 1: | C29: DAY | E29: MONTH | G29: YEAR | N29: RESULT OF THE INTERVIEW:
N30: INTERVIEW DONE | U30: 1
N31: PARTIALLY COMPLETED | U31: 2
A32: VISIT # 2: | C32: DAY | E32: MONTH | G32: YEAR | N32: PERSON IN CHARGE REFUSED INTERVIEW | U32: 3
N33: PERSON IN CHARGE IS OUT (STAFF THAT IS PRESENT IS NOT AUTHORIZED) | U33: 4
N34: FACILITY IS EMPTY (NO STAFF MEMBERS) | U34: 5
A35: VISIT # 3: | C35: DAY | E35: MONTH | G35: YEAR | N35: HEALTH FACILITY NOT FOUND | U35: 6
N36: OTHER, SPECIFY: _______________________ | U36: 96
A38: LANGUAGE USED
A40: …BY THE INTERVIEWER? | N40: TRANSLATOR USED?
N42: NEVER | R42: 1
A43: … BY THE RESPONDENT? | G43: ENGLISH | L43: 1 | N43: SOMETIMES | R43: 2
G44: OTHER (SPECIFY:__________) | L44: 96 | N44: ALWAYS | R44: 3
A46: INFORMED CONSENT, TO BE DONE BEFORE THE START OF THE INTERVIEW
A47: INTERVIEWER, READ: Hello, my name is ____ and I work with the University of Zambia. The Ministry of Health has asked us to conduct a survey of health facilities in [Country]. Today we are interviewing health facility staff, health facility heads, and patients. We are trying to find out the general level of service delivery and quality in the health facilities of Zambia. If you agree to participate, your confidentiality will be respected. You have the right to refuse to participate at the beginning of the interview or at any time during the interview. However, the information you can give us is important for the Ministry to improve health services in Zambia. Are you willing to participate in an interview today?
F53: YES | H53: 1
F54: NO | H54: 2
A56: VERIFICATION OF QUESTIONNAIRE BY SUPERVISOR
K58: DAY | M58: MONTH | O58: YEAR
A59: NAME: | G59: CODE:
A61: DATA ENTRY OPERATOR
K63: DAY | M63: MONTH | O63: YEAR
A64: NAME: | G64: CODE:
A66: THIS PAGE WAS INTENTIONALLY LEFT BLANK

Sheet 1General
A1: =-1 -> -1 | B1: General Information
A2: (A) | B2: General | H2: RECORD RESPONSE
A3: RESPONDENT: HEAD OF THE HEALTH FACILITY OR HIS/HER DEPUTY IF ABSENT OR UNAVAILABLE.
A4: =A1-0.01 -> -1.01 | B4: Are you in charge of this facility today? | C4: YES | E4: 1
C5: NO | E5: 2
A6: =A4-0.01 -> -1.02 | B6: Are you authorized to represent this facility? | C6: YES | E6: 1
C7: NO | E7: 2
A8: =A6-0.01 -> -1.03 | B8: What is your job title at this facility? | C8: Doctor or medical officer | E8: 1
C9: Clinical officer | E9: 2
C10: Hospital administrator/ Executive director | E10: 3
C11: Nurse (REN/ZEN) | E11: 4
C12: Midwife (REM/ZEM) | E12: 5
C13: Pharmacist | E13: 6
C14: Environmental health technologist | E14: 7
C15: Nursing assistant | E15: 8
C16: Pharmacy technician/Dispenser | E16: 9
C17: Lab technologist | E17: 10
C18: Lab technician | E18: 11
C19: Classified Daily Employee (CDE) | E19: 12
C20: Other, specify: _________________________ | E20: 96
A21: =A8-0.01 -> -1.04 | B21: Is this facility a district hospital, a health center or a health post? | C21: District hospital | E21: 1
C22: Health center | E22: 2
C23: Health post | E23: 3
C24: Other, specify | E24: 96
A25: =A21-0.01 -> -1.05 | B25: Who owns this health facility? | C25: Government | E25: 1
C26: Private for-profit entity | E26: 2
C27: Non Governmental Organization | E27: 3
C28: Mission/Faith-based organization | E28: 4
C29: Military | E29: 5
C30: Other, specify | E30: 96
A31: =A25-0.01 -> -1.06 | B31: In what year was the facility commissioned? INTERVIEWER: RECORD YEAR IN YYYY FORMAT (E.G. 1941).
A32: =A31-0.01 -> -1.07 | B32: When was the last major investment in the infrastructure? INTERVIEWER: RECORD MONTH AND YEAR. INCLUDE MAJOR PAINTING, PLUMBING, EXTENSIONS TO THE BUILDING, ETC. | C32: a. | D32: MONTH MM
C33: b. | D33: YEAR YYYY
D34: IF INVESTMENT WAS OVER MORE THAN ONE YEAR, ONLY RECORD THE MOST RECENT YEAR OF INVESTMENT
A35: =A32-0.01 -> -1.08 | B35: Does this facility provide care round-the-clock (i.e. 24 hours)? | C35: YES, FORMALLY/ OFFICIALLY | E35: 1 | F35: ► | G35: =A46 -> -1.11
C36: YES, INFORMALLY/ IN PRACTICE | E36: 2 | F36: ► | G36: =A46 -> -1.11
C37: NO | E37: 3
A38: =A35-0.01 -> -1.09 | B38: At what time of the day does outpatient care start? | C38: a. | D38: Weekdays
B39: INTERVIEWER: RECORD IN MILITARY TIME THROUGHOUT. E.G. IF IT STARTS AT 7AM, RECORD 0700. IF IT STARTS AT 7PM, RECORD 1900. | C39: b. | D39: Saturday
C40: c. | D40: Sunday
...

Sheet 2Admin
A1: =-2 -> -2 | B1: Administration and Management | H1: RECORD RESPONSE
A2: RESPONDENT: HEAD OF THE HEALTH FACILITY OR HIS/HER DEPUTY IF ABSENT OR UNAVAILABLE.
A3: =A1-0.01 -> -2.01 | B3: Is there a Hospital/Health Center Committee for this health facility? | C3: YES | E3: 1
C4: NO | E4: 2 | F4: ► | G4: =A38 -> -2.07
A5: =A3-0.01 -> -2.02 | B5: How many members are on this Committee?
A6: =A5-0.01 -> -2.03 | B6: Is there a representation of any of the following on this Committee? | C6: a. | D6: Health facility director/head
C7: b. | D7: Health facility staff
B8: INTERVIEWER: READ ALL OPTIONS ALOUD. FOR EACH OPTION, RECORD "1" IF YES, "2" IF NO. | C8: c. | D8: Neighborhood health committees
C9: d. | D9: Community Health Workers
C10: e. | D10: Ministry of Health / District Health Management Team
C11: f. | D11: Non Governmental Organization staff
C12: g. | D12: Other, specify: ___________________________
A13: =A6-0.01 -> -2.04 | B13: In the last 12 months, how many Hospital/Health Center Committee meetings were held?
A14: =A13-0.01 -> -2.05 | B14: Does the facility have written records of the Hospital/Health Center Committee meetings (minutes, decisions, etc.)? | C14: YES, SEEN | G14: 1
C15: YES, NOT SEEN | G15: 2
C16: NO | G16: 3
A17: =A14-0.01 -> -2.06 | B17: What initiatives were taken by the Hospital/Health Center Committee and implemented in the last 12 months? | C17: a. | D17: ADMINISTRATIVE SUPPORT TO FACILITY, E.G. APPROVING PAYMENTS
C18: b. | D18: PROVIDED NEW SUPPLIES OR EQUIPMENT
C19: c. | D19: PROVIDED NEW INFRASTRUCTURE
C20: d. | D20: PROVIDED REPAIRS TO FACILITY
B21: DO NOT READ OPTIONS ALOUD. FOR EACH OPTION, RECORD "1" IF MENTIONED, "2" IF NOT MENTIONED. | C21: e. | D21: PROVIDED DRUGS
C22: f. | D22: SENSITIZATION / MOBILIZED COMMUNITY TO USE THE HEALTH FACILITY
C23: g. | D23: PROVIDED TRANSPORT TO STAFF FOR HOME VISITS
C24: h. | D24: GAVE IN-KIND CONTRIBUTIONS
C25: i. | D25: IMPROVED SECURITY AT THE FACILITY
C26: j. | D26: IMPROVED WATER QUALITY
C27: k. | D27: IMPROVED WATER SUPPLY (QUANTITY)
C28: l. | D28: SUPPORTED TRAINING FOR COMMUNITY HEALTH WORKERS
C29: m. | D29: SUPPORTED OUTREACH TEAMS
C30: n. | D30: VERIFIED HEALTH FACILITY MATERNAL AND CHILD HEALTH-RELATED RESULTS
C31: o. | D31: ENVIRONMENTAL SANITATION (E.G. DESTRUCTION OF MOSQUITO BREEDING SITES)
C32: p. | D32: INDOOR RESIDUAL SPRAY
C33: q. | D33: SCREENING OF DISEASES
... C37: u. | D37: OTHER, SPECIFY: ______________________
A38: =A17-0.01 -> -2.07 | B38: Has a facility budget been developed for the current financial year? | C38: YES, SEEN | E38: 1
C39: YES, NOT SEEN | E39: 2
B40: ASK TO SEE THE BUDGET. | C40: NO | E40: 3
A41: =A38-0.01 -> -2.08 | B41: Has a facility workplan been developed for the current financial year? | C41: YES, SEEN | E41: 1
C42: YES, NOT SEEN | E42: 2
B43: ASK TO SEE THE WORKPLAN. | C43: NO | E43: 3 | F43: ► | G43: =A71 -> -2.12
...

Sheet 3HRM
A1: =-3 -> -3 | B1: Human Resources
A2: RESPONDENT: HEAD OF HUMAN RESOURCES, HEAD OF THE FACILITY OR BEST INFORMED STAFF MEMBER
A3: (A) | B3: Human Resources Management | H3: RECORD RESPONSE
A4: =A1-0.01 -> -3.01 | B4: Who has the authority to hire new staff? | C4: a. | D4: Health facility manager/in charge
C5: b. | D5: Health facility staff
C6: c. | D6: Ministry of Health / District Health Management Team
B7: READ ALL OPTIONS ALOUD. FOR EACH OPTION, RECORD "1" IF YES, "2" IF NO. | C7: d. | D7: Public Service Management division at cabinet office
C8: e. | D8: Local government
C9: f. | D9: Non Governmental Organization
C10: g. | D10: Community Health Workers
C11: h. | D11: Community members
C12: i. | D12: Health Committee
C13: j. | D13: Other, specify: _________________________
A14: =A4-0.01 -> -3.02 | B14: Who has the authority to dismiss staff? | C14: a. | D14: Health facility manager/in charge
C15: b. | D15: Health facility staff
C16: c. | D16: Ministry of Health / District Health Management Team
B17: READ ALL OPTIONS ALOUD. FOR EACH OPTION, RECORD "1" IF YES, "2" IF NO. | C17: d. | D17: Public Service Management division at cabinet office
C18: e. | D18: Local government
C19: f. | D19: Non Governmental Organization
C20: g. | D20: Community Health Workers
C21: h. | D21: Community members
C22: i. | D22: Health Committee
C23: j. | D23: Other, specify: _________________________
A24: =A14-0.01 -> -3.03 | B24: Who has the authority to determine staff compensation? | C24: a. | D24: Health facility manager/in charge
C25: b. | D25: Health facility staff
C26: c. | D26: Ministry of Health / District Health Management Team
C27: d. | D27: Public Service Management division at cabinet office
B28: READ ALL OPTIONS ALOUD. FOR EACH OPTION, RECORD "1" IF YES, "2" IF NO. | C28: e. | D28: Local government
C29: f. | D29: Non Governmental Organization
C30: g. | D30: Community Health Workers
C31: h. | D31: Community members
C32: i. | D32: Health Committee
C33: j. | D33: Other, specify: _________________________
A34: ="FOR EACH TYPE OF POSITION LISTED BELOW, ASK QUESTIONS "& TEXT(D35,"0.00_);(0.00)")&" TO "& TEXT(I35,"0.00_);(0.00)")&". IF ZERO, RECORD 0." -> FOR EACH TYPE OF POSITION LISTED BELOW, ASK QUESTIONS (3.04) TO (3.07). IF ZERO, RECORD 0.
B35: POSITION TYPE | D35: =A24-0.01 -> -3.04 | E35: =D35-0.01 -> -3.05 | G35: =E35-0.01 -> -3.06 | I35: =G35-0.01 -> -3.07
D36: How many authorized positions are there in the facility for [POSITION TYPE]s? | E36: How many authorized positions for [POSITION TYPE] are currently filled? | G36: In the last 12 months, how many [POSITION TYPE] have left the facility permanently? | I36: How many [POSITION TYPE] work regularly in this facility without being in authorized position?
B37: Doctor or medical officer | C37: a.
B38: Clinical officer | C38: b.
B39: Hospital administrator/ Executive director | C39: c.
B40: Nurse (RN/ZEN) | C40: d.
...

Sheet 4Roster
A1: =-4 -> -4 | B1: Staff Roster | AC1: =-4 -> -4 | AD1: Staff Roster
B3: SUBJECT: ALL STAFF MEMBERS, WHETHER TEMPORARY OR PERMANENT, CLINICAL OR NON-CLINICAL, STARTING WITH THE HEAD OF THE FACILITY
B4: RESPONDENT: HEAD OF FACILITY OR BEST INFORMED STAFF MEMBER
B6: =A1-0.01 -> -4.01 | C6: =B6-0.01 -> -4.02 | E6: =C6-0.01 -> -4.03 | F6: =E6-0.01 -> -4.04 | G6: =F6-0.01 -> -4.05 | I6: (4.05PF) | P6: =G6-0.01 -> -4.06 | Q6: =P6-0.01 -> -4.07 | R6: =Q6-0.01 -> -4.08 | T6: =R6-0.01 -> -4.09 | U6: =T6-0.01 -> -4.1 | V6: =U6-0.01 -> -4.11 | W6: =V6-0.01 -> -4.12 | Y6: =W6-0.01 -> -4.13 | AC6: =Y6-0.01 -> -4.14 | AE6: =AC6-0.01 -> -4.15 | AJ6: =AE6-0.01 -> -4.16 | AK6: =AJ6-0.01 -> -4.17 | AL6: =AK6-0.01 -> -4.18 | AM6: =AL6-0.01 -> -4.19 | AN6: =AM6-0.01 -> -4.2 | AO6: =AN6-0.01 -> -4.21 | AP6: =AO6-0.01 -> -4.22 | AQ6: =AP6-0.01 -> -4.23 | AR6: =AQ6-0.01 -> -4.24 | ... AT6: =AS6-0.01 -> -4.26 | AW6: =AT6-0.01 -> -4.27 | AY6: =AW6-0.01 -> -4.28 | BA6: =AY6-0.01 -> -4.29
A7: ID CODE | B7: LIST FULL NAMES OF ALL STAFF WORKING IN THE FACILITY. FOR EACH STAFF, ASK ALL THE QUESTIONS OF THIS SECTION, THEN MOVE TO NEXT STAFF. IF THERE ARE MORE THAN 15 STAFF, USE A NEW QUESTIONNAIRE. | C7: IS [NAME] MALE OR FEMALE? | E7: ID CODE OF RESPONDENT | F7: How old is [NAME]? | G7: What is the highest academic qualification that [NAME] obtained? | I7: What is [NAME]'s position in this facility? | P7: What year did [NAME] receive his/her clinical qualification? | Q7: What is the year of appointment of [NAME] at this health facility? | R7: What is the salary scale of [NAME] according to the contract or agreement with the employer? | T7: How many days per week does [NAME] usually work at this health facility? | U7: How many hours per week does [NAME] usually work at this health facility? | V7: How many hours per week does [NAME] usually spend providing medical care directly to patients? | W7: Does [NAME] also work in a private health practice? | Y7: Is [NAME] here today? | AC7: Can you please tell me why [NAME] is not here today? | AE7: What services is [NAME] providing today? | AJ7: During the last four weeks, what percentage of [NAME]'s time is devoted to antenatal care? | AK7: During the last four weeks, what percentage of [NAME]'s time is devoted to vaccinations and other preventive care? | AL7: During the last four weeks, what percentage of [NAME]'s time is devoted to child curative care? | AM7: During the last four weeks, what percentage of [NAME]'s time is devoted to adult curative care? | AN7: During the last four weeks, what percentage of [NAME]'s time is devoted to voluntary counselling and testing (VCT)? | AO7: During the last four weeks, what percentage of [NAME]'s time is devoted to postnatal care? | AP7: During the last four weeks, what percentage of [NAME]'s time is devoted to delivery? | AQ7: During the last four weeks, what percentage of [NAME]'s time is devoted to family planning? | AR7: During the last four weeks, what percentage of [NAME]'s time is devoted to other clinical services? | AS7: During the last four weeks, what percentage of [NAME]'s time is devoted to non-clinical services? | AT7: During the last six months, did any worker in your facility engage in higher level tasks than their routinly designated tasks? | AW7: During the last six months, which higher level tasks did [NAME] engage in? | AY7: How long has this practice of staff engaging in higher level tasks been prevelant in your facility? | BA7: Were these workers paid additionallly for performing higher level acvities other than their routine activites?
I8: Clinical | L8: Non Clinical
I9: Doctor or medical officer | J9: 1 | L9: Auxilliary staff >1 year | M9: 14 | N9: ► | O9: =$Q$6 -> -4.07 | AC9: ►4.16 | AE9: INTERVIEWER: RECORD UP TO 5 SERVICES. IF CHILD POSTNATAL CARE COMBINED WITH PREVENTIVE CARE (E.G. VACCINATIONS), RECORD "03" FOR POSTNATAL CARE TO CHILD. | AW9: Doctor or medical officer | AX9: 1
G10: Primary education Certificate | H10: 1 | I10: Clinical officer | J10: 2 | L10: Auxilliary staff <1 year | M10: 15 | N10: ► | O10: =$Q$6 -> -4.07 | AW10: Clinical officer | AX10: 2
I11: Hospital administrator/ Executive director | J11: 3 | L11: Social support | M11: 16 | N11: ► | O11: =$Q$6 -> -4.07 | AW11: Hospital administrator/ Executive director | AX11: 3
G12: Secondary educ.certificate | H12: 2 | L12: Counselor | M12: 17 | N12: ► | O12: =$Q$6 -> -4.07 | AC12: OFFICIALLY OFF DUTY | AD12: 1
I13: Nurse (REN/ZEN) | J13: 4 | L13: Administrative staff | M13: 13 | N13: ► | O13: =$Q$6 -> -4.07 | Q13: INTERVIEWER: RECORD YEAR IN YYYY FORMAT, E.G. 1985 | AC13: ON SICK LEAVE | AD13: 2 | AW13: Nurse (REN/ZEN) | AX13: 4
G14: Colllege Degree | H14: 3 | I14: Midwife (REM/ZEM) | J14: 5 | L14: Other non-clinical | M14: 16 | N14: ► | O14: =$Q$6 -> -4.07 | AC14: ON TRAINING | AD14: 3 | AE14: PRENATAL CARE | AI14: 1 | AW14: Midwife (REM/ZEM) | AX14: 5
G15: Masters Degree | H15: 4 | I15: Pharmacist | J15: 6 | L15: Classified Daily Employee (CDE) | M15: 17 | N15: ► | O15: =$Q$6 -> -4.07 | AC15: ON MATERNITY LEAVE | AD15: 4 | AE15: CHILD PREVENTIVE CARE | AI15: 2 | AW15: Pharmacist | AX15: 6
G16: Doctoral degree | H16: 5 | I16: Environmental health technologist | J16: 7 | AC16: OTHER AUTHORIZED ABSENCE | AD16: 5 | AE16: CHILD CURATIVE CARE | AI16: 3 | AW16: Environmental health technologist | AX16: 7
AE17: ADULT CURATIVE CARE | AI17: 4 | AW17: Nursing assistant | AX17: 8
G18: Post Graduate | H18: 6 | I18: Nursing assistant | J18: 8 | V18: INTERVIEWER: IF NON-CLINICAL STAFF: RECORD 00 | AC18: LATE | AD18: 6 | AE18: VCT | AI18: 5 | AW18: Pharmacy technician/Dispenser | AX18: 9
G19: Post Doctoral | H19: 7 | I19: Pharmacy technician/Dispenser | J19: 9 | AC19: DON'T KNOW | AD19: 99 | AE19: POSTNATAL CARE | AI19: 6 | AW19: Lab technologist | AX19: 10
G20: No education | H20: 10 | AE20: NON-CLINICAL (ADMIN, RECEPTION, ETC) | AI20: 7 | AW20: Lab technician | AX20: 11
G21: Diploma | H21: 11 | I21: Lab technologist | J21: 10 | AJ21: IF ZERO, RECORD "0" | AK21: IF ZERO, RECORD "0" | AL21: IF ZERO, RECORD "0" | AM21: IF ZERO, RECORD "0" | AN21: IF ZERO, RECORD "0" | AO21: IF ZERO, RECORD "0" | AP21: IF ZERO, RECORD "0" | AQ21: IF ZERO, RECORD "0" | AR21: IF ZERO, RECORD "0" | AS21: IF ZERO, RECORD "0" | AW21: Classified Daily Employee (CDE) | AX21: 12
G22: Certificate | H22: 12 | I22: Lab technician | J22: 11 | AW22: Other, specify:___________________ | AX22: 13
G23: Other, specify: _____ | H23: 13
C24: MALE | D24: 1 | W24: YES | X24: 1 | Y24: YES | Z24: 1 | AA24: ► | AB24: =AE6 -> -4.15 | AT24: YES | AU24: 1 | BA24: YES | BB24: 1
B25: FULL NAME | C25: FEMALE | D25: 2 | F25: YEARS | I25: Other clinical | J25: 12 | Q25: YEAR | R25: SALARY SCALE | T25: MAX 7 | U25: MAX 168 | V25: MAX 168 | W25: NO | X25: 2 | Y25: NO | Z25: 2 | AE25: A. | AF25: B. | AG25: C. | AH25: D. | AI25: E. | AJ25: % | AK25: % | AL25: % | AM25: % | AN25: % | AO25: % | AP25: % | AQ25: % | AR25: % | AS25: % | AT25: NO | AU25: 2 | AV25: ► NEXT PROVIDER OR '(5.01) | AY25: YEARS | AZ25: MONTHS | BA25: NO | BB25: 2
A26: 1
A27: =A26+1 -> 2
A28: =A27+1 -> 3
A29: =A28+1 -> 4
A30: =A29+1 -> 5
A31: =A30+1 -> 6
A32: =A31+1 -> 7
A33: =A32+1 -> 8
A34: =A33+1 -> 9
A35: =A34+1 -> 10
A36: =A35+1 -> 11
A37: =A36+1 -> 12
A38: =A37+1 -> 13
... A46: =A45+1 -> 21

Sheet 5Lab
A1: =-5 -> -5 | B1: Laboratory
A2: RESPONDENT: LAB TECHNICIAN OR BEST INFORMED STAFF MEMBER
A3: ID CODE OF THE RESPONDENT FROM THE STAFF ROSTER
A4: =A1-0.01 -> -5.01 | B4: Does the facility provide laboratory services? | C4: YES | D4: 1
C5: NO | D5: 2
A6: (A) | B6: Lab Tests
C7: =A4-0.01 -> -5.02 | E7: =C7-0.01 -> -5.03 | G7: =E7-0.01 -> -5.04
C8: For the following tests, please tell me if you are able to perform them today, if you were able to perform them 3 months ago but not today, or if you simply cannot do this test (today or 3 months ago). | E8: How many of the [LAB TESTS] tests were conducted in the last 3 months? | G8: INTERVIEWER: RECORD SOURCE OF THE INFORMATION. RECORD ONE RESPONSE FOR EACH TEST.
C9: INTERVIEWER: RECORD ONE RESPONSE FOR EACH TEST. | E9: INTERVIEWER: IF NONE, RECORD "0". RECORD ONE RESPONSE FOR EACH TEST.
C10: Able to do this test today | D10: 1 | G10: RECORDS | H10: 1
C11: Able to do in past 3 months but not today | D11: 2 | G11: NO RECORDS AVAILABLE, ORAL REPORT | H11: 2
C12: Cannot do this test, today or in past 3 months | D12: 3
A13: a. | B13: White cell and red cell counts
A14: b. | B14: Hemoglobin estimation
A15: c. | B15: Blood type and cross match
A16: d. | B16: Malaria smears (thick and thin)/ Rapid diagnostic test
A17: e. | B17: Tuberculosis smears
A18: f. | B18: Gram stains
A19: g. | B19: HIV testing
A20: h. | B20: Hepatitis B testing
A21: i. | B21: Hepatitis C testing
A22: j. | B22: Syphilis testing (RPR Test)
A23: k. | B23: Urine dipstick tests
A24: l. | B24: Pregnancy testing
... A28: p . | B28: Liver function testing
A29: (B) | B29: Lab Equipment | G29: RECORD RESPONSE
A30: =G7-0.01 -> -5.05 | B30: Where is the lab equipment located? | C30: Separate laboratory | F30: 1
C31: Room that is also used for other activities | F31: 2
C33: Other, specify: _________________ | F33: 96
A34: =A30-0.01 -> -5.06 | B34: INTERVIEWER: RECORD QUANTITY OF EACH EQUIPMENT FUNCTIONING. RECORD ONE RESPONSE FOR EACH EQUIPMENT. RECORD 98 IF NOT FUNCTIONING OR NOT AVAILABLE. | C34: a. Microscope
C35: b. Centrifuge
C36: c. Hemoglobinometer
C37: d. Refrigerator for storing reagents
A38: =A34-0.01 -> -5.07 | B38: Is there a Tuberculosis Laboratory Register? INTERVIEWER: IF YES, ASK TO SEE IT. | C38: YES, SEEN | F38: 1
C39: YES, NOT SEEN | F39: 2
C40: NO | F40: 3
A41: =A38-0.01 -> -5.08 | B41: How many laboratory technicians are trained in Acid-Fast Bacilli (AFB) microscopy? INTERVIEWER: CHECK THE NUMBER DOES NOT EXCEED THE TOTAL NUMBER OF LABORATORY TECHNICIANS

Sheet 6Services
A1: =-6 -> -6 | B1: Services
A2: RESPONDENT: HEAD OF THE FACILITY OR BEST INFORMED STAFF MEMBER
A3: (A) | B3: Vaccination Services | G3: RECORD RESPONSE
A4: =A1-0.01 -> -6.01 | B4: Does this facility provide immunization services? | C4: YES | D4: 1
C5: NO | D5: 2 | E5: ► | F5: =A32 -> -6.14
A6: =A4-0.01 -> -6.02 | B6: Is there a separate room or area for immunizations? | C6: YES | D6: 1
C7: NO | D7: 2
A8: =A6-0.01 -> -6.03 | B8: Are immunizations regularly given to children at the facility or in outreach activities? | C8: Facility only | D8: 1
C9: Outreach only | D9: 2
C10: Facility and outreach | D10: 3
A11: =A8-0.01 -> -6.04 | B11: Is there a vaccination outreach work plan for the current year? | C11: YES | D11: 1
C12: NO | D12: 2
A13: =A11-0.01 -> -6.05 | B13: In the last 30 days, on how many days did the facility staff do vaccination outreach in the community?
A14: =A13-0.01 -> -6.06 | B14: How many of the following storage methods does this site have for storing vaccines? INTERVIEWER: IF ZERO, RECORD '0'. | C14: a. Ice Lined Refrigerator (ILR)
C15: b. Cold Box/vaccine carriers
C16: c. Refrigerator
A17: =A14-0.01 -> -6.07 | B17: Is a temperature monitoring chart kept? INTERVIEWER: IF YES, ASK TO SEE IT. | C17: YES, SEEN | D17: 1
C18: YES, NOT SEEN | D18: 2
C19: NO | D19: 3 | E19: ► | F19: =A23 -> -6.11
A20: =A17-0.01 -> -6.08 | B20: In the past 7 days, on how many days was the temperature logged?
A21: =A20-0.01 -> -6.09 | B21: In the past 7 days, how many times was the temperature logged in total?
A22: =A21-0.01 -> -6.1 | B22: In the past 7 days, how many days had a measurement of over 80C or under 20C?
A23: =A22-0.01 -> -6.11 | B23: Are immunization cards issued to every child starting his/her immunization schedule? | C23: YES | D23: 1
C24: NO | D24: 2 | E24: ► | F24: =A32 -> -6.14
A25: =A23-0.01 -> -6.12 | B25: After a child starts its immunization schedule, where are the immunization cards kept? | C25: Given to caregiver to bring for next visit | D25: 1 | E25: ► | F25: =A32 -> -6.14
C26: Kept at facility | D26: 2
C27: One copy given to caregiver and one kept at facility | D27: 3
C28: Other, specify: ___________ | D28: 96 | E28: ► | F28: =A32 -> -6.14
A29: =A25-0.01 -> -6.13 | B29: Could you show me some cards that belong to specific patients? | C29: SEEN | D29: 1
C30: NOT SEEN | D30: 2
A31: (B) | B31: Antenatal Care Services | G31: RECORD RESPONSE
A32: =A29-0.01 -> -6.14 | B32: Are antenatal services provided at this facility? | C32: YES | D32: 1
C33: NO | D33: 2 | E33: ► | F33: =A54 -> -6.23
A34: =A32-0.01 -> -6.15 | B34: Are pregnant women seen at specific times separate from times for other patients? | C34: YES | D34: 1
C35: NO | D35: 2
A36: =A34-0.01 -> -6.16 | B36: In the last 30 days, how many days has antenatal care been available to women? | C36: MAXIMUM 30 DAYS
A37: =A36-0.01 -> -6.17 | B37: In the last 6 months, how many times did the facility hold meetings with Traditional Birth Assistants?
A38: =A37-0.01 -> -6.18 | B38: In the last 6 months, on how many days did the facility staff do outreach in the community for antenatal care?
A39: =A38-0.01 -> -6.19 | B39: In the last 6 months, were iron and folate routinely prescribed? INTERVIEWER: CHECK RECORDS. IF NO RECORDS, ASK IN-CHARGE. RECORD ANSWER BASED ON WHETHER RECORDS WERE SEEN OR NOT. | C39: RECORDS SEEN: All the time | D39: 1
C40: RECORDS SEEN: Sometimes | D40: 2
...

Sheet 7GenHMIS
A1: =-7 -> -7 | B1: General Health Management Information Systems (HMIS) | G1: RECORD RESPONSE
A2: RESPONDENT: HEAD OF THE FACILITY OR BEST INFORMED STAFF MEMBER
A3: =A1-0.01 -> -7.01 | B3: Do you have an estimate of the size of the catchment population that this facility serves, that is, the target, or total population living in the area served by this facility? | C3: YES | D3: 1
C4: NO | D4: 2 | E4: ► | F4: =A13 -> -7.03
A5: =A3-0.01 -> -7.02 | B5: How many people is the catchment [POPULATION CATEGORY]? | C5: a. Total population
C6: b. Total male population
C7: c. Total female population
B8: INTERVIEWER: IF SOME CATEGORIES UNKNOWN, RECORD -99 FOR THESE CATEGORIES. | C8: d. Total female 15-49 years population, i.e. women of childbearing age
C9: e. Total <5 years population
C10: f. Total <1 year population
A11: Now I would like to see the register that shows the total number of patients attended in this facility in the last completed calendar month.
A12: ="INTERVIEWER: FOR QUESTIONS (" & -A13 & ") TO (" & -A35 & "), RECORD FOR THE LAST COMPLETED CALENDAR MONTH. FOR QUESTIONS (" & -A14 & ") TO (" & -A22 & "), IF SOME CATEGORIES CAN'T BE IDENTIFIED FROM REGISTER, RECORD -99 FOR THESE CATEGORIES." -> INTERVIEWER: FOR QUESTIONS (7.03) TO (7.17), RECORD FOR THE LAST COMPLETED CALENDAR MONTH. FOR QUESTIONS (7.04) TO (7.12), IF SOME CATEGORIES CAN'T BE IDENTIFIED FROM REGISTER, RECORD -99 FOR THESE CATEGORIES. | G12: RECORD RESPONSE
A13: =A5-0.01 -> -7.03 | B13: Number of TOTAL patients
A14: =A13-0.01 -> -7.04 | B14: Number of TOTAL male patients
A15: =A14-0.01 -> -7.05 | B15: Number of TOTAL female patients
A16: =A15-0.01 -> -7.06 | B16: Number of TOTAL pregnant women
A17: =A16-0.01 -> -7.07 | B17: Number of TOTAL under 5 patients
A18: =A17-0.01 -> -7.08 | B18: Number of TOTAL male under 5 patients
A19: =A18-0.01 -> -7.09 | B19: Number of TOTAL female under 5 patients
A20: =A19-0.01 -> -7.1 | B20: Number of TOTAL under 1 patients
A21: =A20-0.01 -> -7.11 | B21: Number of TOTAL male under 1 patients
A22: =A21-0.01 -> -7.12 | B22: Number of TOTAL female under 1 patients
A23: =A22-0.01 -> -7.13 | B23: Monthly Integrated Activity Report | C23: SEEN, FULLY COMPLETED | F23: 1
C24: SEEN, NOT COMPLETE | F24: 2
C25: NOT SEEN | F25: 3
A26: =A23-0.01 -> -7.14 | B26: Monthly Aggregated Activity Report | C26: SEEN, FULLY COMPLETED | F26: 1
C27: SEEN, NOT COMPLETE | F27: 2
C28: NOT SEEN | F28: 3
A29: =A26-0.01 -> -7.15 | B29: Notifiable Disease Report | C29: SEEN, FULLY COMPLETED | F29: 1
C30: SEEN, NOT COMPLETE | F30: 2
C31: NOT SEEN | F31: 3
A32: =A29-0.01 -> -7.16 | B32: Vaccination/immunization Coverage Report | C32: SEEN, FULLY COMPLETED | F32: 1
C33: SEEN, NOT COMPLETE | F33: 2
C34: NOT SEEN | F34: 3
A35: =A32-0.01 -> -7.17 | B35: Family Planning Register | C35: SEEN, FULLY COMPLETED | F35: 1
C36: SEEN, NOT COMPLETE | F36: 2
C37: NOT SEEN | F37: 3

Sheet 8UtilHMIS
A1: =-8 -> -8 | B1: Health services utilization based on Health Management Information Systems (HMIS)
A2: RESPONDENT: HEAD OF THE FACILITY OR BEST INFORMED STAFF MEMBER.
A3: I would like to ask you some questions about the health services available.
A4: ="ASK QUESTIONS (" & -C4 & ") TO (" & -F4 & ") FOR EACH SERVICE BEFORE MOVING TO NEXT SERVICE." -> ASK QUESTIONS (8.01) TO (8.03) FOR EACH SERVICE BEFORE MOVING TO NEXT SERVICE. | C4: =A1-0.01 -> -8.01 | E4: =C4-0.01 -> -8.02 | F4: =E4-0.01 -> -8.03
C5: Does this facility provide [SERVICE] within the facility and/or as outreach? INTERVIEWER: RECORD FOR BOTH FACILITY AND OUTREACH. | E5: How many days per week is this service offered? | F5: INTERVIEWER: FOR EACH SERVICE, RECORD THE MONTHLY TOTAL NUMBER OF INPATIENTS (IN) AND OUTPATIENTS (OUT) LISTED IN THE REGISTER, REGARDING THE LAST 6 MONTHS PRIOR TO THE MONTH OF THE SURVEY (E.G. IF TODAY IS SEPTEMBER 13, RECORD PATIENTS FOR THE PERIOD OF MARCH, 1 TO AUGUST, 31 IN ORDER TO HAVE 6 FULL MONTHS) .
E10: INTERVIEWER: IF BY APPOINTMENT ONLY, RECORD 8; IF NOT APPLICABLE, RECORD 97
C17: YES | D17: 1
C18: NO | D18: 2
F19: MONTH 1 | H19: MONTH 2 | J19: MONTH 3 | L19: MONTH 4 | N19: MONTH 5 | P19: MONTH 6
A20: SERVICES | C20: In-facility | D20: Outreach | E20: DAYS/WEEK | F20: IN | G20: OUT | H20: IN | I20: OUT | J20: IN | K20: OUT | L20: IN | M20: OUT | N20: IN | O20: OUT | P20: IN | Q20: OUT
B21: Family planning/clinical
A22: a. | B22: Contraceptive pill
A23: b. | B23: Injection
A24: c. | B24: Implant insertion
A25: d. | B25: Male condoms
A26: e. | B26: Intrauterine Device (IUD) insertion
A27: f. | B27: Female sterilization
A28: g. | B28: Male sterilization
A29: h. | B29: Prenatal care
B30: Facility based delivery
A31: i. | B31: Spontaneous Vaginal Delivery
A32: j. | B32: Ceasarian section
A33: k. | B33: Assisted (forcepts, vaccuum)
A34: l. | B34: Home delivery with skilled staff
A35: m. | B35: Postnatal care
B36: Immunizations
A37: n. | B37: Bacille Calmette Guerin (BCG)
A38: o. | B38: Pentavalent Dose 1 (DPT, Hepatitis B, Hemophilus influenzae B)
A39: p. | B39: Pentavalent Dose 2 (DPT, Hepatitis B, Hemophilus influenzae B)
A40: q. | B40: Pentavalent Dose 3 (DPT, Hepatitis B, Hemophilus influenzae B)
A41: r. | B41: Polio Dose 1
A42: s. | B42: Polio Dose 2
A43: t. | B43: Polio Dose 3
A44: u. | B44: Measles Dose 1 (<1 year)
A45: v. | B45: Tetanus Toxoid to pregnant women
A46: ="ASK QUESTIONS (" & -C4 & ") TO (" & -F4 & ") FOR EACH SERVICE BEFORE MOVING TO NEXT SERVICE." -> ASK QUESTIONS (8.01) TO (8.03) FOR EACH SERVICE BEFORE MOVING TO NEXT SERVICE. | C46: =C4 -> -8.01 | E46: =C46-0.01 -> -8.02 | F46: =E46-0.01 -> -8.03
C47: Does this facility provide [SERVICE] within the facility and/or as outreach? INTERVIEWER: RECORD FOR BOTH FACILITY AND OUTREACH. | E47: How many days per week is this service offered? | F47: INTERVIEWER: FOR EACH SERVICE, RECORD THE MONTHLY TOTAL NUMBER OF INPATIENTS (IN) AND OUTPATIENTS (OUT) LISTED IN THE REGISTER, REGARDING THE LAST 6 MONTHS PRIOR TO THE MONTH OF THE SURVEY (E.G. IF TODAY IS SEPTEMBER 13, RECORD PATIENTS FOR THE PERIOD OF MARCH, 1 TO AUGUST, 31 IN ORDER TO HAVE 6 FULL MONTHS) .
E52: INTERVIEWER: IF BY APPOINTMENT ONLY, RECORD 8; IF NOT APPLICABLE, RECORD 97
C59: YES | D59: 1
C60: NO | D60: 2
...

Sheet 10Leadership
A1: =-10 -> -10 | B1: Leadership
A2: RESPONDENT: HEALTH FACILITY MANAGER/LEADER ONLY
A4: ID CODE OF THE RESPONDENT FROM THE STAFF ROSTER
A6: In this part of the questionnaire, I would like to know what you would do in certain situations regarding the facility. I will read you a series of scenarios. For each scenario, I will read 4 possible responses that you might have. Please select the response that most closely matches what you would do in this specific situation. You can only select one response for each scenario. There are no correct or incorrect answers - we just want to know how you would approach each situation.
A7: INTERVIEWER: EACH RESPONSE IS CODED BETWEEN 1 AND 4. RECORD APPROPRIATE CODE ACCORDING TO RESPONDENT'S RESPONSE.
B8: SCENARIOS | C8: 1 | D8: 2 | E8: 3 | F8: 4 | G8: RECORD RESPONSE (RANGE 1-4)
A9: =A1-0.01 -> -10.01 | B9: Scenario 1: The performance of your staff is improving. | C9: You stress their responsibilities and standards. | D9: You take no particular additional action. | E9: You give positive feedback and make staff feel involved in the achievements. | F9: You emphasize the importance of deadlines and tasks.
A10: =A9-0.01 -> -10.02 | B10: Scenario 2: Members of your staff have been unable to solve a problem over the past month, though they have been trying to address it. | C10: You call a meeting and together try to solve the problem. | D10: You let your staff address this problem on their own. | E10: You give them direction and instructions on how to solve the problem. | F10: You encourage the group to solve the problem on their own, and you are available when needed to discuss.
A11: =A10-0.01 -> -10.03 | B11: Scenario 3: You are considering a major change in how things are done in the facility. | C11: You collaborate with your staff to develop the needed changes. | D11: You announce your vision for the changes and implement a clear plan. | E11: You ask your staff to develop and implement their own plan for change. | F11: You consult with your staff, but direct the changes yourself.
A12: =A11-0.01 -> -10.04 | B12: Scenario 4: The performance of your staff has been falling in recent months. | C12: You ask your staff to rethink their direction and goals and come up with a plan together. | D12: You ask for suggestions from your staff on what to do, and you formulate a specific plan to meet objectives. | E12: You redefine goals clearly and supervise whether these are being met closely. | F12: You allow your staff freedom to set their own goals and do not push them.
A13: =A12-0.01 -> -10.05 | B13: Scenario 5: Your staff are no longer working together as an effective team. | C13: You discuss ideas as a group and identify how to work better together. | D13: You let your staff work out their issues on their own. | E13: You act quickly and decisively to get the team back on track. | F13: You make yourself available to discuss any issues and support your team to work out their own problems.

Sheet 11Autonomy
A1: =-11 -> -11 | B1: Autonomy
A2: RESPONDENT: HEALTH FACILITY MANAGER/LEADER ONLY
A4: ID CODE OF THE RESPONDENT FROM THE STAFF ROSTER
A6: In this part of the questionnaire I would like to ask you some questions regarding how work is organized and decisions are made in this facility. All answers are confidential.
A7: I am now going to read you a series of statements about decision-making and authority in this facility. Please telll me whether you feel these are true most of the time, more than half of the time, less than half of the time, rarely or never. | J7: `
B8: PLEASE SHOW AND ASK TO PICK OUT THE COLORED AND NUMBERED CARDS
D9: RESPONSE CODE
D10: MOST OF THE TIME | G10: 1
D11: MORE THAN HALF OF THE TIME | G11: 2 | H11: RECORD RESPONSE CODE
D12: LESS THAN HALF OF THE TIME | G12: 3
D13: ONLY RARELY | G13: 4
D14: NEVER | G14: 5
A15: =A1-0.01 -> -11.01 | B15: I am able to allocate my facility budget according to how it is needed. There is enough flexibility in my budget.
A16: =A15-0.01 -> -11.02 | B16: I am able to assign tasks and activities to staff as needed to achieve the outcomes I want in the facility. There is enough flexibility to use staff to address needs. | C16: 1 | D16: 2 | E16: 3 | F16: 4 | G16: 5
A17: =A16-0.01 -> -11.03 | B17: The District Health Management Team supports my decisions and actions for doing a better job in my facility. | C17: 1 | D17: 2 | E17: 3 | F17: 4 | G17: 5
A18: =A17-0.01 -> -11.04 | B18: I have choice over who I allocate for what tasks. | C18: 1 | D18: 2 | E18: 3 | F18: 4 | G18: 5
A19: =A18-0.01 -> -11.05 | B19: I have choice over what services are provided in the facility. | C19: 1 | D19: 2 | E19: 3 | F19: 4 | G19: 5
A20: =A19-0.01 -> -11.06 | B20: I have enough authority to obtain the resources I need (drugs, supplies, funding) to meet the needs of my facility. | C20: 1 | D20: 2 | E20: 3 | F20: 4 | G20: 5
A21: =A20-0.01 -> -11.07 | B21: The policies and procedures for doing things are clear to me. | C21: 1 | D21: 2 | E21: 3 | F21: 4 | G21: 5
A22: =A21-0.01 -> -11.08 | B22: The policies and procedures for doing things are useful tools for the challenges I face in providing services and reporting on activities. | C22: 1 | D22: 2 | E22: 3 | F22: 4 | G22: 5
A23: =A22-0.01 -> -11.09 | B23: The District Health Management Team provides adequate feedback to me about my job and the performance of my facility. | C23: 1 | D23: 2 | E23: 3 | F23: 4 | G23: 5

Sheet 12DO
A1: =-12 -> -12 | B1: Direct Observation
A2: INTERVIEWER: THERE IS NO RESPONDENT FOR THIS SECTION OF THE QUESTIONNAIRE. AFTER SEEKING PERMISSION, YOU SHOULD WALK AROUND THE FACILITY AND OBSERVE THE ITEMS OUTLINED IN THIS SECTION.
A3: (A) | B3: General | H3: RECORD RESPONSE
A4: =A1-0.01 -> -12.01 | B4: Is there a reception/registration room in this facility? INTERVIEWER: CONFIRM WITH DIRECT OBSERVATION. | C4: YES | E4: 1
C5: NO | E5: 2
A6: =A4-0.01 -> -12.02 | B6: Is there a waiting room in this facility? INTERVIEWER: CONFIRM WITH DIRECT OBSERVATION. | C6: YES | E6: 1
C7: NO | E7: 2
A8: =A6-0.03 -> -12.05 | B8: Are there observation beds in this facility? INTERVIEWER: CONFIRM WITH DIRECT OBSERVATION. | C8: YES | E8: 1
C9: NO | E9: 2 | F9: ► | G9: =A16 -> -12.1
A10: =A8-0.01 -> -12.06 | B10: INTERVIEWER: RECORD HOW MANY OBSERVATION BEDS ARE PRESENT. IF ZERO, RECORD "0".
A12: =A10-0.01 -> -12.07 | B12: Are there separate wards for men and women in this facility? INTERVIEWER: CONFIRM WITH DIRECT OBSERVATION. | C12: YES | E12: 1
C13: NO | E13: 2 | F13: ► | G13: =A16 -> -12.1
A14: =A12-0.01 -> -12.08 | B14: Number of beds for Men. INTERVIEWER: CONFIRM WITH DIRECT OBSERVATION.
A15: =A14-0.01 -> -12.09 | B15: Number of beds for Women. INTERVIEWER: CONFIRM WITH DIRECT OBSERVATION.
A16: =A15-0.01 -> -12.1 | B16: Is a functional toilet facility available? INTERVIEWER: CONFIRM WITH DIRECT OBSERVATION. | C16: YES | E16: 1
C17: NO | E17: 2
A18: =A16-0.01 -> -12.11 | B18: Are there separate toilet facilities for men and women? INTERVIEWER: CONFIRM WITH DIRECT OBSERVATION. | C18: YES | E18: 1
C19: NO | E19: 2
A20: =A18-0.01 -> -12.12 | B20: Does the facility have accommodations for health workers who are on-call during non-routine hours, e.g. night shift? INTERVIEWER: CONFIRM WITH DIRECT OBSERVATION. | C20: YES | E20: 1
C21: NO | E21: 2
A22: (B) | B22: Posting of User Fees | H22: RECORD RESPONSE
A23: =A20-0.01 -> -12.13 | B23: Is there any posting in the facility that shows the user fees for outpatient visits? INTERVIEWER: IF YES, LOOK FOR POSTING IN FACILITY. | C23: YES, SEEN | E23: 1
C24: YES, NOT SEEN | E24: 2
C25: NO | E25: 3
A26: =A23-0.01 -> -12.14 | B26: Is there any posting in the facility that shows laboratory fees for outpatients? INTERVIEWER: IF YES, LOOK FOR POSTING IN FACILITY. | C26: YES, PUBLICLY POSTED | E26: 1
C27: YES, NOT POSTED | E27: 2
C28: NO, NOT POSTED | E28: 3
A29: =A26-0.01 -> -12.15 | B29: Is there any posting in the facility that shows X-ray fees for outpatients? INTERVIEWER: IF YES, LOOK FOR POSTING IN FACILITY. | C29: YES, PUBLICLY POSTED | E29: 1
C30: YES, NOT POSTED | E30: 2
C31: NO, NOT POSTED | E31: 3
A32: =A29-0.01 -> -12.16 | B32: Is there any posting in the facility that shows supplies fees for outpatients? INTERVIEWER: IF YES, LOOK FOR POSTING IN FACILITY. | C32: YES, PUBLICLY POSTED | E32: 1
C33: YES, NOT POSTED | E33: 2
C34: NO, NOT POSTED | E34: 3
A35: =A32-0.01 -> -12.17 | B35: Is any of the following posted publicly for patients to see? | C35: a. | D35: Inpatient capacity (Number of beds)
B36: INTERVIEWER: FOR EACH DOCUMENT, ASK TO SEE THE DOCUMENTS POSTED AND RECORD ACCORDING TO THE FOLLOWING CODES: | C36: b. | D36: Service days/hours
C37: c. | D37: Staff rotation
B38: YES AND SEEN………….1 | C38: d. | D38: Management contact
B39: YES, NOT SEEN……...…2 | C39: e. | D39: Complaints and suggestions handling policy
B40: NO…………………………..3 | C40: f. | D40: Other, specify: _________________________
A41: (C) | B41: National Protocols | H41: RECORD RESPONSE
...

Sheet 13DOEquipment
A1: =-13 -> -13 | B1: Equipment (Direct Observation)
A2: INTERVIEWER: THERE IS NO RESPONDENT FOR THIS SECTION OF THE QUESTIONNAIRE. AFTER SEEKING PERMISSION, YOU SHOULD WALK AROUND THE FACILITY AND OBSERVE THE ITEMS OUTLINED IN THIS SECTION.
B3: General equipment | G3: RECORD RESPONSE
A4: =A1-0.01 -> -13.01 | B4: Where is the outpatient equipment located? | C4: Separate outpatient room | F4: 1
C5: Room that is also used for other activities | F5: 2
C6: Other, specify: ___________________ | F6: 96
A7: =A4-0.01 -> -13.02 | B7: PLEASE RECORD THE QUANTITY FOR EACH TYPE OF EQUIPMENT. RECORD 98 IF NOT FUNCTIONING OR NOT AVAILABLE | G7: QUANTITY AVAILABLE AND FUNCTIONING
A8: a. | B8: Timer or clock with seconds hand
A9: b. | B9: Children’s weighing scale
A10: c. | B10: Height measure
A11: d. | B11: Tape measure
A12: e. | B12: Adult weighing scale
A13: f. | B13: Blood pressure instrument
A14: g. | B14: Thermometer
A15: h. | B15: Stethoscope
A16: i. | B16: Fetoscope
A17: j. | B17: Otoscope
A18: k. | B18: Suction/aspirating device
A19: l. | B19: Vision chart
... A28: u. | B28: Oral Rehydration Therapy (ORT) corner with equipment (I liter container, cups and spoons and rehydration guidelines)
A29: Sterilizing Equipment | G29: RECORD RESPONSE
A30: =A7-0.01 -> -13.03 | B30: Where is the sterilization equipment located? | C30: Separate sterilization room | F30: 1
C31: Room that is also used for other activities | F31: 2
C32: Other, specify: ___________________ | F32: 96
A33: =A30-0.01 -> -13.04 | B33: PLEASE RECORD THE QUANTITY FOR EACH TYPE OF EQUIPMENT. RECORD 98 IF NOT FUNCTIONING OR NOT AVAILABLE | G33: QUANTITY AVAILABLE AND FUNCTIONING
A34: a. | B34: Electric autoclave (pressure and wet heat)
A35: b. | B35: Non-electric autoclave (pressure and wet heat)
A36: c. | B36: Electric dry heat sterilizer
A37: d. | B37: Electric boiler or steamer (no pressure)
A38: e. | B38: Non-electric pot with cover (steam boil)
A39: f. | B39: Heat source for non-electric equipment
A40: g. | B40: Automatic timer (MAY BE ON EQUIPMENT)
A41: h. | B41: Time, Steam and Temperature (TST) Indicator strips or other sterilization indicators
A42: Vaccination Equipment | G42: RECORD RESPONSE
A43: =A33-0.01 -> -13.05 | B43: Where is the vaccination equipment located? (VACCINATION EQUIPMENT: VACCINE FRIDGE PARRAFIN OR ELECTRIC, COLD BOX, VACCINE CARRIERS) | C43: Separate vaccination room | F43: 1
C44: Room that is also used for other activities | F44: 2
C45: Other, specify: ___________________ | F45: 96
A46: =A43-0.01 -> -13.06 | B46: PLEASE RECORD THE QUANTITY FOR EACH TYPE OF EQUIPMENT. RECORD 98 IF NOT FUNCTIONING OR NOT AVAILABLE | G46: QUANTITY AVAILABLE AND FUNCTIONING
A47: a. | B47: Main vaccine thermometer
A48: b. | B48: Cold box / Vaccine carrier
...

Sheet 14DODrugs
A1: =-14 -> -14 | B1: Drug and Vaccine Storage and Availability
A2: RESPONDENT: PHARMACIST, HEAD OF THE FACILITY OR BEST INFORMED STAFF MEMBER.
A3: Now I would like to ask you some questions about drug storage and availability in this facility.
A4: =A1-0.01 -> -14.01 | B4: Do the following entities have the authority to procure drugs and equipment for this facility, ….? | C4: a. | D4: Health facility manager/ in charge
C5: b. | D5: Health facility staff
B6: INTERVIEWER: READ ALL OPTIONS ALOUD. FOR EACH OPTION, RECORD "1" IF YES, "2" IF NO. | C6: c. | D6: Non Governmental Organization staff
C7: d. | D7: Local government
C8: e. | D8: National government
C9: f. | D9: Community Health Worker Cooperative president / leader
C10: g. | D10: Community Health Workers
C11: h. | D11: Community members
C12: i. | D12: Health Committee
C13: j. | D13: Other, specify: ______________________
A14: =A4-0.01 -> -14.02 | B14: Could you bring me to the place in this facility that is used to store drugs? | C14: YES, SEEN | D14: 1
C15: YES, NOT SEEN | D15: 2
C16: NO, THERE IS NO SUCH PLACE | D16: 3
A17: =A14-0.01 -> -14.03 | B17: INTERVIEWER: IS THIS A SEPARATE ROOM FROM THE REST OF THE FACILITY? | C17: YES | F17: 1
C18: NO | F18: 2
A19: =A17-0.01 -> -14.04 | B19: Does this pharmacy serve only to store and dispense drugs, or does it also serve for other purposes? | C19: Only to store and dispense drugs | F19: 1
C20: Also serves for other purposes | F20: 2
A21: =A19-0.01 -> -14.05 | B21: Can the doors and windows be locked to keep the pharmacy secured? | C21: YES | F21: 1
C22: NO | F22: 2
A23: =A21-0.01 -> -14.06 | B23: INTERVIEWER: DOES THE DRUG AREA LOOK CLEAN, PARTIALLY DIRTY, OR DIRTY? | C23: CLEAN | F23: 1
C24: PARTIALLY DIRTY | F24: 2
C25: DIRTY | F25: 3
A26: =A23-0.01 -> -14.07 | B26: INTERVIEWER: DO THE CEILING, WALLS, FLOORS AND WINDOWS LOOK DRY AND FREE FROM TRACES OF WATER INFILTRATION? | C26: DRY, NO TRACES OF WATER INFILTRATION | F26: 1
C27: DRY BUT THERE ARE TRACES OF WATER INFILTRATION | F27: 2
C28: THERE IS WETNESS / WATER | F28: 3
A29: =A26-0.01 -> -14.08 | B29: INTERVIEWER: ARE THE WINDOWS COVERED TO KEEP THE SUNLIGHT OUT? | C29: WINDOWS COVERED | F29: 1
C30: WINDOWS NOT COVERED | F30: 2
C31: NO WINDOWS | F31: 3
A32: =A29-0.01 -> -14.09 | B32: INTERVIEWER: ARE THE DRUGS KEPT ON AN ELEVATED PLATFORM? | C32: YES | F32: 1
C33: NO | F33: 2
A34: =A32-0.01 -> -14.1 | B34: Does the pharmacy maintain stock cards or stock register? INTERVIEWER: IF YES, ASK TO SEE CARDS/REGISTER. | C34: YES, SEEN | F34: 1
C35: YES, NOT SEEN | F35: 2
C36: NO | F36: 3
A37: ="FOR EACH DRUGS, ASK QUESTIONS "& TEXT(-C38,"(0.00)") & " THROUGH " & TEXT(-G38,"(0.00)") -> FOR EACH DRUGS, ASK QUESTIONS (14.11) THROUGH (14.14)
C38: =A34-0.01 -> -14.11 | D38: =C38-0.01 -> -14.12 | E38: =D38-0.01 -> -14.13 | G38: =E38-0.01 -> -14.14
C39: What is the strength of [DRUGS] that is stocked? | D39: What quantity of [DRUGS] are available at this time? | E39: In the past 30 days, has the item been out of stock at any time? | G39: In the past 30 days, how many days has the item been out of stock?
D40: ="IF NONE, RECORD 00 and ► "&TEXT(-G38,"(0.00)") -> IF NONE, RECORD 00 and ► (14.14) | E40: YES | F40: 1
...

Sheet 15CatchmentA
A1: =-15 -> -15 | B1: Catchment area | H1: RECORD RESPONSE
A2: =A1-0.01 -> -15.01 | B2: What is the catchment population of this facility? | C2: Central Statistical Office (CSO)
C3: Facility headcount

Sheet 16Finances
A1: 16 | B1: General Financial Information For Facility
A2: QUESTIONS 16.1.0-16.1.11 BELOW ASK ABOUT FUNDING AND EXPENDITURE IN THE FACILITIES. PLEASE DO NOT INCLUDE VERTICAL HEALTH PROGRAMS IN YOUR ANSWERS
D6: Yes | F6: No
A7: 16.1.0 | C7: Does this facility have a bank account? | D7: 1 | F7: 2
A8: 16.1.1 | C8: How far is the bank from the facility (RECORD DISTANCE) | D8: KM
H9: Yes | I9: No
A10: 16.1.2 | D10: a. User fees | H10: 1 | I10: 2
C11: List ALL sources of funding or income for this facility? | D11: b. Drug sales | H11: 1 | I11: 2
C12: RECORD YES OR NO FOR EACH. | D12: c. Religious organization | H12: 1 | I12: 2
C13: Yes 1 | D13: d. External (foreign) donors and NGOs | H13: 1 | I13: 2
C14: No 2 | D14: e. Private company | H14: 1 | I14: 2
D15: f. Central Government | H15: 1 | I15: 2
D16: g. Local Government | H16: 1 | I16: 2
D17: Community-based health insurance | H17: 1 | I17: 2
D18: Private health insurance | H18: 1 | I18: 2
D19: Social health insurance | H19: 1 | I19: 2
D20: Other health Insurance schemes (specify:______) | H20: 1 | I20: 2
D21: i. Community donations or contributions | H21: 1 | I21: 2
D23: j. Domestic NGOs | H23: 1 | I23: 2
D24: k. In-kind payments | H24: 1 | I24: 2
D25: l. Other (Specify) | H25: 1 | I25: 2
A26: 16.1.3 | C26: Can you please indicate the amount received from each of the following income sources in 2013? | D26: a. User fees
D27: b. Drug sales
D28: c. Religious organization
D29: d. External (foreign) donors and NGOs
D30: e. Private company
D31: f. Central Government
D32: g. Local Government
D33: h. Community donations/contributions
D34: Community-based health insurance
D35: Private health insurance
D36: Social health insurance
D37: Other health Insurance schemes (specify:______)
D38: j. Domestic NGOs
D39: l. Other (Specify)
A40: 16.1.4 | C40: What was the total budget for 2013?
C41: CHECK AND VERIFY THAT THIS AMOUNT EQUALS TO SUM OF ALL SOURCES
A43: 16.1.5 | C43: (If facility reports having in-kind payment) Please describe what the in-kind contribution for and an estimated equivalent amount from each of the following source for 2013 | F43: Description of in-kind payment | K43: Equivalent amount (KWACHA)
D44: a. Religious organization
D45: b. External (foreign) donors and NGOs
...

Sheet 17RBFeffects
A1: =-17 -> -17 | B1: RBF EFFECTS
B2: ENUMERATOR: THIS SECTION APPLIES TO ONLY FACILITIES IMPLEMENTING RBF PROJECT.
B3: SUBJECT: ALL STAFF MEMBERS, WHETHER TEMPORARY OR PERMANENT, CLINICAL OR NON-CLINICAL, STARTING WITH THE HEAD OF THE FACILITY
B4: RESPONDENT: HEAD OF FACILITY OR BEST INFORMED STAFF MEMBER
B5: =A1-0.01 -> -17.01 | C5: =B5-0.01 -> -17.02 | D5: =C5-0.01 -> -17.03 | E5: =D5-0.01 -> -17.04 | F5: =E5-0.01 -> -17.05 | G5: =F5-0.01 -> -17.06 | H5: =G5-0.01 -> -17.07 | I5: =H5-0.01 -> -17.08 | J5: =I5-0.01 -> -17.09
A6: ID CODE | B6: Please list position of staff that is involved in providing RBF services | C6: Number of staff in this position | D6: Was anyone in this position hired specifically to help with increased workload generated by RBF? (Yes=1 No=0) | E6: over the last quarter, what percentage of work time did staff in this position devote to RBF services? | F6: over the last quarter, how much did staff in this position receive as RBF bonus in KWACHA? | G6: over the last quarter, what percentage of earning from all sources for this staff (not including RBF sources) is that RBF bonus amount? E.G. IF EARNING FROM OTHER SOURCES INCLUDING SALARY BUT NOT FROM RBF BONUSES IS K3000 FOR THE LAST QUARTER AND RBF BONUS FOR THE SAME QUARTER IS K300; THEN IT WILL BE 10% (RBF BONUS/OTHER SOURCES OF INCOME) ENUMERATOR: BOTH AMOUNTS (RBF BONUS AND OTHER INCOME) SHOULD BE CALCULATED AS QUARTERLY AMOUNTS | H6: over the same quarter last year, what percentage of work time did staff in this position devote to RBF services? | I6: over the same quarter last year, how much did staff in this position receive as RBF bonus in KWACHA? | J6: Over the same quarter last year, what percentage of earning from all sources in this facility (not including RBF sources) is that RBF bonus amount? E.G. IF EARNING FROM OTHER SOURCES INCLUDING SALARY BUT NOT FROM RBF BONUSES IS K3000 FOR THE LAST QUARTER AND RBF BONUS FOR THE SAME QUARTER IS K300; THEN IT WILL BE 10% (RBF BONUS/OTHER SOURCES OF INCOME) ENUMERATOR: BOTH AMOUNTS (RBF BONUS AND OTHER INCOME) SHOULD BE CALCULATED AS QUARTERLY AMOUNTS
C7: (average if more than one staff in this category)
A8: 1 | B8: Doctor or medical officer
A9: =A8+1 -> 2 | B9: Clinical officer
A10: =A9+1 -> 3 | B10: Hospital administrator/ Executive director
A11: =A10+1 -> 4 | B11: Nurse (REN/ZEN)
A12: =A11+1 -> 5 | B12: Midwife (REM/ZEM)
A13: =A12+1 -> 6 | B13: Pharmacist
A14: =A13+1 -> 7 | B14: Environmental health technologist
A15: =A14+1 -> 8 | B15: Nursing assistant
A16: =A15+1 -> 9 | B16: Pharmacy technician/Dispenser
A17: =A16+1 -> 10 | B17: Lab technologist
A18: =A17+1 -> 11 | B18: Lab technician
A19: =A18+1 -> 12 | B19: Classified Daily Employee (CDE)
A20: =A19+1 -> 13 | B20: Other 1 (specify)
... A22: =A21+1 -> 15 | B22: Other 3 (specify)
