Workbook
Name _Print_Area: '1_ Exit Identification'!$A$1:$J$15
Name _Print_Area: '2 Trtmnt Counselling'!$A$1:$J$162
Name _Print_Area: '3_Time and expense'!$A$1:$J$43
Name _Print_Area: '4_Pt Satisfaction'!$A$1:$G$16
Name _Print_Area: '5_Security'!#REF!
Name _Print_Area: '6_Household1'!$A$1:$J$24
Name _Print_Area: '6_Household2'!$A$1:$F$43
Name _Print_Area: '7 CHW'!$A$1:$H$26
Name _Print_Area: '8 TBA'!$A$1:$K$23

Sheet Cover
A1: Health Results Based Financing Impact Evaluation | O1: IDENTIFIER
A2: ZAMBIA | O2: SURVEY AREA NUMBER | R2: PRENATAL EXIT INTERVIEW NUMBER
A3: 2014
A5: HEALTH FACILITY QUESTIONNAIRE
A6: F3: EXIT INTERVIEW OF ANTENATAL CARE VISIT
A8: GEOGRAPHICAL LOCATION
B10: Province: | I10: District
B12: HEALTH FACILITY NAME: | N12: HEALTH FACILITY CODE:
A14: INTERVIEWER AND VISITS
A15: NAME: | N15: CODE:
A17: VISIT # 1: | C17: DAY | E17: MONTH | G17: YEAR | N17: RESULT OF THE INTERVIEW:
N18: INTERVIEW DONE | U18: 1
N19: PARTIALLY COMPLETED | U19: 2
A20: VISIT # 2: | C20: DAY | E20: MONTH | G20: YEAR | N20: PERSON IN CHARGE REFUSED INTERVIEW | U20: 3
N21: PERSON IN CHARGE IS OUT (STAFF THAT IS PRESENT IS NOT AUTHORIZED) | U21: 4
N22: FACILITY IS EMPTY (NO STAFF MEMBERS) | U22: 5
A23: VISIT # 3: | C23: DAY | E23: MONTH | G23: YEAR | N23: HEALTH FACILITY NOT FOUND | U23: 6
N24: PATIENT REFUSED INTERVIEW | U24: 7
N25: OTHER, SPECIFY: _______________________ | U25: 96
A27: LANGUAGE USED
A29: …BY THE INTERVIEWER? | F29: … BY THE RESPONDENT? | L29: TRANSLATOR USED?
C32: ENGLISH | H32: 1 | M32: NEVER | Q32: 1
C33: LANGUAGE 2 | H33: 2 | M33: SOMETIMES | Q33: 2
C34: OTHER (SPECIFY:__________) | H34: 96 | M34: ALWAYS | Q34: 3
A36: INFORMED CONSENT, TO BE DONE BEFORE THE START OF THE INTERVIEW
A37: INTERVIEWER, READ: hello, my name is ____ and i work with the university of zambia. the ministry of health has asked us to conduct a survey of health facilities in zambia. today we are interviewing health facility staff, health facility heads, and patients. we are trying to find out the general level of service delivery and quality in the primary health facilities of zambia. if you agree to participate, your confidentiality will be respected. you have the right to refuse to participate at the beginning of the interview or at any time during the interview. however, the information you can give us is important for the ministry to improve health services in zambia. are you willing to participate in an interview today?
F43: YES | H43: 1
F44: NO | H44: 2
A46: VERIFICATION OF QUESTIONNAIRE BY SUPERVISOR
K48: DAY | M48: MONTH | O48: YEAR
A49: NAME: | G49: CODE:
A51: DATA ENTRY OPERATOR
K53: DAY | M53: MONTH | O53: YEAR
A54: NAME: | G54: CODE:
A56: THIS PAGE WAS INTENTIONALLY LEFT BLANK

Sheet 1_ Exit Identification
A1: =-1 -> -1 | B1: Identification | G1: RECORD RESPONSE
A2: I am going to start the interview by asking you some questions about yourself.
A3: =A1-0.01 -> -1.01 | B3: Can you tell me how old you are? | C3: YEARS (COMPLETED)
A4: =A3-0.01 -> -1.02 | B4: Can you read and write? | C4: YES | D4: 1
C5: NO | D5: 2
A6: =A4-0.01 -> -1.03 | B6: What is the highest level and grade of education that you completed? | C6: Primary | D6: 1
C7: Secondary | D7: 2
C8: College | D8: 3
C9: University | D9: 4
C10: None | D10: 98 | E10: ► | F10: =A12 -> -1.04
C11: GRADE OR NUMBER OF YEARS COMPLETED WITHIN THAT GRADE
A12: =A6-0.01 -> -1.04 | B12: What is your marital status? | C12: Single | D12: 1 | E12: ► | F12: ='2 Trtmnt Counselling'!A2 -> -2.01
C13: Married/Living together | D13: 2
C14: Widowed | D14: 3 | E14: ► | F14: ='2 Trtmnt Counselling'!A2 -> -2.01
C15: Divorced/separated | D15: 4 | E15: ► | F15: ='2 Trtmnt Counselling'!A2 -> -2.01
A16: =A12-0.01 -> -1.05 | B16: What is the highest level and grade of education that your spourse / partner completed? | C16: Primary | D16: 1
C17: Secondary | D17: 2
C18: College | D18: 3
C19: University | D19: 4
C20: None | D20: 98 | E20: ► | F20: ='2 Trtmnt Counselling'!A2 -> -2.01
C21: GRADE OR NUMBER OF YEARS COMPLETED WITHIN THAT GRADE

Sheet 2 Trtmnt Counselling
A1: =-2 -> -2 | B1: Treatment and counseling | G1: RECORD RESPONSE
A2: =A1-0.01 -> -2.01 | B2: During this visit to the health center, how many health workers provided care to you? This includes any doctors, nurses, pharmacist, lab technician, midwife, etc. who directly took care of you or provided you with advice or medicine.
A3: =A2-0.01 -> -2.02 | B3: What is the name of the (first) health worker who provided care to you?
A4: =A3-0.01 -> -2.03 | B4: ENTER HEALTH WORKER ID CODE FROM THE FACILITY STAFF ROSTER
B5: CHECK IF PATIENT SAW MORE THAN ONE HEALTH WORKER | C5: IF PATIENT SAW MORE THAN ONE PROVIDER, ASK NAMES OF ALL PROVIDERS. OTHERWISE, ► 2.10
A6: =A4-0.01 -> -2.04 | B6: What is the name of the second health worker who provided care to you?
A7: =A6-0.01 -> -2.05 | B7: ENTER HEALTH WORKER ID CODE FROM THE FACILITY STAFF ROSTER
A8: =A7-0.01 -> -2.06 | B8: What is the name of the third health worker who provided care to you?
A9: =A8-0.01 -> -2.07 | B9: ENTER HEALTH WORKER ID CODE FROM THE FACILITY STAFF ROSTER
A10: =A9-0.01 -> -2.08 | B10: What is the name of the fourth health worker who provided care to you?
A11: =A10-0.01 -> -2.09 | B11: ENTER HEALTH WORKER ID CODE FROM THE FACILITY STAFF ROSTER
A12: =A11-0.01 -> -2.1 | B12: Do you have an antenatal-care card/book, or an immunisation card with you today? IF YES: ASK TO SEE THE CARD/BOOK. | C12: Yes, card/book seen | D12: 1
C13: Yes, card/book not seen | D13: 2 | E13: ► | F13: =A28 -> -2.15
C14: No, card/book kept with facility | D14: 3 | E14: ► | F14: =A28 -> -2.15
C15: No, card/book used | D15: 4 | E15: ► | F15: =A28 -> -2.15
A16: =A12-0.01 -> -2.11 | B16: CHECK ANTENATAL-CARE CARD/BOOK, OR IMMUNIZATION CARD. INDICATE WHETHER THERE IS ANY NOTE OR RECORD OF THE CLIENT HAVING RECEIVED TETANUS TOXOID. | C16: YES, 1 TIME | D16: 1
C17: YES, 2 OR MORE TIMES | D17: 2
C18: NO | D18: 3
A19: =A16-0.01 -> -2.12 | B19: HOW MANY WEEKS PREGNANT IS THE CLIENT, ACCORDING TO THE ANTENATAL CARE CARD/BOOK? | C19: # WEEKS
A22: =A19-0.01 -> -2.13 | B22: DOES THE CARD/BOOK INDICATE THE CLIENT HAS RECEIVED INTERMITTENT PREVENTIVE TREATMENT (IPT) AGAINST MALARIA? (IF NON MALARIOUS AREA, CHOOSE "NOT APPLICABLE") | C22: YES, 1 DOSE | D22: 1
C23: YES, 2 DOSES | D23: 2
C24: NO | D24: 3
C25: NOT APPLICABLE | D25: 98
A26: =A22-0.01 -> -2.14 | B26: DOES THE CARD/BOOK MENTION THE CLIENT'S BLOOD GROUP? | C26: YES | D26: 1
C27: NO | D27: 2
A28: =A26-0.01 -> -2.15 | B28: How long have you been pregnant? (RECORD MONTHS OR WEEKS) | C28: a. WEEKS
C29: b. MONTHS
A30: =A28-0.01 -> -2.16 | B30: Is this your first pregnancy? | C30: YES | D30: 1
C31: NO | D31: 2
A32: 2.16A | B32: Is this your first antenatal visit for this pregnancy? | C32: YES | D32: 1 | E32: ► | F32: 2.19 A
C33: NO | D33: 2
A34: =A30-0.01 -> -2.17 | B34: Is this your first antenatal visit at this facility for this pregnancy? | C34: YES | D34: 1 | E34: ► | F34: =A38 -> -2.19
C35: NO | D35: 2
A36: =A34-0.01 -> -2.18 | B36: Including this visit, how many antenatal care visits have you had for this pregnancy to this health facility?
A38: =A36-0.01 -> -2.19 | B38: How many antenatal care visits have you had for this pregnancy to other health facilities?
A40: 2.19 A | B40: In total, how many antenatal care visits have you had for this pregnancy?
A41: =A38-0.01 -> -2.2 | B41: During this visit, were you weighed? | C41: YES | D41: 1
C42: NO | D42: 2
A43: =A41-0.01 -> -2.21 | B43: During this visit, was your height measured? | C43: YES | D43: 1
C44: NO | D44: 2
...

Sheet 3_Time and expense
A1: =-3 -> -3 | B1: Patient travel and expenditure | G1: RECORD RESPONSE
A2: =A1-0.01 -> -3.01 | B2: How far is your household from this health facility? | C2: KILOMETERS
A3: =A2-0.01 -> -3.02 | B3: How long did it take you to reach this health facility from home today, one way in minutes? | C3: MINUTES
A5: =A3-0.01 -> -3.03 | B5: What was your primary mode of transportation today? (One way) | C5: By foot | D5: 1 | E5: ► | F5: =A14 -> -3.05
C6: Bicycle | D6: 2
C7: Animal | D7: 3
C8: Private car | D8: 4
C9: Public car/bus including cab | D9: 5
C10: Private motorcycle | D10: 6
C11: Taximoto | D11: 7
C12: Other (Specify:_____________) | D12: 96
A13: =A5-0.01 -> -3.04 | B13: How much did it cost in KWACHA for you to travel to the health facility today, one way? | C13: KWACHA
A14: =A13-0.01 -> -3.05 | B14: How long did you wait in the health facility before being seen in consultation by the health worker? | C14: MINUTES
A15: =A14-0.01 -> -3.06 | B15: How long did you spend with the doctor or nurse during the consultation? | C15: MINUTES
A16: =A15-0.01 -> -3.07 | B16: Do you think waiting time was too long? | C16: YES | D16: 1
C17: NO | D17: 2
A18: =A16-0.01 -> -3.08 | B18: Did you have to pay a registration, consultation or doctor's fee? | C18: YES | D18: 1
C19: NO | D19: 2 | E19: ► | F19: =A21 -> -3.1
A20: =A18-0.01 -> -3.09 | B20: How much did you pay for this in KWACHA? | C20: KWACHA
A21: =A20-0.01 -> -3.1 | B21: Was a laboratory test done? | C21: YES | D21: 1
C22: NO | D22: 2 | E22: ► | F22: =A24 -> -3.12
A23: =A21-0.01 -> -3.11 | B23: How much was paid in KWACHA for this? | C23: KWACHA
A24: =A23-0.01 -> -3.12 | B24: Was an ultrasound done? | C24: YES | D24: 1
C25: NO | D25: 2 | E25: ► | F25: =A27 -> -3.14
A26: =A24-0.01 -> -3.13 | B26: How much was paid in KWACHA for this? | C26: KWACHA
A27: =A26-0.01 -> -3.14 | B27: Were medicines dispensed to you today? | C27: YES | D27: 1
C28: NO | D28: 2 | E28: ► | F28: =A30 -> -3.16
A29: =A27-0.01 -> -3.15 | B29: How much was paid in KWACHA for this? | C29: KWACHA
A30: =A29-0.01 -> -3.16 | B30: How much was spent in total in KWACHA at the facility for this visit, not including transportation costs? | C30: KWACHA | D30: IF ZERO | E30: ► | F30: =A38 -> -3.18
A31: =A30-0.01 -> -3.17 | B31: Where did the money come from that was used to pay for health care today? | C31: a. SAVINGS OR REGULAR HOUSEHOLD BUDGET
C32: b. HEALTH INSURANCE
B33: DO NOT CITE ANSWERS, BUT FOR EACH OPTION RECORD "1" IF MENTIONED, "2" IF NOT MENTIONED. YOU MAY PROBE WITHOUT USING SPECIFIC ANSWERS (E.G., "ANYTHING ELSE?") | C33: c. SELLING HOUSEHOLD POSSESSIONS
C34: d. MORTGAGING OR SELLING LAND OR REAL ESTATE
C35: e. FROM A FRIEND OR RELATIVE
C36: f. FROM SOMEONE OTHER THAN FAMILY AND FRIENDS
C37: g. OTHER(SPECIFY: __________________________)
A38: =A31-0.01 -> -3.18 | B38: Are you currently covered under a health insurance scheme? | C38: YES | D38: 1
C39: NO | D39: 2 | E39: ► | F39: -4.01
A40: =A38-0.01 -> -3.19 | B40: What type of health insurance is this? Is it Public, Private or both? | C40: Public | D40: 1
C41: Private | D41: 2
...

Sheet 4_Pt Satisfaction
A1: =-4 -> -4 | B1: Patient satisfaction | F1: RECORD RESPONSE
A2: =A1-0.01 -> -4.01 | B2: What was the most important reason you chose this health facility today instead of a different source of care? | C2: LOCATION CLOSE TO HOME | E2: 1
C3: LOW COST | E3: 2
C4: TRUST IN PROVIDERS / HIGH QUALITY CARE | E4: 3
C5: AVAILABILITY OF DRUGS | E5: 4
B6: DO NOT READ OPTIONS ALOUD. ONLY ONE ANSWER IS ALLOWED. | C6: AVAILABILITY OF FEMALE PROVIDER | E6: 5
C7: RECOMMENDATION OR REFERRAL | E7: 6
C8: OTHER (SPECIFY: ______________________) | E8: 96
A9: =A2-0.01 -> -4.02 | B9: What was the next most important reason you chose this health facility today instead of a different source of care, if there is any other reason? | C9: NO OTHER REASON | E9: 1
C10: LOCATION CLOSE TO HOME | E10: 2
C11: LOW COST | E11: 3
C12: TRUST IN PROVIDERS / HIGH QUALITY CARE | E12: 4
C13: AVAILABILITY OF DRUGS | E13: 5
B14: DO NOT READ OPTIONS ALOUD. ONLY ONE ANSWER IS ALLOWED. | C14: AVAILABILITY OF FEMALE PROVIDER | E14: 6
C15: RECOMMENDATION OR REFERRAL | E15: 7
C16: OTHER, SPECIFY: | E16: 96
A17: I’m going to read you a series of statements regarding this health facility. Please tell me if you agree, neither agree nor disagree or disagree with each statement. Some statements may not apply to your situation. Please let me know if a statement does not apply to you.
C18: RESPONSE | F18: RECORD RESPONSE CODE
B20: READ EACH STATEMENT TO THE RESPONSDENT AND RECORD THE RESPONSE CODE FOR EACH QUESTION. | C20: ='4_Pt Satisfaction'!A9-0.01 -> -4.03 | D20: It is convenient to travel from your house to the health facility.
C21: =C20-0.01 -> -4.04 | D21: The health facility is clean.
C22: =C21-0.01 -> -4.05 | D22: The health staff are courteous and respectful.
C23: =C22-0.01 -> -4.06 | D23: The health workers did a good job of explaining your condition.
B24: PLEASE SHOW AND ASK TO PICK OUT THE COLORED AND NUMBERED CARDS WITH RESPONSE CODES | C24: =C23-0.01 -> -4.07 | D24: It is easy to get medicine that health workers prescribe.
C25: =C24-0.01 -> -4.08 | D25: The registration fees of this visit to the health facility were reasonable.
B26: RESPONSE CODE | C26: =C25-0.01 -> -4.09 | D26: The lab fees of this visit to the health facility were reasonable.
B27: AGREE 1 | C27: =C26-0.01 -> -4.1 | D27: The medication fees of this visit to the health facility were reasonable.
B28: NEITHER AGREE OR DISAGREE 2 | C28: =C27-0.01 -> -4.11 | D28: The transport fees for this visit to the health facility were reasonable.
B29: DISAGREE 3 | C29: =C28-0.01 -> -4.12 | D29: The amount of time you spent waiting to be seen by a health provider was reasonable.
B30: NOT APPLICABLE 4 | C30: =C29-0.01 -> -4.13 | D30: You had enough privacy during your visit.
C31: =C30-0.01 -> -4.14 | D31: The health worker spent a sufficient amount of time with you.
C32: =C31-0.01 -> -4.15 | D32: The hours the facility is open are adequate to meet your needs.
C33: =C32-0.01 -> -4.16 | D33: The overall quality of services provided was satisfactory.
C34: =C33-0.01 -> -4.17 | D34: Your overall visit was satisfactory.

Sheet 5_Security
A1: =-5 -> -5 | B1: Security and Trust | G1: RECORD RESPONSE
A2: I’m going to read you a series of statements regarding security and trust in this health facility. Please respond to the statements as you did above by confirming if you agree, neither agree nor disagree,or disagree with each statement. Please tell me if any of those statements is not applicable to you.
B3: READ EACH STATEMENT TO THE RESPONSDENT AND RECORD THE RESPONSE CODE FOR EACH QUESTION. | C3: =A1-0.01 -> -5.01 | D3: The level of security in the health facility area makes it difficult for people in the community to use available health services.
C4: =C3-0.01 -> -5.02 | D4: The health workers in this facility are extremely thorough and careful.
C5: =C4-0.01 -> -5.03 | D5: You trust in the skills and abilities of the health workers of this facility.
B6: PLEASE SHOW AND ASK TO PICK OUT THE COLORED AND NUMBERED CARDS WITH RESPONSE CODES | C6: =C5-0.01 -> -5.04 | D6: You completely trust the health worker’s decisions about medical treatments in this facility.
B7: RESPONSE CODES: | C7: =C6-0.01 -> -5.05 | D7: The health workers in this facility are very friendly and approachable.
B8: AGREE 1 | C8: =C7-0.01 -> -5.06 | D8: The health workers in this facility are easy to make contact with.
B9: NEITHER AGREE OR DISAGREE 2 | C9: =C8-0.01 -> -5.07 | D9: The health workers in this facility care about your health just as much or more than you do.
B10: DISAGREE 3 | C10: =C9-0.01 -> -5.08 | D10: The health workersin this facility act differently toward rich people than toward poor people.
B11: NOT APPLICABLE 4 | C11: =C10-0.01 -> -5.09 | D11: All in all, you trust the health worker completely in this health facility.

Sheet 6_Household1
A1: =-6 -> -6 | B1: Questions about the household | G1: RECORD RESPONSE
A2: =A1-0.01 -> -6.01 | B2: Does your household own any land or house? | C2: YES | D2: 1
C3: NO | D3: 2 | E3: ► | F3: =A5 -> -6.03
A4: =A2-0.01 -> -6.02 | B4: If you were to sell the land you own, how much in kwacha do you think you would receive for it? | C4: KWACHA
A5: =A4-0.01 -> -6.03 | B5: For your home, what is the main material used for the following: Wall, Rooftop and Floor? | C5: BRICKS OR BLOCKS | F5: 1 | G5: a. Wall
C6: ASBESTOS | F6: 2
C7: CORRUGATED IRON / METAL | F7: 3
C8: PLASTIC | F8: 4 | G8: b. Rooftop
B9: DO NOT READ CHOICES ALOUD. | C9: POLES / REED | F9: 5
B10: RECORD THE RESPONSE FOR EACH SEPARATELY | C10: TILES / SLATES | F10: 6
C11: THATCH / GRASS | F11: 7 | G11: c. Floor
C12: WOOD / BAMBOO | F12: 8
C13: EARTH / MUD | F13: 9
C14: CONCRETE / CEMENT ONLY | F14: 10
C15: CARDBOARD | F15: 11
C16: OTHER (SPECIFY: __________________) | F16: 96
A17: =A5-0.01 -> -6.04 | B17: How many rooms does your household have, Including rooms outside the main dwelling, not counting the kitchen and bathrooms? DO NOT COUNT KITCHEN AND BATHROOM
A20: =A17-0.01 -> -6.05 | B20: How many people live in your household? WRITE THE TOTAL NUMBER IN EACH CATEGORY. | C20: a. Men 18 years and older
C21: b. Women 18 years and older
C22: c. Children & adolescents between 6 & 17 years
C23: d. Children 5 years and below
C24: e. Total

Sheet 6_Household2
A1: =-6 -> -6 | B1: Questions about the household (continued)
A2: ='6_Household1'!A20-0.01 -> -6.06 | B2: How many [ASSET]s does your household own? ONLY INCLUDE FUNCTIONING ASSETS. IF ZERO, RECORD ZERO AND GO TO NEXT ASSET | F2: RECORD RESPONSE
A4: a | B4: Radio/CD/cassette player?
A5: b | B5: Television?
A6: c | B6: Clothes iron?
A7: d | B7: Electric stove?
A8: e | B8: Gas stove?
A9: f | B9: Paraffin lamp?
A10: g | B10: Bed?
A11: h | B11: Mattress?
A12: i | B12: Refrigerator / freezer?
A13: j | B13: Sewing machine?
A14: k | B14: Table? (for dining?)
A15: l | B15: Sofa?
... A23: t | B23: Hoes / harrows / axes ?
A24: =A2-0.01 -> -6.07 | B24: How many [ANIMAL]s does your household own? IF ZERO, RECORD ZERO AND GO TO NEXT ANIMAL | F24: RECORD RESPONSE
A26: a | B26: Cattle?
A28: b | B28: Goat?
A30: c | B30: Sheep?
A32: d | B32: Pig?
A34: e | B34: Poultry?
A36: f | B36: Game?
A38: g | B38: Donkey/Horse?
A40: h | B40: Oxen?
A42: i | B42: Other?

Sheet 7 CHW
A1: =-7 -> -7 | B1: Community Health Worker | G1: RECORD RESPONSE
A2: =A1-0.01 -> -7.01 | B2: Do you know of any community health workers(CHW) in your community? | C2: YES | D2: 1
C3: NO | D3: 2 | E3: ► | F3: END
A4: =A2-0.01 -> -7.02 | B4: Do you have both male and female Community Health Worker in your community? | C4: Male CHW only | D4: 1
C5: Female CHW only | D5: 2
C6: Both Male and Female | D6: 3
A7: =A4-0.01 -> -7.03 | B7: In the last month, has any community health worker provided services to you while you were in the health post? | C7: YES | D7: 1
C8: NO | D8: 2
A9: =A7-0.01 -> -7.04 | B9: In the last month, has any community health worker provided services to you while you were in your own home? | C9: YES | D9: 1
C10: NO | D10: 2
A11: =A9-0.01 -> -7.05 | B11: In the last month, has any community health worker provided services to you while you were elsewhere in your community? | C11: YES | D11: 1
C12: NO | D12: 2
A13: =A11-0.01 -> -7.06 | B13: CHECK THE PREVIOUS 3 QUESTIONS TO SEE WHETHER RESPONDENT HAS USED SERVICES IN THE LAST MONTH | C13: YES | D13: 1
C14: NO | D14: 2 | E14: ► | F14: =A23 -> -7.08
A15: =A13-0.01 -> -7.07 | B15: What services did the CHW provide you? | C15: a. PROVIDE IRON / FOLIC ACID TABLETS
C16: b. PROVIDE TETANUS TOXOID IMMUNIZATION
B17: DO NOT READ OPTIONS ALOUD. FOR EACH OPTION, RECORD "1" IF MENTIONED, "2" IF NOT MENTIONED. | C17: c. PROVIDE PREVENTIVE ANTIMALARIAL PILLS
C18: d. INFORMATION ON DANGER SIGNS DURING PREGNANCY
C19: e. ADVICE ON EXCLUSIVE BREASTFEEDING
C20: f. HEALTH EDUCATION OR PROMOTION
C21: g. REFERRAL TO HEALTH FACILITY
C22: h. OTHER (SPECIFIY: _______________________________________________________)
A23: =A15-0.01 -> -7.08 | B23: Now I’m going to read you two statements in relation to work done by the Community Health workers. Please indicate if you agree, neither agree nor disagree, or disagree with each statement. | C23: a. Community Health Workers provide a valuable service in my community.
B24: CODES: AGREE =1, | C24: b. Community Health Worker(s) provide good quality service in my community
B25: NEITHER AGREE NOR DISAGREE=2
B26: DISAGREE=3

Sheet 8 TBA
A1: =-8 -> -8 | B1: Traditional Birth Attendant | H1: RECORD RESPONSE
A2: =A1-0.01 -> -8.01 | B2: Do you know of any traditional birth attendant (TBA) in your community? | C2: Yes | D2: 1
C3: No | D3: 2 | E3: ► | F3: END
A4: =A2-0.01 -> -8.02 | B4: Have you used Traditional Birth Attendant services in the last month, either in your own home, in the community or in the health post? | C4: Yes, at own home | D4: 1
C5: Yes, at health post | D5: 2
C6: Yes, in the community | D6: 3
C7: Yes, both at home and in the health post | D7: 4
C8: Yes, both at home and in the community | D8: 5
C9: Yes, both in the health post and in the community | D9: 6
C10: Yes, both at home, in the health post and the community | D10: 7
C11: No | D11: 8 | E11: ► | F11: =A22 -> -8.04
A12: =A4-0.01 -> -8.03 | B12: What services did the TBA provide you? | C12: a. IDENTIFY YOUR PREGNANCY
C13: b. BRING YOU FOR ANTENATAL CHECKUP
B14: DO NOT READ OPTIONS ALOUD. FOR EACH OPTION, RECORD "1" IF MENTIONED, "2" IF NOT MENTIONED. | C14: c. INFORMATION ON DANGER SIGNS DURING PREGNANCY
C15: d. ESCORT TO HEALTH FACILITY FOR DELIVERY
C16: e. HEALTH EDUCATION OR PROMOTION
C17: f. OTHER (SPECIFIY: _____________________________________________)
B18: I’m going to read you two statements in relation to work done by the Traditional Birth Attendant (TBA). Please indicate if you agree, neither agree nor disagree, or disagree with each statement.
D19: Agree | F19: Neither agree nor disagree | G19: Disagree | H19: RECORD RESPONSE
A22: =A12-0.01 -> -8.04 | B22: Traditional Birth Attendants provide a valuable service in my community. | D22: 1 | F22: 2 | G22: 3
A23: =A22-0.01 -> -8.05 | B23: Traditional Birth Attendants provide good quality service in my community | D23: 1 | F23: 2 | G23: 3
B25: THANK YOU FOR YOUR TIME
