Workbook
Name sheet007_Print_Area: '5. Remittances'!$S$1

Sheet Cover
B1: WORKER IDENTIFICATION
B3: cod_int
B5: hh_id
B7: sample_type
E8: 1 | F8: RDD | H8: hh_id 12001 …
E9: 2 | F9: NEW | H9: hh_id 20001 …
E10: 3 | F10: PANEL | H10: hh_id 30001 …
E11: 4 | F11: SCREENING | H11: hh_id 40001 …
E12: 5 | F12: LIST | H12: hh_id lista al 1 al 11618
B14: order | I14: DB_EDITING: renombrar por w_order
E15: 1 | F15: FIRST WORKER
E16: 2 | F16: SECOND WORKER
B18: w_id | M18: 0 | N18: 0
M19: id_member
B20: w_hcountry
E21: 676 | F21: TONGA
E22: 678 | F22: VANUATU
E23: 686 | F23: KIRIBATI
B25: w_name
B27: w_phone_1
B29: w_phone_2
B31: w_status
E32: 1 | F32: CURRENTLY WORKING
E33: 2 | F33: RETURNED WORKER
E34: 3 | F34: CONTRACT ENDED
B36: w_hostc
E37: 610 | F37: AUSTRALIA
E38: 640 | F38: NEW ZEALAND
B40: w_workp
E41: 1 | F41: SWP
E42: 2 | F42: PLS
E43: 3 | F43: RSE
B45: w_call_type
E46: 1 | F46: VOIP
E47: 2 | F47: LOCAL
B49: provider
E50: 1 | F50: UCALL
E51: 2 | F51: DIGICEL
E52: 3 | F52: VODAFONE
E53: 4 | F53: DIGICEL
...

Sheet 1. Sociodem
C1: SECTION 1. SOCIODEMOGRAPHICS
B3: 1.08 | C3: What is your gender?
D4: 1 | E4: MALE | G4: =MID(D4,3,10)
D5: 2 | E5: FEMALE
B7: =B3+0.01 -> 1.09 | C7: What is your age?
I8: CATI RANGE: MIN 18 AND MAX 70
B10: =B7+0.01 -> 1.1 | C10: What is your marital status?
D11: 1 | E11: SINGLE (NEVER MARRIED)
D12: 2 | E12: LEGALLY MARRIED
D13: 3 | E13: CUSTOMARY MARRIED, LIVE-IN, DE FACTO, ENGAGED
D14: 4 | E14: DIVORCED / SEPARATED
D15: 5 | E15: WIDOWED
B17: =B10+0.01 -> 1.11 | C17: Have you ever attended school or any educational institution?
D18: 1 | E18: YES
D19: 2 | E19: NO | L19: >> | M19: =B42 -> 1.13
B21: =B17+0.01 -> 1.12 | C21: What is the highest level of education you have completed?
D22: 0 | E22: Pre-primary (kindergarten)
D23: 1 | E23: GRADE 1
D24: 2 | E24: GRADE 2
D25: 3 | E25: GRADE 3
D26: 4 | E26: GRADE 4
D27: 5 | E27: GRADE 5
D28: 6 | E28: GRADE 6
D29: 7 | E29: GRADE 7
D30: 8 | E30: GRADE 8
D31: 9 | E31: YEAR 9
D32: 10 | E32: YEAR 10
D33: 11 | E33: YEAR 11
... D40: 18 | E40: POST-GRADUATE (MA, MSC, PHD)
B42: =B21+0.01 -> 1.13 | C42: When did you arrive in [w_hostc]?
C43: INTERVIEWER: PROBE FOR THE MONTH AND YEAR OF THE CURRENT OR THE LASTEST TRIP.
D44: MONTH | I44: CATI RANGE: MIN 1 MAX 12
D45: YEAR | I45: CATI RANGE: MIN 2005 MAX 2022

Sheet 2. Health
D1: SECTION 2. HEALTH
D3: Now I will ask for information regarding health.
D4: ="CATI: IF [w_status]=1 ASK THE FIRST QUESTION OTHERWISE THE SECOND QUESTION" -> CATI: IF [w_status]=1 ASK THE FIRST QUESTION OTHERWISE THE SECOND QUESTION
C5: =2.01 -> 2.01 | D5: How is your health now as compared to before you arrived in [w_hostc]?
D6: How was your health when working in [w_hostc] compared to before you arrived?
E7: 1 | F7: Much better now
E8: 2 | F8: Somewhat better now
E9: 3 | F9: About the same
E10: 4 | F10: Somewhat worse now
E11: 5 | F11: Much worse now
C13: =C5+0.01 -> 2.02 | D13: Did you suffer any of the following symptoms since you arrived in [w_hostc] this trip?
D14: Did you suffer any of the following symptoms while working in [w_hostc]?
D15: INTERVIEWER: READ ALL OPTIONS
E16: a | F16: Muscle weakness
E17: b | F17: Chest pain
E18: c | F18: Abdominal pain
E19: d | F19: Muscle cramps
E20: e | F20: Swelling
E21: f | F21: Anxiety
E22: g | F22: Depression
E23: h | F23: Dizziness/ vertigo
E24: i | F24: Dental problems
E25: j | F25: Boils
E26: k | F26: Skin rashes & allergies
E27: l | F27: NONE
F28: ="CATI: IF "&C13&" = NONE ALL THE REST SHOULD BE BLANK BLOCKING MESSAGE Check, none and other responses" -> CATI: IF 2.02 = NONE ALL THE REST SHOULD BE BLANK BLOCKING MESSAGE Check, none and other responses
D30: ="CATI: IF "&C13 &" != NONE GO TO "&C31&" OTHERWISE GO TO "&C49 -> CATI: IF 2.02 != NONE GO TO 2.03 OTHERWISE GO TO 2.06
C31: =C13+0.01 -> 2.03 | D31: Were any of these symptoms related to your work in [w_hostc]?
E32: 1 | F32: YES
E33: 2 | F33: NO
E34: 98 | F34: DON’T KNOW
C36: =C31+0.01 -> 2.04 | D36: Did you visit a medical facility to seek treatment for these symptoms?
E37: 1 | F37: YES | M37: >> | N37: =C49 -> 2.06
E38: 2 | F38: NO
C40: =C36+0.01 -> 2.05 | D40: What is the main reason why did you not visit a medical facility to seek treatment?
E41: 1 | F41: COULD NOT AFFORD IT
E42: 2 | F42: I COULD NOT FIND THE TIME
E43: 3 | F43: I DID NOT GET PERMISSION TO LEAVE WORK
E44: 4 | F44: IT WAS TOO FAR / TOO DIFFICULT TO GET TO THE PLACE
E45: 5 | F45: DO NOT TRUST LOCAL DOCTORS
...

Sheet 3. Labor
C1: SECTION 3. LABOUR MARKET ACTIVITY
C3: Now I will ask you for information regarding your labor activity in the program [w_workp].
C4: ="CATI: IF "&#REF!&" != 3 ASK THE FIRST QUESTION OTHERWISE THE SECOND QUESTION" -> #REF!
B5: 3.01 | C5: In the last month, what is the main task that you have been working on?
C6: While working in [w_hostc], what was the main task that you have been working on?
D7: 1 | E7: MEAT WORK
D8: 2 | E8: PACKING
D9: 3 | E9: PRUNING
D10: 4 | E10: PICKING FRUITS
D11: 5 | E11: DRIVING TRACTOR
D12: 6 | E12: GROWING CROPS
D13: 7 | E13: CLEANING
D14: 8 | E14: COOKING
D15: 9 | E15: PROVIDING GUEST SERVICES
D16: 10 | E16: FRONT-DESK RECEPTION
D17: 11 | E17: ADMINISTRATIVE SUPPORT
D18: 12 | E18: PROVIDING PERSONAL CARE FOR AGED-CARE RESIDENTS
... D21: 97 | E21: OTHER (SPECIFY)
B23: =B5+0.01 -> 3.02 | C23: What is the activity of the business or organization in which you worked in the last month in [w_hostc]?
C24: What was the activity of the business or organization in which you worked in [w_hostc]?
C25: INTERVIEWER: PROBE THE ACTIVITY TO MATCH WITH THE ANSWERS LIST BEFORE RECORDING OTHER (SPECIFY)
D26: 1 | E26: HORTICULTURE
D27: 2 | E27: VITICULTURE
D28: 3 | E28: AGED CARE SERVICES
D29: 4 | E29: ACCOMMODATION/ HOSPITALITY
D30: 5 | E30: MEAT PROCESSING
D31: 97 | E31: OTHER (SPECIFY)
D32: ="CATI VALIDATION: IF ("&C23&" =1 OR = 2) AND ("&C7& " = 7 OR = 8 OR = 12) ALERT MESSAGE The main task is not related with the activity of the business, prompt if the information is correct" -> CATI VALIDATION: IF (What is the activity of the business or organization in which you worked in the last month in [w_hostc]? =1 OR = 2) AND ( = 7 OR = 8 OR = 12) ALERT MESSAGE The main task is not related with the activity of the business, prompt if the information is correct
D34: ="CATI VALIDATION: IF ("&C23&" =3 OR = 4) AND ("&C7& " >= 1 AND <= 6) ALERT MESSAGE: The main task is not related with the activity of the business, prompt if the information is correct" -> CATI VALIDATION: IF (What is the activity of the business or organization in which you worked in the last month in [w_hostc]? =3 OR = 4) AND ( >= 1 AND <= 6) ALERT MESSAGE: The main task is not related with the activity of the business, prompt if the information is correct
B36: =B23+0.01 -> 3.03 | C36: In the last 7 days, how many hours did you work?
C37: Per week, how many hours did you work?
H38: CATI: MIN 1 MAX 120
B40: =B36+0.01 -> 3.04 | C40: While in [w_hostc] this trip, have you ever received less than 15 hours work in a week not by choice?
C41: While in [w_hostc], have you ever received less than 15 hours work in a week not by choice?
D42: 1 | E42: YES
D43: 2 | E43: NO | K43: >>> | L43: =B51 -> 3.06
B45: =B40+0.01 -> 3.05 | C45: While in [w_hostc] this trip, have you ever received zero hours work in a week not by choice?
C46: While in [w_hostc], have you ever received zero hours work in a week not by choice?
C47: INTERVIEWER: IF THE WORKER JUST ARRIVED AT THE HOST COUNTRY REGISTER NO
D48: 1 | E48: YES
...

Sheet 4. Income & Exp
C1: SECTION 4. INCOME AND EXPENDITURE
C3: The following questions are about your income and expenditure in the program [w_workp].
C4: ="CATI: IF "&#REF!&" != 3 ASK THE FIRST QUESTION OTHERWISE THE SECOND QUESTION" -> #REF!
C5: CATI: IF w_hostc=610 SHOW [currency] AUD IF w_hostc=640 SHOW [currency] NZD
B6: =4.01 -> 4.01 | C6: How much did you earn last week after taxes and deductions?
C7: How much did you earn per week after taxes and deductions?
C8: INTERVIEWER: PROBE HOW MUCH THE RESPONDENT USUALLY EARNS IN A WEEK
E9: AMOUNT | I9: [currency] | M9: CATI RANGE: MIN 0 MAX 10000
B11: =B6+0.01 -> 4.02 | C11: Your earnings from working in [w_workp] are …
C12: Your earnings from working in [w_workp] were …
D13: 1 | E13: more than expected? | M13: >> | N13: =B24 -> 4.04
D14: 2 | E14: as much as expected? | M14: >> | N14: =B24 -> 4.04
D15: 3 | E15: less than expected?
B17: =B11+0.01 -> 4.03 | C17: Why?
C18: INTERVIEWER: READ EACH ITEM AND SELECT ALL THAT APPLY
D19: a | E19: THE PAY PER HOUR OR PER PIECE WAS LOWER THAN EXPECTED
D20: b | E20: THE HOURS OF WORK WERE LESS THAN EXPECTED
D21: c | E21: MORE DEDUCTIONS THAN EXPECTED
D22: d | E22: OTHER (SPECIFY)
B24: =B17+0.01 -> 4.04 | C24: Besides rent and remittances, how much did you spend last week out of your pocket for …
C25: Besides rent and remittances, how much did you spend per week out of your pocket for …
C26: INTERVIEWER: IF NONE WRITE "0" (ZERO), NON RESPONSE -1.
D27: a | E27: Food?
E28: AMOUNT | I28: [currency] | M28: CATI RANGE: MIN 0 MAX 10000
D29: b | E29: Phone and internet?
E30: AMOUNT | I30: [currency] | M30: =M28 -> CATI RANGE: MIN 0 MAX 10000
D31: c | E31: Entertainment?
E32: AMOUNT | I32: [currency] | M32: =M30 -> CATI RANGE: MIN 0 MAX 10000
D33: d | E33: Cigarettes?
E34: AMOUNT | I34: [currency] | M34: =M28 -> CATI RANGE: MIN 0 MAX 10000
D35: e | E35: Alcohol / kava?
E36: AMOUNT | I36: [currency] | M36: =M28 -> CATI RANGE: MIN 0 MAX 10000
D37: f | E37: Any other expenditures not mentioned before?
F38: AMOUNT | J38: [currency] | M38: CATI RANGE: MIN 0 MAX 99999, IF NON RESPONSE -1
C39: ="CATI: IF "&B24&"a +"&B24&"b +"&B24&"c +"&B24&"d +"&B24&"e +"&B24&"f =0 ALERT MESSAGE Make certain there was no spending in the last week" -> CATI: IF 4.04a +4.04b +4.04c +4.04d +4.04e +4.04f =0 ALERT MESSAGE Make certain there was no spending in the last week
C40: ="CATI: IF "&B24&"a +"&B24&"b +"&B24&"c +"&B24&"d +"&B24&"e +"&B24&"f > "&B6&" ALERT MESSAGE The expenses per week are higher than the amount earned, probe if that is correct" -> CATI: IF 4.04a +4.04b +4.04c +4.04d +4.04e +4.04f > 4.01 ALERT MESSAGE The expenses per week are higher than the amount earned, probe if that is correct
C42: In the following questions please specify how much you spent out of your pocket and how much was deducted from your salary by your employer.
C43: INTERVIEWER: IF THE RESPONDENT HAS TROUBLE RECALLING OR CALCULATING, E.G. CONVERTING WEEKLY TO MONTHLY EXPENSES, USE A CALCULATOR TO ASSIST.
B45: =B24+0.01 -> 4.05 | C45: How much did you spend last month in [w_hostc] in accommodation...
C46: How much did you spend per month in [w_hostc] in accommodation...
...

Sheet 5. Remittances
C1: SECTION 5. REMITTANCES
C3: The following questions are about the remittances you did to your household. All this information will be kept strictly confidential and it will be used only for statistical purposes.
C5: ="CATI: IF"&#REF!&" != 3 ASK THE FIRST QUESTION OTHERWISE THE SECOND QUESTION" -> #REF!
C6: CATI: IF w_hostc=610 SWOW [currency] AUD IF w_hostc=640 SHOW [currency] NZD
B7: 5.01 | C7: Have you sent money to your country since you arrived in [w_hostc] this trip?
C8: Did you sent money to your country while you were in [w_hostc] during the last trip?
D9: 1 | E9: YES
D10: 2 | E10: NO | I10: >> | J10: SECTION 6
B12: =B7+0.01 -> 5.02 | C12: How often do you send money to your country?
C13: INTERVIEWER: PROBE FOR THE LAST 2 TIMES SENT IF THE AMOUNT SENT CHANGED OVER TIME
D14: 1 | E14: WEEKLY
D15: 2 | E15: EVERY 2 WEEKS
D16: 3 | E16: ONCE A MONTH
D17: 4 | E17: ONCE EVERY 2-3 MONTHS
D18: 5 | E18: ONCE EVERY 4 MONTHS OR MORE
B20: =B12+0.01 -> 5.03 | C20: Normally how much did you send to your country each time?
C21: INTERVIEWER: IF THE AMOUNT SENT CHANGED OVER TIME, PROBE FOR THE AMOUNT THAT HAS BEEN SENT THE LAST TIME
E22: AMOUNT | I22: [currency] | L22: CATI RANGE: MIN 10 MAX 90000
B24: =B20+0.01 -> 5.04 | C24: Which main channel did you use to send money to your household?
D25: 1 | E25: ONLINE TRANSFER
D26: 2 | E26: OVER-THE-COUNTER TRANSFER
D27: 3 | E27: MOBILE WALLET
D28: 4 | E28: THROUGH FAMILY OR FRIENDS
D29: 97 | E29: OTHER (SPECIFY)
B31: =B24+0.01 -> 5.05 | C31: ="Why did you use ["&B24&"]?" -> Why did you use [5.04]?
D32: a | E32: CHEAPEST
D33: b | E33: FASTEST
D34: c | E34: EASIEST TO USE
D35: d | E35: ONLY CHANNEL I KNOW OF
D36: e | E36: MANY OTHER WORK MATES USE THIS CHANNEL
D37: f | E37: ONLY CHANNEL AVAILABLE AT HOME
D38: g | E38: ONLY CHANNEL AVAILABLE IN YOUR WORKPLACE AREA
D39: h | E39: SAFE
D40: i | E40: DON'T HAVE AN ACCOUNT ON BANKS
D41: z | E41: OTHER (SPECIFY)
B43: =B31+0.01 -> 5.06 | C43: Which bank or money transfer operator did you most usually use?
D44: 1 | E44: NAB
D45: 2 | E45: ANZ
D46: 3 | E46: COMMONWEALTH BANK OF AUSTRALIA
D47: 4 | E47: KIWI BANK
...

Sheet 6. Migration
B1: 6 | C1: SECTION 6. MIGRATION, PROGRAM PARTICIPATION AND FUTURE PLANS
C3: Now I will ask for information regarding your participation in the program and your future plans
C4: ="CATI: IF "&#REF!&" != 3 ASK THE FIRST QUESTION OTHERWISE THE SECOND QUESTION" -> #REF!
B5: =B1+0.01 -> 6.01 | C5: Have you ever lived in a country other than your home country and other than [w_hostc] for at least 6 months?
D6: 1 | E6: YES
D7: 2 | E7: NO | I7: >> | J7: =B18 -> 6.03
B9: =B5+0.01 -> 6.02 | C9: In which countries?
C10: INTERVIEWER: DO NOT READ OPTIONS AND CHECK ALL THAT APPLIES
D11: a | E11: AUSTRALIA
D12: b | E12: NEW ZEALAND
D13: c | E13: USA
D14: d | E14: FIJI
D15: e | E15: SAMOA
D16: z | E16: OTHER (SPECIFY)
B18: =B9+0.01 -> 6.03 | C18: How did you learn about the [w_workp]?
C19: INTERVIEWER: DO NOT READ OPTIONS AND MARK ALL THAT APPLIES. ASK: Anything else?
D20: a | E20: FRIENDS / RELATIVES
D21: b | E21: VANUATU: VILLAGE CHIEF AREA SECRETARY | N21: >> | O21: =B33 -> 6.05
D22: c | E22: TONGA: VILLAGE CHIEF OWN OFFICER | N22: >> | O22: =O21 -> 6.05
D23: d | E23: KIRIBATI: VILLAGE CHIEF ISLAND CLERK OR TOWN MAYOR | N23: >> | O23: =O22 -> 6.05
D24: e | E24: THROUGH AN EMPLOYMENT AGENCY | N24: >> | O24: =O23 -> 6.05
D25: f | E25: PUBLIC ADVERTISEMENT | N25: >> | O25: =O24 -> 6.05
D26: z | E26: OTHER (SPECIFY) | N26: >> | O26: =O25 -> 6.05
B28: =B18+0.01 -> 6.04 | C28: Are they friends or relatives …
D29: a | E29: who worked in [w_workp]?
D30: b | E30: living in home country who did not participate in the [w_workp]?
D31: c | E31: who did not participate in the [w_workp]?
B33: =B28+0.01 -> 6.05 | C33: How many times in total have you participated in the [w_workp] program?
I34: CATI RANGE: MIN 1 MAX 15
B36: =B33+0.01 -> 6.06 | C36: Before this current trip, had you ever applied to work overseas in the Pacific Access Category (New Zealand)?
C37: Had you ever applied to work overseas in the Pacific Access Category (New Zealand)?
D38: 1 | E38: YES
D39: 2 | E39: NO
C41: ="CATI: IF w_workp != 1 GO TO "&B42&" OTHERWISE GO TO "&B48 -> CATI: IF w_workp != 1 GO TO 6.07 OTHERWISE GO TO 6.08
B42: =B36+0.01 -> 6.07 | C42: Had you ever applied to work overseas in the Seasonal Worker Programme (SWP)?
C43: Had you ever applied to work overseas in the Seasonal Worker Programme (SWP)?
D44: 1 | E44: YES
D45: 2 | E45: NO
C47: ="CATI: IF w_workp != 2 GO TO "&B48&" OTHERWISE GO TO "&B54 -> CATI: IF w_workp != 2 GO TO 6.08 OTHERWISE GO TO 6.09
B48: =B42+0.01 -> 6.08 | C48: Had you ever applied to work overseas in the Pacific Labour Scheme (PLS) in Australia?
...

Sheet 7. Communication
C1: SECTION 7. COMMUNICATION
C3: Now I will ask for information regarding channels of communication with your household while you were part of the program
B4: 7.01 | C4: How often do you communicate with your household while in [w_hostc]?
C5: How often did you communicate with your household while in [w_hostc]?
D6: 1 | E6: ONCE A WEEK OR MORE OFTEN
D7: 2 | E7: TWO OR THREE TIMES A MONTH
D8: 3 | E8: ONCE A MONTH
D9: 4 | E9: LESS THAN ONE A MONTH
D10: 5 | E10: NEVER | M10: >> | N10: SECTION 8
B12: =B4+0.01 -> 7.02 | C12: Do you use to communicate with your household ...
C13: Did you use to communicate with your household ...
C14: INTERVIEWER: READ ALL OPTIONS
D15: a | E15: Landline or mobile calls?
D16: b | E16: Text messaging apps that require internet?
D17: c | E17: Direct video or voice chat apps that require internet?
D18: d | E18: E-mail?
D19: z | E19: OTHER (SPECIFY)
B21: =B12+0.01 -> 7.03 | C21: What is the main reason you have chosen to use these channels?
D22: 1 | E22: MOST RELIABLE CONNECTIVITY
D23: 2 | E23: EASIEST TO USE
D24: 3 | E24: CHEAPEST
D25: 4 | E25: ONLY AVAILABLE OPTION
D26: 97 | E26: OTHER (SPECIFY)
B28: =B21+0.01 -> 7.04 | C28: What device do you usually use to communicate with your household?
C29: What device did you usually use to communicate with your household while in [w_hostc]?
D30: 1 | E30: SMART PHONE, I.E. WITH INTERNET CONNECTIVITY
D31: 2 | E31: BASIC MOBILE PHONE NON-SMART
D32: 3 | E32: LANDLINE | M32: >> | N32: SECTION 8
D33: 4 | E33: COMPUTER / LAPTOP | M33: >> | N33: SECTION 8
D34: 5 | E34: TABLET | M34: >> | N34: SECTION 8
B36: =B28+0.01 -> 7.05 | C36: Is that phone yours or shared by somebody else?
C37: Was that phone yours or shared by somebody else?
D38: 1 | E38: PHONE BELONGS TO THE RESPONDENT
D39: 2 | E39: SHARED BY SOMEBODY ELSE

Sheet 8. COVID-19
C1: SECTION 8. COVID-19
C3: ="CATI: IF "&'1. Sociodem'!B42&" YEAR >2019 GO TO " &'8. COVID-19'!B5 &" OTHERWISE GO TO NEXT SECTION" -> CATI: IF 1.13 YEAR >2019 GO TO 8.01 OTHERWISE GO TO NEXT SECTION
C4: The following questions are about COVID-19
B5: 8.01 | C5: While in [w_hostc], have you received any assistance from your employer or the government of [w_hostc] to cope with the COVID-19 situation and the quarantine, such as...
C7: INTERVIEWER: READ ALL OPTIONS
D8: a | E8: Extra cash?
D9: b | E9: Supermarket vouchers?
D10: c | E10: Provision of safety wear, face masks, hand sanitizer, or personal protective equipment?
D11: d | E11: Payment of COVID-19 testing?
D12: e | E12: .
D13: f | E13: .
D14: g | E14: NONE
D15: z | E15: Any other assistance? (specify)
D16: ="CATI: IF "&B5&" = NONE ALL THE REST SHOULD BE BLANK BLOCKING MESSAGE Check the options marked" -> CATI: IF 8.01 = NONE ALL THE REST SHOULD BE BLANK BLOCKING MESSAGE Check the options marked
B18: =B5+0.01 -> 8.02 | C18: Have you had to pay any expenses for…
D19: a | E19: COVID-19 testing before departure? | O19: >> | P19: =B28 -> 8.04
D20: b | E20: COVID-19 testing upon arrival? | O20: >> | P20: =B28 -> 8.04
D21: c | E21: Quarantine in your home country before departing to [w_hostc]? | O21: >> | P21: =B28 -> 8.04
D22: d | E22: Quarantine in [w_hostc] before starting working?
B24: =B18+0.01 -> 8.03 | C24: Did you incur any loss of earnings because of the quarantine in [w_hostc]?
D25: 1 | E25: YES
D26: 2 | E26: NO
B28: =B24+0.01 -> 8.04 | C28: In your current job, which measures are required by your employer to prevent COVID-19 transmission?
C29: INTERVIEWER: DO NOT READ OPTIONS AND MARK ALL THAT APPLIES. ASK: Anything else?
D30: a | E30: FREQUENT HAND WASHING
D31: b | E31: WEARING A MASK
D32: c | E32: USE OF GLOVES
D33: d | E33: SOCIAL DISTANCING
D34: e | E34: PERIODIC COVID-19 TESTING
D35: f | E35: COVID-19 VACCINATION
D36: g | E36: NONE
D37: ="CATI: IF "&B28&" = NONE ALL THE REST SHOULD BE BLANK BLOCKING MESSAGE Check, none and other responses" -> CATI: IF 8.04 = NONE ALL THE REST SHOULD BE BLANK BLOCKING MESSAGE Check, none and other responses
B39: =B28+0.01 -> 8.05 | C39: Have you received a COVID-19 vaccine?
D40: 1 | E40: YES
D41: 2 | E41: NO | I41: >> | J41: =B49 -> 8.07
B43: =B39+0.01 -> 8.06 | C43: How many doses?
D44: 1 | E44: ONE DOSE
D45: 2 | E45: TWO DOSES
D46: 3 | E46: MORE THAN TWO DOSES
C48: ="CATI: IF "&'3. Labor'!B51 &" =1 ASSIGN "&B49& " =2" -> CATI: IF 3.06 =1 ASSIGN 8.07 =2
...

Sheet 9. Social Impacts
C1: SECTION 9. SOCIAL IMPACTS
C3: Now I will ask for information regarding working and living conditions
C4: ="CATI: IF "&#REF!&" != 3 ASK THE FIRST QUESTION OTHERWISE THE SECOND QUESTION" -> #REF!
B5: =9.01 -> 9.01 | C5: In your opinion, how has your relationship with your children been affected by your participation in the [w_workp]?
D6: 1 | E6: POSITIVELY
D7: 2 | E7: NEGATIVELY
D8: 3 | E8: NO CHANGE
D9: 4 | E9: I HAVE NO CHILDREN
C11: ="CATI: IF "&'1. Sociodem'!B10&"0=2 OR 3 GO TO "&B12&" OTHERWISE GO TO "&B17 -> CATI: IF 1.10=2 OR 3 GO TO 9.02 OTHERWISE GO TO 9.03
B12: =B5+0.01 -> 9.02 | C12: In your opinion, how has your marital relationship changed since you participated in the [w_workp]?
D13: 1 | E13: POSITIVELY
D14: 2 | E14: NEGATIVELY
D15: 3 | E15: NO CHANGE
B17: =B12+0.01 -> 9.03 | C17: In case you need help or advice related to your working and living conditions in [w_hostc], do you know of anyone who could help you?
C18: When you needed help or advice related to your working and living conditions in [w_hostc], did you know of anyone who could help you?
D19: 1 | E19: YES
D20: 2 | E20: NO | H20: >> | I20: =B35 -> 9.05
B22: =B17+0.01 -> 9.04 | C22: Who are they?
C23: Who were they?
D24: a | E24: EMPLOYER
D25: b | E25: TEAM LEADER
D26: c | E26: FAMILY MEMBER OR RELATIVE CURRENTLY LIVING IN [w_hostc]
D27: d | E27: A FRIEND CURRENTLY LIVING IN [w_hostc]
D28: e | E28: LIAISON OFFICER
D29: f | E29: HOTLINE OF THE [w_hostc]
D30: g | E30: THE LABOR DEPARTMENT IN [w_hcountry]
D31: h | E31: THE EMBASSY OF [w_hcountry]
D32: i | E32: CHURCH GROUP OR NGO IN [w_hostc]
D33: j | E33: RECRUITMENT AGENT
B35: =B22+0.01 -> 9.05 | C35: In case you want to complain or report an issue related to your working or living conditions in [w_hostc], to whom would you complain or report... | L35: =B35+0.01 -> 9.06 | M35: Do you feel comfortable complaining or reporting issues on working or living conditions to…
C38: To complain or report an issue related to your working or living conditions in [w_hostc], to whom did you complain or report? | M38: Did you feel comfortable complaining or reporting issues on working or living conditions to...?
M41: 1 | N41: YES
M42: 2 | N42: NO
D44: a | E44: Employer?
D45: b | E45: Team leader?
D46: c | E46: Liaison officer?
D47: d | E47: Fair Work Ombudsman?
D48: e | E48: The labor department in [w_hcountry]?
D49: f | E49: The embassy of [w_hcountry]?
D50: g | E50: Church group or NGO in [w_hostc]?
...

Sheet 10. Gender
C1: SECTION 10. GENDER
C3: The following questions are about your opinion regarding gender roles.
B4: 10.01 | C4: In general, do you agree or disagree with these statements?
C5: INTERVIEWER: PROBE WHETHER THE INFORMANT STRONGLY OR SOMEWHAT AGREE OR DISAGREE
D6: a | E6: A father’s major responsibility is to provide ﬁnancially for his children.
E7: 1 | F7: STRONGLY AGREE | K7: Strongly disagree
E8: 2 | F8: SOMEWHAT AGREE
E9: 3 | F9: NEITHER AGREE NOR DISAGREE
E10: 4 | F10: SOMEWHAT DISAGREE
E11: 5 | F11: STRONGLY DISAGREE
D13: b | E13: Some types of work are just not appropriate for women.
E14: 1 | F14: STRONGLY AGREE
E15: 2 | F15: SOMEWHAT AGREE
E16: 3 | F16: NEITHER AGREE NOR DISAGREE
E17: 4 | F17: SOMEWHAT DISAGREE
E18: 5 | F18: STRONGLY DISAGREE
D20: c | E20: Mothers should work only if necessary.
E21: 1 | F21: STRONGLY AGREE
E22: 2 | F22: SOMEWHAT AGREE
E23: 3 | F23: NEITHER AGREE NOR DISAGREE
E24: 4 | F24: SOMEWHAT DISAGREE
E25: 5 | F25: STRONGLY DISAGREE
D27: d | E27: The husband is expected to work outside the home, while the wife is expected to take on domestic duties.
E28: 1 | F28: STRONGLY AGREE
E29: 2 | F29: SOMEWHAT AGREE
E30: 3 | F30: NEITHER AGREE NOR DISAGREE
E31: 4 | F31: SOMEWHAT DISAGREE
E32: 5 | F32: STRONGLY DISAGREE
D34: e | E34: For many important jobs, it is better to choose men instead of women.
E35: 1 | F35: STRONGLY AGREE
E36: 2 | F36: SOMEWHAT AGREE
E37: 3 | F37: NEITHER AGREE NOR DISAGREE
E38: 4 | F38: SOMEWHAT DISAGREE
E39: 5 | F39: STRONGLY DISAGREE
B41: =B4+0.01 -> 10.02 | C41: Do you think men and women should participate in equal numbers in the [w_workp]?
D42: 1 | E42: YES
D43: 2 | E43: NO
D44: 98 | E44: DON’T KNOW
B46: =B41+0.01 -> 10.03 | C46: In the [w_workp], there are significantly fewer female workers than male workers. In your opinion, why is this?
D47: a | E47: Women do no want to work in the SWP / PLS / RSE
...
