Workbook

Sheet Table 1 Universe
C1: =RIGHT(SUBSTITUTE(universe!C1,"_"," "),LEN(SUBSTITUTE(universe!C1,"_"," "))-1) -> Food | D1: =RIGHT(SUBSTITUTE(universe!D1,"_"," "),LEN(SUBSTITUTE(universe!D1,"_"," "))-1) -> Other Manufacturing | E1: =RIGHT(SUBSTITUTE(universe!E1,"_"," "),LEN(SUBSTITUTE(universe!E1,"_"," "))-1) -> Retail | F1: =RIGHT(SUBSTITUTE(universe!F1,"_"," "),LEN(SUBSTITUTE(universe!F1,"_"," "))-1) -> Hotels | G1: =RIGHT(SUBSTITUTE(universe!G1,"_"," "),LEN(SUBSTITUTE(universe!G1,"_"," "))-1) -> Other Services | H1: =RIGHT(SUBSTITUTE(universe!H1,"_"," "),LEN(SUBSTITUTE(universe!H1,"_"," "))-1) -> Grand Total
A2: =universe!A2 -> Tbilisi | B2: =LEFT(universe!B2,FIND(")",universe!B2)) -> Small (5-19) | C2: =universe!C2 -> 209 | D2: =universe!D2 -> 670 | E2: =universe!E2 -> 1074 | F2: =universe!F2 -> 183 | G2: =universe!G2 -> 3699 | H2: =SUM(C2:G5) -> 8814
A3: =universe!A3 -> Tbilisi | B3: =LEFT(universe!B3,FIND(")",universe!B3)) -> Medium (20-99) | C3: =universe!C3 -> 73 | D3: =universe!D3 -> 226 | E3: =universe!E3 -> 248 | F3: =universe!F3 -> 70 | G3: =universe!G3 -> 1035
A4: =universe!A4 -> Tbilisi | B4: =LEFT(universe!B4,FIND(")",universe!B4)) -> Large (100+) | C4: =universe!C4 -> 24 | D4: =universe!D4 -> 41 | E4: =universe!E4 -> 75 | F4: =universe!F4 -> 19 | G4: =universe!G4 -> 194
A5: =universe!A5 -> East | B5: =LEFT(universe!B5,FIND(")",universe!B5)) -> Small (5-19) | C5: =universe!C5 -> 65 | D5: =universe!D5 -> 145 | E5: =universe!E5 -> 276 | F5: =universe!F5 -> 20 | G5: =universe!G5 -> 468
A6: =universe!A6 -> East | B6: =LEFT(universe!B6,FIND(")",universe!B6)) -> Medium (20-99) | C6: =universe!C6 -> 11 | D6: =universe!D6 -> 56 | E6: =universe!E6 -> 20 | F6: =universe!F6 -> 8 | G6: =universe!G6 -> 78 | H6: =SUM(C6:G9) -> 2164
A7: =universe!A7 -> East | B7: =LEFT(universe!B7,FIND(")",universe!B7)) -> Large (100+) | C7: =universe!C7 -> 3 | D7: =universe!D7 -> 19 | E7: =universe!E7 -> 3 | F7: =universe!F7 -> 1 | G7: =universe!G7 -> 5
A8: =universe!A8 -> Center | B8: =LEFT(universe!B8,FIND(")",universe!B8)) -> Small (5-19) | C8: =universe!C8 -> 171 | D8: =universe!D8 -> 222 | E8: =universe!E8 -> 424 | F8: =universe!F8 -> 63 | G8: =universe!G8 -> 825
A9: =universe!A9 -> Center | B9: =LEFT(universe!B9,FIND(")",universe!B9)) -> Medium (20-99) | C9: =universe!C9 -> 28 | D9: =universe!D9 -> 61 | E9: =universe!E9 -> 39 | F9: =universe!F9 -> 15 | G9: =universe!G9 -> 112
A10: =universe!A10 -> Center | B10: =LEFT(universe!B10,FIND(")",universe!B10)) -> Large (100+) | C10: =universe!C10 -> 7 | D10: =universe!D10 -> 22 | E10: =universe!E10 -> 2 | F10: =universe!F10 -> 4 | G10: =universe!G10 -> 15 | H10: =SUM(C10:G13) -> 2381
A11: =universe!A11 -> North and West | B11: =LEFT(universe!B11,FIND(")",universe!B11)) -> Small (5-19) | C11: =universe!C11 -> 143 | D11: =universe!D11 -> 161 | E11: =universe!E11 -> 428 | F11: =universe!F11 -> 80 | G11: =universe!G11 -> 1096
A12: =universe!A12 -> North and West | B12: =LEFT(universe!B12,FIND(")",universe!B12)) -> Medium (20-99) | C12: =universe!C12 -> 31 | D12: =universe!D12 -> 39 | E12: =universe!E12 -> 37 | F12: =universe!F12 -> 23 | G12: =universe!G12 -> 234
A13: =universe!A13 -> North and West | B13: =LEFT(universe!B13,FIND(")",universe!B13)) -> Large (100+) | C13: =universe!C13 -> 4 | D13: =universe!D13 -> 12 | E13: =universe!E13 -> 5 | F13: =universe!F13 -> 12 | G13: =universe!G13 -> 26
C14: =SUM(C2:C13) -> 769 | D14: =SUM(D2:D13) -> 1674 | E14: =SUM(E2:E13) -> 2631 | F14: =SUM(F2:F13) -> 498 | G14: =SUM(G2:G13) -> 7787 | H14: =SUM(H2:H13) -> 13359
A15: Source: National Statistics Office of Georgia (GeoStat), obtained in November 2022

Sheet Table 2 Frame
C1: =RIGHT(SUBSTITUTE('frame fresh and panel'!C1,"_"," "),LEN(SUBSTITUTE('frame fresh and panel'!C1,"_"," "))-1) -> Food | D1: =RIGHT(SUBSTITUTE('frame fresh and panel'!D1,"_"," "),LEN(SUBSTITUTE('frame fresh and panel'!D1,"_"," "))-1) -> Other Manufacturing | E1: =RIGHT(SUBSTITUTE('frame fresh and panel'!E1,"_"," "),LEN(SUBSTITUTE('frame fresh and panel'!E1,"_"," "))-1) -> Retail | F1: =RIGHT(SUBSTITUTE('frame fresh and panel'!F1,"_"," "),LEN(SUBSTITUTE('frame fresh and panel'!F1,"_"," "))-1) -> Hotels | G1: =RIGHT(SUBSTITUTE('frame fresh and panel'!G1,"_"," "),LEN(SUBSTITUTE('frame fresh and panel'!G1,"_"," "))-1) -> Other Services | H1: =RIGHT(SUBSTITUTE('frame fresh and panel'!H1,"_"," "),LEN(SUBSTITUTE('frame fresh and panel'!H1,"_"," "))-1) -> Grand Total
A2: ='frame fresh and panel'!A2 -> Tbilisi | B2: =LEFT('frame fresh and panel'!B2,FIND(")",'frame fresh and panel'!B2)) -> Small (5-19) | C2: ='frame fresh and panel'!C2 -> 214 | D2: ='frame fresh and panel'!D2 -> 680 | E2: ='frame fresh and panel'!E2 -> 1091 | F2: ='frame fresh and panel'!F2 -> 195 | G2: ='frame fresh and panel'!G2 -> 3727 | H2: =SUM(C2:G5) -> 9052
A3: ='frame fresh and panel'!A3 -> Tbilisi | B3: =LEFT('frame fresh and panel'!B3,FIND(")",'frame fresh and panel'!B3)) -> Medium (20-99) | C3: ='frame fresh and panel'!C3 -> 80 | D3: ='frame fresh and panel'!D3 -> 244 | E3: ='frame fresh and panel'!E3 -> 257 | F3: ='frame fresh and panel'!F3 -> 84 | G3: ='frame fresh and panel'!G3 -> 1056
A4: ='frame fresh and panel'!A4 -> Tbilisi | B4: =LEFT('frame fresh and panel'!B4,FIND(")",'frame fresh and panel'!B4)) -> Large (100+) | C4: ='frame fresh and panel'!C4 -> 30 | D4: ='frame fresh and panel'!D4 -> 48 | E4: ='frame fresh and panel'!E4 -> 87 | F4: ='frame fresh and panel'!F4 -> 19 | G4: ='frame fresh and panel'!G4 -> 210
A5: ='frame fresh and panel'!A5 -> East | B5: =LEFT('frame fresh and panel'!B5,FIND(")",'frame fresh and panel'!B5)) -> Small (5-19) | C5: ='frame fresh and panel'!C5 -> 74 | D5: ='frame fresh and panel'!D5 -> 157 | E5: ='frame fresh and panel'!E5 -> 297 | F5: ='frame fresh and panel'!F5 -> 23 | G5: ='frame fresh and panel'!G5 -> 479
A6: ='frame fresh and panel'!A6 -> East | B6: =LEFT('frame fresh and panel'!B6,FIND(")",'frame fresh and panel'!B6)) -> Medium (20-99) | C6: ='frame fresh and panel'!C6 -> 17 | D6: ='frame fresh and panel'!D6 -> 72 | E6: ='frame fresh and panel'!E6 -> 24 | F6: ='frame fresh and panel'!F6 -> 13 | G6: ='frame fresh and panel'!G6 -> 89 | H6: =SUM(C6:G9) -> 2316
A7: ='frame fresh and panel'!A7 -> East | B7: =LEFT('frame fresh and panel'!B7,FIND(")",'frame fresh and panel'!B7)) -> Large (100+) | C7: ='frame fresh and panel'!C7 -> 3 | D7: ='frame fresh and panel'!D7 -> 23 | E7: ='frame fresh and panel'!E7 -> 4 | F7: ='frame fresh and panel'!F7 -> 1 | G7: ='frame fresh and panel'!G7 -> 7
A8: ='frame fresh and panel'!A8 -> Center | B8: =LEFT('frame fresh and panel'!B8,FIND(")",'frame fresh and panel'!B8)) -> Small (5-19) | C8: ='frame fresh and panel'!C8 -> 175 | D8: ='frame fresh and panel'!D8 -> 233 | E8: ='frame fresh and panel'!E8 -> 438 | F8: ='frame fresh and panel'!F8 -> 77 | G8: ='frame fresh and panel'!G8 -> 838
A9: ='frame fresh and panel'!A9 -> Center | B9: =LEFT('frame fresh and panel'!B9,FIND(")",'frame fresh and panel'!B9)) -> Medium (20-99) | C9: ='frame fresh and panel'!C9 -> 39 | D9: ='frame fresh and panel'!D9 -> 68 | E9: ='frame fresh and panel'!E9 -> 43 | F9: ='frame fresh and panel'!F9 -> 29 | G9: ='frame fresh and panel'!G9 -> 123
A10: ='frame fresh and panel'!A10 -> Center | B10: =LEFT('frame fresh and panel'!B10,FIND(")",'frame fresh and panel'!B10)) -> Large (100+) | C10: ='frame fresh and panel'!C10 -> 9 | D10: ='frame fresh and panel'!D10 -> 29 | E10: ='frame fresh and panel'!E10 -> 2 | F10: ='frame fresh and panel'!F10 -> 6 | G10: ='frame fresh and panel'!G10 -> 20 | H10: =SUM(C10:G13) -> 2569
A11: ='frame fresh and panel'!A11 -> North and West | B11: =LEFT('frame fresh and panel'!B11,FIND(")",'frame fresh and panel'!B11)) -> Small (5-19) | C11: ='frame fresh and panel'!C11 -> 157 | D11: ='frame fresh and panel'!D11 -> 177 | E11: ='frame fresh and panel'!E11 -> 453 | F11: ='frame fresh and panel'!F11 -> 98 | G11: ='frame fresh and panel'!G11 -> 1109
A12: ='frame fresh and panel'!A12 -> North and West | B12: =LEFT('frame fresh and panel'!B12,FIND(")",'frame fresh and panel'!B12)) -> Medium (20-99) | C12: ='frame fresh and panel'!C12 -> 46 | D12: ='frame fresh and panel'!D12 -> 48 | E12: ='frame fresh and panel'!E12 -> 48 | F12: ='frame fresh and panel'!F12 -> 30 | G12: ='frame fresh and panel'!G12 -> 254
A13: ='frame fresh and panel'!A13 -> North and West | B13: =LEFT('frame fresh and panel'!B13,FIND(")",'frame fresh and panel'!B13)) -> Large (100+) | C13: ='frame fresh and panel'!C13 -> 8 | D13: ='frame fresh and panel'!D13 -> 17 | E13: ='frame fresh and panel'!E13 -> 7 | F13: ='frame fresh and panel'!F13 -> 15 | G13: ='frame fresh and panel'!G13 -> 36
C14: =SUM(C2:C13) -> 852 | D14: =SUM(D2:D13) -> 1796 | E14: =SUM(E2:E13) -> 2751 | F14: =SUM(F2:F13) -> 590 | G14: =SUM(G2:G13) -> 7948 | H14: =SUM(H2:H13) -> 13937
A15: Source: National Statistics Office of Georgia (GeoStat), obtained in November 2022

Sheet Table 3 Original Survey Design
C1: =RIGHT(SUBSTITUTE('original survey design'!C1,"_"," "),LEN(SUBSTITUTE('original survey design'!C1,"_"," "))-1) -> Food | D1: =RIGHT(SUBSTITUTE('original survey design'!D1,"_"," "),LEN(SUBSTITUTE('original survey design'!D1,"_"," "))-1) -> Other Manufacturing | E1: =RIGHT(SUBSTITUTE('original survey design'!E1,"_"," "),LEN(SUBSTITUTE('original survey design'!E1,"_"," "))-1) -> Retail | F1: =RIGHT(SUBSTITUTE('original survey design'!F1,"_"," "),LEN(SUBSTITUTE('original survey design'!F1,"_"," "))-1) -> Hotels | G1: =RIGHT(SUBSTITUTE('original survey design'!G1,"_"," "),LEN(SUBSTITUTE('original survey design'!G1,"_"," "))-1) -> Other Services | H1: =RIGHT(SUBSTITUTE('original survey design'!H1,"_"," "),LEN(SUBSTITUTE('original survey design'!H1,"_"," "))-1) -> Grand Total
A2: ='original survey design'!A2 -> Tbilisi | B2: =LEFT('original survey design'!B2,FIND(")",'original survey design'!B2)) -> Small (5-19) | C2: ='original survey design'!C2 -> 5 | D2: ='original survey design'!D2 -> 10 | E2: ='original survey design'!E2 -> 15 | F2: ='original survey design'!F2 -> 7 | G2: ='original survey design'!G2 -> 42 | H2: =SUM(C2:G5) -> 232
A3: ='original survey design'!A3 -> Tbilisi | B3: =LEFT('original survey design'!B3,FIND(")",'original survey design'!B3)) -> Medium (20-99) | C3: ='original survey design'!C3 -> 5 | D3: ='original survey design'!D3 -> 5 | E3: ='original survey design'!E3 -> 5 | F3: ='original survey design'!F3 -> 5 | G3: ='original survey design'!G3 -> 13
A4: ='original survey design'!A4 -> Tbilisi | B4: =LEFT('original survey design'!B4,FIND(")",'original survey design'!B4)) -> Large (100+) | C4: ='original survey design'!C4 -> 8 | D4: ='original survey design'!D4 -> 6 | E4: ='original survey design'!E4 -> 11 | F4: ='original survey design'!F4 -> 8 | G4: ='original survey design'!G4 -> 5
A5: ='original survey design'!A5 -> East | B5: =LEFT('original survey design'!B5,FIND(")",'original survey design'!B5)) -> Small (5-19) | C5: ='original survey design'!C5 -> 28 | D5: ='original survey design'!D5 -> 14 | E5: ='original survey design'!E5 -> 22 | F5: ='original survey design'!F5 -> 11 | G5: ='original survey design'!G5 -> 7
A6: ='original survey design'!A6 -> East | B6: =LEFT('original survey design'!B6,FIND(")",'original survey design'!B6)) -> Medium (20-99) | C6: ='original survey design'!C6 -> 9 | D6: ='original survey design'!D6 -> 17 | E6: ='original survey design'!E6 -> 10 | F6: ='original survey design'!F6 -> 8 | G6: ='original survey design'!G6 -> 5 | H6: =SUM(C6:G9) -> 188
A7: ='original survey design'!A7 -> East | B7: =LEFT('original survey design'!B7,FIND(")",'original survey design'!B7)) -> Large (100+) | C7: ='original survey design'!C7 -> 1 | D7: ='original survey design'!D7 -> 12 | E7: ='original survey design'!E7 -> 2 | F7: ='original survey design'!F7 -> 1 | G7: ='original survey design'!G7 -> 3
A8: ='original survey design'!A8 -> Center | B8: =LEFT('original survey design'!B8,FIND(")",'original survey design'!B8)) -> Small (5-19) | C8: ='original survey design'!C8 -> 7 | D8: ='original survey design'!D8 -> 13 | E8: ='original survey design'!E8 -> 18 | F8: ='original survey design'!F8 -> 20 | G8: ='original survey design'!G8 -> 11
A9: ='original survey design'!A9 -> Center | B9: =LEFT('original survey design'!B9,FIND(")",'original survey design'!B9)) -> Medium (20-99) | C9: ='original survey design'!C9 -> 13 | D9: ='original survey design'!D9 -> 8 | E9: ='original survey design'!E9 -> 7 | F9: ='original survey design'!F9 -> 18 | G9: ='original survey design'!G9 -> 5
A10: ='original survey design'!A10 -> Center | B10: =LEFT('original survey design'!B10,FIND(")",'original survey design'!B10)) -> Large (100+) | C10: ='original survey design'!C10 -> 5 | D10: ='original survey design'!D10 -> 15 | E10: ='original survey design'!E10 -> 1 | F10: ='original survey design'!F10 -> 4 | G10: ='original survey design'!G10 -> 5 | H10: =SUM(C10:G13) -> 180
A11: ='original survey design'!A11 -> North and West | B11: =LEFT('original survey design'!B11,FIND(")",'original survey design'!B11)) -> Small (5-19) | C11: ='original survey design'!C11 -> 16 | D11: ='original survey design'!D11 -> 5 | E11: ='original survey design'!E11 -> 20 | F11: ='original survey design'!F11 -> 19 | G11: ='original survey design'!G11 -> 14
A12: ='original survey design'!A12 -> North and West | B12: =LEFT('original survey design'!B12,FIND(")",'original survey design'!B12)) -> Medium (20-99) | C12: ='original survey design'!C12 -> 17 | D12: ='original survey design'!D12 -> 5 | E12: ='original survey design'!E12 -> 5 | F12: ='original survey design'!F12 -> 11 | G12: ='original survey design'!G12 -> 5
A13: ='original survey design'!A13 -> North and West | B13: =LEFT('original survey design'!B13,FIND(")",'original survey design'!B13)) -> Large (100+) | C13: ='original survey design'!C13 -> 6 | D13: ='original survey design'!D13 -> 10 | E13: ='original survey design'!E13 -> 4 | F13: ='original survey design'!F13 -> 8 | G13: ='original survey design'!G13 -> 5
C14: =SUM(C2:C13) -> 120 | D14: =SUM(D2:D13) -> 120 | E14: =SUM(E2:E13) -> 120 | F14: =SUM(F2:F13) -> 120 | G14: =SUM(G2:G13) -> 120 | H14: =SUM(H2:H13) -> 600

Sheet Table 4 Response Outcomes
D2: Totals | E2: Rates relative to total contacted
B3: Overall | C3: Contacts available in frame | D3: 13937
C4: Issued | D4: 2377
C5: Contacted | D5: 2318
B6: Screening phase | C6: Eligibles | D6: 648 | E6: =D6/D$5 -> 0.27955134
C7: Screener refusals | D7: 461 | E7: =D7/D$5 -> 0.19887834
C8: Assumed eligibles | D8: 1251 | E8: =D8/D$5 -> 0.53968939
C9: Ineligible + out of target | D9: 373 | E9: =D9/D$5 -> 0.16091458
C10: Unobtainables | D10: 833 | E10: =D10/D$5 -> 0.35936152
B11: Interview phase | C11: Interview refusals | D11: 56 | E11: =D11/D$5 -> 0.024158758
B12: (only if eligible) | C12: Complete interviews | D12: 592 | E12: =D12/D$5 -> 0.25539258

Sheet Table 5 Survey Yield Rates
C2: Stratification | D2: Yield | E2: Survey response rate | F2: Frame quality
B3: Panel | C3: Fresh | D3: =VLOOKUP($C3,'yield calculation'!$C:$F,2,FALSE) -> 0.19545957 | E3: =VLOOKUP($C3,'yield calculation'!$C:$F,3,FALSE) -> 0.39005524 | F3: =VLOOKUP($C3,'yield calculation'!$C:$F,4,FALSE) -> 0.50110739
C4: Panel | D4: =VLOOKUP($C4,'yield calculation'!$C:$F,2,FALSE) -> 0.46679688 | E4: =VLOOKUP($C4,'yield calculation'!$C:$F,3,FALSE) -> 0.69075143 | F4: =VLOOKUP($C4,'yield calculation'!$C:$F,4,FALSE) -> 0.67578125
B5: Size | C5: Small (5-19) | D5: =VLOOKUP($C5,'yield calculation'!$C:$F,2,FALSE) -> 0.22692889 | E5: =VLOOKUP($C5,'yield calculation'!$C:$F,3,FALSE) -> 0.47999999 | F5: =VLOOKUP($C5,'yield calculation'!$C:$F,4,FALSE) -> 0.47276855
C6: Medium (20-99) | D6: =VLOOKUP($C6,'yield calculation'!$C:$F,2,FALSE) -> 0.31403509 | E6: =VLOOKUP($C6,'yield calculation'!$C:$F,3,FALSE) -> 0.50140059 | F6: =VLOOKUP($C6,'yield calculation'!$C:$F,4,FALSE) -> 0.62631577
C7: Large (100+) | D7: =VLOOKUP($C7,'yield calculation'!$C:$F,2,FALSE) -> 0.26525822 | E7: =VLOOKUP($C7,'yield calculation'!$C:$F,3,FALSE) -> 0.42007434 | F7: =VLOOKUP($C7,'yield calculation'!$C:$F,4,FALSE) -> 0.63145542
B8: Region | C8: Tbilisi | D8: =VLOOKUP($C8,'yield calculation'!$C:$F,2,FALSE) -> 0.21564694 | E8: =VLOOKUP($C8,'yield calculation'!$C:$F,3,FALSE) -> 0.40111941 | F8: =VLOOKUP($C8,'yield calculation'!$C:$F,4,FALSE) -> 0.53761286
C9: East | D9: =VLOOKUP($C9,'yield calculation'!$C:$F,2,FALSE) -> 0.30208334 | E9: =VLOOKUP($C9,'yield calculation'!$C:$F,3,FALSE) -> 0.49152541 | F9: =VLOOKUP($C9,'yield calculation'!$C:$F,4,FALSE) -> 0.61458331
C10: Center | D10: =VLOOKUP($C10,'yield calculation'!$C:$F,2,FALSE) -> 0.31999999 | E10: =VLOOKUP($C10,'yield calculation'!$C:$F,3,FALSE) -> 0.57918555 | F10: =VLOOKUP($C10,'yield calculation'!$C:$F,4,FALSE) -> 0.55250001
C11: North and West | D11: =VLOOKUP($C11,'yield calculation'!$C:$F,2,FALSE) -> 0.24767226 | E11: =VLOOKUP($C11,'yield calculation'!$C:$F,3,FALSE) -> 0.51550388 | F11: =VLOOKUP($C11,'yield calculation'!$C:$F,4,FALSE) -> 0.48044693
B12: Sector | C12: Food | D12: =VLOOKUP($C12,'yield calculation'!$C:$F,2,FALSE) -> 0.3046875 | E12: =VLOOKUP($C12,'yield calculation'!$C:$F,3,FALSE) -> 0.53424656 | F12: =VLOOKUP($C12,'yield calculation'!$C:$F,4,FALSE) -> 0.5703125
C13: Other Manufacturing | D13: =VLOOKUP($C13,'yield calculation'!$C:$F,2,FALSE) -> 0.32020998 | E13: =VLOOKUP($C13,'yield calculation'!$C:$F,3,FALSE) -> 0.5258621 | F13: =VLOOKUP($C13,'yield calculation'!$C:$F,4,FALSE) -> 0.60892391
C14: Retail | D14: =VLOOKUP($C14,'yield calculation'!$C:$F,2,FALSE) -> 0.22546972 | E14: =VLOOKUP($C14,'yield calculation'!$C:$F,3,FALSE) -> 0.4169884 | F14: =VLOOKUP($C14,'yield calculation'!$C:$F,4,FALSE) -> 0.54070979
C15: Hotels | D15: =VLOOKUP($C15,'yield calculation'!$C:$F,2,FALSE) -> 0.29970327 | E15: =VLOOKUP($C15,'yield calculation'!$C:$F,3,FALSE) -> 0.54010695 | F15: =VLOOKUP($C15,'yield calculation'!$C:$F,4,FALSE) -> 0.55489612
C16: Other Services | D16: =VLOOKUP($C16,'yield calculation'!$C:$F,2,FALSE) -> 0.19538671 | E16: =VLOOKUP($C16,'yield calculation'!$C:$F,3,FALSE) -> 0.40677965 | F16: =VLOOKUP($C16,'yield calculation'!$C:$F,4,FALSE) -> 0.48032564
B17: Overall | C17: Georgia 2023 | D17: =VLOOKUP($C17,'yield calculation'!$C:$F,2,FALSE) -> 0.25539258 | E17: =VLOOKUP($C17,'yield calculation'!$C:$F,3,FALSE) -> 0.47322142 | F17: =VLOOKUP($C17,'yield calculation'!$C:$F,4,FALSE) -> 0.53968936
B18: Notes: the rates are calculated as defined in Section III.4

Sheet Table 6 Achieved Total Sample 
C1: =RIGHT(SUBSTITUTE('achieved fresh and panel'!C1,"_"," "),LEN(SUBSTITUTE('achieved fresh and panel'!C1,"_"," "))-1) -> Food | D1: =RIGHT(SUBSTITUTE('achieved fresh and panel'!D1,"_"," "),LEN(SUBSTITUTE('achieved fresh and panel'!D1,"_"," "))-1) -> Other Manufacturing | E1: =RIGHT(SUBSTITUTE('achieved fresh and panel'!E1,"_"," "),LEN(SUBSTITUTE('achieved fresh and panel'!E1,"_"," "))-1) -> Retail | F1: =RIGHT(SUBSTITUTE('achieved fresh and panel'!F1,"_"," "),LEN(SUBSTITUTE('achieved fresh and panel'!F1,"_"," "))-1) -> Hotels | G1: =RIGHT(SUBSTITUTE('achieved fresh and panel'!G1,"_"," "),LEN(SUBSTITUTE('achieved fresh and panel'!G1,"_"," "))-1) -> Other Services | H1: =RIGHT(SUBSTITUTE('achieved fresh and panel'!H1,"_"," "),LEN(SUBSTITUTE('achieved fresh and panel'!H1,"_"," "))-1) -> Grand Total
A2: ='achieved fresh and panel'!A2 -> Tbilisi | B2: =LEFT('achieved fresh and panel'!B2,FIND(")",'achieved fresh and panel'!B2)) -> Small (5-19) | C2: ='achieved fresh and panel'!C2 -> 10 | D2: ='achieved fresh and panel'!D2 -> 15 | E2: ='achieved fresh and panel'!E2 -> 21 | F2: ='achieved fresh and panel'!F2 -> 9 | G2: ='achieved fresh and panel'!G2 -> 43 | H2: =SUM(C2:G5) -> 283
A3: ='achieved fresh and panel'!A3 -> Tbilisi | B3: =LEFT('achieved fresh and panel'!B3,FIND(")",'achieved fresh and panel'!B3)) -> Medium (20-99) | C3: ='achieved fresh and panel'!C3 -> 8 | D3: ='achieved fresh and panel'!D3 -> 15 | E3: ='achieved fresh and panel'!E3 -> 5 | F3: ='achieved fresh and panel'!F3 -> 9 | G3: ='achieved fresh and panel'!G3 -> 14
A4: ='achieved fresh and panel'!A4 -> Tbilisi | B4: =LEFT('achieved fresh and panel'!B4,FIND(")",'achieved fresh and panel'!B4)) -> Large (100+) | C4: ='achieved fresh and panel'!C4 -> 5 | D4: ='achieved fresh and panel'!D4 -> 17 | E4: ='achieved fresh and panel'!E4 -> 21 | F4: ='achieved fresh and panel'!F4 -> 8 | G4: ='achieved fresh and panel'!G4 -> 15
A5: ='achieved fresh and panel'!A5 -> East | B5: =LEFT('achieved fresh and panel'!B5,FIND(")",'achieved fresh and panel'!B5)) -> Small (5-19) | C5: ='achieved fresh and panel'!C5 -> 19 | D5: ='achieved fresh and panel'!D5 -> 14 | E5: ='achieved fresh and panel'!E5 -> 13 | F5: ='achieved fresh and panel'!F5 -> 7 | G5: ='achieved fresh and panel'!G5 -> 15
A6: ='achieved fresh and panel'!A6 -> East | B6: =LEFT('achieved fresh and panel'!B6,FIND(")",'achieved fresh and panel'!B6)) -> Medium (20-99) | C6: ='achieved fresh and panel'!C6 -> 9 | D6: ='achieved fresh and panel'!D6 -> 11 | E6: ='achieved fresh and panel'!E6 -> 7 | F6: ='achieved fresh and panel'!F6 -> 5 | G6: ='achieved fresh and panel'!G6 -> 7 | H6: =SUM(C6:G9) -> 159
A7: ='achieved fresh and panel'!A7 -> East | B7: =LEFT('achieved fresh and panel'!B7,FIND(")",'achieved fresh and panel'!B7)) -> Large (100+) | C7: ='achieved fresh and panel'!C7 -> 1 | D7: ='achieved fresh and panel'!D7 -> 5 | E7: ='achieved fresh and panel'!E7 -> 1 | F7: ='achieved fresh and panel'!F7 -> 1 | G7: ='achieved fresh and panel'!G7 -> 1
A8: ='achieved fresh and panel'!A8 -> Center | B8: =LEFT('achieved fresh and panel'!B8,FIND(")",'achieved fresh and panel'!B8)) -> Small (5-19) | C8: ='achieved fresh and panel'!C8 -> 14 | D8: ='achieved fresh and panel'!D8 -> 7 | E8: ='achieved fresh and panel'!E8 -> 10 | F8: ='achieved fresh and panel'!F8 -> 20 | G8: ='achieved fresh and panel'!G8 -> 13
A9: ='achieved fresh and panel'!A9 -> Center | B9: =LEFT('achieved fresh and panel'!B9,FIND(")",'achieved fresh and panel'!B9)) -> Medium (20-99) | C9: ='achieved fresh and panel'!C9 -> 17 | D9: ='achieved fresh and panel'!D9 -> 7 | E9: ='achieved fresh and panel'!E9 -> 4 | F9: ='achieved fresh and panel'!F9 -> 13 | G9: ='achieved fresh and panel'!G9 -> 6
A10: ='achieved fresh and panel'!A10 -> Center | B10: =LEFT('achieved fresh and panel'!B10,FIND(")",'achieved fresh and panel'!B10)) -> Large (100+) | C10: ='achieved fresh and panel'!C10 -> 3 | D10: ='achieved fresh and panel'!D10 -> 6 | E10: ='achieved fresh and panel'!E10 -> 1 | F10: ='achieved fresh and panel'!F10 -> 1 | G10: ='achieved fresh and panel'!G10 -> 6 | H10: =SUM(C10:G13) -> 150
A11: ='achieved fresh and panel'!A11 -> North and West | B11: =LEFT('achieved fresh and panel'!B11,FIND(")",'achieved fresh and panel'!B11)) -> Small (5-19) | C11: ='achieved fresh and panel'!C11 -> 14 | D11: ='achieved fresh and panel'!D11 -> 13 | E11: ='achieved fresh and panel'!E11 -> 17 | F11: ='achieved fresh and panel'!F11 -> 14 | G11: ='achieved fresh and panel'!G11 -> 12
A12: ='achieved fresh and panel'!A12 -> North and West | B12: =LEFT('achieved fresh and panel'!B12,FIND(")",'achieved fresh and panel'!B12)) -> Medium (20-99) | C12: ='achieved fresh and panel'!C12 -> 12 | D12: ='achieved fresh and panel'!D12 -> 7 | E12: ='achieved fresh and panel'!E12 -> 6 | F12: ='achieved fresh and panel'!F12 -> 10 | G12: ='achieved fresh and panel'!G12 -> 7
A13: ='achieved fresh and panel'!A13 -> North and West | B13: =LEFT('achieved fresh and panel'!B13,FIND(")",'achieved fresh and panel'!B13)) -> Large (100+) | C13: ='achieved fresh and panel'!C13 -> 5 | D13: ='achieved fresh and panel'!D13 -> 5 | E13: ='achieved fresh and panel'!E13 -> 2 | F13: ='achieved fresh and panel'!F13 -> 4 | G13: ='achieved fresh and panel'!G13 -> 5
C14: =SUM(C2:C13) -> 117 | D14: =SUM(D2:D13) -> 122 | E14: =SUM(E2:E13) -> 108 | F14: =SUM(F2:F13) -> 101 | G14: =SUM(G2:G13) -> 144 | H14: =SUM(H2:H13) -> 592

Sheet Table 7 Achieved Panel Sample
C1: =RIGHT(SUBSTITUTE('achieved panel'!C1,"_"," "),LEN(SUBSTITUTE('achieved panel'!C1,"_"," "))-1) -> Food | D1: =RIGHT(SUBSTITUTE('achieved panel'!D1,"_"," "),LEN(SUBSTITUTE('achieved panel'!D1,"_"," "))-1) -> Other Manufacturing | E1: =RIGHT(SUBSTITUTE('achieved panel'!E1,"_"," "),LEN(SUBSTITUTE('achieved panel'!E1,"_"," "))-1) -> Retail | F1: =RIGHT(SUBSTITUTE('achieved panel'!F1,"_"," "),LEN(SUBSTITUTE('achieved panel'!F1,"_"," "))-1) -> Hotels | G1: =RIGHT(SUBSTITUTE('achieved panel'!G1,"_"," "),LEN(SUBSTITUTE('achieved panel'!G1,"_"," "))-1) -> Other Services | H1: =RIGHT(SUBSTITUTE('achieved panel'!H1,"_"," "),LEN(SUBSTITUTE('achieved panel'!H1,"_"," "))-1) -> Grand Total
A2: ='achieved panel'!A2 -> Tbilisi | B2: =LEFT('achieved panel'!B2,FIND(")",'achieved panel'!B2)) -> Small (5-19) | C2: ='achieved panel'!C2 -> 1 | D2: ='achieved panel'!D2 -> 6 | E2: ='achieved panel'!E2 -> 8 | F2: ='achieved panel'!F2 -> 6 | G2: ='achieved panel'!G2 -> 4 | H2: =SUM(C2:G5) -> 95
A3: ='achieved panel'!A3 -> Tbilisi | B3: =LEFT('achieved panel'!B3,FIND(")",'achieved panel'!B3)) -> Medium (20-99) | C3: ='achieved panel'!C3 -> 5 | D3: ='achieved panel'!D3 -> 12 | E3: ='achieved panel'!E3 -> 2 | F3: ='achieved panel'!F3 -> 6 | G3: ='achieved panel'!G3 -> 3
A4: ='achieved panel'!A4 -> Tbilisi | B4: =LEFT('achieved panel'!B4,FIND(")",'achieved panel'!B4)) -> Large (100+) | C4: ='achieved panel'!C4 -> 2 | D4: ='achieved panel'!D4 -> 3 | E4: ='achieved panel'!E4 -> 6 | F4: ='achieved panel'!F4 -> 0 | G4: ='achieved panel'!G4 -> 6
A5: ='achieved panel'!A5 -> East | B5: =LEFT('achieved panel'!B5,FIND(")",'achieved panel'!B5)) -> Small (5-19) | C5: ='achieved panel'!C5 -> 3 | D5: ='achieved panel'!D5 -> 5 | E5: ='achieved panel'!E5 -> 8 | F5: ='achieved panel'!F5 -> 2 | G5: ='achieved panel'!G5 -> 7
A6: ='achieved panel'!A6 -> East | B6: =LEFT('achieved panel'!B6,FIND(")",'achieved panel'!B6)) -> Medium (20-99) | C6: ='achieved panel'!C6 -> 5 | D6: ='achieved panel'!D6 -> 8 | E6: ='achieved panel'!E6 -> 3 | F6: ='achieved panel'!F6 -> 3 | G6: ='achieved panel'!G6 -> 3 | H6: =SUM(C6:G9) -> 68
A7: ='achieved panel'!A7 -> East | B7: =LEFT('achieved panel'!B7,FIND(")",'achieved panel'!B7)) -> Large (100+) | C7: ='achieved panel'!C7 -> 0 | D7: ='achieved panel'!D7 -> 2 | E7: ='achieved panel'!E7 -> 1 | F7: ='achieved panel'!F7 -> 0 | G7: ='achieved panel'!G7 -> 1
A8: ='achieved panel'!A8 -> Center | B8: =LEFT('achieved panel'!B8,FIND(")",'achieved panel'!B8)) -> Small (5-19) | C8: ='achieved panel'!C8 -> 1 | D8: ='achieved panel'!D8 -> 3 | E8: ='achieved panel'!E8 -> 4 | F8: ='achieved panel'!F8 -> 9 | G8: ='achieved panel'!G8 -> 2
A9: ='achieved panel'!A9 -> Center | B9: =LEFT('achieved panel'!B9,FIND(")",'achieved panel'!B9)) -> Medium (20-99) | C9: ='achieved panel'!C9 -> 6 | D9: ='achieved panel'!D9 -> 4 | E9: ='achieved panel'!E9 -> 1 | F9: ='achieved panel'!F9 -> 10 | G9: ='achieved panel'!G9 -> 2
A10: ='achieved panel'!A10 -> Center | B10: =LEFT('achieved panel'!B10,FIND(")",'achieved panel'!B10)) -> Large (100+) | C10: ='achieved panel'!C10 -> 2 | D10: ='achieved panel'!D10 -> 4 | E10: ='achieved panel'!E10 -> 0 | F10: ='achieved panel'!F10 -> 1 | G10: ='achieved panel'!G10 -> 3 | H10: =SUM(C10:G13) -> 76
A11: ='achieved panel'!A11 -> North and West | B11: =LEFT('achieved panel'!B11,FIND(")",'achieved panel'!B11)) -> Small (5-19) | C11: ='achieved panel'!C11 -> 7 | D11: ='achieved panel'!D11 -> 9 | E11: ='achieved panel'!E11 -> 12 | F11: ='achieved panel'!F11 -> 8 | G11: ='achieved panel'!G11 -> 0
A12: ='achieved panel'!A12 -> North and West | B12: =LEFT('achieved panel'!B12,FIND(")",'achieved panel'!B12)) -> Medium (20-99) | C12: ='achieved panel'!C12 -> 9 | D12: ='achieved panel'!D12 -> 4 | E12: ='achieved panel'!E12 -> 2 | F12: ='achieved panel'!F12 -> 2 | G12: ='achieved panel'!G12 -> 3
A13: ='achieved panel'!A13 -> North and West | B13: =LEFT('achieved panel'!B13,FIND(")",'achieved panel'!B13)) -> Large (100+) | C13: ='achieved panel'!C13 -> 2 | D13: ='achieved panel'!D13 -> 2 | E13: ='achieved panel'!E13 -> 2 | F13: ='achieved panel'!F13 -> 2 | G13: ='achieved panel'!G13 -> 2
C14: =SUM(C2:C13) -> 43 | D14: =SUM(D2:D13) -> 62 | E14: =SUM(E2:E13) -> 49 | F14: =SUM(F2:F13) -> 49 | G14: =SUM(G2:G13) -> 36 | H14: =SUM(H2:H13) -> 239

Sheet Table 8 Weak Universe Estimates
C1: =RIGHT(SUBSTITUTE(universe_weak!C1,"_"," "),LEN(SUBSTITUTE(universe_weak!C1,"_"," "))-1) -> Food | D1: =RIGHT(SUBSTITUTE(universe_weak!D1,"_"," "),LEN(SUBSTITUTE(universe_weak!D1,"_"," "))-1) -> Other Manufacturing | E1: =RIGHT(SUBSTITUTE(universe_weak!E1,"_"," "),LEN(SUBSTITUTE(universe_weak!E1,"_"," "))-1) -> Retail | F1: =RIGHT(SUBSTITUTE(universe_weak!F1,"_"," "),LEN(SUBSTITUTE(universe_weak!F1,"_"," "))-1) -> Hotels | G1: =RIGHT(SUBSTITUTE(universe_weak!G1,"_"," "),LEN(SUBSTITUTE(universe_weak!G1,"_"," "))-1) -> Other Services | H1: =RIGHT(SUBSTITUTE(universe_weak!H1,"_"," "),LEN(SUBSTITUTE(universe_weak!H1,"_"," "))-1) -> Grand Total
A2: =universe_weak!A2 -> Tbilisi | B2: =LEFT(universe_weak!B2,FIND(")",universe_weak!B2)) -> Small (5-19) | C2: =universe_weak!C2 -> 182.32114 | D2: =universe_weak!D2 -> 579.85107 | E2: =universe_weak!E2 -> 980.32556 | F2: =universe_weak!F2 -> 156.26553 | G2: =universe_weak!G2 -> 3579.2698 | H2: =SUM(C2:G5) -> 8186.6679
A3: =universe_weak!A3 -> Tbilisi | B3: =LEFT(universe_weak!B3,FIND(")",universe_weak!B3)) -> Medium (20-99) | C3: =universe_weak!C3 -> 64.459114 | D3: =universe_weak!D3 -> 197.97977 | E3: =universe_weak!E3 -> 229.13342 | F3: =universe_weak!F3 -> 60.503559 | G3: =universe_weak!G3 -> 1013.7274
A4: =universe_weak!A4 -> Tbilisi | B4: =LEFT(universe_weak!B4,FIND(")",universe_weak!B4)) -> Large (100+) | C4: =universe_weak!C4 -> 20.770157 | D4: =universe_weak!D4 -> 35.201672 | E4: =universe_weak!E4 -> 67.914902 | F4: =universe_weak!F4 -> 16.095463 | G4: =universe_weak!G4 -> 186.22997
A5: =universe_weak!A5 -> East | B5: =LEFT(universe_weak!B5,FIND(")",universe_weak!B5)) -> Small (5-19) | C5: =universe_weak!C5 -> 51.219036 | D5: =universe_weak!D5 -> 113.35403 | E5: =universe_weak!E5 -> 227.5634 | F5: =universe_weak!F5 -> 15.426571 | G5: =universe_weak!G5 -> 409.05646
A6: =universe_weak!A6 -> East | B6: =LEFT(universe_weak!B6,FIND(")",universe_weak!B6)) -> Medium (20-99) | C6: =universe_weak!C6 -> 9.2344675 | D6: =universe_weak!D6 -> 44.312649 | E6: =universe_weak!E6 -> 0 | F6: =universe_weak!F6 -> 6.2459736 | G6: =universe_weak!G6 -> 0 | H6: =SUM(C6:G10) -> 1704.7689
A7: =universe_weak!A7 -> East | B7: =LEFT(universe_weak!B7,FIND(")",universe_weak!B7)) -> Large (100+) | C7: =universe_weak!C7 -> 2.3451846 | D7: =universe_weak!D7 -> 14.735346 | E7: =universe_weak!E7 -> 0 | F7: =universe_weak!F7 -> 1 | G7: =universe_weak!G7 -> 0
A8: =universe_weak!A8 -> East | B8: =LEFT(universe_weak!B8,FIND(")",universe_weak!B8)) -> Medium and Large (20+) | C8: =universe_weak!C8 -> 0 | D8: =universe_weak!D8 -> 0 | E8: =universe_weak!E8 -> 16.901304 | F8: =universe_weak!F8 -> 0 | G8: =universe_weak!G8 -> 64.656845
A9: =universe_weak!A9 -> Center | B9: =LEFT(universe_weak!B9,FIND(")",universe_weak!B9)) -> Small (5-19) | C9: =universe_weak!C9 -> 127.68256 | D9: =universe_weak!D9 -> 164.4521 | E9: =universe_weak!E9 -> 331.26584 | F9: =universe_weak!F9 -> 46.046581 | G9: =universe_weak!G9 -> 683.2959
A10: =universe_weak!A10 -> Center | B10: =LEFT(universe_weak!B10,FIND(")",universe_weak!B10)) -> Medium (20-99) | C10: =universe_weak!C10 -> 22.117653 | D10: =universe_weak!D10 -> 45.739029 | E10: =universe_weak!E10 -> 30.842257 | F10: =universe_weak!F10 -> 0 | G10: =universe_weak!G10 -> 93.895248
A11: =universe_weak!A11 -> Center | B11: =LEFT(universe_weak!B11,FIND(")",universe_weak!B11)) -> Large (100+) | C11: =universe_weak!C11 -> 5.1852689 | D11: =universe_weak!D11 -> 16.167646 | E11: =universe_weak!E11 -> 1.5501672 | F11: =universe_weak!F11 -> 0 | G11: =universe_weak!G11 -> 12.324912 | H11: =SUM(C11:G15) -> 1992.8126
A12: =universe_weak!A12 -> Center | B12: =LEFT(universe_weak!B12,FIND(")",universe_weak!B12)) -> Medium and Large (20+) | C12: =universe_weak!C12 -> 0 | D12: =universe_weak!D12 -> 0 | E12: =universe_weak!E12 -> 0 | F12: =universe_weak!F12 -> 14.210219 | G12: =universe_weak!G12 -> 0
A13: =universe_weak!A13 -> North and West | B13: =LEFT(universe_weak!B13,FIND(")",universe_weak!B13)) -> Small (5-19) | C13: =universe_weak!C13 -> 113.01256 | D13: =universe_weak!D13 -> 126.23141 | E13: =universe_weak!E13 -> 353.9238 | F13: =universe_weak!F13 -> 61.887367 | G13: =universe_weak!G13 -> 960.77246
A14: =universe_weak!A14 -> North and West | B14: =LEFT(universe_weak!B14,FIND(")",universe_weak!B14)) -> Medium (20-99) | C14: =universe_weak!C14 -> 24.798367 | D14: =universe_weak!D14 -> 30.95116 | E14: =universe_weak!E14 -> 0 | F14: =universe_weak!F14 -> 18.009871 | G14: =universe_weak!G14 -> 207.6331
A15: =universe_weak!A15 -> North and West | B15: =LEFT(universe_weak!B15,FIND(")",universe_weak!B15)) -> Large (100+) | C15: =universe_weak!C15 -> 5 | D15: =universe_weak!D15 -> 9.3338442 | E15: =universe_weak!E15 -> 0 | F15: =universe_weak!F15 -> 9.2093935 | G15: =universe_weak!G15 -> 22.611069
A16: =universe_weak!A16 -> North and West | B16: =LEFT(universe_weak!B16,FIND(")",universe_weak!B16)) -> Medium and Large (20+) | C16: =universe_weak!C16 -> 0 | D16: =universe_weak!D16 -> 0 | E16: =universe_weak!E16 -> 30.953821 | F16: =universe_weak!F16 -> 0 | G16: =universe_weak!G16 -> 0 | H16: =SUM(C16:G16) -> 30.953821
C17: =SUM(C2:C16) -> 628.14551 | D17: =SUM(D2:D16) -> 1378.3097 | E17: =SUM(E2:E16) -> 2270.3745 | F17: =SUM(F2:F16) -> 404.90053 | G17: =SUM(G2:G16) -> 7233.4731 | H17: =SUM(H2:H16) -> 11915.203

Sheet Table 9 Median Universe Est
C1: =RIGHT(SUBSTITUTE(universe_median!C1,"_"," "),LEN(SUBSTITUTE(universe_median!C1,"_"," "))-1) -> Food | D1: =RIGHT(SUBSTITUTE(universe_median!D1,"_"," "),LEN(SUBSTITUTE(universe_median!D1,"_"," "))-1) -> Other Manufacturing | E1: =RIGHT(SUBSTITUTE(universe_median!E1,"_"," "),LEN(SUBSTITUTE(universe_median!E1,"_"," "))-1) -> Retail | F1: =RIGHT(SUBSTITUTE(universe_median!F1,"_"," "),LEN(SUBSTITUTE(universe_median!F1,"_"," "))-1) -> Hotels | G1: =RIGHT(SUBSTITUTE(universe_median!G1,"_"," "),LEN(SUBSTITUTE(universe_median!G1,"_"," "))-1) -> Other Services | H1: =RIGHT(SUBSTITUTE(universe_median!H1,"_"," "),LEN(SUBSTITUTE(universe_median!H1,"_"," "))-1) -> Grand Total
A2: =universe_median!A2 -> Tbilisi | B2: =LEFT(universe_median!B2,FIND(")",universe_median!B2)) -> Small (5-19) | C2: =universe_median!C2 -> 100.57324 | D2: =universe_median!D2 -> 335.85455 | E2: =universe_median!E2 -> 475.59943 | F2: =universe_median!F2 -> 82.462006 | G2: =universe_median!G2 -> 1470.6388 | H2: =SUM(C2:G5) -> 4137.7559
A3: =universe_median!A3 -> Tbilisi | B3: =LEFT(universe_median!B3,FIND(")",universe_median!B3)) -> Medium (20-99) | C3: =universe_median!C3 -> 47.943268 | D3: =universe_median!D3 -> 154.61566 | E3: =universe_median!E3 -> 149.88466 | F3: =universe_median!F3 -> 43.049629 | G3: =universe_median!G3 -> 561.60449
A4: =universe_median!A4 -> Tbilisi | B4: =LEFT(universe_median!B4,FIND(")",universe_median!B4)) -> Large (100+) | C4: =universe_median!C4 -> 15.873242 | D4: =universe_median!D4 -> 28.247402 | E4: =universe_median!E4 -> 45.647442 | F4: =universe_median!F4 -> 11.76724 | G4: =universe_median!G4 -> 106.00874
A5: =universe_median!A5 -> East | B5: =LEFT(universe_median!B5,FIND(")",universe_median!B5)) -> Small (5-19) | C5: =universe_median!C5 -> 37.717926 | D5: =universe_median!D5 -> 87.64814 | E5: =universe_median!E5 -> 147.38194 | F5: =universe_median!F5 -> 10.867535 | G5: =universe_median!G5 -> 224.37053
A6: =universe_median!A6 -> East | B6: =LEFT(universe_median!B6,FIND(")",universe_median!B6)) -> Medium (20-99) | C6: =universe_median!C6 -> 9.3712158 | D6: =universe_median!D6 -> 46.19886 | E6: =universe_median!E6 -> 0 | F6: =universe_median!F6 -> 5.9327979 | G6: =universe_median!G6 -> 0 | H6: =SUM(C6:G10) -> 1032.5856
A7: =universe_median!A7 -> East | B7: =LEFT(universe_median!B7,FIND(")",universe_median!B7)) -> Large (100+) | C7: =universe_median!C7 -> 2.3926208 | D7: =universe_median!D7 -> 15.785069 | E7: =universe_median!E7 -> 0 | F7: =universe_median!F7 -> 1 | G7: =universe_median!G7 -> 0
A8: =universe_median!A8 -> East | B8: =LEFT(universe_median!B8,FIND(")",universe_median!B8)) -> Medium and Large (20+) | C8: =universe_median!C8 -> 0 | D8: =universe_median!D8 -> 0 | E8: =universe_median!E8 -> 13.425488 | F8: =universe_median!F8 -> 0 | G8: =universe_median!G8 -> 43.497574
A9: =universe_median!A9 -> Center | B9: =LEFT(universe_median!B9,FIND(")",universe_median!B9)) -> Small (5-19) | C9: =universe_median!C9 -> 83.367271 | D9: =universe_median!D9 -> 112.74382 | E9: =universe_median!E9 -> 190.22433 | F9: =universe_median!F9 -> 28.761173 | G9: =universe_median!G9 -> 332.30655
A10: =universe_median!A10 -> Center | B10: =LEFT(universe_median!B10,FIND(")",universe_median!B10)) -> Medium (20-99) | C10: =universe_median!C10 -> 19.848236 | D10: =universe_median!D10 -> 42.280304 | E10: =universe_median!E10 -> 23.879948 | F10: =universe_median!F10 -> 0 | G10: =universe_median!G10 -> 61.570335
A11: =universe_median!A11 -> Center | B11: =LEFT(universe_median!B11,FIND(")",universe_median!B11)) -> Large (100+) | C11: =universe_median!C11 -> 4.6904631 | D11: =universe_median!D11 -> 15.35609 | E11: =universe_median!E11 -> 1.2332423 | F11: =universe_median!F11 -> 0 | G11: =universe_median!G11 -> 8.3303413 | H11: =SUM(C11:G15) -> 910.20706
A12: =universe_median!A12 -> Center | B12: =LEFT(universe_median!B12,FIND(")",universe_median!B12)) -> Medium and Large (20+) | C12: =universe_median!C12 -> 0 | D12: =universe_median!D12 -> 0 | E12: =universe_median!E12 -> 0 | F12: =universe_median!F12 -> 14.019373 | G12: =universe_median!G12 -> 0
A13: =universe_median!A13 -> North and West | B13: =LEFT(universe_median!B13,FIND(")",universe_median!B13)) -> Small (5-19) | C13: =universe_median!C13 -> 57.55603 | D13: =universe_median!D13 -> 67.502663 | E13: =universe_median!E13 -> 158.52556 | F13: =universe_median!F13 -> 30.151669 | G13: =universe_median!G13 -> 364.46082
A14: =universe_median!A14 -> North and West | B14: =LEFT(universe_median!B14,FIND(")",universe_median!B14)) -> Medium (20-99) | C14: =universe_median!C14 -> 17.61083 | D14: =universe_median!D14 -> 22.316608 | E14: =universe_median!E14 -> 0 | F14: =universe_median!F14 -> 12.002357 | G14: =universe_median!G14 -> 106.20003
A15: =universe_median!A15 -> North and West | B15: =LEFT(universe_median!B15,FIND(")",universe_median!B15)) -> Large (100+) | C15: =universe_median!C15 -> 5 | D15: =universe_median!D15 -> 6.9150362 | E15: =universe_median!E15 -> 0 | F15: =universe_median!F15 -> 6.4527988 | G15: =universe_median!G15 -> 11.883157
A16: =universe_median!A16 -> North and West | B16: =LEFT(universe_median!B16,FIND(")",universe_median!B16)) -> Medium and Large (20+) | C16: =universe_median!C16 -> 0 | D16: =universe_median!D16 -> 0 | E16: =universe_median!E16 -> 17.004812 | F16: =universe_median!F16 -> 0 | G16: =universe_median!G16 -> 0 | H16: =SUM(C16:G16) -> 17.004812
C17: =SUM(C2:C16) -> 401.94435 | D17: =SUM(D2:D16) -> 935.46421 | E17: =SUM(E2:E16) -> 1222.8069 | F17: =SUM(F2:F16) -> 246.46658 | G17: =SUM(G2:G16) -> 3290.8714 | H17: =SUM(H2:H16) -> 6097.5533

Sheet Table 10 Strict Universe Est
C1: =RIGHT(SUBSTITUTE(universe_strict!C1,"_"," "),LEN(SUBSTITUTE(universe_strict!C1,"_"," "))-1) -> Food | D1: =RIGHT(SUBSTITUTE(universe_strict!D1,"_"," "),LEN(SUBSTITUTE(universe_strict!D1,"_"," "))-1) -> Other Manufacturing | E1: =RIGHT(SUBSTITUTE(universe_strict!E1,"_"," "),LEN(SUBSTITUTE(universe_strict!E1,"_"," "))-1) -> Retail | F1: =RIGHT(SUBSTITUTE(universe_strict!F1,"_"," "),LEN(SUBSTITUTE(universe_strict!F1,"_"," "))-1) -> Hotels | G1: =RIGHT(SUBSTITUTE(universe_strict!G1,"_"," "),LEN(SUBSTITUTE(universe_strict!G1,"_"," "))-1) -> Other Services | H1: =RIGHT(SUBSTITUTE(universe_strict!H1,"_"," "),LEN(SUBSTITUTE(universe_strict!H1,"_"," "))-1) -> Grand Total
A2: =universe_strict!A2 -> Tbilisi | B2: =LEFT(universe_strict!B2,FIND(")",universe_strict!B2)) -> Small (5-19) | C2: =universe_strict!C2 -> 46.064701 | D2: =universe_strict!D2 -> 136.46756 | E2: =universe_strict!E2 -> 157.82079 | F2: =universe_strict!F2 -> 34.030655 | G2: =universe_strict!G2 -> 584.87555 | H2: =SUM(C2:G5) -> 1623.622
A3: =universe_strict!A3 -> Tbilisi | B3: =LEFT(universe_strict!B3,FIND(")",universe_strict!B3)) -> Medium (20-99) | C3: =universe_strict!C3 -> 20.148737 | D3: =universe_strict!D3 -> 57.645576 | E3: =universe_strict!E3 -> 45.636734 | F3: =universe_strict!F3 -> 16.301226 | G3: =universe_strict!G3 -> 204.93796
A4: =universe_strict!A4 -> Tbilisi | B4: =LEFT(universe_strict!B4,FIND(")",universe_strict!B4)) -> Large (100+) | C4: =universe_strict!C4 -> 6.6401768 | D4: =universe_strict!D4 -> 17 | E4: =universe_strict!E4 -> 21 | F4: =universe_strict!F4 -> 8 | G4: =universe_strict!G4 -> 38.505894
A5: =universe_strict!A5 -> East | B5: =LEFT(universe_strict!B5,FIND(")",universe_strict!B5)) -> Small (5-19) | C5: =universe_strict!C5 -> 20.03548 | D5: =universe_strict!D5 -> 41.303509 | E5: =universe_strict!E5 -> 56.719631 | F5: =universe_strict!F5 -> 7 | G5: =universe_strict!G5 -> 103.48784
A6: =universe_strict!A6 -> East | B6: =LEFT(universe_strict!B6,FIND(")",universe_strict!B6)) -> Medium (20-99) | C6: =universe_strict!C6 -> 9 | D6: =universe_strict!D6 -> 19.976065 | E6: =universe_strict!E6 -> 0 | F6: =universe_strict!F6 -> 5 | G6: =universe_strict!G6 -> 0 | H6: =SUM(C6:G10) -> 575.22024
A7: =universe_strict!A7 -> East | B7: =LEFT(universe_strict!B7,FIND(")",universe_strict!B7)) -> Large (100+) | C7: =universe_strict!C7 -> 1.1607909 | D7: =universe_strict!D7 -> 6.7938957 | E7: =universe_strict!E7 -> 0 | F7: =universe_strict!F7 -> 1 | G7: =universe_strict!G7 -> 0
A8: =universe_strict!A8 -> East | B8: =LEFT(universe_strict!B8,FIND(")",universe_strict!B8)) -> Medium and Large (20+) | C8: =universe_strict!C8 -> 0 | D8: =universe_strict!D8 -> 0 | E8: =universe_strict!E8 -> 8 | F8: =universe_strict!F8 -> 0 | G8: =universe_strict!G8 -> 17.227331
A9: =universe_strict!A9 -> Center | B9: =LEFT(universe_strict!B9,FIND(")",universe_strict!B9)) -> Small (5-19) | C9: =universe_strict!C9 -> 55.229095 | D9: =universe_strict!D9 -> 66.26091 | E9: =universe_strict!E9 -> 91.30101 | F9: =universe_strict!F9 -> 20 | G9: =universe_strict!G9 -> 191.15376
A10: =universe_strict!A10 -> Center | B10: =LEFT(universe_strict!B10,FIND(")",universe_strict!B10)) -> Medium (20-99) | C10: =universe_strict!C10 -> 17.303108 | D10: =universe_strict!D10 -> 22.800123 | E10: =universe_strict!E10 -> 10.516647 | F10: =universe_strict!F10 -> 0 | G10: =universe_strict!G10 -> 32.497498
A11: =universe_strict!A11 -> Center | B11: =LEFT(universe_strict!B11,FIND(")",universe_strict!B11)) -> Large (100+) | C11: =universe_strict!C11 -> 3 | D11: =universe_strict!D11 -> 8.242775 | E11: =universe_strict!E11 -> 1 | F11: =universe_strict!F11 -> 0 | G11: =universe_strict!G11 -> 6 | H11: =SUM(C11:G15) -> 472.6386
A12: =universe_strict!A12 -> Center | B12: =LEFT(universe_strict!B12,FIND(")",universe_strict!B12)) -> Medium and Large (20+) | C12: =universe_strict!C12 -> 0 | D12: =universe_strict!D12 -> 0 | E12: =universe_strict!E12 -> 0 | F12: =universe_strict!F12 -> 14 | G12: =universe_strict!G12 -> 0
A13: =universe_strict!A13 -> North and West | B13: =LEFT(universe_strict!B13,FIND(")",universe_strict!B13)) -> Small (5-19) | C13: =universe_strict!C13 -> 33.646473 | D13: =universe_strict!D13 -> 35.007572 | E13: =universe_strict!E13 -> 67.478821 | F13: =universe_strict!F13 -> 16.035131 | G13: =universe_strict!G13 -> 184.99977
A14: =universe_strict!A14 -> North and West | B14: =LEFT(universe_strict!B14,FIND(")",universe_strict!B14)) -> Medium (20-99) | C14: =universe_strict!C14 -> 13.568281 | D14: =universe_strict!D14 -> 10.666697 | E14: =universe_strict!E14 -> 0 | F14: =universe_strict!F14 -> 10 | G14: =universe_strict!G14 -> 49.462883
A15: =universe_strict!A15 -> North and West | B15: =LEFT(universe_strict!B15,FIND(")",universe_strict!B15)) -> Large (100+) | C15: =universe_strict!C15 -> 5 | D15: =universe_strict!D15 -> 5 | E15: =universe_strict!E15 -> 0 | F15: =universe_strict!F15 -> 4 | G15: =universe_strict!G15 -> 5.5301948
A16: =universe_strict!A16 -> North and West | B16: =LEFT(universe_strict!B16,FIND(")",universe_strict!B16)) -> Medium and Large (20+) | C16: =universe_strict!C16 -> 0 | D16: =universe_strict!D16 -> 0 | E16: =universe_strict!E16 -> 8 | F16: =universe_strict!F16 -> 0 | G16: =universe_strict!G16 -> 0 | H16: =SUM(C16:G16) -> 8
C17: =SUM(C2:C16) -> 230.79684 | D17: =SUM(D2:D16) -> 427.16468 | E17: =SUM(E2:E16) -> 467.47363 | F17: =SUM(F2:F16) -> 135.36701 | G17: =SUM(G2:G16) -> 1418.6787 | H17: =SUM(H2:H16) -> 2679.4808

Sheet Table 11 Item Response Rates
C2: Screener/Interview | D2: d2 | E2: l1 | F2: n2a | G2: all TFP variables
B3: Panel | C3: Fresh | D3: =VLOOKUP($C3,'item response'!$C:$G,2,FALSE) -> 0.93767703 | E3: =VLOOKUP($C3,'item response'!$C:$G,3,FALSE) -> 1 | F3: =VLOOKUP($C3,'item response'!$C:$G,4,FALSE) -> 0.85552406 | G3: =VLOOKUP($C3,'item response'!$C:$G,5,FALSE) -> 0.57936507
C4: Panel | D4: =VLOOKUP($C4,'item response'!$C:$G,2,FALSE) -> 0.97071129 | E4: =VLOOKUP($C4,'item response'!$C:$G,3,FALSE) -> 1 | F4: =VLOOKUP($C4,'item response'!$C:$G,4,FALSE) -> 0.89121342 | G4: =VLOOKUP($C4,'item response'!$C:$G,5,FALSE) -> 0.6875
B5: Size | C5: Small (5-19) | D5: =VLOOKUP($C5,'item response'!$C:$G,2,FALSE) -> 0.95167285 | E5: =VLOOKUP($C5,'item response'!$C:$G,3,FALSE) -> 1 | F5: =VLOOKUP($C5,'item response'!$C:$G,4,FALSE) -> 0.88475835 | G5: =VLOOKUP($C5,'item response'!$C:$G,5,FALSE) -> 0.60465115
C6: Medium (20-99) | D6: =VLOOKUP($C6,'item response'!$C:$G,2,FALSE) -> 0.94339621 | E6: =VLOOKUP($C6,'item response'!$C:$G,3,FALSE) -> 1 | F6: =VLOOKUP($C6,'item response'!$C:$G,4,FALSE) -> 0.86320752 | G6: =VLOOKUP($C6,'item response'!$C:$G,5,FALSE) -> 0.66666669
C7: Large (100+) | D7: =VLOOKUP($C7,'item response'!$C:$G,2,FALSE) -> 0.96396399 | E7: =VLOOKUP($C7,'item response'!$C:$G,3,FALSE) -> 1 | F7: =VLOOKUP($C7,'item response'!$C:$G,4,FALSE) -> 0.84684682 | G7: =VLOOKUP($C7,'item response'!$C:$G,5,FALSE) -> 0.56756759
B8: Region | C8: Tbilisi | D8: =VLOOKUP($C8,'item response'!$C:$G,2,FALSE) -> 0.91703057 | E8: =VLOOKUP($C8,'item response'!$C:$G,3,FALSE) -> 1 | F8: =VLOOKUP($C8,'item response'!$C:$G,4,FALSE) -> 0.76855898 | G8: =VLOOKUP($C8,'item response'!$C:$G,5,FALSE) -> 0.3943662
C9: East | D9: =VLOOKUP($C9,'item response'!$C:$G,2,FALSE) -> 0.97247708 | E9: =VLOOKUP($C9,'item response'!$C:$G,3,FALSE) -> 1 | F9: =VLOOKUP($C9,'item response'!$C:$G,4,FALSE) -> 0.94495416 | G9: =VLOOKUP($C9,'item response'!$C:$G,5,FALSE) -> 0.79245281
C10: Center | D10: =VLOOKUP($C10,'item response'!$C:$G,2,FALSE) -> 0.97600001 | E10: =VLOOKUP($C10,'item response'!$C:$G,3,FALSE) -> 1 | F10: =VLOOKUP($C10,'item response'!$C:$G,4,FALSE) -> 0.92000002 | G10: =VLOOKUP($C10,'item response'!$C:$G,5,FALSE) -> 0.69999999
C11: North and West | D11: =VLOOKUP($C11,'item response'!$C:$G,2,FALSE) -> 0.96899223 | E11: =VLOOKUP($C11,'item response'!$C:$G,3,FALSE) -> 1 | F11: =VLOOKUP($C11,'item response'!$C:$G,4,FALSE) -> 0.93798447 | G11: =VLOOKUP($C11,'item response'!$C:$G,5,FALSE) -> 0.70833331
B12: Sector | C12: Food | D12: =VLOOKUP($C12,'item response'!$C:$G,2,FALSE) -> 0.98019803 | E12: =VLOOKUP($C12,'item response'!$C:$G,3,FALSE) -> 1 | F12: =VLOOKUP($C12,'item response'!$C:$G,4,FALSE) -> 0.87128711 | G12: =VLOOKUP($C12,'item response'!$C:$G,5,FALSE) -> 0.63366336
C13: Other Manufacturing | D13: =VLOOKUP($C13,'item response'!$C:$G,2,FALSE) -> 0.96721309 | E13: =VLOOKUP($C13,'item response'!$C:$G,3,FALSE) -> 1 | F13: =VLOOKUP($C13,'item response'!$C:$G,4,FALSE) -> 0.86885244 | G13: =VLOOKUP($C13,'item response'!$C:$G,5,FALSE) -> 0.625
C14: Retail | D14: =VLOOKUP($C14,'item response'!$C:$G,2,FALSE) -> 0.95689654 | E14: =VLOOKUP($C14,'item response'!$C:$G,3,FALSE) -> 1 | F14: =VLOOKUP($C14,'item response'!$C:$G,4,FALSE) -> 0.88793105 | G14: =VLOOKUP($C14,'item response'!$C:$G,5,FALSE) -> 0
C15: Hotels | D15: =VLOOKUP($C15,'item response'!$C:$G,2,FALSE) -> 0.94949496 | E15: =VLOOKUP($C15,'item response'!$C:$G,3,FALSE) -> 1 | F15: =VLOOKUP($C15,'item response'!$C:$G,4,FALSE) -> 0.8888889 | G15: =VLOOKUP($C15,'item response'!$C:$G,5,FALSE) -> 0
C16: Other Services | D16: =VLOOKUP($C16,'item response'!$C:$G,2,FALSE) -> 0.91558444 | E16: =VLOOKUP($C16,'item response'!$C:$G,3,FALSE) -> 1 | F16: =VLOOKUP($C16,'item response'!$C:$G,4,FALSE) -> 0.84415585 | G16: =VLOOKUP($C16,'item response'!$C:$G,5,FALSE) -> 0
B17: Overall | C17: Georgia 2023 | D17: =VLOOKUP($C17,'item response'!$C:$G,2,FALSE) -> 0.95101351 | E17: =VLOOKUP($C17,'item response'!$C:$G,3,FALSE) -> 1 | F17: =VLOOKUP($C17,'item response'!$C:$G,4,FALSE) -> 0.86993241 | G17: =VLOOKUP($C17,'item response'!$C:$G,5,FALSE) -> 0.62612611
B18: Notes: the rates are calculated as follows. The number of responses with informative content in the respective variable (or combination of variables in the case of TFP) is divided by the same number plus the number of responses that are "don't know" (code -9) or refusal (code -8).

Sheet universe
A1: stratificationregionname | B1: stratificationsizename | C1: _Food | D1: _Other_Manufacturing | E1: _Retail | F1: _Hotels | G1: _Other_Services | H1: _Grand_Total
A2: Tbilisi | B2: Small (5-19) | C2: 209 | D2: 670 | E2: 1074 | F2: 183 | G2: 3699
A3: Tbilisi | B3: Medium (20-99) | C3: 73 | D3: 226 | E3: 248 | F3: 70 | G3: 1035
A4: Tbilisi | B4: Large (100+) | C4: 24 | D4: 41 | E4: 75 | F4: 19 | G4: 194
A5: East | B5: Small (5-19) | C5: 65 | D5: 145 | E5: 276 | F5: 20 | G5: 468
A6: East | B6: Medium (20-99) | C6: 11 | D6: 56 | E6: 20 | F6: 8 | G6: 78
A7: East | B7: Large (100+) | C7: 3 | D7: 19 | E7: 3 | F7: 1 | G7: 5
A8: Center | B8: Small (5-19) | C8: 171 | D8: 222 | E8: 424 | F8: 63 | G8: 825
A9: Center | B9: Medium (20-99) | C9: 28 | D9: 61 | E9: 39 | F9: 15 | G9: 112
A10: Center | B10: Large (100+) | C10: 7 | D10: 22 | E10: 2 | F10: 4 | G10: 15
A11: North and West | B11: Small (5-19) | C11: 143 | D11: 161 | E11: 428 | F11: 80 | G11: 1096
A12: North and West | B12: Medium (20-99) | C12: 31 | D12: 39 | E12: 37 | F12: 23 | G12: 234
A13: North and West | B13: Large (100+) | C13: 4 | D13: 12 | E13: 5 | F13: 12 | G13: 26

Sheet frame fresh and panel
A1: stratificationregionname | B1: stratificationsizename | C1: _Food | D1: _Other_Manufacturing | E1: _Retail | F1: _Hotels | G1: _Other_Services | H1: _Grand_Total
A2: Tbilisi | B2: Small (5-19) | C2: 214 | D2: 680 | E2: 1091 | F2: 195 | G2: 3727
A3: Tbilisi | B3: Medium (20-99) | C3: 80 | D3: 244 | E3: 257 | F3: 84 | G3: 1056
A4: Tbilisi | B4: Large (100+) | C4: 30 | D4: 48 | E4: 87 | F4: 19 | G4: 210
A5: East | B5: Small (5-19) | C5: 74 | D5: 157 | E5: 297 | F5: 23 | G5: 479
A6: East | B6: Medium (20-99) | C6: 17 | D6: 72 | E6: 24 | F6: 13 | G6: 89
A7: East | B7: Large (100+) | C7: 3 | D7: 23 | E7: 4 | F7: 1 | G7: 7
A8: Center | B8: Small (5-19) | C8: 175 | D8: 233 | E8: 438 | F8: 77 | G8: 838
A9: Center | B9: Medium (20-99) | C9: 39 | D9: 68 | E9: 43 | F9: 29 | G9: 123
A10: Center | B10: Large (100+) | C10: 9 | D10: 29 | E10: 2 | F10: 6 | G10: 20
A11: North and West | B11: Small (5-19) | C11: 157 | D11: 177 | E11: 453 | F11: 98 | G11: 1109
A12: North and West | B12: Medium (20-99) | C12: 46 | D12: 48 | E12: 48 | F12: 30 | G12: 254
A13: North and West | B13: Large (100+) | C13: 8 | D13: 17 | E13: 7 | F13: 15 | G13: 36

Sheet original survey design
A1: stratificationregionname | B1: stratificationsizename | C1: _Food | D1: _Other_Manufacturing | E1: _Retail | F1: _Hotels | G1: _Other_Services | H1: _Grand_Total
A2: Tbilisi | B2: Small (5-19) | C2: 5 | D2: 10 | E2: 15 | F2: 7 | G2: 42
A3: Tbilisi | B3: Medium (20-99) | C3: 5 | D3: 5 | E3: 5 | F3: 5 | G3: 13
A4: Tbilisi | B4: Large (100+) | C4: 8 | D4: 6 | E4: 11 | F4: 8 | G4: 5
A5: East | B5: Small (5-19) | C5: 28 | D5: 14 | E5: 22 | F5: 11 | G5: 7
A6: East | B6: Medium (20-99) | C6: 9 | D6: 17 | E6: 10 | F6: 8 | G6: 5
A7: East | B7: Large (100+) | C7: 1 | D7: 12 | E7: 2 | F7: 1 | G7: 3
A8: Center | B8: Small (5-19) | C8: 7 | D8: 13 | E8: 18 | F8: 20 | G8: 11
A9: Center | B9: Medium (20-99) | C9: 13 | D9: 8 | E9: 7 | F9: 18 | G9: 5
A10: Center | B10: Large (100+) | C10: 5 | D10: 15 | E10: 1 | F10: 4 | G10: 5
A11: North and West | B11: Small (5-19) | C11: 16 | D11: 5 | E11: 20 | F11: 19 | G11: 14
A12: North and West | B12: Medium (20-99) | C12: 17 | D12: 5 | E12: 5 | F12: 11 | G12: 5
A13: North and West | B13: Large (100+) | C13: 6 | D13: 10 | E13: 4 | F13: 8 | G13: 5

Sheet yield calculation
A1: Survey | B1: Cell | C1: Name | D1: Yield | E1: Survey_response_rate | F1: Frame_quality
A2: Georgia 2023 | B2: Fresh/Panel | C2: Fresh | D2: 0.19545957 | E2: 0.39005524 | F2: 0.50110739
A3: Georgia 2023 | B3: Fresh/Panel | C3: Panel | D3: 0.46679688 | E3: 0.69075143 | F3: 0.67578125
A4: Georgia 2023 | B4: Size | C4: Small (5-19) | D4: 0.22692889 | E4: 0.47999999 | F4: 0.47276855
A5: Georgia 2023 | B5: Size | C5: Medium (20-99) | D5: 0.31403509 | E5: 0.50140059 | F5: 0.62631577
A6: Georgia 2023 | B6: Size | C6: Large (100+) | D6: 0.26525822 | E6: 0.42007434 | F6: 0.63145542
A7: Georgia 2023 | B7: Region | C7: Tbilisi | D7: 0.21564694 | E7: 0.40111941 | F7: 0.53761286
A8: Georgia 2023 | B8: Region | C8: East | D8: 0.30208334 | E8: 0.49152541 | F8: 0.61458331
A9: Georgia 2023 | B9: Region | C9: Center | D9: 0.31999999 | E9: 0.57918555 | F9: 0.55250001
A10: Georgia 2023 | B10: Region | C10: North and West | D10: 0.24767226 | E10: 0.51550388 | F10: 0.48044693
A11: Georgia 2023 | B11: Sector | C11: Food | D11: 0.3046875 | E11: 0.53424656 | F11: 0.5703125
A12: Georgia 2023 | B12: Sector | C12: Other Manufacturing | D12: 0.32020998 | E12: 0.5258621 | F12: 0.60892391
A13: Georgia 2023 | B13: Sector | C13: Retail | D13: 0.22546972 | E13: 0.4169884 | F13: 0.54070979
... A16: Georgia 2023 | B16: Georgia 2023 | C16: Georgia 2023 | D16: 0.25539258 | E16: 0.47322142 | F16: 0.53968936

Sheet achieved fresh and panel
A1: stratificationregionname | B1: stratificationsizename | C1: _Food | D1: _Other_Manufacturing | E1: _Retail | F1: _Hotels | G1: _Other_Services | H1: _Grand_Total
A2: Tbilisi | B2: Small (5-19) | C2: 10 | D2: 15 | E2: 21 | F2: 9 | G2: 43
A3: Tbilisi | B3: Medium (20-99) | C3: 8 | D3: 15 | E3: 5 | F3: 9 | G3: 14
A4: Tbilisi | B4: Large (100+) | C4: 5 | D4: 17 | E4: 21 | F4: 8 | G4: 15
A5: East | B5: Small (5-19) | C5: 19 | D5: 14 | E5: 13 | F5: 7 | G5: 15
A6: East | B6: Medium (20-99) | C6: 9 | D6: 11 | E6: 7 | F6: 5 | G6: 7
A7: East | B7: Large (100+) | C7: 1 | D7: 5 | E7: 1 | F7: 1 | G7: 1
A8: Center | B8: Small (5-19) | C8: 14 | D8: 7 | E8: 10 | F8: 20 | G8: 13
A9: Center | B9: Medium (20-99) | C9: 17 | D9: 7 | E9: 4 | F9: 13 | G9: 6
A10: Center | B10: Large (100+) | C10: 3 | D10: 6 | E10: 1 | F10: 1 | G10: 6
A11: North and West | B11: Small (5-19) | C11: 14 | D11: 13 | E11: 17 | F11: 14 | G11: 12
A12: North and West | B12: Medium (20-99) | C12: 12 | D12: 7 | E12: 6 | F12: 10 | G12: 7
A13: North and West | B13: Large (100+) | C13: 5 | D13: 5 | E13: 2 | F13: 4 | G13: 5

Sheet achieved panel
A1: stratificationregionname | B1: stratificationsizename | C1: _Food | D1: _Other_Manufacturing | E1: _Retail | F1: _Hotels | G1: _Other_Services | H1: _Grand_Total
A2: Tbilisi | B2: Small (5-19) | C2: 1 | D2: 6 | E2: 8 | F2: 6 | G2: 4
A3: Tbilisi | B3: Medium (20-99) | C3: 5 | D3: 12 | E3: 2 | F3: 6 | G3: 3
A4: Tbilisi | B4: Large (100+) | C4: 2 | D4: 3 | E4: 6 | G4: 6
A5: East | B5: Small (5-19) | C5: 3 | D5: 5 | E5: 8 | F5: 2 | G5: 7
A6: East | B6: Medium (20-99) | C6: 5 | D6: 8 | E6: 3 | F6: 3 | G6: 3
A7: East | B7: Large (100+) | D7: 2 | E7: 1 | G7: 1
A8: Center | B8: Small (5-19) | C8: 1 | D8: 3 | E8: 4 | F8: 9 | G8: 2
A9: Center | B9: Medium (20-99) | C9: 6 | D9: 4 | E9: 1 | F9: 10 | G9: 2
A10: Center | B10: Large (100+) | C10: 2 | D10: 4 | F10: 1 | G10: 3
A11: North and West | B11: Small (5-19) | C11: 7 | D11: 9 | E11: 12 | F11: 8
A12: North and West | B12: Medium (20-99) | C12: 9 | D12: 4 | E12: 2 | F12: 2 | G12: 3
A13: North and West | B13: Large (100+) | C13: 2 | D13: 2 | E13: 2 | F13: 2 | G13: 2

Sheet universe_strict
A1: stratificationregionname | B1: stratificationsizename | C1: _Food | D1: _Other_Manufacturing | E1: _Retail | F1: _Hotels | G1: _Other_Services | H1: _Grand_Total
A2: Tbilisi | B2: Small (5-19) | C2: 46.064701 | D2: 136.46756 | E2: 157.82079 | F2: 34.030655 | G2: 584.87555
A3: Tbilisi | B3: Medium (20-99) | C3: 20.148737 | D3: 57.645576 | E3: 45.636734 | F3: 16.301226 | G3: 204.93796
A4: Tbilisi | B4: Large (100+) | C4: 6.6401768 | D4: 17 | E4: 21 | F4: 8 | G4: 38.505894
A5: East | B5: Small (5-19) | C5: 20.03548 | D5: 41.303509 | E5: 56.719631 | F5: 7 | G5: 103.48784
A6: East | B6: Medium (20-99) | C6: 9 | D6: 19.976065 | F6: 5
A7: East | B7: Large (100+) | C7: 1.1607909 | D7: 6.7938957 | F7: 1
A8: East | B8: Medium and Large (20+) | E8: 8 | G8: 17.227331
A9: Center | B9: Small (5-19) | C9: 55.229095 | D9: 66.26091 | E9: 91.30101 | F9: 20 | G9: 191.15376
A10: Center | B10: Medium (20-99) | C10: 17.303108 | D10: 22.800123 | E10: 10.516647 | G10: 32.497498
A11: Center | B11: Large (100+) | C11: 3 | D11: 8.242775 | E11: 1 | G11: 6
A12: Center | B12: Medium and Large (20+) | F12: 14
A13: North and West | B13: Small (5-19) | C13: 33.646473 | D13: 35.007572 | E13: 67.478821 | F13: 16.035131 | G13: 184.99977
A14: North and West | B14: Medium (20-99) | C14: 13.568281 | D14: 10.666697 | F14: 10 | G14: 49.462883
A15: North and West | B15: Large (100+) | C15: 5 | D15: 5 | F15: 4 | G15: 5.5301948
A16: North and West | B16: Medium and Large (20+) | E16: 8

Sheet universe_median
A1: stratificationregionname | B1: stratificationsizename | C1: _Food | D1: _Other_Manufacturing | E1: _Retail | F1: _Hotels | G1: _Other_Services | H1: _Grand_Total
A2: Tbilisi | B2: Small (5-19) | C2: 100.57324 | D2: 335.85455 | E2: 475.59943 | F2: 82.462006 | G2: 1470.6388
A3: Tbilisi | B3: Medium (20-99) | C3: 47.943268 | D3: 154.61566 | E3: 149.88466 | F3: 43.049629 | G3: 561.60449
A4: Tbilisi | B4: Large (100+) | C4: 15.873242 | D4: 28.247402 | E4: 45.647442 | F4: 11.76724 | G4: 106.00874
A5: East | B5: Small (5-19) | C5: 37.717926 | D5: 87.64814 | E5: 147.38194 | F5: 10.867535 | G5: 224.37053
A6: East | B6: Medium (20-99) | C6: 9.3712158 | D6: 46.19886 | F6: 5.9327979
A7: East | B7: Large (100+) | C7: 2.3926208 | D7: 15.785069 | F7: 1
A8: East | B8: Medium and Large (20+) | E8: 13.425488 | G8: 43.497574
A9: Center | B9: Small (5-19) | C9: 83.367271 | D9: 112.74382 | E9: 190.22433 | F9: 28.761173 | G9: 332.30655
A10: Center | B10: Medium (20-99) | C10: 19.848236 | D10: 42.280304 | E10: 23.879948 | G10: 61.570335
A11: Center | B11: Large (100+) | C11: 4.6904631 | D11: 15.35609 | E11: 1.2332423 | G11: 8.3303413
A12: Center | B12: Medium and Large (20+) | F12: 14.019373
A13: North and West | B13: Small (5-19) | C13: 57.55603 | D13: 67.502663 | E13: 158.52556 | F13: 30.151669 | G13: 364.46082
A14: North and West | B14: Medium (20-99) | C14: 17.61083 | D14: 22.316608 | F14: 12.002357 | G14: 106.20003
A15: North and West | B15: Large (100+) | C15: 5 | D15: 6.9150362 | F15: 6.4527988 | G15: 11.883157
A16: North and West | B16: Medium and Large (20+) | E16: 17.004812

Sheet universe_weak
A1: stratificationregionname | B1: stratificationsizename | C1: _Food | D1: _Other_Manufacturing | E1: _Retail | F1: _Hotels | G1: _Other_Services | H1: _Grand_Total
A2: Tbilisi | B2: Small (5-19) | C2: 182.32114 | D2: 579.85107 | E2: 980.32556 | F2: 156.26553 | G2: 3579.2698
A3: Tbilisi | B3: Medium (20-99) | C3: 64.459114 | D3: 197.97977 | E3: 229.13342 | F3: 60.503559 | G3: 1013.7274
A4: Tbilisi | B4: Large (100+) | C4: 20.770157 | D4: 35.201672 | E4: 67.914902 | F4: 16.095463 | G4: 186.22997
A5: East | B5: Small (5-19) | C5: 51.219036 | D5: 113.35403 | E5: 227.5634 | F5: 15.426571 | G5: 409.05646
A6: East | B6: Medium (20-99) | C6: 9.2344675 | D6: 44.312649 | F6: 6.2459736
A7: East | B7: Large (100+) | C7: 2.3451846 | D7: 14.735346 | F7: 1
A8: East | B8: Medium and Large (20+) | E8: 16.901304 | G8: 64.656845
A9: Center | B9: Small (5-19) | C9: 127.68256 | D9: 164.4521 | E9: 331.26584 | F9: 46.046581 | G9: 683.2959
A10: Center | B10: Medium (20-99) | C10: 22.117653 | D10: 45.739029 | E10: 30.842257 | G10: 93.895248
A11: Center | B11: Large (100+) | C11: 5.1852689 | D11: 16.167646 | E11: 1.5501672 | G11: 12.324912
A12: Center | B12: Medium and Large (20+) | F12: 14.210219
A13: North and West | B13: Small (5-19) | C13: 113.01256 | D13: 126.23141 | E13: 353.9238 | F13: 61.887367 | G13: 960.77246
A14: North and West | B14: Medium (20-99) | C14: 24.798367 | D14: 30.95116 | F14: 18.009871 | G14: 207.6331
A15: North and West | B15: Large (100+) | C15: 5 | D15: 9.3338442 | F15: 9.2093935 | G15: 22.611069
A16: North and West | B16: Medium and Large (20+) | E16: 30.953821

Sheet item response
A1: Survey | B1: Cell | C1: Name | D1: rr_d2 | E1: rr_l1 | F1: rr_n2a | G1: rr_TFP
A2: Georgia 2023 | B2: Fresh/Panel | C2: Fresh | D2: 0.93767703 | E2: 1 | F2: 0.85552406 | G2: 0.57936507
A3: Georgia 2023 | B3: Fresh/Panel | C3: Panel | D3: 0.97071129 | E3: 1 | F3: 0.89121342 | G3: 0.6875
A4: Georgia 2023 | B4: Size | C4: Small (5-19) | D4: 0.95167285 | E4: 1 | F4: 0.88475835 | G4: 0.60465115
A5: Georgia 2023 | B5: Size | C5: Medium (20-99) | D5: 0.94339621 | E5: 1 | F5: 0.86320752 | G5: 0.66666669
A6: Georgia 2023 | B6: Size | C6: Large (100+) | D6: 0.96396399 | E6: 1 | F6: 0.84684682 | G6: 0.56756759
A7: Georgia 2023 | B7: Region | C7: Tbilisi | D7: 0.91703057 | E7: 1 | F7: 0.76855898 | G7: 0.3943662
A8: Georgia 2023 | B8: Region | C8: East | D8: 0.97247708 | E8: 1 | F8: 0.94495416 | G8: 0.79245281
A9: Georgia 2023 | B9: Region | C9: Center | D9: 0.97600001 | E9: 1 | F9: 0.92000002 | G9: 0.69999999
A10: Georgia 2023 | B10: Region | C10: North and West | D10: 0.96899223 | E10: 1 | F10: 0.93798447 | G10: 0.70833331
A11: Georgia 2023 | B11: Sector | C11: Food | D11: 0.98019803 | E11: 1 | F11: 0.87128711 | G11: 0.63366336
A12: Georgia 2023 | B12: Sector | C12: Hotels | D12: 0.94949496 | E12: 1 | F12: 0.8888889
A13: Georgia 2023 | B13: Sector | C13: Other Manufacturing | D13: 0.96721309 | E13: 1 | F13: 0.86885244 | G13: 0.625
A14: Georgia 2023 | B14: Sector | C14: Other Services | D14: 0.91558444 | E14: 1 | F14: 0.84415585
A15: Georgia 2023 | B15: Sector | C15: Retail | D15: 0.95689654 | E15: 1 | F15: 0.88793105 | G15: 0
A16: Georgia 2023 | B16: Georgia 2023 | C16: Georgia 2023 | D16: 0.95101351 | E16: 1 | F16: 0.86993241 | G16: 0.62612611
