Workbook

Sheet Table 1 Universe
C1: =RIGHT(SUBSTITUTE(universe!C1,"_"," "),LEN(SUBSTITUTE(universe!C1,"_"," "))-1) -> Food | D1: =RIGHT(SUBSTITUTE(universe!D1,"_"," "),LEN(SUBSTITUTE(universe!D1,"_"," "))-1) -> Other Manufacturing | E1: =RIGHT(SUBSTITUTE(universe!E1,"_"," "),LEN(SUBSTITUTE(universe!E1,"_"," "))-1) -> Retail | F1: =RIGHT(SUBSTITUTE(universe!F1,"_"," "),LEN(SUBSTITUTE(universe!F1,"_"," "))-1) -> Hotels | G1: =RIGHT(SUBSTITUTE(universe!G1,"_"," "),LEN(SUBSTITUTE(universe!G1,"_"," "))-1) -> Other Services | H1: =RIGHT(SUBSTITUTE(universe!H1,"_"," "),LEN(SUBSTITUTE(universe!H1,"_"," "))-1) -> Grand Total
A2: =universe!A2 -> Attica (EL3) | B2: =LEFT(universe!B2,FIND(")",universe!B2)) -> Small (5-19) | C2: =universe!C2 -> 825 | D2: =universe!D2 -> 1866 | E2: =universe!E2 -> 3281 | F2: =universe!F2 -> 384 | G2: =universe!G2 -> 13082 | H2: =SUM(C2:G4) -> 25418
A3: =universe!A3 -> Attica (EL3) | B3: =LEFT(universe!B3,FIND(")",universe!B3)) -> Medium (20-99) | C3: =universe!C3 -> 191 | D3: =universe!D3 -> 534 | E3: =universe!E3 -> 431 | F3: =universe!F3 -> 164 | G3: =universe!G3 -> 3908
A4: =universe!A4 -> Attica (EL3) | B4: =LEFT(universe!B4,FIND(")",universe!B4)) -> Large (100-199) | C4: =universe!C4 -> 57 | D4: =universe!D4 -> 146 | E4: =universe!E4 -> 80 | F4: =universe!F4 -> 37 | G4: =universe!G4 -> 432
A5: =universe!A5 -> Aegean Islands, Crete (EL4) | B5: =LEFT(universe!B5,FIND(")",universe!B5)) -> Small (5-19) | C5: =universe!C5 -> 300 | D5: =universe!D5 -> 216 | E5: =universe!E5 -> 905 | F5: =universe!F5 -> 847 | G5: =universe!G5 -> 4456 | H5: =SUM(C5:G7) -> 7903
A6: =universe!A6 -> Aegean Islands, Crete (EL4) | B6: =LEFT(universe!B6,FIND(")",universe!B6)) -> Medium (20-99) | C6: =universe!C6 -> 62 | D6: =universe!D6 -> 51 | E6: =universe!E6 -> 108 | F6: =universe!F6 -> 271 | G6: =universe!G6 -> 596
A7: =universe!A7 -> Aegean Islands, Crete (EL4) | B7: =LEFT(universe!B7,FIND(")",universe!B7)) -> Large (100-199) | C7: =universe!C7 -> 9 | D7: =universe!D7 -> 0 | E7: =universe!E7 -> 8 | F7: =universe!F7 -> 54 | G7: =universe!G7 -> 20
A8: =universe!A8 -> Northern Greece (EL5) | B8: =LEFT(universe!B8,FIND(")",universe!B8)) -> Small (5-19) | C8: =universe!C8 -> 706 | D8: =universe!D8 -> 1156 | E8: =universe!E8 -> 1809 | F8: =universe!F8 -> 452 | G8: =universe!G8 -> 7654 | H8: =SUM(C8:G10) -> 14396
A9: =universe!A9 -> Northern Greece (EL5) | B9: =LEFT(universe!B9,FIND(")",universe!B9)) -> Medium (20-99) | C9: =universe!C9 -> 231 | D9: =universe!D9 -> 320 | E9: =universe!E9 -> 189 | F9: =universe!F9 -> 136 | G9: =universe!G9 -> 1529
A10: =universe!A10 -> Northern Greece (EL5) | B10: =LEFT(universe!B10,FIND(")",universe!B10)) -> Large (100-199) | C10: =universe!C10 -> 65 | D10: =universe!D10 -> 49 | E10: =universe!E10 -> 26 | F10: =universe!F10 -> 11 | G10: =universe!G10 -> 63
A11: =universe!A11 -> Central Greece (EL6) | B11: =LEFT(universe!B11,FIND(")",universe!B11)) -> Small (5-19) | C11: =universe!C11 -> 550 | D11: =universe!D11 -> 570 | E11: =universe!E11 -> 1477 | F11: =universe!F11 -> 606 | G11: =universe!G11 -> 6687 | H11: =SUM(C11:G13) -> 11388
A12: =universe!A12 -> Central Greece (EL6) | B12: =LEFT(universe!B12,FIND(")",universe!B12)) -> Medium (20-99) | C12: =universe!C12 -> 183 | D12: =universe!D12 -> 122 | E12: =universe!E12 -> 104 | F12: =universe!F12 -> 106 | G12: =universe!G12 -> 880
A13: =universe!A13 -> Central Greece (EL6) | B13: =LEFT(universe!B13,FIND(")",universe!B13)) -> Large (100-199) | C13: =universe!C13 -> 40 | D13: =universe!D13 -> 23 | E13: =universe!E13 -> 13 | F13: =universe!F13 -> 5 | G13: =universe!G13 -> 22
C14: =SUM(C2:C13) -> 3219 | D14: =SUM(D2:D13) -> 5053 | E14: =SUM(E2:E13) -> 8431 | F14: =SUM(F2:F13) -> 3073 | G14: =SUM(G2:G13) -> 39329 | H14: =SUM(H2:H13) -> 59105
A15: Source: 6th Economic Census (conducted between January 2013 and April 2014).

Sheet Table 2 Frame
C1: =RIGHT(SUBSTITUTE('frame fresh and panel'!C1,"_"," "),LEN(SUBSTITUTE('frame fresh and panel'!C1,"_"," "))-1) -> Food | D1: =RIGHT(SUBSTITUTE('frame fresh and panel'!D1,"_"," "),LEN(SUBSTITUTE('frame fresh and panel'!D1,"_"," "))-1) -> Other Manufacturing | E1: =RIGHT(SUBSTITUTE('frame fresh and panel'!E1,"_"," "),LEN(SUBSTITUTE('frame fresh and panel'!E1,"_"," "))-1) -> Retail | F1: =RIGHT(SUBSTITUTE('frame fresh and panel'!F1,"_"," "),LEN(SUBSTITUTE('frame fresh and panel'!F1,"_"," "))-1) -> Hotels | G1: =RIGHT(SUBSTITUTE('frame fresh and panel'!G1,"_"," "),LEN(SUBSTITUTE('frame fresh and panel'!G1,"_"," "))-1) -> Other Services | H1: =RIGHT(SUBSTITUTE('frame fresh and panel'!H1,"_"," "),LEN(SUBSTITUTE('frame fresh and panel'!H1,"_"," "))-1) -> Grand Total
A2: ='frame fresh and panel'!A2 -> Attica (EL3) | B2: =LEFT('frame fresh and panel'!B2,FIND(")",'frame fresh and panel'!B2)) -> Small (5-19) | C2: ='frame fresh and panel'!C2 -> 967 | D2: ='frame fresh and panel'!D2 -> 2214 | E2: ='frame fresh and panel'!E2 -> 4962 | F2: ='frame fresh and panel'!F2 -> 359 | G2: ='frame fresh and panel'!G2 -> 15363 | H2: =SUM(C2:G4) -> 30856
A3: ='frame fresh and panel'!A3 -> Attica (EL3) | B3: =LEFT('frame fresh and panel'!B3,FIND(")",'frame fresh and panel'!B3)) -> Medium (20-99) | C3: ='frame fresh and panel'!C3 -> 209 | D3: ='frame fresh and panel'!D3 -> 743 | E3: ='frame fresh and panel'!E3 -> 1071 | F3: ='frame fresh and panel'!F3 -> 152 | G3: ='frame fresh and panel'!G3 -> 4097
A4: ='frame fresh and panel'!A4 -> Attica (EL3) | B4: =LEFT('frame fresh and panel'!B4,FIND(")",'frame fresh and panel'!B4)) -> Large (100 or more) | C4: ='frame fresh and panel'!C4 -> 41 | D4: ='frame fresh and panel'!D4 -> 140 | E4: ='frame fresh and panel'!E4 -> 98 | F4: ='frame fresh and panel'!F4 -> 24 | G4: ='frame fresh and panel'!G4 -> 416
A5: ='frame fresh and panel'!A5 -> Aegean Islands, Crete (EL4) | B5: =LEFT('frame fresh and panel'!B5,FIND(")",'frame fresh and panel'!B5)) -> Small (5-19) | C5: ='frame fresh and panel'!C5 -> 351 | D5: ='frame fresh and panel'!D5 -> 352 | E5: ='frame fresh and panel'!E5 -> 1383 | F5: ='frame fresh and panel'!F5 -> 889 | G5: ='frame fresh and panel'!G5 -> 4477 | H5: =SUM(C5:G7) -> 8976
A6: ='frame fresh and panel'!A6 -> Aegean Islands, Crete (EL4) | B6: =LEFT('frame fresh and panel'!B6,FIND(")",'frame fresh and panel'!B6)) -> Medium (20-99) | C6: ='frame fresh and panel'!C6 -> 63 | D6: ='frame fresh and panel'!D6 -> 76 | E6: ='frame fresh and panel'!E6 -> 285 | F6: ='frame fresh and panel'!F6 -> 375 | G6: ='frame fresh and panel'!G6 -> 569
A7: ='frame fresh and panel'!A7 -> Aegean Islands, Crete (EL4) | B7: =LEFT('frame fresh and panel'!B7,FIND(")",'frame fresh and panel'!B7)) -> Large (100 or more) | C7: ='frame fresh and panel'!C7 -> 7 | D7: ='frame fresh and panel'!D7 -> 8 | E7: ='frame fresh and panel'!E7 -> 6 | F7: ='frame fresh and panel'!F7 -> 108 | G7: ='frame fresh and panel'!G7 -> 27
A8: ='frame fresh and panel'!A8 -> Northern Greece (EL5) | B8: =LEFT('frame fresh and panel'!B8,FIND(")",'frame fresh and panel'!B8)) -> Small (5-19) | C8: ='frame fresh and panel'!C8 -> 919 | D8: ='frame fresh and panel'!D8 -> 1500 | E8: ='frame fresh and panel'!E8 -> 2775 | F8: ='frame fresh and panel'!F8 -> 341 | G8: ='frame fresh and panel'!G8 -> 8474 | H8: =SUM(C8:G10) -> 17288
A9: ='frame fresh and panel'!A9 -> Northern Greece (EL5) | B9: =LEFT('frame fresh and panel'!B9,FIND(")",'frame fresh and panel'!B9)) -> Medium (20-99) | C9: ='frame fresh and panel'!C9 -> 242 | D9: ='frame fresh and panel'!D9 -> 520 | E9: ='frame fresh and panel'!E9 -> 611 | F9: ='frame fresh and panel'!F9 -> 99 | G9: ='frame fresh and panel'!G9 -> 1517
A10: ='frame fresh and panel'!A10 -> Northern Greece (EL5) | B10: =LEFT('frame fresh and panel'!B10,FIND(")",'frame fresh and panel'!B10)) -> Large (100 or more) | C10: ='frame fresh and panel'!C10 -> 71 | D10: ='frame fresh and panel'!D10 -> 87 | E10: ='frame fresh and panel'!E10 -> 26 | F10: ='frame fresh and panel'!F10 -> 12 | G10: ='frame fresh and panel'!G10 -> 94
A11: ='frame fresh and panel'!A11 -> Central Greece (EL6) | B11: =LEFT('frame fresh and panel'!B11,FIND(")",'frame fresh and panel'!B11)) -> Small (5-19) | C11: ='frame fresh and panel'!C11 -> 701 | D11: ='frame fresh and panel'!D11 -> 955 | E11: ='frame fresh and panel'!E11 -> 2149 | F11: ='frame fresh and panel'!F11 -> 452 | G11: ='frame fresh and panel'!G11 -> 6499 | H11: =SUM(C11:G13) -> 13022
A12: ='frame fresh and panel'!A12 -> Central Greece (EL6) | B12: =LEFT('frame fresh and panel'!B12,FIND(")",'frame fresh and panel'!B12)) -> Medium (20-99) | C12: ='frame fresh and panel'!C12 -> 190 | D12: ='frame fresh and panel'!D12 -> 336 | E12: ='frame fresh and panel'!E12 -> 524 | F12: ='frame fresh and panel'!F12 -> 130 | G12: ='frame fresh and panel'!G12 -> 888
A13: ='frame fresh and panel'!A13 -> Central Greece (EL6) | B13: =LEFT('frame fresh and panel'!B13,FIND(")",'frame fresh and panel'!B13)) -> Large (100 or more) | C13: ='frame fresh and panel'!C13 -> 44 | D13: ='frame fresh and panel'!D13 -> 91 | E13: ='frame fresh and panel'!E13 -> 10 | F13: ='frame fresh and panel'!F13 -> 21 | G13: ='frame fresh and panel'!G13 -> 32
C14: =SUM(C2:C13) -> 3805 | D14: =SUM(D2:D13) -> 7022 | E14: =SUM(E2:E13) -> 13900 | F14: =SUM(F2:F13) -> 2962 | G14: =SUM(G2:G13) -> 42453 | H14: =SUM(H2:H13) -> 70142
A15: Source: Annual Survey of Industries (ASI, 2018-2019), and the 6th EC (conducted between January 2013 and April 2014).

Sheet Table 3 Original Survey Design
C1: =RIGHT(SUBSTITUTE('original survey design'!C1,"_"," "),LEN(SUBSTITUTE('original survey design'!C1,"_"," "))-1) -> Food | D1: =RIGHT(SUBSTITUTE('original survey design'!D1,"_"," "),LEN(SUBSTITUTE('original survey design'!D1,"_"," "))-1) -> Other Manufacturing | E1: =RIGHT(SUBSTITUTE('original survey design'!E1,"_"," "),LEN(SUBSTITUTE('original survey design'!E1,"_"," "))-1) -> Retail | F1: =RIGHT(SUBSTITUTE('original survey design'!F1,"_"," "),LEN(SUBSTITUTE('original survey design'!F1,"_"," "))-1) -> Hotels | G1: =RIGHT(SUBSTITUTE('original survey design'!G1,"_"," "),LEN(SUBSTITUTE('original survey design'!G1,"_"," "))-1) -> Other Services | H1: =RIGHT(SUBSTITUTE('original survey design'!H1,"_"," "),LEN(SUBSTITUTE('original survey design'!H1,"_"," "))-1) -> Grand Total
A2: ='original survey design'!A2 -> Attica (EL3) | B2: =LEFT('original survey design'!B2,FIND(")",'original survey design'!B2)) -> Small (5-19) | C2: ='original survey design'!C2 -> 9 | D2: ='original survey design'!D2 -> 13 | E2: ='original survey design'!E2 -> 27 | F2: ='original survey design'!F2 -> 6 | G2: ='original survey design'!G2 -> 31 | H2: =SUM(C2:G4) -> 206
A3: ='original survey design'!A3 -> Attica (EL3) | B3: =LEFT('original survey design'!B3,FIND(")",'original survey design'!B3)) -> Medium (20-99) | C3: ='original survey design'!C3 -> 11 | D3: ='original survey design'!D3 -> 11 | E3: ='original survey design'!E3 -> 9 | F3: ='original survey design'!F3 -> 14 | G3: ='original survey design'!G3 -> 14
A4: ='original survey design'!A4 -> Attica (EL3) | B4: =LEFT('original survey design'!B4,FIND(")",'original survey design'!B4)) -> Large (100-199) | C4: ='original survey design'!C4 -> 16 | D4: ='original survey design'!D4 -> 15 | E4: ='original survey design'!E4 -> 12 | F4: ='original survey design'!F4 -> 10 | G4: ='original survey design'!G4 -> 8
A5: ='original survey design'!A5 -> Aegean Islands, Crete (EL4) | B5: =LEFT('original survey design'!B5,FIND(")",'original survey design'!B5)) -> Small (5-19) | C5: ='original survey design'!C5 -> 11 | D5: ='original survey design'!D5 -> 5 | E5: ='original survey design'!E5 -> 9 | F5: ='original survey design'!F5 -> 6 | G5: ='original survey design'!G5 -> 13 | H5: =SUM(C5:G7) -> 127
A6: ='original survey design'!A6 -> Aegean Islands, Crete (EL4) | B6: =LEFT('original survey design'!B6,FIND(")",'original survey design'!B6)) -> Medium (20-99) | C6: ='original survey design'!C6 -> 9 | D6: ='original survey design'!D6 -> 8 | E6: ='original survey design'!E6 -> 11 | F6: ='original survey design'!F6 -> 12 | G6: ='original survey design'!G6 -> 5
A7: ='original survey design'!A7 -> Aegean Islands, Crete (EL4) | B7: =LEFT('original survey design'!B7,FIND(")",'original survey design'!B7)) -> Large (100-199) | C7: ='original survey design'!C7 -> 2 | D7: ='original survey design'!D7 -> 5 | E7: ='original survey design'!E7 -> 3 | F7: ='original survey design'!F7 -> 26 | G7: ='original survey design'!G7 -> 2
A8: ='original survey design'!A8 -> Northern Greece (EL5) | B8: =LEFT('original survey design'!B8,FIND(")",'original survey design'!B8)) -> Small (5-19) | C8: ='original survey design'!C8 -> 6 | D8: ='original survey design'!D8 -> 9 | E8: ='original survey design'!E8 -> 17 | F8: ='original survey design'!F8 -> 2 | G8: ='original survey design'!G8 -> 15 | H8: =SUM(C8:G10) -> 137
A9: ='original survey design'!A9 -> Northern Greece (EL5) | B9: =LEFT('original survey design'!B9,FIND(")",'original survey design'!B9)) -> Medium (20-99) | C9: ='original survey design'!C9 -> 9 | D9: ='original survey design'!D9 -> 11 | E9: ='original survey design'!E9 -> 10 | F9: ='original survey design'!F9 -> 11 | G9: ='original survey design'!G9 -> 4
A10: ='original survey design'!A10 -> Northern Greece (EL5) | B10: =LEFT('original survey design'!B10,FIND(")",'original survey design'!B10)) -> Large (100-199) | C10: ='original survey design'!C10 -> 15 | D10: ='original survey design'!D10 -> 14 | E10: ='original survey design'!E10 -> 5 | F10: ='original survey design'!F10 -> 5 | G10: ='original survey design'!G10 -> 4
A11: ='original survey design'!A11 -> Central Greece (EL6) | B11: =LEFT('original survey design'!B11,FIND(")",'original survey design'!B11)) -> Small (5-19) | C11: ='original survey design'!C11 -> 4 | D11: ='original survey design'!D11 -> 5 | E11: ='original survey design'!E11 -> 10 | F11: ='original survey design'!F11 -> 2 | G11: ='original survey design'!G11 -> 14 | H11: =SUM(C11:G13) -> 130
A12: ='original survey design'!A12 -> Central Greece (EL6) | B12: =LEFT('original survey design'!B12,FIND(")",'original survey design'!B12)) -> Medium (20-99) | C12: ='original survey design'!C12 -> 11 | D12: ='original survey design'!D12 -> 9 | E12: ='original survey design'!E12 -> 6 | F12: ='original survey design'!F12 -> 19 | G12: ='original survey design'!G12 -> 7
A13: ='original survey design'!A13 -> Central Greece (EL6) | B13: =LEFT('original survey design'!B13,FIND(")",'original survey design'!B13)) -> Large (100-199) | C13: ='original survey design'!C13 -> 17 | D13: ='original survey design'!D13 -> 15 | E13: ='original survey design'!E13 -> 1 | F13: ='original survey design'!F13 -> 7 | G13: ='original survey design'!G13 -> 3
C14: =SUM(C2:C13) -> 120 | D14: =SUM(D2:D13) -> 120 | E14: =SUM(E2:E13) -> 120 | F14: =SUM(F2:F13) -> 120 | G14: =SUM(G2:G13) -> 120 | H14: =SUM(H2:H13) -> 600

Sheet Table 4 Response Outcomes
D2: Totals | E2: Rates relative to total contacted
B3: Overall | C3: Contacts available in frame | D3: 70142
C4: Issued | D4: 3170
C5: Contacted | D5: 3108
B6: Screening phase | C6: Eligibles | D6: 1013 | E6: =D6/D$5 -> 0.32593308
C7: Screener refusals | D7: 124 | E7: =D7/D$5 -> 0.03989704
C8: Assumed eligibles | D8: 1143 | E8: =D8/D$5 -> 0.36776062
C9: Ineligible + out of target | D9: 24 | E9: =D9/D$5 -> 0.0077220077
C10: Unobtainables | D10: 1947 | E10: =D10/D$5 -> 0.62644788
B11: Interview phase | C11: Interview refusals | D11: 327 | E11: =D11/D$5 -> 0.10521236
B12: (only if eligible) | C12: Complete interviews | D12: 598 | E12: =D12/D$5 -> 0.19240669

Sheet Table 5 Survey Yield Rates
C2: Stratification | D2: Yield | E2: Survey response rate | F2: Frame quality
B3: Panel | C3: Fresh | D3: =VLOOKUP($C3,'yield calculation'!$C:$F,2,FALSE) -> 0.14992025 | E3: =VLOOKUP($C3,'yield calculation'!$C:$F,3,FALSE) -> 0.48767835 | F3: =VLOOKUP($C3,'yield calculation'!$C:$F,4,FALSE) -> 0.30741626
C4: Panel | D4: =VLOOKUP($C4,'yield calculation'!$C:$F,2,FALSE) -> 0.37 | E4: =VLOOKUP($C4,'yield calculation'!$C:$F,3,FALSE) -> 0.59677422 | F4: =VLOOKUP($C4,'yield calculation'!$C:$F,4,FALSE) -> 0.62
B5: Size | C5: Small (5-19) | D5: =VLOOKUP($C5,'yield calculation'!$C:$F,2,FALSE) -> 0.15113182 | E5: =VLOOKUP($C5,'yield calculation'!$C:$F,3,FALSE) -> 0.46997929 | F5: =VLOOKUP($C5,'yield calculation'!$C:$F,4,FALSE) -> 0.32157123
C6: Medium (20-99) | D6: =VLOOKUP($C6,'yield calculation'!$C:$F,2,FALSE) -> 0.22394678 | E6: =VLOOKUP($C6,'yield calculation'!$C:$F,3,FALSE) -> 0.59237534 | F6: =VLOOKUP($C6,'yield calculation'!$C:$F,4,FALSE) -> 0.37804878
C7: Large (100+) | D7: =VLOOKUP($C7,'yield calculation'!$C:$F,2,FALSE) -> 0.24624625 | E7: =VLOOKUP($C7,'yield calculation'!$C:$F,3,FALSE) -> 0.5412541 | F7: =VLOOKUP($C7,'yield calculation'!$C:$F,4,FALSE) -> 0.45495495
B8: Region | C8: Attica (EL3) | D8: =VLOOKUP($C8,'yield calculation'!$C:$F,2,FALSE) -> 0.22426869 | E8: =VLOOKUP($C8,'yield calculation'!$C:$F,3,FALSE) -> 0.54330707 | F8: =VLOOKUP($C8,'yield calculation'!$C:$F,4,FALSE) -> 0.4127844
C9: Aegean Islands, Crete (EL4) | D9: =VLOOKUP($C9,'yield calculation'!$C:$F,2,FALSE) -> 0.23247233 | E9: =VLOOKUP($C9,'yield calculation'!$C:$F,3,FALSE) -> 0.59715641 | F9: =VLOOKUP($C9,'yield calculation'!$C:$F,4,FALSE) -> 0.38929889
C10: Northern Greece (EL5) | D10: =VLOOKUP($C10,'yield calculation'!$C:$F,2,FALSE) -> 0.15085714 | E10: =VLOOKUP($C10,'yield calculation'!$C:$F,3,FALSE) -> 0.50381678 | F10: =VLOOKUP($C10,'yield calculation'!$C:$F,4,FALSE) -> 0.29942858
C11: Central Greece (EL6) | D11: =VLOOKUP($C11,'yield calculation'!$C:$F,2,FALSE) -> 0.17317708 | E11: =VLOOKUP($C11,'yield calculation'!$C:$F,3,FALSE) -> 0.46020761 | F11: =VLOOKUP($C11,'yield calculation'!$C:$F,4,FALSE) -> 0.37630209
B12: Sector | C12: Food | D12: =VLOOKUP($C12,'yield calculation'!$C:$F,2,FALSE) -> 0.22674419 | E12: =VLOOKUP($C12,'yield calculation'!$C:$F,3,FALSE) -> 0.48148149 | F12: =VLOOKUP($C12,'yield calculation'!$C:$F,4,FALSE) -> 0.47093022
C13: Other Manufacturing | D13: =VLOOKUP($C13,'yield calculation'!$C:$F,2,FALSE) -> 0.281106 | E13: =VLOOKUP($C13,'yield calculation'!$C:$F,3,FALSE) -> 0.62564105 | F13: =VLOOKUP($C13,'yield calculation'!$C:$F,4,FALSE) -> 0.44930875
C14: Retail | D14: =VLOOKUP($C14,'yield calculation'!$C:$F,2,FALSE) -> 0.14070351 | E14: =VLOOKUP($C14,'yield calculation'!$C:$F,3,FALSE) -> 0.46666667 | F14: =VLOOKUP($C14,'yield calculation'!$C:$F,4,FALSE) -> 0.30150753
C15: Hotels | D15: =VLOOKUP($C15,'yield calculation'!$C:$F,2,FALSE) -> 0.21331058 | E15: =VLOOKUP($C15,'yield calculation'!$C:$F,3,FALSE) -> 0.58411217 | F15: =VLOOKUP($C15,'yield calculation'!$C:$F,4,FALSE) -> 0.3651877
C16: Other Services | D16: =VLOOKUP($C16,'yield calculation'!$C:$F,2,FALSE) -> 0.15721649 | E16: =VLOOKUP($C16,'yield calculation'!$C:$F,3,FALSE) -> 0.48605579 | F16: =VLOOKUP($C16,'yield calculation'!$C:$F,4,FALSE) -> 0.32345361
B17: Overall | C17: Greece 2023 | D17: =VLOOKUP($C17,'yield calculation'!$C:$F,2,FALSE) -> 0.1924067 | E17: =VLOOKUP($C17,'yield calculation'!$C:$F,3,FALSE) -> 0.5231846 | F17: =VLOOKUP($C17,'yield calculation'!$C:$F,4,FALSE) -> 0.36776063
B18: Notes: the rates are calculated as defined in Section III.4

Sheet Table 6 Achieved Total Sample 
C1: =RIGHT(SUBSTITUTE('achieved fresh and panel'!C1,"_"," "),LEN(SUBSTITUTE('achieved fresh and panel'!C1,"_"," "))-1) -> Food | D1: =RIGHT(SUBSTITUTE('achieved fresh and panel'!D1,"_"," "),LEN(SUBSTITUTE('achieved fresh and panel'!D1,"_"," "))-1) -> Other Manufacturing | E1: =RIGHT(SUBSTITUTE('achieved fresh and panel'!E1,"_"," "),LEN(SUBSTITUTE('achieved fresh and panel'!E1,"_"," "))-1) -> Retail | F1: =RIGHT(SUBSTITUTE('achieved fresh and panel'!F1,"_"," "),LEN(SUBSTITUTE('achieved fresh and panel'!F1,"_"," "))-1) -> Hotels | G1: =RIGHT(SUBSTITUTE('achieved fresh and panel'!G1,"_"," "),LEN(SUBSTITUTE('achieved fresh and panel'!G1,"_"," "))-1) -> Other Services | H1: =RIGHT(SUBSTITUTE('achieved fresh and panel'!H1,"_"," "),LEN(SUBSTITUTE('achieved fresh and panel'!H1,"_"," "))-1) -> Grand Total
A2: ='achieved fresh and panel'!A2 -> Attica (EL3) | B2: =LEFT('achieved fresh and panel'!B2,FIND(")",'achieved fresh and panel'!B2)) -> Small (5-19) | C2: ='achieved fresh and panel'!C2 -> 9 | D2: ='achieved fresh and panel'!D2 -> 13 | E2: ='achieved fresh and panel'!E2 -> 33 | F2: ='achieved fresh and panel'!F2 -> 6 | G2: ='achieved fresh and panel'!G2 -> 34 | H2: =SUM(C2:G4) -> 209
A3: ='achieved fresh and panel'!A3 -> Attica (EL3) | B3: =LEFT('achieved fresh and panel'!B3,FIND(")",'achieved fresh and panel'!B3)) -> Medium (20-99) | C3: ='achieved fresh and panel'!C3 -> 11 | D3: ='achieved fresh and panel'!D3 -> 12 | E3: ='achieved fresh and panel'!E3 -> 9 | F3: ='achieved fresh and panel'!F3 -> 14 | G3: ='achieved fresh and panel'!G3 -> 15
A4: ='achieved fresh and panel'!A4 -> Attica (EL3) | B4: =LEFT('achieved fresh and panel'!B4,FIND(")",'achieved fresh and panel'!B4)) -> Large (100 or more) | C4: ='achieved fresh and panel'!C4 -> 12 | D4: ='achieved fresh and panel'!D4 -> 15 | E4: ='achieved fresh and panel'!E4 -> 8 | F4: ='achieved fresh and panel'!F4 -> 10 | G4: ='achieved fresh and panel'!G4 -> 8
A5: ='achieved fresh and panel'!A5 -> Aegean Islands, Crete (EL4) | B5: =LEFT('achieved fresh and panel'!B5,FIND(")",'achieved fresh and panel'!B5)) -> Small (5-19) | C5: ='achieved fresh and panel'!C5 -> 12 | D5: ='achieved fresh and panel'!D5 -> 6 | E5: ='achieved fresh and panel'!E5 -> 9 | F5: ='achieved fresh and panel'!F5 -> 6 | G5: ='achieved fresh and panel'!G5 -> 11 | H5: =SUM(C5:G7) -> 126
A6: ='achieved fresh and panel'!A6 -> Aegean Islands, Crete (EL4) | B6: =LEFT('achieved fresh and panel'!B6,FIND(")",'achieved fresh and panel'!B6)) -> Medium (20-99) | C6: ='achieved fresh and panel'!C6 -> 9 | D6: ='achieved fresh and panel'!D6 -> 8 | E6: ='achieved fresh and panel'!E6 -> 11 | F6: ='achieved fresh and panel'!F6 -> 12 | G6: ='achieved fresh and panel'!G6 -> 5
A7: ='achieved fresh and panel'!A7 -> Aegean Islands, Crete (EL4) | B7: =LEFT('achieved fresh and panel'!B7,FIND(")",'achieved fresh and panel'!B7)) -> Large (100 or more) | C7: ='achieved fresh and panel'!C7 -> 2 | D7: ='achieved fresh and panel'!D7 -> 5 | E7: ='achieved fresh and panel'!E7 -> 2 | F7: ='achieved fresh and panel'!F7 -> 26 | G7: ='achieved fresh and panel'!G7 -> 2
A8: ='achieved fresh and panel'!A8 -> Northern Greece (EL5) | B8: =LEFT('achieved fresh and panel'!B8,FIND(")",'achieved fresh and panel'!B8)) -> Small (5-19) | C8: ='achieved fresh and panel'!C8 -> 5 | D8: ='achieved fresh and panel'!D8 -> 10 | E8: ='achieved fresh and panel'!E8 -> 11 | F8: ='achieved fresh and panel'!F8 -> 4 | G8: ='achieved fresh and panel'!G8 -> 16 | H8: =SUM(C8:G10) -> 132
A9: ='achieved fresh and panel'!A9 -> Northern Greece (EL5) | B9: =LEFT('achieved fresh and panel'!B9,FIND(")",'achieved fresh and panel'!B9)) -> Medium (20-99) | C9: ='achieved fresh and panel'!C9 -> 12 | D9: ='achieved fresh and panel'!D9 -> 11 | E9: ='achieved fresh and panel'!E9 -> 10 | F9: ='achieved fresh and panel'!F9 -> 12 | G9: ='achieved fresh and panel'!G9 -> 4
A10: ='achieved fresh and panel'!A10 -> Northern Greece (EL5) | B10: =LEFT('achieved fresh and panel'!B10,FIND(")",'achieved fresh and panel'!B10)) -> Large (100 or more) | C10: ='achieved fresh and panel'!C10 -> 16 | D10: ='achieved fresh and panel'!D10 -> 9 | E10: ='achieved fresh and panel'!E10 -> 3 | F10: ='achieved fresh and panel'!F10 -> 5 | G10: ='achieved fresh and panel'!G10 -> 4
A11: ='achieved fresh and panel'!A11 -> Central Greece (EL6) | B11: =LEFT('achieved fresh and panel'!B11,FIND(")",'achieved fresh and panel'!B11)) -> Small (5-19) | C11: ='achieved fresh and panel'!C11 -> 7 | D11: ='achieved fresh and panel'!D11 -> 7 | E11: ='achieved fresh and panel'!E11 -> 13 | F11: ='achieved fresh and panel'!F11 -> 2 | G11: ='achieved fresh and panel'!G11 -> 14 | H11: =SUM(C11:G13) -> 133
A12: ='achieved fresh and panel'!A12 -> Central Greece (EL6) | B12: =LEFT('achieved fresh and panel'!B12,FIND(")",'achieved fresh and panel'!B12)) -> Medium (20-99) | C12: ='achieved fresh and panel'!C12 -> 10 | D12: ='achieved fresh and panel'!D12 -> 9 | E12: ='achieved fresh and panel'!E12 -> 5 | F12: ='achieved fresh and panel'!F12 -> 22 | G12: ='achieved fresh and panel'!G12 -> 7
A13: ='achieved fresh and panel'!A13 -> Central Greece (EL6) | B13: =LEFT('achieved fresh and panel'!B13,FIND(")",'achieved fresh and panel'!B13)) -> Large (100 or more) | C13: ='achieved fresh and panel'!C13 -> 12 | D13: ='achieved fresh and panel'!D13 -> 17 | E13: ='achieved fresh and panel'!E13 -> 0 | F13: ='achieved fresh and panel'!F13 -> 6 | G13: ='achieved fresh and panel'!G13 -> 2
C14: =SUM(C2:C13) -> 117 | D14: =SUM(D2:D13) -> 122 | E14: =SUM(E2:E13) -> 114 | F14: =SUM(F2:F13) -> 125 | G14: =SUM(G2:G13) -> 122 | H14: =SUM(H2:H13) -> 600

Sheet Table 7 Achieved Panel Sample
C1: =RIGHT(SUBSTITUTE('achieved panel'!C1,"_"," "),LEN(SUBSTITUTE('achieved panel'!C1,"_"," "))-1) -> Food | D1: =RIGHT(SUBSTITUTE('achieved panel'!D1,"_"," "),LEN(SUBSTITUTE('achieved panel'!D1,"_"," "))-1) -> Other Manufacturing | E1: =RIGHT(SUBSTITUTE('achieved panel'!E1,"_"," "),LEN(SUBSTITUTE('achieved panel'!E1,"_"," "))-1) -> Retail | F1: =RIGHT(SUBSTITUTE('achieved panel'!F1,"_"," "),LEN(SUBSTITUTE('achieved panel'!F1,"_"," "))-1) -> Hotels | G1: =RIGHT(SUBSTITUTE('achieved panel'!G1,"_"," "),LEN(SUBSTITUTE('achieved panel'!G1,"_"," "))-1) -> Other Services | H1: =RIGHT(SUBSTITUTE('achieved panel'!H1,"_"," "),LEN(SUBSTITUTE('achieved panel'!H1,"_"," "))-1) -> Grand Total
A2: ='achieved panel'!A2 -> Attica (EL3) | B2: =LEFT('achieved panel'!B2,FIND(")",'achieved panel'!B2)) -> Small (5-19) | C2: ='achieved panel'!C2 -> 4 | D2: ='achieved panel'!D2 -> 8 | E2: ='achieved panel'!E2 -> 15 | F2: ='achieved panel'!F2 -> 0 | G2: ='achieved panel'!G2 -> 10 | H2: =SUM(C2:G4) -> 83
A3: ='achieved panel'!A3 -> Attica (EL3) | B3: =LEFT('achieved panel'!B3,FIND(")",'achieved panel'!B3)) -> Medium (20-99) | C3: ='achieved panel'!C3 -> 2 | D3: ='achieved panel'!D3 -> 11 | E3: ='achieved panel'!E3 -> 6 | F3: ='achieved panel'!F3 -> 1 | G3: ='achieved panel'!G3 -> 5
A4: ='achieved panel'!A4 -> Attica (EL3) | B4: =LEFT('achieved panel'!B4,FIND(")",'achieved panel'!B4)) -> Large (100 or more) | C4: ='achieved panel'!C4 -> 2 | D4: ='achieved panel'!D4 -> 12 | E4: ='achieved panel'!E4 -> 3 | F4: ='achieved panel'!F4 -> 0 | G4: ='achieved panel'!G4 -> 4
A5: ='achieved panel'!A5 -> Aegean Islands, Crete (EL4) | B5: =LEFT('achieved panel'!B5,FIND(")",'achieved panel'!B5)) -> Small (5-19) | C5: ='achieved panel'!C5 -> 10 | D5: ='achieved panel'!D5 -> 2 | E5: ='achieved panel'!E5 -> 6 | F5: ='achieved panel'!F5 -> 1 | G5: ='achieved panel'!G5 -> 4 | H5: =SUM(C5:G7) -> 54
A6: ='achieved panel'!A6 -> Aegean Islands, Crete (EL4) | B6: =LEFT('achieved panel'!B6,FIND(")",'achieved panel'!B6)) -> Medium (20-99) | C6: ='achieved panel'!C6 -> 6 | D6: ='achieved panel'!D6 -> 5 | E6: ='achieved panel'!E6 -> 9 | F6: ='achieved panel'!F6 -> 1 | G6: ='achieved panel'!G6 -> 3
A7: ='achieved panel'!A7 -> Aegean Islands, Crete (EL4) | B7: =LEFT('achieved panel'!B7,FIND(")",'achieved panel'!B7)) -> Large (100 or more) | C7: ='achieved panel'!C7 -> 0 | D7: ='achieved panel'!D7 -> 4 | E7: ='achieved panel'!E7 -> 0 | F7: ='achieved panel'!F7 -> 3 | G7: ='achieved panel'!G7 -> 0
A8: ='achieved panel'!A8 -> Northern Greece (EL5) | B8: =LEFT('achieved panel'!B8,FIND(")",'achieved panel'!B8)) -> Small (5-19) | C8: ='achieved panel'!C8 -> 1 | D8: ='achieved panel'!D8 -> 6 | E8: ='achieved panel'!E8 -> 0 | F8: ='achieved panel'!F8 -> 0 | G8: ='achieved panel'!G8 -> 2 | H8: =SUM(C8:G10) -> 43
A9: ='achieved panel'!A9 -> Northern Greece (EL5) | B9: =LEFT('achieved panel'!B9,FIND(")",'achieved panel'!B9)) -> Medium (20-99) | C9: ='achieved panel'!C9 -> 3 | D9: ='achieved panel'!D9 -> 9 | E9: ='achieved panel'!E9 -> 8 | F9: ='achieved panel'!F9 -> 0 | G9: ='achieved panel'!G9 -> 1
A10: ='achieved panel'!A10 -> Northern Greece (EL5) | B10: =LEFT('achieved panel'!B10,FIND(")",'achieved panel'!B10)) -> Large (100 or more) | C10: ='achieved panel'!C10 -> 4 | D10: ='achieved panel'!D10 -> 7 | E10: ='achieved panel'!E10 -> 0 | F10: ='achieved panel'!F10 -> 0 | G10: ='achieved panel'!G10 -> 2
A11: ='achieved panel'!A11 -> Central Greece (EL6) | B11: =LEFT('achieved panel'!B11,FIND(")",'achieved panel'!B11)) -> Small (5-19) | C11: ='achieved panel'!C11 -> 2 | D11: ='achieved panel'!D11 -> 4 | E11: ='achieved panel'!E11 -> 2 | F11: ='achieved panel'!F11 -> 0 | G11: ='achieved panel'!G11 -> 4 | H11: =SUM(C11:G13) -> 44
A12: ='achieved panel'!A12 -> Central Greece (EL6) | B12: =LEFT('achieved panel'!B12,FIND(")",'achieved panel'!B12)) -> Medium (20-99) | C12: ='achieved panel'!C12 -> 2 | D12: ='achieved panel'!D12 -> 7 | E12: ='achieved panel'!E12 -> 2 | F12: ='achieved panel'!F12 -> 0 | G12: ='achieved panel'!G12 -> 3
A13: ='achieved panel'!A13 -> Central Greece (EL6) | B13: =LEFT('achieved panel'!B13,FIND(")",'achieved panel'!B13)) -> Large (100 or more) | C13: ='achieved panel'!C13 -> 3 | D13: ='achieved panel'!D13 -> 13 | E13: ='achieved panel'!E13 -> 0 | F13: ='achieved panel'!F13 -> 1 | G13: ='achieved panel'!G13 -> 1
C14: =SUM(C2:C13) -> 39 | D14: =SUM(D2:D13) -> 88 | E14: =SUM(E2:E13) -> 51 | F14: =SUM(F2:F13) -> 7 | G14: =SUM(G2:G13) -> 39 | H14: =SUM(H2:H13) -> 224

Sheet Table 8 Weak Universe Estimates
C1: =RIGHT(SUBSTITUTE(universe_weak!C1,"_"," "),LEN(SUBSTITUTE(universe_weak!C1,"_"," "))-1) -> Food | D1: =RIGHT(SUBSTITUTE(universe_weak!D1,"_"," "),LEN(SUBSTITUTE(universe_weak!D1,"_"," "))-1) -> Other Manufacturing | E1: =RIGHT(SUBSTITUTE(universe_weak!E1,"_"," "),LEN(SUBSTITUTE(universe_weak!E1,"_"," "))-1) -> Retail | F1: =RIGHT(SUBSTITUTE(universe_weak!F1,"_"," "),LEN(SUBSTITUTE(universe_weak!F1,"_"," "))-1) -> Hotels | G1: =RIGHT(SUBSTITUTE(universe_weak!G1,"_"," "),LEN(SUBSTITUTE(universe_weak!G1,"_"," "))-1) -> Other Services | H1: =RIGHT(SUBSTITUTE(universe_weak!H1,"_"," "),LEN(SUBSTITUTE(universe_weak!H1,"_"," "))-1) -> Grand Total
A2: =universe_weak!A2 -> Attica (EL3) | B2: =LEFT(universe_weak!B2,FIND(")",universe_weak!B2)) -> Small (5-19) | C2: =universe_weak!C2 -> 954.81519 | D2: =universe_weak!D2 -> 2202.2456 | E2: =universe_weak!E2 -> 4943.6597 | F2: =universe_weak!F2 -> 382.35913 | G2: =universe_weak!G2 -> 15256.68 | H2: =SUM(C2:G4) -> 30734.893
A3: =universe_weak!A3 -> Attica (EL3) | B3: =LEFT(universe_weak!B3,FIND(")",universe_weak!B3)) -> Medium (20-99) | C3: =universe_weak!C3 -> 206.02974 | D3: =universe_weak!D3 -> 737.84937 | E3: =universe_weak!E3 -> 1065.3004 | F3: =universe_weak!F3 -> 163.03275 | G3: =universe_weak!G3 -> 4062.0071
A4: =universe_weak!A4 -> Attica (EL3) | B4: =LEFT(universe_weak!B4,FIND(")",universe_weak!B4)) -> Large (100 or more) | C4: =universe_weak!C4 -> 55.981426 | D4: =universe_weak!D4 -> 144.44989 | E4: =universe_weak!E4 -> 97.116768 | F4: =universe_weak!F4 -> 36.645294 | G4: =universe_weak!G4 -> 426.72095
A5: =universe_weak!A5 -> Aegean Islands, Crete (EL4) | B5: =LEFT(universe_weak!B5,FIND(")",universe_weak!B5)) -> Small (5-19) | C5: =universe_weak!C5 -> 346.6329 | D5: =universe_weak!D5 -> 350.18744 | E5: =universe_weak!E5 -> 1378.1097 | F5: =universe_weak!F5 -> 885.34344 | G5: =universe_weak!G5 -> 4446.731 | H5: =SUM(C5:G7) -> 8950.3281
A6: =universe_weak!A6 -> Aegean Islands, Crete (EL4) | B6: =LEFT(universe_weak!B6,FIND(")",universe_weak!B6)) -> Medium (20-99) | C6: =universe_weak!C6 -> 62.114632 | D6: =universe_weak!D6 -> 75.485268 | E6: =universe_weak!E6 -> 283.52884 | F6: =universe_weak!F6 -> 372.84818 | G6: =universe_weak!G6 -> 591.00446
A7: =universe_weak!A7 -> Aegean Islands, Crete (EL4) | B7: =LEFT(universe_weak!B7,FIND(")",universe_weak!B7)) -> Large (100 or more) | C7: =universe_weak!C7 -> 8.8405933 | D7: =universe_weak!D7 -> 7.9163351 | E7: =universe_weak!E7 -> 7.9291725 | F7: =universe_weak!F7 -> 106.98183 | G7: =universe_weak!G7 -> 26.674347
A8: =universe_weak!A8 -> Northern Greece (EL5) | B8: =LEFT(universe_weak!B8,FIND(")",universe_weak!B8)) -> Small (5-19) | C8: =universe_weak!C8 -> 909.51227 | D8: =universe_weak!D8 -> 1495.4763 | E8: =universe_weak!E8 -> 2771.1177 | F8: =universe_weak!F8 -> 451.10626 | G8: =universe_weak!G8 -> 8434.7578 | H8: =SUM(C8:G10) -> 17369.732
A9: =universe_weak!A9 -> Northern Greece (EL5) | B9: =LEFT(universe_weak!B9,FIND(")",universe_weak!B9)) -> Medium (20-99) | C9: =universe_weak!C9 -> 239.11079 | D9: =universe_weak!D9 -> 517.58582 | E9: =universe_weak!E9 -> 609.1496 | F9: =universe_weak!F9 -> 135.5096 | G9: =universe_weak!G9 -> 1519.4358
A10: =universe_weak!A10 -> Northern Greece (EL5) | B10: =LEFT(universe_weak!B10,FIND(")",universe_weak!B10)) -> Large (100 or more) | C10: =universe_weak!C10 -> 69.892029 | D10: =universe_weak!D10 -> 86.274773 | E10: =universe_weak!E10 -> 25.825077 | F10: =universe_weak!F10 -> 11.912363 | G10: =universe_weak!G10 -> 93.065399
A11: =universe_weak!A11 -> Central Greece (EL6) | B11: =LEFT(universe_weak!B11,FIND(")",universe_weak!B11)) -> Small (5-19) | C11: =universe_weak!C11 -> 696.49908 | D11: =universe_weak!D11 -> 955.87524 | E11: =universe_weak!E11 -> 2154.4575 | F11: =universe_weak!F11 -> 607.18713 | G11: =universe_weak!G11 -> 6682.2852 | H11: =SUM(C11:G14) -> 13363.873
A12: =universe_weak!A12 -> Central Greece (EL6) | B12: =LEFT(universe_weak!B12,FIND(")",universe_weak!B12)) -> Medium (20-99) | C12: =universe_weak!C12 -> 188.47205 | D12: =universe_weak!D12 -> 335.75916 | E12: =universe_weak!E12 -> 0 | F12: =universe_weak!F12 -> 130.04211 | G12: =universe_weak!G12 -> 885.92584
A13: =universe_weak!A13 -> Central Greece (EL6) | B13: =LEFT(universe_weak!B13,FIND(")",universe_weak!B13)) -> Large (100 or more) | C13: =universe_weak!C13 -> 43.4842 | D13: =universe_weak!D13 -> 90.597343 | E13: =universe_weak!E13 -> 0 | F13: =universe_weak!F13 -> 20.928856 | G13: =universe_weak!G13 -> 31.806795
A14: =universe_weak!A14 -> Central Greece (EL6) | B14: =LEFT(universe_weak!B14,FIND(")",universe_weak!B14)) -> Medium and Large (20+) | C14: =universe_weak!C14 -> 0 | D14: =universe_weak!D14 -> 0 | E14: =universe_weak!E14 -> 540.55219 | F14: =universe_weak!F14 -> 0 | G14: =universe_weak!G14 -> 0
C15: =SUM(C2:C13) -> 3781.3849 | D15: =SUM(D2:D13) -> 6999.7026 | E15: =SUM(E2:E13) -> 13336.194 | F15: =SUM(F2:F13) -> 3303.8969 | G15: =SUM(G2:G13) -> 42457.094 | H15: =SUM(H2:H13) -> 70418.825

Sheet Table 9 Median Universe Est
C1: =RIGHT(SUBSTITUTE(universe_median!C1,"_"," "),LEN(SUBSTITUTE(universe_median!C1,"_"," "))-1) -> Food | D1: =RIGHT(SUBSTITUTE(universe_median!D1,"_"," "),LEN(SUBSTITUTE(universe_median!D1,"_"," "))-1) -> Other Manufacturing | E1: =RIGHT(SUBSTITUTE(universe_median!E1,"_"," "),LEN(SUBSTITUTE(universe_median!E1,"_"," "))-1) -> Retail | F1: =RIGHT(SUBSTITUTE(universe_median!F1,"_"," "),LEN(SUBSTITUTE(universe_median!F1,"_"," "))-1) -> Hotels | G1: =RIGHT(SUBSTITUTE(universe_median!G1,"_"," "),LEN(SUBSTITUTE(universe_median!G1,"_"," "))-1) -> Other Services | H1: =RIGHT(SUBSTITUTE(universe_median!H1,"_"," "),LEN(SUBSTITUTE(universe_median!H1,"_"," "))-1) -> Grand Total
A2: =universe_median!A2 -> Attica (EL3) | B2: =LEFT(universe_median!B2,FIND(")",universe_median!B2)) -> Small (5-19) | C2: =universe_median!C2 -> 383.91797 | D2: =universe_median!D2 -> 648.11163 | E2: =universe_median!E2 -> 1150.3744 | F2: =universe_median!F2 -> 133.39859 | G2: =universe_median!G2 -> 4434.6426 | H2: =SUM(C2:G4) -> 9147.095
A3: =universe_median!A3 -> Attica (EL3) | B3: =LEFT(universe_median!B3,FIND(")",universe_median!B3)) -> Medium (20-99) | C3: =universe_median!C3 -> 97.04847 | D3: =universe_median!D3 -> 254.38501 | E3: =universe_median!E3 -> 290.34879 | F3: =universe_median!F3 -> 66.633759 | G3: =universe_median!G3 -> 1383.181
A4: =universe_median!A4 -> Attica (EL3) | B4: =LEFT(universe_median!B4,FIND(")",universe_median!B4)) -> Large (100 or more) | C4: =universe_median!C4 -> 30.594885 | D4: =universe_median!D4 -> 57.781269 | E4: =universe_median!E4 -> 30.710592 | F4: =universe_median!F4 -> 17.377357 | G4: =universe_median!G4 -> 168.58867
A5: =universe_median!A5 -> Aegean Islands, Crete (EL4) | B5: =LEFT(universe_median!B5,FIND(")",universe_median!B5)) -> Small (5-19) | C5: =universe_median!C5 -> 133.40742 | D5: =universe_median!D5 -> 98.645164 | E5: =universe_median!E5 -> 306.89038 | F5: =universe_median!F5 -> 295.65329 | G5: =universe_median!G5 -> 1237.1736 | H5: =SUM(C5:G7) -> 2609.8919
A6: =universe_median!A6 -> Aegean Islands, Crete (EL4) | B6: =LEFT(universe_median!B6,FIND(")",universe_median!B6)) -> Medium (20-99) | C6: =universe_median!C6 -> 30.084103 | D6: =universe_median!D6 -> 24.910198 | E6: =universe_median!E6 -> 73.966713 | F6: =universe_median!F6 -> 145.86215 | G6: =universe_median!G6 -> 192.62837
A7: =universe_median!A7 -> Aegean Islands, Crete (EL4) | B7: =LEFT(universe_median!B7,FIND(")",universe_median!B7)) -> Large (100 or more) | C7: =universe_median!C7 -> 4.6246347 | D7: =universe_median!D7 -> 5 | E7: =universe_median!E7 -> 2.4000099 | F7: =universe_median!F7 -> 48.558659 | G7: =universe_median!G7 -> 10.08717
A8: =universe_median!A8 -> Northern Greece (EL5) | B8: =LEFT(universe_median!B8,FIND(")",universe_median!B8)) -> Small (5-19) | C8: =universe_median!C8 -> 253.62515 | D8: =universe_median!D8 -> 305.23077 | E8: =universe_median!E8 -> 447.12396 | F8: =universe_median!F8 -> 109.14989 | G8: =universe_median!G8 -> 1700.3406 | H8: =SUM(C8:G10) -> 3618.5417
A9: =universe_median!A9 -> Northern Greece (EL5) | B9: =LEFT(universe_median!B9,FIND(")",universe_median!B9)) -> Medium (20-99) | C9: =universe_median!C9 -> 78.112869 | D9: =universe_median!D9 -> 123.7573 | E9: =universe_median!E9 -> 115.9134 | F9: =universe_median!F9 -> 38.410873 | G9: =universe_median!G9 -> 358.82721
A10: =universe_median!A10 -> Northern Greece (EL5) | B10: =LEFT(universe_median!B10,FIND(")",universe_median!B10)) -> Large (100 or more) | C10: =universe_median!C10 -> 27.077816 | D10: =universe_median!D10 -> 24.10585 | E10: =universe_median!E10 -> 5.6637011 | F10: =universe_median!F10 -> 5 | G10: =universe_median!G10 -> 26.202339
A11: =universe_median!A11 -> Central Greece (EL6) | B11: =LEFT(universe_median!B11,FIND(")",universe_median!B11)) -> Small (5-19) | C11: =universe_median!C11 -> 265.98462 | D11: =universe_median!D11 -> 267.17889 | E11: =universe_median!E11 -> 476.06152 | F11: =universe_median!F11 -> 201.19592 | G11: =universe_median!G11 -> 1844.7626 | H11: =SUM(C11:G14) -> 3818.6603
A12: =universe_median!A12 -> Central Greece (EL6) | B12: =LEFT(universe_median!B12,FIND(")",universe_median!B12)) -> Medium (20-99) | C12: =universe_median!C12 -> 84.318436 | D12: =universe_median!D12 -> 109.94322 | E12: =universe_median!E12 -> 0 | F12: =universe_median!F12 -> 50.480114 | G12: =universe_median!G12 -> 286.51843
A13: =universe_median!A13 -> Central Greece (EL6) | B13: =LEFT(universe_median!B13,FIND(")",universe_median!B13)) -> Large (100 or more) | C13: =universe_median!C13 -> 22.571123 | D13: =universe_median!D13 -> 34.419312 | E13: =universe_median!E13 -> 0 | F13: =universe_median!F13 -> 9.4260092 | G13: =universe_median!G13 -> 11.934965
A14: =universe_median!A14 -> Central Greece (EL6) | B14: =LEFT(universe_median!B14,FIND(")",universe_median!B14)) -> Medium and Large (20+) | C14: =universe_median!C14 -> 0 | D14: =universe_median!D14 -> 0 | E14: =universe_median!E14 -> 153.86519 | F14: =universe_median!F14 -> 0 | G14: =universe_median!G14 -> 0
C15: =SUM(C2:C13) -> 1411.3675 | D15: =SUM(D2:D13) -> 1953.4686 | E15: =SUM(E2:E13) -> 2899.4535 | F15: =SUM(F2:F13) -> 1121.1466 | G15: =SUM(G2:G13) -> 11654.887 | H15: =SUM(H2:H13) -> 19194.189

Sheet Table 10 Strict Universe Est
C1: =RIGHT(SUBSTITUTE(universe_strict!C1,"_"," "),LEN(SUBSTITUTE(universe_strict!C1,"_"," "))-1) -> Food | D1: =RIGHT(SUBSTITUTE(universe_strict!D1,"_"," "),LEN(SUBSTITUTE(universe_strict!D1,"_"," "))-1) -> Other Manufacturing | E1: =RIGHT(SUBSTITUTE(universe_strict!E1,"_"," "),LEN(SUBSTITUTE(universe_strict!E1,"_"," "))-1) -> Retail | F1: =RIGHT(SUBSTITUTE(universe_strict!F1,"_"," "),LEN(SUBSTITUTE(universe_strict!F1,"_"," "))-1) -> Hotels | G1: =RIGHT(SUBSTITUTE(universe_strict!G1,"_"," "),LEN(SUBSTITUTE(universe_strict!G1,"_"," "))-1) -> Other Services | H1: =RIGHT(SUBSTITUTE(universe_strict!H1,"_"," "),LEN(SUBSTITUTE(universe_strict!H1,"_"," "))-1) -> Grand Total
A2: =universe_strict!A2 -> Attica (EL3) | B2: =LEFT(universe_strict!B2,FIND(")",universe_strict!B2)) -> Small (5-19) | C2: =universe_strict!C2 -> 316.47009 | D2: =universe_strict!D2 -> 540.92761 | E2: =universe_strict!E2 -> 911.90869 | F2: =universe_strict!F2 -> 122.5299 | G2: =universe_strict!G2 -> 3495.2551 | H2: =SUM(C2:G4) -> 7397.5428
A3: =universe_strict!A3 -> Attica (EL3) | B3: =LEFT(universe_strict!B3,FIND(")",universe_strict!B3)) -> Medium (20-99) | C3: =universe_strict!C3 -> 84.0466 | D3: =universe_strict!D3 -> 223.05811 | E3: =universe_strict!E3 -> 241.77875 | F3: =universe_strict!F3 -> 64.301682 | G3: =universe_strict!G3 -> 1145.3453
A4: =universe_strict!A4 -> Attica (EL3) | B4: =LEFT(universe_strict!B4,FIND(")",universe_strict!B4)) -> Large (100 or more) | C4: =universe_strict!C4 -> 25.761435 | D4: =universe_strict!D4 -> 49.261017 | E4: =universe_strict!E4 -> 24.86429 | F4: =universe_strict!F4 -> 16.304277 | G4: =universe_strict!G4 -> 135.7299
A5: =universe_strict!A5 -> Aegean Islands, Crete (EL4) | B5: =LEFT(universe_strict!B5,FIND(")",universe_strict!B5)) -> Small (5-19) | C5: =universe_strict!C5 -> 121.02954 | D5: =universe_strict!D5 -> 90.611267 | E5: =universe_strict!E5 -> 267.70792 | F5: =universe_strict!F5 -> 298.8757 | G5: =universe_strict!G5 -> 1073.1685 | H5: =SUM(C5:G7) -> 2372.3325
A6: =universe_strict!A6 -> Aegean Islands, Crete (EL4) | B6: =LEFT(universe_strict!B6,FIND(")",universe_strict!B6)) -> Medium (20-99) | C6: =universe_strict!C6 -> 28.148111 | D6: =universe_strict!D6 -> 24.039242 | E6: =universe_strict!E6 -> 67.787804 | F6: =universe_strict!F6 -> 154.91296 | G6: =universe_strict!G6 -> 175.54752
A7: =universe_strict!A7 -> Aegean Islands, Crete (EL4) | B7: =LEFT(universe_strict!B7,FIND(")",universe_strict!B7)) -> Large (100 or more) | C7: =universe_strict!C7 -> 4.2856407 | D7: =universe_strict!D7 -> 5 | E7: =universe_strict!E7 -> 2.1385431 | F7: =universe_strict!F7 -> 50.141983 | G7: =universe_strict!G7 -> 8.9378605
A8: =universe_strict!A8 -> Northern Greece (EL5) | B8: =LEFT(universe_strict!B8,FIND(")",universe_strict!B8)) -> Small (5-19) | C8: =universe_strict!C8 -> 205.60321 | D8: =universe_strict!D8 -> 250.5307 | E8: =universe_strict!E8 -> 348.52356 | F8: =universe_strict!F8 -> 98.595573 | G8: =universe_strict!G8 -> 1317.9514 | H8: =SUM(C8:G10) -> 2891.6805
A9: =universe_strict!A9 -> Northern Greece (EL5) | B9: =LEFT(universe_strict!B9,FIND(")",universe_strict!B9)) -> Medium (20-99) | C9: =universe_strict!C9 -> 66.526917 | D9: =universe_strict!D9 -> 106.71874 | E9: =universe_strict!E9 -> 95.089828 | F9: =universe_strict!F9 -> 36.452347 | G9: =universe_strict!G9 -> 292.20392
A10: =universe_strict!A10 -> Northern Greece (EL5) | B10: =LEFT(universe_strict!B10,FIND(")",universe_strict!B10)) -> Large (100 or more) | C10: =universe_strict!C10 -> 22.951496 | D10: =universe_strict!D10 -> 20.066792 | E10: =universe_strict!E10 -> 4.509532 | F10: =universe_strict!F10 -> 5 | G10: =universe_strict!G10 -> 20.956495
A11: =universe_strict!A11 -> Central Greece (EL6) | B11: =LEFT(universe_strict!B11,FIND(")",universe_strict!B11)) -> Small (5-19) | C11: =universe_strict!C11 -> 199.53334 | D11: =universe_strict!D11 -> 202.93462 | E11: =universe_strict!E11 -> 343.39081 | F11: =universe_strict!F11 -> 168.18013 | G11: =universe_strict!G11 -> 1323.1996 | H11: =SUM(C11:G14) -> 2835.9875
A12: =universe_strict!A12 -> Central Greece (EL6) | B12: =LEFT(universe_strict!B12,FIND(")",universe_strict!B12)) -> Medium (20-99) | C12: =universe_strict!C12 -> 66.453629 | D12: =universe_strict!D12 -> 87.732338 | E12: =universe_strict!E12 -> 0 | F12: =universe_strict!F12 -> 44.331566 | G12: =universe_strict!G12 -> 215.91092
A13: =universe_strict!A13 -> Central Greece (EL6) | B13: =LEFT(universe_strict!B13,FIND(")",universe_strict!B13)) -> Large (100 or more) | C13: =universe_strict!C13 -> 17.295738 | D13: =universe_strict!D13 -> 26.903704 | E13: =universe_strict!E13 -> 0 | F13: =universe_strict!F13 -> 8.0484133 | G13: =universe_strict!G13 -> 8.7444592
A14: =universe_strict!A14 -> Central Greece (EL6) | B14: =LEFT(universe_strict!B14,FIND(")",universe_strict!B14)) -> Medium and Large (20+) | C14: =universe_strict!C14 -> 0 | D14: =universe_strict!D14 -> 0 | E14: =universe_strict!E14 -> 123.32824 | F14: =universe_strict!F14 -> 0 | G14: =universe_strict!G14 -> 0
C15: =SUM(C2:C13) -> 1158.1058 | D15: =SUM(D2:D13) -> 1627.7841 | E15: =SUM(E2:E13) -> 2307.6997 | F15: =SUM(F2:F13) -> 1067.6745 | G15: =SUM(G2:G13) -> 9212.951 | H15: =SUM(H2:H13) -> 15497.543

Sheet Table 11 Item Response Rates
C2: Screener/Interview | D2: d2 | E2: l1 | F2: n2a | G2: all TFP variables
B3: Panel | C3: Fresh | D3: =VLOOKUP($C3,'item response'!$C:$G,2,FALSE) -> 1 | E3: =VLOOKUP($C3,'item response'!$C:$G,3,FALSE) -> 1 | F3: =VLOOKUP($C3,'item response'!$C:$G,4,FALSE) -> 1 | G3: =VLOOKUP($C3,'item response'!$C:$G,5,FALSE) -> 0.86725664
C4: Panel | D4: =VLOOKUP($C4,'item response'!$C:$G,2,FALSE) -> 1 | E4: =VLOOKUP($C4,'item response'!$C:$G,3,FALSE) -> 1 | F4: =VLOOKUP($C4,'item response'!$C:$G,4,FALSE) -> 1 | G4: =VLOOKUP($C4,'item response'!$C:$G,5,FALSE) -> 0.8595041
B5: Size | C5: Small (5-19) | D5: =VLOOKUP($C5,'item response'!$C:$G,2,FALSE) -> 1 | E5: =VLOOKUP($C5,'item response'!$C:$G,3,FALSE) -> 1 | F5: =VLOOKUP($C5,'item response'!$C:$G,4,FALSE) -> 1 | G5: =VLOOKUP($C5,'item response'!$C:$G,5,FALSE) -> 0.89552242
C6: Medium (20-99) | D6: =VLOOKUP($C6,'item response'!$C:$G,2,FALSE) -> 1 | E6: =VLOOKUP($C6,'item response'!$C:$G,3,FALSE) -> 1 | F6: =VLOOKUP($C6,'item response'!$C:$G,4,FALSE) -> 1 | G6: =VLOOKUP($C6,'item response'!$C:$G,5,FALSE) -> 0.86904764
C7: Large (100+) | D7: =VLOOKUP($C7,'item response'!$C:$G,2,FALSE) -> 1 | E7: =VLOOKUP($C7,'item response'!$C:$G,3,FALSE) -> 1 | F7: =VLOOKUP($C7,'item response'!$C:$G,4,FALSE) -> 1 | G7: =VLOOKUP($C7,'item response'!$C:$G,5,FALSE) -> 0.83132529
B8: Region | C8: Attica (EL3) | D8: =VLOOKUP($C8,'item response'!$C:$G,2,FALSE) -> 1 | E8: =VLOOKUP($C8,'item response'!$C:$G,3,FALSE) -> 1 | F8: =VLOOKUP($C8,'item response'!$C:$G,4,FALSE) -> 1 | G8: =VLOOKUP($C8,'item response'!$C:$G,5,FALSE) -> 0.91891891
C9: Aegean Islands, Crete (EL4) | D9: =VLOOKUP($C9,'item response'!$C:$G,2,FALSE) -> 1 | E9: =VLOOKUP($C9,'item response'!$C:$G,3,FALSE) -> 1 | F9: =VLOOKUP($C9,'item response'!$C:$G,4,FALSE) -> 1 | G9: =VLOOKUP($C9,'item response'!$C:$G,5,FALSE) -> 0.75
C10: Northern Greece (EL5) | D10: =VLOOKUP($C10,'item response'!$C:$G,2,FALSE) -> 1 | E10: =VLOOKUP($C10,'item response'!$C:$G,3,FALSE) -> 1 | F10: =VLOOKUP($C10,'item response'!$C:$G,4,FALSE) -> 1 | G10: =VLOOKUP($C10,'item response'!$C:$G,5,FALSE) -> 0.83928573
C11: Central Greece (EL6) | D11: =VLOOKUP($C11,'item response'!$C:$G,2,FALSE) -> 1 | E11: =VLOOKUP($C11,'item response'!$C:$G,3,FALSE) -> 1 | F11: =VLOOKUP($C11,'item response'!$C:$G,4,FALSE) -> 1 | G11: =VLOOKUP($C11,'item response'!$C:$G,5,FALSE) -> 0.890625
B12: Sector | C12: Food | D12: =VLOOKUP($C12,'item response'!$C:$G,2,FALSE) -> 1 | E12: =VLOOKUP($C12,'item response'!$C:$G,3,FALSE) -> 1 | F12: =VLOOKUP($C12,'item response'!$C:$G,4,FALSE) -> 1 | G12: =VLOOKUP($C12,'item response'!$C:$G,5,FALSE) -> 0.85087717
C13: Other Manufacturing | D13: =VLOOKUP($C13,'item response'!$C:$G,2,FALSE) -> 1 | E13: =VLOOKUP($C13,'item response'!$C:$G,3,FALSE) -> 1 | F13: =VLOOKUP($C13,'item response'!$C:$G,4,FALSE) -> 1 | G13: =VLOOKUP($C13,'item response'!$C:$G,5,FALSE) -> 0.875
C14: Retail | D14: =VLOOKUP($C14,'item response'!$C:$G,2,FALSE) -> 1 | E14: =VLOOKUP($C14,'item response'!$C:$G,3,FALSE) -> 1 | F14: =VLOOKUP($C14,'item response'!$C:$G,4,FALSE) -> 1 | G14: =VLOOKUP($C14,'item response'!$C:$G,5,FALSE) -> 0
C15: Hotels | D15: =VLOOKUP($C15,'item response'!$C:$G,2,FALSE) -> 1 | E15: =VLOOKUP($C15,'item response'!$C:$G,3,FALSE) -> 1 | F15: =VLOOKUP($C15,'item response'!$C:$G,4,FALSE) -> 1 | G15: =VLOOKUP($C15,'item response'!$C:$G,5,FALSE) -> 0
C16: Other Services | D16: =VLOOKUP($C16,'item response'!$C:$G,2,FALSE) -> 1 | E16: =VLOOKUP($C16,'item response'!$C:$G,3,FALSE) -> 1 | F16: =VLOOKUP($C16,'item response'!$C:$G,4,FALSE) -> 1 | G16: =VLOOKUP($C16,'item response'!$C:$G,5,FALSE) -> 0
B17: Overall | C17: Greece 2023 | D17: =VLOOKUP($C17,'item response'!$C:$G,2,FALSE) -> 1 | E17: =VLOOKUP($C17,'item response'!$C:$G,3,FALSE) -> 1 | F17: =VLOOKUP($C17,'item response'!$C:$G,4,FALSE) -> 1 | G17: =VLOOKUP($C17,'item response'!$C:$G,5,FALSE) -> 0.86324787
B18: Notes: the rates are calculated as follows. The number of responses with informative content in the respective variable (or combination of variables in the case of TFP) is divided by the same number plus the number of responses that are "don't know" (code -9) or refusal (code -8).

Sheet item response
A1: Survey | B1: Cell | C1: Name | D1: rr_d2 | E1: rr_l1 | F1: rr_n2a | G1: rr_TFP
A2: Greece 2023 | B2: Fresh/Panel | C2: Fresh | D2: 1 | E2: 1 | F2: 1 | G2: 0.86725664
A3: Greece 2023 | B3: Fresh/Panel | C3: Panel | D3: 1 | E3: 1 | F3: 1 | G3: 0.8595041
A4: Greece 2023 | B4: Size | C4: Small (5-19) | D4: 1 | E4: 1 | F4: 1 | G4: 0.89552242
A5: Greece 2023 | B5: Size | C5: Medium (20-99) | D5: 1 | E5: 1 | F5: 1 | G5: 0.86904764
A6: Greece 2023 | B6: Size | C6: Large (100+) | D6: 1 | E6: 1 | F6: 1 | G6: 0.83132529
A7: Greece 2023 | B7: Region | C7: Attica (EL3) | D7: 1 | E7: 1 | F7: 1 | G7: 0.91891891
A8: Greece 2023 | B8: Region | C8: Aegean Islands, Crete (EL4) | D8: 1 | E8: 1 | F8: 1 | G8: 0.75
A9: Greece 2023 | B9: Region | C9: Northern Greece (EL5) | D9: 1 | E9: 1 | F9: 1 | G9: 0.83928573
A10: Greece 2023 | B10: Region | C10: Central Greece (EL6) | D10: 1 | E10: 1 | F10: 1 | G10: 0.890625
A11: Greece 2023 | B11: Sector | C11: Food | D11: 1 | E11: 1 | F11: 1 | G11: 0.85087717
A12: Greece 2023 | B12: Sector | C12: Other Manufacturing | D12: 1 | E12: 1 | F12: 1 | G12: 0.875
A13: Greece 2023 | B13: Sector | C13: Retail | D13: 1 | E13: 1 | F13: 1
A14: Greece 2023 | B14: Sector | C14: Hotels | D14: 1 | E14: 1 | F14: 1
A15: Greece 2023 | B15: Sector | C15: Other Services | D15: 1 | E15: 1 | F15: 1
A16: Greece 2023 | B16: Greece 2023 | C16: Greece 2023 | D16: 1 | E16: 1 | F16: 1 | G16: 0.86324787

Sheet universe
A1: stratificationregionname | B1: stratificationsizename | C1: _Food | D1: _Other_Manufacturing | E1: _Retail | F1: _Hotels | G1: _Other_Services | H1: _Grand_Total
A2: Attica (EL3) | B2: Small (5-19) | C2: 825 | D2: 1866 | E2: 3281 | F2: 384 | G2: 13082
A3: Attica (EL3) | B3: Medium (20-99) | C3: 191 | D3: 534 | E3: 431 | F3: 164 | G3: 3908
A4: Attica (EL3) | B4: Large (100-199) | C4: 57 | D4: 146 | E4: 80 | F4: 37 | G4: 432
A5: Aegean Islands, Crete (EL4) | B5: Small (5-19) | C5: 300 | D5: 216 | E5: 905 | F5: 847 | G5: 4456
A6: Aegean Islands, Crete (EL4) | B6: Medium (20-99) | C6: 62 | D6: 51 | E6: 108 | F6: 271 | G6: 596
A7: Aegean Islands, Crete (EL4) | B7: Large (100-199) | C7: 9 | D7: 0 | E7: 8 | F7: 54 | G7: 20
A8: Northern Greece (EL5) | B8: Small (5-19) | C8: 706 | D8: 1156 | E8: 1809 | F8: 452 | G8: 7654
A9: Northern Greece (EL5) | B9: Medium (20-99) | C9: 231 | D9: 320 | E9: 189 | F9: 136 | G9: 1529
A10: Northern Greece (EL5) | B10: Large (100-199) | C10: 65 | D10: 49 | E10: 26 | F10: 11 | G10: 63
A11: Central Greece (EL6) | B11: Small (5-19) | C11: 550 | D11: 570 | E11: 1477 | F11: 606 | G11: 6687
A12: Central Greece (EL6) | B12: Medium (20-99) | C12: 183 | D12: 122 | E12: 104 | F12: 106 | G12: 880
A13: Central Greece (EL6) | B13: Large (100-199) | C13: 40 | D13: 23 | E13: 13 | F13: 5 | G13: 22

Sheet frame fresh and panel
A1: stratificationregionname | B1: stratificationsizename | C1: _Food | D1: _Other_Manufacturing | E1: _Retail | F1: _Hotels | G1: _Other_Services | H1: _Grand_Total
A2: Attica (EL3) | B2: Small (5-19) | C2: 967 | D2: 2214 | E2: 4962 | F2: 359 | G2: 15363
A3: Attica (EL3) | B3: Medium (20-99) | C3: 209 | D3: 743 | E3: 1071 | F3: 152 | G3: 4097
A4: Attica (EL3) | B4: Large (100 or more) | C4: 41 | D4: 140 | E4: 98 | F4: 24 | G4: 416
A5: Aegean Islands, Crete (EL4) | B5: Small (5-19) | C5: 351 | D5: 352 | E5: 1383 | F5: 889 | G5: 4477
A6: Aegean Islands, Crete (EL4) | B6: Medium (20-99) | C6: 63 | D6: 76 | E6: 285 | F6: 375 | G6: 569
A7: Aegean Islands, Crete (EL4) | B7: Large (100 or more) | C7: 7 | D7: 8 | E7: 6 | F7: 108 | G7: 27
A8: Northern Greece (EL5) | B8: Small (5-19) | C8: 919 | D8: 1500 | E8: 2775 | F8: 341 | G8: 8474
A9: Northern Greece (EL5) | B9: Medium (20-99) | C9: 242 | D9: 520 | E9: 611 | F9: 99 | G9: 1517
A10: Northern Greece (EL5) | B10: Large (100 or more) | C10: 71 | D10: 87 | E10: 26 | F10: 12 | G10: 94
A11: Central Greece (EL6) | B11: Small (5-19) | C11: 701 | D11: 955 | E11: 2149 | F11: 452 | G11: 6499
A12: Central Greece (EL6) | B12: Medium (20-99) | C12: 190 | D12: 336 | E12: 524 | F12: 130 | G12: 888
A13: Central Greece (EL6) | B13: Large (100 or more) | C13: 44 | D13: 91 | E13: 10 | F13: 21 | G13: 32

Sheet original survey design
A1: stratificationregionname | B1: stratificationsizename | C1: _Food | D1: _Other_Manufacturing | E1: _Retail | F1: _Hotels | G1: _Other_Services | H1: _Grand_Total
A2: Attica (EL3) | B2: Small (5-19) | C2: 9 | D2: 13 | E2: 27 | F2: 6 | G2: 31
A3: Attica (EL3) | B3: Medium (20-99) | C3: 11 | D3: 11 | E3: 9 | F3: 14 | G3: 14
A4: Attica (EL3) | B4: Large (100-199) | C4: 16 | D4: 15 | E4: 12 | F4: 10 | G4: 8
A5: Aegean Islands, Crete (EL4) | B5: Small (5-19) | C5: 11 | D5: 5 | E5: 9 | F5: 6 | G5: 13
A6: Aegean Islands, Crete (EL4) | B6: Medium (20-99) | C6: 9 | D6: 8 | E6: 11 | F6: 12 | G6: 5
A7: Aegean Islands, Crete (EL4) | B7: Large (100-199) | C7: 2 | D7: 5 | E7: 3 | F7: 26 | G7: 2
A8: Northern Greece (EL5) | B8: Small (5-19) | C8: 6 | D8: 9 | E8: 17 | F8: 2 | G8: 15
A9: Northern Greece (EL5) | B9: Medium (20-99) | C9: 9 | D9: 11 | E9: 10 | F9: 11 | G9: 4
A10: Northern Greece (EL5) | B10: Large (100-199) | C10: 15 | D10: 14 | E10: 5 | F10: 5 | G10: 4
A11: Central Greece (EL6) | B11: Small (5-19) | C11: 4 | D11: 5 | E11: 10 | F11: 2 | G11: 14
A12: Central Greece (EL6) | B12: Medium (20-99) | C12: 11 | D12: 9 | E12: 6 | F12: 19 | G12: 7
A13: Central Greece (EL6) | B13: Large (100-199) | C13: 17 | D13: 15 | E13: 1 | F13: 7 | G13: 3

Sheet yield calculation
A1: Survey | B1: Cell | C1: Name | D1: Yield | E1: Survey_response_rate | F1: Frame_quality
A2: Greece 2023 | B2: Fresh/Panel | C2: Fresh | D2: 0.14992025 | E2: 0.48767835 | F2: 0.30741626
A3: Greece 2023 | B3: Fresh/Panel | C3: Panel | D3: 0.37 | E3: 0.59677422 | F3: 0.62
A4: Greece 2023 | B4: Size | C4: Small (5-19) | D4: 0.15113182 | E4: 0.46997929 | F4: 0.32157123
A5: Greece 2023 | B5: Size | C5: Medium (20-99) | D5: 0.22394678 | E5: 0.59237534 | F5: 0.37804878
A6: Greece 2023 | B6: Size | C6: Large (100+) | D6: 0.24624625 | E6: 0.5412541 | F6: 0.45495495
A7: Greece 2023 | B7: Size | C7: Medium and Large (20+) | D7: 0.13157895 | E7: 0.3125 | F7: 0.42105263
A8: Greece 2023 | B8: Region | C8: Attica (EL3) | D8: 0.22426869 | E8: 0.54330707 | F8: 0.4127844
A9: Greece 2023 | B9: Region | C9: Aegean Islands, Crete (EL4) | D9: 0.23247233 | E9: 0.59715641 | F9: 0.38929889
A10: Greece 2023 | B10: Region | C10: Northern Greece (EL5) | D10: 0.15085714 | E10: 0.50381678 | F10: 0.29942858
A11: Greece 2023 | B11: Region | C11: Central Greece (EL6) | D11: 0.17317708 | E11: 0.46020761 | F11: 0.37630209
A12: Greece 2023 | B12: Sector | C12: Food | D12: 0.22674419 | E12: 0.48148149 | F12: 0.47093022
A13: Greece 2023 | B13: Sector | C13: Other Manufacturing | D13: 0.281106 | E13: 0.62564105 | F13: 0.44930875
... A17: Greece 2023 | B17: Greece 2023 | C17: Greece 2023 | D17: 0.1924067 | E17: 0.5231846 | F17: 0.36776063

Sheet achieved fresh and panel
A1: stratificationregionname | B1: stratificationsizename | C1: _Food | D1: _Other_Manufacturing | E1: _Retail | F1: _Hotels | G1: _Other_Services | H1: _Grand_Total
A2: Attica (EL3) | B2: Small (5-19) | C2: 9 | D2: 13 | E2: 33 | F2: 6 | G2: 34
A3: Attica (EL3) | B3: Medium (20-99) | C3: 11 | D3: 12 | E3: 9 | F3: 14 | G3: 15
A4: Attica (EL3) | B4: Large (100 or more) | C4: 12 | D4: 15 | E4: 8 | F4: 10 | G4: 8
A5: Aegean Islands, Crete (EL4) | B5: Small (5-19) | C5: 12 | D5: 6 | E5: 9 | F5: 6 | G5: 11
A6: Aegean Islands, Crete (EL4) | B6: Medium (20-99) | C6: 9 | D6: 8 | E6: 11 | F6: 12 | G6: 5
A7: Aegean Islands, Crete (EL4) | B7: Large (100 or more) | C7: 2 | D7: 5 | E7: 2 | F7: 26 | G7: 2
A8: Northern Greece (EL5) | B8: Small (5-19) | C8: 5 | D8: 10 | E8: 11 | F8: 4 | G8: 16
A9: Northern Greece (EL5) | B9: Medium (20-99) | C9: 12 | D9: 11 | E9: 10 | F9: 12 | G9: 4
A10: Northern Greece (EL5) | B10: Large (100 or more) | C10: 16 | D10: 9 | E10: 3 | F10: 5 | G10: 4
A11: Central Greece (EL6) | B11: Small (5-19) | C11: 7 | D11: 7 | E11: 13 | F11: 2 | G11: 14
A12: Central Greece (EL6) | B12: Medium (20-99) | C12: 10 | D12: 9 | E12: 5 | F12: 22 | G12: 7
A13: Central Greece (EL6) | B13: Large (100 or more) | C13: 12 | D13: 17 | F13: 6 | G13: 2

Sheet achieved panel
A1: stratificationregionname | B1: stratificationsizename | C1: _Food | D1: _Other_Manufacturing | E1: _Retail | F1: _Hotels | G1: _Other_Services | H1: _Grand_Total
A2: Attica (EL3) | B2: Small (5-19) | C2: 4 | D2: 8 | E2: 15 | G2: 10
A3: Attica (EL3) | B3: Medium (20-99) | C3: 2 | D3: 11 | E3: 6 | F3: 1 | G3: 5
A4: Attica (EL3) | B4: Large (100 or more) | C4: 2 | D4: 12 | E4: 3 | G4: 4
A5: Aegean Islands, Crete (EL4) | B5: Small (5-19) | C5: 10 | D5: 2 | E5: 6 | F5: 1 | G5: 4
A6: Aegean Islands, Crete (EL4) | B6: Medium (20-99) | C6: 6 | D6: 5 | E6: 9 | F6: 1 | G6: 3
A7: Aegean Islands, Crete (EL4) | B7: Large (100 or more) | D7: 4 | F7: 3
A8: Northern Greece (EL5) | B8: Small (5-19) | C8: 1 | D8: 6 | G8: 2
A9: Northern Greece (EL5) | B9: Medium (20-99) | C9: 3 | D9: 9 | E9: 8 | G9: 1
A10: Northern Greece (EL5) | B10: Large (100 or more) | C10: 4 | D10: 7 | G10: 2
A11: Central Greece (EL6) | B11: Small (5-19) | C11: 2 | D11: 4 | E11: 2 | G11: 4
A12: Central Greece (EL6) | B12: Medium (20-99) | C12: 2 | D12: 7 | E12: 2 | G12: 3
A13: Central Greece (EL6) | B13: Large (100 or more) | C13: 3 | D13: 13 | F13: 1 | G13: 1

Sheet universe_strict
A1: stratificationregionname | B1: stratificationsizename | C1: _Food | D1: _Other_Manufacturing | E1: _Retail | F1: _Hotels | G1: _Other_Services | H1: _Grand_Total
A2: Attica (EL3) | B2: Small (5-19) | C2: 316.47009 | D2: 540.92761 | E2: 911.90869 | F2: 122.5299 | G2: 3495.2551
A3: Attica (EL3) | B3: Medium (20-99) | C3: 84.0466 | D3: 223.05811 | E3: 241.77875 | F3: 64.301682 | G3: 1145.3453
A4: Attica (EL3) | B4: Large (100 or more) | C4: 25.761435 | D4: 49.261017 | E4: 24.86429 | F4: 16.304277 | G4: 135.7299
A5: Aegean Islands, Crete (EL4) | B5: Small (5-19) | C5: 121.02954 | D5: 90.611267 | E5: 267.70792 | F5: 298.8757 | G5: 1073.1685
A6: Aegean Islands, Crete (EL4) | B6: Medium (20-99) | C6: 28.148111 | D6: 24.039242 | E6: 67.787804 | F6: 154.91296 | G6: 175.54752
A7: Aegean Islands, Crete (EL4) | B7: Large (100 or more) | C7: 4.2856407 | D7: 5 | E7: 2.1385431 | F7: 50.141983 | G7: 8.9378605
A8: Northern Greece (EL5) | B8: Small (5-19) | C8: 205.60321 | D8: 250.5307 | E8: 348.52356 | F8: 98.595573 | G8: 1317.9514
A9: Northern Greece (EL5) | B9: Medium (20-99) | C9: 66.526917 | D9: 106.71874 | E9: 95.089828 | F9: 36.452347 | G9: 292.20392
A10: Northern Greece (EL5) | B10: Large (100 or more) | C10: 22.951496 | D10: 20.066792 | E10: 4.509532 | F10: 5 | G10: 20.956495
A11: Central Greece (EL6) | B11: Small (5-19) | C11: 199.53334 | D11: 202.93462 | E11: 343.39081 | F11: 168.18013 | G11: 1323.1996
A12: Central Greece (EL6) | B12: Medium (20-99) | C12: 66.453629 | D12: 87.732338 | F12: 44.331566 | G12: 215.91092
A13: Central Greece (EL6) | B13: Large (100 or more) | C13: 17.295738 | D13: 26.903704 | F13: 8.0484133 | G13: 8.7444592
A14: Central Greece (EL6) | B14: Medium and Large (20+) | E14: 123.32824

Sheet universe_median
A1: stratificationregionname | B1: stratificationsizename | C1: _Food | D1: _Other_Manufacturing | E1: _Retail | F1: _Hotels | G1: _Other_Services | H1: _Grand_Total
A2: Attica (EL3) | B2: Small (5-19) | C2: 383.91797 | D2: 648.11163 | E2: 1150.3744 | F2: 133.39859 | G2: 4434.6426
A3: Attica (EL3) | B3: Medium (20-99) | C3: 97.04847 | D3: 254.38501 | E3: 290.34879 | F3: 66.633759 | G3: 1383.181
A4: Attica (EL3) | B4: Large (100 or more) | C4: 30.594885 | D4: 57.781269 | E4: 30.710592 | F4: 17.377357 | G4: 168.58867
A5: Aegean Islands, Crete (EL4) | B5: Small (5-19) | C5: 133.40742 | D5: 98.645164 | E5: 306.89038 | F5: 295.65329 | G5: 1237.1736
A6: Aegean Islands, Crete (EL4) | B6: Medium (20-99) | C6: 30.084103 | D6: 24.910198 | E6: 73.966713 | F6: 145.86215 | G6: 192.62837
A7: Aegean Islands, Crete (EL4) | B7: Large (100 or more) | C7: 4.6246347 | D7: 5 | E7: 2.4000099 | F7: 48.558659 | G7: 10.08717
A8: Northern Greece (EL5) | B8: Small (5-19) | C8: 253.62515 | D8: 305.23077 | E8: 447.12396 | F8: 109.14989 | G8: 1700.3406
A9: Northern Greece (EL5) | B9: Medium (20-99) | C9: 78.112869 | D9: 123.7573 | E9: 115.9134 | F9: 38.410873 | G9: 358.82721
A10: Northern Greece (EL5) | B10: Large (100 or more) | C10: 27.077816 | D10: 24.10585 | E10: 5.6637011 | F10: 5 | G10: 26.202339
A11: Central Greece (EL6) | B11: Small (5-19) | C11: 265.98462 | D11: 267.17889 | E11: 476.06152 | F11: 201.19592 | G11: 1844.7626
A12: Central Greece (EL6) | B12: Medium (20-99) | C12: 84.318436 | D12: 109.94322 | F12: 50.480114 | G12: 286.51843
A13: Central Greece (EL6) | B13: Large (100 or more) | C13: 22.571123 | D13: 34.419312 | F13: 9.4260092 | G13: 11.934965
A14: Central Greece (EL6) | B14: Medium and Large (20+) | E14: 153.86519

Sheet universe_weak
A1: stratificationregionname | B1: stratificationsizename | C1: _Food | D1: _Other_Manufacturing | E1: _Retail | F1: _Hotels | G1: _Other_Services | H1: _Grand_Total
A2: Attica (EL3) | B2: Small (5-19) | C2: 954.81519 | D2: 2202.2456 | E2: 4943.6597 | F2: 382.35913 | G2: 15256.68
A3: Attica (EL3) | B3: Medium (20-99) | C3: 206.02974 | D3: 737.84937 | E3: 1065.3004 | F3: 163.03275 | G3: 4062.0071
A4: Attica (EL3) | B4: Large (100 or more) | C4: 55.981426 | D4: 144.44989 | E4: 97.116768 | F4: 36.645294 | G4: 426.72095
A5: Aegean Islands, Crete (EL4) | B5: Small (5-19) | C5: 346.6329 | D5: 350.18744 | E5: 1378.1097 | F5: 885.34344 | G5: 4446.731
A6: Aegean Islands, Crete (EL4) | B6: Medium (20-99) | C6: 62.114632 | D6: 75.485268 | E6: 283.52884 | F6: 372.84818 | G6: 591.00446
A7: Aegean Islands, Crete (EL4) | B7: Large (100 or more) | C7: 8.8405933 | D7: 7.9163351 | E7: 7.9291725 | F7: 106.98183 | G7: 26.674347
A8: Northern Greece (EL5) | B8: Small (5-19) | C8: 909.51227 | D8: 1495.4763 | E8: 2771.1177 | F8: 451.10626 | G8: 8434.7578
A9: Northern Greece (EL5) | B9: Medium (20-99) | C9: 239.11079 | D9: 517.58582 | E9: 609.1496 | F9: 135.5096 | G9: 1519.4358
A10: Northern Greece (EL5) | B10: Large (100 or more) | C10: 69.892029 | D10: 86.274773 | E10: 25.825077 | F10: 11.912363 | G10: 93.065399
A11: Central Greece (EL6) | B11: Small (5-19) | C11: 696.49908 | D11: 955.87524 | E11: 2154.4575 | F11: 607.18713 | G11: 6682.2852
A12: Central Greece (EL6) | B12: Medium (20-99) | C12: 188.47205 | D12: 335.75916 | F12: 130.04211 | G12: 885.92584
A13: Central Greece (EL6) | B13: Large (100 or more) | C13: 43.4842 | D13: 90.597343 | F13: 20.928856 | G13: 31.806795
A14: Central Greece (EL6) | B14: Medium and Large (20+) | E14: 540.55219
