Workbook

Sheet Table 1 Universe
C1: =RIGHT(SUBSTITUTE(universe!C1,"_"," "),LEN(SUBSTITUTE(universe!C1,"_"," "))-1) -> Manufacturing | D1: =RIGHT(SUBSTITUTE(universe!D1,"_"," "),LEN(SUBSTITUTE(universe!D1,"_"," "))-1) -> Services | E1: =RIGHT(SUBSTITUTE(universe!E1,"_"," "),LEN(SUBSTITUTE(universe!E1,"_"," "))-1) -> Grand Total
A2: =universe!A2 -> Central Region | B2: =LEFT(universe!B2,FIND(")",universe!B2)) -> Small (5-19) | C2: =universe!C2 -> 97 | D2: =universe!D2 -> 335 | E2: =SUM(C2:D4) -> 503
A3: =universe!A3 -> Central Region | B3: =LEFT(universe!B3,FIND(")",universe!B3)) -> Medium (20-99) | C3: =universe!C3 -> 30 | D3: =universe!D3 -> 34
A4: =universe!A4 -> Central Region | B4: =LEFT(universe!B4,FIND(")",universe!B4)) -> Large (100-199) | C4: =universe!C4 -> 5 | D4: =universe!D4 -> 2
A5: =universe!A5 -> Coastal Region | B5: =LEFT(universe!B5,FIND(")",universe!B5)) -> Small (5-19) | C5: =universe!C5 -> 174 | D5: =universe!D5 -> 1354 | E5: =SUM(C5:D7) -> 1988
A6: =universe!A6 -> Coastal Region | B6: =LEFT(universe!B6,FIND(")",universe!B6)) -> Medium (20-99) | C6: =universe!C6 -> 52 | D6: =universe!D6 -> 318
A7: =universe!A7 -> Coastal Region | B7: =LEFT(universe!B7,FIND(")",universe!B7)) -> Large (100-199) | C7: =universe!C7 -> 10 | D7: =universe!D7 -> 80
A8: =universe!A8 -> Northern Region | B8: =LEFT(universe!B8,FIND(")",universe!B8)) -> Small (5-19) | C8: =universe!C8 -> 91 | D8: =universe!D8 -> 1075 | E8: =SUM(C8:D10) -> 1380
A9: =universe!A9 -> Northern Region | B9: =LEFT(universe!B9,FIND(")",universe!B9)) -> Medium (20-99) | C9: =universe!C9 -> 17 | D9: =universe!D9 -> 171
A10: =universe!A10 -> Northern Region | B10: =LEFT(universe!B10,FIND(")",universe!B10)) -> Large (100-199) | C10: =universe!C10 -> 2 | D10: =universe!D10 -> 24
C11: =SUM(C2:C10) -> 478 | D11: =SUM(D2:D10) -> 3393 | E11: =SUM(E2:E10) -> 3871
A12: Source: Manufacturing: CMI Pakistan (census of manufacturing industries), EOBI (Employees' Old-Age Benefits Institution), and SHMI (Small and Household Manufacturing Industries) universe tables. Services: frames by Sidat Hyder, and EOBI universe tables.

Sheet Table 2A PBS Frame
C1: =RIGHT(SUBSTITUTE('frame fresh and panel'!C1,"_"," "),LEN(SUBSTITUTE('frame fresh and panel'!C1,"_"," "))-1) -> Manufacturing | D1: =RIGHT(SUBSTITUTE('frame fresh and panel'!D1,"_"," "),LEN(SUBSTITUTE('frame fresh and panel'!D1,"_"," "))-1) -> Services | E1: =RIGHT(SUBSTITUTE('frame fresh and panel'!E1,"_"," "),LEN(SUBSTITUTE('frame fresh and panel'!E1,"_"," "))-1) -> Grand Total
A2: ='frame fresh and panel'!A2 -> North Region | B2: =LEFT('frame fresh and panel'!B2,FIND(")",'frame fresh and panel'!B2)) -> Small (5-19) | C2: 3184 | D2: 5306 | E2: =SUM(C2:D4) -> 11703
A3: ='frame fresh and panel'!A3 -> North Region | B3: =LEFT('frame fresh and panel'!B3,FIND(")",'frame fresh and panel'!B3)) -> Medium (20-99) | C3: 1106 | D3: 1093
A4: ='frame fresh and panel'!A4 -> North Region | B4: =LEFT('frame fresh and panel'!B4,FIND(")",'frame fresh and panel'!B4)) -> Large (100 or more) | C4: 298 | D4: 716
A5: ='frame fresh and panel'!A5 -> Central Region | B5: =LEFT('frame fresh and panel'!B5,FIND(")",'frame fresh and panel'!B5)) -> Small (5-19) | C5: 1327 | D5: 863 | E5: =SUM(C5:D7) -> 4294
A6: ='frame fresh and panel'!A6 -> Central Region | B6: =LEFT('frame fresh and panel'!B6,FIND(")",'frame fresh and panel'!B6)) -> Medium (20-99) | C6: 642 | D6: 637
A7: ='frame fresh and panel'!A7 -> Central Region | B7: =LEFT('frame fresh and panel'!B7,FIND(")",'frame fresh and panel'!B7)) -> Large (100 or more) | C7: 325 | D7: 500
A8: ='frame fresh and panel'!A8 -> Coastal Region | B8: =LEFT('frame fresh and panel'!B8,FIND(")",'frame fresh and panel'!B8)) -> Small (5-19) | C8: 325 | D8: 33 | E8: =SUM(C8:D10) -> 514
A9: ='frame fresh and panel'!A9 -> Coastal Region | B9: =LEFT('frame fresh and panel'!B9,FIND(")",'frame fresh and panel'!B9)) -> Medium (20-99) | C9: 94 | D9: 8
A10: ='frame fresh and panel'!A10 -> Coastal Region | B10: =LEFT('frame fresh and panel'!B10,FIND(")",'frame fresh and panel'!B10)) -> Large (100 or more) | C10: 28 | D10: 26
C11: =SUM(C2:C10) -> 7329 | D11: =SUM(D2:D10) -> 9182 | E11: =SUM(E2:E10) -> 16511
A12: Source: Manufacturing: CMI Pakistan (census of manufacturing industries), EOBI (Employees' Old-Age Benefits Institution). Services: frames by Sidat Hyder.

Sheet Table 2B Frame
C1: =RIGHT(SUBSTITUTE('frame fresh and panel'!C1,"_"," "),LEN(SUBSTITUTE('frame fresh and panel'!C1,"_"," "))-1) -> Manufacturing | D1: =RIGHT(SUBSTITUTE('frame fresh and panel'!D1,"_"," "),LEN(SUBSTITUTE('frame fresh and panel'!D1,"_"," "))-1) -> Services | E1: =RIGHT(SUBSTITUTE('frame fresh and panel'!E1,"_"," "),LEN(SUBSTITUTE('frame fresh and panel'!E1,"_"," "))-1) -> Grand Total
A2: ='frame fresh and panel'!A2 -> North Region | B2: =LEFT('frame fresh and panel'!B2,FIND(")",'frame fresh and panel'!B2)) -> Small (5-19) | C2: ='frame fresh and panel'!C2 -> 97 | D2: ='frame fresh and panel'!D2 -> 335 | E2: =SUM(C2:D4) -> 503
A3: ='frame fresh and panel'!A3 -> North Region | B3: =LEFT('frame fresh and panel'!B3,FIND(")",'frame fresh and panel'!B3)) -> Medium (20-99) | C3: ='frame fresh and panel'!C3 -> 30 | D3: ='frame fresh and panel'!D3 -> 34
A4: ='frame fresh and panel'!A4 -> North Region | B4: =LEFT('frame fresh and panel'!B4,FIND(")",'frame fresh and panel'!B4)) -> Large (100 or more) | C4: ='frame fresh and panel'!C4 -> 5 | D4: ='frame fresh and panel'!D4 -> 2
A5: ='frame fresh and panel'!A5 -> Central Region | B5: =LEFT('frame fresh and panel'!B5,FIND(")",'frame fresh and panel'!B5)) -> Small (5-19) | C5: ='frame fresh and panel'!C5 -> 174 | D5: ='frame fresh and panel'!D5 -> 1354 | E5: =SUM(C5:D7) -> 1988
A6: ='frame fresh and panel'!A6 -> Central Region | B6: =LEFT('frame fresh and panel'!B6,FIND(")",'frame fresh and panel'!B6)) -> Medium (20-99) | C6: ='frame fresh and panel'!C6 -> 52 | D6: ='frame fresh and panel'!D6 -> 318
A7: ='frame fresh and panel'!A7 -> Central Region | B7: =LEFT('frame fresh and panel'!B7,FIND(")",'frame fresh and panel'!B7)) -> Large (100 or more) | C7: ='frame fresh and panel'!C7 -> 10 | D7: ='frame fresh and panel'!D7 -> 80
A8: ='frame fresh and panel'!A8 -> Coastal Region | B8: =LEFT('frame fresh and panel'!B8,FIND(")",'frame fresh and panel'!B8)) -> Small (5-19) | C8: ='frame fresh and panel'!C8 -> 91 | D8: ='frame fresh and panel'!D8 -> 1075 | E8: =SUM(C8:D10) -> 1380
A9: ='frame fresh and panel'!A9 -> Coastal Region | B9: =LEFT('frame fresh and panel'!B9,FIND(")",'frame fresh and panel'!B9)) -> Medium (20-99) | C9: ='frame fresh and panel'!C9 -> 17 | D9: ='frame fresh and panel'!D9 -> 171
A10: ='frame fresh and panel'!A10 -> Coastal Region | B10: =LEFT('frame fresh and panel'!B10,FIND(")",'frame fresh and panel'!B10)) -> Large (100 or more) | C10: ='frame fresh and panel'!C10 -> 2 | D10: ='frame fresh and panel'!D10 -> 24
C11: =SUM(C2:C10) -> 478 | D11: =SUM(D2:D10) -> 3393 | E11: =SUM(E2:E10) -> 3871
A12: Source: Manufacturing: CMI Pakistan (census of manufacturing industries), EOBI (Employees' Old-Age Benefits Institution). Services: frames by Sidat Hyder.

Sheet Table 2C Fresh Frame
C1: =RIGHT(SUBSTITUTE('frame fresh and panel'!C1,"_"," "),LEN(SUBSTITUTE('frame fresh and panel'!C1,"_"," "))-1) -> Manufacturing | D1: =RIGHT(SUBSTITUTE('frame fresh and panel'!D1,"_"," "),LEN(SUBSTITUTE('frame fresh and panel'!D1,"_"," "))-1) -> Services | E1: =RIGHT(SUBSTITUTE('frame fresh and panel'!E1,"_"," "),LEN(SUBSTITUTE('frame fresh and panel'!E1,"_"," "))-1) -> Grand Total
A2: ='frame fresh and panel'!A2 -> North Region | B2: =LEFT('frame fresh and panel'!B2,FIND(")",'frame fresh and panel'!B2)) -> Small (5-19) | C2: 3138 | D2: 5276 | E2: =SUM(C2:D4) -> 11495
A3: ='frame fresh and panel'!A3 -> North Region | B3: =LEFT('frame fresh and panel'!B3,FIND(")",'frame fresh and panel'!B3)) -> Medium (20-99) | C3: 1065 | D3: 1050
A4: ='frame fresh and panel'!A4 -> North Region | B4: =LEFT('frame fresh and panel'!B4,FIND(")",'frame fresh and panel'!B4)) -> Large (100 or more) | C4: 288 | D4: 678
A5: ='frame fresh and panel'!A5 -> Central Region | B5: =LEFT('frame fresh and panel'!B5,FIND(")",'frame fresh and panel'!B5)) -> Small (5-19) | C5: 1314 | D5: 861 | E5: =SUM(C5:D7) -> 4224
A6: ='frame fresh and panel'!A6 -> Central Region | B6: =LEFT('frame fresh and panel'!B6,FIND(")",'frame fresh and panel'!B6)) -> Medium (20-99) | C6: 619 | D6: 633
A7: ='frame fresh and panel'!A7 -> Central Region | B7: =LEFT('frame fresh and panel'!B7,FIND(")",'frame fresh and panel'!B7)) -> Large (100 or more) | C7: 315 | D7: 482
A8: ='frame fresh and panel'!A8 -> Coastal Region | B8: =LEFT('frame fresh and panel'!B8,FIND(")",'frame fresh and panel'!B8)) -> Small (5-19) | C8: 314 | D8: 28 | E8: =SUM(C8:D10) -> 474
A9: ='frame fresh and panel'!A9 -> Coastal Region | B9: =LEFT('frame fresh and panel'!B9,FIND(")",'frame fresh and panel'!B9)) -> Medium (20-99) | C9: 80 | D9: 3
A10: ='frame fresh and panel'!A10 -> Coastal Region | B10: =LEFT('frame fresh and panel'!B10,FIND(")",'frame fresh and panel'!B10)) -> Large (100 or more) | C10: 24 | D10: 25
C11: =SUM(C2:C10) -> 7157 | D11: =SUM(D2:D10) -> 9036 | E11: =SUM(E2:E10) -> 16193
A12: Source: Manufacturing: CMI Pakistan (census of manufacturing industries), EOBI (Employees' Old-Age Benefits Institution). Services: frames by Sidat Hyder.

Sheet Table 2D Panel Frame
C1: =RIGHT(SUBSTITUTE('frame fresh and panel'!C1,"_"," "),LEN(SUBSTITUTE('frame fresh and panel'!C1,"_"," "))-1) -> Manufacturing | D1: =RIGHT(SUBSTITUTE('frame fresh and panel'!D1,"_"," "),LEN(SUBSTITUTE('frame fresh and panel'!D1,"_"," "))-1) -> Services | E1: =RIGHT(SUBSTITUTE('frame fresh and panel'!E1,"_"," "),LEN(SUBSTITUTE('frame fresh and panel'!E1,"_"," "))-1) -> Grand Total
A2: ='frame fresh and panel'!A2 -> North Region | B2: =LEFT('frame fresh and panel'!B2,FIND(")",'frame fresh and panel'!B2)) -> Small (5-19) | C2: 46 | D2: 30 | E2: =SUM(C2:D4) -> 208
A3: ='frame fresh and panel'!A3 -> North Region | B3: =LEFT('frame fresh and panel'!B3,FIND(")",'frame fresh and panel'!B3)) -> Medium (20-99) | C3: 41 | D3: 43
A4: ='frame fresh and panel'!A4 -> North Region | B4: =LEFT('frame fresh and panel'!B4,FIND(")",'frame fresh and panel'!B4)) -> Large (100 or more) | C4: 10 | D4: 38
A5: ='frame fresh and panel'!A5 -> Central Region | B5: =LEFT('frame fresh and panel'!B5,FIND(")",'frame fresh and panel'!B5)) -> Small (5-19) | C5: 13 | D5: 2 | E5: =SUM(C5:D7) -> 70
A6: ='frame fresh and panel'!A6 -> Central Region | B6: =LEFT('frame fresh and panel'!B6,FIND(")",'frame fresh and panel'!B6)) -> Medium (20-99) | C6: 23 | D6: 4
A7: ='frame fresh and panel'!A7 -> Central Region | B7: =LEFT('frame fresh and panel'!B7,FIND(")",'frame fresh and panel'!B7)) -> Large (100 or more) | C7: 10 | D7: 18
A8: ='frame fresh and panel'!A8 -> Coastal Region | B8: =LEFT('frame fresh and panel'!B8,FIND(")",'frame fresh and panel'!B8)) -> Small (5-19) | C8: 11 | D8: 5 | E8: =SUM(C8:D10) -> 40
A9: ='frame fresh and panel'!A9 -> Coastal Region | B9: =LEFT('frame fresh and panel'!B9,FIND(")",'frame fresh and panel'!B9)) -> Medium (20-99) | C9: 14 | D9: 5
A10: ='frame fresh and panel'!A10 -> Coastal Region | B10: =LEFT('frame fresh and panel'!B10,FIND(")",'frame fresh and panel'!B10)) -> Large (100 or more) | C10: 4 | D10: 1
C11: =SUM(C2:C10) -> 172 | D11: =SUM(D2:D10) -> 146 | E11: =SUM(E2:E10) -> 318
A12: Source: Manufacturing: CMI Pakistan (census of manufacturing industries), EOBI (Employees' Old-Age Benefits Institution). Services: frames by Sidat Hyder.

Sheet Table 3 Original Survey Design
C1: =RIGHT(SUBSTITUTE('original survey design'!C1,"_"," "),LEN(SUBSTITUTE('original survey design'!C1,"_"," "))-1) -> Manufacturing | D1: =RIGHT(SUBSTITUTE('original survey design'!D1,"_"," "),LEN(SUBSTITUTE('original survey design'!D1,"_"," "))-1) -> Services | E1: =RIGHT(SUBSTITUTE('original survey design'!E1,"_"," "),LEN(SUBSTITUTE('original survey design'!E1,"_"," "))-1) -> Grand Total
A2: ='original survey design'!A2 -> Central Region | B2: =LEFT('original survey design'!B2,FIND(")",'original survey design'!B2)) -> Small (5-19) | C2: ='original survey design'!C2 -> 11 | D2: ='original survey design'!D2 -> 6 | E2: =SUM(C2:D4) -> 38
A3: ='original survey design'!A3 -> Central Region | B3: =LEFT('original survey design'!B3,FIND(")",'original survey design'!B3)) -> Medium (20-99) | C3: ='original survey design'!C3 -> 12 | D3: ='original survey design'!D3 -> 4
A4: ='original survey design'!A4 -> Central Region | B4: =LEFT('original survey design'!B4,FIND(")",'original survey design'!B4)) -> Large (100-199) | C4: ='original survey design'!C4 -> 3 | D4: ='original survey design'!D4 -> 2
A5: ='original survey design'!A5 -> Coastal Region | B5: =LEFT('original survey design'!B5,FIND(")",'original survey design'!B5)) -> Small (5-19) | C5: ='original survey design'!C5 -> 14 | D5: ='original survey design'!D5 -> 20 | E5: =SUM(C5:D7) -> 66
A6: ='original survey design'!A6 -> Coastal Region | B6: =LEFT('original survey design'!B6,FIND(")",'original survey design'!B6)) -> Medium (20-99) | C6: ='original survey design'!C6 -> 12 | D6: ='original survey design'!D6 -> 6
A7: ='original survey design'!A7 -> Coastal Region | B7: =LEFT('original survey design'!B7,FIND(")",'original survey design'!B7)) -> Large (100-199) | C7: ='original survey design'!C7 -> 5 | D7: ='original survey design'!D7 -> 9
A8: ='original survey design'!A8 -> Northern Region | B8: =LEFT('original survey design'!B8,FIND(")",'original survey design'!B8)) -> Small (5-19) | C8: ='original survey design'!C8 -> 9 | D8: ='original survey design'!D8 -> 15 | E8: =SUM(C8:D10) -> 46
A9: ='original survey design'!A9 -> Northern Region | B9: =LEFT('original survey design'!B9,FIND(")",'original survey design'!B9)) -> Medium (20-99) | C9: ='original survey design'!C9 -> 7 | D9: ='original survey design'!D9 -> 4
A10: ='original survey design'!A10 -> Northern Region | B10: =LEFT('original survey design'!B10,FIND(")",'original survey design'!B10)) -> Large (100-199) | C10: ='original survey design'!C10 -> 2 | D10: ='original survey design'!D10 -> 9
C11: =SUM(C2:C10) -> 75 | D11: =SUM(D2:D10) -> 75 | E11: =SUM(E2:E10) -> 150

Sheet Table 4 Response Outcomes
D2: Totals | E2: Rates relative to total contacted
B3: Overall | C3: Contacts available in frame | D3: 3871
C4: Issued | D4: 458
C5: Contacted | D5: 299
B6: Screening phase | C6: Eligibles | D6: 192 | E6: =D6/D$5 -> 0.65410959
C7: Screener refusals | D7: 31 | E7: =D7/D$5 -> 0.04109589
C8: Assumed eligibles | D8: 223 | E8: =D8/D$5 -> 0.69520548
C9: Ineligible + out of target | D9: 13 | E9: =D9/D$5 -> 0.044520548
C10: Unobtainables | D10: 63 | E10: =D10/D$5 -> 0.0034246575
B11: Interview phase | C11: Interview refusals | D11: 41 | E11: =D11/D$5 -> 0.065068493
B12: (only if eligible) | C12: Complete interviews | D12: 151 | E12: =D12/D$5 -> 0.51027397

Sheet Table 5 Survey Yield Rates
C2: Stratification | D2: Yield | E2: Survey response rate | F2: Frame quality
B3: Panel | C3: Fresh | D3: =VLOOKUP($C3,'yield calculation'!$C:$F,2,FALSE) -> 0.44755244 | E3: =VLOOKUP($C3,'yield calculation'!$C:$F,3,FALSE) -> 0.65979379 | F3: =VLOOKUP($C3,'yield calculation'!$C:$F,4,FALSE) -> 0.67832166
C4: Panel | D4: =VLOOKUP($C4,'yield calculation'!$C:$F,2,FALSE) -> 0.5704698 | E4: =VLOOKUP($C4,'yield calculation'!$C:$F,3,FALSE) -> 0.8018868 | F4: =VLOOKUP($C4,'yield calculation'!$C:$F,4,FALSE) -> 0.71140939
B5: Size | C5: Small (5-19) | D5: =VLOOKUP($C5,'yield calculation'!$C:$F,2,FALSE) -> 0.5486111 | E5: =VLOOKUP($C5,'yield calculation'!$C:$F,3,FALSE) -> 0.68695652 | F5: =VLOOKUP($C5,'yield calculation'!$C:$F,4,FALSE) -> 0.7986111
C6: Medium (20-99) | D6: =VLOOKUP($C6,'yield calculation'!$C:$F,2,FALSE) -> 0.57317072 | E6: =VLOOKUP($C6,'yield calculation'!$C:$F,3,FALSE) -> 0.81034482 | F6: =VLOOKUP($C6,'yield calculation'!$C:$F,4,FALSE) -> 0.70731705
C7: Large (100+) | D7: =VLOOKUP($C7,'yield calculation'!$C:$F,2,FALSE) -> 0.34848484 | E7: =VLOOKUP($C7,'yield calculation'!$C:$F,3,FALSE) -> 0.76666665 | F7: =VLOOKUP($C7,'yield calculation'!$C:$F,4,FALSE) -> 0.45454547
B8: Region | C8: Central Region | D8: =VLOOKUP($C8,'yield calculation'!$C:$F,2,FALSE) -> 0.46715328 | E8: =VLOOKUP($C8,'yield calculation'!$C:$F,3,FALSE) -> 0.66666669 | F8: =VLOOKUP($C8,'yield calculation'!$C:$F,4,FALSE) -> 0.70072991
C9: Coastal Region | D9: =VLOOKUP($C9,'yield calculation'!$C:$F,2,FALSE) -> 0.52941179 | E9: =VLOOKUP($C9,'yield calculation'!$C:$F,3,FALSE) -> 0.83333331 | F9: =VLOOKUP($C9,'yield calculation'!$C:$F,4,FALSE) -> 0.63529414
C10: North Region | D10: =VLOOKUP($C10,'yield calculation'!$C:$F,2,FALSE) -> 0.5714286 | E10: =VLOOKUP($C10,'yield calculation'!$C:$F,3,FALSE) -> 0.75471699 | F10: =VLOOKUP($C10,'yield calculation'!$C:$F,4,FALSE) -> 0.75714284
B11: Sector | C11: Manufacturing | D11: =VLOOKUP($C11,'yield calculation'!$C:$F,2,FALSE) -> 0.58677685 | E11: =VLOOKUP($C11,'yield calculation'!$C:$F,3,FALSE) -> 0.76344085 | F11: =VLOOKUP($C11,'yield calculation'!$C:$F,4,FALSE) -> 0.76859504
C12: Services | D12: =VLOOKUP($C12,'yield calculation'!$C:$F,2,FALSE) -> 0.45614034 | E12: =VLOOKUP($C12,'yield calculation'!$C:$F,3,FALSE) -> 0.70909089 | F12: =VLOOKUP($C12,'yield calculation'!$C:$F,4,FALSE) -> 0.64327484
B13: Overall | C13: Montenegro 2023 | D13: =VLOOKUP($C13,'yield calculation'!$C:$F,2,FALSE) -> 0.51027399 | E13: =VLOOKUP($C13,'yield calculation'!$C:$F,3,FALSE) -> 0.73399013 | F13: =VLOOKUP($C13,'yield calculation'!$C:$F,4,FALSE) -> 0.69520545
B14: Notes: the rates are calculated as defined in Section III.4

Sheet Table 6 Achieved Total Sample 
C1: =RIGHT(SUBSTITUTE('achieved fresh and panel'!C1,"_"," "),LEN(SUBSTITUTE('achieved fresh and panel'!C1,"_"," "))-1) -> Manufacturing | D1: =RIGHT(SUBSTITUTE('achieved fresh and panel'!D1,"_"," "),LEN(SUBSTITUTE('achieved fresh and panel'!D1,"_"," "))-1) -> Services | E1: =RIGHT(SUBSTITUTE('achieved fresh and panel'!E1,"_"," "),LEN(SUBSTITUTE('achieved fresh and panel'!E1,"_"," "))-1) -> Grand Total
A2: ='achieved fresh and panel'!A2 -> North Region | B2: =LEFT('achieved fresh and panel'!B2,FIND(")",'achieved fresh and panel'!B2)) -> Small (5-19) | C2: ='achieved fresh and panel'!C2 -> 11 | D2: ='achieved fresh and panel'!D2 -> 8 | E2: =SUM(C2:D4) -> 40
A3: ='achieved fresh and panel'!A3 -> North Region | B3: =LEFT('achieved fresh and panel'!B3,FIND(")",'achieved fresh and panel'!B3)) -> Medium (20-99) | C3: ='achieved fresh and panel'!C3 -> 13 | D3: ='achieved fresh and panel'!D3 -> 4
A4: ='achieved fresh and panel'!A4 -> North Region | B4: =LEFT('achieved fresh and panel'!B4,FIND(")",'achieved fresh and panel'!B4)) -> Large (100 or more) | C4: ='achieved fresh and panel'!C4 -> 2 | D4: ='achieved fresh and panel'!D4 -> 2
A5: ='achieved fresh and panel'!A5 -> Central Region | B5: =LEFT('achieved fresh and panel'!B5,FIND(")",'achieved fresh and panel'!B5)) -> Small (5-19) | C5: ='achieved fresh and panel'!C5 -> 14 | D5: ='achieved fresh and panel'!D5 -> 19 | E5: =SUM(C5:D7) -> 61
A6: ='achieved fresh and panel'!A6 -> Central Region | B6: =LEFT('achieved fresh and panel'!B6,FIND(")",'achieved fresh and panel'!B6)) -> Medium (20-99) | C6: ='achieved fresh and panel'!C6 -> 9 | D6: ='achieved fresh and panel'!D6 -> 9
A7: ='achieved fresh and panel'!A7 -> Central Region | B7: =LEFT('achieved fresh and panel'!B7,FIND(")",'achieved fresh and panel'!B7)) -> Large (100 or more) | C7: ='achieved fresh and panel'!C7 -> 5 | D7: ='achieved fresh and panel'!D7 -> 5
A8: ='achieved fresh and panel'!A8 -> Coastal Region | B8: =LEFT('achieved fresh and panel'!B8,FIND(")",'achieved fresh and panel'!B8)) -> Small (5-19) | C8: ='achieved fresh and panel'!C8 -> 9 | D8: ='achieved fresh and panel'!D8 -> 16 | E8: =SUM(C8:D10) -> 43
A9: ='achieved fresh and panel'!A9 -> Coastal Region | B9: =LEFT('achieved fresh and panel'!B9,FIND(")",'achieved fresh and panel'!B9)) -> Medium (20-99) | C9: ='achieved fresh and panel'!C9 -> 7 | D9: ='achieved fresh and panel'!D9 -> 5
A10: ='achieved fresh and panel'!A10 -> Coastal Region | B10: =LEFT('achieved fresh and panel'!B10,FIND(")",'achieved fresh and panel'!B10)) -> Large (100 or more) | C10: ='achieved fresh and panel'!C10 -> 1 | D10: ='achieved fresh and panel'!D10 -> 5
C11: =SUM(C2:C10) -> 71 | D11: =SUM(D2:D10) -> 73 | E11: =SUM(E2:E10) -> 144

Sheet Table 7 Achieved Panel Sample
C1: =RIGHT(SUBSTITUTE('achieved panel'!C1,"_"," "),LEN(SUBSTITUTE('achieved panel'!C1,"_"," "))-1) -> Manufacturing | D1: =RIGHT(SUBSTITUTE('achieved panel'!D1,"_"," "),LEN(SUBSTITUTE('achieved panel'!D1,"_"," "))-1) -> Services | E1: =RIGHT(SUBSTITUTE('achieved panel'!E1,"_"," "),LEN(SUBSTITUTE('achieved panel'!E1,"_"," "))-1) -> Grand Total
A2: ='achieved panel'!A2 -> North Region | B2: =LEFT('achieved panel'!B2,FIND(")",'achieved panel'!B2)) -> Small (5-19) | C2: ='achieved panel'!C2 -> 5 | D2: ='achieved panel'!D2 -> 3 | E2: =SUM(C2:D4) -> 18
A3: ='achieved panel'!A3 -> North Region | B3: =LEFT('achieved panel'!B3,FIND(")",'achieved panel'!B3)) -> Medium (20-99) | C3: ='achieved panel'!C3 -> 6 | D3: ='achieved panel'!D3 -> 2
A4: ='achieved panel'!A4 -> North Region | B4: =LEFT('achieved panel'!B4,FIND(")",'achieved panel'!B4)) -> Large (100 or more) | C4: ='achieved panel'!C4 -> 0 | D4: ='achieved panel'!D4 -> 2
A5: ='achieved panel'!A5 -> Central Region | B5: =LEFT('achieved panel'!B5,FIND(")",'achieved panel'!B5)) -> Small (5-19) | C5: ='achieved panel'!C5 -> 10 | D5: ='achieved panel'!D5 -> 10 | E5: =SUM(C5:D7) -> 38
A6: ='achieved panel'!A6 -> Central Region | B6: =LEFT('achieved panel'!B6,FIND(")",'achieved panel'!B6)) -> Medium (20-99) | C6: ='achieved panel'!C6 -> 6 | D6: ='achieved panel'!D6 -> 4
A7: ='achieved panel'!A7 -> Central Region | B7: =LEFT('achieved panel'!B7,FIND(")",'achieved panel'!B7)) -> Large (100 or more) | C7: ='achieved panel'!C7 -> 3 | D7: ='achieved panel'!D7 -> 5
A8: ='achieved panel'!A8 -> Coastal Region | B8: =LEFT('achieved panel'!B8,FIND(")",'achieved panel'!B8)) -> Small (5-19) | C8: ='achieved panel'!C8 -> 6 | D8: ='achieved panel'!D8 -> 8 | E8: =SUM(C8:D10) -> 26
A9: ='achieved panel'!A9 -> Coastal Region | B9: =LEFT('achieved panel'!B9,FIND(")",'achieved panel'!B9)) -> Medium (20-99) | C9: ='achieved panel'!C9 -> 3 | D9: ='achieved panel'!D9 -> 3
A10: ='achieved panel'!A10 -> Coastal Region | B10: =LEFT('achieved panel'!B10,FIND(")",'achieved panel'!B10)) -> Large (100 or more) | C10: ='achieved panel'!C10 -> 1 | D10: ='achieved panel'!D10 -> 5
C11: =SUM(C2:C10) -> 40 | D11: =SUM(D2:D10) -> 42 | E11: =SUM(E2:E10) -> 82

Sheet Table 8 Weak Universe Estimates
C1: =RIGHT(SUBSTITUTE(universe_weak!C1,"_"," "),LEN(SUBSTITUTE(universe_weak!C1,"_"," "))-1) -> Manufacturing | D1: =RIGHT(SUBSTITUTE(universe_weak!D1,"_"," "),LEN(SUBSTITUTE(universe_weak!D1,"_"," "))-1) -> Services | E1: =RIGHT(SUBSTITUTE(universe_weak!O1,"_"," "),LEN(SUBSTITUTE(universe_weak!O1,"_"," "))-1) -> Grand Total
A2: =universe_weak!A2 -> North Region | B2: =LEFT(universe_weak!B2,FIND(")",universe_weak!B2)) -> Small (5-19) | C2: =universe_weak!C2 -> 72.244957 | D2: =universe_weak!D2 -> 849.22662 | E2: =SUM(C2:D4) -> 1073.106
A3: =universe_weak!A3 -> North Region | B3: =LEFT(universe_weak!B3,FIND(")",universe_weak!B3)) -> Medium (20-99) | C3: =universe_weak!C3 -> 14.994196 | D3: =universe_weak!D3 -> 116.64522
A4: =universe_weak!A4 -> North Region | B4: =LEFT(universe_weak!B4,FIND(")",universe_weak!B4)) -> Large (100 or more) | C4: =universe_weak!C4 -> 2 | D4: =universe_weak!D4 -> 17.994997
A5: =universe_weak!A5 -> Central Region | B5: =LEFT(universe_weak!B5,FIND(")",universe_weak!B5)) -> Small (5-19) | C5: =universe_weak!C5 -> 93.039925 | D5: =universe_weak!D5 -> 317.57123 | E5: =SUM(C5:D9) -> 1861.3866
A6: =universe_weak!A6 -> Central Region | B6: =LEFT(universe_weak!B6,FIND(")",universe_weak!B6)) -> Medium (20-99) | C6: =universe_weak!C6 -> 24.865898 | D6: =universe_weak!D6 -> 28.47629
A7: =universe_weak!A7 -> Central Region | B7: =LEFT(universe_weak!B7,FIND(")",universe_weak!B7)) -> Large (100 or more) | C7: =universe_weak!C7 -> 5 | D7: =universe_weak!D7 -> 5
A8: =universe_weak!A8 -> Coastal Region | B8: =LEFT(universe_weak!B8,FIND(")",universe_weak!B8)) -> Small (5-19) | C8: =universe_weak!C8 -> 131.34634 | D8: =universe_weak!D8 -> 1016.1489
A9: =universe_weak!A9 -> Coastal Region | B9: =LEFT(universe_weak!B9,FIND(")",universe_weak!B9)) -> Medium (20-99) | C9: =universe_weak!C9 -> 33.864822 | D9: =universe_weak!D9 -> 206.0732
A10: =universe_weak!A10 -> Coastal Region | B10: =LEFT(universe_weak!B10,FIND(")",universe_weak!B10)) -> Large (100 or more) | C10: =universe_weak!C10 -> 7.4979157 | D10: =universe_weak!D10 -> 59.983326 | E10: =SUM(C10:D10) -> 67.481242
C11: =SUM(C2:C10) -> 384.85406 | D11: =SUM(D2:D10) -> 2617.1197 | E11: =SUM(E2:E10) -> 3001.9738

Sheet Table 9 Median Universe Est
C1: =RIGHT(SUBSTITUTE(universe_median!C1,"_"," "),LEN(SUBSTITUTE(universe_median!C1,"_"," "))-1) -> Manufacturing | D1: =RIGHT(SUBSTITUTE(universe_median!D1,"_"," "),LEN(SUBSTITUTE(universe_median!D1,"_"," "))-1) -> Services | E1: =RIGHT(SUBSTITUTE(universe_median!E1,"_"," "),LEN(SUBSTITUTE(universe_median!E1,"_"," "))-1) -> Grand Total
A2: =universe_median!A2 -> North Region | B2: =LEFT(universe_median!B2,FIND(")",universe_median!B2)) -> Small (5-19) | C2: =universe_median!C2 -> 72.244957 | D2: =universe_median!D2 -> 849.22662 | E2: =SUM(C2:D4) -> 1073.0986
A3: =universe_median!A3 -> North Region | B3: =LEFT(universe_median!B3,FIND(")",universe_median!B3)) -> Medium (20-99) | C3: =universe_median!C3 -> 14.986837 | D3: =universe_median!D3 -> 116.64522
A4: =universe_median!A4 -> North Region | B4: =LEFT(universe_median!B4,FIND(")",universe_median!B4)) -> Large (100 or more) | C4: =universe_median!C4 -> 2 | D4: =universe_median!D4 -> 17.994997
A5: =universe_median!A5 -> Central Region | B5: =LEFT(universe_median!B5,FIND(")",universe_median!B5)) -> Small (5-19) | C5: =universe_median!C5 -> 93.009903 | D5: =universe_median!D5 -> 317.57123 | E5: =SUM(C5:D9) -> 1861.3491
A6: =universe_median!A6 -> Central Region | B6: =LEFT(universe_median!B6,FIND(")",universe_median!B6)) -> Medium (20-99) | C6: =universe_median!C6 -> 24.865898 | D6: =universe_median!D6 -> 28.476683
A7: =universe_median!A7 -> Central Region | B7: =LEFT(universe_median!B7,FIND(")",universe_median!B7)) -> Large (100 or more) | C7: =universe_median!C7 -> 5 | D7: =universe_median!D7 -> 5
A8: =universe_median!A8 -> Coastal Region | B8: =LEFT(universe_median!B8,FIND(")",universe_median!B8)) -> Small (5-19) | C8: =universe_median!C8 -> 131.33847 | D8: =universe_median!D8 -> 1016.1489
A9: =universe_median!A9 -> Coastal Region | B9: =LEFT(universe_median!B9,FIND(")",universe_median!B9)) -> Medium (20-99) | C9: =universe_median!C9 -> 33.864822 | D9: =universe_median!D9 -> 206.07321
A10: =universe_median!A10 -> Coastal Region | B10: =LEFT(universe_median!B10,FIND(")",universe_median!B10)) -> Large (100 or more) | C10: =universe_median!C10 -> 7.4979157 | D10: =universe_median!D10 -> 59.983326 | E10: =SUM(C10:D10) -> 67.481242
C11: =SUM(C2:C10) -> 384.8088 | D11: =SUM(D2:D10) -> 2617.1202 | E11: =SUM(E2:E10) -> 3001.929

Sheet Table 10 Strict Universe Est
C1: =RIGHT(SUBSTITUTE(universe_strict!C1,"_"," "),LEN(SUBSTITUTE(universe_strict!C1,"_"," "))-1) -> Manufacturing | D1: =RIGHT(SUBSTITUTE(universe_strict!D1,"_"," "),LEN(SUBSTITUTE(universe_strict!D1,"_"," "))-1) -> Services | E1: =RIGHT(SUBSTITUTE(universe_strict!E1,"_"," "),LEN(SUBSTITUTE(universe_strict!E1,"_"," "))-1) -> Grand Total
A2: =universe_strict!A2 -> North Region | B2: =LEFT(universe_strict!B2,FIND(")",universe_strict!B2)) -> Small (5-19) | C2: =universe_strict!C2 -> 66.107872 | D2: =universe_strict!D2 -> 725.7691 | E2: =SUM(C2:D4) -> 940.7381
A3: =universe_strict!A3 -> North Region | B3: =LEFT(universe_strict!B3,FIND(")",universe_strict!B3)) -> Medium (20-99) | C3: =universe_strict!C3 -> 14.734683 | D3: =universe_strict!D3 -> 116.07848
A4: =universe_strict!A4 -> North Region | B4: =LEFT(universe_strict!B4,FIND(")",universe_strict!B4)) -> Large (100 or more) | C4: =universe_strict!C4 -> 2 | D4: =universe_strict!D4 -> 16.047962
A5: =universe_strict!A5 -> Central Region | B5: =LEFT(universe_strict!B5,FIND(")",universe_strict!B5)) -> Small (5-19) | C5: =universe_strict!C5 -> 72.196442 | D5: =universe_strict!D5 -> 230.20865 | E5: =SUM(C5:D9) -> 1676.6185
A6: =universe_strict!A6 -> Central Region | B6: =LEFT(universe_strict!B6,FIND(")",universe_strict!B6)) -> Medium (20-99) | C6: =universe_strict!C6 -> 22.451567 | D6: =universe_strict!D6 -> 24.26491
A7: =universe_strict!A7 -> Central Region | B7: =LEFT(universe_strict!B7,FIND(")",universe_strict!B7)) -> Large (100 or more) | C7: =universe_strict!C7 -> 5 | D7: =universe_strict!D7 -> 5
A8: =universe_strict!A8 -> Coastal Region | B8: =LEFT(universe_strict!B8,FIND(")",universe_strict!B8)) -> Small (5-19) | C8: =universe_strict!C8 -> 128.66125 | D8: =universe_strict!D8 -> 930.45526
A9: =universe_strict!A9 -> Coastal Region | B9: =LEFT(universe_strict!B9,FIND(")",universe_strict!B9)) -> Medium (20-99) | C9: =universe_strict!C9 -> 38.660496 | D9: =universe_strict!D9 -> 219.71997
A10: =universe_strict!A10 -> Coastal Region | B10: =LEFT(universe_strict!B10,FIND(")",universe_strict!B10)) -> Large (100 or more) | C10: =universe_strict!C10 -> 6.6866512 | D10: =universe_strict!D10 -> 53.493206 | E10: =SUM(C10:D10) -> 60.179857
C11: =SUM(C2:C10) -> 356.49897 | D11: =SUM(D2:D10) -> 2321.0375 | E11: =SUM(E2:E10) -> 2677.5365

Sheet Table 11 Item Response Rates
C2: Screener/Interview | D2: d2 | E2: l1 | F2: n2a | G2: all TFP variables
B3: Panel | C3: Fresh | D3: =VLOOKUP($C3,'item response'!$C:$G,2,FALSE) -> 1 | E3: =VLOOKUP($C3,'item response'!$C:$G,3,FALSE) -> 1 | F3: =VLOOKUP($C3,'item response'!$C:$G,4,FALSE) -> 1 | G3: =VLOOKUP($C3,'item response'!$C:$G,5,FALSE) -> 0.63157892
C4: Panel | D4: =VLOOKUP($C4,'item response'!$C:$G,2,FALSE) -> 1 | E4: =VLOOKUP($C4,'item response'!$C:$G,3,FALSE) -> 1 | F4: =VLOOKUP($C4,'item response'!$C:$G,4,FALSE) -> 1 | G4: =VLOOKUP($C4,'item response'!$C:$G,5,FALSE) -> 0.66666669
B5: Size | C5: Small (5-19) | D5: =VLOOKUP($C5,'item response'!$C:$G,2,FALSE) -> 1 | E5: =VLOOKUP($C5,'item response'!$C:$G,3,FALSE) -> 1 | F5: =VLOOKUP($C5,'item response'!$C:$G,4,FALSE) -> 1 | G5: =VLOOKUP($C5,'item response'!$C:$G,5,FALSE) -> 0.75
C6: Medium (20-99) | D6: =VLOOKUP($C6,'item response'!$C:$G,2,FALSE) -> 1 | E6: =VLOOKUP($C6,'item response'!$C:$G,3,FALSE) -> 1 | F6: =VLOOKUP($C6,'item response'!$C:$G,4,FALSE) -> 1 | G6: =VLOOKUP($C6,'item response'!$C:$G,5,FALSE) -> 0.59090906
C7: Large (100+) | D7: =VLOOKUP($C7,'item response'!$C:$G,2,FALSE) -> 1 | E7: =VLOOKUP($C7,'item response'!$C:$G,3,FALSE) -> 1 | F7: =VLOOKUP($C7,'item response'!$C:$G,4,FALSE) -> 1 | G7: =VLOOKUP($C7,'item response'!$C:$G,5,FALSE) -> 0.5714286
B8: Region | C8: Central Region | D8: =VLOOKUP($C8,'item response'!$C:$G,2,FALSE) -> #N/A | E8: =VLOOKUP($C8,'item response'!$C:$G,3,FALSE) -> #N/A | F8: =VLOOKUP($C8,'item response'!$C:$G,4,FALSE) -> #N/A | G8: =VLOOKUP($C8,'item response'!$C:$G,5,FALSE) -> #N/A
C9: Coastal Region | D9: =VLOOKUP($C9,'item response'!$C:$G,2,FALSE) -> #N/A | E9: =VLOOKUP($C9,'item response'!$C:$G,3,FALSE) -> #N/A | F9: =VLOOKUP($C9,'item response'!$C:$G,4,FALSE) -> #N/A | G9: =VLOOKUP($C9,'item response'!$C:$G,5,FALSE) -> #N/A
C10: North Region | D10: =VLOOKUP($C10,'item response'!$C:$G,2,FALSE) -> #N/A | E10: =VLOOKUP($C10,'item response'!$C:$G,3,FALSE) -> #N/A | F10: =VLOOKUP($C10,'item response'!$C:$G,4,FALSE) -> #N/A | G10: =VLOOKUP($C10,'item response'!$C:$G,5,FALSE) -> #N/A
B11: Sector | C11: Manufacturing | D11: =VLOOKUP($C11,'item response'!$C:$G,2,FALSE) -> 1 | E11: =VLOOKUP($C11,'item response'!$C:$G,3,FALSE) -> 1 | F11: =VLOOKUP($C11,'item response'!$C:$G,4,FALSE) -> 1 | G11: =VLOOKUP($C11,'item response'!$C:$G,5,FALSE) -> 0.66666669
C12: Services | D12: =VLOOKUP($C12,'item response'!$C:$G,2,FALSE) -> 1 | E12: =VLOOKUP($C12,'item response'!$C:$G,3,FALSE) -> 1 | F12: =VLOOKUP($C12,'item response'!$C:$G,4,FALSE) -> 1 | G12: =VLOOKUP($C12,'item response'!$C:$G,5,FALSE) -> 0
B13: Overall | C13: Montenegro 2023 | D13: =VLOOKUP($C13,'item response'!$C:$G,2,FALSE) -> 1 | E13: =VLOOKUP($C13,'item response'!$C:$G,3,FALSE) -> 1 | F13: =VLOOKUP($C13,'item response'!$C:$G,4,FALSE) -> 1 | G13: =VLOOKUP($C13,'item response'!$C:$G,5,FALSE) -> 0.65306121
B14: Notes: the rates are calculated as follows. The number of responses with informative content in the respective variable (or combination of variables in the case of TFP) is divided by the same number plus the number of responses that are "don't know" (code -9) or refusal (code -8).

Sheet universe
A1: _Manufacturing | B1: stratificationsizename | C1: _Services | D1: stratificationregionname | E1: _Grand_Total
A2: Central Region | B2: Small (5-19) | C2: 97 | D2: 335
A3: Central Region | B3: Medium (20-99) | C3: 30 | D3: 34
A4: Central Region | B4: Large (100-199) | C4: 5 | D4: 2
A5: Coastal Region | B5: Small (5-19) | C5: 174 | D5: 1354
A6: Coastal Region | B6: Medium (20-99) | C6: 52 | D6: 318
A7: Coastal Region | B7: Large (100-199) | C7: 10 | D7: 80
A8: Northern Region | B8: Small (5-19) | C8: 91 | D8: 1075
A9: Northern Region | B9: Medium (20-99) | C9: 17 | D9: 171
A10: Northern Region | B10: Large (100-199) | C10: 2 | D10: 24

Sheet frame fresh and panel
A1: stratificationregionname | B1: stratificationsizename | C1: _Manufacturing | D1: _Services | E1: _Grand_Total
A2: North Region | B2: Small (5-19) | C2: 97 | D2: 335
A3: North Region | B3: Medium (20-99) | C3: 30 | D3: 34
A4: North Region | B4: Large (100 or more) | C4: 5 | D4: 2
A5: Central Region | B5: Small (5-19) | C5: 174 | D5: 1354
A6: Central Region | B6: Medium (20-99) | C6: 52 | D6: 318
A7: Central Region | B7: Large (100 or more) | C7: 10 | D7: 80
A8: Coastal Region | B8: Small (5-19) | C8: 91 | D8: 1075
A9: Coastal Region | B9: Medium (20-99) | C9: 17 | D9: 171
A10: Coastal Region | B10: Large (100 or more) | C10: 2 | D10: 24

Sheet original survey design
A1: stratificationregionname | B1: stratificationsizename | C1: _Manufacturing | D1: _Services | E1: _Grand_Total
A2: Central Region | B2: Small (5-19) | C2: 11 | D2: 6
A3: Central Region | B3: Medium (20-99) | C3: 12 | D3: 4
A4: Central Region | B4: Large (100-199) | C4: 3 | D4: 2
A5: Coastal Region | B5: Small (5-19) | C5: 14 | D5: 20
A6: Coastal Region | B6: Medium (20-99) | C6: 12 | D6: 6
A7: Coastal Region | B7: Large (100-199) | C7: 5 | D7: 9
A8: Northern Region | B8: Small (5-19) | C8: 9 | D8: 15
A9: Northern Region | B9: Medium (20-99) | C9: 7 | D9: 4
A10: Northern Region | B10: Large (100-199) | C10: 2 | D10: 9

Sheet yield calculation
A1: Survey | B1: Cell | C1: Name | D1: Yield | E1: Survey_response_rate | F1: Frame_quality
A2: Montenegro 2023 | B2: Fresh/Panel | C2: Fresh | D2: 0.4295302 | E2: 0.58181816 | F2: 0.73825502
A3: Montenegro 2023 | B3: Fresh/Panel | C3: Panel | D3: 0.57999998 | E3: 0.76991153 | F3: 0.75333333
A4: Montenegro 2023 | B4: Size | C4: Small (5-19) | D4: 0.53741497 | E4: 0.64227641 | F4: 0.83673471
A5: Montenegro 2023 | B5: Size | C5: Medium (20-99) | D5: 0.54651165 | E5: 0.72307694 | F5: 0.75581396
A6: Montenegro 2023 | B6: Size | C6: Large (100+) | D6: 0.37878788 | E6: 0.71428573 | F6: 0.530303
A7: Montenegro 2023 | B7: Region | C7: North Region | D7: 0.52631581 | E7: 0.67796612 | F7: 0.77631581
A8: Montenegro 2023 | B8: Region | C8: Central Region | D8: 0.47445256 | E8: 0.63106793 | F8: 0.7518248
A9: Montenegro 2023 | B9: Region | C9: Coastal Region | D9: 0.53488374 | E9: 0.75409836 | F9: 0.70930231
A10: Montenegro 2023 | B10: Sector | C10: Manufacturing | D10: 0.56349206 | E10: 0.69607842 | F10: 0.80952382
A11: Montenegro 2023 | B11: Sector | C11: Services | D11: 0.46242774 | E11: 0.66115701 | F11: 0.69942194
A12: Montenegro 2023 | B12: Montenegro 2023 | C12: Montenegro 2023 | D12: 0.50501674 | E12: 0.67713004 | F12: 0.74581939

Sheet achieved fresh and panel
A1: stratificationregionname | B1: stratificationsizename | C1: _Manufacturing | D1: _Services | E1: _Grand_Total
A2: North Region | B2: Small (5-19) | C2: 11 | D2: 8
A3: North Region | B3: Medium (20-99) | C3: 13 | D3: 4
A4: North Region | B4: Large (100 or more) | C4: 2 | D4: 2
A5: Central Region | B5: Small (5-19) | C5: 14 | D5: 21
A6: Central Region | B6: Medium (20-99) | C6: 9 | D6: 9
A7: Central Region | B7: Large (100 or more) | C7: 5 | D7: 7
A8: Coastal Region | B8: Small (5-19) | C8: 9 | D8: 16
A9: Coastal Region | B9: Medium (20-99) | C9: 7 | D9: 5
A10: Coastal Region | B10: Large (100 or more) | C10: 1 | D10: 8

Sheet achieved panel
A1: stratificationregionname | B1: stratificationsizename | C1: _Manufacturing | D1: _Services | E1: _Grand_Total
A2: North Region | B2: Small (5-19) | C2: 5 | D2: 3
A3: North Region | B3: Medium (20-99) | C3: 6 | D3: 2
A4: North Region | B4: Large (100 or more) | D4: 2
A5: Central Region | B5: Small (5-19) | C5: 10 | D5: 10
A6: Central Region | B6: Medium (20-99) | C6: 6 | D6: 4
A7: Central Region | B7: Large (100 or more) | C7: 3 | D7: 7
A8: Coastal Region | B8: Small (5-19) | C8: 6 | D8: 8
A9: Coastal Region | B9: Medium (20-99) | C9: 3 | D9: 3
A10: Coastal Region | B10: Large (100 or more) | C10: 1 | D10: 8

Sheet universe_strict
A1: stratificationregionname | B1: stratificationsizename | C1: _Manufacturing | D1: _Services | E1: _Grand_Total
A2: North Region | B2: Small (5-19) | C2: 75.555344 | D2: 698.12512
A3: North Region | B3: Medium (20-99) | C3: 15.267635 | D3: 105.63351
A4: North Region | B4: Large (100 or more) | C4: 2 | D4: 14.137064
A5: Central Region | B5: Small (5-19) | C5: 80.740639 | D5: 217.19806
A6: Central Region | B6: Medium (20-99) | C6: 23.750229 | D6: 21.765905
A7: Central Region | B7: Large (100 or more) | C7: 5 | D7: 7
A8: Coastal Region | B8: Small (5-19) | C8: 119.5601 | D8: 727.70721
A9: Coastal Region | B9: Medium (20-99) | C9: 33.987648 | D9: 162.57208
A10: Coastal Region | B10: Large (100 or more) | C10: 5.8904433 | D10: 47.123543

Sheet universe_median
A1: stratificationregionname | B1: stratificationsizename | C1: _Manufacturing | D1: _Services | E1: _Grand_Total
A2: North Region | B2: Small (5-19) | C2: 86.022903 | D2: 837.79041
A3: North Region | B3: Medium (20-99) | C3: 17.25968 | D3: 124.87426
A4: North Region | B4: Large (100 or more) | C4: 2 | D4: 16.878075
A5: Central Region | B5: Small (5-19) | C5: 106.18914 | D5: 301.21756
A6: Central Region | B6: Medium (20-99) | C6: 30.6586 | D6: 29.281183
A7: Central Region | B7: Large (100 or more) | C7: 5 | D7: 7
A8: Coastal Region | B8: Small (5-19) | C8: 130.70833 | D8: 837.83386
A9: Coastal Region | B9: Medium (20-99) | C9: 36.57111 | D9: 184.38101
A10: Coastal Region | B10: Large (100 or more) | C10: 7.0325317 | D10: 56.260258

Sheet universe_weak
A1: stratificationregionname | B1: stratificationsizename | C1: _Manufacturing | D1: _Services | E1: _Garments | F1: _Chemicals_and_Chemical_Products | G1: _Non_Metallic_Mineral_Products | H1: _Motor_Vehicles_and_Tpt_Equip | I1: _Other_Manufacturing | J1: _Retail | K1: _Accomodation | L1: _Other_Services | M1: _Garment_and_Textiles | N1: _Other_Mfg_and_Motor_Vehicles | O1: _Grand_Total
A2: North Region | B2: Small (5-19) | C2: 93.249474 | D2: 1093.8933 | E2: 1325 | F2: 626 | G2: 1714.4183 | H2: 991.55756 | I2: 16302.427 | J2: 3513.0002 | K2: 2167 | L2: 7232.0005
A3: North Region | B3: Medium (20-99) | C3: 18.976242 | D3: 169.76132 | E3: 410.00003 | F3: 133 | G3: 8525 | H3: 138 | I3: 1590 | J3: 642 | K3: 393 | L3: 2514
A4: North Region | B4: Large (100 or more) | C4: 2 | D4: 23.461697 | E4: 304 | F4: 137 | G4: 582 | H4: 93.000008 | I4: 859 | J4: 12 | K4: 23 | L4: 621
A5: Central Region | B5: Small (5-19) | C5: 95.261024 | D5: 324.65494 | E5: 792.06299 | F5: 180 | G5: 835.71954 | H5: 132.88661 | I5: 2985.3911 | J5: 932 | K5: 1490 | L5: 5304
A6: Central Region | B6: Medium (20-99) | C6: 28.622726 | D6: 32.736526 | E6: 270 | F6: 95 | G6: 210 | H6: 80 | I6: 559 | J6: 52.712967 | K6: 112
A7: Central Region | B7: Large (100 or more) | C7: 5.5905938 | D7: 7 | E7: 276 | F7: 98 | G7: 168 | H7: 113 | I7: 488 | J7: 27 | K7: 27.686459
A8: Coastal Region | B8: Small (5-19) | C8: 178.30119 | D8: 1377.7968 | L8: 1918
A9: Coastal Region | B9: Medium (20-99) | C9: 51.985767 | D9: 315.69653
A10: Coastal Region | B10: Large (100 or more) | C10: 9.7757072 | D10: 78.205658 | F10: 79 | G10: 1546 | H10: 54.553413 | I10: 10883.966 | J10: 1014 | K10: 387 | L10: 795 | M10: 816.31445
A11: Khyber-Pakhtunkhwa | B11: Medium (20-99) | C11: 94 | F11: 35 | G11: 405 | I11: 168 | K11: 40.913757 | L11: 493.00003 | M11: 10.492697
A12: Khyber-Pakhtunkhwa | B12: Large (100 or more) | C12: 28 | D12: 26 | F12: 23 | G12: 286 | I12: 129 | K12: 5 | L12: 143
A13: Khyber-Pakhtunkhwa | B13: Medium and Large (20 or more) | H13: 6 | J13: 98
A14: Balochistan | B14: Small (5-19) | C14: 297.18411 | F14: 12 | G14: 53 | I14: 132.54794 | J14: 211 | K14: 101 | L14: 206 | M14: 619.83398
A15: Balochistan | B15: Medium (20-99) | C15: 87 | D15: 5 | F15: 1.9997401 | G15: 9 | I15: 32 | K15: 64 | L15: 204
A16: Balochistan | B16: Large (100 or more) | C16: 15 | D16: 19 | F16: 7 | G16: 9 | H16: 12 | I16: 47 | L16: 59
A17: Balochistan | B17: Medium and Large (20 or more) | J17: 7
A18: Balochistan | B18: Small and Medium (5-99) | H18: 4
A19: Islamabad | B19: Small (5-19) | C19: 67 | D19: 6 | E19: 9 | F19: 17 | G19: 117.24721 | I19: 84 | J19: 285 | K19: 533 | L19: 1218
A20: Islamabad | B20: Medium (20-99) | C20: 62 | G20: 12.685841 | J20: 26.462318 | K20: 126.99999 | L20: 506 | N20: 85
A21: Islamabad | B21: Large (100 or more) | C21: 22 | G21: 6 | J21: 3 | K21: 8 | L21: 319 | N21: 61
A22: Islamabad | B22: Medium and Large (20 or more) | D22: 2.9996099 | E22: 4.9993501 | F22: 4.9993501

Sheet item response
A1: Survey | B1: Cell | C1: Name | D1: rr_d2 | E1: rr_l1 | F1: rr_n2a | G1: rr_TFP
A2: Montenegro 2023 | B2: Fresh/Panel | C2: Fresh | D2: 1 | E2: 1 | F2: 1 | G2: 0.5
A3: Montenegro 2023 | B3: Fresh/Panel | C3: Panel | D3: 1 | E3: 1 | F3: 1 | G3: 0.60465115
A4: Montenegro 2023 | B4: Size | C4: Small (5-19) | D4: 1 | E4: 1 | F4: 1 | G4: 0.6785714
A5: Montenegro 2023 | B5: Size | C5: Medium (20-99) | D5: 1 | E5: 1 | F5: 1 | G5: 0.53333336
A6: Montenegro 2023 | B6: Size | C6: Large (100+) | D6: 1 | E6: 1 | F6: 1 | G6: 0.36363637
A7: Montenegro 2023 | B7: Region | C7: Entire Country | D7: 1 | E7: 1 | F7: 1 | G7: 0.56521738
A8: Montenegro 2023 | B8: Sector | C8: Manufacturing | D8: 1 | E8: 1 | F8: 1 | G8: 0.56521738
A9: Montenegro 2023 | B9: Sector | C9: Services | D9: 1 | E9: 1 | F9: 1
A10: Montenegro 2023 | B10: Montenegro 2023 | C10: Montenegro 2023 | D10: 1 | E10: 1 | F10: 1 | G10: 0.56521738
A11: Pakistan 2022 | B11: Region | C11: Islamabad | D11: 1 | E11: 1 | F11: 1 | G11: 1
A12: Pakistan 2022 | B12: Sector | C12: Accomodation | D12: 1 | E12: 1 | F12: 1
A13: Pakistan 2022 | B13: Sector | C13: Chemicals & Chemical Products | D13: 1 | E13: 1 | F13: 1 | G13: 1
A14: Pakistan 2022 | B14: Sector | C14: Food | D14: 1 | E14: 1 | F14: 1 | G14: 1
A15: Pakistan 2022 | B15: Sector | C15: Garments | D15: 1 | E15: 1 | F15: 1 | G15: 0.99224806
A16: Pakistan 2022 | B16: Sector | C16: Motor Vehicles & Transport Equip. | D16: 1 | E16: 1 | F16: 1 | G16: 1
A17: Pakistan 2022 | B17: Sector | C17: Non-Metallic Mineral Products | D17: 1 | E17: 1 | F17: 1 | G17: 1
A18: Pakistan 2022 | B18: Sector | C18: Other Manufacturing | D18: 1 | E18: 1 | F18: 1 | G18: 0.9852941
A19: Pakistan 2022 | B19: Sector | C19: Other Services | D19: 1 | E19: 1 | F19: 1
A20: Pakistan 2022 | B20: Sector | C20: Retail | D20: 1 | E20: 1 | F20: 1
A21: Pakistan 2022 | B21: Sector | C21: Textiles | D21: 1 | E21: 1 | F21: 1 | G21: 1
A22: Pakistan 2022 | B22: Pakistan 2022 | C22: Pakistan 2022 | D22: 1 | E22: 1 | F22: 1 | G22: 0.99527746
