Workbook

Sheet Table 1 Universe
C1: =RIGHT(SUBSTITUTE(universe!C1,"_"," "),LEN(SUBSTITUTE(universe!C1,"_"," "))-1) -> Manufacturing | D1: =RIGHT(SUBSTITUTE(universe!D1,"_"," "),LEN(SUBSTITUTE(universe!D1,"_"," "))-1) -> Retail | E1: =RIGHT(SUBSTITUTE(universe!E1,"_"," "),LEN(SUBSTITUTE(universe!E1,"_"," "))-1) -> Hotels | F1: =RIGHT(SUBSTITUTE(universe!F1,"_"," "),LEN(SUBSTITUTE(universe!F1,"_"," "))-1) -> Other services | G1: =RIGHT(SUBSTITUTE(universe!G1,"_"," "),LEN(SUBSTITUTE(universe!G1,"_"," "))-1) -> Grand Total
A2: =universe!A2 -> Central | B2: =LEFT(universe!B2,FIND(")",universe!B2)) -> Small (5-19) | C2: =universe!C2 -> 3498 | D2: =universe!D2 -> 4983 | E2: =universe!E2 -> 823 | F2: =universe!F2 -> 7361 | G2: =SUM(C2:F4) -> 20079
A3: =universe!A3 -> Central | B3: =LEFT(universe!B3,FIND(")",universe!B3)) -> Medium (20-99) | C3: =universe!C3 -> 1268 | D3: =universe!D3 -> 426 | E3: =universe!E3 -> 147 | F3: =universe!F3 -> 908
A4: =universe!A4 -> Central | B4: =LEFT(universe!B4,FIND(")",universe!B4)) -> Large (100 or more) | C4: =universe!C4 -> 511 | D4: =universe!D4 -> 82 | E4: =universe!E4 -> 10 | F4: =universe!F4 -> 62
A5: =universe!A5 -> West | B5: =LEFT(universe!B5,FIND(")",universe!B5)) -> Small (5-19) | C5: =universe!C5 -> 3957 | D5: =universe!D5 -> 4677 | E5: =universe!E5 -> 1890 | F5: =universe!F5 -> 6022 | G5: =SUM(C5:F7) -> 19111
A6: =universe!A6 -> West | B6: =LEFT(universe!B6,FIND(")",universe!B6)) -> Medium (20-99) | C6: =universe!C6 -> 925 | D6: =universe!D6 -> 303 | E6: =universe!E6 -> 285 | F6: =universe!F6 -> 828
A7: =universe!A7 -> West | B7: =LEFT(universe!B7,FIND(")",universe!B7)) -> Large (100 or more) | C7: =universe!C7 -> 152 | D7: =universe!D7 -> 59 | E7: =universe!E7 -> 13 | F7: =universe!F7 -> 0
A8: =universe!A8 -> East | B8: =LEFT(universe!B8,FIND(")",universe!B8)) -> Small (5-19) | C8: =universe!C8 -> 1918 | D8: =universe!D8 -> 2346 | E8: =universe!E8 -> 597 | F8: =universe!F8 -> 3632 | G8: =SUM(C8:F10) -> 9912
A9: =universe!A9 -> East | B9: =LEFT(universe!B9,FIND(")",universe!B9)) -> Medium (20-99) | C9: =universe!C9 -> 668 | D9: =universe!D9 -> 85 | E9: =universe!E9 -> 96 | F9: =universe!F9 -> 251
A10: =universe!A10 -> East | B10: =LEFT(universe!B10,FIND(")",universe!B10)) -> Large (100 or more) | C10: =universe!C10 -> 281 | D10: =universe!D10 -> 38 | E10: =universe!E10 -> 0 | F10: =universe!F10 -> 0
C11: =SUM(C2:C10) -> 13178 | D11: =SUM(D2:D10) -> 12999 | E11: =SUM(E2:E10) -> 3861 | F11: =SUM(F2:F10) -> 19064 | G11: =SUM(G2:G9) -> 49102
A12: Source: Grand Total obtained from the Nepal Economic Census 2018; distributions by sector, size, and regions estimated using block enumeration.

Sheet Table 2 Frame
C1: =RIGHT(SUBSTITUTE('frame fresh and panel'!C1,"_"," "),LEN(SUBSTITUTE('frame fresh and panel'!C1,"_"," "))-1) -> Manufacturing | D1: =RIGHT(SUBSTITUTE('frame fresh and panel'!D1,"_"," "),LEN(SUBSTITUTE('frame fresh and panel'!D1,"_"," "))-1) -> Retail | E1: =RIGHT(SUBSTITUTE('frame fresh and panel'!E1,"_"," "),LEN(SUBSTITUTE('frame fresh and panel'!E1,"_"," "))-1) -> Hotels | F1: =RIGHT(SUBSTITUTE('frame fresh and panel'!F1,"_"," "),LEN(SUBSTITUTE('frame fresh and panel'!F1,"_"," "))-1) -> Other services | G1: =RIGHT(SUBSTITUTE('frame fresh and panel'!G1,"_"," "),LEN(SUBSTITUTE('frame fresh and panel'!G1,"_"," "))-1) -> Grand Total
A2: ='frame fresh and panel'!A2 -> Central | B2: =LEFT('frame fresh and panel'!B2,FIND(")",'frame fresh and panel'!B2)) -> Small (5-19) | C2: ='frame fresh and panel'!C2 -> 595 | D2: ='frame fresh and panel'!D2 -> 446 | E2: ='frame fresh and panel'!E2 -> 260 | F2: ='frame fresh and panel'!F2 -> 1286 | G2: =SUM(C2:F4) -> 3235
A3: ='frame fresh and panel'!A3 -> Central | B3: =LEFT('frame fresh and panel'!B3,FIND(")",'frame fresh and panel'!B3)) -> Medium (20-99) | C3: ='frame fresh and panel'!C3 -> 256 | D3: ='frame fresh and panel'!D3 -> 44 | E3: ='frame fresh and panel'!E3 -> 48 | F3: ='frame fresh and panel'!F3 -> 165
A4: ='frame fresh and panel'!A4 -> Central | B4: =LEFT('frame fresh and panel'!B4,FIND(")",'frame fresh and panel'!B4)) -> Large (100 or more) | C4: ='frame fresh and panel'!C4 -> 109 | D4: ='frame fresh and panel'!D4 -> 7 | E4: ='frame fresh and panel'!E4 -> 7 | F4: ='frame fresh and panel'!F4 -> 12
A5: ='frame fresh and panel'!A5 -> West | B5: =LEFT('frame fresh and panel'!B5,FIND(")",'frame fresh and panel'!B5)) -> Small (5-19) | C5: ='frame fresh and panel'!C5 -> 330 | D5: ='frame fresh and panel'!D5 -> 319 | E5: ='frame fresh and panel'!E5 -> 276 | F5: ='frame fresh and panel'!F5 -> 514 | G5: =SUM(C5:F7) -> 1682
A6: ='frame fresh and panel'!A6 -> West | B6: =LEFT('frame fresh and panel'!B6,FIND(")",'frame fresh and panel'!B6)) -> Medium (20-99) | C6: ='frame fresh and panel'!C6 -> 92 | D6: ='frame fresh and panel'!D6 -> 20 | E6: ='frame fresh and panel'!E6 -> 41 | F6: ='frame fresh and panel'!F6 -> 69
A7: ='frame fresh and panel'!A7 -> West | B7: =LEFT('frame fresh and panel'!B7,FIND(")",'frame fresh and panel'!B7)) -> Large (100 or more) | C7: ='frame fresh and panel'!C7 -> 16 | D7: ='frame fresh and panel'!D7 -> 3 | E7: ='frame fresh and panel'!E7 -> 2 | F7: ='frame fresh and panel'!F7 -> 0
A8: ='frame fresh and panel'!A8 -> East | B8: =LEFT('frame fresh and panel'!B8,FIND(")",'frame fresh and panel'!B8)) -> Small (5-19) | C8: ='frame fresh and panel'!C8 -> 207 | D8: ='frame fresh and panel'!D8 -> 200 | E8: ='frame fresh and panel'!E8 -> 46 | F8: ='frame fresh and panel'!F8 -> 217 | G8: =SUM(C8:F10) -> 820
A9: ='frame fresh and panel'!A9 -> East | B9: =LEFT('frame fresh and panel'!B9,FIND(")",'frame fresh and panel'!B9)) -> Medium (20-99) | C9: ='frame fresh and panel'!C9 -> 77 | D9: ='frame fresh and panel'!D9 -> 8 | E9: ='frame fresh and panel'!E9 -> 7 | F9: ='frame fresh and panel'!F9 -> 21
A10: ='frame fresh and panel'!A10 -> East | B10: =LEFT('frame fresh and panel'!B10,FIND(")",'frame fresh and panel'!B10)) -> Large (100 or more) | C10: ='frame fresh and panel'!C10 -> 34 | D10: ='frame fresh and panel'!D10 -> 3 | E10: ='frame fresh and panel'!E10 -> 0 | F10: ='frame fresh and panel'!F10 -> 0
C11: =SUM(C2:C10) -> 1716 | D11: =SUM(D2:D10) -> 1050 | E11: =SUM(E2:E10) -> 687 | F11: =SUM(F2:F10) -> 2284 | G11: =SUM(G2:G9) -> 5737
A12: Source: Panel establishments from Nepal 2013 ES and Block Enumeration conducted in Banepa, Bhadrapur, Bhaktapur, Bharatpur, Biratnagar, Birendranagar, Birgunj, Butwal, Dhangadi, Hetauda, Itahari, Kathmandu, Lalitpur, Nepalgunj, Pokhara, and Simara in March and April 2023.

Sheet Table 3 Original Survey Design
C1: =RIGHT(SUBSTITUTE('original survey design'!C1,"_"," "),LEN(SUBSTITUTE('original survey design'!C1,"_"," "))-1) -> Manufacturing | D1: =RIGHT(SUBSTITUTE('original survey design'!D1,"_"," "),LEN(SUBSTITUTE('original survey design'!D1,"_"," "))-1) -> Retail | E1: =RIGHT(SUBSTITUTE('original survey design'!E1,"_"," "),LEN(SUBSTITUTE('original survey design'!E1,"_"," "))-1) -> Hotels | F1: =RIGHT(SUBSTITUTE('original survey design'!F1,"_"," "),LEN(SUBSTITUTE('original survey design'!F1,"_"," "))-1) -> Other services | G1: =RIGHT(SUBSTITUTE('original survey design'!G1,"_"," "),LEN(SUBSTITUTE('original survey design'!G1,"_"," "))-1) -> Grand Total
A2: ='original survey design'!A2 -> Central | B2: =LEFT('original survey design'!B2,FIND(")",'original survey design'!B2)) -> Small (5-19) | C2: ='original survey design'!C2 -> 21 | D2: ='original survey design'!D2 -> 39 | E2: ='original survey design'!E2 -> 32 | F2: ='original survey design'!F2 -> 50 | G2: =SUM(C2:F4) -> 300
A3: ='original survey design'!A3 -> Central | B3: =LEFT('original survey design'!B3,FIND(")",'original survey design'!B3)) -> Medium (20-99) | C3: ='original survey design'!C3 -> 37 | D3: ='original survey design'!D3 -> 23 | E3: ='original survey design'!E3 -> 16 | F3: ='original survey design'!F3 -> 23
A4: ='original survey design'!A4 -> Central | B4: =LEFT('original survey design'!B4,FIND(")",'original survey design'!B4)) -> Large (100 or more) | C4: ='original survey design'!C4 -> 46 | D4: ='original survey design'!D4 -> 3 | E4: ='original survey design'!E4 -> 5 | F4: ='original survey design'!F4 -> 5
A5: ='original survey design'!A5 -> West | B5: =LEFT('original survey design'!B5,FIND(")",'original survey design'!B5)) -> Small (5-19) | C5: ='original survey design'!C5 -> 17 | D5: ='original survey design'!D5 -> 27 | E5: ='original survey design'!E5 -> 34 | F5: ='original survey design'!F5 -> 27 | G5: =SUM(C5:F7) -> 180
A6: ='original survey design'!A6 -> West | B6: =LEFT('original survey design'!B6,FIND(")",'original survey design'!B6)) -> Medium (20-99) | C6: ='original survey design'!C6 -> 29 | D6: ='original survey design'!D6 -> 7 | E6: ='original survey design'!E6 -> 14 | F6: ='original survey design'!F6 -> 14
A7: ='original survey design'!A7 -> West | B7: =LEFT('original survey design'!B7,FIND(")",'original survey design'!B7)) -> Large (100 or more) | C7: ='original survey design'!C7 -> 9 | D7: ='original survey design'!D7 -> 1 | E7: ='original survey design'!E7 -> 1 | F7: ='original survey design'!F7 -> 0
A8: ='original survey design'!A8 -> East | B8: =LEFT('original survey design'!B8,FIND(")",'original survey design'!B8)) -> Small (5-19) | C8: ='original survey design'!C8 -> 8 | D8: ='original survey design'!D8 -> 14 | E8: ='original survey design'!E8 -> 15 | F8: ='original survey design'!F8 -> 21 | G8: =SUM(C8:F10) -> 120
A9: ='original survey design'!A9 -> East | B9: =LEFT('original survey design'!B9,FIND(")",'original survey design'!B9)) -> Medium (20-99) | C9: ='original survey design'!C9 -> 30 | D9: ='original survey design'!D9 -> 4 | E9: ='original survey design'!E9 -> 3 | F9: ='original survey design'!F9 -> 10
A10: ='original survey design'!A10 -> East | B10: =LEFT('original survey design'!B10,FIND(")",'original survey design'!B10)) -> Large (100 or more) | C10: ='original survey design'!C10 -> 13 | D10: ='original survey design'!D10 -> 2 | E10: ='original survey design'!E10 -> 0 | F10: ='original survey design'!F10 -> 0
C11: =SUM(C2:C10) -> 210 | D11: =SUM(D2:D10) -> 120 | E11: =SUM(E2:E10) -> 120 | F11: =SUM(F2:F10) -> 150 | G11: =SUM(G2:G9) -> 600

Sheet Table 4 Response Outcomes
D2: Totals | E2: Rates relative to total contacted
B3: Overall | C3: Contacts available in frame | D3: 5737
C4: Issued | D4: 1819
C5: Contacted | D5: 807
B6: Screening phase | C6: Eligibles | D6: 596 | E6: =D6/D$5 -> 0.73853779
C7: Screener refusals | D7: 64 | E7: =D7/D$5 -> 0.079306072
C8: Assumed eligibles | D8: 660 | E8: =D8/D$5 -> 0.81784387
C9: Ineligible + out of target | D9: 110 | E9: =D9/D$5 -> 0.13630731
C10: Unobtainables | D10: 37 | E10: =D10/D$5 -> 0.045848823
B11: Interview phase | C11: Interview refusals | D11: 14 | E11: =D11/D$5 -> 0.017348203
B12: (only if eligible) | C12: Complete interviews | D12: 582 | E12: =D12/D$5 -> 0.72118959

Sheet Table 5 Survey Yield Rates
C2: Stratification | D2: Yield | E2: Survey response rate | F2: Frame quality
B3: Panel | C3: Fresh | D3: =VLOOKUP($C3,'yield calculation'!$C:$F,2,FALSE) -> 0.85201794 | E3: =VLOOKUP($C3,'yield calculation'!$C:$F,3,FALSE) -> 0.87557602 | F3: =VLOOKUP($C3,'yield calculation'!$C:$F,4,FALSE) -> 0.97309417
C4: Panel | D4: =VLOOKUP($C4,'yield calculation'!$C:$F,2,FALSE) -> 0.55955678 | E4: =VLOOKUP($C4,'yield calculation'!$C:$F,3,FALSE) -> 0.89380533 | F4: =VLOOKUP($C4,'yield calculation'!$C:$F,4,FALSE) -> 0.62603879
B5: Size | C5: Small (5-19) | D5: =VLOOKUP($C5,'yield calculation'!$C:$F,2,FALSE) -> 0.69902915 | E5: =VLOOKUP($C5,'yield calculation'!$C:$F,3,FALSE) -> 0.90851736 | F5: =VLOOKUP($C5,'yield calculation'!$C:$F,4,FALSE) -> 0.76941746
C6: Medium (20-99) | D6: =VLOOKUP($C6,'yield calculation'!$C:$F,2,FALSE) -> 0.75636363 | E6: =VLOOKUP($C6,'yield calculation'!$C:$F,3,FALSE) -> 0.8559671 | F6: =VLOOKUP($C6,'yield calculation'!$C:$F,4,FALSE) -> 0.88363636
C7: Large (100+) | D7: =VLOOKUP($C7,'yield calculation'!$C:$F,2,FALSE) -> 0.71666664 | E7: =VLOOKUP($C7,'yield calculation'!$C:$F,3,FALSE) -> 0.86000001 | F7: =VLOOKUP($C7,'yield calculation'!$C:$F,4,FALSE) -> 0.83333331
B8: Region | C8: Central | D8: =VLOOKUP($C8,'yield calculation'!$C:$F,2,FALSE) -> 0.61802578 | E8: =VLOOKUP($C8,'yield calculation'!$C:$F,3,FALSE) -> 0.82285714 | F8: =VLOOKUP($C8,'yield calculation'!$C:$F,4,FALSE) -> 0.75107294
C9: West | D9: =VLOOKUP($C9,'yield calculation'!$C:$F,2,FALSE) -> 0.85784316 | E9: =VLOOKUP($C9,'yield calculation'!$C:$F,3,FALSE) -> 0.94086021 | F9: =VLOOKUP($C9,'yield calculation'!$C:$F,4,FALSE) -> 0.91176468
C10: East | D10: =VLOOKUP($C10,'yield calculation'!$C:$F,2,FALSE) -> 0.86861312 | E10: =VLOOKUP($C10,'yield calculation'!$C:$F,3,FALSE) -> 0.9596774 | F10: =VLOOKUP($C10,'yield calculation'!$C:$F,4,FALSE) -> 0.90510947
B11: Sector | C11: Manufacturing | D11: =VLOOKUP($C11,'yield calculation'!$C:$F,2,FALSE) -> 0.76811594 | E11: =VLOOKUP($C11,'yield calculation'!$C:$F,3,FALSE) -> 0.90987122 | F11: =VLOOKUP($C11,'yield calculation'!$C:$F,4,FALSE) -> 0.84420288
C12: Retail | D12: =VLOOKUP($C12,'yield calculation'!$C:$F,2,FALSE) -> 0.68208092 | E12: =VLOOKUP($C12,'yield calculation'!$C:$F,3,FALSE) -> 0.86131388 | F12: =VLOOKUP($C12,'yield calculation'!$C:$F,4,FALSE) -> 0.79190749
C13: Hotels | D13: =VLOOKUP($C13,'yield calculation'!$C:$F,2,FALSE) -> 0.84892088 | E13: =VLOOKUP($C13,'yield calculation'!$C:$F,3,FALSE) -> 0.9147287 | F13: =VLOOKUP($C13,'yield calculation'!$C:$F,4,FALSE) -> 0.92805755
C14: Other Services | D14: =VLOOKUP($C14,'yield calculation'!$C:$F,2,FALSE) -> 0.61187214 | E14: =VLOOKUP($C14,'yield calculation'!$C:$F,3,FALSE) -> 0.83229816 | F14: =VLOOKUP($C14,'yield calculation'!$C:$F,4,FALSE) -> 0.73515981
B15: Overall | C15: Nepal 2023 | D15: =VLOOKUP($C15,'yield calculation'!$C:$F,2,FALSE) -> 0.72118962 | E15: =VLOOKUP($C15,'yield calculation'!$C:$F,3,FALSE) -> 0.88181818 | F15: =VLOOKUP($C15,'yield calculation'!$C:$F,4,FALSE) -> 0.81784385
B16: Notes: the rates are calculated as defined in Section III.4

Sheet Table 6 Achieved Total Sample 
C1: =RIGHT(SUBSTITUTE('achieved fresh and panel'!C1,"_"," "),LEN(SUBSTITUTE('achieved fresh and panel'!C1,"_"," "))-1) -> Manufacturing | D1: =RIGHT(SUBSTITUTE('achieved fresh and panel'!D1,"_"," "),LEN(SUBSTITUTE('achieved fresh and panel'!D1,"_"," "))-1) -> Retail | E1: =RIGHT(SUBSTITUTE('achieved fresh and panel'!E1,"_"," "),LEN(SUBSTITUTE('achieved fresh and panel'!E1,"_"," "))-1) -> Hotels | F1: =RIGHT(SUBSTITUTE('achieved fresh and panel'!F1,"_"," "),LEN(SUBSTITUTE('achieved fresh and panel'!F1,"_"," "))-1) -> Other services | G1: =RIGHT(SUBSTITUTE('achieved fresh and panel'!G1,"_"," "),LEN(SUBSTITUTE('achieved fresh and panel'!G1,"_"," "))-1) -> Grand Total
A2: ='achieved fresh and panel'!A2 -> Central | B2: =LEFT('achieved fresh and panel'!B2,FIND(")",'achieved fresh and panel'!B2)) -> Small (5-19) | C2: ='achieved fresh and panel'!C2 -> 21 | D2: ='achieved fresh and panel'!D2 -> 40 | E2: ='achieved fresh and panel'!E2 -> 28 | F2: ='achieved fresh and panel'!F2 -> 41 | G2: =SUM(C2:F4) -> 288
A3: ='achieved fresh and panel'!A3 -> Central | B3: =LEFT('achieved fresh and panel'!B3,FIND(")",'achieved fresh and panel'!B3)) -> Medium (20-99) | C3: ='achieved fresh and panel'!C3 -> 39 | D3: ='achieved fresh and panel'!D3 -> 17 | E3: ='achieved fresh and panel'!E3 -> 19 | F3: ='achieved fresh and panel'!F3 -> 23
A4: ='achieved fresh and panel'!A4 -> Central | B4: =LEFT('achieved fresh and panel'!B4,FIND(")",'achieved fresh and panel'!B4)) -> Large (100 or more) | C4: ='achieved fresh and panel'!C4 -> 46 | D4: ='achieved fresh and panel'!D4 -> 4 | E4: ='achieved fresh and panel'!E4 -> 4 | F4: ='achieved fresh and panel'!F4 -> 6
A5: ='achieved fresh and panel'!A5 -> West | B5: =LEFT('achieved fresh and panel'!B5,FIND(")",'achieved fresh and panel'!B5)) -> Small (5-19) | C5: ='achieved fresh and panel'!C5 -> 18 | D5: ='achieved fresh and panel'!D5 -> 26 | E5: ='achieved fresh and panel'!E5 -> 32 | F5: ='achieved fresh and panel'!F5 -> 25 | G5: =SUM(C5:F7) -> 175
A6: ='achieved fresh and panel'!A6 -> West | B6: =LEFT('achieved fresh and panel'!B6,FIND(")",'achieved fresh and panel'!B6)) -> Medium (20-99) | C6: ='achieved fresh and panel'!C6 -> 29 | D6: ='achieved fresh and panel'!D6 -> 7 | E6: ='achieved fresh and panel'!E6 -> 14 | F6: ='achieved fresh and panel'!F6 -> 13
A7: ='achieved fresh and panel'!A7 -> West | B7: =LEFT('achieved fresh and panel'!B7,FIND(")",'achieved fresh and panel'!B7)) -> Large (100 or more) | C7: ='achieved fresh and panel'!C7 -> 8 | D7: ='achieved fresh and panel'!D7 -> 1 | E7: ='achieved fresh and panel'!E7 -> 2 | F7: ='achieved fresh and panel'!F7 -> 0
A8: ='achieved fresh and panel'!A8 -> East | B8: =LEFT('achieved fresh and panel'!B8,FIND(")",'achieved fresh and panel'!B8)) -> Small (5-19) | C8: ='achieved fresh and panel'!C8 -> 7 | D8: ='achieved fresh and panel'!D8 -> 16 | E8: ='achieved fresh and panel'!E8 -> 16 | F8: ='achieved fresh and panel'!F8 -> 18 | G8: =SUM(C8:F10) -> 119
A9: ='achieved fresh and panel'!A9 -> East | B9: =LEFT('achieved fresh and panel'!B9,FIND(")",'achieved fresh and panel'!B9)) -> Medium (20-99) | C9: ='achieved fresh and panel'!C9 -> 32 | D9: ='achieved fresh and panel'!D9 -> 4 | E9: ='achieved fresh and panel'!E9 -> 3 | F9: ='achieved fresh and panel'!F9 -> 8
A10: ='achieved fresh and panel'!A10 -> East | B10: =LEFT('achieved fresh and panel'!B10,FIND(")",'achieved fresh and panel'!B10)) -> Large (100 or more) | C10: ='achieved fresh and panel'!C10 -> 12 | D10: ='achieved fresh and panel'!D10 -> 3 | E10: ='achieved fresh and panel'!E10 -> 0 | F10: ='achieved fresh and panel'!F10 -> 0
C11: =SUM(C2:C10) -> 212 | D11: =SUM(D2:D10) -> 118 | E11: =SUM(E2:E10) -> 118 | F11: =SUM(F2:F10) -> 134 | G11: =SUM(G2:G9) -> 582

Sheet Table 7 Achieved Panel Sample
C1: =RIGHT(SUBSTITUTE('achieved panel'!C1,"_"," "),LEN(SUBSTITUTE('achieved panel'!C1,"_"," "))-1) -> Manufacturing | D1: =RIGHT(SUBSTITUTE('achieved panel'!D1,"_"," "),LEN(SUBSTITUTE('achieved panel'!D1,"_"," "))-1) -> Retail | E1: =RIGHT(SUBSTITUTE('achieved panel'!E1,"_"," "),LEN(SUBSTITUTE('achieved panel'!E1,"_"," "))-1) -> Hotels | F1: =RIGHT(SUBSTITUTE('achieved panel'!F1,"_"," "),LEN(SUBSTITUTE('achieved panel'!F1,"_"," "))-1) -> Other services | G1: =RIGHT(SUBSTITUTE('achieved panel'!G1,"_"," "),LEN(SUBSTITUTE('achieved panel'!G1,"_"," "))-1) -> Grand Total
A2: ='achieved panel'!A2 -> Central | B2: =LEFT('achieved panel'!B2,FIND(")",'achieved panel'!B2)) -> Small (5-19) | C2: ='achieved panel'!C2 -> 7 | D2: ='achieved panel'!D2 -> 23 | E2: ='achieved panel'!E2 -> 3 | F2: ='achieved panel'!F2 -> 16 | G2: =SUM(C2:F4) -> 121
A3: ='achieved panel'!A3 -> Central | B3: =LEFT('achieved panel'!B3,FIND(")",'achieved panel'!B3)) -> Medium (20-99) | C3: ='achieved panel'!C3 -> 25 | D3: ='achieved panel'!D3 -> 7 | E3: ='achieved panel'!E3 -> 1 | F3: ='achieved panel'!F3 -> 9
A4: ='achieved panel'!A4 -> Central | B4: =LEFT('achieved panel'!B4,FIND(")",'achieved panel'!B4)) -> Large (100 or more) | C4: ='achieved panel'!C4 -> 25 | D4: ='achieved panel'!D4 -> 0 | E4: ='achieved panel'!E4 -> 3 | F4: ='achieved panel'!F4 -> 2
A5: ='achieved panel'!A5 -> West | B5: =LEFT('achieved panel'!B5,FIND(")",'achieved panel'!B5)) -> Small (5-19) | C5: ='achieved panel'!C5 -> 4 | D5: ='achieved panel'!D5 -> 10 | E5: ='achieved panel'!E5 -> 7 | F5: ='achieved panel'!F5 -> 4 | G5: =SUM(C5:F7) -> 56
A6: ='achieved panel'!A6 -> West | B6: =LEFT('achieved panel'!B6,FIND(")",'achieved panel'!B6)) -> Medium (20-99) | C6: ='achieved panel'!C6 -> 25 | D6: ='achieved panel'!D6 -> 1 | E6: ='achieved panel'!E6 -> 1 | F6: ='achieved panel'!F6 -> 0
A7: ='achieved panel'!A7 -> West | B7: =LEFT('achieved panel'!B7,FIND(")",'achieved panel'!B7)) -> Large (100 or more) | C7: ='achieved panel'!C7 -> 4 | D7: ='achieved panel'!D7 -> 0 | E7: ='achieved panel'!E7 -> 0 | F7: ='achieved panel'!F7 -> 0
A8: ='achieved panel'!A8 -> East | B8: =LEFT('achieved panel'!B8,FIND(")",'achieved panel'!B8)) -> Small (5-19) | C8: ='achieved panel'!C8 -> 0 | D8: ='achieved panel'!D8 -> 5 | E8: ='achieved panel'!E8 -> 1 | F8: ='achieved panel'!F8 -> 5 | G8: =SUM(C8:F10) -> 25
A9: ='achieved panel'!A9 -> East | B9: =LEFT('achieved panel'!B9,FIND(")",'achieved panel'!B9)) -> Medium (20-99) | C9: ='achieved panel'!C9 -> 7 | D9: ='achieved panel'!D9 -> 1 | E9: ='achieved panel'!E9 -> 0 | F9: ='achieved panel'!F9 -> 3
A10: ='achieved panel'!A10 -> East | B10: =LEFT('achieved panel'!B10,FIND(")",'achieved panel'!B10)) -> Large (100 or more) | C10: ='achieved panel'!C10 -> 2 | D10: ='achieved panel'!D10 -> 1 | E10: ='achieved panel'!E10 -> 0 | F10: ='achieved panel'!F10 -> 0
C11: =SUM(C2:C10) -> 99 | D11: =SUM(D2:D10) -> 48 | E11: =SUM(E2:E10) -> 16 | F11: =SUM(F2:F10) -> 39 | G11: =SUM(G2:G9) -> 202

Sheet Table 8 Weak Universe Estimates
C1: =RIGHT(SUBSTITUTE(universe_weak!C1,"_"," "),LEN(SUBSTITUTE(universe_weak!C1,"_"," "))-1) -> Manufacturing | D1: =RIGHT(SUBSTITUTE(universe_weak!D1,"_"," "),LEN(SUBSTITUTE(universe_weak!D1,"_"," "))-1) -> Retail | E1: =RIGHT(SUBSTITUTE(universe_weak!E1,"_"," "),LEN(SUBSTITUTE(universe_weak!E1,"_"," "))-1) -> Hotels | F1: =RIGHT(SUBSTITUTE(universe_weak!F1,"_"," "),LEN(SUBSTITUTE(universe_weak!F1,"_"," "))-1) -> Other services | G1: =RIGHT(SUBSTITUTE(universe_weak!G1,"_"," "),LEN(SUBSTITUTE(universe_weak!G1,"_"," "))-1) -> Grand Total
A2: =universe_weak!A2 -> Central | B2: =LEFT(universe_weak!B2,FIND(")",universe_weak!B2)) -> Small (5-19) | C2: =ROUND(universe_weak!C2,0) -> 3498 | D2: =ROUND(universe_weak!D2,0) -> 4983 | E2: =ROUND(universe_weak!E2,0) -> 823 | F2: =ROUND(universe_weak!F2,0) -> 7361 | G2: =SUM(C2:F4) -> 20082
A3: =universe_weak!A3 -> Central | B3: =LEFT(universe_weak!B3,FIND(")",universe_weak!B3)) -> Medium (20-99) | C3: =ROUND(universe_weak!C3,0) -> 1268 | D3: =ROUND(universe_weak!D3,0) -> 427 | E3: =ROUND(universe_weak!E3,0) -> 147 | F3: =ROUND(universe_weak!F3,0) -> 908
A4: =universe_weak!A4 -> Central | B4: =LEFT(universe_weak!B4,FIND(")",universe_weak!B4)) -> Large (100 or more) | C4: =ROUND(universe_weak!C4,0) -> 511 | D4: =ROUND(universe_weak!D4,0) -> 82 | E4: =ROUND(universe_weak!E4,0) -> 12 | F4: =ROUND(universe_weak!F4,0) -> 62
A5: =universe_weak!A5 -> West | B5: =LEFT(universe_weak!B5,FIND(")",universe_weak!B5)) -> Small (5-19) | C5: =ROUND(universe_weak!C5,0) -> 3957 | D5: =ROUND(universe_weak!D5,0) -> 4677 | E5: =ROUND(universe_weak!E5,0) -> 1891 | F5: =ROUND(universe_weak!F5,0) -> 6022 | G5: =SUM(C5:F7) -> 19112
A6: =universe_weak!A6 -> West | B6: =LEFT(universe_weak!B6,FIND(")",universe_weak!B6)) -> Medium (20-99) | C6: =ROUND(universe_weak!C6,0) -> 925 | D6: =ROUND(universe_weak!D6,0) -> 303 | E6: =ROUND(universe_weak!E6,0) -> 285 | F6: =ROUND(universe_weak!F6,0) -> 828
A7: =universe_weak!A7 -> West | B7: =LEFT(universe_weak!B7,FIND(")",universe_weak!B7)) -> Large (100 or more) | C7: =ROUND(universe_weak!C7,0) -> 152 | D7: =ROUND(universe_weak!D7,0) -> 59 | E7: =ROUND(universe_weak!E7,0) -> 13 | F7: =ROUND(universe_weak!F7,0) -> 0
A8: =universe_weak!A8 -> East | B8: =LEFT(universe_weak!B8,FIND(")",universe_weak!B8)) -> Small (5-19) | C8: =ROUND(universe_weak!C8,0) -> 1918 | D8: =ROUND(universe_weak!D8,0) -> 2346 | E8: =ROUND(universe_weak!E8,0) -> 597 | F8: =ROUND(universe_weak!F8,0) -> 3632 | G8: =SUM(C8:F10) -> 9912
A9: =universe_weak!A9 -> East | B9: =LEFT(universe_weak!B9,FIND(")",universe_weak!B9)) -> Medium (20-99) | C9: =ROUND(universe_weak!C9,0) -> 668 | D9: =ROUND(universe_weak!D9,0) -> 85 | E9: =ROUND(universe_weak!E9,0) -> 96 | F9: =ROUND(universe_weak!F9,0) -> 251
A10: =universe_weak!A10 -> East | B10: =LEFT(universe_weak!B10,FIND(")",universe_weak!B10)) -> Large (100 or more) | C10: =ROUND(universe_weak!C10,0) -> 281 | D10: =ROUND(universe_weak!D10,0) -> 38 | E10: =ROUND(universe_weak!E10,0) -> 0 | F10: =ROUND(universe_weak!F10,0) -> 0
C11: =SUM(C2:C10) -> 13178 | D11: =SUM(D2:D10) -> 13000 | E11: =SUM(E2:E10) -> 3864 | F11: =SUM(F2:F10) -> 19064 | G11: =SUM(G2:G9) -> 49106

Sheet Table 9 Median Universe Est
C1: =RIGHT(SUBSTITUTE(universe_median!C1,"_"," "),LEN(SUBSTITUTE(universe_median!C1,"_"," "))-1) -> Manufacturing | D1: =RIGHT(SUBSTITUTE(universe_median!D1,"_"," "),LEN(SUBSTITUTE(universe_median!D1,"_"," "))-1) -> Retail | E1: =RIGHT(SUBSTITUTE(universe_median!E1,"_"," "),LEN(SUBSTITUTE(universe_median!E1,"_"," "))-1) -> Hotels | F1: =RIGHT(SUBSTITUTE(universe_median!F1,"_"," "),LEN(SUBSTITUTE(universe_median!F1,"_"," "))-1) -> Other services | G1: =RIGHT(SUBSTITUTE(universe_median!G1,"_"," "),LEN(SUBSTITUTE(universe_median!G1,"_"," "))-1) -> Grand Total
A2: =universe_median!A2 -> Central | B2: =LEFT(universe_median!B2,FIND(")",universe_median!B2)) -> Small (5-19) | C2: =ROUND(universe_median!C2,0) -> 3498 | D2: =ROUND(universe_median!D2,0) -> 4983 | E2: =ROUND(universe_median!E2,0) -> 823 | F2: =ROUND(universe_median!F2,0) -> 7361 | G2: =SUM(C2:F4) -> 20082
A3: =universe_median!A3 -> Central | B3: =LEFT(universe_median!B3,FIND(")",universe_median!B3)) -> Medium (20-99) | C3: =ROUND(universe_median!C3,0) -> 1268 | D3: =ROUND(universe_median!D3,0) -> 427 | E3: =ROUND(universe_median!E3,0) -> 147 | F3: =ROUND(universe_median!F3,0) -> 908
A4: =universe_median!A4 -> Central | B4: =LEFT(universe_median!B4,FIND(")",universe_median!B4)) -> Large (100 or more) | C4: =ROUND(universe_median!C4,0) -> 511 | D4: =ROUND(universe_median!D4,0) -> 82 | E4: =ROUND(universe_median!E4,0) -> 12 | F4: =ROUND(universe_median!F4,0) -> 62
A5: =universe_median!A5 -> West | B5: =LEFT(universe_median!B5,FIND(")",universe_median!B5)) -> Small (5-19) | C5: =ROUND(universe_median!C5,0) -> 3957 | D5: =ROUND(universe_median!D5,0) -> 4677 | E5: =ROUND(universe_median!E5,0) -> 1890 | F5: =ROUND(universe_median!F5,0) -> 6022 | G5: =SUM(C5:F7) -> 19111
A6: =universe_median!A6 -> West | B6: =LEFT(universe_median!B6,FIND(")",universe_median!B6)) -> Medium (20-99) | C6: =ROUND(universe_median!C6,0) -> 925 | D6: =ROUND(universe_median!D6,0) -> 303 | E6: =ROUND(universe_median!E6,0) -> 285 | F6: =ROUND(universe_median!F6,0) -> 828
A7: =universe_median!A7 -> West | B7: =LEFT(universe_median!B7,FIND(")",universe_median!B7)) -> Large (100 or more) | C7: =ROUND(universe_median!C7,0) -> 152 | D7: =ROUND(universe_median!D7,0) -> 59 | E7: =ROUND(universe_median!E7,0) -> 13 | F7: =ROUND(universe_median!F7,0) -> 0
A8: =universe_median!A8 -> East | B8: =LEFT(universe_median!B8,FIND(")",universe_median!B8)) -> Small (5-19) | C8: =ROUND(universe_median!C8,0) -> 1918 | D8: =ROUND(universe_median!D8,0) -> 2346 | E8: =ROUND(universe_median!E8,0) -> 597 | F8: =ROUND(universe_median!F8,0) -> 3632 | G8: =SUM(C8:F10) -> 9912
A9: =universe_median!A9 -> East | B9: =LEFT(universe_median!B9,FIND(")",universe_median!B9)) -> Medium (20-99) | C9: =ROUND(universe_median!C9,0) -> 668 | D9: =ROUND(universe_median!D9,0) -> 85 | E9: =ROUND(universe_median!E9,0) -> 96 | F9: =ROUND(universe_median!F9,0) -> 251
A10: =universe_median!A10 -> East | B10: =LEFT(universe_median!B10,FIND(")",universe_median!B10)) -> Large (100 or more) | C10: =ROUND(universe_median!C10,0) -> 281 | D10: =ROUND(universe_median!D10,0) -> 38 | E10: =ROUND(universe_median!E10,0) -> 0 | F10: =ROUND(universe_median!F10,0) -> 0
C11: =SUM(C2:C10) -> 13178 | D11: =SUM(D2:D10) -> 13000 | E11: =SUM(E2:E10) -> 3863 | F11: =SUM(F2:F10) -> 19064 | G11: =SUM(G2:G10) -> 49105

Sheet Table 10 Strict Universe Est
C1: =RIGHT(SUBSTITUTE(universe_strict!C1,"_"," "),LEN(SUBSTITUTE(universe_strict!C1,"_"," "))-1) -> Manufacturing | D1: =RIGHT(SUBSTITUTE(universe_strict!D1,"_"," "),LEN(SUBSTITUTE(universe_strict!D1,"_"," "))-1) -> Retail | E1: =RIGHT(SUBSTITUTE(universe_strict!E1,"_"," "),LEN(SUBSTITUTE(universe_strict!E1,"_"," "))-1) -> Hotels | F1: =RIGHT(SUBSTITUTE(universe_strict!F1,"_"," "),LEN(SUBSTITUTE(universe_strict!F1,"_"," "))-1) -> Other services | G1: =RIGHT(SUBSTITUTE(universe_strict!G1,"_"," "),LEN(SUBSTITUTE(universe_strict!G1,"_"," "))-1) -> Grand Total
A2: =universe_strict!A2 -> Central | B2: =LEFT(universe_strict!B2,FIND(")",universe_strict!B2)) -> Small (5-19) | C2: =ROUND(universe_strict!C2,0) -> 3498 | D2: =ROUND(universe_strict!D2,0) -> 4983 | E2: =ROUND(universe_strict!E2,0) -> 823 | F2: =ROUND(universe_strict!F2,0) -> 7361 | G2: =SUM(C2:F4) -> 20082
A3: =universe_strict!A3 -> Central | B3: =LEFT(universe_strict!B3,FIND(")",universe_strict!B3)) -> Medium (20-99) | C3: =ROUND(universe_strict!C3,0) -> 1268 | D3: =ROUND(universe_strict!D3,0) -> 427 | E3: =ROUND(universe_strict!E3,0) -> 147 | F3: =ROUND(universe_strict!F3,0) -> 908
A4: =universe_strict!A4 -> Central | B4: =LEFT(universe_strict!B4,FIND(")",universe_strict!B4)) -> Large (100 or more) | C4: =ROUND(universe_strict!C4,0) -> 511 | D4: =ROUND(universe_strict!D4,0) -> 82 | E4: =ROUND(universe_strict!E4,0) -> 12 | F4: =ROUND(universe_strict!F4,0) -> 62
A5: =universe_strict!A5 -> West | B5: =LEFT(universe_strict!B5,FIND(")",universe_strict!B5)) -> Small (5-19) | C5: =ROUND(universe_strict!C5,0) -> 3957 | D5: =ROUND(universe_strict!D5,0) -> 4677 | E5: =ROUND(universe_strict!E5,0) -> 1890 | F5: =ROUND(universe_strict!F5,0) -> 6022 | G5: =SUM(C5:F7) -> 19111
A6: =universe_strict!A6 -> West | B6: =LEFT(universe_strict!B6,FIND(")",universe_strict!B6)) -> Medium (20-99) | C6: =ROUND(universe_strict!C6,0) -> 925 | D6: =ROUND(universe_strict!D6,0) -> 303 | E6: =ROUND(universe_strict!E6,0) -> 285 | F6: =ROUND(universe_strict!F6,0) -> 828
A7: =universe_strict!A7 -> West | B7: =LEFT(universe_strict!B7,FIND(")",universe_strict!B7)) -> Large (100 or more) | C7: =ROUND(universe_strict!C7,0) -> 152 | D7: =ROUND(universe_strict!D7,0) -> 59 | E7: =ROUND(universe_strict!E7,0) -> 13 | F7: =ROUND(universe_strict!F7,0) -> 0
A8: =universe_strict!A8 -> East | B8: =LEFT(universe_strict!B8,FIND(")",universe_strict!B8)) -> Small (5-19) | C8: =ROUND(universe_strict!C8,0) -> 1918 | D8: =ROUND(universe_strict!D8,0) -> 2346 | E8: =ROUND(universe_strict!E8,0) -> 597 | F8: =ROUND(universe_strict!F8,0) -> 3632 | G8: =SUM(C8:F10) -> 9912
A9: =universe_strict!A9 -> East | B9: =LEFT(universe_strict!B9,FIND(")",universe_strict!B9)) -> Medium (20-99) | C9: =ROUND(universe_strict!C9,0) -> 668 | D9: =ROUND(universe_strict!D9,0) -> 85 | E9: =ROUND(universe_strict!E9,0) -> 96 | F9: =ROUND(universe_strict!F9,0) -> 251
A10: =universe_strict!A10 -> East | B10: =LEFT(universe_strict!B10,FIND(")",universe_strict!B10)) -> Large (100 or more) | C10: =ROUND(universe_strict!C10,0) -> 281 | D10: =ROUND(universe_strict!D10,0) -> 38 | E10: =ROUND(universe_strict!E10,0) -> 0 | F10: =ROUND(universe_strict!F10,0) -> 0
C11: =SUM(C2:C10) -> 13178 | D11: =SUM(D2:D10) -> 13000 | E11: =SUM(E2:E10) -> 3863 | F11: =SUM(F2:F10) -> 19064 | G11: =SUM(G2:G10) -> 49105

Sheet Table 11 Item Response Rates
C2: Screener/Interview | D2: d2 | E2: l1 | F2: n2a | G2: all TFP variables
B3: Panel | C3: Fresh | D3: =VLOOKUP($C3,'item response'!$C:$G,2,FALSE) -> 0.99473685 | E3: =VLOOKUP($C3,'item response'!$C:$G,3,FALSE) -> 1 | F3: =VLOOKUP($C3,'item response'!$C:$G,4,FALSE) -> 0.99210525 | G3: =VLOOKUP($C3,'item response'!$C:$G,5,FALSE) -> 0.96460176
C4: Panel | D4: =VLOOKUP($C4,'item response'!$C:$G,2,FALSE) -> 1 | E4: =VLOOKUP($C4,'item response'!$C:$G,3,FALSE) -> 1 | F4: =VLOOKUP($C4,'item response'!$C:$G,4,FALSE) -> 1 | G4: =VLOOKUP($C4,'item response'!$C:$G,5,FALSE) -> 0.96938777
B5: Size | C5: Small (5-19) | D5: =VLOOKUP($C5,'item response'!$C:$G,2,FALSE) -> 1 | E5: =VLOOKUP($C5,'item response'!$C:$G,3,FALSE) -> 1 | F5: =VLOOKUP($C5,'item response'!$C:$G,4,FALSE) -> 1 | G5: =VLOOKUP($C5,'item response'!$C:$G,5,FALSE) -> 1
C6: Medium (20-99) | D6: =VLOOKUP($C6,'item response'!$C:$G,2,FALSE) -> 1 | E6: =VLOOKUP($C6,'item response'!$C:$G,3,FALSE) -> 1 | F6: =VLOOKUP($C6,'item response'!$C:$G,4,FALSE) -> 0.99470901 | G6: =VLOOKUP($C6,'item response'!$C:$G,5,FALSE) -> 1
C7: Large (100+) | D7: =VLOOKUP($C7,'item response'!$C:$G,2,FALSE) -> 0.97826087 | E7: =VLOOKUP($C7,'item response'!$C:$G,3,FALSE) -> 1 | F7: =VLOOKUP($C7,'item response'!$C:$G,4,FALSE) -> 0.97826087 | G7: =VLOOKUP($C7,'item response'!$C:$G,5,FALSE) -> 0.89705884
B8: Region | C8: Central | D8: =VLOOKUP($C8,'item response'!$C:$G,2,FALSE) -> 0.99305558 | E8: =VLOOKUP($C8,'item response'!$C:$G,3,FALSE) -> 1 | F8: =VLOOKUP($C8,'item response'!$C:$G,4,FALSE) -> 0.98958331 | G8: =VLOOKUP($C8,'item response'!$C:$G,5,FALSE) -> 0.93333334
C9: West | D9: =VLOOKUP($C9,'item response'!$C:$G,2,FALSE) -> 1 | E9: =VLOOKUP($C9,'item response'!$C:$G,3,FALSE) -> 1 | F9: =VLOOKUP($C9,'item response'!$C:$G,4,FALSE) -> 1 | G9: =VLOOKUP($C9,'item response'!$C:$G,5,FALSE) -> 1
C10: East | D10: =VLOOKUP($C10,'item response'!$C:$G,2,FALSE) -> 1 | E10: =VLOOKUP($C10,'item response'!$C:$G,3,FALSE) -> 1 | F10: =VLOOKUP($C10,'item response'!$C:$G,4,FALSE) -> 1 | G10: =VLOOKUP($C10,'item response'!$C:$G,5,FALSE) -> 1
B11: Sector | C11: Manufacturing | D11: =VLOOKUP($C11,'item response'!$C:$G,2,FALSE) -> 0.99534881 | E11: =VLOOKUP($C11,'item response'!$C:$G,3,FALSE) -> 1 | F11: =VLOOKUP($C11,'item response'!$C:$G,4,FALSE) -> 0.99534881 | G11: =VLOOKUP($C11,'item response'!$C:$G,5,FALSE) -> 0.96666664
C12: Retail | D12: =VLOOKUP($C12,'item response'!$C:$G,2,FALSE) -> 1 | E12: =VLOOKUP($C12,'item response'!$C:$G,3,FALSE) -> 1 | F12: =VLOOKUP($C12,'item response'!$C:$G,4,FALSE) -> 1 | G12: =VLOOKUP($C12,'item response'!$C:$G,5,FALSE) -> 0
C13: Hotels | D13: =VLOOKUP($C13,'item response'!$C:$G,2,FALSE) -> 1 | E13: =VLOOKUP($C13,'item response'!$C:$G,3,FALSE) -> 1 | F13: =VLOOKUP($C13,'item response'!$C:$G,4,FALSE) -> 1 | G13: =VLOOKUP($C13,'item response'!$C:$G,5,FALSE) -> 0
C14: Other Services | D14: =VLOOKUP($C14,'item response'!$C:$G,2,FALSE) -> 0.994012 | E14: =VLOOKUP($C14,'item response'!$C:$G,3,FALSE) -> 1 | F14: =VLOOKUP($C14,'item response'!$C:$G,4,FALSE) -> 0.98802394 | G14: =VLOOKUP($C14,'item response'!$C:$G,5,FALSE) -> 1
B15: Overall | C15: Nepal 2023 | D15: =VLOOKUP($C15,'item response'!$C:$G,2,FALSE) -> 0.99656355 | E15: =VLOOKUP($C15,'item response'!$C:$G,3,FALSE) -> 1 | F15: =VLOOKUP($C15,'item response'!$C:$G,4,FALSE) -> 0.99484539 | G15: =VLOOKUP($C15,'item response'!$C:$G,5,FALSE) -> 0.96682465
B16: Notes: the rates are calculated as follows. The number of responses with informative content in the respective variable (or combination of variables in the case of TFP) is divided by the same number plus the number of responses that are "don't know" (code -9) or refusal (code -8).

Sheet universe
A1: stratificationregionname | B1: stratificationsizename | C1: _Manufacturing | D1: _Retail | E1: _Hotels | F1: _Other_services | G1: _Grand_Total
A2: Central | B2: Small (5-19) | C2: 3498 | D2: 4983 | E2: 823 | F2: 7361
A3: Central | B3: Medium (20-99) | C3: 1268 | D3: 426 | E3: 147 | F3: 908
A4: Central | B4: Large (100 or more) | C4: 511 | D4: 82 | E4: 10 | F4: 62
A5: West | B5: Small (5-19) | C5: 3957 | D5: 4677 | E5: 1890 | F5: 6022
A6: West | B6: Medium (20-99) | C6: 925 | D6: 303 | E6: 285 | F6: 828
A7: West | B7: Large (100 or more) | C7: 152 | D7: 59 | E7: 13 | F7: 0
A8: East | B8: Small (5-19) | C8: 1918 | D8: 2346 | E8: 597 | F8: 3632
A9: East | B9: Medium (20-99) | C9: 668 | D9: 85 | E9: 96 | F9: 251
A10: East | B10: Large (100 or more) | C10: 281 | D10: 38 | E10: 0 | F10: 0

Sheet frame fresh and panel
A1: stratificationregionname | B1: stratificationsizename | C1: _Manufacturing | D1: _Retail | E1: _Hotels | F1: _Other_services | G1: _Grand_Total
A2: Central | B2: Small (5-19) | C2: 595 | D2: 446 | E2: 260 | F2: 1286
A3: Central | B3: Medium (20-99) | C3: 256 | D3: 44 | E3: 48 | F3: 165
A4: Central | B4: Large (100 or more) | C4: 109 | D4: 7 | E4: 7 | F4: 12
A5: West | B5: Small (5-19) | C5: 330 | D5: 319 | E5: 276 | F5: 514
A6: West | B6: Medium (20-99) | C6: 92 | D6: 20 | E6: 41 | F6: 69
A7: West | B7: Large (100 or more) | C7: 16 | D7: 3 | E7: 2
A8: East | B8: Small (5-19) | C8: 207 | D8: 200 | E8: 46 | F8: 217
A9: East | B9: Medium (20-99) | C9: 77 | D9: 8 | E9: 7 | F9: 21
A10: East | B10: Large (100 or more) | C10: 34 | D10: 3

Sheet original survey design
A1: stratificationregionname | B1: stratificationsizename | C1: _Manufacturing | D1: _Retail | E1: _Hotels | F1: _Other_services | G1: _Grand_Total
A2: Central | B2: Small (5-19) | C2: 21 | D2: 39 | E2: 32 | F2: 50
A3: Central | B3: Medium (20-99) | C3: 37 | D3: 23 | E3: 16 | F3: 23
A4: Central | B4: Large (100 or more) | C4: 46 | D4: 3 | E4: 5 | F4: 5
A5: West | B5: Small (5-19) | C5: 17 | D5: 27 | E5: 34 | F5: 27
A6: West | B6: Medium (20-99) | C6: 29 | D6: 7 | E6: 14 | F6: 14
A7: West | B7: Large (100 or more) | C7: 9 | D7: 1 | E7: 1 | F7: 0
A8: East | B8: Small (5-19) | C8: 8 | D8: 14 | E8: 15 | F8: 21
A9: East | B9: Medium (20-99) | C9: 30 | D9: 4 | E9: 3 | F9: 10
A10: East | B10: Large (100 or more) | C10: 13 | D10: 2 | E10: 0 | F10: 0

Sheet yield calculation
A1: Survey | B1: Cell | C1: Name | D1: Yield | E1: Survey_response_rate | F1: Frame_quality
A2: Nepal 2023 | B2: Fresh/Panel | C2: Fresh | D2: 0.85201794 | E2: 0.87557602 | F2: 0.97309417
A3: Nepal 2023 | B3: Fresh/Panel | C3: Panel | D3: 0.55955678 | E3: 0.89380533 | F3: 0.62603879
A4: Nepal 2023 | B4: Size | C4: Small (5-19) | D4: 0.69902915 | E4: 0.90851736 | F4: 0.76941746
A5: Nepal 2023 | B5: Size | C5: Medium (20-99) | D5: 0.75636363 | E5: 0.8559671 | F5: 0.88363636
A6: Nepal 2023 | B6: Size | C6: Large (100+) | D6: 0.71666664 | E6: 0.86000001 | F6: 0.83333331
A7: Nepal 2023 | B7: Region | C7: Central | D7: 0.61802578 | E7: 0.82285714 | F7: 0.75107294
A8: Nepal 2023 | B8: Region | C8: West | D8: 0.85784316 | E8: 0.94086021 | F8: 0.91176468
A9: Nepal 2023 | B9: Region | C9: East | D9: 0.86861312 | E9: 0.9596774 | F9: 0.90510947
A10: Nepal 2023 | B10: Sector | C10: Manufacturing | D10: 0.76811594 | E10: 0.90987122 | F10: 0.84420288
A11: Nepal 2023 | B11: Sector | C11: Retail | D11: 0.68208092 | E11: 0.86131388 | F11: 0.79190749
A12: Nepal 2023 | B12: Sector | C12: Hotels | D12: 0.84892088 | E12: 0.9147287 | F12: 0.92805755
A13: Nepal 2023 | B13: Sector | C13: Other services | D13: 0.61187214 | E13: 0.83229816 | F13: 0.73515981
A14: Nepal 2023 | B14: Nepal 2023 | C14: Nepal 2023 | D14: 0.72118962 | E14: 0.88181818 | F14: 0.81784385

Sheet achieved fresh and panel
A1: stratificationregionname | B1: stratificationsizename | C1: _Manufacturing | D1: _Retail | E1: _Hotels | F1: _Other_services | G1: _Grand_Total
A2: Central | B2: Small (5-19) | C2: 21 | D2: 40 | E2: 28 | F2: 41
A3: Central | B3: Medium (20-99) | C3: 39 | D3: 17 | E3: 19 | F3: 23
A4: Central | B4: Large (100 or more) | C4: 46 | D4: 4 | E4: 4 | F4: 6
A5: West | B5: Small (5-19) | C5: 18 | D5: 26 | E5: 32 | F5: 25
A6: West | B6: Medium (20-99) | C6: 29 | D6: 7 | E6: 14 | F6: 13
A7: West | B7: Large (100 or more) | C7: 8 | D7: 1 | E7: 2
A8: East | B8: Small (5-19) | C8: 7 | D8: 16 | E8: 16 | F8: 18
A9: East | B9: Medium (20-99) | C9: 32 | D9: 4 | E9: 3 | F9: 8
A10: East | B10: Large (100 or more) | C10: 12 | D10: 3

Sheet achieved panel
A1: stratificationregionname | B1: stratificationsizename | C1: _Manufacturing | D1: _Retail | E1: _Hotels | F1: _Other_services | G1: _Grand_Total
A2: Central | B2: Small (5-19) | C2: 7 | D2: 23 | E2: 3 | F2: 16
A3: Central | B3: Medium (20-99) | C3: 25 | D3: 7 | E3: 1 | F3: 9
A4: Central | B4: Large (100 or more) | C4: 25 | E4: 3 | F4: 2
A5: West | B5: Small (5-19) | C5: 4 | D5: 10 | E5: 7 | F5: 4
A6: West | B6: Medium (20-99) | C6: 25 | D6: 1 | E6: 1
A7: West | B7: Large (100 or more) | C7: 4
A8: East | B8: Small (5-19) | D8: 5 | E8: 1 | F8: 5
A9: East | B9: Medium (20-99) | C9: 7 | D9: 1 | F9: 3
A10: East | B10: Large (100 or more) | C10: 2 | D10: 1

Sheet universe_strict
A1: stratificationregionname | B1: stratificationsizename | C1: _Manufacturing | D1: _Retail | E1: _Hotels | F1: _Other_services | G1: _Grand_Total
A2: Central | B2: Small (5-19) | C2: 3498.0002 | D2: 4983 | E2: 822.99994 | F2: 7361
A3: Central | B3: Medium (20-99) | C3: 1268.0001 | D3: 426.57019 | E3: 147.00002 | F3: 907.99994
A4: Central | B4: Large (100 or more) | C4: 511 | D4: 82 | E4: 11.886512 | F4: 62.000004
A5: West | B5: Small (5-19) | C5: 3957 | D5: 4677 | E5: 1890 | F5: 6022
A6: West | B6: Medium (20-99) | C6: 925 | D6: 303 | E6: 284.99997 | F6: 828
A7: West | B7: Large (100 or more) | C7: 152 | D7: 59 | E7: 13
A8: East | B8: Small (5-19) | C8: 1918 | D8: 2346 | E8: 597 | F8: 3632
A9: East | B9: Medium (20-99) | C9: 668 | D9: 85 | E9: 96 | F9: 251
A10: East | B10: Large (100 or more) | C10: 281 | D10: 38

Sheet universe_median
A1: stratificationregionname | B1: stratificationsizename | C1: _Manufacturing | D1: _Retail | E1: _Hotels | F1: _Other_services | G1: _Grand_Total
A2: Central | B2: Small (5-19) | C2: 3498.0002 | D2: 4983 | E2: 822.99994 | F2: 7361
A3: Central | B3: Medium (20-99) | C3: 1268 | D3: 426.71201 | E3: 147.00002 | F3: 907.99994
A4: Central | B4: Large (100 or more) | C4: 511 | D4: 82 | E4: 11.890274 | F4: 62.000004
A5: West | B5: Small (5-19) | C5: 3957 | D5: 4677.0005 | E5: 1890 | F5: 6022
A6: West | B6: Medium (20-99) | C6: 924.99994 | D6: 303 | E6: 284.99997 | F6: 828
A7: West | B7: Large (100 or more) | C7: 152 | D7: 59 | E7: 13
A8: East | B8: Small (5-19) | C8: 1918 | D8: 2346 | E8: 597 | F8: 3632
A9: East | B9: Medium (20-99) | C9: 668 | D9: 85 | E9: 96 | F9: 251
A10: East | B10: Large (100 or more) | C10: 281 | D10: 38

Sheet universe_weak
A1: stratificationregionname | B1: stratificationsizename | C1: _Manufacturing | D1: _Retail | E1: _Hotels | F1: _Other_services | G1: _Grand_Total
A2: Central | B2: Small (5-19) | C2: 3498.0002 | D2: 4983 | E2: 822.99994 | F2: 7361
A3: Central | B3: Medium (20-99) | C3: 1268.0001 | D3: 426.74002 | E3: 147.00002 | F3: 907.99988
A4: Central | B4: Large (100 or more) | C4: 511 | D4: 82 | E4: 11.907194 | F4: 62.000004
A5: West | B5: Small (5-19) | C5: 3957 | D5: 4677.0005 | E5: 1890.6252 | F5: 6021.9995
A6: West | B6: Medium (20-99) | C6: 925 | D6: 303 | E6: 284.99997 | F6: 828
A7: West | B7: Large (100 or more) | C7: 152 | D7: 59 | E7: 13
A8: East | B8: Small (5-19) | C8: 1918 | D8: 2346 | E8: 597 | F8: 3632
A9: East | B9: Medium (20-99) | C9: 668 | D9: 85 | E9: 96 | F9: 251
A10: East | B10: Large (100 or more) | C10: 281 | D10: 38

Sheet item response
A1: Survey | B1: Cell | C1: Name | D1: rr_d2 | E1: rr_l1 | F1: rr_n2a | G1: rr_TFP
A2: Nepal 2023 | B2: Fresh/Panel | C2: Fresh | D2: 0.99473685 | E2: 1 | F2: 0.99210525 | G2: 0.96460176
A3: Nepal 2023 | B3: Fresh/Panel | C3: Panel | D3: 1 | E3: 1 | F3: 1 | G3: 0.96938777
A4: Nepal 2023 | B4: Size | C4: Small (5-19) | D4: 1 | E4: 1 | F4: 1 | G4: 1
A5: Nepal 2023 | B5: Size | C5: Medium (20-99) | D5: 1 | E5: 1 | F5: 0.99470901 | G5: 1
A6: Nepal 2023 | B6: Size | C6: Large (100+) | D6: 0.97826087 | E6: 1 | F6: 0.97826087 | G6: 0.89705884
A7: Nepal 2023 | B7: Region | C7: Central | D7: 0.99305558 | E7: 1 | F7: 0.98958331 | G7: 0.93333334
A8: Nepal 2023 | B8: Region | C8: West | D8: 1 | E8: 1 | F8: 1 | G8: 1
A9: Nepal 2023 | B9: Region | C9: East | D9: 1 | E9: 1 | F9: 1 | G9: 1
A10: Nepal 2023 | B10: Sector | C10: Hotels | D10: 1 | E10: 1 | F10: 1
A11: Nepal 2023 | B11: Sector | C11: Manufacturing | D11: 0.99534881 | E11: 1 | F11: 0.99534881 | G11: 0.96666664
A12: Nepal 2023 | B12: Sector | C12: Other Services | D12: 0.994012 | E12: 1 | F12: 0.98802394 | G12: 1
A13: Nepal 2023 | B13: Sector | C13: Retail | D13: 1 | E13: 1 | F13: 1
A14: Nepal 2023 | B14: Nepal 2023 | C14: Nepal 2023 | D14: 0.99656355 | E14: 1 | F14: 0.99484539 | G14: 0.96682465
