Workbook

Sheet Table 1 Universe
C1: =RIGHT(SUBSTITUTE(universe!C1,"_"," "),LEN(SUBSTITUTE(universe!C1,"_"," "))-1) -> Manufacturing | D1: =RIGHT(SUBSTITUTE(universe!D1,"_"," "),LEN(SUBSTITUTE(universe!D1,"_"," "))-1) -> Retail | E1: =RIGHT(SUBSTITUTE(universe!E1,"_"," "),LEN(SUBSTITUTE(universe!E1,"_"," "))-1) -> Other Services | F1: =RIGHT(SUBSTITUTE(universe!F1,"_"," "),LEN(SUBSTITUTE(universe!F1,"_"," "))-1) -> Grand Total
A2: =universe!A2 -> Skopje | B2: =LEFT(universe!B2,FIND(")",universe!B2)) -> Small (5-19) | C2: =universe!C2 -> 427 | D2: =universe!D2 -> 457 | E2: =universe!E2 -> 2326 | F2: =SUM(C2:E4) -> 3549
A3: =universe!A3 -> Skopje | B3: =LEFT(universe!B3,FIND(")",universe!B3)) -> Medium (20-99) | C3: =universe!C3 -> 45 | D3: =universe!D3 -> 34 | E3: =universe!E3 -> 172
A4: =universe!A4 -> Skopje | B4: =LEFT(universe!B4,FIND(")",universe!B4)) -> Large (100+) | C4: =universe!C4 -> 26 | D4: =universe!D4 -> 19 | E4: =universe!E4 -> 43
A5: =universe!A5 -> Eastern Macedonia | B5: =LEFT(universe!B5,FIND(")",universe!B5)) -> Small (5-19) | C5: =universe!C5 -> 462 | D5: =universe!D5 -> 484 | E5: =universe!E5 -> 1194 | F5: =SUM(C5:E7) -> 2315
A6: =universe!A6 -> Eastern Macedonia | B6: =LEFT(universe!B6,FIND(")",universe!B6)) -> Medium (20-99) | C6: =universe!C6 -> 56 | D6: =universe!D6 -> 14 | E6: =universe!E6 -> 67
A7: =universe!A7 -> Eastern Macedonia | B7: =LEFT(universe!B7,FIND(")",universe!B7)) -> Large (100+) | C7: =universe!C7 -> 25 | D7: =universe!D7 -> 5 | E7: =universe!E7 -> 8
A8: =universe!A8 -> Western Macedonia | B8: =LEFT(universe!B8,FIND(")",universe!B8)) -> Small (5-19) | C8: =universe!C8 -> 419 | D8: =universe!D8 -> 562 | E8: =universe!E8 -> 1081 | F8: =SUM(C8:E10) -> 2211
A9: =universe!A9 -> Western Macedonia | B9: =LEFT(universe!B9,FIND(")",universe!B9)) -> Medium (20-99) | C9: =universe!C9 -> 47 | D9: =universe!D9 -> 27 | E9: =universe!E9 -> 41
A10: =universe!A10 -> Western Macedonia | B10: =LEFT(universe!B10,FIND(")",universe!B10)) -> Large (100+) | C10: =universe!C10 -> 22 | D10: =universe!D10 -> 4 | E10: =universe!E10 -> 8
C11: =SUM(C2:C10) -> 1529 | D11: =SUM(D2:D10) -> 1606 | E11: =SUM(E2:E10) -> 4940 | F11: =SUM(F2:F9) -> 8075
A12: Source: Central Registry of Macedonia

Sheet Table 2 Frame
C1: =RIGHT(SUBSTITUTE('frame fresh and panel'!C1,"_"," "),LEN(SUBSTITUTE('frame fresh and panel'!C1,"_"," "))-1) -> Manufacturing | D1: =RIGHT(SUBSTITUTE('frame fresh and panel'!D1,"_"," "),LEN(SUBSTITUTE('frame fresh and panel'!D1,"_"," "))-1) -> Retail | E1: =RIGHT(SUBSTITUTE('frame fresh and panel'!E1,"_"," "),LEN(SUBSTITUTE('frame fresh and panel'!E1,"_"," "))-1) -> Other Services | F1: =RIGHT(SUBSTITUTE('frame fresh and panel'!F1,"_"," "),LEN(SUBSTITUTE('frame fresh and panel'!F1,"_"," "))-1) -> Grand Total
A2: ='frame fresh and panel'!A2 -> Skopje | B2: =LEFT('frame fresh and panel'!B2,FIND(")",'frame fresh and panel'!B2)) -> Small (5-19) | C2: ='frame fresh and panel'!C2 -> 429 | D2: ='frame fresh and panel'!D2 -> 465 | E2: ='frame fresh and panel'!E2 -> 1610 | F2: =SUM(C2:E4) -> 2881
A3: ='frame fresh and panel'!A3 -> Skopje | B3: =LEFT('frame fresh and panel'!B3,FIND(")",'frame fresh and panel'!B3)) -> Medium (20-99) | C3: ='frame fresh and panel'!C3 -> 51 | D3: ='frame fresh and panel'!D3 -> 46 | E3: ='frame fresh and panel'!E3 -> 182
A4: ='frame fresh and panel'!A4 -> Skopje | B4: =LEFT('frame fresh and panel'!B4,FIND(")",'frame fresh and panel'!B4)) -> Large (100 or more) | C4: ='frame fresh and panel'!C4 -> 33 | D4: ='frame fresh and panel'!D4 -> 26 | E4: ='frame fresh and panel'!E4 -> 39
A5: ='frame fresh and panel'!A5 -> Eastern Macedonia | B5: =LEFT('frame fresh and panel'!B5,FIND(")",'frame fresh and panel'!B5)) -> Small (5-19) | C5: ='frame fresh and panel'!C5 -> 468 | D5: ='frame fresh and panel'!D5 -> 488 | E5: ='frame fresh and panel'!E5 -> 1123 | F5: =SUM(C5:E7) -> 2315
A6: ='frame fresh and panel'!A6 -> Eastern Macedonia | B6: =LEFT('frame fresh and panel'!B6,FIND(")",'frame fresh and panel'!B6)) -> Medium (20-99) | C6: ='frame fresh and panel'!C6 -> 77 | D6: ='frame fresh and panel'!D6 -> 27 | E6: ='frame fresh and panel'!E6 -> 73
A7: ='frame fresh and panel'!A7 -> Eastern Macedonia | B7: =LEFT('frame fresh and panel'!B7,FIND(")",'frame fresh and panel'!B7)) -> Large (100 or more) | C7: ='frame fresh and panel'!C7 -> 43 | D7: ='frame fresh and panel'!D7 -> 6 | E7: ='frame fresh and panel'!E7 -> 10
A8: ='frame fresh and panel'!A8 -> Western Macedonia | B8: =LEFT('frame fresh and panel'!B8,FIND(")",'frame fresh and panel'!B8)) -> Small (5-19) | C8: ='frame fresh and panel'!C8 -> 423 | D8: ='frame fresh and panel'!D8 -> 563 | E8: ='frame fresh and panel'!E8 -> 1021 | F8: =SUM(C8:E10) -> 2196
A9: ='frame fresh and panel'!A9 -> Western Macedonia | B9: =LEFT('frame fresh and panel'!B9,FIND(")",'frame fresh and panel'!B9)) -> Medium (20-99) | C9: ='frame fresh and panel'!C9 -> 58 | D9: ='frame fresh and panel'!D9 -> 34 | E9: ='frame fresh and panel'!E9 -> 47
A10: ='frame fresh and panel'!A10 -> Western Macedonia | B10: =LEFT('frame fresh and panel'!B10,FIND(")",'frame fresh and panel'!B10)) -> Large (100 or more) | C10: ='frame fresh and panel'!C10 -> 32 | D10: ='frame fresh and panel'!D10 -> 6 | E10: ='frame fresh and panel'!E10 -> 12
C11: =SUM(C2:C10) -> 1614 | D11: =SUM(D2:D10) -> 1661 | E11: =SUM(E2:E10) -> 4117 | F11: =SUM(F2:F9) -> 7392
A12: Source: Central Registry of Macedonia

Sheet Table 3 Original Survey Design
C1: =RIGHT(SUBSTITUTE('original survey design'!C1,"_"," "),LEN(SUBSTITUTE('original survey design'!C1,"_"," "))-1) -> Manufacturing | D1: =RIGHT(SUBSTITUTE('original survey design'!D1,"_"," "),LEN(SUBSTITUTE('original survey design'!D1,"_"," "))-1) -> Retail | E1: =RIGHT(SUBSTITUTE('original survey design'!E1,"_"," "),LEN(SUBSTITUTE('original survey design'!E1,"_"," "))-1) -> Other Services | F1: =RIGHT(SUBSTITUTE('original survey design'!F1,"_"," "),LEN(SUBSTITUTE('original survey design'!F1,"_"," "))-1) -> Grand Total
A2: ='original survey design'!A2 -> Skopje | B2: =LEFT('original survey design'!B2,FIND(")",'original survey design'!B2)) -> Small (5-19) | C2: ='original survey design'!C2 -> 7 | D2: ='original survey design'!D2 -> 7 | E2: ='original survey design'!E2 -> 31 | F2: =SUM(C2:E4) -> 120
A3: ='original survey design'!A3 -> Skopje | B3: =LEFT('original survey design'!B3,FIND(")",'original survey design'!B3)) -> Medium (20-99) | C3: ='original survey design'!C3 -> 4 | D3: ='original survey design'!D3 -> 17 | E3: ='original survey design'!E3 -> 4
A4: ='original survey design'!A4 -> Skopje | B4: =LEFT('original survey design'!B4,FIND(")",'original survey design'!B4)) -> Large (100+) | C4: ='original survey design'!C4 -> 17 | D4: ='original survey design'!D4 -> 16 | E4: ='original survey design'!E4 -> 17
A5: ='original survey design'!A5 -> Eastern Macedonia | B5: =LEFT('original survey design'!B5,FIND(")",'original survey design'!B5)) -> Small (5-19) | C5: ='original survey design'!C5 -> 7 | D5: ='original survey design'!D5 -> 12 | E5: ='original survey design'!E5 -> 16 | F5: =SUM(C5:E7) -> 120
A6: ='original survey design'!A6 -> Eastern Macedonia | B6: =LEFT('original survey design'!B6,FIND(")",'original survey design'!B6)) -> Medium (20-99) | C6: ='original survey design'!C6 -> 16 | D6: ='original survey design'!D6 -> 18 | E6: ='original survey design'!E6 -> 13
A7: ='original survey design'!A7 -> Eastern Macedonia | B7: =LEFT('original survey design'!B7,FIND(")",'original survey design'!B7)) -> Large (100+) | C7: ='original survey design'!C7 -> 26 | D7: ='original survey design'!D7 -> 5 | E7: ='original survey design'!E7 -> 7
A8: ='original survey design'!A8 -> Western Macedonia | B8: =LEFT('original survey design'!B8,FIND(")",'original survey design'!B8)) -> Small (5-19) | C8: ='original survey design'!C8 -> 7 | D8: ='original survey design'!D8 -> 20 | E8: ='original survey design'!E8 -> 13 | F8: =SUM(C8:E10) -> 120
A9: ='original survey design'!A9 -> Western Macedonia | B9: =LEFT('original survey design'!B9,FIND(")",'original survey design'!B9)) -> Medium (20-99) | C9: ='original survey design'!C9 -> 16 | D9: ='original survey design'!D9 -> 21 | E9: ='original survey design'!E9 -> 11
A10: ='original survey design'!A10 -> Western Macedonia | B10: =LEFT('original survey design'!B10,FIND(")",'original survey design'!B10)) -> Large (100+) | C10: ='original survey design'!C10 -> 20 | D10: ='original survey design'!D10 -> 4 | E10: ='original survey design'!E10 -> 8
C11: =SUM(C2:C10) -> 120 | D11: =SUM(D2:D10) -> 120 | E11: =SUM(E2:E10) -> 120 | F11: =SUM(F2:F9) -> 360

Sheet Table 4 Response Outcomes
D2: Totals | E2: Rates relative to total contacted
B3: Overall | C3: Contacts available in frame | D3: 7392
C4: Issued | D4: 1195
C5: Contacted | D5: 1191
B6: Screening phase | C6: Eligibles | D6: 688 | E6: =D6/D$5 -> 0.57766583
C7: Screener refusals | D7: 53 | E7: =D7/D$5 -> 0.04450042
C8: Assumed eligibles | D8: 743 | E8: =D8/D$5 -> 0.62384551
C9: Ineligible + out of target | D9: 44 | E9: =D9/D$5 -> 0.036943745
C10: Unobtainables | D10: 406 | E10: =D10/D$5 -> 0.34089001
B11: Interview phase | C11: Interview refusals | D11: 311 | E11: =D11/D$5 -> 0.2611251
B12: (only if eligible) | C12: Complete interviews | D12: 354 | E12: =D12/D$5 -> 0.29722922

Sheet Table 5 Survey Yield Rates
C2: Stratification | D2: Yield | E2: Survey response rate | F2: Frame quality
B3: Panel | C3: Fresh | D3: =VLOOKUP($C3,'yield calculation'!$C:$F,2,FALSE) -> 0.23826715 | E3: =VLOOKUP($C3,'yield calculation'!$C:$F,3,FALSE) -> 0.40000001 | F3: =VLOOKUP($C3,'yield calculation'!$C:$F,4,FALSE) -> 0.5956679
C4: Panel | D4: =VLOOKUP($C4,'yield calculation'!$C:$F,2,FALSE) -> 0.43333334 | E4: =VLOOKUP($C4,'yield calculation'!$C:$F,3,FALSE) -> 0.62903225 | F4: =VLOOKUP($C4,'yield calculation'!$C:$F,4,FALSE) -> 0.68888891
B5: Size | C5: Small (5-19) | D5: =VLOOKUP($C5,'yield calculation'!$C:$F,2,FALSE) -> 0.20634921 | E5: =VLOOKUP($C5,'yield calculation'!$C:$F,3,FALSE) -> 0.38011697 | F5: =VLOOKUP($C5,'yield calculation'!$C:$F,4,FALSE) -> 0.54285717
C6: Medium (20-99) | D6: =VLOOKUP($C6,'yield calculation'!$C:$F,2,FALSE) -> 0.35028249 | E6: =VLOOKUP($C6,'yield calculation'!$C:$F,3,FALSE) -> 0.51028806 | F6: =VLOOKUP($C6,'yield calculation'!$C:$F,4,FALSE) -> 0.68644071
C7: Large (100+) | D7: =VLOOKUP($C7,'yield calculation'!$C:$F,2,FALSE) -> 0.4830918 | E7: =VLOOKUP($C7,'yield calculation'!$C:$F,3,FALSE) -> 0.63291138 | F7: =VLOOKUP($C7,'yield calculation'!$C:$F,4,FALSE) -> 0.76328504
B8: Region | C8: Skopje | D8: =VLOOKUP($C8,'yield calculation'!$C:$F,2,FALSE) -> 0.28244275 | E8: =VLOOKUP($C8,'yield calculation'!$C:$F,3,FALSE) -> 0.46058092 | F8: =VLOOKUP($C8,'yield calculation'!$C:$F,4,FALSE) -> 0.61323154
C9: Eastern Macedonia | D9: =VLOOKUP($C9,'yield calculation'!$C:$F,2,FALSE) -> 0.34770116 | E9: =VLOOKUP($C9,'yield calculation'!$C:$F,3,FALSE) -> 0.55504584 | F9: =VLOOKUP($C9,'yield calculation'!$C:$F,4,FALSE) -> 0.62643677
C10: Western Macedonia | D10: =VLOOKUP($C10,'yield calculation'!$C:$F,2,FALSE) -> 0.2711111 | E10: =VLOOKUP($C10,'yield calculation'!$C:$F,3,FALSE) -> 0.42957747 | F10: =VLOOKUP($C10,'yield calculation'!$C:$F,4,FALSE) -> 0.63111109
B11: Sector | C11: Manufacturing | D11: =VLOOKUP($C11,'yield calculation'!$C:$F,2,FALSE) -> 0.34782609 | E11: =VLOOKUP($C11,'yield calculation'!$C:$F,3,FALSE) -> 0.55555558 | F11: =VLOOKUP($C11,'yield calculation'!$C:$F,4,FALSE) -> 0.62608695
C12: Retail | D12: =VLOOKUP($C12,'yield calculation'!$C:$F,2,FALSE) -> 0.29473683 | E12: =VLOOKUP($C12,'yield calculation'!$C:$F,3,FALSE) -> 0.44800001 | F12: =VLOOKUP($C12,'yield calculation'!$C:$F,4,FALSE) -> 0.65789473
C13: Other Services | D13: =VLOOKUP($C13,'yield calculation'!$C:$F,2,FALSE) -> 0.26180258 | E13: =VLOOKUP($C13,'yield calculation'!$C:$F,3,FALSE) -> 0.4404332 | F13: =VLOOKUP($C13,'yield calculation'!$C:$F,4,FALSE) -> 0.59442061
B14: Overall | C14: North Macedonia 2023 | D14: =VLOOKUP($C14,'yield calculation'!$C:$F,2,FALSE) -> 0.29722923 | E14: =VLOOKUP($C14,'yield calculation'!$C:$F,3,FALSE) -> 0.47644684 | F14: =VLOOKUP($C14,'yield calculation'!$C:$F,4,FALSE) -> 0.62384552
B15: Notes: the rates are calculated as defined in Section III.4

Sheet Table 6 Achieved Total Sample 
C1: =RIGHT(SUBSTITUTE('achieved fresh and panel'!C1,"_"," "),LEN(SUBSTITUTE('achieved fresh and panel'!C1,"_"," "))-1) -> Manufacturing | D1: =RIGHT(SUBSTITUTE('achieved fresh and panel'!D1,"_"," "),LEN(SUBSTITUTE('achieved fresh and panel'!D1,"_"," "))-1) -> Retail | E1: =RIGHT(SUBSTITUTE('achieved fresh and panel'!E1,"_"," "),LEN(SUBSTITUTE('achieved fresh and panel'!E1,"_"," "))-1) -> Other Services | F1: =RIGHT(SUBSTITUTE('achieved fresh and panel'!F1,"_"," "),LEN(SUBSTITUTE('achieved fresh and panel'!F1,"_"," "))-1) -> Grand Total
A2: ='achieved fresh and panel'!A2 -> Skopje | B2: =LEFT('achieved fresh and panel'!B2,FIND(")",'achieved fresh and panel'!B2)) -> Small (5-19) | C2: ='achieved fresh and panel'!C2 -> 6 | D2: ='achieved fresh and panel'!D2 -> 5 | E2: ='achieved fresh and panel'!E2 -> 24 | F2: =SUM(C2:E4) -> 111
A3: ='achieved fresh and panel'!A3 -> Skopje | B3: =LEFT('achieved fresh and panel'!B3,FIND(")",'achieved fresh and panel'!B3)) -> Medium (20-99) | C3: ='achieved fresh and panel'!C3 -> 4 | D3: ='achieved fresh and panel'!D3 -> 20 | E3: ='achieved fresh and panel'!E3 -> 5
A4: ='achieved fresh and panel'!A4 -> Skopje | B4: =LEFT('achieved fresh and panel'!B4,FIND(")",'achieved fresh and panel'!B4)) -> Large (100 or more) | C4: ='achieved fresh and panel'!C4 -> 18 | D4: ='achieved fresh and panel'!D4 -> 14 | E4: ='achieved fresh and panel'!E4 -> 15
A5: ='achieved fresh and panel'!A5 -> Eastern Macedonia | B5: =LEFT('achieved fresh and panel'!B5,FIND(")",'achieved fresh and panel'!B5)) -> Small (5-19) | C5: ='achieved fresh and panel'!C5 -> 6 | D5: ='achieved fresh and panel'!D5 -> 18 | E5: ='achieved fresh and panel'!E5 -> 17 | F5: =SUM(C5:E7) -> 121
A6: ='achieved fresh and panel'!A6 -> Eastern Macedonia | B6: =LEFT('achieved fresh and panel'!B6,FIND(")",'achieved fresh and panel'!B6)) -> Medium (20-99) | C6: ='achieved fresh and panel'!C6 -> 21 | D6: ='achieved fresh and panel'!D6 -> 14 | E6: ='achieved fresh and panel'!E6 -> 16
A7: ='achieved fresh and panel'!A7 -> Eastern Macedonia | B7: =LEFT('achieved fresh and panel'!B7,FIND(")",'achieved fresh and panel'!B7)) -> Large (100 or more) | C7: ='achieved fresh and panel'!C7 -> 21 | D7: ='achieved fresh and panel'!D7 -> 2 | E7: ='achieved fresh and panel'!E7 -> 6
A8: ='achieved fresh and panel'!A8 -> Western Macedonia | B8: =LEFT('achieved fresh and panel'!B8,FIND(")",'achieved fresh and panel'!B8)) -> Small (5-19) | C8: ='achieved fresh and panel'!C8 -> 8 | D8: ='achieved fresh and panel'!D8 -> 24 | E8: ='achieved fresh and panel'!E8 -> 22 | F8: =SUM(C8:E10) -> 122
A9: ='achieved fresh and panel'!A9 -> Western Macedonia | B9: =LEFT('achieved fresh and panel'!B9,FIND(")",'achieved fresh and panel'!B9)) -> Medium (20-99) | C9: ='achieved fresh and panel'!C9 -> 19 | D9: ='achieved fresh and panel'!D9 -> 12 | E9: ='achieved fresh and panel'!E9 -> 13
A10: ='achieved fresh and panel'!A10 -> Western Macedonia | B10: =LEFT('achieved fresh and panel'!B10,FIND(")",'achieved fresh and panel'!B10)) -> Large (100 or more) | C10: ='achieved fresh and panel'!C10 -> 17 | D10: ='achieved fresh and panel'!D10 -> 3 | E10: ='achieved fresh and panel'!E10 -> 4
C11: =SUM(C2:C10) -> 120 | D11: =SUM(D2:D10) -> 112 | E11: =SUM(E2:E10) -> 122 | F11: =SUM(F2:F9) -> 354

Sheet Table 7 Achieved Panel Sample
C1: =RIGHT(SUBSTITUTE('achieved panel'!C1,"_"," "),LEN(SUBSTITUTE('achieved panel'!C1,"_"," "))-1) -> Manufacturing | D1: =RIGHT(SUBSTITUTE('achieved panel'!D1,"_"," "),LEN(SUBSTITUTE('achieved panel'!D1,"_"," "))-1) -> Retail | E1: =RIGHT(SUBSTITUTE('achieved panel'!E1,"_"," "),LEN(SUBSTITUTE('achieved panel'!E1,"_"," "))-1) -> Other Services | F1: =RIGHT(SUBSTITUTE('achieved panel'!F1,"_"," "),LEN(SUBSTITUTE('achieved panel'!F1,"_"," "))-1) -> chieved panel
A2: ='achieved panel'!A2 -> Skopje | B2: =LEFT('achieved panel'!B2,FIND(")",'achieved panel'!B2)) -> Small (5-19) | C2: ='achieved panel'!C2 -> 2 | D2: ='achieved panel'!D2 -> 2 | E2: ='achieved panel'!E2 -> 8 | F2: =SUM(C2:E4) -> 44
A3: ='achieved panel'!A3 -> Skopje | B3: =LEFT('achieved panel'!B3,FIND(")",'achieved panel'!B3)) -> Medium (20-99) | C3: ='achieved panel'!C3 -> 2 | D3: ='achieved panel'!D3 -> 6 | E3: ='achieved panel'!E3 -> 2
A4: ='achieved panel'!A4 -> Skopje | B4: =LEFT('achieved panel'!B4,FIND(")",'achieved panel'!B4)) -> Large (100 or more) | C4: ='achieved panel'!C4 -> 9 | D4: ='achieved panel'!D4 -> 8 | E4: ='achieved panel'!E4 -> 5
A5: ='achieved panel'!A5 -> Eastern Macedonia | B5: =LEFT('achieved panel'!B5,FIND(")",'achieved panel'!B5)) -> Small (5-19) | C5: ='achieved panel'!C5 -> 2 | D5: ='achieved panel'!D5 -> 10 | E5: ='achieved panel'!E5 -> 6 | F5: =SUM(C5:E7) -> 64
A6: ='achieved panel'!A6 -> Eastern Macedonia | B6: =LEFT('achieved panel'!B6,FIND(")",'achieved panel'!B6)) -> Medium (20-99) | C6: ='achieved panel'!C6 -> 10 | D6: ='achieved panel'!D6 -> 9 | E6: ='achieved panel'!E6 -> 8
A7: ='achieved panel'!A7 -> Eastern Macedonia | B7: =LEFT('achieved panel'!B7,FIND(")",'achieved panel'!B7)) -> Large (100 or more) | C7: ='achieved panel'!C7 -> 12 | D7: ='achieved panel'!D7 -> 1 | E7: ='achieved panel'!E7 -> 6
A8: ='achieved panel'!A8 -> Western Macedonia | B8: =LEFT('achieved panel'!B8,FIND(")",'achieved panel'!B8)) -> Small (5-19) | C8: ='achieved panel'!C8 -> 2 | D8: ='achieved panel'!D8 -> 6 | E8: ='achieved panel'!E8 -> 5 | F8: =SUM(C8:E10) -> 48
A9: ='achieved panel'!A9 -> Western Macedonia | B9: =LEFT('achieved panel'!B9,FIND(")",'achieved panel'!B9)) -> Medium (20-99) | C9: ='achieved panel'!C9 -> 8 | D9: ='achieved panel'!D9 -> 8 | E9: ='achieved panel'!E9 -> 5
A10: ='achieved panel'!A10 -> Western Macedonia | B10: =LEFT('achieved panel'!B10,FIND(")",'achieved panel'!B10)) -> Large (100 or more) | C10: ='achieved panel'!C10 -> 11 | D10: ='achieved panel'!D10 -> 2 | E10: ='achieved panel'!E10 -> 1
C11: =SUM(C2:C10) -> 58 | D11: =SUM(D2:D10) -> 52 | E11: =SUM(E2:E10) -> 46 | F11: =SUM(F2:F9) -> 156

Sheet Table 8 Weak Universe Estimates
C1: =RIGHT(SUBSTITUTE(universe_weak!C1,"_"," "),LEN(SUBSTITUTE(universe_weak!C1,"_"," "))-1) -> Manufacturing | D1: =RIGHT(SUBSTITUTE(universe_weak!D1,"_"," "),LEN(SUBSTITUTE(universe_weak!D1,"_"," "))-1) -> Retail | E1: =RIGHT(SUBSTITUTE(universe_weak!E1,"_"," "),LEN(SUBSTITUTE(universe_weak!E1,"_"," "))-1) -> Other Services | F1: =RIGHT(SUBSTITUTE(universe_weak!F1,"_"," "),LEN(SUBSTITUTE(universe_weak!F1,"_"," "))-1) -> Grand Total
A2: =universe_weak!A2 -> Skopje | B2: =LEFT(universe_weak!B2,FIND(")",universe_weak!B2)) -> Small (5-19) | C2: =universe_weak!C2 -> 418.94119 | D2: =universe_weak!D2 -> 446.53198 | E2: =universe_weak!E2 -> 2273.8647 | F2: =SUM(C2:E4) -> 3481.8311
A3: =universe_weak!A3 -> Skopje | B3: =LEFT(universe_weak!B3,FIND(")",universe_weak!B3)) -> Medium (20-99) | C3: =universe_weak!C3 -> 45.449261 | D3: =universe_weak!D3 -> 34.453171 | E3: =universe_weak!E3 -> 173.09021
A4: =universe_weak!A4 -> Skopje | B4: =LEFT(universe_weak!B4,FIND(")",universe_weak!B4)) -> Large (100 or more) | C4: =universe_weak!C4 -> 29.268364 | D4: =universe_weak!D4 -> 18.451817 | E4: =universe_weak!E4 -> 41.780399
A5: =universe_weak!A5 -> Eastern Macedonia | B5: =LEFT(universe_weak!B5,FIND(")",universe_weak!B5)) -> Small (5-19) | C5: =universe_weak!C5 -> 451.8674 | D5: =universe_weak!D5 -> 471.43912 | E5: =universe_weak!E5 -> 1163.5984 | F5: =SUM(C5:E7) -> 2267.385
A6: =universe_weak!A6 -> Eastern Macedonia | B6: =LEFT(universe_weak!B6,FIND(")",universe_weak!B6)) -> Medium (20-99) | C6: =universe_weak!C6 -> 56.955196 | D6: =universe_weak!D6 -> 18.792852 | E6: =universe_weak!E6 -> 67.797722
A7: =universe_weak!A7 -> Eastern Macedonia | B7: =LEFT(universe_weak!B7,FIND(")",universe_weak!B7)) -> Large (100 or more) | C7: =universe_weak!C7 -> 24.302906 | D7: =universe_weak!D7 -> 4.8406024 | E7: =universe_weak!E7 -> 7.7908039
A8: =universe_weak!A8 -> Western Macedonia | B8: =LEFT(universe_weak!B8,FIND(")",universe_weak!B8)) -> Small (5-19) | C8: =universe_weak!C8 -> 404.73605 | D8: =universe_weak!D8 -> 540.63647 | E8: =universe_weak!E8 -> 1040.4309 | F8: =SUM(C8:E10) -> 2136.4799
A9: =universe_weak!A9 -> Western Macedonia | B9: =LEFT(universe_weak!B9,FIND(")",universe_weak!B9)) -> Medium (20-99) | C9: =universe_weak!C9 -> 47.239979 | D9: =universe_weak!D9 -> 28.405504 | E9: =universe_weak!E9 -> 41.680367
A10: =universe_weak!A10 -> Western Macedonia | B10: =LEFT(universe_weak!B10,FIND(")",universe_weak!B10)) -> Large (100 or more) | C10: =universe_weak!C10 -> 21.121738 | D10: =universe_weak!D10 -> 4.5759859 | E10: =universe_weak!E10 -> 7.6529121
C11: =SUM(C2:C10) -> 1499.8821 | D11: =SUM(D2:D10) -> 1568.1275 | E11: =SUM(E2:E10) -> 4817.6865 | F11: =SUM(F2:F10) -> 7885.6961

Sheet Table 9 Median Universe Est
C1: =RIGHT(SUBSTITUTE(universe_median!C1,"_"," "),LEN(SUBSTITUTE(universe_median!C1,"_"," "))-1) -> Manufacturing | D1: =RIGHT(SUBSTITUTE(universe_median!D1,"_"," "),LEN(SUBSTITUTE(universe_median!D1,"_"," "))-1) -> Retail | E1: =RIGHT(SUBSTITUTE(universe_median!E1,"_"," "),LEN(SUBSTITUTE(universe_median!E1,"_"," "))-1) -> Other Services | F1: =RIGHT(SUBSTITUTE(universe_median!F1,"_"," "),LEN(SUBSTITUTE(universe_median!F1,"_"," "))-1) -> Grand Total
A2: =universe_median!A2 -> Skopje | B2: =LEFT(universe_median!B2,FIND(")",universe_median!B2)) -> Small (5-19) | C2: =universe_median!C2 -> 236.19855 | D2: =universe_median!D2 -> 255.68787 | E2: =universe_median!E2 -> 1235.6261 | F2: =SUM(C2:E4) -> 1968.7668
A3: =universe_median!A3 -> Skopje | B3: =LEFT(universe_median!B3,FIND(")",universe_median!B3)) -> Medium (20-99) | C3: =universe_median!C3 -> 31.362587 | D3: =universe_median!D3 -> 25.315006 | E3: =universe_median!E3 -> 115.12135
A4: =universe_median!A4 -> Skopje | B4: =LEFT(universe_median!B4,FIND(")",universe_median!B4)) -> Large (100 or more) | C4: =universe_median!C4 -> 23.975668 | D4: =universe_median!D4 -> 14.794988 | E4: =universe_median!E4 -> 30.684675
A5: =universe_median!A5 -> Eastern Macedonia | B5: =LEFT(universe_median!B5,FIND(")",universe_median!B5)) -> Small (5-19) | C5: =universe_median!C5 -> 245.66515 | D5: =universe_median!D5 -> 260.31039 | E5: =universe_median!E5 -> 609.72491 | F5: =SUM(C5:E7) -> 1246.1619
A6: =universe_median!A6 -> Eastern Macedonia | B6: =LEFT(universe_median!B6,FIND(")",universe_median!B6)) -> Medium (20-99) | C6: =universe_median!C6 -> 39.562172 | D6: =universe_median!D6 -> 16.480715 | E6: =universe_median!E6 -> 43.806164
A7: =universe_median!A7 -> Eastern Macedonia | B7: =LEFT(universe_median!B7,FIND(")",universe_median!B7)) -> Large (100 or more) | C7: =universe_median!C7 -> 21 | D7: =universe_median!D7 -> 3.6123667 | E7: =universe_median!E7 -> 6
A8: =universe_median!A8 -> Western Macedonia | B8: =LEFT(universe_median!B8,FIND(")",universe_median!B8)) -> Small (5-19) | C8: =universe_median!C8 -> 223.99791 | D8: =universe_median!D8 -> 303.88611 | E8: =universe_median!E8 -> 554.9881 | F8: =SUM(C8:E10) -> 1190.5367
A9: =universe_median!A9 -> Western Macedonia | B9: =LEFT(universe_median!B9,FIND(")",universe_median!B9)) -> Medium (20-99) | C9: =universe_median!C9 -> 32.314732 | D9: =universe_median!D9 -> 21.269686 | E9: =universe_median!E9 -> 27.840994
A10: =universe_median!A10 -> Western Macedonia | B10: =LEFT(universe_median!B10,FIND(")",universe_median!B10)) -> Large (100 or more) | C10: =universe_median!C10 -> 17 | D10: =universe_median!D10 -> 3.7219281 | E10: =universe_median!E10 -> 5.5172625
C11: =SUM(C2:C10) -> 871.07676 | D11: =SUM(D2:D10) -> 905.07906 | E11: =SUM(E2:E10) -> 2629.3096 | F11: =SUM(F2:F10) -> 4405.4654

Sheet Table 10 Strict Universe Est
C1: =RIGHT(SUBSTITUTE(universe_strict!C1,"_"," "),LEN(SUBSTITUTE(universe_strict!C1,"_"," "))-1) -> Manufacturing | D1: =RIGHT(SUBSTITUTE(universe_strict!D1,"_"," "),LEN(SUBSTITUTE(universe_strict!D1,"_"," "))-1) -> Retail | E1: =RIGHT(SUBSTITUTE(universe_strict!E1,"_"," "),LEN(SUBSTITUTE(universe_strict!E1,"_"," "))-1) -> Other Services | F1: =RIGHT(SUBSTITUTE(universe_strict!F1,"_"," "),LEN(SUBSTITUTE(universe_strict!F1,"_"," "))-1) -> Grand Total
A2: =universe_strict!A2 -> Skopje | B2: =LEFT(universe_strict!B2,FIND(")",universe_strict!B2)) -> Small (5-19) | C2: =universe_strict!C2 -> 209.9025 | D2: =universe_strict!D2 -> 235.05731 | E2: =universe_strict!E2 -> 1077.028 | F2: =SUM(C2:E4) -> 1750.8668
A3: =universe_strict!A3 -> Skopje | B3: =LEFT(universe_strict!B3,FIND(")",universe_strict!B3)) -> Medium (20-99) | C3: =universe_strict!C3 -> 29.369446 | D3: =universe_strict!D3 -> 25.031542 | E3: =universe_strict!E3 -> 105.73997
A4: =universe_strict!A4 -> Skopje | B4: =LEFT(universe_strict!B4,FIND(")",universe_strict!B4)) -> Large (100 or more) | C4: =universe_strict!C4 -> 23.093107 | D4: =universe_strict!D4 -> 15.027699 | E4: =universe_strict!E4 -> 30.617313
A5: =universe_strict!A5 -> Eastern Macedonia | B5: =LEFT(universe_strict!B5,FIND(")",universe_strict!B5)) -> Small (5-19) | C5: =universe_strict!C5 -> 213.93343 | D5: =universe_strict!D5 -> 234.5038 | E5: =universe_strict!E5 -> 520.797 | F5: =SUM(C5:E7) -> 1092.6613
A6: =universe_strict!A6 -> Eastern Macedonia | B6: =LEFT(universe_strict!B6,FIND(")",universe_strict!B6)) -> Medium (20-99) | C6: =universe_strict!C6 -> 37.078674 | D6: =universe_strict!D6 -> 16.088015 | E6: =universe_strict!E6 -> 39.535091
A7: =universe_strict!A7 -> Eastern Macedonia | B7: =LEFT(universe_strict!B7,FIND(")",universe_strict!B7)) -> Large (100 or more) | C7: =universe_strict!C7 -> 21 | D7: =universe_strict!D7 -> 3.7252533 | E7: =universe_strict!E7 -> 6
A8: =universe_strict!A8 -> Western Macedonia | B8: =LEFT(universe_strict!B8,FIND(")",universe_strict!B8)) -> Small (5-19) | C8: =universe_strict!C8 -> 191.69827 | D8: =universe_strict!D8 -> 269.03467 | E8: =universe_strict!E8 -> 465.86203 | F8: =SUM(C8:E10) -> 1026.523
A9: =universe_strict!A9 -> Western Macedonia | B9: =LEFT(universe_strict!B9,FIND(")",universe_strict!B9)) -> Medium (20-99) | C9: =universe_strict!C9 -> 29.26643 | D9: =universe_strict!D9 -> 19.817608 | E9: =universe_strict!E9 -> 24.843184
A10: =universe_strict!A10 -> Western Macedonia | B10: =LEFT(universe_strict!B10,FIND(")",universe_strict!B10)) -> Large (100 or more) | C10: =universe_strict!C10 -> 17 | D10: =universe_strict!D10 -> 3.6992886 | E10: =universe_strict!E10 -> 5.3015509
C11: =SUM(C2:C10) -> 772.34185 | D11: =SUM(D2:D10) -> 821.98519 | E11: =SUM(E2:E10) -> 2275.7241 | F11: =SUM(F2:F10) -> 3870.0511

Sheet Table 11 Item Response Rates
C2: Screener/Interview | D2: d2 | E2: l1 | F2: n2a | G2: all TFP variables
B3: Panel | C3: Fresh | D3: =VLOOKUP($C3,'item response'!$C:$G,2,FALSE) -> 0.99494952 | E3: =VLOOKUP($C3,'item response'!$C:$G,3,FALSE) -> 0.99494952 | F3: =VLOOKUP($C3,'item response'!$C:$G,4,FALSE) -> 0.93939394 | G3: =VLOOKUP($C3,'item response'!$C:$G,5,FALSE) -> 0.45454547
C4: Panel | D4: =VLOOKUP($C4,'item response'!$C:$G,2,FALSE) -> 0.99358976 | E4: =VLOOKUP($C4,'item response'!$C:$G,3,FALSE) -> 0.99358976 | F4: =VLOOKUP($C4,'item response'!$C:$G,4,FALSE) -> 0.96153843 | G4: =VLOOKUP($C4,'item response'!$C:$G,5,FALSE) -> 0.5
B5: Size | C5: Small (5-19) | D5: =VLOOKUP($C5,'item response'!$C:$G,2,FALSE) -> 1 | E5: =VLOOKUP($C5,'item response'!$C:$G,3,FALSE) -> 1 | F5: =VLOOKUP($C5,'item response'!$C:$G,4,FALSE) -> 0.97826087 | G5: =VLOOKUP($C5,'item response'!$C:$G,5,FALSE) -> 0.62068963
C6: Medium (20-99) | D6: =VLOOKUP($C6,'item response'!$C:$G,2,FALSE) -> 0.99199998 | E6: =VLOOKUP($C6,'item response'!$C:$G,3,FALSE) -> 0.99199998 | F6: =VLOOKUP($C6,'item response'!$C:$G,4,FALSE) -> 0.94400001 | G6: =VLOOKUP($C6,'item response'!$C:$G,5,FALSE) -> 0.46666667
C7: Large (100+) | D7: =VLOOKUP($C7,'item response'!$C:$G,2,FALSE) -> 0.98901099 | E7: =VLOOKUP($C7,'item response'!$C:$G,3,FALSE) -> 0.98901099 | F7: =VLOOKUP($C7,'item response'!$C:$G,4,FALSE) -> 0.91208792 | G7: =VLOOKUP($C7,'item response'!$C:$G,5,FALSE) -> 0.39130434
B8: Region | C8: Skopje | D8: =VLOOKUP($C8,'item response'!$C:$G,2,FALSE) -> 0.99082571 | E8: =VLOOKUP($C8,'item response'!$C:$G,3,FALSE) -> 1 | F8: =VLOOKUP($C8,'item response'!$C:$G,4,FALSE) -> 0.93577981 | G8: =VLOOKUP($C8,'item response'!$C:$G,5,FALSE) -> 0.53846157
C9: Eastern Macedonia | D9: =VLOOKUP($C9,'item response'!$C:$G,2,FALSE) -> 1 | E9: =VLOOKUP($C9,'item response'!$C:$G,3,FALSE) -> 1 | F9: =VLOOKUP($C9,'item response'!$C:$G,4,FALSE) -> 0.98360658 | G9: =VLOOKUP($C9,'item response'!$C:$G,5,FALSE) -> 0.53191489
C10: Western Macedonia | D10: =VLOOKUP($C10,'item response'!$C:$G,2,FALSE) -> 0.99186993 | E10: =VLOOKUP($C10,'item response'!$C:$G,3,FALSE) -> 0.98373985 | F10: =VLOOKUP($C10,'item response'!$C:$G,4,FALSE) -> 0.92682928 | G10: =VLOOKUP($C10,'item response'!$C:$G,5,FALSE) -> 0.38297874
B11: Sector | C11: Manufacturing | D11: =VLOOKUP($C11,'item response'!$C:$G,2,FALSE) -> 1 | E11: =VLOOKUP($C11,'item response'!$C:$G,3,FALSE) -> 1 | F11: =VLOOKUP($C11,'item response'!$C:$G,4,FALSE) -> 0.97500002 | G11: =VLOOKUP($C11,'item response'!$C:$G,5,FALSE) -> 0.47499999
C12: Retail | D12: =VLOOKUP($C12,'item response'!$C:$G,2,FALSE) -> 0.98979592 | E12: =VLOOKUP($C12,'item response'!$C:$G,3,FALSE) -> 0.97959185 | F12: =VLOOKUP($C12,'item response'!$C:$G,4,FALSE) -> 0.90816325 | G12: =VLOOKUP($C12,'item response'!$C:$G,5,FALSE) -> 0
C13: Other Services | D13: =VLOOKUP($C13,'item response'!$C:$G,2,FALSE) -> 0.99264705 | E13: =VLOOKUP($C13,'item response'!$C:$G,3,FALSE) -> 1 | F13: =VLOOKUP($C13,'item response'!$C:$G,4,FALSE) -> 0.95588237 | G13: =VLOOKUP($C13,'item response'!$C:$G,5,FALSE) -> 0
B14: Overall | C14: North Macedonia 2023 | D14: =VLOOKUP($C14,'item response'!$C:$G,2,FALSE) -> 0.99435025 | E14: =VLOOKUP($C14,'item response'!$C:$G,3,FALSE) -> 0.99435025 | F14: =VLOOKUP($C14,'item response'!$C:$G,4,FALSE) -> 0.94915253 | G14: =VLOOKUP($C14,'item response'!$C:$G,5,FALSE) -> 0.47499999
B15: Notes: the rates are calculated as follows. The number of responses with informative content in the respective variable (or combination of variables in the case of TFP) is divided by the same number plus the number of responses that are "don't know" (code -9) or refusal (code -8).

Sheet universe
A1: stratificationregionname | B1: stratificationsizename | C1: _Manufacturing | D1: _Retail | E1: _Other_Services | F1: _Grand_Total
A2: Skopje | B2: Small (5-19) | C2: 427 | D2: 457 | E2: 2326
A3: Skopje | B3: Medium (20-99) | C3: 45 | D3: 34 | E3: 172
A4: Skopje | B4: Large (100+) | C4: 26 | D4: 19 | E4: 43
A5: Eastern Macedonia | B5: Small (5-19) | C5: 462 | D5: 484 | E5: 1194
A6: Eastern Macedonia | B6: Medium (20-99) | C6: 56 | D6: 14 | E6: 67
A7: Eastern Macedonia | B7: Large (100+) | C7: 25 | D7: 5 | E7: 8
A8: Western Macedonia | B8: Small (5-19) | C8: 419 | D8: 562 | E8: 1081
A9: Western Macedonia | B9: Medium (20-99) | C9: 47 | D9: 27 | E9: 41
A10: Western Macedonia | B10: Large (100+) | C10: 22 | D10: 4 | E10: 8

Sheet frame fresh and panel
A1: stratificationregionname | B1: stratificationsizename | C1: _Manufacturing | D1: _Retail | E1: _Other_Services | F1: _Grand_Total
A2: Skopje | B2: Small (5-19) | C2: 429 | D2: 465 | E2: 1610
A3: Skopje | B3: Medium (20-99) | C3: 51 | D3: 46 | E3: 182
A4: Skopje | B4: Large (100 or more) | C4: 33 | D4: 26 | E4: 39
A5: Eastern Macedonia | B5: Small (5-19) | C5: 468 | D5: 488 | E5: 1123
A6: Eastern Macedonia | B6: Medium (20-99) | C6: 77 | D6: 27 | E6: 73
A7: Eastern Macedonia | B7: Large (100 or more) | C7: 43 | D7: 6 | E7: 10
A8: Western Macedonia | B8: Small (5-19) | C8: 423 | D8: 563 | E8: 1021
A9: Western Macedonia | B9: Medium (20-99) | C9: 58 | D9: 34 | E9: 47
A10: Western Macedonia | B10: Large (100 or more) | C10: 32 | D10: 6 | E10: 12

Sheet original survey design
A1: stratificationregionname | B1: stratificationsizename | C1: _Manufacturing | D1: _Retail | E1: _Other_Services | F1: _Grand_Total
A2: Skopje | B2: Small (5-19) | C2: 7 | D2: 7 | E2: 31
A3: Skopje | B3: Medium (20-99) | C3: 4 | D3: 17 | E3: 4
A4: Skopje | B4: Large (100+) | C4: 17 | D4: 16 | E4: 17
A5: Eastern Macedonia | B5: Small (5-19) | C5: 7 | D5: 12 | E5: 16
A6: Eastern Macedonia | B6: Medium (20-99) | C6: 16 | D6: 18 | E6: 13
A7: Eastern Macedonia | B7: Large (100+) | C7: 26 | D7: 5 | E7: 7
A8: Western Macedonia | B8: Small (5-19) | C8: 7 | D8: 20 | E8: 13
A9: Western Macedonia | B9: Medium (20-99) | C9: 16 | D9: 21 | E9: 11
A10: Western Macedonia | B10: Large (100+) | C10: 20 | D10: 4 | E10: 8

Sheet yield calculation
A1: Survey | B1: Cell | C1: Name | D1: Yield | E1: Survey_response_rate | F1: Frame_quality
A2: North Macedonia 2023 | B2: Fresh/Panel | C2: Fresh | D2: 0.23826715 | E2: 0.40000001 | F2: 0.5956679
A3: North Macedonia 2023 | B3: Fresh/Panel | C3: Panel | D3: 0.43333334 | E3: 0.62903225 | F3: 0.68888891
A4: North Macedonia 2023 | B4: Size | C4: Small (5-19) | D4: 0.20634921 | E4: 0.38011697 | F4: 0.54285717
A5: North Macedonia 2023 | B5: Size | C5: Medium (20-99) | D5: 0.35028249 | E5: 0.51028806 | F5: 0.68644071
A6: North Macedonia 2023 | B6: Size | C6: Large (100+) | D6: 0.4830918 | E6: 0.63291138 | F6: 0.76328504
A7: North Macedonia 2023 | B7: Region | C7: Skopje | D7: 0.28244275 | E7: 0.46058092 | F7: 0.61323154
A8: North Macedonia 2023 | B8: Region | C8: Eastern Macedonia | D8: 0.34770116 | E8: 0.55504584 | F8: 0.62643677
A9: North Macedonia 2023 | B9: Region | C9: Western Macedonia | D9: 0.2711111 | E9: 0.42957747 | F9: 0.63111109
A10: North Macedonia 2023 | B10: Sector | C10: Manufacturing | D10: 0.34782609 | E10: 0.55555558 | F10: 0.62608695
A11: North Macedonia 2023 | B11: Sector | C11: Retail | D11: 0.29473683 | E11: 0.44800001 | F11: 0.65789473
A12: North Macedonia 2023 | B12: Sector | C12: Other Services | D12: 0.26180258 | E12: 0.4404332 | F12: 0.59442061
A13: North Macedonia 2023 | B13: North Macedonia 2023 | C13: North Macedonia 2023 | D13: 0.29722923 | E13: 0.47644684 | F13: 0.62384552

Sheet achieved fresh and panel
A1: stratificationregionname | B1: stratificationsizename | C1: _Manufacturing | D1: _Retail | E1: _Other_Services | F1: _Grand_Total
A2: Skopje | B2: Small (5-19) | C2: 6 | D2: 5 | E2: 24
A3: Skopje | B3: Medium (20-99) | C3: 4 | D3: 20 | E3: 5
A4: Skopje | B4: Large (100 or more) | C4: 18 | D4: 14 | E4: 15
A5: Eastern Macedonia | B5: Small (5-19) | C5: 6 | D5: 18 | E5: 17
A6: Eastern Macedonia | B6: Medium (20-99) | C6: 21 | D6: 14 | E6: 16
A7: Eastern Macedonia | B7: Large (100 or more) | C7: 21 | D7: 2 | E7: 6
A8: Western Macedonia | B8: Small (5-19) | C8: 8 | D8: 24 | E8: 22
A9: Western Macedonia | B9: Medium (20-99) | C9: 19 | D9: 12 | E9: 13
A10: Western Macedonia | B10: Large (100 or more) | C10: 17 | D10: 3 | E10: 4

Sheet achieved panel
A1: stratificationregionname | B1: stratificationsizename | C1: _Manufacturing | D1: _Retail | E1: _Other_Services | F1: achieved_panel | G1: achieved
A2: Skopje | B2: Small (5-19) | C2: 2 | D2: 2 | E2: 8 | F2: 2 | G2: 6
A3: Skopje | B3: Medium (20-99) | C3: 2 | D3: 6 | E3: 2 | F3: 6 | G3: 17
A4: Skopje | B4: Large (100 or more) | C4: 9 | D4: 8 | E4: 5 | F4: 10 | G4: 18
A5: Eastern Macedonia | B5: Small (5-19) | C5: 2 | D5: 10 | E5: 6 | F5: 7 | G5: 26
A6: Eastern Macedonia | B6: Medium (20-99) | C6: 10 | D6: 9 | E6: 8 | F6: 2 | G6: 8
A7: Eastern Macedonia | B7: Large (100 or more) | C7: 12 | D7: 1 | E7: 6 | F7: 2 | G7: 5
A8: Western Macedonia | B8: Small (5-19) | C8: 2 | D8: 6 | E8: 5 | F8: 6 | G8: 20
A9: Western Macedonia | B9: Medium (20-99) | C9: 8 | D9: 8 | E9: 5 | F9: 9 | G9: 25
A10: Western Macedonia | B10: Large (100 or more) | C10: 11 | D10: 2 | E10: 1 | F10: 9 | G10: 18

Sheet universe_strict
A1: stratificationregionname | B1: stratificationsizename | C1: _Manufacturing | D1: _Retail | E1: _Other_Services | F1: _Grand_Total
A2: Skopje | B2: Small (5-19) | C2: 209.9025 | D2: 235.05731 | E2: 1077.028
A3: Skopje | B3: Medium (20-99) | C3: 29.369446 | D3: 25.031542 | E3: 105.73997
A4: Skopje | B4: Large (100 or more) | C4: 23.093107 | D4: 15.027699 | E4: 30.617313
A5: Eastern Macedonia | B5: Small (5-19) | C5: 213.93343 | D5: 234.5038 | E5: 520.797
A6: Eastern Macedonia | B6: Medium (20-99) | C6: 37.078674 | D6: 16.088015 | E6: 39.535091
A7: Eastern Macedonia | B7: Large (100 or more) | C7: 21 | D7: 3.7252533 | E7: 6
A8: Western Macedonia | B8: Small (5-19) | C8: 191.69827 | D8: 269.03467 | E8: 465.86203
A9: Western Macedonia | B9: Medium (20-99) | C9: 29.26643 | D9: 19.817608 | E9: 24.843184
A10: Western Macedonia | B10: Large (100 or more) | C10: 17 | D10: 3.6992886 | E10: 5.3015509

Sheet universe_median
A1: stratificationregionname | B1: stratificationsizename | C1: _Manufacturing | D1: _Retail | E1: _Other_Services | F1: _Grand_Total
A2: Skopje | B2: Small (5-19) | C2: 236.19855 | D2: 255.68787 | E2: 1235.6261
A3: Skopje | B3: Medium (20-99) | C3: 31.362587 | D3: 25.315006 | E3: 115.12135
A4: Skopje | B4: Large (100 or more) | C4: 23.975668 | D4: 14.794988 | E4: 30.684675
A5: Eastern Macedonia | B5: Small (5-19) | C5: 245.66515 | D5: 260.31039 | E5: 609.72491
A6: Eastern Macedonia | B6: Medium (20-99) | C6: 39.562172 | D6: 16.480715 | E6: 43.806164
A7: Eastern Macedonia | B7: Large (100 or more) | C7: 21 | D7: 3.6123667 | E7: 6
A8: Western Macedonia | B8: Small (5-19) | C8: 223.99791 | D8: 303.88611 | E8: 554.9881
A9: Western Macedonia | B9: Medium (20-99) | C9: 32.314732 | D9: 21.269686 | E9: 27.840994
A10: Western Macedonia | B10: Large (100 or more) | C10: 17 | D10: 3.7219281 | E10: 5.5172625

Sheet universe_weak
A1: stratificationregionname | B1: stratificationsizename | C1: _Manufacturing | D1: _Retail | E1: _Other_Services | F1: _Grand_Total
A2: Skopje | B2: Small (5-19) | C2: 418.94119 | D2: 446.53198 | E2: 2273.8647
A3: Skopje | B3: Medium (20-99) | C3: 45.449261 | D3: 34.453171 | E3: 173.09021
A4: Skopje | B4: Large (100 or more) | C4: 29.268364 | D4: 18.451817 | E4: 41.780399
A5: Eastern Macedonia | B5: Small (5-19) | C5: 451.8674 | D5: 471.43912 | E5: 1163.5984
A6: Eastern Macedonia | B6: Medium (20-99) | C6: 56.955196 | D6: 18.792852 | E6: 67.797722
A7: Eastern Macedonia | B7: Large (100 or more) | C7: 24.302906 | D7: 4.8406024 | E7: 7.7908039
A8: Western Macedonia | B8: Small (5-19) | C8: 404.73605 | D8: 540.63647 | E8: 1040.4309
A9: Western Macedonia | B9: Medium (20-99) | C9: 47.239979 | D9: 28.405504 | E9: 41.680367
A10: Western Macedonia | B10: Large (100 or more) | C10: 21.121738 | D10: 4.5759859 | E10: 7.6529121

Sheet item response
A1: Survey | B1: Cell | C1: Name | D1: rr_d2 | E1: rr_l1 | F1: rr_n2a | G1: rr_TFP
A2: North Macedonia 2023 | B2: Fresh/Panel | C2: Fresh | D2: 0.99494952 | E2: 0.99494952 | F2: 0.93939394 | G2: 0.45454547
A3: North Macedonia 2023 | B3: Fresh/Panel | C3: Panel | D3: 0.99358976 | E3: 0.99358976 | F3: 0.96153843 | G3: 0.5
A4: North Macedonia 2023 | B4: Size | C4: Small (5-19) | D4: 1 | E4: 1 | F4: 0.97826087 | G4: 0.62068963
A5: North Macedonia 2023 | B5: Size | C5: Medium (20-99) | D5: 0.99199998 | E5: 0.99199998 | F5: 0.94400001 | G5: 0.46666667
A6: North Macedonia 2023 | B6: Size | C6: Large (100+) | D6: 0.98901099 | E6: 0.98901099 | F6: 0.91208792 | G6: 0.39130434
A7: North Macedonia 2023 | B7: Region | C7: Skopje | D7: 0.99082571 | E7: 1 | F7: 0.93577981 | G7: 0.53846157
A8: North Macedonia 2023 | B8: Region | C8: Eastern Macedonia | D8: 1 | E8: 1 | F8: 0.98360658 | G8: 0.53191489
A9: North Macedonia 2023 | B9: Region | C9: Western Macedonia | D9: 0.99186993 | E9: 0.98373985 | F9: 0.92682928 | G9: 0.38297874
A10: North Macedonia 2023 | B10: Sector | C10: Manufacturing | D10: 1 | E10: 1 | F10: 0.97500002 | G10: 0.47499999
A11: North Macedonia 2023 | B11: Sector | C11: Other Services | D11: 0.99264705 | E11: 1 | F11: 0.95588237
A12: North Macedonia 2023 | B12: Sector | C12: Retail | D12: 0.98979592 | E12: 0.97959185 | F12: 0.90816325
A13: North Macedonia 2023 | B13: North Macedonia 2023 | C13: North Macedonia 2023 | D13: 0.99435025 | E13: 0.99435025 | F13: 0.94915253 | G13: 0.47499999
