Workbook

Sheet Table 1 Universe
C1: =RIGHT(SUBSTITUTE(universe!C1,"_"," "),LEN(SUBSTITUTE(universe!C1,"_"," "))-1) -> Food | D1: =RIGHT(SUBSTITUTE(universe!D1,"_"," "),LEN(SUBSTITUTE(universe!D1,"_"," "))-1) -> Textiles | E1: =RIGHT(SUBSTITUTE(universe!E1,"_"," "),LEN(SUBSTITUTE(universe!E1,"_"," "))-1) -> Garments | F1: =RIGHT(SUBSTITUTE(universe!F1,"_"," "),LEN(SUBSTITUTE(universe!F1,"_"," "))-1) -> Other Mfg | G1: =RIGHT(SUBSTITUTE(universe!G1,"_"," "),LEN(SUBSTITUTE(universe!G1,"_"," "))-1) -> Retail | H1: =RIGHT(SUBSTITUTE(universe!H1,"_"," "),LEN(SUBSTITUTE(universe!H1,"_"," "))-1) -> Hotels | I1: =RIGHT(SUBSTITUTE(universe!I1,"_"," "),LEN(SUBSTITUTE(universe!I1,"_"," "))-1) -> Other Services | J1: =RIGHT(SUBSTITUTE(universe!J1,"_"," "),LEN(SUBSTITUTE(universe!J1,"_"," "))-1) -> Grand Total
A2: =universe!A2 -> Lima | B2: =LEFT(universe!B2,FIND(")",universe!B2)) -> Small (5-19) | C2: =universe!C2 -> 644 | D2: =universe!D2 -> 313 | E2: =universe!E2 -> 585 | F2: =universe!F2 -> 3515 | G2: =universe!G2 -> 2863 | H2: =universe!H2 -> 399 | I2: =universe!I2 -> 14483 | J2: =SUM(C2:I4) -> 29622
A3: =universe!A3 -> Lima | B3: =LEFT(universe!B3,FIND(")",universe!B3)) -> Medium (20-99) | C3: =universe!C3 -> 215 | D3: =universe!D3 -> 82 | E3: =universe!E3 -> 109 | F3: =universe!F3 -> 786 | G3: =universe!G3 -> 375 | H3: =universe!H3 -> 93 | I3: =universe!I3 -> 3395
A4: =universe!A4 -> Lima | B4: =LEFT(universe!B4,FIND(")",universe!B4)) -> Large (100 or more) | C4: =universe!C4 -> 152 | D4: =universe!D4 -> 38 | E4: =universe!E4 -> 47 | F4: =universe!F4 -> 325 | G4: =universe!G4 -> 124 | H4: =universe!H4 -> 28 | I4: =universe!I4 -> 1051
A5: =universe!A5 -> Arequipa | B5: =LEFT(universe!B5,FIND(")",universe!B5)) -> Small (5-19) | C5: =universe!C5 -> 74 | D5: =universe!D5 -> 21 | E5: =universe!E5 -> 37 | F5: =universe!F5 -> 238 | G5: =universe!G5 -> 299 | H5: =universe!H5 -> 77 | I5: =universe!I5 -> 1604 | J5: =SUM(C5:I7) -> 2790
A6: =universe!A6 -> Arequipa | B6: =LEFT(universe!B6,FIND(")",universe!B6)) -> Medium (20-99) | C6: =universe!C6 -> 23 | D6: =universe!D6 -> 1 | E6: =universe!E6 -> 2 | F6: =universe!F6 -> 53 | G6: =universe!G6 -> 23 | H6: =universe!H6 -> 8 | I6: =universe!I6 -> 230
A7: =universe!A7 -> Arequipa | B7: =LEFT(universe!B7,FIND(")",universe!B7)) -> Large (100 or more) | C7: =universe!C7 -> 5 | D7: =universe!D7 -> 4 | E7: =universe!E7 -> 3 | F7: =universe!F7 -> 22 | G7: =universe!G7 -> 6 | H7: =universe!H7 -> 0 | I7: =universe!I7 -> 60
A8: =universe!A8 -> Chiclayo | B8: =LEFT(universe!B8,FIND(")",universe!B8)) -> Small (5-19) | C8: =universe!C8 -> 64 | D8: =universe!D8 -> 0 | E8: =universe!E8 -> 2 | F8: =universe!F8 -> 88 | G8: =universe!G8 -> 151 | H8: =universe!H8 -> 35 | I8: =universe!I8 -> 645 | J8: =SUM(C8:I10) -> 1136
A9: =universe!A9 -> Chiclayo | B9: =LEFT(universe!B9,FIND(")",universe!B9)) -> Medium (20-99) | C9: =universe!C9 -> 9 | D9: =universe!D9 -> 0 | E9: =universe!E9 -> 0 | F9: =universe!F9 -> 15 | G9: =universe!G9 -> 10 | H9: =universe!H9 -> 4 | I9: =universe!I9 -> 80
A10: =universe!A10 -> Chiclayo | B10: =LEFT(universe!B10,FIND(")",universe!B10)) -> Large (100 or more) | C10: =universe!C10 -> 9 | D10: =universe!D10 -> 0 | E10: =universe!E10 -> 0 | F10: =universe!F10 -> 5 | G10: =universe!G10 -> 2 | H10: =universe!H10 -> 0 | I10: =universe!I10 -> 17
A11: =universe!A11 -> Trujillo | B11: =LEFT(universe!B11,FIND(")",universe!B11)) -> Small (5-19) | C11: =universe!C11 -> 54 | D11: =universe!D11 -> 3 | E11: =universe!E11 -> 4 | F11: =universe!F11 -> 177 | G11: =universe!G11 -> 259 | H11: =universe!H11 -> 59 | I11: =universe!I11 -> 1562 | J11: =SUM(C11:I13) -> 2515
A12: =universe!A12 -> Trujillo | B12: =LEFT(universe!B12,FIND(")",universe!B12)) -> Medium (20-99) | C12: =universe!C12 -> 11 | D12: =universe!D12 -> 0 | E12: =universe!E12 -> 1 | F12: =universe!F12 -> 26 | G12: =universe!G12 -> 21 | H12: =universe!H12 -> 5 | I12: =universe!I12 -> 266
A13: =universe!A13 -> Trujillo | B13: =LEFT(universe!B13,FIND(")",universe!B13)) -> Large (100 or more) | C13: =universe!C13 -> 10 | D13: =universe!D13 -> 0 | E13: =universe!E13 -> 0 | F13: =universe!F13 -> 6 | G13: =universe!G13 -> 5 | H13: =universe!H13 -> 0 | I13: =universe!I13 -> 46
A14: =universe!A14 -> Piura | B14: =LEFT(universe!B14,FIND(")",universe!B14)) -> Small (5-19) | C14: =universe!C14 -> 63 | D14: =universe!D14 -> 1 | E14: =universe!E14 -> 4 | F14: =universe!F14 -> 97 | G14: =universe!G14 -> 229 | H14: =universe!H14 -> 52 | I14: =universe!I14 -> 841 | J14: =SUM(C14:I16) -> 1551
A15: =universe!A15 -> Piura | B15: =LEFT(universe!B15,FIND(")",universe!B15)) -> Medium (20-99) | C15: =universe!C15 -> 28 | D15: =universe!D15 -> 0 | E15: =universe!E15 -> 0 | F15: =universe!F15 -> 14 | G15: =universe!G15 -> 20 | H15: =universe!H15 -> 4 | I15: =universe!I15 -> 141
A16: =universe!A16 -> Piura | B16: =LEFT(universe!B16,FIND(")",universe!B16)) -> Large (100 or more) | C16: =universe!C16 -> 19 | D16: =universe!D16 -> 0 | E16: =universe!E16 -> 0 | F16: =universe!F16 -> 3 | G16: =universe!G16 -> 6 | H16: =universe!H16 -> 0 | I16: =universe!I16 -> 29
C17: =SUM(C2:C16) -> 1380 | D17: =SUM(D2:D16) -> 463 | E17: =SUM(E2:E16) -> 794 | F17: =SUM(F2:F16) -> 5370 | G17: =SUM(G2:G16) -> 4393 | H17: =SUM(H2:H16) -> 764 | I17: =SUM(I2:I16) -> 24450 | J17: =SUM(J2:J16) -> 37614
A18: Source: SUNAT March 2022

Sheet Table 2 Frame
C1: =RIGHT(SUBSTITUTE('frame fresh and panel'!C1,"_"," "),LEN(SUBSTITUTE('frame fresh and panel'!C1,"_"," "))-1) -> Food | D1: =RIGHT(SUBSTITUTE('frame fresh and panel'!D1,"_"," "),LEN(SUBSTITUTE('frame fresh and panel'!D1,"_"," "))-1) -> Textiles | E1: =RIGHT(SUBSTITUTE('frame fresh and panel'!E1,"_"," "),LEN(SUBSTITUTE('frame fresh and panel'!E1,"_"," "))-1) -> Garments | F1: =RIGHT(SUBSTITUTE('frame fresh and panel'!F1,"_"," "),LEN(SUBSTITUTE('frame fresh and panel'!F1,"_"," "))-1) -> Other Mfg | G1: =RIGHT(SUBSTITUTE('frame fresh and panel'!G1,"_"," "),LEN(SUBSTITUTE('frame fresh and panel'!G1,"_"," "))-1) -> Retail | H1: =RIGHT(SUBSTITUTE('frame fresh and panel'!H1,"_"," "),LEN(SUBSTITUTE('frame fresh and panel'!H1,"_"," "))-1) -> Hotels | I1: =RIGHT(SUBSTITUTE('frame fresh and panel'!I1,"_"," "),LEN(SUBSTITUTE('frame fresh and panel'!I1,"_"," "))-1) -> Other Services | J1: =RIGHT(SUBSTITUTE('frame fresh and panel'!J1,"_"," "),LEN(SUBSTITUTE('frame fresh and panel'!J1,"_"," "))-1) -> Grand Total
A2: ='frame fresh and panel'!A2 -> Lima | B2: =LEFT('frame fresh and panel'!B2,FIND(")",'frame fresh and panel'!B2)) -> Small (5-19) | C2: ='frame fresh and panel'!C2 -> 480 | D2: ='frame fresh and panel'!D2 -> 205 | E2: ='frame fresh and panel'!E2 -> 507 | F2: ='frame fresh and panel'!F2 -> 1507 | G2: ='frame fresh and panel'!G2 -> 1177 | H2: ='frame fresh and panel'!H2 -> 250 | I2: ='frame fresh and panel'!I2 -> 5105 | J2: =SUM(C2:I4) -> 14436
A3: ='frame fresh and panel'!A3 -> Lima | B3: =LEFT('frame fresh and panel'!B3,FIND(")",'frame fresh and panel'!B3)) -> Medium (20-99) | C3: ='frame fresh and panel'!C3 -> 173 | D3: ='frame fresh and panel'!D3 -> 86 | E3: ='frame fresh and panel'!E3 -> 81 | F3: ='frame fresh and panel'!F3 -> 664 | G3: ='frame fresh and panel'!G3 -> 295 | H3: ='frame fresh and panel'!H3 -> 70 | I3: ='frame fresh and panel'!I3 -> 2252
A4: ='frame fresh and panel'!A4 -> Lima | B4: =LEFT('frame fresh and panel'!B4,FIND(")",'frame fresh and panel'!B4)) -> Large (100 or more) | C4: ='frame fresh and panel'!C4 -> 175 | D4: ='frame fresh and panel'!D4 -> 52 | E4: ='frame fresh and panel'!E4 -> 66 | F4: ='frame fresh and panel'!F4 -> 355 | G4: ='frame fresh and panel'!G4 -> 122 | H4: ='frame fresh and panel'!H4 -> 25 | I4: ='frame fresh and panel'!I4 -> 789
A5: ='frame fresh and panel'!A5 -> Arequipa | B5: =LEFT('frame fresh and panel'!B5,FIND(")",'frame fresh and panel'!B5)) -> Small (5-19) | C5: ='frame fresh and panel'!C5 -> 60 | D5: ='frame fresh and panel'!D5 -> 20 | E5: ='frame fresh and panel'!E5 -> 42 | F5: ='frame fresh and panel'!F5 -> 240 | G5: ='frame fresh and panel'!G5 -> 275 | H5: ='frame fresh and panel'!H5 -> 61 | I5: ='frame fresh and panel'!I5 -> 1304 | J5: =SUM(C5:I7) -> 2508
A6: ='frame fresh and panel'!A6 -> Arequipa | B6: =LEFT('frame fresh and panel'!B6,FIND(")",'frame fresh and panel'!B6)) -> Medium (20-99) | C6: ='frame fresh and panel'!C6 -> 26 | D6: ='frame fresh and panel'!D6 -> 2 | E6: ='frame fresh and panel'!E6 -> 5 | F6: ='frame fresh and panel'!F6 -> 65 | G6: ='frame fresh and panel'!G6 -> 26 | H6: ='frame fresh and panel'!H6 -> 9 | I6: ='frame fresh and panel'!I6 -> 241
A7: ='frame fresh and panel'!A7 -> Arequipa | B7: =LEFT('frame fresh and panel'!B7,FIND(")",'frame fresh and panel'!B7)) -> Large (100 or more) | C7: ='frame fresh and panel'!C7 -> 8 | D7: ='frame fresh and panel'!D7 -> 7 | E7: ='frame fresh and panel'!E7 -> 5 | F7: ='frame fresh and panel'!F7 -> 29 | G7: ='frame fresh and panel'!G7 -> 9 | H7: ='frame fresh and panel'!H7 -> 0 | I7: ='frame fresh and panel'!I7 -> 74
A8: ='frame fresh and panel'!A8 -> Chiclayo | B8: =LEFT('frame fresh and panel'!B8,FIND(")",'frame fresh and panel'!B8)) -> Small (5-19) | C8: ='frame fresh and panel'!C8 -> 49 | D8: ='frame fresh and panel'!D8 -> 0 | E8: ='frame fresh and panel'!E8 -> 6 | F8: ='frame fresh and panel'!F8 -> 88 | G8: ='frame fresh and panel'!G8 -> 130 | H8: ='frame fresh and panel'!H8 -> 32 | I8: ='frame fresh and panel'!I8 -> 533 | J8: =SUM(C8:I10) -> 1017
A9: ='frame fresh and panel'!A9 -> Chiclayo | B9: =LEFT('frame fresh and panel'!B9,FIND(")",'frame fresh and panel'!B9)) -> Medium (20-99) | C9: ='frame fresh and panel'!C9 -> 11 | D9: ='frame fresh and panel'!D9 -> 0 | E9: ='frame fresh and panel'!E9 -> 0 | F9: ='frame fresh and panel'!F9 -> 13 | G9: ='frame fresh and panel'!G9 -> 13 | H9: ='frame fresh and panel'!H9 -> 5 | I9: ='frame fresh and panel'!I9 -> 98
A10: ='frame fresh and panel'!A10 -> Chiclayo | B10: =LEFT('frame fresh and panel'!B10,FIND(")",'frame fresh and panel'!B10)) -> Large (100 or more) | C10: ='frame fresh and panel'!C10 -> 12 | D10: ='frame fresh and panel'!D10 -> 0 | E10: ='frame fresh and panel'!E10 -> 0 | F10: ='frame fresh and panel'!F10 -> 4 | G10: ='frame fresh and panel'!G10 -> 3 | H10: ='frame fresh and panel'!H10 -> 0 | I10: ='frame fresh and panel'!I10 -> 20
A11: ='frame fresh and panel'!A11 -> Trujillo | B11: =LEFT('frame fresh and panel'!B11,FIND(")",'frame fresh and panel'!B11)) -> Small (5-19) | C11: ='frame fresh and panel'!C11 -> 47 | D11: ='frame fresh and panel'!D11 -> 2 | E11: ='frame fresh and panel'!E11 -> 6 | F11: ='frame fresh and panel'!F11 -> 194 | G11: ='frame fresh and panel'!G11 -> 226 | H11: ='frame fresh and panel'!H11 -> 53 | I11: ='frame fresh and panel'!I11 -> 1201 | J11: =SUM(C11:I13) -> 2141
A12: ='frame fresh and panel'!A12 -> Trujillo | B12: =LEFT('frame fresh and panel'!B12,FIND(")",'frame fresh and panel'!B12)) -> Medium (20-99) | C12: ='frame fresh and panel'!C12 -> 9 | D12: ='frame fresh and panel'!D12 -> 0 | E12: ='frame fresh and panel'!E12 -> 2 | F12: ='frame fresh and panel'!F12 -> 34 | G12: ='frame fresh and panel'!G12 -> 27 | H12: ='frame fresh and panel'!H12 -> 7 | I12: ='frame fresh and panel'!I12 -> 254
A13: ='frame fresh and panel'!A13 -> Trujillo | B13: =LEFT('frame fresh and panel'!B13,FIND(")",'frame fresh and panel'!B13)) -> Large (100 or more) | C13: ='frame fresh and panel'!C13 -> 11 | D13: ='frame fresh and panel'!D13 -> 0 | E13: ='frame fresh and panel'!E13 -> 0 | F13: ='frame fresh and panel'!F13 -> 8 | G13: ='frame fresh and panel'!G13 -> 3 | H13: ='frame fresh and panel'!H13 -> 1 | I13: ='frame fresh and panel'!I13 -> 56
A14: ='frame fresh and panel'!A14 -> Piura | B14: =LEFT('frame fresh and panel'!B14,FIND(")",'frame fresh and panel'!B14)) -> Small (5-19) | C14: ='frame fresh and panel'!C14 -> 48 | D14: ='frame fresh and panel'!D14 -> 1 | E14: ='frame fresh and panel'!E14 -> 2 | F14: ='frame fresh and panel'!F14 -> 77 | G14: ='frame fresh and panel'!G14 -> 148 | H14: ='frame fresh and panel'!H14 -> 36 | I14: ='frame fresh and panel'!I14 -> 592 | J14: =SUM(C14:I16) -> 1137
A15: ='frame fresh and panel'!A15 -> Piura | B15: =LEFT('frame fresh and panel'!B15,FIND(")",'frame fresh and panel'!B15)) -> Medium (20-99) | C15: ='frame fresh and panel'!C15 -> 22 | D15: ='frame fresh and panel'!D15 -> 0 | E15: ='frame fresh and panel'!E15 -> 0 | F15: ='frame fresh and panel'!F15 -> 13 | G15: ='frame fresh and panel'!G15 -> 21 | H15: ='frame fresh and panel'!H15 -> 4 | I15: ='frame fresh and panel'!I15 -> 115
A16: ='frame fresh and panel'!A16 -> Piura | B16: =LEFT('frame fresh and panel'!B16,FIND(")",'frame fresh and panel'!B16)) -> Large (100 or more) | C16: ='frame fresh and panel'!C16 -> 19 | D16: ='frame fresh and panel'!D16 -> 0 | E16: ='frame fresh and panel'!E16 -> 0 | F16: ='frame fresh and panel'!F16 -> 2 | G16: ='frame fresh and panel'!G16 -> 6 | H16: ='frame fresh and panel'!H16 -> 0 | I16: ='frame fresh and panel'!I16 -> 31
C17: =SUM(C2:C16) -> 1150 | D17: =SUM(D2:D16) -> 375 | E17: =SUM(E2:E16) -> 722 | F17: =SUM(F2:F16) -> 3293 | G17: =SUM(G2:G16) -> 2481 | H17: =SUM(H2:H16) -> 553 | I17: =SUM(I2:I16) -> 12665 | J17: =SUM(J2:J16) -> 21239
A18: Source: The frame was obtained by enriching the dataset from the Universe. Universe generally did not contain any contact information but the vendor, using the info available in the universe (RUC, firm denomination) did desk research to identify the contact information. The enrichment happened using the following sources: Top 10mil (base especializada), Top PYME (base especializada), Redes sociales (Facebook y LinkedIn), Página web de las empresas, Internet en general).

Sheet Table 3 Original Survey Design
C1: =RIGHT(SUBSTITUTE('original survey design'!C1,"_"," "),LEN(SUBSTITUTE('original survey design'!C1,"_"," "))-1) -> Food | D1: =RIGHT(SUBSTITUTE('original survey design'!D1,"_"," "),LEN(SUBSTITUTE('original survey design'!D1,"_"," "))-1) -> Textiles | E1: =RIGHT(SUBSTITUTE('original survey design'!E1,"_"," "),LEN(SUBSTITUTE('original survey design'!E1,"_"," "))-1) -> Garments | F1: =RIGHT(SUBSTITUTE('original survey design'!F1,"_"," "),LEN(SUBSTITUTE('original survey design'!F1,"_"," "))-1) -> Other Mfg | G1: =RIGHT(SUBSTITUTE('original survey design'!G1,"_"," "),LEN(SUBSTITUTE('original survey design'!G1,"_"," "))-1) -> Retail | H1: =RIGHT(SUBSTITUTE('original survey design'!H1,"_"," "),LEN(SUBSTITUTE('original survey design'!H1,"_"," "))-1) -> Hotels | I1: =RIGHT(SUBSTITUTE('original survey design'!I1,"_"," "),LEN(SUBSTITUTE('original survey design'!I1,"_"," "))-1) -> Other Services | J1: =RIGHT(SUBSTITUTE('original survey design'!J1,"_"," "),LEN(SUBSTITUTE('original survey design'!J1,"_"," "))-1) -> Grand Total
A2: ='original survey design'!A2 -> Lima | B2: =LEFT('original survey design'!B2,FIND(")",'original survey design'!B2)) -> Small (5-19) | C2: ='original survey design'!C2 -> 7 | D2: ='original survey design'!D2 -> 25 | E2: ='original survey design'!E2 -> 25 | F2: ='original survey design'!F2 -> 25 | G2: ='original survey design'!G2 -> 19 | H2: ='original survey design'!H2 -> 16 | I2: ='original survey design'!I2 -> 17 | J2: =SUM(C2:I4) -> 435
A3: ='original survey design'!A3 -> Lima | B3: =LEFT('original survey design'!B3,FIND(")",'original survey design'!B3)) -> Medium (20-99) | C3: ='original survey design'!C3 -> 19 | D3: ='original survey design'!D3 -> 27 | E3: ='original survey design'!E3 -> 28 | F3: ='original survey design'!F3 -> 32 | G3: ='original survey design'!G3 -> 11 | H3: ='original survey design'!H3 -> 19 | I3: ='original survey design'!I3 -> 25
A4: ='original survey design'!A4 -> Lima | B4: =LEFT('original survey design'!B4,FIND(")",'original survey design'!B4)) -> Large (100 or more) | C4: ='original survey design'!C4 -> 25 | D4: ='original survey design'!D4 -> 17 | E4: ='original survey design'!E4 -> 24 | F4: ='original survey design'!F4 -> 28 | G4: ='original survey design'!G4 -> 26 | H4: ='original survey design'!H4 -> 7 | I4: ='original survey design'!I4 -> 13
A5: ='original survey design'!A5 -> Arequipa | B5: =LEFT('original survey design'!B5,FIND(")",'original survey design'!B5)) -> Small (5-19) | C5: ='original survey design'!C5 -> 8 | D5: ='original survey design'!D5 -> 6 | E5: ='original survey design'!E5 -> 14 | F5: ='original survey design'!F5 -> 10 | G5: ='original survey design'!G5 -> 11 | H5: ='original survey design'!H5 -> 17 | I5: ='original survey design'!I5 -> 20 | J5: =SUM(C5:I7) -> 180
A6: ='original survey design'!A6 -> Arequipa | B6: =LEFT('original survey design'!B6,FIND(")",'original survey design'!B6)) -> Medium (20-99) | C6: ='original survey design'!C6 -> 9 | D6: ='original survey design'!D6 -> 1 | E6: ='original survey design'!E6 -> 3 | F6: ='original survey design'!F6 -> 19 | G6: ='original survey design'!G6 -> 8 | H6: ='original survey design'!H6 -> 3 | I6: ='original survey design'!I6 -> 10
A7: ='original survey design'!A7 -> Arequipa | B7: =LEFT('original survey design'!B7,FIND(")",'original survey design'!B7)) -> Large (100 or more) | C7: ='original survey design'!C7 -> 3 | D7: ='original survey design'!D7 -> 3 | E7: ='original survey design'!E7 -> 3 | F7: ='original survey design'!F7 -> 10 | G7: ='original survey design'!G7 -> 4 | H7: ='original survey design'!H7 -> 0 | I7: ='original survey design'!I7 -> 18
A8: ='original survey design'!A8 -> Chiclayo | B8: =LEFT('original survey design'!B8,FIND(")",'original survey design'!B8)) -> Small (5-19) | C8: ='original survey design'!C8 -> 11 | D8: ='original survey design'!D8 -> 0 | E8: ='original survey design'!E8 -> 3 | F8: ='original survey design'!F8 -> 11 | G8: ='original survey design'!G8 -> 15 | H8: ='original survey design'!H8 -> 9 | I8: ='original survey design'!I8 -> 20 | J8: =SUM(C8:I10) -> 120
A9: ='original survey design'!A9 -> Chiclayo | B9: =LEFT('original survey design'!B9,FIND(")",'original survey design'!B9)) -> Medium (20-99) | C9: ='original survey design'!C9 -> 3 | D9: ='original survey design'!D9 -> 0 | E9: ='original survey design'!E9 -> 0 | F9: ='original survey design'!F9 -> 4 | G9: ='original survey design'!G9 -> 5 | H9: ='original survey design'!H9 -> 3 | I9: ='original survey design'!I9 -> 21
A10: ='original survey design'!A10 -> Chiclayo | B10: =LEFT('original survey design'!B10,FIND(")",'original survey design'!B10)) -> Large (100 or more) | C10: ='original survey design'!C10 -> 4 | D10: ='original survey design'!D10 -> 0 | E10: ='original survey design'!E10 -> 0 | F10: ='original survey design'!F10 -> 2 | G10: ='original survey design'!G10 -> 2 | H10: ='original survey design'!H10 -> 0 | I10: ='original survey design'!I10 -> 7
A11: ='original survey design'!A11 -> Trujillo | B11: =LEFT('original survey design'!B11,FIND(")",'original survey design'!B11)) -> Small (5-19) | C11: ='original survey design'!C11 -> 12 | D11: ='original survey design'!D11 -> 1 | E11: ='original survey design'!E11 -> 3 | F11: ='original survey design'!F11 -> 11 | G11: ='original survey design'!G11 -> 21 | H11: ='original survey design'!H11 -> 16 | I11: ='original survey design'!I11 -> 20 | J11: =SUM(C11:I13) -> 160
A12: ='original survey design'!A12 -> Trujillo | B12: =LEFT('original survey design'!B12,FIND(")",'original survey design'!B12)) -> Medium (20-99) | C12: ='original survey design'!C12 -> 3 | D12: ='original survey design'!D12 -> 0 | E12: ='original survey design'!E12 -> 1 | F12: ='original survey design'!F12 -> 11 | G12: ='original survey design'!G12 -> 9 | H12: ='original survey design'!H12 -> 2 | I12: ='original survey design'!I12 -> 24
A13: ='original survey design'!A13 -> Trujillo | B13: =LEFT('original survey design'!B13,FIND(")",'original survey design'!B13)) -> Large (100 or more) | C13: ='original survey design'!C13 -> 4 | D13: ='original survey design'!D13 -> 0 | E13: ='original survey design'!E13 -> 0 | F13: ='original survey design'!F13 -> 3 | G13: ='original survey design'!G13 -> 1 | H13: ='original survey design'!H13 -> 1 | I13: ='original survey design'!I13 -> 17
A14: ='original survey design'!A14 -> Piura | B14: =LEFT('original survey design'!B14,FIND(")",'original survey design'!B14)) -> Small (5-19) | C14: ='original survey design'!C14 -> 4 | D14: ='original survey design'!D14 -> 0 | E14: ='original survey design'!E14 -> 1 | F14: ='original survey design'!F14 -> 5 | G14: ='original survey design'!G14 -> 8 | H14: ='original survey design'!H14 -> 10 | I14: ='original survey design'!I14 -> 4 | J14: =SUM(C14:I16) -> 105
A15: ='original survey design'!A15 -> Piura | B15: =LEFT('original survey design'!B15,FIND(")",'original survey design'!B15)) -> Medium (20-99) | C15: ='original survey design'!C15 -> 7 | D15: ='original survey design'!D15 -> 0 | E15: ='original survey design'!E15 -> 0 | F15: ='original survey design'!F15 -> 5 | G15: ='original survey design'!G15 -> 8 | H15: ='original survey design'!H15 -> 2 | I15: ='original survey design'!I15 -> 33
A16: ='original survey design'!A16 -> Piura | B16: =LEFT('original survey design'!B16,FIND(")",'original survey design'!B16)) -> Large (100 or more) | C16: ='original survey design'!C16 -> 5 | D16: ='original survey design'!D16 -> 0 | E16: ='original survey design'!E16 -> 0 | F16: ='original survey design'!F16 -> 1 | G16: ='original survey design'!G16 -> 2 | H16: ='original survey design'!H16 -> 0 | I16: ='original survey design'!I16 -> 10
C17: =SUM(C2:C16) -> 124 | D17: =SUM(D2:D16) -> 80 | E17: =SUM(E2:E16) -> 105 | F17: =SUM(F2:F16) -> 177 | G17: =SUM(G2:G16) -> 150 | H17: =SUM(H2:H16) -> 105 | I17: =SUM(I2:I16) -> 259 | J17: =SUM(J2:J16) -> 1000

Sheet Table 4 Response Outcomes
D2: Totals | E2: Rates relative to total contacted
B3: Overall | C3: Contacts available in frame | D3: 21239
C4: Issued | D4: 8109
C5: Contacted | D5: 7386
B6: Screening phase | C6: Eligibles | D6: 1204 | E6: =D6/D$5 -> 0.1630111
C7: Screener refusals | D7: 2152 | E7: =D7/D$5 -> 0.29136204
C8: Assumed eligibles | D8: 3953 | E8: =D8/D$5 -> 0.53520173
C9: Ineligible + out of target | D9: 627 | E9: =D9/D$5 -> 0.084890333
C10: Unobtainables | D10: 3403 | E10: =D10/D$5 -> 0.46073653
B11: Interview phase | C11: Interview refusals | D11: 217 | E11: =D11/D$5 -> 0.029379908
B12: (only if eligible) | C12: Complete interviews | D12: 987 | E12: =D12/D$5 -> 0.13363119

Sheet Table 5 Survey Yield Rates
C2: Stratification | D2: Yield | E2: Survey response rate | F2: Frame quality
B3: Panel | C3: Fresh | D3: =VLOOKUP($C3,'yield calculation'!$C:$F,2,FALSE) -> 0.098543003 | E3: =VLOOKUP($C3,'yield calculation'!$C:$F,3,FALSE) -> 0.19259033 | F3: =VLOOKUP($C3,'yield calculation'!$C:$F,4,FALSE) -> 0.5116716
C4: Panel | D4: =VLOOKUP($C4,'yield calculation'!$C:$F,2,FALSE) -> 0.35692921 | E4: =VLOOKUP($C4,'yield calculation'!$C:$F,3,FALSE) -> 0.52110624 | F4: =VLOOKUP($C4,'yield calculation'!$C:$F,4,FALSE) -> 0.68494517
B5: Size | C5: Small (5-19) | D5: =VLOOKUP($C5,'yield calculation'!$C:$F,2,FALSE) -> 0.12439094 | E5: =VLOOKUP($C5,'yield calculation'!$C:$F,3,FALSE) -> 0.25589624 | F5: =VLOOKUP($C5,'yield calculation'!$C:$F,4,FALSE) -> 0.48609918
C6: Medium (20-99) | D6: =VLOOKUP($C6,'yield calculation'!$C:$F,2,FALSE) -> 0.16164891 | E6: =VLOOKUP($C6,'yield calculation'!$C:$F,3,FALSE) -> 0.29626486 | F6: =VLOOKUP($C6,'yield calculation'!$C:$F,4,FALSE) -> 0.54562294
C7: Large (100+) | D7: =VLOOKUP($C7,'yield calculation'!$C:$F,2,FALSE) -> 0.1173763 | E7: =VLOOKUP($C7,'yield calculation'!$C:$F,3,FALSE) -> 0.18906395 | F7: =VLOOKUP($C7,'yield calculation'!$C:$F,4,FALSE) -> 0.62082851
B8: Region | C8: Lima | D8: =VLOOKUP($C8,'yield calculation'!$C:$F,2,FALSE) -> 0.10728347 | E8: =VLOOKUP($C8,'yield calculation'!$C:$F,3,FALSE) -> 0.1934339 | F8: =VLOOKUP($C8,'yield calculation'!$C:$F,4,FALSE) -> 0.55462599
C9: Arequipa | D9: =VLOOKUP($C9,'yield calculation'!$C:$F,2,FALSE) -> 0.16603774 | E9: =VLOOKUP($C9,'yield calculation'!$C:$F,3,FALSE) -> 0.27936509 | F9: =VLOOKUP($C9,'yield calculation'!$C:$F,4,FALSE) -> 0.59433961
C10: Chiclayo | D10: =VLOOKUP($C10,'yield calculation'!$C:$F,2,FALSE) -> 0.20216607 | E10: =VLOOKUP($C10,'yield calculation'!$C:$F,3,FALSE) -> 0.40727273 | F10: =VLOOKUP($C10,'yield calculation'!$C:$F,4,FALSE) -> 0.4963899
C11: Trujillo | D11: =VLOOKUP($C11,'yield calculation'!$C:$F,2,FALSE) -> 0.15704153 | E11: =VLOOKUP($C11,'yield calculation'!$C:$F,3,FALSE) -> 0.34140968 | F11: =VLOOKUP($C11,'yield calculation'!$C:$F,4,FALSE) -> 0.45997974
C12: Piura | D12: =VLOOKUP($C12,'yield calculation'!$C:$F,2,FALSE) -> 0.14979196 | E12: =VLOOKUP($C12,'yield calculation'!$C:$F,3,FALSE) -> 0.31764707 | F12: =VLOOKUP($C12,'yield calculation'!$C:$F,4,FALSE) -> 0.47156727
B13: Sector | C13: Food | D13: =VLOOKUP($C13,'yield calculation'!$C:$F,2,FALSE) -> 0.13867685 | E13: =VLOOKUP($C13,'yield calculation'!$C:$F,3,FALSE) -> 0.24222222 | F13: =VLOOKUP($C13,'yield calculation'!$C:$F,4,FALSE) -> 0.57251906
C14: Textiles | D14: =VLOOKUP($C14,'yield calculation'!$C:$F,2,FALSE) -> 0.11796246 | E14: =VLOOKUP($C14,'yield calculation'!$C:$F,3,FALSE) -> 0.21256039 | F14: =VLOOKUP($C14,'yield calculation'!$C:$F,4,FALSE) -> 0.55495977
C15: Garments | D15: =VLOOKUP($C15,'yield calculation'!$C:$F,2,FALSE) -> 0.12230216 | E15: =VLOOKUP($C15,'yield calculation'!$C:$F,3,FALSE) -> 0.25855514 | F15: =VLOOKUP($C15,'yield calculation'!$C:$F,4,FALSE) -> 0.4730216
C16: Other Manufacturing | D16: =VLOOKUP($C16,'yield calculation'!$C:$F,2,FALSE) -> 0.16191156 | E16: =VLOOKUP($C16,'yield calculation'!$C:$F,3,FALSE) -> 0.30428955 | F16: =VLOOKUP($C16,'yield calculation'!$C:$F,4,FALSE) -> 0.53209698
C17: Retail | D17: =VLOOKUP($C17,'yield calculation'!$C:$F,2,FALSE) -> 0.12924071 | E17: =VLOOKUP($C17,'yield calculation'!$C:$F,3,FALSE) -> 0.24922119 | F17: =VLOOKUP($C17,'yield calculation'!$C:$F,4,FALSE) -> 0.51857835
C18: Hotels | D18: =VLOOKUP($C18,'yield calculation'!$C:$F,2,FALSE) -> 0.16094032 | E18: =VLOOKUP($C18,'yield calculation'!$C:$F,3,FALSE) -> 0.25501433 | F18: =VLOOKUP($C18,'yield calculation'!$C:$F,4,FALSE) -> 0.6311031
C19: Other Services | D19: =VLOOKUP($C19,'yield calculation'!$C:$F,2,FALSE) -> 0.11702986 | E19: =VLOOKUP($C19,'yield calculation'!$C:$F,3,FALSE) -> 0.22376543 | F19: =VLOOKUP($C19,'yield calculation'!$C:$F,4,FALSE) -> 0.52300245
B20: Overall | C20: Peru 2023 | D20: =VLOOKUP($C20,'yield calculation'!$C:$F,2,FALSE) -> 0.1336312 | E20: =VLOOKUP($C20,'yield calculation'!$C:$F,3,FALSE) -> 0.24968378 | F20: =VLOOKUP($C20,'yield calculation'!$C:$F,4,FALSE) -> 0.53520173
B21: Notes: the rates are calculated as defined in Section III.4

Sheet Table 6 Achieved Total Sample 
C1: =RIGHT(SUBSTITUTE('achieved fresh and panel'!C1,"_"," "),LEN(SUBSTITUTE('achieved fresh and panel'!C1,"_"," "))-1) -> Food | D1: =RIGHT(SUBSTITUTE('achieved fresh and panel'!D1,"_"," "),LEN(SUBSTITUTE('achieved fresh and panel'!D1,"_"," "))-1) -> Textiles | E1: =RIGHT(SUBSTITUTE('achieved fresh and panel'!E1,"_"," "),LEN(SUBSTITUTE('achieved fresh and panel'!E1,"_"," "))-1) -> Garments | F1: =RIGHT(SUBSTITUTE('achieved fresh and panel'!F1,"_"," "),LEN(SUBSTITUTE('achieved fresh and panel'!F1,"_"," "))-1) -> Other Mfg | G1: =RIGHT(SUBSTITUTE('achieved fresh and panel'!G1,"_"," "),LEN(SUBSTITUTE('achieved fresh and panel'!G1,"_"," "))-1) -> Retail | H1: =RIGHT(SUBSTITUTE('achieved fresh and panel'!H1,"_"," "),LEN(SUBSTITUTE('achieved fresh and panel'!H1,"_"," "))-1) -> Hotels | I1: =RIGHT(SUBSTITUTE('achieved fresh and panel'!I1,"_"," "),LEN(SUBSTITUTE('achieved fresh and panel'!I1,"_"," "))-1) -> Other Services | J1: =RIGHT(SUBSTITUTE('achieved fresh and panel'!J1,"_"," "),LEN(SUBSTITUTE('achieved fresh and panel'!J1,"_"," "))-1) -> Grand Total
A2: ='achieved fresh and panel'!A2 -> Lima | B2: =LEFT('achieved fresh and panel'!B2,FIND(")",'achieved fresh and panel'!B2)) -> Small (5-19) | C2: ='achieved fresh and panel'!C2 -> 8 | D2: ='achieved fresh and panel'!D2 -> 18 | E2: ='achieved fresh and panel'!E2 -> 25 | F2: ='achieved fresh and panel'!F2 -> 23 | G2: ='achieved fresh and panel'!G2 -> 11 | H2: ='achieved fresh and panel'!H2 -> 25 | I2: ='achieved fresh and panel'!I2 -> 16 | J2: =SUM(C2:I4) -> 436
A3: ='achieved fresh and panel'!A3 -> Lima | B3: =LEFT('achieved fresh and panel'!B3,FIND(")",'achieved fresh and panel'!B3)) -> Medium (20-99) | C3: ='achieved fresh and panel'!C3 -> 25 | D3: ='achieved fresh and panel'!D3 -> 11 | E3: ='achieved fresh and panel'!E3 -> 12 | F3: ='achieved fresh and panel'!F3 -> 44 | G3: ='achieved fresh and panel'!G3 -> 28 | H3: ='achieved fresh and panel'!H3 -> 13 | I3: ='achieved fresh and panel'!I3 -> 21
A4: ='achieved fresh and panel'!A4 -> Lima | B4: =LEFT('achieved fresh and panel'!B4,FIND(")",'achieved fresh and panel'!B4)) -> Large (100 or more) | C4: ='achieved fresh and panel'!C4 -> 28 | D4: ='achieved fresh and panel'!D4 -> 8 | E4: ='achieved fresh and panel'!E4 -> 12 | F4: ='achieved fresh and panel'!F4 -> 54 | G4: ='achieved fresh and panel'!G4 -> 12 | H4: ='achieved fresh and panel'!H4 -> 7 | I4: ='achieved fresh and panel'!I4 -> 35
A5: ='achieved fresh and panel'!A5 -> Arequipa | B5: =LEFT('achieved fresh and panel'!B5,FIND(")",'achieved fresh and panel'!B5)) -> Small (5-19) | C5: ='achieved fresh and panel'!C5 -> 5 | D5: ='achieved fresh and panel'!D5 -> 4 | E5: ='achieved fresh and panel'!E5 -> 12 | F5: ='achieved fresh and panel'!F5 -> 20 | G5: ='achieved fresh and panel'!G5 -> 18 | H5: ='achieved fresh and panel'!H5 -> 17 | I5: ='achieved fresh and panel'!I5 -> 17 | J5: =SUM(C5:I7) -> 176
A6: ='achieved fresh and panel'!A6 -> Arequipa | B6: =LEFT('achieved fresh and panel'!B6,FIND(")",'achieved fresh and panel'!B6)) -> Medium (20-99) | C6: ='achieved fresh and panel'!C6 -> 7 | D6: ='achieved fresh and panel'!D6 -> 1 | E6: ='achieved fresh and panel'!E6 -> 1 | F6: ='achieved fresh and panel'!F6 -> 14 | G6: ='achieved fresh and panel'!G6 -> 3 | H6: ='achieved fresh and panel'!H6 -> 3 | I6: ='achieved fresh and panel'!I6 -> 34
A7: ='achieved fresh and panel'!A7 -> Arequipa | B7: =LEFT('achieved fresh and panel'!B7,FIND(")",'achieved fresh and panel'!B7)) -> Large (100 or more) | C7: ='achieved fresh and panel'!C7 -> 1 | D7: ='achieved fresh and panel'!D7 -> 2 | E7: ='achieved fresh and panel'!E7 -> 2 | F7: ='achieved fresh and panel'!F7 -> 5 | G7: ='achieved fresh and panel'!G7 -> 0 | H7: ='achieved fresh and panel'!H7 -> 0 | I7: ='achieved fresh and panel'!I7 -> 10
A8: ='achieved fresh and panel'!A8 -> Chiclayo | B8: =LEFT('achieved fresh and panel'!B8,FIND(")",'achieved fresh and panel'!B8)) -> Small (5-19) | C8: ='achieved fresh and panel'!C8 -> 9 | D8: ='achieved fresh and panel'!D8 -> 0 | E8: ='achieved fresh and panel'!E8 -> 2 | F8: ='achieved fresh and panel'!F8 -> 13 | G8: ='achieved fresh and panel'!G8 -> 23 | H8: ='achieved fresh and panel'!H8 -> 6 | I8: ='achieved fresh and panel'!I8 -> 15 | J8: =SUM(C8:I10) -> 112
A9: ='achieved fresh and panel'!A9 -> Chiclayo | B9: =LEFT('achieved fresh and panel'!B9,FIND(")",'achieved fresh and panel'!B9)) -> Medium (20-99) | C9: ='achieved fresh and panel'!C9 -> 4 | D9: ='achieved fresh and panel'!D9 -> 0 | E9: ='achieved fresh and panel'!E9 -> 0 | F9: ='achieved fresh and panel'!F9 -> 4 | G9: ='achieved fresh and panel'!G9 -> 6 | H9: ='achieved fresh and panel'!H9 -> 2 | I9: ='achieved fresh and panel'!I9 -> 23
A10: ='achieved fresh and panel'!A10 -> Chiclayo | B10: =LEFT('achieved fresh and panel'!B10,FIND(")",'achieved fresh and panel'!B10)) -> Large (100 or more) | C10: ='achieved fresh and panel'!C10 -> 0 | D10: ='achieved fresh and panel'!D10 -> 0 | E10: ='achieved fresh and panel'!E10 -> 0 | F10: ='achieved fresh and panel'!F10 -> 1 | G10: ='achieved fresh and panel'!G10 -> 1 | H10: ='achieved fresh and panel'!H10 -> 0 | I10: ='achieved fresh and panel'!I10 -> 3
A11: ='achieved fresh and panel'!A11 -> Trujillo | B11: =LEFT('achieved fresh and panel'!B11,FIND(")",'achieved fresh and panel'!B11)) -> Small (5-19) | C11: ='achieved fresh and panel'!C11 -> 6 | D11: ='achieved fresh and panel'!D11 -> 0 | E11: ='achieved fresh and panel'!E11 -> 2 | F11: ='achieved fresh and panel'!F11 -> 25 | G11: ='achieved fresh and panel'!G11 -> 26 | H11: ='achieved fresh and panel'!H11 -> 7 | I11: ='achieved fresh and panel'!I11 -> 19 | J11: =SUM(C11:I13) -> 155
A12: ='achieved fresh and panel'!A12 -> Trujillo | B12: =LEFT('achieved fresh and panel'!B12,FIND(")",'achieved fresh and panel'!B12)) -> Medium (20-99) | C12: ='achieved fresh and panel'!C12 -> 2 | D12: ='achieved fresh and panel'!D12 -> 0 | E12: ='achieved fresh and panel'!E12 -> 0 | F12: ='achieved fresh and panel'!F12 -> 9 | G12: ='achieved fresh and panel'!G12 -> 5 | H12: ='achieved fresh and panel'!H12 -> 1 | I12: ='achieved fresh and panel'!I12 -> 41
A13: ='achieved fresh and panel'!A13 -> Trujillo | B13: =LEFT('achieved fresh and panel'!B13,FIND(")",'achieved fresh and panel'!B13)) -> Large (100 or more) | C13: ='achieved fresh and panel'!C13 -> 1 | D13: ='achieved fresh and panel'!D13 -> 0 | E13: ='achieved fresh and panel'!E13 -> 0 | F13: ='achieved fresh and panel'!F13 -> 0 | G13: ='achieved fresh and panel'!G13 -> 0 | H13: ='achieved fresh and panel'!H13 -> 0 | I13: ='achieved fresh and panel'!I13 -> 11
A14: ='achieved fresh and panel'!A14 -> Piura | B14: =LEFT('achieved fresh and panel'!B14,FIND(")",'achieved fresh and panel'!B14)) -> Small (5-19) | C14: ='achieved fresh and panel'!C14 -> 9 | D14: ='achieved fresh and panel'!D14 -> 0 | E14: ='achieved fresh and panel'!E14 -> 0 | F14: ='achieved fresh and panel'!F14 -> 12 | G14: ='achieved fresh and panel'!G14 -> 22 | H14: ='achieved fresh and panel'!H14 -> 7 | I14: ='achieved fresh and panel'!I14 -> 12 | J14: =SUM(C14:I16) -> 108
A15: ='achieved fresh and panel'!A15 -> Piura | B15: =LEFT('achieved fresh and panel'!B15,FIND(")",'achieved fresh and panel'!B15)) -> Medium (20-99) | C15: ='achieved fresh and panel'!C15 -> 2 | D15: ='achieved fresh and panel'!D15 -> 0 | E15: ='achieved fresh and panel'!E15 -> 0 | F15: ='achieved fresh and panel'!F15 -> 3 | G15: ='achieved fresh and panel'!G15 -> 5 | H15: ='achieved fresh and panel'!H15 -> 1 | I15: ='achieved fresh and panel'!I15 -> 24
A16: ='achieved fresh and panel'!A16 -> Piura | B16: =LEFT('achieved fresh and panel'!B16,FIND(")",'achieved fresh and panel'!B16)) -> Large (100 or more) | C16: ='achieved fresh and panel'!C16 -> 2 | D16: ='achieved fresh and panel'!D16 -> 0 | E16: ='achieved fresh and panel'!E16 -> 0 | F16: ='achieved fresh and panel'!F16 -> 0 | G16: ='achieved fresh and panel'!G16 -> 0 | H16: ='achieved fresh and panel'!H16 -> 0 | I16: ='achieved fresh and panel'!I16 -> 9
C17: =SUM(C2:C16) -> 109 | D17: =SUM(D2:D16) -> 44 | E17: =SUM(E2:E16) -> 68 | F17: =SUM(F2:F16) -> 227 | G17: =SUM(G2:G16) -> 160 | H17: =SUM(H2:H16) -> 89 | I17: =SUM(I2:I16) -> 290 | J17: =SUM(J2:J16) -> 987

Sheet Table 7 Achieved Panel Sample
C1: =RIGHT(SUBSTITUTE('achieved panel'!C1,"_"," "),LEN(SUBSTITUTE('achieved panel'!C1,"_"," "))-1) -> Food | D1: =RIGHT(SUBSTITUTE('achieved panel'!D1,"_"," "),LEN(SUBSTITUTE('achieved panel'!D1,"_"," "))-1) -> Textiles | E1: =RIGHT(SUBSTITUTE('achieved panel'!E1,"_"," "),LEN(SUBSTITUTE('achieved panel'!E1,"_"," "))-1) -> Garments | F1: =RIGHT(SUBSTITUTE('achieved panel'!F1,"_"," "),LEN(SUBSTITUTE('achieved panel'!F1,"_"," "))-1) -> Other Mfg | G1: =RIGHT(SUBSTITUTE('achieved panel'!G1,"_"," "),LEN(SUBSTITUTE('achieved panel'!G1,"_"," "))-1) -> Retail | H1: =RIGHT(SUBSTITUTE('achieved panel'!H1,"_"," "),LEN(SUBSTITUTE('achieved panel'!H1,"_"," "))-1) -> Hotels | I1: =RIGHT(SUBSTITUTE('achieved panel'!I1,"_"," "),LEN(SUBSTITUTE('achieved panel'!I1,"_"," "))-1) -> Other Services | J1: =RIGHT(SUBSTITUTE('achieved panel'!J1,"_"," "),LEN(SUBSTITUTE('achieved panel'!J1,"_"," "))-1) -> Grand Total
A2: ='achieved panel'!A2 -> Lima | B2: =LEFT('achieved panel'!B2,FIND(")",'achieved panel'!B2)) -> Small (5-19) | C2: ='achieved panel'!C2 -> 6 | D2: ='achieved panel'!D2 -> 3 | E2: ='achieved panel'!E2 -> 13 | F2: ='achieved panel'!F2 -> 18 | G2: ='achieved panel'!G2 -> 8 | H2: ='achieved panel'!H2 -> 0 | I2: ='achieved panel'!I2 -> 1 | J2: =SUM(C2:I4) -> 189
A3: ='achieved panel'!A3 -> Lima | B3: =LEFT('achieved panel'!B3,FIND(")",'achieved panel'!B3)) -> Medium (20-99) | C3: ='achieved panel'!C3 -> 15 | D3: ='achieved panel'!D3 -> 7 | E3: ='achieved panel'!E3 -> 8 | F3: ='achieved panel'!F3 -> 29 | G3: ='achieved panel'!G3 -> 10 | H3: ='achieved panel'!H3 -> 0 | I3: ='achieved panel'!I3 -> 11
A4: ='achieved panel'!A4 -> Lima | B4: =LEFT('achieved panel'!B4,FIND(")",'achieved panel'!B4)) -> Large (100 or more) | C4: ='achieved panel'!C4 -> 13 | D4: ='achieved panel'!D4 -> 6 | E4: ='achieved panel'!E4 -> 8 | F4: ='achieved panel'!F4 -> 25 | G4: ='achieved panel'!G4 -> 3 | H4: ='achieved panel'!H4 -> 1 | I4: ='achieved panel'!I4 -> 4
A5: ='achieved panel'!A5 -> Arequipa | B5: =LEFT('achieved panel'!B5,FIND(")",'achieved panel'!B5)) -> Small (5-19) | C5: ='achieved panel'!C5 -> 1 | D5: ='achieved panel'!D5 -> 0 | E5: ='achieved panel'!E5 -> 4 | F5: ='achieved panel'!F5 -> 5 | G5: ='achieved panel'!G5 -> 5 | H5: ='achieved panel'!H5 -> 0 | I5: ='achieved panel'!I5 -> 10 | J5: =SUM(C5:I7) -> 49
A6: ='achieved panel'!A6 -> Arequipa | B6: =LEFT('achieved panel'!B6,FIND(")",'achieved panel'!B6)) -> Medium (20-99) | C6: ='achieved panel'!C6 -> 3 | D6: ='achieved panel'!D6 -> 1 | E6: ='achieved panel'!E6 -> 1 | F6: ='achieved panel'!F6 -> 5 | G6: ='achieved panel'!G6 -> 1 | H6: ='achieved panel'!H6 -> 0 | I6: ='achieved panel'!I6 -> 3
A7: ='achieved panel'!A7 -> Arequipa | B7: =LEFT('achieved panel'!B7,FIND(")",'achieved panel'!B7)) -> Large (100 or more) | C7: ='achieved panel'!C7 -> 0 | D7: ='achieved panel'!D7 -> 2 | E7: ='achieved panel'!E7 -> 2 | F7: ='achieved panel'!F7 -> 2 | G7: ='achieved panel'!G7 -> 0 | H7: ='achieved panel'!H7 -> 0 | I7: ='achieved panel'!I7 -> 4
A8: ='achieved panel'!A8 -> Chiclayo | B8: =LEFT('achieved panel'!B8,FIND(")",'achieved panel'!B8)) -> Small (5-19) | C8: ='achieved panel'!C8 -> 3 | D8: ='achieved panel'!D8 -> 0 | E8: ='achieved panel'!E8 -> 2 | F8: ='achieved panel'!F8 -> 4 | G8: ='achieved panel'!G8 -> 5 | H8: ='achieved panel'!H8 -> 1 | I8: ='achieved panel'!I8 -> 11 | J8: =SUM(C8:I10) -> 40
A9: ='achieved panel'!A9 -> Chiclayo | B9: =LEFT('achieved panel'!B9,FIND(")",'achieved panel'!B9)) -> Medium (20-99) | C9: ='achieved panel'!C9 -> 1 | D9: ='achieved panel'!D9 -> 0 | E9: ='achieved panel'!E9 -> 0 | F9: ='achieved panel'!F9 -> 0 | G9: ='achieved panel'!G9 -> 2 | H9: ='achieved panel'!H9 -> 2 | I9: ='achieved panel'!I9 -> 6
A10: ='achieved panel'!A10 -> Chiclayo | B10: =LEFT('achieved panel'!B10,FIND(")",'achieved panel'!B10)) -> Large (100 or more) | C10: ='achieved panel'!C10 -> 0 | D10: ='achieved panel'!D10 -> 0 | E10: ='achieved panel'!E10 -> 0 | F10: ='achieved panel'!F10 -> 0 | G10: ='achieved panel'!G10 -> 1 | H10: ='achieved panel'!H10 -> 0 | I10: ='achieved panel'!I10 -> 2
A11: ='achieved panel'!A11 -> Trujillo | B11: =LEFT('achieved panel'!B11,FIND(")",'achieved panel'!B11)) -> Small (5-19) | C11: ='achieved panel'!C11 -> 4 | D11: ='achieved panel'!D11 -> 0 | E11: ='achieved panel'!E11 -> 1 | F11: ='achieved panel'!F11 -> 8 | G11: ='achieved panel'!G11 -> 10 | H11: ='achieved panel'!H11 -> 1 | I11: ='achieved panel'!I11 -> 15 | J11: =SUM(C11:I13) -> 58
A12: ='achieved panel'!A12 -> Trujillo | B12: =LEFT('achieved panel'!B12,FIND(")",'achieved panel'!B12)) -> Medium (20-99) | C12: ='achieved panel'!C12 -> 1 | D12: ='achieved panel'!D12 -> 0 | E12: ='achieved panel'!E12 -> 0 | F12: ='achieved panel'!F12 -> 2 | G12: ='achieved panel'!G12 -> 3 | H12: ='achieved panel'!H12 -> 1 | I12: ='achieved panel'!I12 -> 8
A13: ='achieved panel'!A13 -> Trujillo | B13: =LEFT('achieved panel'!B13,FIND(")",'achieved panel'!B13)) -> Large (100 or more) | C13: ='achieved panel'!C13 -> 1 | D13: ='achieved panel'!D13 -> 0 | E13: ='achieved panel'!E13 -> 0 | F13: ='achieved panel'!F13 -> 0 | G13: ='achieved panel'!G13 -> 0 | H13: ='achieved panel'!H13 -> 0 | I13: ='achieved panel'!I13 -> 3
A14: ='achieved panel'!A14 -> Piura | B14: =LEFT('achieved panel'!B14,FIND(")",'achieved panel'!B14)) -> Small (5-19) | C14: ='achieved panel'!C14 -> 2 | D14: ='achieved panel'!D14 -> 0 | E14: ='achieved panel'!E14 -> 0 | F14: ='achieved panel'!F14 -> 3 | G14: ='achieved panel'!G14 -> 4 | H14: ='achieved panel'!H14 -> 0 | I14: ='achieved panel'!I14 -> 2 | J14: =SUM(C14:I16) -> 22
A15: ='achieved panel'!A15 -> Piura | B15: =LEFT('achieved panel'!B15,FIND(")",'achieved panel'!B15)) -> Medium (20-99) | C15: ='achieved panel'!C15 -> 1 | D15: ='achieved panel'!D15 -> 0 | E15: ='achieved panel'!E15 -> 0 | F15: ='achieved panel'!F15 -> 1 | G15: ='achieved panel'!G15 -> 4 | H15: ='achieved panel'!H15 -> 0 | I15: ='achieved panel'!I15 -> 3
A16: ='achieved panel'!A16 -> Piura | B16: =LEFT('achieved panel'!B16,FIND(")",'achieved panel'!B16)) -> Large (100 or more) | C16: ='achieved panel'!C16 -> 0 | D16: ='achieved panel'!D16 -> 0 | E16: ='achieved panel'!E16 -> 0 | F16: ='achieved panel'!F16 -> 0 | G16: ='achieved panel'!G16 -> 0 | H16: ='achieved panel'!H16 -> 0 | I16: ='achieved panel'!I16 -> 2
C17: =SUM(C2:C16) -> 51 | D17: =SUM(D2:D16) -> 19 | E17: =SUM(E2:E16) -> 39 | F17: =SUM(F2:F16) -> 102 | G17: =SUM(G2:G16) -> 56 | H17: =SUM(H2:H16) -> 6 | I17: =SUM(I2:I16) -> 85 | J17: =SUM(J2:J16) -> 358

Sheet Table 8 Weak Universe Estimates
C1: =RIGHT(SUBSTITUTE(universe_weak!C1,"_"," "),LEN(SUBSTITUTE(universe_weak!C1,"_"," "))-1) -> Food | D1: =RIGHT(SUBSTITUTE(universe_weak!D1,"_"," "),LEN(SUBSTITUTE(universe_weak!D1,"_"," "))-1) -> Textiles | E1: =RIGHT(SUBSTITUTE(universe_weak!E1,"_"," "),LEN(SUBSTITUTE(universe_weak!E1,"_"," "))-1) -> Garments | F1: =RIGHT(SUBSTITUTE(universe_weak!F1,"_"," "),LEN(SUBSTITUTE(universe_weak!F1,"_"," "))-1) -> Other Mfg | G1: =RIGHT(SUBSTITUTE(universe_weak!G1,"_"," "),LEN(SUBSTITUTE(universe_weak!G1,"_"," "))-1) -> Retail | H1: =RIGHT(SUBSTITUTE(universe_weak!H1,"_"," "),LEN(SUBSTITUTE(universe_weak!H1,"_"," "))-1) -> Hotels | I1: =RIGHT(SUBSTITUTE(universe_weak!I1,"_"," "),LEN(SUBSTITUTE(universe_weak!I1,"_"," "))-1) -> Other Services | J1: =RIGHT(SUBSTITUTE(universe_weak!J1,"_"," "),LEN(SUBSTITUTE(universe_weak!J1,"_"," "))-1) -> Garment and Other Mfg | ... M1: =RIGHT(SUBSTITUTE(universe_weak!M1,"_"," "),LEN(SUBSTITUTE(universe_weak!M1,"_"," "))-1) -> Grand Total
A2: =universe_weak!A2 -> Lima | B2: =LEFT(universe_weak!B2,FIND(")",universe_weak!B2)) -> Small (5-19) | C2: =universe_weak!C2 -> 566.60516 | D2: =universe_weak!D2 -> 289.77563 | E2: =universe_weak!E2 -> 521.70807 | F2: =universe_weak!F2 -> 3314.8489 | G2: =universe_weak!G2 -> 2692.4351 | H2: =universe_weak!H2 -> 386.28256 | I2: =universe_weak!I2 -> 14173.832 | J2: =universe_weak!J2 -> 0 | ... L2: =universe_weak!L2 -> 0 | M2: =SUM(C2:L4) -> 28355.339
A3: =universe_weak!A3 -> Lima | B3: =LEFT(universe_weak!B3,FIND(")",universe_weak!B3)) -> Medium (20-99) | C3: =universe_weak!C3 -> 184.5161 | D3: =universe_weak!D3 -> 77.663521 | E3: =universe_weak!E3 -> 94.819855 | F3: =universe_weak!F3 -> 723.21527 | G3: =universe_weak!G3 -> 344.03403 | H3: =universe_weak!H3 -> 87.824608 | I3: =universe_weak!I3 -> 3240.9297 | J3: =universe_weak!J3 -> 0 | ... L3: =universe_weak!L3 -> 0
A4: =universe_weak!A4 -> Lima | B4: =LEFT(universe_weak!B4,FIND(")",universe_weak!B4)) -> Large (100 or more) | C4: =universe_weak!C4 -> 144.2858 | D4: =universe_weak!D4 -> 45.114044 | E4: =universe_weak!E4 -> 55.157745 | F4: =universe_weak!F4 -> 313.73111 | G4: =universe_weak!G4 -> 109.27893 | H4: =universe_weak!H4 -> 25.402771 | I4: =universe_weak!I4 -> 963.87854 | J4: =universe_weak!J4 -> 0 | ... L4: =universe_weak!L4 -> 0
A5: =universe_weak!A5 -> Arequipa | B5: =LEFT(universe_weak!B5,FIND(")",universe_weak!B5)) -> Small (5-19) | C5: =universe_weak!C5 -> 63.27446 | D5: =universe_weak!D5 -> 0 | E5: =universe_weak!E5 -> 0 | F5: =universe_weak!F5 -> 219.96404 | G5: =universe_weak!G5 -> 273.27328 | H5: =universe_weak!H5 -> 72.447769 | I5: =universe_weak!I5 -> 1525.5808 | J5: =universe_weak!J5 -> 0 | ... L5: =universe_weak!L5 -> 0 | M5: =SUM(C5:L9) -> 2655.0341
A6: =universe_weak!A6 -> Arequipa | B6: =LEFT(universe_weak!B6,FIND(")",universe_weak!B6)) -> Medium (20-99) | C6: =universe_weak!C6 -> 21.685587 | D6: =universe_weak!D6 -> 0 | E6: =universe_weak!E6 -> 0 | F6: =universe_weak!F6 -> 58.110531 | G6: =universe_weak!G6 -> 0 | H6: =universe_weak!H6 -> 8.2599583 | I6: =universe_weak!I6 -> 223.58823 | J6: =universe_weak!J6 -> 0 | ... L6: =universe_weak!L6 -> 0
A7: =universe_weak!A7 -> Arequipa | B7: =LEFT(universe_weak!B7,FIND(")",universe_weak!B7)) -> Large (100 or more) | C7: =universe_weak!C7 -> 6.4102888 | D7: =universe_weak!D7 -> 0 | E7: =universe_weak!E7 -> 0 | F7: =universe_weak!F7 -> 24.907452 | G7: =universe_weak!G7 -> 0 | H7: =universe_weak!H7 -> 0 | I7: =universe_weak!I7 -> 65.955864 | J7: =universe_weak!J7 -> 0 | ... L7: =universe_weak!L7 -> 0
A8: =universe_weak!A8 -> Arequipa | B8: =LEFT(universe_weak!B8,FIND(")",universe_weak!B8)) -> Medium and Large (20 or more) | C8: =universe_weak!C8 -> 0 | D8: =universe_weak!D8 -> 0 | E8: =universe_weak!E8 -> 0 | F8: =universe_weak!F8 -> 0 | G8: =universe_weak!G8 -> 28.938143 | H8: =universe_weak!H8 -> 0 | I8: =universe_weak!I8 -> 0 | J8: =universe_weak!J8 -> 0 | ... L8: =universe_weak!L8 -> 0
A9: =universe_weak!A9 -> Arequipa | B9: =LEFT(universe_weak!B9,FIND(")",universe_weak!B9)) -> All sizes (5 or more) | C9: =universe_weak!C9 -> 0 | D9: =universe_weak!D9 -> 23.45048 | E9: =universe_weak!E9 -> 39.187191 | F9: =universe_weak!F9 -> 0 | G9: =universe_weak!G9 -> 0 | H9: =universe_weak!H9 -> 0 | I9: =universe_weak!I9 -> 0 | J9: =universe_weak!J9 -> 0 | ... L9: =universe_weak!L9 -> 0
A10: =universe_weak!A10 -> Chiclayo | B10: =LEFT(universe_weak!B10,FIND(")",universe_weak!B10)) -> Small (5-19) | C10: =universe_weak!C10 -> 55.49971 | D10: =universe_weak!D10 -> 0 | E10: =universe_weak!E10 -> 0 | F10: =universe_weak!F10 -> 0 | G10: =universe_weak!G10 -> 139.96419 | H10: =universe_weak!H10 -> 0 | I10: =universe_weak!I10 -> 622.16345 | J10: =universe_weak!J10 -> 88.777763 | ... L10: =universe_weak!L10 -> 0 | M10: =SUM(C10:L14) -> 1102.429
A11: =universe_weak!A11 -> Chiclayo | B11: =LEFT(universe_weak!B11,FIND(")",universe_weak!B11)) -> Medium (20-99) | C11: =universe_weak!C11 -> 0 | D11: =universe_weak!D11 -> 0 | E11: =universe_weak!E11 -> 0 | F11: =universe_weak!F11 -> 13.600245 | G11: =universe_weak!G11 -> 0 | H11: =universe_weak!H11 -> 0 | I11: =universe_weak!I11 -> 92.575974 | J11: =universe_weak!J11 -> 0 | ... L11: =universe_weak!L11 -> 0
A12: =universe_weak!A12 -> Chiclayo | B12: =LEFT(universe_weak!B12,FIND(")",universe_weak!B12)) -> Large (100 or more) | C12: =universe_weak!C12 -> 0 | D12: =universe_weak!D12 -> 0 | E12: =universe_weak!E12 -> 0 | F12: =universe_weak!F12 -> 4.3552718 | G12: =universe_weak!G12 -> 0 | H12: =universe_weak!H12 -> 0 | I12: =universe_weak!I12 -> 18.078634 | J12: =universe_weak!J12 -> 0 | ... L12: =universe_weak!L12 -> 0
A13: =universe_weak!A13 -> Chiclayo | B13: =LEFT(universe_weak!B13,FIND(")",universe_weak!B13)) -> Medium and Large (20 or more) | C13: =universe_weak!C13 -> 18.043266 | D13: =universe_weak!D13 -> 0 | E13: =universe_weak!E13 -> 0 | F13: =universe_weak!F13 -> 0 | G13: =universe_weak!G13 -> 13.416418 | H13: =universe_weak!H13 -> 0 | I13: =universe_weak!I13 -> 0 | J13: =universe_weak!J13 -> 0 | ... L13: =universe_weak!L13 -> 0
A14: =universe_weak!A14 -> Chiclayo | B14: =LEFT(universe_weak!B14,FIND(")",universe_weak!B14)) -> Small and Medium (5 to 99) | C14: =universe_weak!C14 -> 0 | D14: =universe_weak!D14 -> 0 | E14: =universe_weak!E14 -> 0 | F14: =universe_weak!F14 -> 0 | G14: =universe_weak!G14 -> 0 | H14: =universe_weak!H14 -> 35.954079 | I14: =universe_weak!I14 -> 0 | J14: =universe_weak!J14 -> 0 | ... L14: =universe_weak!L14 -> 0
A15: =universe_weak!A15 -> Trujillo | B15: =LEFT(universe_weak!B15,FIND(")",universe_weak!B15)) -> Small (5-19) | C15: =universe_weak!C15 -> 48.013607 | D15: =universe_weak!D15 -> 0 | E15: =universe_weak!E15 -> 0 | F15: =universe_weak!F15 -> 184.89107 | G15: =universe_weak!G15 -> 246.14983 | H15: =universe_weak!H15 -> 0 | I15: =universe_weak!I15 -> 1544.8475 | J15: =universe_weak!J15 -> 0 | ... L15: =universe_weak!L15 -> 0 | M15: =SUM(C15:L20) -> 2481.5738
A16: =universe_weak!A16 -> Trujillo | B16: =LEFT(universe_weak!B16,FIND(")",universe_weak!B16)) -> Medium (20-99) | C16: =universe_weak!C16 -> 0 | D16: =universe_weak!D16 -> 0 | E16: =universe_weak!E16 -> 0 | F16: =universe_weak!F16 -> 0 | G16: =universe_weak!G16 -> 0 | H16: =universe_weak!H16 -> 0 | I16: =universe_weak!I16 -> 256.6181 | J16: =universe_weak!J16 -> 0 | ... L16: =universe_weak!L16 -> 0
A17: =universe_weak!A17 -> Trujillo | B17: =LEFT(universe_weak!B17,FIND(")",universe_weak!B17)) -> Large (100 or more) | C17: =universe_weak!C17 -> 0 | D17: =universe_weak!D17 -> 0 | E17: =universe_weak!E17 -> 0 | F17: =universe_weak!F17 -> 0 | G17: =universe_weak!G17 -> 0 | H17: =universe_weak!H17 -> 0 | I17: =universe_weak!I17 -> 51.901928 | J17: =universe_weak!J17 -> 0 | ... L17: =universe_weak!L17 -> 0
A18: =universe_weak!A18 -> Trujillo | B18: =LEFT(universe_weak!B18,FIND(")",universe_weak!B18)) -> Medium and Large (20 or more) | C18: =universe_weak!C18 -> 17.695786 | D18: =universe_weak!D18 -> 0 | E18: =universe_weak!E18 -> 0 | F18: =universe_weak!F18 -> 36.210968 | G18: =universe_weak!G18 -> 27.51227 | H18: =universe_weak!H18 -> 0 | I18: =universe_weak!I18 -> 0 | J18: =universe_weak!J18 -> 0 | ... L18: =universe_weak!L18 -> 0
A19: =universe_weak!A19 -> Trujillo | B19: =LEFT(universe_weak!B19,FIND(")",universe_weak!B19)) -> Small and Medium (5 to 99) | C19: =universe_weak!C19 -> 0 | D19: =universe_weak!D19 -> 0 | E19: =universe_weak!E19 -> 0 | F19: =universe_weak!F19 -> 0 | G19: =universe_weak!G19 -> 0 | H19: =universe_weak!H19 -> 0 | I19: =universe_weak!I19 -> 0 | J19: =universe_weak!J19 -> 0 | ... L19: =universe_weak!L19 -> 10.782674
A20: =universe_weak!A20 -> Trujillo | B20: =LEFT(universe_weak!B20,FIND(")",universe_weak!B20)) -> All sizes (5 or more) | C20: =universe_weak!C20 -> 0 | D20: =universe_weak!D20 -> 0 | E20: =universe_weak!E20 -> 0 | F20: =universe_weak!F20 -> 0 | G20: =universe_weak!G20 -> 0 | H20: =universe_weak!H20 -> 56.950001 | I20: =universe_weak!I20 -> 0 | J20: =universe_weak!J20 -> 0 | ... L20: =universe_weak!L20 -> 0
A21: =universe_weak!A21 -> Piura | B21: =LEFT(universe_weak!B21,FIND(")",universe_weak!B21)) -> Small (5-19) | C21: =universe_weak!C21 -> 55.702404 | D21: =universe_weak!D21 -> 0 | E21: =universe_weak!E21 -> 0 | F21: =universe_weak!F21 -> 0 | G21: =universe_weak!G21 -> 216.42035 | H21: =universe_weak!H21 -> 50.591114 | I21: =universe_weak!I21 -> 827.11029 | J21: =universe_weak!J21 -> 0 | ... L21: =universe_weak!L21 -> 0 | M21: =SUM(C21:L24) -> 1491.8805
A22: =universe_weak!A22 -> Piura | B22: =LEFT(universe_weak!B22,FIND(")",universe_weak!B22)) -> Medium (20-99) | C22: =universe_weak!C22 -> 24.148628 | D22: =universe_weak!D22 -> 0 | E22: =universe_weak!E22 -> 0 | F22: =universe_weak!F22 -> 0 | G22: =universe_weak!G22 -> 0 | H22: =universe_weak!H22 -> 3.7960503 | I22: =universe_weak!I22 -> 135.26569 | J22: =universe_weak!J22 -> 0 | ... L22: =universe_weak!L22 -> 0
A23: =universe_weak!A23 -> Piura | B23: =LEFT(universe_weak!B23,FIND(")",universe_weak!B23)) -> Large (100 or more) | C23: =universe_weak!C23 -> 15.74265 | D23: =universe_weak!D23 -> 0 | E23: =universe_weak!E23 -> 0 | F23: =universe_weak!F23 -> 0 | G23: =universe_weak!G23 -> 0 | H23: =universe_weak!H23 -> 0 | I23: =universe_weak!I23 -> 28.570641 | J23: =universe_weak!J23 -> 0 | ... L23: =universe_weak!L23 -> 0
A24: =universe_weak!A24 -> Piura | B24: =LEFT(universe_weak!B24,FIND(")",universe_weak!B24)) -> Medium and Large (20 or more) | C24: =universe_weak!C24 -> 0 | D24: =universe_weak!D24 -> 0 | E24: =universe_weak!E24 -> 0 | F24: =universe_weak!F24 -> 14.5748 | G24: =universe_weak!G24 -> 23.083572 | H24: =universe_weak!H24 -> 0 | I24: =universe_weak!I24 -> 0 | J24: =universe_weak!J24 -> 0 | ... L24: =universe_weak!L24 -> 0
C25: =SUM(C2:C24) -> 1221.6234 | D25: =SUM(D2:D24) -> 436.00368 | E25: =SUM(E2:E24) -> 710.87286 | F25: =SUM(F2:F24) -> 4908.4096 | G25: =SUM(G2:G24) -> 4114.5061 | H25: =SUM(H2:H24) -> 727.50891 | I25: =SUM(I2:I24) -> 23770.897 | J25: =SUM(J2:J24) -> 88.777763 | ... M25: =SUM(M2:M24) -> 36086.257

Sheet Table 9 Median Universe Est
C1: =RIGHT(SUBSTITUTE(universe_median!C1,"_"," "),LEN(SUBSTITUTE(universe_median!C1,"_"," "))-1) -> Food | D1: =RIGHT(SUBSTITUTE(universe_median!D1,"_"," "),LEN(SUBSTITUTE(universe_median!D1,"_"," "))-1) -> Textiles | E1: =RIGHT(SUBSTITUTE(universe_median!E1,"_"," "),LEN(SUBSTITUTE(universe_median!E1,"_"," "))-1) -> Garments | F1: =RIGHT(SUBSTITUTE(universe_median!F1,"_"," "),LEN(SUBSTITUTE(universe_median!F1,"_"," "))-1) -> Other Mfg | G1: =RIGHT(SUBSTITUTE(universe_median!G1,"_"," "),LEN(SUBSTITUTE(universe_median!G1,"_"," "))-1) -> Retail | H1: =RIGHT(SUBSTITUTE(universe_median!H1,"_"," "),LEN(SUBSTITUTE(universe_median!H1,"_"," "))-1) -> Hotels | I1: =RIGHT(SUBSTITUTE(universe_median!I1,"_"," "),LEN(SUBSTITUTE(universe_median!I1,"_"," "))-1) -> Other Services | J1: =RIGHT(SUBSTITUTE(universe_median!J1,"_"," "),LEN(SUBSTITUTE(universe_median!J1,"_"," "))-1) -> Garment and Other Mfg | ... M1: =RIGHT(SUBSTITUTE(universe_median!M1,"_"," "),LEN(SUBSTITUTE(universe_median!M1,"_"," "))-1) -> Grand Total
A2: =universe_median!A2 -> Lima | B2: =LEFT(universe_median!B2,FIND(")",universe_median!B2)) -> Small (5-19) | C2: =universe_median!C2 -> 328.67395 | D2: =universe_median!D2 -> 156.58168 | E2: =universe_median!E2 -> 229.29919 | F2: =universe_median!F2 -> 1608.2185 | G2: =universe_median!G2 -> 1296.1573 | H2: =universe_median!H2 -> 232.97369 | I2: =universe_median!I2 -> 6759.6606 | J2: =universe_median!J2 -> 0 | ... L2: =universe_median!L2 -> 0 | M2: =SUM(C2:L4) -> 14459.589
A3: =universe_median!A3 -> Lima | B3: =LEFT(universe_median!B3,FIND(")",universe_median!B3)) -> Medium (20-99) | C3: =universe_median!C3 -> 124.34509 | D3: =universe_median!D3 -> 48.75349 | E3: =universe_median!E3 -> 48.415436 | F3: =universe_median!F3 -> 407.77969 | G3: =universe_median!G3 -> 193.10466 | H3: =universe_median!H3 -> 61.535767 | I3: =universe_median!I3 -> 1795.6301 | J3: =universe_median!J3 -> 0 | ... L3: =universe_median!L3 -> 0
A4: =universe_median!A4 -> Lima | B4: =LEFT(universe_median!B4,FIND(")",universe_median!B4)) -> Large (100 or more) | C4: =universe_median!C4 -> 120.41811 | D4: =universe_median!D4 -> 35.073105 | E4: =universe_median!E4 -> 34.879074 | F4: =universe_median!F4 -> 218.98907 | G4: =universe_median!G4 -> 75.688927 | H4: =universe_median!H4 -> 22.04278 | I4: =universe_median!I4 -> 661.36829 | J4: =universe_median!J4 -> 0 | ... L4: =universe_median!L4 -> 0
A5: =universe_median!A5 -> Arequipa | B5: =LEFT(universe_median!B5,FIND(")",universe_median!B5)) -> Small (5-19) | C5: =universe_median!C5 -> 40.930069 | D5: =universe_median!D5 -> 0 | E5: =universe_median!E5 -> 0 | F5: =universe_median!F5 -> 119.00419 | G5: =universe_median!G5 -> 146.70293 | H5: =universe_median!H5 -> 48.725464 | I5: =universe_median!I5 -> 811.33844 | J5: =universe_median!J5 -> 0 | ... L5: =universe_median!L5 -> 0 | M5: =SUM(C5:L9) -> 1515.9741
A6: =universe_median!A6 -> Arequipa | B6: =LEFT(universe_median!B6,FIND(")",universe_median!B6)) -> Medium (20-99) | C6: =universe_median!C6 -> 16.296518 | D6: =universe_median!D6 -> 0 | E6: =universe_median!E6 -> 0 | F6: =universe_median!F6 -> 36.60548 | G6: =universe_median!G6 -> 0 | H6: =universe_median!H6 -> 6.4538441 | I6: =universe_median!I6 -> 138.14189 | J6: =universe_median!J6 -> 0 | ... L6: =universe_median!L6 -> 0
A7: =universe_median!A7 -> Arequipa | B7: =LEFT(universe_median!B7,FIND(")",universe_median!B7)) -> Large (100 or more) | C7: =universe_median!C7 -> 5.9658871 | D7: =universe_median!D7 -> 0 | E7: =universe_median!E7 -> 0 | F7: =universe_median!F7 -> 19.387568 | G7: =universe_median!G7 -> 0 | H7: =universe_median!H7 -> 0 | I7: =universe_median!I7 -> 50.466557 | J7: =universe_median!J7 -> 0 | ... L7: =universe_median!L7 -> 0
A8: =universe_median!A8 -> Arequipa | B8: =LEFT(universe_median!B8,FIND(")",universe_median!B8)) -> Medium and Large (20 or more) | C8: =universe_median!C8 -> 0 | D8: =universe_median!D8 -> 0 | E8: =universe_median!E8 -> 0 | F8: =universe_median!F8 -> 0 | G8: =universe_median!G8 -> 21.748379 | H8: =universe_median!H8 -> 0 | I8: =universe_median!I8 -> 0 | J8: =universe_median!J8 -> 0 | ... L8: =universe_median!L8 -> 0
A9: =universe_median!A9 -> Arequipa | B9: =LEFT(universe_median!B9,FIND(")",universe_median!B9)) -> All sizes (5 or more) | C9: =universe_median!C9 -> 0 | D9: =universe_median!D9 -> 22.987499 | E9: =universe_median!E9 -> 31.219351 | F9: =universe_median!F9 -> 0 | G9: =universe_median!G9 -> 0 | H9: =universe_median!H9 -> 0 | I9: =universe_median!I9 -> 0 | J9: =universe_median!J9 -> 0 | ... L9: =universe_median!L9 -> 0
A10: =universe_median!A10 -> Chiclayo | B10: =LEFT(universe_median!B10,FIND(")",universe_median!B10)) -> Small (5-19) | C10: =universe_median!C10 -> 27.199379 | D10: =universe_median!D10 -> 0 | E10: =universe_median!E10 -> 0 | F10: =universe_median!F10 -> 0 | G10: =universe_median!G10 -> 56.988121 | H10: =universe_median!H10 -> 0 | I10: =universe_median!I10 -> 250.68343 | J10: =universe_median!J10 -> 39.18597 | ... L10: =universe_median!L10 -> 0 | M10: =SUM(C10:L14) -> 482.84295
A11: =universe_median!A11 -> Chiclayo | B11: =LEFT(universe_median!B11,FIND(")",universe_median!B11)) -> Medium (20-99) | C11: =universe_median!C11 -> 0 | D11: =universe_median!D11 -> 0 | E11: =universe_median!E11 -> 0 | F11: =universe_median!F11 -> 6.4762144 | G11: =universe_median!G11 -> 0 | H11: =universe_median!H11 -> 0 | I11: =universe_median!I11 -> 43.81768 | J11: =universe_median!J11 -> 0 | ... L11: =universe_median!L11 -> 0
A12: =universe_median!A12 -> Chiclayo | B12: =LEFT(universe_median!B12,FIND(")",universe_median!B12)) -> Large (100 or more) | C12: =universe_median!C12 -> 0 | D12: =universe_median!D12 -> 0 | E12: =universe_median!E12 -> 0 | F12: =universe_median!F12 -> 2.5684052 | G12: =universe_median!G12 -> 0 | H12: =universe_median!H12 -> 0 | I12: =universe_median!I12 -> 10.480217 | J12: =universe_median!J12 -> 0 | ... L12: =universe_median!L12 -> 0
A13: =universe_median!A13 -> Chiclayo | B13: =LEFT(universe_median!B13,FIND(")",universe_median!B13)) -> Medium and Large (20 or more) | C13: =universe_median!C13 -> 12.379356 | D13: =universe_median!D13 -> 0 | E13: =universe_median!E13 -> 0 | F13: =universe_median!F13 -> 0 | G13: =universe_median!G13 -> 7.9963112 | H13: =universe_median!H13 -> 0 | I13: =universe_median!I13 -> 0 | J13: =universe_median!J13 -> 0 | ... L13: =universe_median!L13 -> 0
A14: =universe_median!A14 -> Chiclayo | B14: =LEFT(universe_median!B14,FIND(")",universe_median!B14)) -> Small and Medium (5 to 99) | C14: =universe_median!C14 -> 0 | D14: =universe_median!D14 -> 0 | E14: =universe_median!E14 -> 0 | F14: =universe_median!F14 -> 0 | G14: =universe_median!G14 -> 0 | H14: =universe_median!H14 -> 25.067873 | I14: =universe_median!I14 -> 0 | J14: =universe_median!J14 -> 0 | ... L14: =universe_median!L14 -> 0
A15: =universe_median!A15 -> Trujillo | B15: =LEFT(universe_median!B15,FIND(")",universe_median!B15)) -> Small (5-19) | C15: =universe_median!C15 -> 21.918547 | D15: =universe_median!D15 -> 0 | E15: =universe_median!E15 -> 0 | F15: =universe_median!F15 -> 70.592735 | G15: =universe_median!G15 -> 93.255539 | H15: =universe_median!H15 -> 0 | I15: =universe_median!I15 -> 579.81036 | J15: =universe_median!J15 -> 0 | ... L15: =universe_median!L15 -> 0 | M15: =SUM(C15:L20) -> 1005.1464
A16: =universe_median!A16 -> Trujillo | B16: =LEFT(universe_median!B16,FIND(")",universe_median!B16)) -> Medium (20-99) | C16: =universe_median!C16 -> 0 | D16: =universe_median!D16 -> 0 | E16: =universe_median!E16 -> 0 | F16: =universe_median!F16 -> 0 | G16: =universe_median!G16 -> 0 | H16: =universe_median!H16 -> 0 | I16: =universe_median!I16 -> 111.89153 | J16: =universe_median!J16 -> 0 | ... L16: =universe_median!L16 -> 0
A17: =universe_median!A17 -> Trujillo | B17: =LEFT(universe_median!B17,FIND(")",universe_median!B17)) -> Large (100 or more) | C17: =universe_median!C17 -> 0 | D17: =universe_median!D17 -> 0 | E17: =universe_median!E17 -> 0 | F17: =universe_median!F17 -> 0 | G17: =universe_median!G17 -> 0 | H17: =universe_median!H17 -> 0 | I17: =universe_median!I17 -> 28.026398 | J17: =universe_median!J17 -> 0 | ... L17: =universe_median!L17 -> 0
A18: =universe_median!A18 -> Trujillo | B18: =LEFT(universe_median!B18,FIND(")",universe_median!B18)) -> Medium and Large (20 or more) | C18: =universe_median!C18 -> 11.3092 | D18: =universe_median!D18 -> 0 | E18: =universe_median!E18 -> 0 | F18: =universe_median!F18 -> 19.355249 | G18: =universe_median!G18 -> 14.592042 | H18: =universe_median!H18 -> 0 | I18: =universe_median!I18 -> 0 | J18: =universe_median!J18 -> 0 | ... L18: =universe_median!L18 -> 0
A19: =universe_median!A19 -> Trujillo | B19: =LEFT(universe_median!B19,FIND(")",universe_median!B19)) -> Small and Medium (5 to 99) | C19: =universe_median!C19 -> 0 | D19: =universe_median!D19 -> 0 | E19: =universe_median!E19 -> 0 | F19: =universe_median!F19 -> 0 | G19: =universe_median!G19 -> 0 | H19: =universe_median!H19 -> 0 | I19: =universe_median!I19 -> 0 | J19: =universe_median!J19 -> 0 | ... L19: =universe_median!L19 -> 10.421406
A20: =universe_median!A20 -> Trujillo | B20: =LEFT(universe_median!B20,FIND(")",universe_median!B20)) -> All sizes (5 or more) | C20: =universe_median!C20 -> 0 | D20: =universe_median!D20 -> 0 | E20: =universe_median!E20 -> 0 | F20: =universe_median!F20 -> 0 | G20: =universe_median!G20 -> 0 | H20: =universe_median!H20 -> 43.973389 | I20: =universe_median!I20 -> 0 | J20: =universe_median!J20 -> 0 | ... L20: =universe_median!L20 -> 0
A21: =universe_median!A21 -> Piura | B21: =LEFT(universe_median!B21,FIND(")",universe_median!B21)) -> Small (5-19) | C21: =universe_median!C21 -> 27.328049 | D21: =universe_median!D21 -> 0 | E21: =universe_median!E21 -> 0 | F21: =universe_median!F21 -> 0 | G21: =universe_median!G21 -> 88.117142 | H21: =universe_median!H21 -> 25.806311 | I21: =universe_median!I21 -> 333.61911 | J21: =universe_median!J21 -> 0 | ... L21: =universe_median!L21 -> 0 | M21: =SUM(C21:L24) -> 634.22335
A22: =universe_median!A22 -> Piura | B22: =LEFT(universe_median!B22,FIND(")",universe_median!B22)) -> Medium (20-99) | C22: =universe_median!C22 -> 13.76375 | D22: =universe_median!D22 -> 0 | E22: =universe_median!E22 -> 0 | F22: =universe_median!F22 -> 0 | G22: =universe_median!G22 -> 0 | H22: =universe_median!H22 -> 2.2495377 | I22: =universe_median!I22 -> 63.384743 | J22: =universe_median!J22 -> 0 | ... L22: =universe_median!L22 -> 0
A23: =universe_median!A23 -> Piura | B23: =LEFT(universe_median!B23,FIND(")",universe_median!B23)) -> Large (100 or more) | C23: =universe_median!C23 -> 11.112096 | D23: =universe_median!D23 -> 0 | E23: =universe_median!E23 -> 0 | F23: =universe_median!F23 -> 0 | G23: =universe_median!G23 -> 0 | H23: =universe_median!H23 -> 0 | I23: =universe_median!I23 -> 16.580246 | J23: =universe_median!J23 -> 0 | ... L23: =universe_median!L23 -> 0
A24: =universe_median!A24 -> Piura | B24: =LEFT(universe_median!B24,FIND(")",universe_median!B24)) -> Medium and Large (20 or more) | C24: =universe_median!C24 -> 0 | D24: =universe_median!D24 -> 0 | E24: =universe_median!E24 -> 0 | F24: =universe_median!F24 -> 8.3723707 | G24: =universe_median!G24 -> 13.157698 | H24: =universe_median!H24 -> 0 | I24: =universe_median!I24 -> 0 | J24: =universe_median!J24 -> 0 | ... L24: =universe_median!L24 -> 0
C25: =SUM(C2:C24) -> 761.64 | D25: =SUM(D2:D24) -> 263.39577 | E25: =SUM(E2:E24) -> 343.81306 | F25: =SUM(F2:F24) -> 2517.3495 | G25: =SUM(G2:G24) -> 2007.5091 | H25: =SUM(H2:H24) -> 468.82866 | I25: =SUM(I2:I24) -> 11654.9 | J25: =SUM(J2:J24) -> 39.18597 | ... M25: =SUM(M2:M24) -> 18097.775

Sheet Table 10 Strict Universe Est
C1: =RIGHT(SUBSTITUTE(universe_strict!C1,"_"," "),LEN(SUBSTITUTE(universe_strict!C1,"_"," "))-1) -> Food | D1: =RIGHT(SUBSTITUTE(universe_strict!D1,"_"," "),LEN(SUBSTITUTE(universe_strict!D1,"_"," "))-1) -> Textiles | E1: =RIGHT(SUBSTITUTE(universe_strict!E1,"_"," "),LEN(SUBSTITUTE(universe_strict!E1,"_"," "))-1) -> Garments | F1: =RIGHT(SUBSTITUTE(universe_strict!F1,"_"," "),LEN(SUBSTITUTE(universe_strict!F1,"_"," "))-1) -> Other Mfg | G1: =RIGHT(SUBSTITUTE(universe_strict!G1,"_"," "),LEN(SUBSTITUTE(universe_strict!G1,"_"," "))-1) -> Retail | H1: =RIGHT(SUBSTITUTE(universe_strict!H1,"_"," "),LEN(SUBSTITUTE(universe_strict!H1,"_"," "))-1) -> Hotels | I1: =RIGHT(SUBSTITUTE(universe_strict!I1,"_"," "),LEN(SUBSTITUTE(universe_strict!I1,"_"," "))-1) -> Other Services | J1: =RIGHT(SUBSTITUTE(universe_strict!J1,"_"," "),LEN(SUBSTITUTE(universe_strict!J1,"_"," "))-1) -> Garment and Other Mfg | ... M1: =RIGHT(SUBSTITUTE(universe_strict!M1,"_"," "),LEN(SUBSTITUTE(universe_strict!M1,"_"," "))-1) -> Grand Total
A2: =universe_strict!A2 -> Lima | B2: =LEFT(universe_strict!B2,FIND(")",universe_strict!B2)) -> Small (5-19) | C2: =universe_strict!C2 -> 50.431839 | D2: =universe_strict!D2 -> 18.598789 | E2: =universe_strict!E2 -> 30.902079 | F2: =universe_strict!F2 -> 272.53537 | G2: =universe_strict!G2 -> 216.75656 | H2: =universe_strict!H2 -> 45.321033 | I2: =universe_strict!I2 -> 1110.4323 | J2: =universe_strict!J2 -> 0 | ... L2: =universe_strict!L2 -> 0 | M2: =SUM(C2:L4) -> 2465.0812
A3: =universe_strict!A3 -> Lima | B3: =LEFT(universe_strict!B3,FIND(")",universe_strict!B3)) -> Medium (20-99) | C3: =universe_strict!C3 -> 26.491602 | D3: =universe_strict!D3 -> 11 | E3: =universe_strict!E3 -> 12 | F3: =universe_strict!F3 -> 85.135971 | G3: =universe_strict!G3 -> 41.614624 | H3: =universe_strict!H3 -> 13.482424 | I3: =universe_strict!I3 -> 332.61093 | J3: =universe_strict!J3 -> 0 | ... L3: =universe_strict!L3 -> 0
A4: =universe_strict!A4 -> Lima | B4: =LEFT(universe_strict!B4,FIND(")",universe_strict!B4)) -> Large (100 or more) | C4: =universe_strict!C4 -> 28 | D4: =universe_strict!D4 -> 8 | E4: =universe_strict!E4 -> 12 | F4: =universe_strict!F4 -> 54.274754 | G4: =universe_strict!G4 -> 12.501811 | H4: =universe_strict!H4 -> 7 | I4: =universe_strict!I4 -> 75.991112 | J4: =universe_strict!J4 -> 0 | ... L4: =universe_strict!L4 -> 0
A5: =universe_strict!A5 -> Arequipa | B5: =LEFT(universe_strict!B5,FIND(")",universe_strict!B5)) -> Small (5-19) | C5: =universe_strict!C5 -> 12.298893 | D5: =universe_strict!D5 -> 0 | E5: =universe_strict!E5 -> 0 | F5: =universe_strict!F5 -> 39.674927 | G5: =universe_strict!G5 -> 48.043816 | H5: =universe_strict!H5 -> 18.562351 | I5: =universe_strict!I5 -> 261.00766 | J5: =universe_strict!J5 -> 0 | ... L5: =universe_strict!L5 -> 0 | M5: =SUM(C5:L9) -> 502.50876
A6: =universe_strict!A6 -> Arequipa | B6: =LEFT(universe_strict!B6,FIND(")",universe_strict!B6)) -> Medium (20-99) | C6: =universe_strict!C6 -> 7 | D6: =universe_strict!D6 -> 0 | E6: =universe_strict!E6 -> 0 | F6: =universe_strict!F6 -> 15.478875 | G6: =universe_strict!G6 -> 0 | H6: =universe_strict!H6 -> 3 | I6: =universe_strict!I6 -> 50.202496 | J6: =universe_strict!J6 -> 0 | ... L6: =universe_strict!L6 -> 0
A7: =universe_strict!A7 -> Arequipa | B7: =LEFT(universe_strict!B7,FIND(")",universe_strict!B7)) -> Large (100 or more) | C7: =universe_strict!C7 -> 1.2360423 | D7: =universe_strict!D7 -> 0 | E7: =universe_strict!E7 -> 0 | F7: =universe_strict!F7 -> 5.5084133 | G7: =universe_strict!G7 -> 0 | H7: =universe_strict!H7 -> 0 | I7: =universe_strict!I7 -> 11.194112 | J7: =universe_strict!J7 -> 0 | ... L7: =universe_strict!L7 -> 0
A8: =universe_strict!A8 -> Arequipa | B8: =LEFT(universe_strict!B8,FIND(")",universe_strict!B8)) -> Medium and Large (20 or more) | C8: =universe_strict!C8 -> 0 | D8: =universe_strict!D8 -> 0 | E8: =universe_strict!E8 -> 0 | F8: =universe_strict!F8 -> 0 | G8: =universe_strict!G8 -> 6.9131069 | H8: =universe_strict!H8 -> 0 | I8: =universe_strict!I8 -> 0 | J8: =universe_strict!J8 -> 0 | ... L8: =universe_strict!L8 -> 0
A9: =universe_strict!A9 -> Arequipa | B9: =LEFT(universe_strict!B9,FIND(")",universe_strict!B9)) -> All sizes (5 or more) | C9: =universe_strict!C9 -> 0 | D9: =universe_strict!D9 -> 7.3358641 | E9: =universe_strict!E9 -> 15.052203 | F9: =universe_strict!F9 -> 0 | G9: =universe_strict!G9 -> 0 | H9: =universe_strict!H9 -> 0 | I9: =universe_strict!I9 -> 0 | J9: =universe_strict!J9 -> 0 | ... L9: =universe_strict!L9 -> 0
A10: =universe_strict!A10 -> Chiclayo | B10: =LEFT(universe_strict!B10,FIND(")",universe_strict!B10)) -> Small (5-19) | C10: =universe_strict!C10 -> 13.16223 | D10: =universe_strict!D10 -> 0 | E10: =universe_strict!E10 -> 0 | F10: =universe_strict!F10 -> 0 | G10: =universe_strict!G10 -> 30.657705 | H10: =universe_strict!H10 -> 0 | I10: =universe_strict!I10 -> 129.87445 | J10: =universe_strict!J10 -> 21.840282 | ... L10: =universe_strict!L10 -> 0 | M10: =SUM(C10:L14) -> 278.99206
A11: =universe_strict!A11 -> Chiclayo | B11: =LEFT(universe_strict!B11,FIND(")",universe_strict!B11)) -> Medium (20-99) | C11: =universe_strict!C11 -> 0 | D11: =universe_strict!D11 -> 0 | E11: =universe_strict!E11 -> 0 | F11: =universe_strict!F11 -> 4 | G11: =universe_strict!G11 -> 0 | H11: =universe_strict!H11 -> 0 | I11: =universe_strict!I11 -> 26.640915 | J11: =universe_strict!J11 -> 0 | ... L11: =universe_strict!L11 -> 0
A12: =universe_strict!A12 -> Chiclayo | B12: =LEFT(universe_strict!B12,FIND(")",universe_strict!B12)) -> Large (100 or more) | C12: =universe_strict!C12 -> 0 | D12: =universe_strict!D12 -> 0 | E12: =universe_strict!E12 -> 0 | F12: =universe_strict!F12 -> 1 | G12: =universe_strict!G12 -> 0 | H12: =universe_strict!H12 -> 0 | I12: =universe_strict!I12 -> 4.1400261 | J12: =universe_strict!J12 -> 0 | ... L12: =universe_strict!L12 -> 0
A13: =universe_strict!A13 -> Chiclayo | B13: =LEFT(universe_strict!B13,FIND(")",universe_strict!B13)) -> Medium and Large (20 or more) | C13: =universe_strict!C13 -> 5.8145509 | D13: =universe_strict!D13 -> 0 | E13: =universe_strict!E13 -> 0 | F13: =universe_strict!F13 -> 0 | G13: =universe_strict!G13 -> 7 | H13: =universe_strict!H13 -> 0 | I13: =universe_strict!I13 -> 0 | J13: =universe_strict!J13 -> 0 | ... L13: =universe_strict!L13 -> 0
A14: =universe_strict!A14 -> Chiclayo | B14: =LEFT(universe_strict!B14,FIND(")",universe_strict!B14)) -> Small and Medium (5 to 99) | C14: =universe_strict!C14 -> 0 | D14: =universe_strict!D14 -> 0 | E14: =universe_strict!E14 -> 0 | F14: =universe_strict!F14 -> 0 | G14: =universe_strict!G14 -> 0 | H14: =universe_strict!H14 -> 34.8619 | I14: =universe_strict!I14 -> 0 | J14: =universe_strict!J14 -> 0 | ... L14: =universe_strict!L14 -> 0
A15: =universe_strict!A15 -> Trujillo | B15: =LEFT(universe_strict!B15,FIND(")",universe_strict!B15)) -> Small (5-19) | C15: =universe_strict!C15 -> 7.4837718 | D15: =universe_strict!D15 -> 0 | E15: =universe_strict!E15 -> 0 | F15: =universe_strict!F15 -> 27.601517 | G15: =universe_strict!G15 -> 34.236229 | H15: =universe_strict!H15 -> 0 | I15: =universe_strict!I15 -> 209.09796 | J15: =universe_strict!J15 -> 0 | ... L15: =universe_strict!L15 -> 0 | M15: =SUM(C15:L20) -> 394.34632
A16: =universe_strict!A16 -> Trujillo | B16: =LEFT(universe_strict!B16,FIND(")",universe_strict!B16)) -> Medium (20-99) | C16: =universe_strict!C16 -> 0 | D16: =universe_strict!D16 -> 0 | E16: =universe_strict!E16 -> 0 | F16: =universe_strict!F16 -> 0 | G16: =universe_strict!G16 -> 0 | H16: =universe_strict!H16 -> 0 | I16: =universe_strict!I16 -> 46.713055 | J16: =universe_strict!J16 -> 0 | ... L16: =universe_strict!L16 -> 0
A17: =universe_strict!A17 -> Trujillo | B17: =LEFT(universe_strict!B17,FIND(")",universe_strict!B17)) -> Large (100 or more) | C17: =universe_strict!C17 -> 0 | D17: =universe_strict!D17 -> 0 | E17: =universe_strict!E17 -> 0 | F17: =universe_strict!F17 -> 0 | G17: =universe_strict!G17 -> 0 | H17: =universe_strict!H17 -> 0 | I17: =universe_strict!I17 -> 11.006519 | J17: =universe_strict!J17 -> 0 | ... L17: =universe_strict!L17 -> 0
A18: =universe_strict!A18 -> Trujillo | B18: =LEFT(universe_strict!B18,FIND(")",universe_strict!B18)) -> Medium and Large (20 or more) | C18: =universe_strict!C18 -> 3.6975646 | D18: =universe_strict!D18 -> 0 | E18: =universe_strict!E18 -> 0 | F18: =universe_strict!F18 -> 9 | G18: =universe_strict!G18 -> 5.6388125 | H18: =universe_strict!H18 -> 0 | I18: =universe_strict!I18 -> 0 | J18: =universe_strict!J18 -> 0 | ... L18: =universe_strict!L18 -> 0
A19: =universe_strict!A19 -> Trujillo | B19: =LEFT(universe_strict!B19,FIND(")",universe_strict!B19)) -> Small and Medium (5 to 99) | C19: =universe_strict!C19 -> 0 | D19: =universe_strict!D19 -> 0 | E19: =universe_strict!E19 -> 0 | F19: =universe_strict!F19 -> 0 | G19: =universe_strict!G19 -> 0 | H19: =universe_strict!H19 -> 0 | I19: =universe_strict!I19 -> 0 | J19: =universe_strict!J19 -> 0 | ... L19: =universe_strict!L19 -> 17.576828
A20: =universe_strict!A20 -> Trujillo | B20: =LEFT(universe_strict!B20,FIND(")",universe_strict!B20)) -> All sizes (5 or more) | C20: =universe_strict!C20 -> 0 | D20: =universe_strict!D20 -> 0 | E20: =universe_strict!E20 -> 0 | F20: =universe_strict!F20 -> 0 | G20: =universe_strict!G20 -> 0 | H20: =universe_strict!H20 -> 22.294064 | I20: =universe_strict!I20 -> 0 | J20: =universe_strict!J20 -> 0 | ... L20: =universe_strict!L20 -> 0
A21: =universe_strict!A21 -> Piura | B21: =LEFT(universe_strict!B21,FIND(")",universe_strict!B21)) -> Small (5-19) | C21: =universe_strict!C21 -> 9.6361055 | D21: =universe_strict!D21 -> 0 | E21: =universe_strict!E21 -> 0 | F21: =universe_strict!F21 -> 0 | G21: =universe_strict!G21 -> 33.863235 | H21: =universe_strict!H21 -> 11.536451 | I21: =universe_strict!I21 -> 125.94225 | J21: =universe_strict!J21 -> 0 | ... L21: =universe_strict!L21 -> 0 | M21: =SUM(C21:L24) -> 255.10164
A22: =universe_strict!A22 -> Piura | B22: =LEFT(universe_strict!B22,FIND(")",universe_strict!B22)) -> Medium (20-99) | C22: =universe_strict!C22 -> 5.4660945 | D22: =universe_strict!D22 -> 0 | E22: =universe_strict!E22 -> 0 | F22: =universe_strict!F22 -> 0 | G22: =universe_strict!G22 -> 0 | H22: =universe_strict!H22 -> 1.1326272 | I22: =universe_strict!I22 -> 26.949627 | J22: =universe_strict!J22 -> 0 | ... L22: =universe_strict!L22 -> 0
A23: =universe_strict!A23 -> Piura | B23: =LEFT(universe_strict!B23,FIND(")",universe_strict!B23)) -> Large (100 or more) | C23: =universe_strict!C23 -> 2.7016158 | D23: =universe_strict!D23 -> 0 | E23: =universe_strict!E23 -> 0 | F23: =universe_strict!F23 -> 0 | G23: =universe_strict!G23 -> 0 | H23: =universe_strict!H23 -> 0 | I23: =universe_strict!I23 -> 9 | J23: =universe_strict!J23 -> 0 | ... L23: =universe_strict!L23 -> 0
A24: =universe_strict!A24 -> Piura | B24: =LEFT(universe_strict!B24,FIND(")",universe_strict!B24)) -> Medium and Large (20 or more) | C24: =universe_strict!C24 -> 0 | D24: =universe_strict!D24 -> 0 | E24: =universe_strict!E24 -> 0 | F24: =universe_strict!F24 -> 3.1646626 | G24: =universe_strict!G24 -> 5.1921749 | H24: =universe_strict!H24 -> 0 | I24: =universe_strict!I24 -> 0 | J24: =universe_strict!J24 -> 0 | ... L24: =universe_strict!L24 -> 0
C25: =SUM(C2:C24) -> 173.42031 | D25: =SUM(D2:D24) -> 44.934653 | E25: =SUM(E2:E24) -> 69.954282 | F25: =SUM(F2:F24) -> 517.37449 | G25: =SUM(G2:G24) -> 442.41808 | H25: =SUM(H2:H24) -> 157.19085 | I25: =SUM(I2:I24) -> 2430.8034 | J25: =SUM(J2:J24) -> 21.840282 | ... M25: =SUM(M2:M24) -> 3896.0299

Sheet Table 11 Item Response Rates
C2: Screener/Interview | D2: d2 | E2: l1 | F2: n2a | G2: all TFP variables
B3: Panel | C3: Fresh | D3: =VLOOKUP($C3,'item response'!$C:$G,2,FALSE) -> 0.94753575 | E3: =VLOOKUP($C3,'item response'!$C:$G,3,FALSE) -> 1 | F3: =VLOOKUP($C3,'item response'!$C:$G,4,FALSE) -> 0.83147854 | G3: =VLOOKUP($C3,'item response'!$C:$G,5,FALSE) -> 0.69166666
C4: Panel | D4: =VLOOKUP($C4,'item response'!$C:$G,2,FALSE) -> 0.95810056 | E4: =VLOOKUP($C4,'item response'!$C:$G,3,FALSE) -> 1 | F4: =VLOOKUP($C4,'item response'!$C:$G,4,FALSE) -> 0.85195529 | G4: =VLOOKUP($C4,'item response'!$C:$G,5,FALSE) -> 0.73459715
B5: Size | C5: Small (5-19) | D5: =VLOOKUP($C5,'item response'!$C:$G,2,FALSE) -> 0.94405591 | E5: =VLOOKUP($C5,'item response'!$C:$G,3,FALSE) -> 1 | F5: =VLOOKUP($C5,'item response'!$C:$G,4,FALSE) -> 0.85314685 | G5: =VLOOKUP($C5,'item response'!$C:$G,5,FALSE) -> 0.74712646
C6: Medium (20-99) | D6: =VLOOKUP($C6,'item response'!$C:$G,2,FALSE) -> 0.96619719 | E6: =VLOOKUP($C6,'item response'!$C:$G,3,FALSE) -> 1 | F6: =VLOOKUP($C6,'item response'!$C:$G,4,FALSE) -> 0.85915494 | G6: =VLOOKUP($C6,'item response'!$C:$G,5,FALSE) -> 0.73333335
C7: Large (100+) | D7: =VLOOKUP($C7,'item response'!$C:$G,2,FALSE) -> 0.94088668 | E7: =VLOOKUP($C7,'item response'!$C:$G,3,FALSE) -> 1 | F7: =VLOOKUP($C7,'item response'!$C:$G,4,FALSE) -> 0.773399 | G7: =VLOOKUP($C7,'item response'!$C:$G,5,FALSE) -> 0.625
B8: Region | C8: Lima | D8: =VLOOKUP($C8,'item response'!$C:$G,2,FALSE) -> 0.94266057 | E8: =VLOOKUP($C8,'item response'!$C:$G,3,FALSE) -> 1 | F8: =VLOOKUP($C8,'item response'!$C:$G,4,FALSE) -> 0.83486241 | G8: =VLOOKUP($C8,'item response'!$C:$G,5,FALSE) -> 0.7056604
C9: Arequipa | D9: =VLOOKUP($C9,'item response'!$C:$G,2,FALSE) -> 0.96590906 | E9: =VLOOKUP($C9,'item response'!$C:$G,3,FALSE) -> 1 | F9: =VLOOKUP($C9,'item response'!$C:$G,4,FALSE) -> 0.84090906 | G9: =VLOOKUP($C9,'item response'!$C:$G,5,FALSE) -> 0.71428573
C10: Chiclayo | D10: =VLOOKUP($C10,'item response'!$C:$G,2,FALSE) -> 0.96428573 | E10: =VLOOKUP($C10,'item response'!$C:$G,3,FALSE) -> 1 | F10: =VLOOKUP($C10,'item response'!$C:$G,4,FALSE) -> 0.84821427 | G10: =VLOOKUP($C10,'item response'!$C:$G,5,FALSE) -> 0.63636363
C11: Trujillo | D11: =VLOOKUP($C11,'item response'!$C:$G,2,FALSE) -> 0.93548387 | E11: =VLOOKUP($C11,'item response'!$C:$G,3,FALSE) -> 1 | F11: =VLOOKUP($C11,'item response'!$C:$G,4,FALSE) -> 0.86451614 | G11: =VLOOKUP($C11,'item response'!$C:$G,5,FALSE) -> 0.75
C12: Piura | D12: =VLOOKUP($C12,'item response'!$C:$G,2,FALSE) -> 0.97222221 | E12: =VLOOKUP($C12,'item response'!$C:$G,3,FALSE) -> 1 | F12: =VLOOKUP($C12,'item response'!$C:$G,4,FALSE) -> 0.80555558 | G12: =VLOOKUP($C12,'item response'!$C:$G,5,FALSE) -> 0.78571427
B13: Sector | C13: Food | D13: =VLOOKUP($C13,'item response'!$C:$G,2,FALSE) -> 0.95495498 | E13: =VLOOKUP($C13,'item response'!$C:$G,3,FALSE) -> 1 | F13: =VLOOKUP($C13,'item response'!$C:$G,4,FALSE) -> 0.76576579 | G13: =VLOOKUP($C13,'item response'!$C:$G,5,FALSE) -> 0.72072071
C14: Textiles | D14: =VLOOKUP($C14,'item response'!$C:$G,2,FALSE) -> 0.97435898 | E14: =VLOOKUP($C14,'item response'!$C:$G,3,FALSE) -> 1 | F14: =VLOOKUP($C14,'item response'!$C:$G,4,FALSE) -> 0.82051283 | G14: =VLOOKUP($C14,'item response'!$C:$G,5,FALSE) -> 0.76923078
C15: Garments | D15: =VLOOKUP($C15,'item response'!$C:$G,2,FALSE) -> 0.93055558 | E15: =VLOOKUP($C15,'item response'!$C:$G,3,FALSE) -> 1 | F15: =VLOOKUP($C15,'item response'!$C:$G,4,FALSE) -> 0.8611111 | G15: =VLOOKUP($C15,'item response'!$C:$G,5,FALSE) -> 0.72222221
C16: Other Manufacturing | D16: =VLOOKUP($C16,'item response'!$C:$G,2,FALSE) -> 0.97368419 | E16: =VLOOKUP($C16,'item response'!$C:$G,3,FALSE) -> 1 | F16: =VLOOKUP($C16,'item response'!$C:$G,4,FALSE) -> 0.82456142 | G16: =VLOOKUP($C16,'item response'!$C:$G,5,FALSE) -> 0.69736844
C17: Retail | D17: =VLOOKUP($C17,'item response'!$C:$G,2,FALSE) -> 0.95512819 | E17: =VLOOKUP($C17,'item response'!$C:$G,3,FALSE) -> 1 | F17: =VLOOKUP($C17,'item response'!$C:$G,4,FALSE) -> 0.85897434 | G17: =VLOOKUP($C17,'item response'!$C:$G,5,FALSE) -> 0
C18: Hotels | D18: =VLOOKUP($C18,'item response'!$C:$G,2,FALSE) -> 0.8888889 | E18: =VLOOKUP($C18,'item response'!$C:$G,3,FALSE) -> 1 | F18: =VLOOKUP($C18,'item response'!$C:$G,4,FALSE) -> 0.85185188 | G18: =VLOOKUP($C18,'item response'!$C:$G,5,FALSE) -> 0
C19: Other Services | D19: =VLOOKUP($C19,'item response'!$C:$G,2,FALSE) -> 0.94999999 | E19: =VLOOKUP($C19,'item response'!$C:$G,3,FALSE) -> 1 | F19: =VLOOKUP($C19,'item response'!$C:$G,4,FALSE) -> 0.86000001 | G19: =VLOOKUP($C19,'item response'!$C:$G,5,FALSE) -> 0
B20: Overall | C20: Peru 2023 | D20: =VLOOKUP($C20,'item response'!$C:$G,2,FALSE) -> 0.9513678 | E20: =VLOOKUP($C20,'item response'!$C:$G,3,FALSE) -> 1 | F20: =VLOOKUP($C20,'item response'!$C:$G,4,FALSE) -> 0.83890575 | G20: =VLOOKUP($C20,'item response'!$C:$G,5,FALSE) -> 0.71175164
B21: Notes: the rates are calculated as follows. The number of responses with informative content in the respective variable (or combination of variables in the case of TFP) is divided by the same number plus the number of responses that are "don't know" (code -9) or refusal (code -8).

Sheet universe
A1: stratificationregionname | B1: stratificationsizename | C1: _Food | D1: _Textiles | E1: _Garments | F1: _Other_Mfg | G1: _Retail | H1: _Hotels | I1: _Other_Services | J1: _Grand_Total
A2: Lima | B2: Small (5-19) | C2: 644 | D2: 313 | E2: 585 | F2: 3515 | G2: 2863 | H2: 399 | I2: 14483
A3: Lima | B3: Medium (20-99) | C3: 215 | D3: 82 | E3: 109 | F3: 786 | G3: 375 | H3: 93 | I3: 3395
A4: Lima | B4: Large (100 or more) | C4: 152 | D4: 38 | E4: 47 | F4: 325 | G4: 124 | H4: 28 | I4: 1051
A5: Arequipa | B5: Small (5-19) | C5: 74 | D5: 21 | E5: 37 | F5: 238 | G5: 299 | H5: 77 | I5: 1604
A6: Arequipa | B6: Medium (20-99) | C6: 23 | D6: 1 | E6: 2 | F6: 53 | G6: 23 | H6: 8 | I6: 230
A7: Arequipa | B7: Large (100 or more) | C7: 5 | D7: 4 | E7: 3 | F7: 22 | G7: 6 | H7: 0 | I7: 60
A8: Chiclayo | B8: Small (5-19) | C8: 64 | D8: 0 | E8: 2 | F8: 88 | G8: 151 | H8: 35 | I8: 645
A9: Chiclayo | B9: Medium (20-99) | C9: 9 | D9: 0 | E9: 0 | F9: 15 | G9: 10 | H9: 4 | I9: 80
A10: Chiclayo | B10: Large (100 or more) | C10: 9 | D10: 0 | E10: 0 | F10: 5 | G10: 2 | H10: 0 | I10: 17
A11: Trujillo | B11: Small (5-19) | C11: 54 | D11: 3 | E11: 4 | F11: 177 | G11: 259 | H11: 59 | I11: 1562
A12: Trujillo | B12: Medium (20-99) | C12: 11 | D12: 0 | E12: 1 | F12: 26 | G12: 21 | H12: 5 | I12: 266
A13: Trujillo | B13: Large (100 or more) | C13: 10 | D13: 0 | E13: 0 | F13: 6 | G13: 5 | H13: 0 | I13: 46
... A16: Piura | B16: Large (100 or more) | C16: 19 | D16: 0 | E16: 0 | F16: 3 | G16: 6 | H16: 0 | I16: 29

Sheet frame fresh and panel
A1: stratificationregionname | B1: stratificationsizename | C1: _Food | D1: _Textiles | E1: _Garments | F1: _Other_Mfg | G1: _Retail | H1: _Hotels | I1: _Other_Services | J1: _Grand_Total
A2: Lima | B2: Small (5-19) | C2: 480 | D2: 205 | E2: 507 | F2: 1507 | G2: 1177 | H2: 250 | I2: 5105
A3: Lima | B3: Medium (20-99) | C3: 173 | D3: 86 | E3: 81 | F3: 664 | G3: 295 | H3: 70 | I3: 2252
A4: Lima | B4: Large (100 or more) | C4: 175 | D4: 52 | E4: 66 | F4: 355 | G4: 122 | H4: 25 | I4: 789
A5: Arequipa | B5: Small (5-19) | C5: 60 | D5: 20 | E5: 42 | F5: 240 | G5: 275 | H5: 61 | I5: 1304
A6: Arequipa | B6: Medium (20-99) | C6: 26 | D6: 2 | E6: 5 | F6: 65 | G6: 26 | H6: 9 | I6: 241
A7: Arequipa | B7: Large (100 or more) | C7: 8 | D7: 7 | E7: 5 | F7: 29 | G7: 9 | I7: 74
A8: Chiclayo | B8: Small (5-19) | C8: 49 | E8: 6 | F8: 88 | G8: 130 | H8: 32 | I8: 533
A9: Chiclayo | B9: Medium (20-99) | C9: 11 | F9: 13 | G9: 13 | H9: 5 | I9: 98
A10: Chiclayo | B10: Large (100 or more) | C10: 12 | F10: 4 | G10: 3 | I10: 20
A11: Trujillo | B11: Small (5-19) | C11: 47 | D11: 2 | E11: 6 | F11: 194 | G11: 226 | H11: 53 | I11: 1201
A12: Trujillo | B12: Medium (20-99) | C12: 9 | E12: 2 | F12: 34 | G12: 27 | H12: 7 | I12: 254
A13: Trujillo | B13: Large (100 or more) | C13: 11 | F13: 8 | G13: 3 | H13: 1 | I13: 56
A14: Piura | B14: Small (5-19) | C14: 48 | D14: 1 | E14: 2 | F14: 77 | G14: 148 | H14: 36 | I14: 592
A15: Piura | B15: Medium (20-99) | C15: 22 | F15: 13 | G15: 21 | H15: 4 | I15: 115
A16: Piura | B16: Large (100 or more) | C16: 19 | F16: 2 | G16: 6 | I16: 31

Sheet original survey design
A1: stratificationregionname | B1: stratificationsizename | C1: _Food | D1: _Textiles | E1: _Garments | F1: _Other_Mfg | G1: _Retail | H1: _Hotels | I1: _Other_Services | J1: _Grand_Total
A2: Lima | B2: Small (5-19) | C2: 7 | D2: 25 | E2: 25 | F2: 25 | G2: 19 | H2: 16 | I2: 17
A3: Lima | B3: Medium (20-99) | C3: 19 | D3: 27 | E3: 28 | F3: 32 | G3: 11 | H3: 19 | I3: 25
A4: Lima | B4: Large (100 or more) | C4: 25 | D4: 17 | E4: 24 | F4: 28 | G4: 26 | H4: 7 | I4: 13
A5: Arequipa | B5: Small (5-19) | C5: 8 | D5: 6 | E5: 14 | F5: 10 | G5: 11 | H5: 17 | I5: 20
A6: Arequipa | B6: Medium (20-99) | C6: 9 | D6: 1 | E6: 3 | F6: 19 | G6: 8 | H6: 3 | I6: 10
A7: Arequipa | B7: Large (100 or more) | C7: 3 | D7: 3 | E7: 3 | F7: 10 | G7: 4 | H7: 0 | I7: 18
A8: Chiclayo | B8: Small (5-19) | C8: 11 | D8: 0 | E8: 3 | F8: 11 | G8: 15 | H8: 9 | I8: 20
A9: Chiclayo | B9: Medium (20-99) | C9: 3 | D9: 0 | E9: 0 | F9: 4 | G9: 5 | H9: 3 | I9: 21
A10: Chiclayo | B10: Large (100 or more) | C10: 4 | D10: 0 | E10: 0 | F10: 2 | G10: 2 | H10: 0 | I10: 7
A11: Trujillo | B11: Small (5-19) | C11: 12 | D11: 1 | E11: 3 | F11: 11 | G11: 21 | H11: 16 | I11: 20
A12: Trujillo | B12: Medium (20-99) | C12: 3 | D12: 0 | E12: 1 | F12: 11 | G12: 9 | H12: 2 | I12: 24
A13: Trujillo | B13: Large (100 or more) | C13: 4 | D13: 0 | E13: 0 | F13: 3 | G13: 1 | H13: 1 | I13: 17
... A16: Piura | B16: Large (100 or more) | C16: 5 | D16: 0 | E16: 0 | F16: 1 | G16: 2 | H16: 0 | I16: 10

Sheet yield calculation
A1: Survey | B1: Cell | C1: Name | D1: Yield | E1: Survey_response_rate | F1: Frame_quality
A2: Peru 2023 | B2: Fresh/Panel | C2: Fresh | D2: 0.098543003 | E2: 0.19259033 | F2: 0.5116716
A3: Peru 2023 | B3: Fresh/Panel | C3: Panel | D3: 0.35692921 | E3: 0.52110624 | F3: 0.68494517
A4: Peru 2023 | B4: Size | C4: Small (5-19) | D4: 0.12439094 | E4: 0.25589624 | F4: 0.48609918
A5: Peru 2023 | B5: Size | C5: Medium (20-99) | D5: 0.16164891 | E5: 0.29626486 | F5: 0.54562294
A6: Peru 2023 | B6: Size | C6: Large (100+) | D6: 0.1173763 | E6: 0.18906395 | F6: 0.62082851
A7: Peru 2023 | B7: Region | C7: Lima | D7: 0.10728347 | E7: 0.1934339 | F7: 0.55462599
A8: Peru 2023 | B8: Region | C8: Arequipa | D8: 0.16603774 | E8: 0.27936509 | F8: 0.59433961
A9: Peru 2023 | B9: Region | C9: Chiclayo | D9: 0.20216607 | E9: 0.40727273 | F9: 0.4963899
A10: Peru 2023 | B10: Region | C10: Trujillo | D10: 0.15704153 | E10: 0.34140968 | F10: 0.45997974
A11: Peru 2023 | B11: Region | C11: Piura | D11: 0.14979196 | E11: 0.31764707 | F11: 0.47156727
A12: Peru 2023 | B12: Sector | C12: Food | D12: 0.13867685 | E12: 0.24222222 | F12: 0.57251906
A13: Peru 2023 | B13: Sector | C13: Textiles | D13: 0.11796246 | E13: 0.21256039 | F13: 0.55495977
... A19: Peru 2023 | B19: Peru 2023 | C19: Peru 2023 | D19: 0.1336312 | E19: 0.24968378 | F19: 0.53520173

Sheet achieved fresh and panel
A1: stratificationregionname | B1: stratificationsizename | C1: _Food | D1: _Textiles | E1: _Garments | F1: _Other_Mfg | G1: _Retail | H1: _Hotels | I1: _Other_Services | J1: _Grand_Total
A2: Lima | B2: Small (5-19) | C2: 8 | D2: 18 | E2: 25 | F2: 23 | G2: 11 | H2: 25 | I2: 16
A3: Lima | B3: Medium (20-99) | C3: 25 | D3: 11 | E3: 12 | F3: 44 | G3: 28 | H3: 13 | I3: 21
A4: Lima | B4: Large (100 or more) | C4: 28 | D4: 8 | E4: 12 | F4: 54 | G4: 12 | H4: 7 | I4: 35
A5: Arequipa | B5: Small (5-19) | C5: 5 | D5: 4 | E5: 12 | F5: 20 | G5: 18 | H5: 17 | I5: 17
A6: Arequipa | B6: Medium (20-99) | C6: 7 | D6: 1 | E6: 1 | F6: 14 | G6: 3 | H6: 3 | I6: 34
A7: Arequipa | B7: Large (100 or more) | C7: 1 | D7: 2 | E7: 2 | F7: 5 | I7: 10
A8: Chiclayo | B8: Small (5-19) | C8: 9 | E8: 2 | F8: 13 | G8: 23 | H8: 6 | I8: 15
A9: Chiclayo | B9: Medium (20-99) | C9: 4 | F9: 4 | G9: 6 | H9: 2 | I9: 23
A10: Chiclayo | B10: Large (100 or more) | F10: 1 | G10: 1 | I10: 3
A11: Trujillo | B11: Small (5-19) | C11: 6 | E11: 2 | F11: 25 | G11: 26 | H11: 7 | I11: 19
A12: Trujillo | B12: Medium (20-99) | C12: 2 | F12: 9 | G12: 5 | H12: 1 | I12: 41
A13: Trujillo | B13: Large (100 or more) | C13: 1 | I13: 11
A14: Piura | B14: Small (5-19) | C14: 9 | F14: 12 | G14: 22 | H14: 7 | I14: 12
A15: Piura | B15: Medium (20-99) | C15: 2 | F15: 3 | G15: 5 | H15: 1 | I15: 24
A16: Piura | B16: Large (100 or more) | C16: 2 | I16: 9

Sheet achieved panel
A1: stratificationregionname | B1: stratificationsizename | C1: _Food | D1: _Textiles | E1: _Garments | F1: _Other_Mfg | G1: _Retail | H1: _Hotels | I1: _Other_Services | J1: _Grand_Total
A2: Lima | B2: Small (5-19) | C2: 6 | D2: 3 | E2: 13 | F2: 18 | G2: 8 | I2: 1
A3: Lima | B3: Medium (20-99) | C3: 15 | D3: 7 | E3: 8 | F3: 29 | G3: 10 | I3: 11
A4: Lima | B4: Large (100 or more) | C4: 13 | D4: 6 | E4: 8 | F4: 25 | G4: 3 | H4: 1 | I4: 4
A5: Arequipa | B5: Small (5-19) | C5: 1 | E5: 4 | F5: 5 | G5: 5 | I5: 10
A6: Arequipa | B6: Medium (20-99) | C6: 3 | D6: 1 | E6: 1 | F6: 5 | G6: 1 | I6: 3
A7: Arequipa | B7: Large (100 or more) | D7: 2 | E7: 2 | F7: 2 | I7: 4
A8: Chiclayo | B8: Small (5-19) | C8: 3 | E8: 2 | F8: 4 | G8: 5 | H8: 1 | I8: 11
A9: Chiclayo | B9: Medium (20-99) | C9: 1 | G9: 2 | H9: 2 | I9: 6
A10: Chiclayo | B10: Large (100 or more) | G10: 1 | I10: 2
A11: Trujillo | B11: Small (5-19) | C11: 4 | E11: 1 | F11: 8 | G11: 10 | H11: 1 | I11: 15
A12: Trujillo | B12: Medium (20-99) | C12: 1 | F12: 2 | G12: 3 | H12: 1 | I12: 8
A13: Trujillo | B13: Large (100 or more) | C13: 1 | I13: 3
A14: Piura | B14: Small (5-19) | C14: 2 | F14: 3 | G14: 4 | I14: 2
A15: Piura | B15: Medium (20-99) | C15: 1 | F15: 1 | G15: 4 | I15: 3
A16: Piura | B16: Large (100 or more) | I16: 2

Sheet universe_strict
A1: stratificationregionname | B1: stratificationsizename | C1: _Food | D1: _Textiles | E1: _Garments | F1: _Other_Mfg | G1: _Retail | H1: _Hotels | I1: _Other_Services | J1: _Garment_and_Other_Mfg | K1: _Textiles_Garment_and_Other_Mfg | L1: _Textiles_and_Garment | M1: _Grand_Total
A2: Lima | B2: Small (5-19) | C2: 50.431839 | D2: 18.598789 | E2: 30.902079 | F2: 272.53537 | G2: 216.75656 | H2: 45.321033 | I2: 1110.4323
A3: Lima | B3: Medium (20-99) | C3: 26.491602 | D3: 11 | E3: 12 | F3: 85.135971 | G3: 41.614624 | H3: 13.482424 | I3: 332.61093
A4: Lima | B4: Large (100 or more) | C4: 28 | D4: 8 | E4: 12 | F4: 54.274754 | G4: 12.501811 | H4: 7 | I4: 75.991112
A5: Arequipa | B5: Small (5-19) | C5: 12.298893 | F5: 39.674927 | G5: 48.043816 | H5: 18.562351 | I5: 261.00766
A6: Arequipa | B6: Medium (20-99) | C6: 7 | F6: 15.478875 | H6: 3 | I6: 50.202496
A7: Arequipa | B7: Large (100 or more) | C7: 1.2360423 | F7: 5.5084133 | I7: 11.194112
A8: Arequipa | B8: Medium and Large (20 or more) | G8: 6.9131069
A9: Arequipa | B9: All sizes (5 or more) | D9: 7.3358641 | E9: 15.052203
A10: Chiclayo | B10: Small (5-19) | C10: 13.16223 | G10: 30.657705 | I10: 129.87445 | J10: 21.840282
A11: Chiclayo | B11: Medium (20-99) | F11: 4 | I11: 26.640915
A12: Chiclayo | B12: Large (100 or more) | F12: 1 | I12: 4.1400261
A13: Chiclayo | B13: Medium and Large (20 or more) | C13: 5.8145509 | G13: 7
A14: Chiclayo | B14: Small and Medium (5 to 99) | H14: 34.8619
A15: Trujillo | B15: Small (5-19) | C15: 7.4837718 | F15: 27.601517 | G15: 34.236229 | I15: 209.09796
A16: Trujillo | B16: Medium (20-99) | I16: 46.713055
A17: Trujillo | B17: Large (100 or more) | I17: 11.006519
A18: Trujillo | B18: Medium and Large (20 or more) | C18: 3.6975646 | F18: 9 | G18: 5.6388125
A19: Trujillo | B19: Small and Medium (5 to 99) | L19: 17.576828
A20: Trujillo | B20: All sizes (5 or more) | H20: 22.294064
A21: Piura | B21: Small (5-19) | C21: 9.6361055 | G21: 33.863235 | H21: 11.536451 | I21: 125.94225 | K21: 20.516794
A22: Piura | B22: Medium (20-99) | C22: 5.4660945 | H22: 1.1326272 | I22: 26.949627
A23: Piura | B23: Large (100 or more) | C23: 2.7016158 | I23: 9
A24: Piura | B24: Medium and Large (20 or more) | F24: 3.1646626 | G24: 5.1921749

Sheet universe_median
A1: stratificationregionname | B1: stratificationsizename | C1: _Food | D1: _Textiles | E1: _Garments | F1: _Other_Mfg | G1: _Retail | H1: _Hotels | I1: _Other_Services | J1: _Garment_and_Other_Mfg | K1: _Textiles_Garment_and_Other_Mfg | L1: _Textiles_and_Garment | M1: _Grand_Total
A2: Lima | B2: Small (5-19) | C2: 328.67395 | D2: 156.58168 | E2: 229.29919 | F2: 1608.2185 | G2: 1296.1573 | H2: 232.97369 | I2: 6759.6606
A3: Lima | B3: Medium (20-99) | C3: 124.34509 | D3: 48.75349 | E3: 48.415436 | F3: 407.77969 | G3: 193.10466 | H3: 61.535767 | I3: 1795.6301
A4: Lima | B4: Large (100 or more) | C4: 120.41811 | D4: 35.073105 | E4: 34.879074 | F4: 218.98907 | G4: 75.688927 | H4: 22.04278 | I4: 661.36829
A5: Arequipa | B5: Small (5-19) | C5: 40.930069 | F5: 119.00419 | G5: 146.70293 | H5: 48.725464 | I5: 811.33844
A6: Arequipa | B6: Medium (20-99) | C6: 16.296518 | F6: 36.60548 | H6: 6.4538441 | I6: 138.14189
A7: Arequipa | B7: Large (100 or more) | C7: 5.9658871 | F7: 19.387568 | I7: 50.466557
A8: Arequipa | B8: Medium and Large (20 or more) | G8: 21.748379
A9: Arequipa | B9: All sizes (5 or more) | D9: 22.987499 | E9: 31.219351
A10: Chiclayo | B10: Small (5-19) | C10: 27.199379 | G10: 56.988121 | I10: 250.68343 | J10: 39.18597
A11: Chiclayo | B11: Medium (20-99) | F11: 6.4762144 | I11: 43.81768
A12: Chiclayo | B12: Large (100 or more) | F12: 2.5684052 | I12: 10.480217
A13: Chiclayo | B13: Medium and Large (20 or more) | C13: 12.379356 | G13: 7.9963112
A14: Chiclayo | B14: Small and Medium (5 to 99) | H14: 25.067873
A15: Trujillo | B15: Small (5-19) | C15: 21.918547 | F15: 70.592735 | G15: 93.255539 | I15: 579.81036
A16: Trujillo | B16: Medium (20-99) | I16: 111.89153
A17: Trujillo | B17: Large (100 or more) | I17: 28.026398
A18: Trujillo | B18: Medium and Large (20 or more) | C18: 11.3092 | F18: 19.355249 | G18: 14.592042
A19: Trujillo | B19: Small and Medium (5 to 99) | L19: 10.421406
A20: Trujillo | B20: All sizes (5 or more) | H20: 43.973389
A21: Piura | B21: Small (5-19) | C21: 27.328049 | G21: 88.117142 | H21: 25.806311 | I21: 333.61911 | K21: 30.7323
A22: Piura | B22: Medium (20-99) | C22: 13.76375 | H22: 2.2495377 | I22: 63.384743
A23: Piura | B23: Large (100 or more) | C23: 11.112096 | I23: 16.580246
A24: Piura | B24: Medium and Large (20 or more) | F24: 8.3723707 | G24: 13.157698

Sheet universe_weak
A1: stratificationregionname | B1: stratificationsizename | C1: _Food | D1: _Textiles | E1: _Garments | F1: _Other_Mfg | G1: _Retail | H1: _Hotels | I1: _Other_Services | J1: _Garment_and_Other_Mfg | K1: _Textiles_Garment_and_Other_Mfg | L1: _Textiles_and_Garment | M1: _Grand_Total
A2: Lima | B2: Small (5-19) | C2: 566.60516 | D2: 289.77563 | E2: 521.70807 | F2: 3314.8489 | G2: 2692.4351 | H2: 386.28256 | I2: 14173.832
A3: Lima | B3: Medium (20-99) | C3: 184.5161 | D3: 77.663521 | E3: 94.819855 | F3: 723.21527 | G3: 344.03403 | H3: 87.824608 | I3: 3240.9297
A4: Lima | B4: Large (100 or more) | C4: 144.2858 | D4: 45.114044 | E4: 55.157745 | F4: 313.73111 | G4: 109.27893 | H4: 25.402771 | I4: 963.87854
A5: Arequipa | B5: Small (5-19) | C5: 63.27446 | F5: 219.96404 | G5: 273.27328 | H5: 72.447769 | I5: 1525.5808
A6: Arequipa | B6: Medium (20-99) | C6: 21.685587 | F6: 58.110531 | H6: 8.2599583 | I6: 223.58823
A7: Arequipa | B7: Large (100 or more) | C7: 6.4102888 | F7: 24.907452 | I7: 65.955864
A8: Arequipa | B8: Medium and Large (20 or more) | G8: 28.938143
A9: Arequipa | B9: All sizes (5 or more) | D9: 23.45048 | E9: 39.187191
A10: Chiclayo | B10: Small (5-19) | C10: 55.49971 | G10: 139.96419 | I10: 622.16345 | J10: 88.777763
A11: Chiclayo | B11: Medium (20-99) | F11: 13.600245 | I11: 92.575974
A12: Chiclayo | B12: Large (100 or more) | F12: 4.3552718 | I12: 18.078634
A13: Chiclayo | B13: Medium and Large (20 or more) | C13: 18.043266 | G13: 13.416418
A14: Chiclayo | B14: Small and Medium (5 to 99) | H14: 35.954079
A15: Trujillo | B15: Small (5-19) | C15: 48.013607 | F15: 184.89107 | G15: 246.14983 | I15: 1544.8475
A16: Trujillo | B16: Medium (20-99) | I16: 256.6181
A17: Trujillo | B17: Large (100 or more) | I17: 51.901928
A18: Trujillo | B18: Medium and Large (20 or more) | C18: 17.695786 | F18: 36.210968 | G18: 27.51227
A19: Trujillo | B19: Small and Medium (5 to 99) | L19: 10.782674
A20: Trujillo | B20: All sizes (5 or more) | H20: 56.950001
A21: Piura | B21: Small (5-19) | C21: 55.702404 | G21: 216.42035 | H21: 50.591114 | I21: 827.11029 | K21: 96.874352
A22: Piura | B22: Medium (20-99) | C22: 24.148628 | H22: 3.7960503 | I22: 135.26569
A23: Piura | B23: Large (100 or more) | C23: 15.74265 | I23: 28.570641
A24: Piura | B24: Medium and Large (20 or more) | F24: 14.5748 | G24: 23.083572

Sheet item response
A1: Survey | B1: Cell | C1: Name | D1: rr_d2 | E1: rr_l1 | F1: rr_n2a | G1: rr_TFP
A2: Peru 2023 | B2: Fresh/Panel | C2: Fresh | D2: 0.94753575 | E2: 1 | F2: 0.83147854 | G2: 0.69166666
A3: Peru 2023 | B3: Fresh/Panel | C3: Panel | D3: 0.95810056 | E3: 1 | F3: 0.85195529 | G3: 0.73459715
A4: Peru 2023 | B4: Size | C4: Small (5-19) | D4: 0.94405591 | E4: 1 | F4: 0.85314685 | G4: 0.74712646
A5: Peru 2023 | B5: Size | C5: Medium (20-99) | D5: 0.96619719 | E5: 1 | F5: 0.85915494 | G5: 0.73333335
A6: Peru 2023 | B6: Size | C6: Large (100+) | D6: 0.94088668 | E6: 1 | F6: 0.773399 | G6: 0.625
A7: Peru 2023 | B7: Region | C7: Lima | D7: 0.94266057 | E7: 1 | F7: 0.83486241 | G7: 0.7056604
A8: Peru 2023 | B8: Region | C8: Arequipa | D8: 0.96590906 | E8: 1 | F8: 0.84090906 | G8: 0.71428573
A9: Peru 2023 | B9: Region | C9: Chiclayo | D9: 0.96428573 | E9: 1 | F9: 0.84821427 | G9: 0.63636363
A10: Peru 2023 | B10: Region | C10: Trujillo | D10: 0.93548387 | E10: 1 | F10: 0.86451614 | G10: 0.75
A11: Peru 2023 | B11: Region | C11: Piura | D11: 0.97222221 | E11: 1 | F11: 0.80555558 | G11: 0.78571427
A12: Peru 2023 | B12: Sector | C12: Food | D12: 0.95495498 | E12: 1 | F12: 0.76576579 | G12: 0.72072071
A13: Peru 2023 | B13: Sector | C13: Garments | D13: 0.93055558 | E13: 1 | F13: 0.8611111 | G13: 0.72222221
A14: Peru 2023 | B14: Sector | C14: Hotels | D14: 0.8888889 | E14: 1 | F14: 0.85185188
A15: Peru 2023 | B15: Sector | C15: Other Manufacturing | D15: 0.97368419 | E15: 1 | F15: 0.82456142 | G15: 0.69736844
A16: Peru 2023 | B16: Sector | C16: Other Services | D16: 0.94999999 | E16: 1 | F16: 0.86000001 | G16: 0
A17: Peru 2023 | B17: Sector | C17: Retail | D17: 0.95512819 | E17: 1 | F17: 0.85897434
A18: Peru 2023 | B18: Sector | C18: Textiles | D18: 0.97435898 | E18: 1 | F18: 0.82051283 | G18: 0.76923078
A19: Peru 2023 | B19: Peru 2023 | C19: Peru 2023 | D19: 0.9513678 | E19: 1 | F19: 0.83890575 | G19: 0.71175164
