Workbook

Sheet Table 1 Universe
C1: =RIGHT(SUBSTITUTE(universe!C1,"_"," "),LEN(SUBSTITUTE(universe!C1,"_"," "))-1) -> Food | D1: =RIGHT(SUBSTITUTE(universe!D1,"_"," "),LEN(SUBSTITUTE(universe!D1,"_"," "))-1) -> Garments | E1: =RIGHT(SUBSTITUTE(universe!E1,"_"," "),LEN(SUBSTITUTE(universe!E1,"_"," "))-1) -> Fabricated Metal Products | F1: =RIGHT(SUBSTITUTE(universe!F1,"_"," "),LEN(SUBSTITUTE(universe!F1,"_"," "))-1) -> Other Manufacturing | G1: =RIGHT(SUBSTITUTE(universe!G1,"_"," "),LEN(SUBSTITUTE(universe!G1,"_"," "))-1) -> Construction | H1: =RIGHT(SUBSTITUTE(universe!H1,"_"," "),LEN(SUBSTITUTE(universe!H1,"_"," "))-1) -> Retail | I1: =RIGHT(SUBSTITUTE(universe!I1,"_"," "),LEN(SUBSTITUTE(universe!I1,"_"," "))-1) -> Hotels | J1: =RIGHT(SUBSTITUTE(universe!J1,"_"," "),LEN(SUBSTITUTE(universe!J1,"_"," "))-1) -> Other Services | K1: =RIGHT(SUBSTITUTE(universe!K1,"_"," "),LEN(SUBSTITUTE(universe!K1,"_"," "))-1) -> Grand Total
A2: =universe!A2 -> North | B2: =LEFT(universe!B2,FIND(")",universe!B2)) -> Small (5-19) | C2: =universe!C2 -> 709 | D2: =universe!D2 -> 1457 | E2: =universe!E2 -> 1191 | F2: =universe!F2 -> 4094 | G2: =universe!G2 -> 4942 | H2: =universe!H2 -> 3575 | I2: =universe!I2 -> 365 | J2: =universe!J2 -> 11108 | K2: =SUM(C2:J4) -> 35081
A3: =universe!A3 -> North | B3: =LEFT(universe!B3,FIND(")",universe!B3)) -> Medium (20-99) | C3: =universe!C3 -> 170 | D3: =universe!D3 -> 812 | E3: =universe!E3 -> 383 | F3: =universe!F3 -> 1878 | G3: =universe!G3 -> 1060 | H3: =universe!H3 -> 433 | I3: =universe!I3 -> 112 | J3: =universe!J3 -> 1820
A4: =universe!A4 -> North | B4: =LEFT(universe!B4,FIND(")",universe!B4)) -> Large (100-199) | C4: =universe!C4 -> 42 | D4: =universe!D4 -> 105 | E4: =universe!E4 -> 62 | F4: =universe!F4 -> 376 | G4: =universe!G4 -> 98 | H4: =universe!H4 -> 63 | I4: =universe!I4 -> 11 | J4: =universe!J4 -> 215
A5: =universe!A5 -> Algarve | B5: =LEFT(universe!B5,FIND(")",universe!B5)) -> Small (5-19) | C5: =universe!C5 -> 92 | D5: =universe!D5 -> 3 | E5: =universe!E5 -> 54 | F5: =universe!F5 -> 126 | G5: =universe!G5 -> 821 | H5: =universe!H5 -> 589 | I5: =universe!I5 -> 228 | J5: =universe!J5 -> 2017 | K5: =SUM(C5:J7) -> 4590
A6: =universe!A6 -> Algarve | B6: =LEFT(universe!B6,FIND(")",universe!B6)) -> Medium (20-99) | C6: =universe!C6 -> 22 | D6: =universe!D6 -> 0 | E6: =universe!E6 -> 5 | F6: =universe!F6 -> 17 | G6: =universe!G6 -> 120 | H6: =universe!H6 -> 79 | I6: =universe!I6 -> 98 | J6: =universe!J6 -> 259
A7: =universe!A7 -> Algarve | B7: =LEFT(universe!B7,FIND(")",universe!B7)) -> Large (100-199) | C7: =universe!C7 -> 0 | D7: =universe!D7 -> 0 | E7: =universe!E7 -> 0 | F7: =universe!F7 -> 0 | G7: =universe!G7 -> 5 | H7: =universe!H7 -> 6 | I7: =universe!I7 -> 33 | J7: =universe!J7 -> 16
A8: =universe!A8 -> Center | B8: =LEFT(universe!B8,FIND(")",universe!B8)) -> Small (5-19) | C8: =universe!C8 -> 609 | D8: =universe!D8 -> 50 | E8: =universe!E8 -> 835 | F8: =universe!F8 -> 1538 | G8: =universe!G8 -> 2727 | H8: =universe!H8 -> 2359 | I8: =universe!I8 -> 272 | J8: =universe!J8 -> 6568 | K8: =SUM(C8:J10) -> 18695
A9: =universe!A9 -> Center | B9: =LEFT(universe!B9,FIND(")",universe!B9)) -> Medium (20-99) | C9: =universe!C9 -> 221 | D9: =universe!D9 -> 48 | E9: =universe!E9 -> 337 | F9: =universe!F9 -> 774 | G9: =universe!G9 -> 420 | H9: =universe!H9 -> 329 | I9: =universe!I9 -> 87 | J9: =universe!J9 -> 1007
A10: =universe!A10 -> Center | B10: =LEFT(universe!B10,FIND(")",universe!B10)) -> Large (100-199) | C10: =universe!C10 -> 49 | D10: =universe!D10 -> 21 | E10: =universe!E10 -> 50 | F10: =universe!F10 -> 223 | G10: =universe!G10 -> 32 | H10: =universe!H10 -> 14 | I10: =universe!I10 -> 4 | J10: =universe!J10 -> 121
A11: =universe!A11 -> Lisbon Metropolitan Area | B11: =LEFT(universe!B11,FIND(")",universe!B11)) -> Small (5-19) | C11: =universe!C11 -> 248 | D11: =universe!D11 -> 22 | E11: =universe!E11 -> 322 | F11: =universe!F11 -> 939 | G11: =universe!G11 -> 2806 | H11: =universe!H11 -> 2590 | I11: =universe!I11 -> 424 | J11: =universe!J11 -> 10344 | K11: =SUM(C11:J13) -> 22493
A12: =universe!A12 -> Lisbon Metropolitan Area | B12: =LEFT(universe!B12,FIND(")",universe!B12)) -> Medium (20-99) | C12: =universe!C12 -> 132 | D12: =universe!D12 -> 10 | E12: =universe!E12 -> 84 | F12: =universe!F12 -> 345 | G12: =universe!G12 -> 547 | H12: =universe!H12 -> 404 | I12: =universe!I12 -> 206 | J12: =universe!J12 -> 2248
A13: =universe!A13 -> Lisbon Metropolitan Area | B13: =LEFT(universe!B13,FIND(")",universe!B13)) -> Large (100-199) | C13: =universe!C13 -> 33 | D13: =universe!D13 -> 1 | E13: =universe!E13 -> 9 | F13: =universe!F13 -> 111 | G13: =universe!G13 -> 75 | H13: =universe!H13 -> 104 | I13: =universe!I13 -> 37 | J13: =universe!J13 -> 452
A14: =universe!A14 -> Alentejo | B14: =LEFT(universe!B14,FIND(")",universe!B14)) -> Small (5-19) | C14: =universe!C14 -> 230 | D14: =universe!D14 -> 4 | E14: =universe!E14 -> 70 | F14: =universe!F14 -> 275 | G14: =universe!G14 -> 590 | H14: =universe!H14 -> 659 | I14: =universe!I14 -> 110 | J14: =universe!J14 -> 1697 | K14: =SUM(C14:J16) -> 4383
A15: =universe!A15 -> Alentejo | B15: =LEFT(universe!B15,FIND(")",universe!B15)) -> Medium (20-99) | C15: =universe!C15 -> 81 | D15: =universe!D15 -> 0 | E15: =universe!E15 -> 21 | F15: =universe!F15 -> 115 | G15: =universe!G15 -> 86 | H15: =universe!H15 -> 105 | I15: =universe!I15 -> 28 | J15: =universe!J15 -> 218
A16: =universe!A16 -> Alentejo | B16: =LEFT(universe!B16,FIND(")",universe!B16)) -> Large (100-199) | C16: =universe!C16 -> 16 | D16: =universe!D16 -> 1 | E16: =universe!E16 -> 1 | F16: =universe!F16 -> 37 | G16: =universe!G16 -> 8 | H16: =universe!H16 -> 3 | I16: =universe!I16 -> 4 | J16: =universe!J16 -> 24
A17: =universe!A17 -> Autonomous Region of the Azores | B17: =LEFT(universe!B17,FIND(")",universe!B17)) -> Small (5-19) | C17: =universe!C17 -> 56 | D17: =universe!D17 -> 0 | E17: =universe!E17 -> 30 | F17: =universe!F17 -> 62 | G17: =universe!G17 -> 189 | H17: =universe!H17 -> 293 | I17: =universe!I17 -> 63 | J17: =universe!J17 -> 561 | K17: =SUM(C17:J19) -> 1608
A18: =universe!A18 -> Autonomous Region of the Azores | B18: =LEFT(universe!B18,FIND(")",universe!B18)) -> Medium (20-99) | C18: =universe!C18 -> 31 | D18: =universe!D18 -> 0 | E18: =universe!E18 -> 5 | F18: =universe!F18 -> 13 | G18: =universe!G18 -> 79 | H18: =universe!H18 -> 41 | I18: =universe!I18 -> 23 | J18: =universe!J18 -> 122
A19: =universe!A19 -> Autonomous Region of the Azores | B19: =LEFT(universe!B19,FIND(")",universe!B19)) -> Large (100-199) | C19: =universe!C19 -> 11 | D19: =universe!D19 -> 0 | E19: =universe!E19 -> 1 | F19: =universe!F19 -> 1 | G19: =universe!G19 -> 2 | H19: =universe!H19 -> 8 | I19: =universe!I19 -> 8 | J19: =universe!J19 -> 9
A20: =universe!A20 -> Autonomous Region of Madeira | B20: =LEFT(universe!B20,FIND(")",universe!B20)) -> Small (5-19) | C20: =universe!C20 -> 57 | D20: =universe!D20 -> 2 | E20: =universe!E20 -> 23 | F20: =universe!F20 -> 71 | G20: =universe!G20 -> 261 | H20: =universe!H20 -> 263 | I20: =universe!I20 -> 56 | J20: =universe!J20 -> 759 | K20: =SUM(C20:J22) -> 1869
A21: =universe!A21 -> Autonomous Region of Madeira | B21: =LEFT(universe!B21,FIND(")",universe!B21)) -> Medium (20-99) | C21: =universe!C21 -> 17 | D21: =universe!D21 -> 0 | E21: =universe!E21 -> 7 | F21: =universe!F21 -> 15 | G21: =universe!G21 -> 67 | H21: =universe!H21 -> 34 | I21: =universe!I21 -> 57 | J21: =universe!J21 -> 141
A22: =universe!A22 -> Autonomous Region of Madeira | B22: =LEFT(universe!B22,FIND(")",universe!B22)) -> Large (100-199) | C22: =universe!C22 -> 1 | D22: =universe!D22 -> 0 | E22: =universe!E22 -> 1 | F22: =universe!F22 -> 1 | G22: =universe!G22 -> 8 | H22: =universe!H22 -> 3 | I22: =universe!I22 -> 14 | J22: =universe!J22 -> 11
C23: =SUM(C2:C22) -> 2827 | D23: =SUM(D2:D22) -> 2536 | E23: =SUM(E2:E22) -> 3491 | F23: =SUM(F2:F22) -> 11011 | G23: =SUM(G2:G22) -> 14943 | H23: =SUM(H2:H22) -> 11954 | I23: =SUM(I2:I22) -> 2240 | J23: =SUM(J2:J22) -> 39717 | K23: =SUM(K2:K21) -> 88719
A24: Source: INEI business registry February 2023

Sheet Table 2 Frame
C1: =RIGHT(SUBSTITUTE('frame fresh and panel'!C1,"_"," "),LEN(SUBSTITUTE('frame fresh and panel'!C1,"_"," "))-1) -> Food | D1: =RIGHT(SUBSTITUTE('frame fresh and panel'!D1,"_"," "),LEN(SUBSTITUTE('frame fresh and panel'!D1,"_"," "))-1) -> Garments | E1: =RIGHT(SUBSTITUTE('frame fresh and panel'!E1,"_"," "),LEN(SUBSTITUTE('frame fresh and panel'!E1,"_"," "))-1) -> Fabricated Metal Products | F1: =RIGHT(SUBSTITUTE('frame fresh and panel'!F1,"_"," "),LEN(SUBSTITUTE('frame fresh and panel'!F1,"_"," "))-1) -> Other Manufacturing | G1: =RIGHT(SUBSTITUTE('frame fresh and panel'!G1,"_"," "),LEN(SUBSTITUTE('frame fresh and panel'!G1,"_"," "))-1) -> Construction | H1: =RIGHT(SUBSTITUTE('frame fresh and panel'!H1,"_"," "),LEN(SUBSTITUTE('frame fresh and panel'!H1,"_"," "))-1) -> Retail | I1: =RIGHT(SUBSTITUTE('frame fresh and panel'!I1,"_"," "),LEN(SUBSTITUTE('frame fresh and panel'!I1,"_"," "))-1) -> Hotels | J1: =RIGHT(SUBSTITUTE('frame fresh and panel'!J1,"_"," "),LEN(SUBSTITUTE('frame fresh and panel'!J1,"_"," "))-1) -> Other Services | K1: =RIGHT(SUBSTITUTE('frame fresh and panel'!K1,"_"," "),LEN(SUBSTITUTE('frame fresh and panel'!K1,"_"," "))-1) -> Grand Total
A2: ='frame fresh and panel'!A2 -> North | B2: =LEFT('frame fresh and panel'!B2,FIND(")",'frame fresh and panel'!B2)) -> Small (5-19) | C2: ='frame fresh and panel'!C2 -> 643 | D2: ='frame fresh and panel'!D2 -> 1357 | E2: ='frame fresh and panel'!E2 -> 1200 | F2: ='frame fresh and panel'!F2 -> 3965 | G2: ='frame fresh and panel'!G2 -> 4931 | H2: ='frame fresh and panel'!H2 -> 3503 | I2: ='frame fresh and panel'!I2 -> 354 | J2: ='frame fresh and panel'!J2 -> 10749 | K2: =SUM(C2:J4) -> 34476
A3: ='frame fresh and panel'!A3 -> North | B3: =LEFT('frame fresh and panel'!B3,FIND(")",'frame fresh and panel'!B3)) -> Medium (20-99) | C3: ='frame fresh and panel'!C3 -> 175 | D3: ='frame fresh and panel'!D3 -> 794 | E3: ='frame fresh and panel'!E3 -> 396 | F3: ='frame fresh and panel'!F3 -> 1914 | G3: ='frame fresh and panel'!G3 -> 1102 | H3: ='frame fresh and panel'!H3 -> 438 | I3: ='frame fresh and panel'!I3 -> 100 | J3: ='frame fresh and panel'!J3 -> 1800
A4: ='frame fresh and panel'!A4 -> North | B4: =LEFT('frame fresh and panel'!B4,FIND(")",'frame fresh and panel'!B4)) -> Large (100 or more) | C4: ='frame fresh and panel'!C4 -> 45 | D4: ='frame fresh and panel'!D4 -> 115 | E4: ='frame fresh and panel'!E4 -> 67 | F4: ='frame fresh and panel'!F4 -> 392 | G4: ='frame fresh and panel'!G4 -> 99 | H4: ='frame fresh and panel'!H4 -> 64 | I4: ='frame fresh and panel'!I4 -> 13 | J4: ='frame fresh and panel'!J4 -> 260
A5: ='frame fresh and panel'!A5 -> Algarve | B5: =LEFT('frame fresh and panel'!B5,FIND(")",'frame fresh and panel'!B5)) -> Small (5-19) | C5: ='frame fresh and panel'!C5 -> 77 | D5: ='frame fresh and panel'!D5 -> 2 | E5: ='frame fresh and panel'!E5 -> 61 | F5: ='frame fresh and panel'!F5 -> 132 | G5: ='frame fresh and panel'!G5 -> 802 | H5: ='frame fresh and panel'!H5 -> 573 | I5: ='frame fresh and panel'!I5 -> 217 | J5: ='frame fresh and panel'!J5 -> 1814 | K5: =SUM(C5:J7) -> 4342
A6: ='frame fresh and panel'!A6 -> Algarve | B6: =LEFT('frame fresh and panel'!B6,FIND(")",'frame fresh and panel'!B6)) -> Medium (20-99) | C6: ='frame fresh and panel'!C6 -> 25 | D6: ='frame fresh and panel'!D6 -> 0 | E6: ='frame fresh and panel'!E6 -> 5 | F6: ='frame fresh and panel'!F6 -> 22 | G6: ='frame fresh and panel'!G6 -> 115 | H6: ='frame fresh and panel'!H6 -> 81 | I6: ='frame fresh and panel'!I6 -> 110 | J6: ='frame fresh and panel'!J6 -> 239
A7: ='frame fresh and panel'!A7 -> Algarve | B7: =LEFT('frame fresh and panel'!B7,FIND(")",'frame fresh and panel'!B7)) -> Large (100 or more) | C7: ='frame fresh and panel'!C7 -> 0 | D7: ='frame fresh and panel'!D7 -> 0 | E7: ='frame fresh and panel'!E7 -> 0 | F7: ='frame fresh and panel'!F7 -> 2 | G7: ='frame fresh and panel'!G7 -> 6 | H7: ='frame fresh and panel'!H7 -> 7 | I7: ='frame fresh and panel'!I7 -> 35 | J7: ='frame fresh and panel'!J7 -> 17
A8: ='frame fresh and panel'!A8 -> Center | B8: =LEFT('frame fresh and panel'!B8,FIND(")",'frame fresh and panel'!B8)) -> Small (5-19) | C8: ='frame fresh and panel'!C8 -> 561 | D8: ='frame fresh and panel'!D8 -> 53 | E8: ='frame fresh and panel'!E8 -> 823 | F8: ='frame fresh and panel'!F8 -> 1507 | G8: ='frame fresh and panel'!G8 -> 2596 | H8: ='frame fresh and panel'!H8 -> 2281 | I8: ='frame fresh and panel'!I8 -> 271 | J8: ='frame fresh and panel'!J8 -> 6384 | K8: =SUM(C8:J10) -> 18231
A9: ='frame fresh and panel'!A9 -> Center | B9: =LEFT('frame fresh and panel'!B9,FIND(")",'frame fresh and panel'!B9)) -> Medium (20-99) | C9: ='frame fresh and panel'!C9 -> 213 | D9: ='frame fresh and panel'!D9 -> 46 | E9: ='frame fresh and panel'!E9 -> 335 | F9: ='frame fresh and panel'!F9 -> 797 | G9: ='frame fresh and panel'!G9 -> 440 | H9: ='frame fresh and panel'!H9 -> 306 | I9: ='frame fresh and panel'!I9 -> 72 | J9: ='frame fresh and panel'!J9 -> 999
A10: ='frame fresh and panel'!A10 -> Center | B10: =LEFT('frame fresh and panel'!B10,FIND(")",'frame fresh and panel'!B10)) -> Large (100 or more) | C10: ='frame fresh and panel'!C10 -> 52 | D10: ='frame fresh and panel'!D10 -> 26 | E10: ='frame fresh and panel'!E10 -> 53 | F10: ='frame fresh and panel'!F10 -> 234 | G10: ='frame fresh and panel'!G10 -> 33 | H10: ='frame fresh and panel'!H10 -> 15 | I10: ='frame fresh and panel'!I10 -> 3 | J10: ='frame fresh and panel'!J10 -> 131
A11: ='frame fresh and panel'!A11 -> Lisbon Metropolitan Area | B11: =LEFT('frame fresh and panel'!B11,FIND(")",'frame fresh and panel'!B11)) -> Small (5-19) | C11: ='frame fresh and panel'!C11 -> 220 | D11: ='frame fresh and panel'!D11 -> 21 | E11: ='frame fresh and panel'!E11 -> 325 | F11: ='frame fresh and panel'!F11 -> 901 | G11: ='frame fresh and panel'!G11 -> 2675 | H11: ='frame fresh and panel'!H11 -> 2495 | I11: ='frame fresh and panel'!I11 -> 389 | J11: ='frame fresh and panel'!J11 -> 9549 | K11: =SUM(C11:J13) -> 21381
A12: ='frame fresh and panel'!A12 -> Lisbon Metropolitan Area | B12: =LEFT('frame fresh and panel'!B12,FIND(")",'frame fresh and panel'!B12)) -> Medium (20-99) | C12: ='frame fresh and panel'!C12 -> 122 | D12: ='frame fresh and panel'!D12 -> 11 | E12: ='frame fresh and panel'!E12 -> 91 | F12: ='frame fresh and panel'!F12 -> 335 | G12: ='frame fresh and panel'!G12 -> 574 | H12: ='frame fresh and panel'!H12 -> 400 | I12: ='frame fresh and panel'!I12 -> 192 | J12: ='frame fresh and panel'!J12 -> 2225
A13: ='frame fresh and panel'!A13 -> Lisbon Metropolitan Area | B13: =LEFT('frame fresh and panel'!B13,FIND(")",'frame fresh and panel'!B13)) -> Large (100 or more) | C13: ='frame fresh and panel'!C13 -> 33 | D13: ='frame fresh and panel'!D13 -> 3 | E13: ='frame fresh and panel'!E13 -> 14 | F13: ='frame fresh and panel'!F13 -> 120 | G13: ='frame fresh and panel'!G13 -> 81 | H13: ='frame fresh and panel'!H13 -> 92 | I13: ='frame fresh and panel'!I13 -> 38 | J13: ='frame fresh and panel'!J13 -> 475
A14: ='frame fresh and panel'!A14 -> Alentejo | B14: =LEFT('frame fresh and panel'!B14,FIND(")",'frame fresh and panel'!B14)) -> Small (5-19) | C14: ='frame fresh and panel'!C14 -> 204 | D14: ='frame fresh and panel'!D14 -> 4 | E14: ='frame fresh and panel'!E14 -> 73 | F14: ='frame fresh and panel'!F14 -> 295 | G14: ='frame fresh and panel'!G14 -> 555 | H14: ='frame fresh and panel'!H14 -> 613 | I14: ='frame fresh and panel'!I14 -> 116 | J14: ='frame fresh and panel'!J14 -> 1632 | K14: =SUM(C14:J16) -> 4263
A15: ='frame fresh and panel'!A15 -> Alentejo | B15: =LEFT('frame fresh and panel'!B15,FIND(")",'frame fresh and panel'!B15)) -> Medium (20-99) | C15: ='frame fresh and panel'!C15 -> 75 | D15: ='frame fresh and panel'!D15 -> 1 | E15: ='frame fresh and panel'!E15 -> 25 | F15: ='frame fresh and panel'!F15 -> 117 | G15: ='frame fresh and panel'!G15 -> 95 | H15: ='frame fresh and panel'!H15 -> 111 | I15: ='frame fresh and panel'!I15 -> 27 | J15: ='frame fresh and panel'!J15 -> 227
A16: ='frame fresh and panel'!A16 -> Alentejo | B16: =LEFT('frame fresh and panel'!B16,FIND(")",'frame fresh and panel'!B16)) -> Large (100 or more) | C16: ='frame fresh and panel'!C16 -> 16 | D16: ='frame fresh and panel'!D16 -> 1 | E16: ='frame fresh and panel'!E16 -> 2 | F16: ='frame fresh and panel'!F16 -> 36 | G16: ='frame fresh and panel'!G16 -> 7 | H16: ='frame fresh and panel'!H16 -> 0 | I16: ='frame fresh and panel'!I16 -> 4 | J16: ='frame fresh and panel'!J16 -> 27
A17: ='frame fresh and panel'!A17 -> Autonomous Region of the Azores | B17: =LEFT('frame fresh and panel'!B17,FIND(")",'frame fresh and panel'!B17)) -> Small (5-19) | C17: ='frame fresh and panel'!C17 -> 44 | D17: ='frame fresh and panel'!D17 -> 0 | E17: ='frame fresh and panel'!E17 -> 30 | F17: ='frame fresh and panel'!F17 -> 59 | G17: ='frame fresh and panel'!G17 -> 191 | H17: ='frame fresh and panel'!H17 -> 251 | I17: ='frame fresh and panel'!I17 -> 58 | J17: ='frame fresh and panel'!J17 -> 572 | K17: =SUM(C17:J19) -> 1558
A18: ='frame fresh and panel'!A18 -> Autonomous Region of the Azores | B18: =LEFT('frame fresh and panel'!B18,FIND(")",'frame fresh and panel'!B18)) -> Medium (20-99) | C18: ='frame fresh and panel'!C18 -> 30 | D18: ='frame fresh and panel'!D18 -> 0 | E18: ='frame fresh and panel'!E18 -> 7 | F18: ='frame fresh and panel'!F18 -> 16 | G18: ='frame fresh and panel'!G18 -> 72 | H18: ='frame fresh and panel'!H18 -> 38 | I18: ='frame fresh and panel'!I18 -> 26 | J18: ='frame fresh and panel'!J18 -> 118
A19: ='frame fresh and panel'!A19 -> Autonomous Region of the Azores | B19: =LEFT('frame fresh and panel'!B19,FIND(")",'frame fresh and panel'!B19)) -> Large (100 or more) | C19: ='frame fresh and panel'!C19 -> 8 | D19: ='frame fresh and panel'!D19 -> 0 | E19: ='frame fresh and panel'!E19 -> 1 | F19: ='frame fresh and panel'!F19 -> 2 | G19: ='frame fresh and panel'!G19 -> 5 | H19: ='frame fresh and panel'!H19 -> 10 | I19: ='frame fresh and panel'!I19 -> 8 | J19: ='frame fresh and panel'!J19 -> 12
A20: ='frame fresh and panel'!A20 -> Autonomous Region of Madeira | B20: =LEFT('frame fresh and panel'!B20,FIND(")",'frame fresh and panel'!B20)) -> Small (5-19) | C20: ='frame fresh and panel'!C20 -> 45 | D20: ='frame fresh and panel'!D20 -> 0 | E20: ='frame fresh and panel'!E20 -> 27 | F20: ='frame fresh and panel'!F20 -> 81 | G20: ='frame fresh and panel'!G20 -> 256 | H20: ='frame fresh and panel'!H20 -> 272 | I20: ='frame fresh and panel'!I20 -> 57 | J20: ='frame fresh and panel'!J20 -> 821 | K20: =SUM(C20:J22) -> 1986
A21: ='frame fresh and panel'!A21 -> Autonomous Region of Madeira | B21: =LEFT('frame fresh and panel'!B21,FIND(")",'frame fresh and panel'!B21)) -> Medium (20-99) | C21: ='frame fresh and panel'!C21 -> 20 | D21: ='frame fresh and panel'!D21 -> 0 | E21: ='frame fresh and panel'!E21 -> 10 | F21: ='frame fresh and panel'!F21 -> 15 | G21: ='frame fresh and panel'!G21 -> 82 | H21: ='frame fresh and panel'!H21 -> 37 | I21: ='frame fresh and panel'!I21 -> 59 | J21: ='frame fresh and panel'!J21 -> 147
A22: ='frame fresh and panel'!A22 -> Autonomous Region of Madeira | B22: =LEFT('frame fresh and panel'!B22,FIND(")",'frame fresh and panel'!B22)) -> Large (100 or more) | C22: ='frame fresh and panel'!C22 -> 2 | D22: ='frame fresh and panel'!D22 -> 0 | E22: ='frame fresh and panel'!E22 -> 0 | F22: ='frame fresh and panel'!F22 -> 2 | G22: ='frame fresh and panel'!G22 -> 14 | H22: ='frame fresh and panel'!H22 -> 3 | I22: ='frame fresh and panel'!I22 -> 15 | J22: ='frame fresh and panel'!J22 -> 21
C23: =SUM(C2:C22) -> 2610 | D23: =SUM(D2:D22) -> 2434 | E23: =SUM(E2:E22) -> 3545 | F23: =SUM(F2:F22) -> 10944 | G23: =SUM(G2:G22) -> 14731 | H23: =SUM(H2:H22) -> 11590 | I23: =SUM(I2:I22) -> 2164 | J23: =SUM(J2:J22) -> 38219 | K23: =SUM(K2:K22) -> 86237
A24: Source: Bureau van Dijk

Sheet Table 3 Original Survey Design
C1: =RIGHT(SUBSTITUTE('original survey design'!C1,"_"," "),LEN(SUBSTITUTE('original survey design'!C1,"_"," "))-1) -> Food | D1: =RIGHT(SUBSTITUTE('original survey design'!D1,"_"," "),LEN(SUBSTITUTE('original survey design'!D1,"_"," "))-1) -> Garments | E1: =RIGHT(SUBSTITUTE('original survey design'!E1,"_"," "),LEN(SUBSTITUTE('original survey design'!E1,"_"," "))-1) -> Fabricated Metal Products | F1: =RIGHT(SUBSTITUTE('original survey design'!F1,"_"," "),LEN(SUBSTITUTE('original survey design'!F1,"_"," "))-1) -> Other Manufacturing | G1: =RIGHT(SUBSTITUTE('original survey design'!G1,"_"," "),LEN(SUBSTITUTE('original survey design'!G1,"_"," "))-1) -> Construction | H1: =RIGHT(SUBSTITUTE('original survey design'!H1,"_"," "),LEN(SUBSTITUTE('original survey design'!H1,"_"," "))-1) -> Retail | I1: =RIGHT(SUBSTITUTE('original survey design'!I1,"_"," "),LEN(SUBSTITUTE('original survey design'!I1,"_"," "))-1) -> Hotels | J1: =RIGHT(SUBSTITUTE('original survey design'!J1,"_"," "),LEN(SUBSTITUTE('original survey design'!J1,"_"," "))-1) -> Other Services | K1: =RIGHT(SUBSTITUTE('original survey design'!K1,"_"," "),LEN(SUBSTITUTE('original survey design'!K1,"_"," "))-1) -> Grand Total
A2: ='original survey design'!A2 -> North | B2: =LEFT('original survey design'!B2,FIND(")",'original survey design'!B2)) -> Small (5-19) | C2: ='original survey design'!C2 -> 4 | D2: ='original survey design'!D2 -> 19 | E2: ='original survey design'!E2 -> 5 | F2: ='original survey design'!F2 -> 18 | G2: ='original survey design'!G2 -> 17 | H2: ='original survey design'!H2 -> 11 | I2: ='original survey design'!I2 -> 2 | J2: ='original survey design'!J2 -> 29 | K2: =SUM(C2:J4) -> 210
A3: ='original survey design'!A3 -> North | B3: =LEFT('original survey design'!B3,FIND(")",'original survey design'!B3)) -> Medium (20-99) | C3: ='original survey design'!C3 -> 4 | D3: ='original survey design'!D3 -> 22 | E3: ='original survey design'!E3 -> 4 | F3: ='original survey design'!F3 -> 6 | G3: ='original survey design'!G3 -> 5 | H3: ='original survey design'!H3 -> 4 | I3: ='original survey design'!I3 -> 2 | J3: ='original survey design'!J3 -> 6
A4: ='original survey design'!A4 -> North | B4: =LEFT('original survey design'!B4,FIND(")",'original survey design'!B4)) -> Large (100-199) | C4: ='original survey design'!C4 -> 5 | D4: ='original survey design'!D4 -> 20 | E4: ='original survey design'!E4 -> 7 | F4: ='original survey design'!F4 -> 5 | G4: ='original survey design'!G4 -> 4 | H4: ='original survey design'!H4 -> 4 | I4: ='original survey design'!I4 -> 3 | J4: ='original survey design'!J4 -> 4
A5: ='original survey design'!A5 -> Algarve | B5: =LEFT('original survey design'!B5,FIND(")",'original survey design'!B5)) -> Small (5-19) | C5: ='original survey design'!C5 -> 8 | D5: ='original survey design'!D5 -> 2 | E5: ='original survey design'!E5 -> 10 | F5: ='original survey design'!F5 -> 4 | G5: ='original survey design'!G5 -> 2 | H5: ='original survey design'!H5 -> 5 | I5: ='original survey design'!I5 -> 4 | J5: ='original survey design'!J5 -> 7 | K5: =SUM(C5:J7) -> 120
A6: ='original survey design'!A6 -> Algarve | B6: =LEFT('original survey design'!B6,FIND(")",'original survey design'!B6)) -> Medium (20-99) | C6: ='original survey design'!C6 -> 10 | D6: ='original survey design'!D6 -> 0 | E6: ='original survey design'!E6 -> 3 | F6: ='original survey design'!F6 -> 8 | G6: ='original survey design'!G6 -> 3 | H6: ='original survey design'!H6 -> 11 | I6: ='original survey design'!I6 -> 16 | J6: ='original survey design'!J6 -> 4
A7: ='original survey design'!A7 -> Algarve | B7: =LEFT('original survey design'!B7,FIND(")",'original survey design'!B7)) -> Large (100-199) | C7: ='original survey design'!C7 -> 0 | D7: ='original survey design'!D7 -> 0 | E7: ='original survey design'!E7 -> 0 | F7: ='original survey design'!F7 -> 2 | G7: ='original survey design'!G7 -> 2 | H7: ='original survey design'!H7 -> 3 | I7: ='original survey design'!I7 -> 13 | J7: ='original survey design'!J7 -> 3
A8: ='original survey design'!A8 -> Center | B8: =LEFT('original survey design'!B8,FIND(")",'original survey design'!B8)) -> Small (5-19) | C8: ='original survey design'!C8 -> 4 | D8: ='original survey design'!D8 -> 10 | E8: ='original survey design'!E8 -> 9 | F8: ='original survey design'!F8 -> 6 | G8: ='original survey design'!G8 -> 9 | H8: ='original survey design'!H8 -> 9 | I8: ='original survey design'!I8 -> 2 | J8: ='original survey design'!J8 -> 21 | K8: =SUM(C8:J10) -> 180
A9: ='original survey design'!A9 -> Center | B9: =LEFT('original survey design'!B9,FIND(")",'original survey design'!B9)) -> Medium (20-99) | C9: ='original survey design'!C9 -> 7 | D9: ='original survey design'!D9 -> 16 | E9: ='original survey design'!E9 -> 6 | F9: ='original survey design'!F9 -> 7 | G9: ='original survey design'!G9 -> 3 | H9: ='original survey design'!H9 -> 4 | I9: ='original survey design'!I9 -> 2 | J9: ='original survey design'!J9 -> 5
A10: ='original survey design'!A10 -> Center | B10: =LEFT('original survey design'!B10,FIND(")",'original survey design'!B10)) -> Large (100-199) | C10: ='original survey design'!C10 -> 5 | D10: ='original survey design'!D10 -> 11 | E10: ='original survey design'!E10 -> 11 | F10: ='original survey design'!F10 -> 17 | G10: ='original survey design'!G10 -> 5 | H10: ='original survey design'!H10 -> 6 | I10: ='original survey design'!I10 -> 1 | J10: ='original survey design'!J10 -> 4
A11: ='original survey design'!A11 -> Lisbon Metropolitan Area | B11: =LEFT('original survey design'!B11,FIND(")",'original survey design'!B11)) -> Small (5-19) | C11: ='original survey design'!C11 -> 4 | D11: ='original survey design'!D11 -> 7 | E11: ='original survey design'!E11 -> 7 | F11: ='original survey design'!F11 -> 4 | G11: ='original survey design'!G11 -> 10 | H11: ='original survey design'!H11 -> 15 | I11: ='original survey design'!I11 -> 3 | J11: ='original survey design'!J11 -> 29 | K11: =SUM(C11:J13) -> 180
A12: ='original survey design'!A12 -> Lisbon Metropolitan Area | B12: =LEFT('original survey design'!B12,FIND(")",'original survey design'!B12)) -> Medium (20-99) | C12: ='original survey design'!C12 -> 4 | D12: ='original survey design'!D12 -> 5 | E12: ='original survey design'!E12 -> 6 | F12: ='original survey design'!F12 -> 5 | G12: ='original survey design'!G12 -> 2 | H12: ='original survey design'!H12 -> 5 | I12: ='original survey design'!I12 -> 5 | J12: ='original survey design'!J12 -> 10
A13: ='original survey design'!A13 -> Lisbon Metropolitan Area | B13: =LEFT('original survey design'!B13,FIND(")",'original survey design'!B13)) -> Large (100-199) | C13: ='original survey design'!C13 -> 7 | D13: ='original survey design'!D13 -> 2 | E13: ='original survey design'!E13 -> 5 | F13: ='original survey design'!F13 -> 16 | G13: ='original survey design'!G13 -> 8 | H13: ='original survey design'!H13 -> 7 | I13: ='original survey design'!I13 -> 8 | J13: ='original survey design'!J13 -> 6
A14: ='original survey design'!A14 -> Alentejo | B14: =LEFT('original survey design'!B14,FIND(")",'original survey design'!B14)) -> Small (5-19) | C14: ='original survey design'!C14 -> 8 | D14: ='original survey design'!D14 -> 3 | E14: ='original survey design'!E14 -> 11 | F14: ='original survey design'!F14 -> 4 | G14: ='original survey design'!G14 -> 2 | H14: ='original survey design'!H14 -> 6 | I14: ='original survey design'!I14 -> 2 | J14: ='original survey design'!J14 -> 6 | K14: =SUM(C14:J16) -> 120
A15: ='original survey design'!A15 -> Alentejo | B15: =LEFT('original survey design'!B15,FIND(")",'original survey design'!B15)) -> Medium (20-99) | C15: ='original survey design'!C15 -> 8 | D15: ='original survey design'!D15 -> 1 | E15: ='original survey design'!E15 -> 8 | F15: ='original survey design'!F15 -> 14 | G15: ='original survey design'!G15 -> 3 | H15: ='original survey design'!H15 -> 4 | I15: ='original survey design'!I15 -> 7 | J15: ='original survey design'!J15 -> 4
A16: ='original survey design'!A16 -> Alentejo | B16: =LEFT('original survey design'!B16,FIND(")",'original survey design'!B16)) -> Large (100-199) | C16: ='original survey design'!C16 -> 6 | D16: ='original survey design'!D16 -> 1 | E16: ='original survey design'!E16 -> 2 | F16: ='original survey design'!F16 -> 10 | G16: ='original survey design'!G16 -> 3 | H16: ='original survey design'!H16 -> 0 | I16: ='original survey design'!I16 -> 2 | J16: ='original survey design'!J16 -> 5
A17: ='original survey design'!A17 -> Autonomous Region of the Azores | B17: =LEFT('original survey design'!B17,FIND(")",'original survey design'!B17)) -> Small (5-19) | C17: ='original survey design'!C17 -> 8 | D17: ='original survey design'!D17 -> 0 | E17: ='original survey design'!E17 -> 9 | F17: ='original survey design'!F17 -> 9 | G17: ='original survey design'!G17 -> 3 | H17: ='original survey design'!H17 -> 7 | I17: ='original survey design'!I17 -> 12 | J17: ='original survey design'!J17 -> 4 | K17: =SUM(C17:J19) -> 120
A18: ='original survey design'!A18 -> Autonomous Region of the Azores | B18: =LEFT('original survey design'!B18,FIND(")",'original survey design'!B18)) -> Medium (20-99) | C18: ='original survey design'!C18 -> 11 | D18: ='original survey design'!D18 -> 0 | E18: ='original survey design'!E18 -> 3 | F18: ='original survey design'!F18 -> 8 | G18: ='original survey design'!G18 -> 13 | H18: ='original survey design'!H18 -> 4 | I18: ='original survey design'!I18 -> 6 | J18: ='original survey design'!J18 -> 3
A19: ='original survey design'!A19 -> Autonomous Region of the Azores | B19: =LEFT('original survey design'!B19,FIND(")",'original survey design'!B19)) -> Large (100-199) | C19: ='original survey design'!C19 -> 4 | D19: ='original survey design'!D19 -> 0 | E19: ='original survey design'!E19 -> 1 | F19: ='original survey design'!F19 -> 2 | G19: ='original survey design'!G19 -> 3 | H19: ='original survey design'!H19 -> 4 | I19: ='original survey design'!I19 -> 2 | J19: ='original survey design'!J19 -> 4
A20: ='original survey design'!A20 -> Autonomous Region of Madeira | B20: =LEFT('original survey design'!B20,FIND(")",'original survey design'!B20)) -> Small (5-19) | C20: ='original survey design'!C20 -> 4 | D20: ='original survey design'!D20 -> 1 | E20: ='original survey design'!E20 -> 9 | F20: ='original survey design'!F20 -> 8 | G20: ='original survey design'!G20 -> 4 | H20: ='original survey design'!H20 -> 5 | I20: ='original survey design'!I20 -> 12 | J20: ='original survey design'!J20 -> 6 | K20: =SUM(C20:J22) -> 120
A21: ='original survey design'!A21 -> Autonomous Region of Madeira | B21: =LEFT('original survey design'!B21,FIND(")",'original survey design'!B21)) -> Medium (20-99) | C21: ='original survey design'!C21 -> 7 | D21: ='original survey design'!D21 -> 0 | E21: ='original survey design'!E21 -> 4 | F21: ='original survey design'!F21 -> 5 | G21: ='original survey design'!G21 -> 16 | H21: ='original survey design'!H21 -> 4 | I21: ='original survey design'!I21 -> 12 | J21: ='original survey design'!J21 -> 5
A22: ='original survey design'!A22 -> Autonomous Region of Madeira | B22: =LEFT('original survey design'!B22,FIND(")",'original survey design'!B22)) -> Large (100-199) | C22: ='original survey design'!C22 -> 2 | D22: ='original survey design'!D22 -> 0 | E22: ='original survey design'!E22 -> 0 | F22: ='original survey design'!F22 -> 2 | G22: ='original survey design'!G22 -> 3 | H22: ='original survey design'!H22 -> 2 | I22: ='original survey design'!I22 -> 4 | J22: ='original survey design'!J22 -> 5
C23: =SUM(C2:C22) -> 120 | D23: =SUM(D2:D22) -> 120 | E23: =SUM(E2:E22) -> 120 | F23: =SUM(F2:F22) -> 160 | G23: =SUM(G2:G22) -> 120 | H23: =SUM(H2:H22) -> 120 | I23: =SUM(I2:I22) -> 120 | J23: =SUM(J2:J22) -> 170 | K23: =SUM(K2:K22) -> 1050

Sheet Table 4 Response Outcomes
D2: Totals | E2: Rates relative to total contacted
B3: Overall | C3: Contacts available in frame | D3: 86237
C4: Issued | D4: 6194
C5: Contacted | D5: 5992
B6: Screening phase | C6: Eligibles | D6: 3070 | E6: =D6/D$5 -> 0.5123498
C7: Screener refusals | D7: 139 | E7: =D7/D$5 -> 0.023197597
C8: Assumed eligibles | D8: 3210 | E8: =D8/D$5 -> 0.53571429
C9: Ineligible + out of target | D9: 196 | E9: =D9/D$5 -> 0.03271028
C10: Unobtainables | D10: 2586 | E10: =D10/D$5 -> 0.43157543
B11: Interview phase | C11: Interview refusals | D11: 1930 | E11: =D11/D$5 -> 0.32209613
B12: (only if eligible) | C12: Complete interviews | D12: 1007 | E12: =D12/D$5 -> 0.16805741

Sheet Table 5 Survey Yield Rates
C2: Stratification | D2: Yield | E2: Survey response rate | F2: Frame quality
B3: Panel | C3: Fresh | D3: =VLOOKUP($C3,'yield calculation'!$C:$F,2,FALSE) -> 0.141785 | E3: =VLOOKUP($C3,'yield calculation'!$C:$F,3,FALSE) -> 0.28185484 | F3: =VLOOKUP($C3,'yield calculation'!$C:$F,4,FALSE) -> 0.50304258
C4: Panel | D4: =VLOOKUP($C4,'yield calculation'!$C:$F,2,FALSE) -> 0.29001883 | E4: =VLOOKUP($C4,'yield calculation'!$C:$F,3,FALSE) -> 0.4219178 | F4: =VLOOKUP($C4,'yield calculation'!$C:$F,4,FALSE) -> 0.68738228
B5: Size | C5: Small (5-19) | D5: =VLOOKUP($C5,'yield calculation'!$C:$F,2,FALSE) -> 0.1518777 | E5: =VLOOKUP($C5,'yield calculation'!$C:$F,3,FALSE) -> 0.29771987 | F5: =VLOOKUP($C5,'yield calculation'!$C:$F,4,FALSE) -> 0.51013625
C6: Medium (20-99) | D6: =VLOOKUP($C6,'yield calculation'!$C:$F,2,FALSE) -> 0.17412399 | E6: =VLOOKUP($C6,'yield calculation'!$C:$F,3,FALSE) -> 0.32494971 | F6: =VLOOKUP($C6,'yield calculation'!$C:$F,4,FALSE) -> 0.53584903
C7: Large (100+) | D7: =VLOOKUP($C7,'yield calculation'!$C:$F,2,FALSE) -> 0.20124114 | E7: =VLOOKUP($C7,'yield calculation'!$C:$F,3,FALSE) -> 0.33333334 | F7: =VLOOKUP($C7,'yield calculation'!$C:$F,4,FALSE) -> 0.60372341
B8: Region | C8: North | D8: =VLOOKUP($C8,'yield calculation'!$C:$F,2,FALSE) -> 0.14700316 | E8: =VLOOKUP($C8,'yield calculation'!$C:$F,3,FALSE) -> 0.29568529 | F8: =VLOOKUP($C8,'yield calculation'!$C:$F,4,FALSE) -> 0.49716088
C9: Algarve | D9: =VLOOKUP($C9,'yield calculation'!$C:$F,2,FALSE) -> 0.1811723 | E9: =VLOOKUP($C9,'yield calculation'!$C:$F,3,FALSE) -> 0.31974921 | F9: =VLOOKUP($C9,'yield calculation'!$C:$F,4,FALSE) -> 0.56660748
C10: Center | D10: =VLOOKUP($C10,'yield calculation'!$C:$F,2,FALSE) -> 0.15407263 | E10: =VLOOKUP($C10,'yield calculation'!$C:$F,3,FALSE) -> 0.26929674 | F10: =VLOOKUP($C10,'yield calculation'!$C:$F,4,FALSE) -> 0.57212955
C11: Lisbon Metropolitan Area | D11: =VLOOKUP($C11,'yield calculation'!$C:$F,2,FALSE) -> 0.13201581 | E11: =VLOOKUP($C11,'yield calculation'!$C:$F,3,FALSE) -> 0.25692308 | F11: =VLOOKUP($C11,'yield calculation'!$C:$F,4,FALSE) -> 0.513834
C12: Alentejo | D12: =VLOOKUP($C12,'yield calculation'!$C:$F,2,FALSE) -> 0.17576791 | E12: =VLOOKUP($C12,'yield calculation'!$C:$F,3,FALSE) -> 0.30654761 | F12: =VLOOKUP($C12,'yield calculation'!$C:$F,4,FALSE) -> 0.57337886
C13: Autonomous Region of the Azores | D13: =VLOOKUP($C13,'yield calculation'!$C:$F,2,FALSE) -> 0.28018224 | E13: =VLOOKUP($C13,'yield calculation'!$C:$F,3,FALSE) -> 0.4522059 | F13: =VLOOKUP($C13,'yield calculation'!$C:$F,4,FALSE) -> 0.61958998
C14: Autonomous Region of Madeira | D14: =VLOOKUP($C14,'yield calculation'!$C:$F,2,FALSE) -> 0.22803739 | E14: =VLOOKUP($C14,'yield calculation'!$C:$F,3,FALSE) -> 0.46564886 | F14: =VLOOKUP($C14,'yield calculation'!$C:$F,4,FALSE) -> 0.48971963
B15: Sector | C15: Food | D15: =VLOOKUP($C15,'yield calculation'!$C:$F,2,FALSE) -> 0.19962686 | E15: =VLOOKUP($C15,'yield calculation'!$C:$F,3,FALSE) -> 0.36643836 | F15: =VLOOKUP($C15,'yield calculation'!$C:$F,4,FALSE) -> 0.54477614
C16: Garments | D16: =VLOOKUP($C16,'yield calculation'!$C:$F,2,FALSE) -> 0.12820514 | E16: =VLOOKUP($C16,'yield calculation'!$C:$F,3,FALSE) -> 0.25 | F16: =VLOOKUP($C16,'yield calculation'!$C:$F,4,FALSE) -> 0.51282054
C17: Fabricated Metal Products | D17: =VLOOKUP($C17,'yield calculation'!$C:$F,2,FALSE) -> 0.19130434 | E17: =VLOOKUP($C17,'yield calculation'!$C:$F,3,FALSE) -> 0.31884059 | F17: =VLOOKUP($C17,'yield calculation'!$C:$F,4,FALSE) -> 0.60000002
C18: Other Manufacturing | D18: =VLOOKUP($C18,'yield calculation'!$C:$F,2,FALSE) -> 0.19583844 | E18: =VLOOKUP($C18,'yield calculation'!$C:$F,3,FALSE) -> 0.33195022 | F18: =VLOOKUP($C18,'yield calculation'!$C:$F,4,FALSE) -> 0.58996326
C19: Construction | D19: =VLOOKUP($C19,'yield calculation'!$C:$F,2,FALSE) -> 0.15264423 | E19: =VLOOKUP($C19,'yield calculation'!$C:$F,3,FALSE) -> 0.34986225 | F19: =VLOOKUP($C19,'yield calculation'!$C:$F,4,FALSE) -> 0.43629807
C20: Retail | D20: =VLOOKUP($C20,'yield calculation'!$C:$F,2,FALSE) -> 0.13135068 | E20: =VLOOKUP($C20,'yield calculation'!$C:$F,3,FALSE) -> 0.24537037 | F20: =VLOOKUP($C20,'yield calculation'!$C:$F,4,FALSE) -> 0.53531599
C21: Hotels | D21: =VLOOKUP($C21,'yield calculation'!$C:$F,2,FALSE) -> 0.19623233 | E21: =VLOOKUP($C21,'yield calculation'!$C:$F,3,FALSE) -> 0.34153005 | F21: =VLOOKUP($C21,'yield calculation'!$C:$F,4,FALSE) -> 0.57456827
C22: Other Services | D22: =VLOOKUP($C22,'yield calculation'!$C:$F,2,FALSE) -> 0.17063493 | E22: =VLOOKUP($C22,'yield calculation'!$C:$F,3,FALSE) -> 0.32452831 | F22: =VLOOKUP($C22,'yield calculation'!$C:$F,4,FALSE) -> 0.52579367
B23: Overall | C23: Portugal 2023 | D23: =VLOOKUP($C23,'yield calculation'!$C:$F,2,FALSE) -> 0.16805741 | E23: =VLOOKUP($C23,'yield calculation'!$C:$F,3,FALSE) -> 0.31370717 | F23: =VLOOKUP($C23,'yield calculation'!$C:$F,4,FALSE) -> 0.53571427
B24: Notes: the rates are calculated as defined in Section III.4

Sheet Table 6 Achieved Total Sample 
C1: =RIGHT(SUBSTITUTE('achieved fresh and panel'!C1,"_"," "),LEN(SUBSTITUTE('achieved fresh and panel'!C1,"_"," "))-1) -> Food | D1: =RIGHT(SUBSTITUTE('achieved fresh and panel'!D1,"_"," "),LEN(SUBSTITUTE('achieved fresh and panel'!D1,"_"," "))-1) -> Garments | E1: =RIGHT(SUBSTITUTE('achieved fresh and panel'!E1,"_"," "),LEN(SUBSTITUTE('achieved fresh and panel'!E1,"_"," "))-1) -> Fabricated Metal Products | F1: =RIGHT(SUBSTITUTE('achieved fresh and panel'!F1,"_"," "),LEN(SUBSTITUTE('achieved fresh and panel'!F1,"_"," "))-1) -> Other Manufacturing | G1: =RIGHT(SUBSTITUTE('achieved fresh and panel'!G1,"_"," "),LEN(SUBSTITUTE('achieved fresh and panel'!G1,"_"," "))-1) -> Construction | H1: =RIGHT(SUBSTITUTE('achieved fresh and panel'!H1,"_"," "),LEN(SUBSTITUTE('achieved fresh and panel'!H1,"_"," "))-1) -> Retail | I1: =RIGHT(SUBSTITUTE('achieved fresh and panel'!I1,"_"," "),LEN(SUBSTITUTE('achieved fresh and panel'!I1,"_"," "))-1) -> Hotels | J1: =RIGHT(SUBSTITUTE('achieved fresh and panel'!J1,"_"," "),LEN(SUBSTITUTE('achieved fresh and panel'!J1,"_"," "))-1) -> Other Services | K1: =RIGHT(SUBSTITUTE('achieved fresh and panel'!K1,"_"," "),LEN(SUBSTITUTE('achieved fresh and panel'!K1,"_"," "))-1) -> Grand Total
A2: ='achieved fresh and panel'!A2 -> North | B2: =LEFT('achieved fresh and panel'!B2,FIND(")",'achieved fresh and panel'!B2)) -> Small (5-19) | C2: ='achieved fresh and panel'!C2 -> 4 | D2: ='achieved fresh and panel'!D2 -> 25 | E2: ='achieved fresh and panel'!E2 -> 8 | F2: ='achieved fresh and panel'!F2 -> 21 | G2: ='achieved fresh and panel'!G2 -> 17 | H2: ='achieved fresh and panel'!H2 -> 15 | I2: ='achieved fresh and panel'!I2 -> 3 | J2: ='achieved fresh and panel'!J2 -> 30 | K2: =SUM(C2:J4) -> 233
A3: ='achieved fresh and panel'!A3 -> North | B3: =LEFT('achieved fresh and panel'!B3,FIND(")",'achieved fresh and panel'!B3)) -> Medium (20-99) | C3: ='achieved fresh and panel'!C3 -> 6 | D3: ='achieved fresh and panel'!D3 -> 18 | E3: ='achieved fresh and panel'!E3 -> 7 | F3: ='achieved fresh and panel'!F3 -> 10 | G3: ='achieved fresh and panel'!G3 -> 4 | H3: ='achieved fresh and panel'!H3 -> 5 | I3: ='achieved fresh and panel'!I3 -> 2 | J3: ='achieved fresh and panel'!J3 -> 4
A4: ='achieved fresh and panel'!A4 -> North | B4: =LEFT('achieved fresh and panel'!B4,FIND(")",'achieved fresh and panel'!B4)) -> Large (100 or more) | C4: ='achieved fresh and panel'!C4 -> 6 | D4: ='achieved fresh and panel'!D4 -> 22 | E4: ='achieved fresh and panel'!E4 -> 8 | F4: ='achieved fresh and panel'!F4 -> 6 | G4: ='achieved fresh and panel'!G4 -> 3 | H4: ='achieved fresh and panel'!H4 -> 2 | I4: ='achieved fresh and panel'!I4 -> 1 | J4: ='achieved fresh and panel'!J4 -> 6
A5: ='achieved fresh and panel'!A5 -> Algarve | B5: =LEFT('achieved fresh and panel'!B5,FIND(")",'achieved fresh and panel'!B5)) -> Small (5-19) | C5: ='achieved fresh and panel'!C5 -> 6 | D5: ='achieved fresh and panel'!D5 -> 1 | E5: ='achieved fresh and panel'!E5 -> 10 | F5: ='achieved fresh and panel'!F5 -> 5 | G5: ='achieved fresh and panel'!G5 -> 2 | H5: ='achieved fresh and panel'!H5 -> 4 | I5: ='achieved fresh and panel'!I5 -> 1 | J5: ='achieved fresh and panel'!J5 -> 11 | K5: =SUM(C5:J7) -> 102
A6: ='achieved fresh and panel'!A6 -> Algarve | B6: =LEFT('achieved fresh and panel'!B6,FIND(")",'achieved fresh and panel'!B6)) -> Medium (20-99) | C6: ='achieved fresh and panel'!C6 -> 6 | D6: ='achieved fresh and panel'!D6 -> 0 | E6: ='achieved fresh and panel'!E6 -> 3 | F6: ='achieved fresh and panel'!F6 -> 6 | G6: ='achieved fresh and panel'!G6 -> 2 | H6: ='achieved fresh and panel'!H6 -> 7 | I6: ='achieved fresh and panel'!I6 -> 14 | J6: ='achieved fresh and panel'!J6 -> 3
A7: ='achieved fresh and panel'!A7 -> Algarve | B7: =LEFT('achieved fresh and panel'!B7,FIND(")",'achieved fresh and panel'!B7)) -> Large (100 or more) | C7: ='achieved fresh and panel'!C7 -> 0 | D7: ='achieved fresh and panel'!D7 -> 0 | E7: ='achieved fresh and panel'!E7 -> 0 | F7: ='achieved fresh and panel'!F7 -> 2 | G7: ='achieved fresh and panel'!G7 -> 2 | H7: ='achieved fresh and panel'!H7 -> 3 | I7: ='achieved fresh and panel'!I7 -> 10 | J7: ='achieved fresh and panel'!J7 -> 4
A8: ='achieved fresh and panel'!A8 -> Center | B8: =LEFT('achieved fresh and panel'!B8,FIND(")",'achieved fresh and panel'!B8)) -> Small (5-19) | C8: ='achieved fresh and panel'!C8 -> 5 | D8: ='achieved fresh and panel'!D8 -> 9 | E8: ='achieved fresh and panel'!E8 -> 9 | F8: ='achieved fresh and panel'!F8 -> 9 | G8: ='achieved fresh and panel'!G8 -> 8 | H8: ='achieved fresh and panel'!H8 -> 7 | I8: ='achieved fresh and panel'!I8 -> 5 | J8: ='achieved fresh and panel'!J8 -> 25 | K8: =SUM(C8:J10) -> 157
A9: ='achieved fresh and panel'!A9 -> Center | B9: =LEFT('achieved fresh and panel'!B9,FIND(")",'achieved fresh and panel'!B9)) -> Medium (20-99) | C9: ='achieved fresh and panel'!C9 -> 3 | D9: ='achieved fresh and panel'!D9 -> 9 | E9: ='achieved fresh and panel'!E9 -> 4 | F9: ='achieved fresh and panel'!F9 -> 5 | G9: ='achieved fresh and panel'!G9 -> 3 | H9: ='achieved fresh and panel'!H9 -> 2 | I9: ='achieved fresh and panel'!I9 -> 2 | J9: ='achieved fresh and panel'!J9 -> 3
A10: ='achieved fresh and panel'!A10 -> Center | B10: =LEFT('achieved fresh and panel'!B10,FIND(")",'achieved fresh and panel'!B10)) -> Large (100 or more) | C10: ='achieved fresh and panel'!C10 -> 3 | D10: ='achieved fresh and panel'!D10 -> 7 | E10: ='achieved fresh and panel'!E10 -> 10 | F10: ='achieved fresh and panel'!F10 -> 14 | G10: ='achieved fresh and panel'!G10 -> 5 | H10: ='achieved fresh and panel'!H10 -> 3 | I10: ='achieved fresh and panel'!I10 -> 0 | J10: ='achieved fresh and panel'!J10 -> 7
A11: ='achieved fresh and panel'!A11 -> Lisbon Metropolitan Area | B11: =LEFT('achieved fresh and panel'!B11,FIND(")",'achieved fresh and panel'!B11)) -> Small (5-19) | C11: ='achieved fresh and panel'!C11 -> 2 | D11: ='achieved fresh and panel'!D11 -> 2 | E11: ='achieved fresh and panel'!E11 -> 2 | F11: ='achieved fresh and panel'!F11 -> 7 | G11: ='achieved fresh and panel'!G11 -> 14 | H11: ='achieved fresh and panel'!H11 -> 10 | I11: ='achieved fresh and panel'!I11 -> 3 | J11: ='achieved fresh and panel'!J11 -> 28 | K11: =SUM(C11:J13) -> 167
A12: ='achieved fresh and panel'!A12 -> Lisbon Metropolitan Area | B12: =LEFT('achieved fresh and panel'!B12,FIND(")",'achieved fresh and panel'!B12)) -> Medium (20-99) | C12: ='achieved fresh and panel'!C12 -> 2 | D12: ='achieved fresh and panel'!D12 -> 4 | E12: ='achieved fresh and panel'!E12 -> 7 | F12: ='achieved fresh and panel'!F12 -> 11 | G12: ='achieved fresh and panel'!G12 -> 3 | H12: ='achieved fresh and panel'!H12 -> 3 | I12: ='achieved fresh and panel'!I12 -> 6 | J12: ='achieved fresh and panel'!J12 -> 6
A13: ='achieved fresh and panel'!A13 -> Lisbon Metropolitan Area | B13: =LEFT('achieved fresh and panel'!B13,FIND(")",'achieved fresh and panel'!B13)) -> Large (100 or more) | C13: ='achieved fresh and panel'!C13 -> 7 | D13: ='achieved fresh and panel'!D13 -> 0 | E13: ='achieved fresh and panel'!E13 -> 4 | F13: ='achieved fresh and panel'!F13 -> 9 | G13: ='achieved fresh and panel'!G13 -> 14 | H13: ='achieved fresh and panel'!H13 -> 12 | I13: ='achieved fresh and panel'!I13 -> 7 | J13: ='achieved fresh and panel'!J13 -> 4
A14: ='achieved fresh and panel'!A14 -> Alentejo | B14: =LEFT('achieved fresh and panel'!B14,FIND(")",'achieved fresh and panel'!B14)) -> Small (5-19) | C14: ='achieved fresh and panel'!C14 -> 5 | D14: ='achieved fresh and panel'!D14 -> 2 | E14: ='achieved fresh and panel'!E14 -> 11 | F14: ='achieved fresh and panel'!F14 -> 5 | G14: ='achieved fresh and panel'!G14 -> 3 | H14: ='achieved fresh and panel'!H14 -> 6 | I14: ='achieved fresh and panel'!I14 -> 2 | J14: ='achieved fresh and panel'!J14 -> 7 | K14: =SUM(C14:J16) -> 103
A15: ='achieved fresh and panel'!A15 -> Alentejo | B15: =LEFT('achieved fresh and panel'!B15,FIND(")",'achieved fresh and panel'!B15)) -> Medium (20-99) | C15: ='achieved fresh and panel'!C15 -> 7 | D15: ='achieved fresh and panel'!D15 -> 1 | E15: ='achieved fresh and panel'!E15 -> 7 | F15: ='achieved fresh and panel'!F15 -> 14 | G15: ='achieved fresh and panel'!G15 -> 3 | H15: ='achieved fresh and panel'!H15 -> 2 | I15: ='achieved fresh and panel'!I15 -> 6 | J15: ='achieved fresh and panel'!J15 -> 3
A16: ='achieved fresh and panel'!A16 -> Alentejo | B16: =LEFT('achieved fresh and panel'!B16,FIND(")",'achieved fresh and panel'!B16)) -> Large (100 or more) | C16: ='achieved fresh and panel'!C16 -> 4 | D16: ='achieved fresh and panel'!D16 -> 0 | E16: ='achieved fresh and panel'!E16 -> 0 | F16: ='achieved fresh and panel'!F16 -> 6 | G16: ='achieved fresh and panel'!G16 -> 2 | H16: ='achieved fresh and panel'!H16 -> 0 | I16: ='achieved fresh and panel'!I16 -> 2 | J16: ='achieved fresh and panel'!J16 -> 5
A17: ='achieved fresh and panel'!A17 -> Autonomous Region of the Azores | B17: =LEFT('achieved fresh and panel'!B17,FIND(")",'achieved fresh and panel'!B17)) -> Small (5-19) | C17: ='achieved fresh and panel'!C17 -> 11 | D17: ='achieved fresh and panel'!D17 -> 0 | E17: ='achieved fresh and panel'!E17 -> 8 | F17: ='achieved fresh and panel'!F17 -> 11 | G17: ='achieved fresh and panel'!G17 -> 2 | H17: ='achieved fresh and panel'!H17 -> 5 | I17: ='achieved fresh and panel'!I17 -> 24 | J17: ='achieved fresh and panel'!J17 -> 2 | K17: =SUM(C17:J19) -> 123
A18: ='achieved fresh and panel'!A18 -> Autonomous Region of the Azores | B18: =LEFT('achieved fresh and panel'!B18,FIND(")",'achieved fresh and panel'!B18)) -> Medium (20-99) | C18: ='achieved fresh and panel'!C18 -> 9 | D18: ='achieved fresh and panel'!D18 -> 0 | E18: ='achieved fresh and panel'!E18 -> 0 | F18: ='achieved fresh and panel'!F18 -> 8 | G18: ='achieved fresh and panel'!G18 -> 16 | H18: ='achieved fresh and panel'!H18 -> 6 | I18: ='achieved fresh and panel'!I18 -> 8 | J18: ='achieved fresh and panel'!J18 -> 3
A19: ='achieved fresh and panel'!A19 -> Autonomous Region of the Azores | B19: =LEFT('achieved fresh and panel'!B19,FIND(")",'achieved fresh and panel'!B19)) -> Large (100 or more) | C19: ='achieved fresh and panel'!C19 -> 1 | D19: ='achieved fresh and panel'!D19 -> 0 | E19: ='achieved fresh and panel'!E19 -> 1 | F19: ='achieved fresh and panel'!F19 -> 0 | G19: ='achieved fresh and panel'!G19 -> 1 | H19: ='achieved fresh and panel'!H19 -> 4 | I19: ='achieved fresh and panel'!I19 -> 1 | J19: ='achieved fresh and panel'!J19 -> 2
A20: ='achieved fresh and panel'!A20 -> Autonomous Region of Madeira | B20: =LEFT('achieved fresh and panel'!B20,FIND(")",'achieved fresh and panel'!B20)) -> Small (5-19) | C20: ='achieved fresh and panel'!C20 -> 8 | D20: ='achieved fresh and panel'!D20 -> 0 | E20: ='achieved fresh and panel'!E20 -> 7 | F20: ='achieved fresh and panel'!F20 -> 6 | G20: ='achieved fresh and panel'!G20 -> 6 | H20: ='achieved fresh and panel'!H20 -> 3 | I20: ='achieved fresh and panel'!I20 -> 9 | J20: ='achieved fresh and panel'!J20 -> 6 | K20: =SUM(C20:J22) -> 122
A21: ='achieved fresh and panel'!A21 -> Autonomous Region of Madeira | B21: =LEFT('achieved fresh and panel'!B21,FIND(")",'achieved fresh and panel'!B21)) -> Medium (20-99) | C21: ='achieved fresh and panel'!C21 -> 10 | D21: ='achieved fresh and panel'!D21 -> 0 | E21: ='achieved fresh and panel'!E21 -> 4 | F21: ='achieved fresh and panel'!F21 -> 4 | G21: ='achieved fresh and panel'!G21 -> 16 | H21: ='achieved fresh and panel'!H21 -> 6 | I21: ='achieved fresh and panel'!I21 -> 14 | J21: ='achieved fresh and panel'!J21 -> 6
A22: ='achieved fresh and panel'!A22 -> Autonomous Region of Madeira | B22: =LEFT('achieved fresh and panel'!B22,FIND(")",'achieved fresh and panel'!B22)) -> Large (100 or more) | C22: ='achieved fresh and panel'!C22 -> 2 | D22: ='achieved fresh and panel'!D22 -> 0 | E22: ='achieved fresh and panel'!E22 -> 0 | F22: ='achieved fresh and panel'!F22 -> 1 | G22: ='achieved fresh and panel'!G22 -> 1 | H22: ='achieved fresh and panel'!H22 -> 1 | I22: ='achieved fresh and panel'!I22 -> 5 | J22: ='achieved fresh and panel'!J22 -> 7
C23: =SUM(C2:C22) -> 107 | D23: =SUM(D2:D22) -> 100 | E23: =SUM(E2:E22) -> 110 | F23: =SUM(F2:F22) -> 160 | G23: =SUM(G2:G22) -> 127 | H23: =SUM(H2:H22) -> 106 | I23: =SUM(I2:I22) -> 125 | J23: =SUM(J2:J22) -> 172 | K23: =SUM(K2:K22) -> 1007

Sheet Table 7 Achieved Panel Sample
C1: =RIGHT(SUBSTITUTE('achieved panel'!C1,"_"," "),LEN(SUBSTITUTE('achieved panel'!C1,"_"," "))-1) -> Food | D1: =RIGHT(SUBSTITUTE('achieved panel'!D1,"_"," "),LEN(SUBSTITUTE('achieved panel'!D1,"_"," "))-1) -> Garments | E1: =RIGHT(SUBSTITUTE('achieved panel'!E1,"_"," "),LEN(SUBSTITUTE('achieved panel'!E1,"_"," "))-1) -> Fabricated Metal Products | F1: =RIGHT(SUBSTITUTE('achieved panel'!F1,"_"," "),LEN(SUBSTITUTE('achieved panel'!F1,"_"," "))-1) -> Other Manufacturing | G1: =RIGHT(SUBSTITUTE('achieved panel'!G1,"_"," "),LEN(SUBSTITUTE('achieved panel'!G1,"_"," "))-1) -> Construction | H1: =RIGHT(SUBSTITUTE('achieved panel'!H1,"_"," "),LEN(SUBSTITUTE('achieved panel'!H1,"_"," "))-1) -> Retail | I1: =RIGHT(SUBSTITUTE('achieved panel'!I1,"_"," "),LEN(SUBSTITUTE('achieved panel'!I1,"_"," "))-1) -> Hotels | J1: =RIGHT(SUBSTITUTE('achieved panel'!J1,"_"," "),LEN(SUBSTITUTE('achieved panel'!J1,"_"," "))-1) -> Other Services | K1: =RIGHT(SUBSTITUTE('achieved panel'!K1,"_"," "),LEN(SUBSTITUTE('achieved panel'!K1,"_"," "))-1) -> Grand Total
A2: ='achieved panel'!A2 -> North | B2: =LEFT('achieved panel'!B2,FIND(")",'achieved panel'!B2)) -> Small (5-19) | C2: ='achieved panel'!C2 -> 2 | D2: ='achieved panel'!D2 -> 9 | E2: ='achieved panel'!E2 -> 3 | F2: ='achieved panel'!F2 -> 9 | G2: ='achieved panel'!G2 -> 2 | H2: ='achieved panel'!H2 -> 2 | I2: ='achieved panel'!I2 -> 0 | J2: ='achieved panel'!J2 -> 7 | K2: =SUM(C2:J4) -> 74
A3: ='achieved panel'!A3 -> North | B3: =LEFT('achieved panel'!B3,FIND(")",'achieved panel'!B3)) -> Medium (20-99) | C3: ='achieved panel'!C3 -> 2 | D3: ='achieved panel'!D3 -> 5 | E3: ='achieved panel'!E3 -> 5 | F3: ='achieved panel'!F3 -> 3 | G3: ='achieved panel'!G3 -> 0 | H3: ='achieved panel'!H3 -> 3 | I3: ='achieved panel'!I3 -> 0 | J3: ='achieved panel'!J3 -> 0
A4: ='achieved panel'!A4 -> North | B4: =LEFT('achieved panel'!B4,FIND(")",'achieved panel'!B4)) -> Large (100 or more) | C4: ='achieved panel'!C4 -> 4 | D4: ='achieved panel'!D4 -> 9 | E4: ='achieved panel'!E4 -> 2 | F4: ='achieved panel'!F4 -> 4 | G4: ='achieved panel'!G4 -> 0 | H4: ='achieved panel'!H4 -> 0 | I4: ='achieved panel'!I4 -> 0 | J4: ='achieved panel'!J4 -> 3
A5: ='achieved panel'!A5 -> Algarve | B5: =LEFT('achieved panel'!B5,FIND(")",'achieved panel'!B5)) -> Small (5-19) | C5: ='achieved panel'!C5 -> 4 | D5: ='achieved panel'!D5 -> 1 | E5: ='achieved panel'!E5 -> 6 | F5: ='achieved panel'!F5 -> 1 | G5: ='achieved panel'!G5 -> 0 | H5: ='achieved panel'!H5 -> 3 | I5: ='achieved panel'!I5 -> 0 | J5: ='achieved panel'!J5 -> 2 | K5: =SUM(C5:J7) -> 45
A6: ='achieved panel'!A6 -> Algarve | B6: =LEFT('achieved panel'!B6,FIND(")",'achieved panel'!B6)) -> Medium (20-99) | C6: ='achieved panel'!C6 -> 5 | D6: ='achieved panel'!D6 -> 0 | E6: ='achieved panel'!E6 -> 1 | F6: ='achieved panel'!F6 -> 5 | G6: ='achieved panel'!G6 -> 0 | H6: ='achieved panel'!H6 -> 5 | I6: ='achieved panel'!I6 -> 1 | J6: ='achieved panel'!J6 -> 1
A7: ='achieved panel'!A7 -> Algarve | B7: =LEFT('achieved panel'!B7,FIND(")",'achieved panel'!B7)) -> Large (100 or more) | C7: ='achieved panel'!C7 -> 0 | D7: ='achieved panel'!D7 -> 0 | E7: ='achieved panel'!E7 -> 0 | F7: ='achieved panel'!F7 -> 2 | G7: ='achieved panel'!G7 -> 0 | H7: ='achieved panel'!H7 -> 2 | I7: ='achieved panel'!I7 -> 5 | J7: ='achieved panel'!J7 -> 1
A8: ='achieved panel'!A8 -> Center | B8: =LEFT('achieved panel'!B8,FIND(")",'achieved panel'!B8)) -> Small (5-19) | C8: ='achieved panel'!C8 -> 2 | D8: ='achieved panel'!D8 -> 0 | E8: ='achieved panel'!E8 -> 5 | F8: ='achieved panel'!F8 -> 4 | G8: ='achieved panel'!G8 -> 1 | H8: ='achieved panel'!H8 -> 3 | I8: ='achieved panel'!I8 -> 0 | J8: ='achieved panel'!J8 -> 2 | K8: =SUM(C8:J10) -> 48
A9: ='achieved panel'!A9 -> Center | B9: =LEFT('achieved panel'!B9,FIND(")",'achieved panel'!B9)) -> Medium (20-99) | C9: ='achieved panel'!C9 -> 1 | D9: ='achieved panel'!D9 -> 0 | E9: ='achieved panel'!E9 -> 0 | F9: ='achieved panel'!F9 -> 5 | G9: ='achieved panel'!G9 -> 0 | H9: ='achieved panel'!H9 -> 0 | I9: ='achieved panel'!I9 -> 0 | J9: ='achieved panel'!J9 -> 1
A10: ='achieved panel'!A10 -> Center | B10: =LEFT('achieved panel'!B10,FIND(")",'achieved panel'!B10)) -> Large (100 or more) | C10: ='achieved panel'!C10 -> 0 | D10: ='achieved panel'!D10 -> 4 | E10: ='achieved panel'!E10 -> 3 | F10: ='achieved panel'!F10 -> 12 | G10: ='achieved panel'!G10 -> 1 | H10: ='achieved panel'!H10 -> 1 | I10: ='achieved panel'!I10 -> 0 | J10: ='achieved panel'!J10 -> 3
A11: ='achieved panel'!A11 -> Lisbon Metropolitan Area | B11: =LEFT('achieved panel'!B11,FIND(")",'achieved panel'!B11)) -> Small (5-19) | C11: ='achieved panel'!C11 -> 1 | D11: ='achieved panel'!D11 -> 1 | E11: ='achieved panel'!E11 -> 1 | F11: ='achieved panel'!F11 -> 5 | G11: ='achieved panel'!G11 -> 0 | H11: ='achieved panel'!H11 -> 0 | I11: ='achieved panel'!I11 -> 1 | J11: ='achieved panel'!J11 -> 5 | K11: =SUM(C11:J13) -> 43
A12: ='achieved panel'!A12 -> Lisbon Metropolitan Area | B12: =LEFT('achieved panel'!B12,FIND(")",'achieved panel'!B12)) -> Medium (20-99) | C12: ='achieved panel'!C12 -> 0 | D12: ='achieved panel'!D12 -> 2 | E12: ='achieved panel'!E12 -> 3 | F12: ='achieved panel'!F12 -> 7 | G12: ='achieved panel'!G12 -> 0 | H12: ='achieved panel'!H12 -> 1 | I12: ='achieved panel'!I12 -> 0 | J12: ='achieved panel'!J12 -> 1
A13: ='achieved panel'!A13 -> Lisbon Metropolitan Area | B13: =LEFT('achieved panel'!B13,FIND(")",'achieved panel'!B13)) -> Large (100 or more) | C13: ='achieved panel'!C13 -> 2 | D13: ='achieved panel'!D13 -> 0 | E13: ='achieved panel'!E13 -> 0 | F13: ='achieved panel'!F13 -> 7 | G13: ='achieved panel'!G13 -> 0 | H13: ='achieved panel'!H13 -> 4 | I13: ='achieved panel'!I13 -> 0 | J13: ='achieved panel'!J13 -> 2
A14: ='achieved panel'!A14 -> Alentejo | B14: =LEFT('achieved panel'!B14,FIND(")",'achieved panel'!B14)) -> Small (5-19) | C14: ='achieved panel'!C14 -> 3 | D14: ='achieved panel'!D14 -> 1 | E14: ='achieved panel'!E14 -> 5 | F14: ='achieved panel'!F14 -> 4 | G14: ='achieved panel'!G14 -> 0 | H14: ='achieved panel'!H14 -> 2 | I14: ='achieved panel'!I14 -> 0 | J14: ='achieved panel'!J14 -> 1 | K14: =SUM(C14:J16) -> 45
A15: ='achieved panel'!A15 -> Alentejo | B15: =LEFT('achieved panel'!B15,FIND(")",'achieved panel'!B15)) -> Medium (20-99) | C15: ='achieved panel'!C15 -> 4 | D15: ='achieved panel'!D15 -> 1 | E15: ='achieved panel'!E15 -> 4 | F15: ='achieved panel'!F15 -> 12 | G15: ='achieved panel'!G15 -> 0 | H15: ='achieved panel'!H15 -> 0 | I15: ='achieved panel'!I15 -> 0 | J15: ='achieved panel'!J15 -> 1
A16: ='achieved panel'!A16 -> Alentejo | B16: =LEFT('achieved panel'!B16,FIND(")",'achieved panel'!B16)) -> Large (100 or more) | C16: ='achieved panel'!C16 -> 2 | D16: ='achieved panel'!D16 -> 0 | E16: ='achieved panel'!E16 -> 0 | F16: ='achieved panel'!F16 -> 2 | G16: ='achieved panel'!G16 -> 1 | H16: ='achieved panel'!H16 -> 0 | I16: ='achieved panel'!I16 -> 0 | J16: ='achieved panel'!J16 -> 2
A17: ='achieved panel'!A17 -> Autonomous Region of the Azores | B17: =LEFT('achieved panel'!B17,FIND(")",'achieved panel'!B17)) -> Small (5-19) | C17: ='achieved panel'!C17 -> 4 | D17: ='achieved panel'!D17 -> 0 | E17: ='achieved panel'!E17 -> 5 | F17: ='achieved panel'!F17 -> 5 | G17: ='achieved panel'!G17 -> 0 | H17: ='achieved panel'!H17 -> 3 | I17: ='achieved panel'!I17 -> 0 | J17: ='achieved panel'!J17 -> 0 | K17: =SUM(C17:J19) -> 32
A18: ='achieved panel'!A18 -> Autonomous Region of the Azores | B18: =LEFT('achieved panel'!B18,FIND(")",'achieved panel'!B18)) -> Medium (20-99) | C18: ='achieved panel'!C18 -> 4 | D18: ='achieved panel'!D18 -> 0 | E18: ='achieved panel'!E18 -> 0 | F18: ='achieved panel'!F18 -> 6 | G18: ='achieved panel'!G18 -> 0 | H18: ='achieved panel'!H18 -> 2 | I18: ='achieved panel'!I18 -> 0 | J18: ='achieved panel'!J18 -> 0
A19: ='achieved panel'!A19 -> Autonomous Region of the Azores | B19: =LEFT('achieved panel'!B19,FIND(")",'achieved panel'!B19)) -> Large (100 or more) | C19: ='achieved panel'!C19 -> 0 | D19: ='achieved panel'!D19 -> 0 | E19: ='achieved panel'!E19 -> 1 | F19: ='achieved panel'!F19 -> 0 | G19: ='achieved panel'!G19 -> 1 | H19: ='achieved panel'!H19 -> 1 | I19: ='achieved panel'!I19 -> 0 | J19: ='achieved panel'!J19 -> 0
A20: ='achieved panel'!A20 -> Autonomous Region of Madeira | B20: =LEFT('achieved panel'!B20,FIND(")",'achieved panel'!B20)) -> Small (5-19) | C20: ='achieved panel'!C20 -> 1 | D20: ='achieved panel'!D20 -> 0 | E20: ='achieved panel'!E20 -> 1 | F20: ='achieved panel'!F20 -> 2 | G20: ='achieved panel'!G20 -> 0 | H20: ='achieved panel'!H20 -> 1 | I20: ='achieved panel'!I20 -> 0 | J20: ='achieved panel'!J20 -> 3 | K20: =SUM(C20:J22) -> 21
A21: ='achieved panel'!A21 -> Autonomous Region of Madeira | B21: =LEFT('achieved panel'!B21,FIND(")",'achieved panel'!B21)) -> Medium (20-99) | C21: ='achieved panel'!C21 -> 3 | D21: ='achieved panel'!D21 -> 0 | E21: ='achieved panel'!E21 -> 1 | F21: ='achieved panel'!F21 -> 2 | G21: ='achieved panel'!G21 -> 0 | H21: ='achieved panel'!H21 -> 0 | I21: ='achieved panel'!I21 -> 0 | J21: ='achieved panel'!J21 -> 3
A22: ='achieved panel'!A22 -> Autonomous Region of Madeira | B22: =LEFT('achieved panel'!B22,FIND(")",'achieved panel'!B22)) -> Large (100 or more) | C22: ='achieved panel'!C22 -> 2 | D22: ='achieved panel'!D22 -> 0 | E22: ='achieved panel'!E22 -> 0 | F22: ='achieved panel'!F22 -> 1 | G22: ='achieved panel'!G22 -> 0 | H22: ='achieved panel'!H22 -> 1 | I22: ='achieved panel'!I22 -> 0 | J22: ='achieved panel'!J22 -> 0
C23: =SUM(C2:C22) -> 46 | D23: =SUM(D2:D22) -> 33 | E23: =SUM(E2:E22) -> 46 | F23: =SUM(F2:F22) -> 98 | G23: =SUM(G2:G22) -> 6 | H23: =SUM(H2:H22) -> 34 | I23: =SUM(I2:I22) -> 7 | J23: =SUM(J2:J22) -> 38 | K23: =SUM(K2:K22) -> 308

Sheet Table 8 Weak Universe Estimates
