Workbook

Sheet Table 1 Universe
C1: =RIGHT(SUBSTITUTE(universe!C1,"_"," "),LEN(SUBSTITUTE(universe!C1,"_"," "))-1) -> Food | D1: =RIGHT(SUBSTITUTE(universe!D1,"_"," "),LEN(SUBSTITUTE(universe!D1,"_"," "))-1) -> Garments | E1: =RIGHT(SUBSTITUTE(universe!E1,"_"," "),LEN(SUBSTITUTE(universe!E1,"_"," "))-1) -> Fabricated Metal Products | F1: =RIGHT(SUBSTITUTE(universe!F1,"_"," "),LEN(SUBSTITUTE(universe!F1,"_"," "))-1) -> Other Manufacturing | G1: =RIGHT(SUBSTITUTE(universe!G1,"_"," "),LEN(SUBSTITUTE(universe!G1,"_"," "))-1) -> Construction | H1: =RIGHT(SUBSTITUTE(universe!H1,"_"," "),LEN(SUBSTITUTE(universe!H1,"_"," "))-1) -> Retail | I1: =RIGHT(SUBSTITUTE(universe!I1,"_"," "),LEN(SUBSTITUTE(universe!I1,"_"," "))-1) -> Hotels | J1: =RIGHT(SUBSTITUTE(universe!J1,"_"," "),LEN(SUBSTITUTE(universe!J1,"_"," "))-1) -> Other Services | K1: =RIGHT(SUBSTITUTE(universe!K1,"_"," "),LEN(SUBSTITUTE(universe!K1,"_"," "))-1) -> Grand Total
A2: =universe!A2 -> North | B2: =LEFT(universe!B2,FIND(")",universe!B2)) -> Small (5-19) | C2: =universe!C2 -> 709 | D2: =universe!D2 -> 1457 | E2: =universe!E2 -> 1191 | F2: =universe!F2 -> 4094 | G2: =universe!G2 -> 4942 | H2: =universe!H2 -> 3575 | I2: =universe!I2 -> 365 | J2: =universe!J2 -> 11108 | K2: =SUM(C2:J4) -> 35081
A3: =universe!A3 -> North | B3: =LEFT(universe!B3,FIND(")",universe!B3)) -> Medium (20-99) | C3: =universe!C3 -> 170 | D3: =universe!D3 -> 812 | E3: =universe!E3 -> 383 | F3: =universe!F3 -> 1878 | G3: =universe!G3 -> 1060 | H3: =universe!H3 -> 433 | I3: =universe!I3 -> 112 | J3: =universe!J3 -> 1820
A4: =universe!A4 -> North | B4: =LEFT(universe!B4,FIND(")",universe!B4)) -> Large (100-199) | C4: =universe!C4 -> 42 | D4: =universe!D4 -> 105 | E4: =universe!E4 -> 62 | F4: =universe!F4 -> 376 | G4: =universe!G4 -> 98 | H4: =universe!H4 -> 63 | I4: =universe!I4 -> 11 | J4: =universe!J4 -> 215
A5: =universe!A5 -> Algarve | B5: =LEFT(universe!B5,FIND(")",universe!B5)) -> Small (5-19) | C5: =universe!C5 -> 92 | D5: =universe!D5 -> 3 | E5: =universe!E5 -> 54 | F5: =universe!F5 -> 126 | G5: =universe!G5 -> 821 | H5: =universe!H5 -> 589 | I5: =universe!I5 -> 228 | J5: =universe!J5 -> 2017 | K5: =SUM(C5:J7) -> 4590
A6: =universe!A6 -> Algarve | B6: =LEFT(universe!B6,FIND(")",universe!B6)) -> Medium (20-99) | C6: =universe!C6 -> 22 | D6: =universe!D6 -> 0 | E6: =universe!E6 -> 5 | F6: =universe!F6 -> 17 | G6: =universe!G6 -> 120 | H6: =universe!H6 -> 79 | I6: =universe!I6 -> 98 | J6: =universe!J6 -> 259
A7: =universe!A7 -> Algarve | B7: =LEFT(universe!B7,FIND(")",universe!B7)) -> Large (100-199) | C7: =universe!C7 -> 0 | D7: =universe!D7 -> 0 | E7: =universe!E7 -> 0 | F7: =universe!F7 -> 0 | G7: =universe!G7 -> 5 | H7: =universe!H7 -> 6 | I7: =universe!I7 -> 33 | J7: =universe!J7 -> 16
A8: =universe!A8 -> Center | B8: =LEFT(universe!B8,FIND(")",universe!B8)) -> Small (5-19) | C8: =universe!C8 -> 609 | D8: =universe!D8 -> 50 | E8: =universe!E8 -> 835 | F8: =universe!F8 -> 1538 | G8: =universe!G8 -> 2727 | H8: =universe!H8 -> 2359 | I8: =universe!I8 -> 272 | J8: =universe!J8 -> 6568 | K8: =SUM(C8:J10) -> 18695
A9: =universe!A9 -> Center | B9: =LEFT(universe!B9,FIND(")",universe!B9)) -> Medium (20-99) | C9: =universe!C9 -> 221 | D9: =universe!D9 -> 48 | E9: =universe!E9 -> 337 | F9: =universe!F9 -> 774 | G9: =universe!G9 -> 420 | H9: =universe!H9 -> 329 | I9: =universe!I9 -> 87 | J9: =universe!J9 -> 1007
A10: =universe!A10 -> Center | B10: =LEFT(universe!B10,FIND(")",universe!B10)) -> Large (100-199) | C10: =universe!C10 -> 49 | D10: =universe!D10 -> 21 | E10: =universe!E10 -> 50 | F10: =universe!F10 -> 223 | G10: =universe!G10 -> 32 | H10: =universe!H10 -> 14 | I10: =universe!I10 -> 4 | J10: =universe!J10 -> 121
A11: =universe!A11 -> Lisbon Metropolitan Area | B11: =LEFT(universe!B11,FIND(")",universe!B11)) -> Small (5-19) | C11: =universe!C11 -> 248 | D11: =universe!D11 -> 22 | E11: =universe!E11 -> 322 | F11: =universe!F11 -> 939 | G11: =universe!G11 -> 2806 | H11: =universe!H11 -> 2590 | I11: =universe!I11 -> 424 | J11: =universe!J11 -> 10344 | K11: =SUM(C11:J13) -> 22493
A12: =universe!A12 -> Lisbon Metropolitan Area | B12: =LEFT(universe!B12,FIND(")",universe!B12)) -> Medium (20-99) | C12: =universe!C12 -> 132 | D12: =universe!D12 -> 10 | E12: =universe!E12 -> 84 | F12: =universe!F12 -> 345 | G12: =universe!G12 -> 547 | H12: =universe!H12 -> 404 | I12: =universe!I12 -> 206 | J12: =universe!J12 -> 2248
A13: =universe!A13 -> Lisbon Metropolitan Area | B13: =LEFT(universe!B13,FIND(")",universe!B13)) -> Large (100-199) | C13: =universe!C13 -> 33 | D13: =universe!D13 -> 1 | E13: =universe!E13 -> 9 | F13: =universe!F13 -> 111 | G13: =universe!G13 -> 75 | H13: =universe!H13 -> 104 | I13: =universe!I13 -> 37 | J13: =universe!J13 -> 452
A14: =universe!A14 -> Alentejo | B14: =LEFT(universe!B14,FIND(")",universe!B14)) -> Small (5-19) | C14: =universe!C14 -> 230 | D14: =universe!D14 -> 4 | E14: =universe!E14 -> 70 | F14: =universe!F14 -> 275 | G14: =universe!G14 -> 590 | H14: =universe!H14 -> 659 | I14: =universe!I14 -> 110 | J14: =universe!J14 -> 1697 | K14: =SUM(C14:J16) -> 4383
A15: =universe!A15 -> Alentejo | B15: =LEFT(universe!B15,FIND(")",universe!B15)) -> Medium (20-99) | C15: =universe!C15 -> 81 | D15: =universe!D15 -> 0 | E15: =universe!E15 -> 21 | F15: =universe!F15 -> 115 | G15: =universe!G15 -> 86 | H15: =universe!H15 -> 105 | I15: =universe!I15 -> 28 | J15: =universe!J15 -> 218
A16: =universe!A16 -> Alentejo | B16: =LEFT(universe!B16,FIND(")",universe!B16)) -> Large (100-199) | C16: =universe!C16 -> 16 | D16: =universe!D16 -> 1 | E16: =universe!E16 -> 1 | F16: =universe!F16 -> 37 | G16: =universe!G16 -> 8 | H16: =universe!H16 -> 3 | I16: =universe!I16 -> 4 | J16: =universe!J16 -> 24
A17: =universe!A17 -> Autonomous Region of the Azores | B17: =LEFT(universe!B17,FIND(")",universe!B17)) -> Small (5-19) | C17: =universe!C17 -> 56 | D17: =universe!D17 -> 0 | E17: =universe!E17 -> 30 | F17: =universe!F17 -> 62 | G17: =universe!G17 -> 189 | H17: =universe!H17 -> 293 | I17: =universe!I17 -> 63 | J17: =universe!J17 -> 561 | K17: =SUM(C17:J19) -> 1608
A18: =universe!A18 -> Autonomous Region of the Azores | B18: =LEFT(universe!B18,FIND(")",universe!B18)) -> Medium (20-99) | C18: =universe!C18 -> 31 | D18: =universe!D18 -> 0 | E18: =universe!E18 -> 5 | F18: =universe!F18 -> 13 | G18: =universe!G18 -> 79 | H18: =universe!H18 -> 41 | I18: =universe!I18 -> 23 | J18: =universe!J18 -> 122
A19: =universe!A19 -> Autonomous Region of the Azores | B19: =LEFT(universe!B19,FIND(")",universe!B19)) -> Large (100-199) | C19: =universe!C19 -> 11 | D19: =universe!D19 -> 0 | E19: =universe!E19 -> 1 | F19: =universe!F19 -> 1 | G19: =universe!G19 -> 2 | H19: =universe!H19 -> 8 | I19: =universe!I19 -> 8 | J19: =universe!J19 -> 9
A20: =universe!A20 -> Autonomous Region of Madeira | B20: =LEFT(universe!B20,FIND(")",universe!B20)) -> Small (5-19) | C20: =universe!C20 -> 57 | D20: =universe!D20 -> 2 | E20: =universe!E20 -> 23 | F20: =universe!F20 -> 71 | G20: =universe!G20 -> 261 | H20: =universe!H20 -> 263 | I20: =universe!I20 -> 56 | J20: =universe!J20 -> 759 | K20: =SUM(C20:J22) -> 1869
A21: =universe!A21 -> Autonomous Region of Madeira | B21: =LEFT(universe!B21,FIND(")",universe!B21)) -> Medium (20-99) | C21: =universe!C21 -> 17 | D21: =universe!D21 -> 0 | E21: =universe!E21 -> 7 | F21: =universe!F21 -> 15 | G21: =universe!G21 -> 67 | H21: =universe!H21 -> 34 | I21: =universe!I21 -> 57 | J21: =universe!J21 -> 141
A22: =universe!A22 -> Autonomous Region of Madeira | B22: =LEFT(universe!B22,FIND(")",universe!B22)) -> Large (100-199) | C22: =universe!C22 -> 1 | D22: =universe!D22 -> 0 | E22: =universe!E22 -> 1 | F22: =universe!F22 -> 1 | G22: =universe!G22 -> 8 | H22: =universe!H22 -> 3 | I22: =universe!I22 -> 14 | J22: =universe!J22 -> 11
C23: =SUM(C2:C22) -> 2827 | D23: =SUM(D2:D22) -> 2536 | E23: =SUM(E2:E22) -> 3491 | F23: =SUM(F2:F22) -> 11011 | G23: =SUM(G2:G22) -> 14943 | H23: =SUM(H2:H22) -> 11954 | I23: =SUM(I2:I22) -> 2240 | J23: =SUM(J2:J22) -> 39717 | K23: =SUM(K2:K21) -> 88719
A24: Source: INEI business registry February 2023

Sheet Table 2 Frame
C1: =RIGHT(SUBSTITUTE('frame fresh and panel'!C1,"_"," "),LEN(SUBSTITUTE('frame fresh and panel'!C1,"_"," "))-1) -> Food | D1: =RIGHT(SUBSTITUTE('frame fresh and panel'!D1,"_"," "),LEN(SUBSTITUTE('frame fresh and panel'!D1,"_"," "))-1) -> Garments | E1: =RIGHT(SUBSTITUTE('frame fresh and panel'!E1,"_"," "),LEN(SUBSTITUTE('frame fresh and panel'!E1,"_"," "))-1) -> Fabricated Metal Products | F1: =RIGHT(SUBSTITUTE('frame fresh and panel'!F1,"_"," "),LEN(SUBSTITUTE('frame fresh and panel'!F1,"_"," "))-1) -> Other Manufacturing | G1: =RIGHT(SUBSTITUTE('frame fresh and panel'!G1,"_"," "),LEN(SUBSTITUTE('frame fresh and panel'!G1,"_"," "))-1) -> Construction | H1: =RIGHT(SUBSTITUTE('frame fresh and panel'!H1,"_"," "),LEN(SUBSTITUTE('frame fresh and panel'!H1,"_"," "))-1) -> Retail | I1: =RIGHT(SUBSTITUTE('frame fresh and panel'!I1,"_"," "),LEN(SUBSTITUTE('frame fresh and panel'!I1,"_"," "))-1) -> Hotels | J1: =RIGHT(SUBSTITUTE('frame fresh and panel'!J1,"_"," "),LEN(SUBSTITUTE('frame fresh and panel'!J1,"_"," "))-1) -> Other Services | K1: =RIGHT(SUBSTITUTE('frame fresh and panel'!K1,"_"," "),LEN(SUBSTITUTE('frame fresh and panel'!K1,"_"," "))-1) -> Grand Total
A2: ='frame fresh and panel'!A2 -> North | B2: =LEFT('frame fresh and panel'!B2,FIND(")",'frame fresh and panel'!B2)) -> Small (5-19) | C2: ='frame fresh and panel'!C2 -> 643 | D2: ='frame fresh and panel'!D2 -> 1357 | E2: ='frame fresh and panel'!E2 -> 1200 | F2: ='frame fresh and panel'!F2 -> 3965 | G2: ='frame fresh and panel'!G2 -> 4931 | H2: ='frame fresh and panel'!H2 -> 3503 | I2: ='frame fresh and panel'!I2 -> 354 | J2: ='frame fresh and panel'!J2 -> 10749 | K2: =SUM(C2:J4) -> 34476
A3: ='frame fresh and panel'!A3 -> North | B3: =LEFT('frame fresh and panel'!B3,FIND(")",'frame fresh and panel'!B3)) -> Medium (20-99) | C3: ='frame fresh and panel'!C3 -> 175 | D3: ='frame fresh and panel'!D3 -> 794 | E3: ='frame fresh and panel'!E3 -> 396 | F3: ='frame fresh and panel'!F3 -> 1914 | G3: ='frame fresh and panel'!G3 -> 1102 | H3: ='frame fresh and panel'!H3 -> 438 | I3: ='frame fresh and panel'!I3 -> 100 | J3: ='frame fresh and panel'!J3 -> 1800
A4: ='frame fresh and panel'!A4 -> North | B4: =LEFT('frame fresh and panel'!B4,FIND(")",'frame fresh and panel'!B4)) -> Large (100 or more) | C4: ='frame fresh and panel'!C4 -> 45 | D4: ='frame fresh and panel'!D4 -> 115 | E4: ='frame fresh and panel'!E4 -> 67 | F4: ='frame fresh and panel'!F4 -> 392 | G4: ='frame fresh and panel'!G4 -> 99 | H4: ='frame fresh and panel'!H4 -> 64 | I4: ='frame fresh and panel'!I4 -> 13 | J4: ='frame fresh and panel'!J4 -> 260
A5: ='frame fresh and panel'!A5 -> Algarve | B5: =LEFT('frame fresh and panel'!B5,FIND(")",'frame fresh and panel'!B5)) -> Small (5-19) | C5: ='frame fresh and panel'!C5 -> 77 | D5: ='frame fresh and panel'!D5 -> 2 | E5: ='frame fresh and panel'!E5 -> 61 | F5: ='frame fresh and panel'!F5 -> 132 | G5: ='frame fresh and panel'!G5 -> 802 | H5: ='frame fresh and panel'!H5 -> 573 | I5: ='frame fresh and panel'!I5 -> 217 | J5: ='frame fresh and panel'!J5 -> 1814 | K5: =SUM(C5:J7) -> 4342
A6: ='frame fresh and panel'!A6 -> Algarve | B6: =LEFT('frame fresh and panel'!B6,FIND(")",'frame fresh and panel'!B6)) -> Medium (20-99) | C6: ='frame fresh and panel'!C6 -> 25 | D6: ='frame fresh and panel'!D6 -> 0 | E6: ='frame fresh and panel'!E6 -> 5 | F6: ='frame fresh and panel'!F6 -> 22 | G6: ='frame fresh and panel'!G6 -> 115 | H6: ='frame fresh and panel'!H6 -> 81 | I6: ='frame fresh and panel'!I6 -> 110 | J6: ='frame fresh and panel'!J6 -> 239
A7: ='frame fresh and panel'!A7 -> Algarve | B7: =LEFT('frame fresh and panel'!B7,FIND(")",'frame fresh and panel'!B7)) -> Large (100 or more) | C7: ='frame fresh and panel'!C7 -> 0 | D7: ='frame fresh and panel'!D7 -> 0 | E7: ='frame fresh and panel'!E7 -> 0 | F7: ='frame fresh and panel'!F7 -> 2 | G7: ='frame fresh and panel'!G7 -> 6 | H7: ='frame fresh and panel'!H7 -> 7 | I7: ='frame fresh and panel'!I7 -> 35 | J7: ='frame fresh and panel'!J7 -> 17
A8: ='frame fresh and panel'!A8 -> Center | B8: =LEFT('frame fresh and panel'!B8,FIND(")",'frame fresh and panel'!B8)) -> Small (5-19) | C8: ='frame fresh and panel'!C8 -> 561 | D8: ='frame fresh and panel'!D8 -> 53 | E8: ='frame fresh and panel'!E8 -> 823 | F8: ='frame fresh and panel'!F8 -> 1507 | G8: ='frame fresh and panel'!G8 -> 2596 | H8: ='frame fresh and panel'!H8 -> 2281 | I8: ='frame fresh and panel'!I8 -> 271 | J8: ='frame fresh and panel'!J8 -> 6384 | K8: =SUM(C8:J10) -> 18231
A9: ='frame fresh and panel'!A9 -> Center | B9: =LEFT('frame fresh and panel'!B9,FIND(")",'frame fresh and panel'!B9)) -> Medium (20-99) | C9: ='frame fresh and panel'!C9 -> 213 | D9: ='frame fresh and panel'!D9 -> 46 | E9: ='frame fresh and panel'!E9 -> 335 | F9: ='frame fresh and panel'!F9 -> 797 | G9: ='frame fresh and panel'!G9 -> 440 | H9: ='frame fresh and panel'!H9 -> 306 | I9: ='frame fresh and panel'!I9 -> 72 | J9: ='frame fresh and panel'!J9 -> 999
A10: ='frame fresh and panel'!A10 -> Center | B10: =LEFT('frame fresh and panel'!B10,FIND(")",'frame fresh and panel'!B10)) -> Large (100 or more) | C10: ='frame fresh and panel'!C10 -> 52 | D10: ='frame fresh and panel'!D10 -> 26 | E10: ='frame fresh and panel'!E10 -> 53 | F10: ='frame fresh and panel'!F10 -> 234 | G10: ='frame fresh and panel'!G10 -> 33 | H10: ='frame fresh and panel'!H10 -> 15 | I10: ='frame fresh and panel'!I10 -> 3 | J10: ='frame fresh and panel'!J10 -> 131
A11: ='frame fresh and panel'!A11 -> Lisbon Metropolitan Area | B11: =LEFT('frame fresh and panel'!B11,FIND(")",'frame fresh and panel'!B11)) -> Small (5-19) | C11: ='frame fresh and panel'!C11 -> 220 | D11: ='frame fresh and panel'!D11 -> 21 | E11: ='frame fresh and panel'!E11 -> 325 | F11: ='frame fresh and panel'!F11 -> 901 | G11: ='frame fresh and panel'!G11 -> 2675 | H11: ='frame fresh and panel'!H11 -> 2495 | I11: ='frame fresh and panel'!I11 -> 389 | J11: ='frame fresh and panel'!J11 -> 9549 | K11: =SUM(C11:J13) -> 21381
A12: ='frame fresh and panel'!A12 -> Lisbon Metropolitan Area | B12: =LEFT('frame fresh and panel'!B12,FIND(")",'frame fresh and panel'!B12)) -> Medium (20-99) | C12: ='frame fresh and panel'!C12 -> 122 | D12: ='frame fresh and panel'!D12 -> 11 | E12: ='frame fresh and panel'!E12 -> 91 | F12: ='frame fresh and panel'!F12 -> 335 | G12: ='frame fresh and panel'!G12 -> 574 | H12: ='frame fresh and panel'!H12 -> 400 | I12: ='frame fresh and panel'!I12 -> 192 | J12: ='frame fresh and panel'!J12 -> 2225
A13: ='frame fresh and panel'!A13 -> Lisbon Metropolitan Area | B13: =LEFT('frame fresh and panel'!B13,FIND(")",'frame fresh and panel'!B13)) -> Large (100 or more) | C13: ='frame fresh and panel'!C13 -> 33 | D13: ='frame fresh and panel'!D13 -> 3 | E13: ='frame fresh and panel'!E13 -> 14 | F13: ='frame fresh and panel'!F13 -> 120 | G13: ='frame fresh and panel'!G13 -> 81 | H13: ='frame fresh and panel'!H13 -> 92 | I13: ='frame fresh and panel'!I13 -> 38 | J13: ='frame fresh and panel'!J13 -> 475
A14: ='frame fresh and panel'!A14 -> Alentejo | B14: =LEFT('frame fresh and panel'!B14,FIND(")",'frame fresh and panel'!B14)) -> Small (5-19) | C14: ='frame fresh and panel'!C14 -> 204 | D14: ='frame fresh and panel'!D14 -> 4 | E14: ='frame fresh and panel'!E14 -> 73 | F14: ='frame fresh and panel'!F14 -> 295 | G14: ='frame fresh and panel'!G14 -> 555 | H14: ='frame fresh and panel'!H14 -> 613 | I14: ='frame fresh and panel'!I14 -> 116 | J14: ='frame fresh and panel'!J14 -> 1632 | K14: =SUM(C14:J16) -> 4263
A15: ='frame fresh and panel'!A15 -> Alentejo | B15: =LEFT('frame fresh and panel'!B15,FIND(")",'frame fresh and panel'!B15)) -> Medium (20-99) | C15: ='frame fresh and panel'!C15 -> 75 | D15: ='frame fresh and panel'!D15 -> 1 | E15: ='frame fresh and panel'!E15 -> 25 | F15: ='frame fresh and panel'!F15 -> 117 | G15: ='frame fresh and panel'!G15 -> 95 | H15: ='frame fresh and panel'!H15 -> 111 | I15: ='frame fresh and panel'!I15 -> 27 | J15: ='frame fresh and panel'!J15 -> 227
A16: ='frame fresh and panel'!A16 -> Alentejo | B16: =LEFT('frame fresh and panel'!B16,FIND(")",'frame fresh and panel'!B16)) -> Large (100 or more) | C16: ='frame fresh and panel'!C16 -> 16 | D16: ='frame fresh and panel'!D16 -> 1 | E16: ='frame fresh and panel'!E16 -> 2 | F16: ='frame fresh and panel'!F16 -> 36 | G16: ='frame fresh and panel'!G16 -> 7 | H16: ='frame fresh and panel'!H16 -> 0 | I16: ='frame fresh and panel'!I16 -> 4 | J16: ='frame fresh and panel'!J16 -> 27
A17: ='frame fresh and panel'!A17 -> Autonomous Region of the Azores | B17: =LEFT('frame fresh and panel'!B17,FIND(")",'frame fresh and panel'!B17)) -> Small (5-19) | C17: ='frame fresh and panel'!C17 -> 44 | D17: ='frame fresh and panel'!D17 -> 0 | E17: ='frame fresh and panel'!E17 -> 30 | F17: ='frame fresh and panel'!F17 -> 59 | G17: ='frame fresh and panel'!G17 -> 191 | H17: ='frame fresh and panel'!H17 -> 251 | I17: ='frame fresh and panel'!I17 -> 58 | J17: ='frame fresh and panel'!J17 -> 572 | K17: =SUM(C17:J19) -> 1558
A18: ='frame fresh and panel'!A18 -> Autonomous Region of the Azores | B18: =LEFT('frame fresh and panel'!B18,FIND(")",'frame fresh and panel'!B18)) -> Medium (20-99) | C18: ='frame fresh and panel'!C18 -> 30 | D18: ='frame fresh and panel'!D18 -> 0 | E18: ='frame fresh and panel'!E18 -> 7 | F18: ='frame fresh and panel'!F18 -> 16 | G18: ='frame fresh and panel'!G18 -> 72 | H18: ='frame fresh and panel'!H18 -> 38 | I18: ='frame fresh and panel'!I18 -> 26 | J18: ='frame fresh and panel'!J18 -> 118
A19: ='frame fresh and panel'!A19 -> Autonomous Region of the Azores | B19: =LEFT('frame fresh and panel'!B19,FIND(")",'frame fresh and panel'!B19)) -> Large (100 or more) | C19: ='frame fresh and panel'!C19 -> 8 | D19: ='frame fresh and panel'!D19 -> 0 | E19: ='frame fresh and panel'!E19 -> 1 | F19: ='frame fresh and panel'!F19 -> 2 | G19: ='frame fresh and panel'!G19 -> 5 | H19: ='frame fresh and panel'!H19 -> 10 | I19: ='frame fresh and panel'!I19 -> 8 | J19: ='frame fresh and panel'!J19 -> 12
A20: ='frame fresh and panel'!A20 -> Autonomous Region of Madeira | B20: =LEFT('frame fresh and panel'!B20,FIND(")",'frame fresh and panel'!B20)) -> Small (5-19) | C20: ='frame fresh and panel'!C20 -> 45 | D20: ='frame fresh and panel'!D20 -> 0 | E20: ='frame fresh and panel'!E20 -> 27 | F20: ='frame fresh and panel'!F20 -> 81 | G20: ='frame fresh and panel'!G20 -> 256 | H20: ='frame fresh and panel'!H20 -> 272 | I20: ='frame fresh and panel'!I20 -> 57 | J20: ='frame fresh and panel'!J20 -> 821 | K20: =SUM(C20:J22) -> 1986
A21: ='frame fresh and panel'!A21 -> Autonomous Region of Madeira | B21: =LEFT('frame fresh and panel'!B21,FIND(")",'frame fresh and panel'!B21)) -> Medium (20-99) | C21: ='frame fresh and panel'!C21 -> 20 | D21: ='frame fresh and panel'!D21 -> 0 | E21: ='frame fresh and panel'!E21 -> 10 | F21: ='frame fresh and panel'!F21 -> 15 | G21: ='frame fresh and panel'!G21 -> 82 | H21: ='frame fresh and panel'!H21 -> 37 | I21: ='frame fresh and panel'!I21 -> 59 | J21: ='frame fresh and panel'!J21 -> 147
A22: ='frame fresh and panel'!A22 -> Autonomous Region of Madeira | B22: =LEFT('frame fresh and panel'!B22,FIND(")",'frame fresh and panel'!B22)) -> Large (100 or more) | C22: ='frame fresh and panel'!C22 -> 2 | D22: ='frame fresh and panel'!D22 -> 0 | E22: ='frame fresh and panel'!E22 -> 0 | F22: ='frame fresh and panel'!F22 -> 2 | G22: ='frame fresh and panel'!G22 -> 14 | H22: ='frame fresh and panel'!H22 -> 3 | I22: ='frame fresh and panel'!I22 -> 15 | J22: ='frame fresh and panel'!J22 -> 21
C23: =SUM(C2:C22) -> 2610 | D23: =SUM(D2:D22) -> 2434 | E23: =SUM(E2:E22) -> 3545 | F23: =SUM(F2:F22) -> 10944 | G23: =SUM(G2:G22) -> 14731 | H23: =SUM(H2:H22) -> 11590 | I23: =SUM(I2:I22) -> 2164 | J23: =SUM(J2:J22) -> 38219 | K23: =SUM(K2:K22) -> 86237
A24: Source: Bureau van Dijk

Sheet Table 3 Original Survey Design
C1: =RIGHT(SUBSTITUTE('original survey design'!C1,"_"," "),LEN(SUBSTITUTE('original survey design'!C1,"_"," "))-1) -> Food | D1: =RIGHT(SUBSTITUTE('original survey design'!D1,"_"," "),LEN(SUBSTITUTE('original survey design'!D1,"_"," "))-1) -> Garments | E1: =RIGHT(SUBSTITUTE('original survey design'!E1,"_"," "),LEN(SUBSTITUTE('original survey design'!E1,"_"," "))-1) -> Fabricated Metal Products | F1: =RIGHT(SUBSTITUTE('original survey design'!F1,"_"," "),LEN(SUBSTITUTE('original survey design'!F1,"_"," "))-1) -> Other Manufacturing | G1: =RIGHT(SUBSTITUTE('original survey design'!G1,"_"," "),LEN(SUBSTITUTE('original survey design'!G1,"_"," "))-1) -> Construction | H1: =RIGHT(SUBSTITUTE('original survey design'!H1,"_"," "),LEN(SUBSTITUTE('original survey design'!H1,"_"," "))-1) -> Retail | I1: =RIGHT(SUBSTITUTE('original survey design'!I1,"_"," "),LEN(SUBSTITUTE('original survey design'!I1,"_"," "))-1) -> Hotels | J1: =RIGHT(SUBSTITUTE('original survey design'!J1,"_"," "),LEN(SUBSTITUTE('original survey design'!J1,"_"," "))-1) -> Other Services | K1: =RIGHT(SUBSTITUTE('original survey design'!K1,"_"," "),LEN(SUBSTITUTE('original survey design'!K1,"_"," "))-1) -> Grand Total
A2: ='original survey design'!A2 -> North | B2: =LEFT('original survey design'!B2,FIND(")",'original survey design'!B2)) -> Small (5-19) | C2: ='original survey design'!C2 -> 4 | D2: ='original survey design'!D2 -> 19 | E2: ='original survey design'!E2 -> 5 | F2: ='original survey design'!F2 -> 18 | G2: ='original survey design'!G2 -> 17 | H2: ='original survey design'!H2 -> 11 | I2: ='original survey design'!I2 -> 2 | J2: ='original survey design'!J2 -> 29 | K2: =SUM(C2:J4) -> 210
A3: ='original survey design'!A3 -> North | B3: =LEFT('original survey design'!B3,FIND(")",'original survey design'!B3)) -> Medium (20-99) | C3: ='original survey design'!C3 -> 4 | D3: ='original survey design'!D3 -> 22 | E3: ='original survey design'!E3 -> 4 | F3: ='original survey design'!F3 -> 6 | G3: ='original survey design'!G3 -> 5 | H3: ='original survey design'!H3 -> 4 | I3: ='original survey design'!I3 -> 2 | J3: ='original survey design'!J3 -> 6
A4: ='original survey design'!A4 -> North | B4: =LEFT('original survey design'!B4,FIND(")",'original survey design'!B4)) -> Large (100-199) | C4: ='original survey design'!C4 -> 5 | D4: ='original survey design'!D4 -> 20 | E4: ='original survey design'!E4 -> 7 | F4: ='original survey design'!F4 -> 5 | G4: ='original survey design'!G4 -> 4 | H4: ='original survey design'!H4 -> 4 | I4: ='original survey design'!I4 -> 3 | J4: ='original survey design'!J4 -> 4
A5: ='original survey design'!A5 -> Algarve | B5: =LEFT('original survey design'!B5,FIND(")",'original survey design'!B5)) -> Small (5-19) | C5: ='original survey design'!C5 -> 8 | D5: ='original survey design'!D5 -> 2 | E5: ='original survey design'!E5 -> 10 | F5: ='original survey design'!F5 -> 4 | G5: ='original survey design'!G5 -> 2 | H5: ='original survey design'!H5 -> 5 | I5: ='original survey design'!I5 -> 4 | J5: ='original survey design'!J5 -> 7 | K5: =SUM(C5:J7) -> 120
A6: ='original survey design'!A6 -> Algarve | B6: =LEFT('original survey design'!B6,FIND(")",'original survey design'!B6)) -> Medium (20-99) | C6: ='original survey design'!C6 -> 10 | D6: ='original survey design'!D6 -> 0 | E6: ='original survey design'!E6 -> 3 | F6: ='original survey design'!F6 -> 8 | G6: ='original survey design'!G6 -> 3 | H6: ='original survey design'!H6 -> 11 | I6: ='original survey design'!I6 -> 16 | J6: ='original survey design'!J6 -> 4
A7: ='original survey design'!A7 -> Algarve | B7: =LEFT('original survey design'!B7,FIND(")",'original survey design'!B7)) -> Large (100-199) | C7: ='original survey design'!C7 -> 0 | D7: ='original survey design'!D7 -> 0 | E7: ='original survey design'!E7 -> 0 | F7: ='original survey design'!F7 -> 2 | G7: ='original survey design'!G7 -> 2 | H7: ='original survey design'!H7 -> 3 | I7: ='original survey design'!I7 -> 13 | J7: ='original survey design'!J7 -> 3
A8: ='original survey design'!A8 -> Center | B8: =LEFT('original survey design'!B8,FIND(")",'original survey design'!B8)) -> Small (5-19) | C8: ='original survey design'!C8 -> 4 | D8: ='original survey design'!D8 -> 10 | E8: ='original survey design'!E8 -> 9 | F8: ='original survey design'!F8 -> 6 | G8: ='original survey design'!G8 -> 9 | H8: ='original survey design'!H8 -> 9 | I8: ='original survey design'!I8 -> 2 | J8: ='original survey design'!J8 -> 21 | K8: =SUM(C8:J10) -> 180
A9: ='original survey design'!A9 -> Center | B9: =LEFT('original survey design'!B9,FIND(")",'original survey design'!B9)) -> Medium (20-99) | C9: ='original survey design'!C9 -> 7 | D9: ='original survey design'!D9 -> 16 | E9: ='original survey design'!E9 -> 6 | F9: ='original survey design'!F9 -> 7 | G9: ='original survey design'!G9 -> 3 | H9: ='original survey design'!H9 -> 4 | I9: ='original survey design'!I9 -> 2 | J9: ='original survey design'!J9 -> 5
A10: ='original survey design'!A10 -> Center | B10: =LEFT('original survey design'!B10,FIND(")",'original survey design'!B10)) -> Large (100-199) | C10: ='original survey design'!C10 -> 5 | D10: ='original survey design'!D10 -> 11 | E10: ='original survey design'!E10 -> 11 | F10: ='original survey design'!F10 -> 17 | G10: ='original survey design'!G10 -> 5 | H10: ='original survey design'!H10 -> 6 | I10: ='original survey design'!I10 -> 1 | J10: ='original survey design'!J10 -> 4
A11: ='original survey design'!A11 -> Lisbon Metropolitan Area | B11: =LEFT('original survey design'!B11,FIND(")",'original survey design'!B11)) -> Small (5-19) | C11: ='original survey design'!C11 -> 4 | D11: ='original survey design'!D11 -> 7 | E11: ='original survey design'!E11 -> 7 | F11: ='original survey design'!F11 -> 4 | G11: ='original survey design'!G11 -> 10 | H11: ='original survey design'!H11 -> 15 | I11: ='original survey design'!I11 -> 3 | J11: ='original survey design'!J11 -> 29 | K11: =SUM(C11:J13) -> 180
A12: ='original survey design'!A12 -> Lisbon Metropolitan Area | B12: =LEFT('original survey design'!B12,FIND(")",'original survey design'!B12)) -> Medium (20-99) | C12: ='original survey design'!C12 -> 4 | D12: ='original survey design'!D12 -> 5 | E12: ='original survey design'!E12 -> 6 | F12: ='original survey design'!F12 -> 5 | G12: ='original survey design'!G12 -> 2 | H12: ='original survey design'!H12 -> 5 | I12: ='original survey design'!I12 -> 5 | J12: ='original survey design'!J12 -> 10
A13: ='original survey design'!A13 -> Lisbon Metropolitan Area | B13: =LEFT('original survey design'!B13,FIND(")",'original survey design'!B13)) -> Large (100-199) | C13: ='original survey design'!C13 -> 7 | D13: ='original survey design'!D13 -> 2 | E13: ='original survey design'!E13 -> 5 | F13: ='original survey design'!F13 -> 16 | G13: ='original survey design'!G13 -> 8 | H13: ='original survey design'!H13 -> 7 | I13: ='original survey design'!I13 -> 8 | J13: ='original survey design'!J13 -> 6
A14: ='original survey design'!A14 -> Alentejo | B14: =LEFT('original survey design'!B14,FIND(")",'original survey design'!B14)) -> Small (5-19) | C14: ='original survey design'!C14 -> 8 | D14: ='original survey design'!D14 -> 3 | E14: ='original survey design'!E14 -> 11 | F14: ='original survey design'!F14 -> 4 | G14: ='original survey design'!G14 -> 2 | H14: ='original survey design'!H14 -> 6 | I14: ='original survey design'!I14 -> 2 | J14: ='original survey design'!J14 -> 6 | K14: =SUM(C14:J16) -> 120
A15: ='original survey design'!A15 -> Alentejo | B15: =LEFT('original survey design'!B15,FIND(")",'original survey design'!B15)) -> Medium (20-99) | C15: ='original survey design'!C15 -> 8 | D15: ='original survey design'!D15 -> 1 | E15: ='original survey design'!E15 -> 8 | F15: ='original survey design'!F15 -> 14 | G15: ='original survey design'!G15 -> 3 | H15: ='original survey design'!H15 -> 4 | I15: ='original survey design'!I15 -> 7 | J15: ='original survey design'!J15 -> 4
A16: ='original survey design'!A16 -> Alentejo | B16: =LEFT('original survey design'!B16,FIND(")",'original survey design'!B16)) -> Large (100-199) | C16: ='original survey design'!C16 -> 6 | D16: ='original survey design'!D16 -> 1 | E16: ='original survey design'!E16 -> 2 | F16: ='original survey design'!F16 -> 10 | G16: ='original survey design'!G16 -> 3 | H16: ='original survey design'!H16 -> 0 | I16: ='original survey design'!I16 -> 2 | J16: ='original survey design'!J16 -> 5
A17: ='original survey design'!A17 -> Autonomous Region of the Azores | B17: =LEFT('original survey design'!B17,FIND(")",'original survey design'!B17)) -> Small (5-19) | C17: ='original survey design'!C17 -> 8 | D17: ='original survey design'!D17 -> 0 | E17: ='original survey design'!E17 -> 9 | F17: ='original survey design'!F17 -> 9 | G17: ='original survey design'!G17 -> 3 | H17: ='original survey design'!H17 -> 7 | I17: ='original survey design'!I17 -> 12 | J17: ='original survey design'!J17 -> 4 | K17: =SUM(C17:J19) -> 120
A18: ='original survey design'!A18 -> Autonomous Region of the Azores | B18: =LEFT('original survey design'!B18,FIND(")",'original survey design'!B18)) -> Medium (20-99) | C18: ='original survey design'!C18 -> 11 | D18: ='original survey design'!D18 -> 0 | E18: ='original survey design'!E18 -> 3 | F18: ='original survey design'!F18 -> 8 | G18: ='original survey design'!G18 -> 13 | H18: ='original survey design'!H18 -> 4 | I18: ='original survey design'!I18 -> 6 | J18: ='original survey design'!J18 -> 3
A19: ='original survey design'!A19 -> Autonomous Region of the Azores | B19: =LEFT('original survey design'!B19,FIND(")",'original survey design'!B19)) -> Large (100-199) | C19: ='original survey design'!C19 -> 4 | D19: ='original survey design'!D19 -> 0 | E19: ='original survey design'!E19 -> 1 | F19: ='original survey design'!F19 -> 2 | G19: ='original survey design'!G19 -> 3 | H19: ='original survey design'!H19 -> 4 | I19: ='original survey design'!I19 -> 2 | J19: ='original survey design'!J19 -> 4
A20: ='original survey design'!A20 -> Autonomous Region of Madeira | B20: =LEFT('original survey design'!B20,FIND(")",'original survey design'!B20)) -> Small (5-19) | C20: ='original survey design'!C20 -> 4 | D20: ='original survey design'!D20 -> 1 | E20: ='original survey design'!E20 -> 9 | F20: ='original survey design'!F20 -> 8 | G20: ='original survey design'!G20 -> 4 | H20: ='original survey design'!H20 -> 5 | I20: ='original survey design'!I20 -> 12 | J20: ='original survey design'!J20 -> 6 | K20: =SUM(C20:J22) -> 120
A21: ='original survey design'!A21 -> Autonomous Region of Madeira | B21: =LEFT('original survey design'!B21,FIND(")",'original survey design'!B21)) -> Medium (20-99) | C21: ='original survey design'!C21 -> 7 | D21: ='original survey design'!D21 -> 0 | E21: ='original survey design'!E21 -> 4 | F21: ='original survey design'!F21 -> 5 | G21: ='original survey design'!G21 -> 16 | H21: ='original survey design'!H21 -> 4 | I21: ='original survey design'!I21 -> 12 | J21: ='original survey design'!J21 -> 5
A22: ='original survey design'!A22 -> Autonomous Region of Madeira | B22: =LEFT('original survey design'!B22,FIND(")",'original survey design'!B22)) -> Large (100-199) | C22: ='original survey design'!C22 -> 2 | D22: ='original survey design'!D22 -> 0 | E22: ='original survey design'!E22 -> 0 | F22: ='original survey design'!F22 -> 2 | G22: ='original survey design'!G22 -> 3 | H22: ='original survey design'!H22 -> 2 | I22: ='original survey design'!I22 -> 4 | J22: ='original survey design'!J22 -> 5
C23: =SUM(C2:C22) -> 120 | D23: =SUM(D2:D22) -> 120 | E23: =SUM(E2:E22) -> 120 | F23: =SUM(F2:F22) -> 160 | G23: =SUM(G2:G22) -> 120 | H23: =SUM(H2:H22) -> 120 | I23: =SUM(I2:I22) -> 120 | J23: =SUM(J2:J22) -> 170 | K23: =SUM(K2:K22) -> 1050

Sheet Table 4 Response Outcomes
D2: Totals | E2: Rates relative to total contacted
B3: Overall | C3: Contacts available in frame | D3: 86237
C4: Issued | D4: 6194
C5: Contacted | D5: 5992
B6: Screening phase | C6: Eligibles | D6: 3070 | E6: =D6/D$5 -> 0.5123498
C7: Screener refusals | D7: 139 | E7: =D7/D$5 -> 0.023197597
C8: Assumed eligibles | D8: 3210 | E8: =D8/D$5 -> 0.53571429
C9: Ineligible + out of target | D9: 196 | E9: =D9/D$5 -> 0.03271028
C10: Unobtainables | D10: 2586 | E10: =D10/D$5 -> 0.43157543
B11: Interview phase | C11: Interview refusals | D11: 1930 | E11: =D11/D$5 -> 0.32209613
B12: (only if eligible) | C12: Complete interviews | D12: 1007 | E12: =D12/D$5 -> 0.16805741

Sheet Table 5 Survey Yield Rates
C2: Stratification | D2: Yield | E2: Survey response rate | F2: Frame quality
B3: Panel | C3: Fresh | D3: =VLOOKUP($C3,'yield calculation'!$C:$F,2,FALSE) -> 0.141785 | E3: =VLOOKUP($C3,'yield calculation'!$C:$F,3,FALSE) -> 0.28185484 | F3: =VLOOKUP($C3,'yield calculation'!$C:$F,4,FALSE) -> 0.50304258
C4: Panel | D4: =VLOOKUP($C4,'yield calculation'!$C:$F,2,FALSE) -> 0.29001883 | E4: =VLOOKUP($C4,'yield calculation'!$C:$F,3,FALSE) -> 0.4219178 | F4: =VLOOKUP($C4,'yield calculation'!$C:$F,4,FALSE) -> 0.68738228
B5: Size | C5: Small (5-19) | D5: =VLOOKUP($C5,'yield calculation'!$C:$F,2,FALSE) -> 0.1518777 | E5: =VLOOKUP($C5,'yield calculation'!$C:$F,3,FALSE) -> 0.29771987 | F5: =VLOOKUP($C5,'yield calculation'!$C:$F,4,FALSE) -> 0.51013625
C6: Medium (20-99) | D6: =VLOOKUP($C6,'yield calculation'!$C:$F,2,FALSE) -> 0.17412399 | E6: =VLOOKUP($C6,'yield calculation'!$C:$F,3,FALSE) -> 0.32494971 | F6: =VLOOKUP($C6,'yield calculation'!$C:$F,4,FALSE) -> 0.53584903
C7: Large (100+) | D7: =VLOOKUP($C7,'yield calculation'!$C:$F,2,FALSE) -> 0.20124114 | E7: =VLOOKUP($C7,'yield calculation'!$C:$F,3,FALSE) -> 0.33333334 | F7: =VLOOKUP($C7,'yield calculation'!$C:$F,4,FALSE) -> 0.60372341
B8: Region | C8: North | D8: =VLOOKUP($C8,'yield calculation'!$C:$F,2,FALSE) -> 0.14700316 | E8: =VLOOKUP($C8,'yield calculation'!$C:$F,3,FALSE) -> 0.29568529 | F8: =VLOOKUP($C8,'yield calculation'!$C:$F,4,FALSE) -> 0.49716088
C9: Algarve | D9: =VLOOKUP($C9,'yield calculation'!$C:$F,2,FALSE) -> 0.1811723 | E9: =VLOOKUP($C9,'yield calculation'!$C:$F,3,FALSE) -> 0.31974921 | F9: =VLOOKUP($C9,'yield calculation'!$C:$F,4,FALSE) -> 0.56660748
C10: Center | D10: =VLOOKUP($C10,'yield calculation'!$C:$F,2,FALSE) -> 0.15407263 | E10: =VLOOKUP($C10,'yield calculation'!$C:$F,3,FALSE) -> 0.26929674 | F10: =VLOOKUP($C10,'yield calculation'!$C:$F,4,FALSE) -> 0.57212955
C11: Lisbon Metropolitan Area | D11: =VLOOKUP($C11,'yield calculation'!$C:$F,2,FALSE) -> 0.13201581 | E11: =VLOOKUP($C11,'yield calculation'!$C:$F,3,FALSE) -> 0.25692308 | F11: =VLOOKUP($C11,'yield calculation'!$C:$F,4,FALSE) -> 0.513834
C12: Alentejo | D12: =VLOOKUP($C12,'yield calculation'!$C:$F,2,FALSE) -> 0.17576791 | E12: =VLOOKUP($C12,'yield calculation'!$C:$F,3,FALSE) -> 0.30654761 | F12: =VLOOKUP($C12,'yield calculation'!$C:$F,4,FALSE) -> 0.57337886
C13: Autonomous Region of the Azores | D13: =VLOOKUP($C13,'yield calculation'!$C:$F,2,FALSE) -> 0.28018224 | E13: =VLOOKUP($C13,'yield calculation'!$C:$F,3,FALSE) -> 0.4522059 | F13: =VLOOKUP($C13,'yield calculation'!$C:$F,4,FALSE) -> 0.61958998
C14: Autonomous Region of Madeira | D14: =VLOOKUP($C14,'yield calculation'!$C:$F,2,FALSE) -> 0.22803739 | E14: =VLOOKUP($C14,'yield calculation'!$C:$F,3,FALSE) -> 0.46564886 | F14: =VLOOKUP($C14,'yield calculation'!$C:$F,4,FALSE) -> 0.48971963
B15: Sector | C15: Food | D15: =VLOOKUP($C15,'yield calculation'!$C:$F,2,FALSE) -> 0.19962686 | E15: =VLOOKUP($C15,'yield calculation'!$C:$F,3,FALSE) -> 0.36643836 | F15: =VLOOKUP($C15,'yield calculation'!$C:$F,4,FALSE) -> 0.54477614
C16: Garments | D16: =VLOOKUP($C16,'yield calculation'!$C:$F,2,FALSE) -> 0.12820514 | E16: =VLOOKUP($C16,'yield calculation'!$C:$F,3,FALSE) -> 0.25 | F16: =VLOOKUP($C16,'yield calculation'!$C:$F,4,FALSE) -> 0.51282054
C17: Fabricated Metal Products | D17: =VLOOKUP($C17,'yield calculation'!$C:$F,2,FALSE) -> 0.19130434 | E17: =VLOOKUP($C17,'yield calculation'!$C:$F,3,FALSE) -> 0.31884059 | F17: =VLOOKUP($C17,'yield calculation'!$C:$F,4,FALSE) -> 0.60000002
C18: Other Manufacturing | D18: =VLOOKUP($C18,'yield calculation'!$C:$F,2,FALSE) -> 0.19583844 | E18: =VLOOKUP($C18,'yield calculation'!$C:$F,3,FALSE) -> 0.33195022 | F18: =VLOOKUP($C18,'yield calculation'!$C:$F,4,FALSE) -> 0.58996326
C19: Construction | D19: =VLOOKUP($C19,'yield calculation'!$C:$F,2,FALSE) -> 0.15264423 | E19: =VLOOKUP($C19,'yield calculation'!$C:$F,3,FALSE) -> 0.34986225 | F19: =VLOOKUP($C19,'yield calculation'!$C:$F,4,FALSE) -> 0.43629807
C20: Retail | D20: =VLOOKUP($C20,'yield calculation'!$C:$F,2,FALSE) -> 0.13135068 | E20: =VLOOKUP($C20,'yield calculation'!$C:$F,3,FALSE) -> 0.24537037 | F20: =VLOOKUP($C20,'yield calculation'!$C:$F,4,FALSE) -> 0.53531599
C21: Hotels | D21: =VLOOKUP($C21,'yield calculation'!$C:$F,2,FALSE) -> 0.19623233 | E21: =VLOOKUP($C21,'yield calculation'!$C:$F,3,FALSE) -> 0.34153005 | F21: =VLOOKUP($C21,'yield calculation'!$C:$F,4,FALSE) -> 0.57456827
C22: Other Services | D22: =VLOOKUP($C22,'yield calculation'!$C:$F,2,FALSE) -> 0.17063493 | E22: =VLOOKUP($C22,'yield calculation'!$C:$F,3,FALSE) -> 0.32452831 | F22: =VLOOKUP($C22,'yield calculation'!$C:$F,4,FALSE) -> 0.52579367
B23: Overall | C23: Portugal 2023 | D23: =VLOOKUP($C23,'yield calculation'!$C:$F,2,FALSE) -> 0.16805741 | E23: =VLOOKUP($C23,'yield calculation'!$C:$F,3,FALSE) -> 0.31370717 | F23: =VLOOKUP($C23,'yield calculation'!$C:$F,4,FALSE) -> 0.53571427
B24: Notes: the rates are calculated as defined in Section III.4

Sheet Table 6 Achieved Total Sample 
C1: =RIGHT(SUBSTITUTE('achieved fresh and panel'!C1,"_"," "),LEN(SUBSTITUTE('achieved fresh and panel'!C1,"_"," "))-1) -> Food | D1: =RIGHT(SUBSTITUTE('achieved fresh and panel'!D1,"_"," "),LEN(SUBSTITUTE('achieved fresh and panel'!D1,"_"," "))-1) -> Garments | E1: =RIGHT(SUBSTITUTE('achieved fresh and panel'!E1,"_"," "),LEN(SUBSTITUTE('achieved fresh and panel'!E1,"_"," "))-1) -> Fabricated Metal Products | F1: =RIGHT(SUBSTITUTE('achieved fresh and panel'!F1,"_"," "),LEN(SUBSTITUTE('achieved fresh and panel'!F1,"_"," "))-1) -> Other Manufacturing | G1: =RIGHT(SUBSTITUTE('achieved fresh and panel'!G1,"_"," "),LEN(SUBSTITUTE('achieved fresh and panel'!G1,"_"," "))-1) -> Construction | H1: =RIGHT(SUBSTITUTE('achieved fresh and panel'!H1,"_"," "),LEN(SUBSTITUTE('achieved fresh and panel'!H1,"_"," "))-1) -> Retail | I1: =RIGHT(SUBSTITUTE('achieved fresh and panel'!I1,"_"," "),LEN(SUBSTITUTE('achieved fresh and panel'!I1,"_"," "))-1) -> Hotels | J1: =RIGHT(SUBSTITUTE('achieved fresh and panel'!J1,"_"," "),LEN(SUBSTITUTE('achieved fresh and panel'!J1,"_"," "))-1) -> Other Services | K1: =RIGHT(SUBSTITUTE('achieved fresh and panel'!K1,"_"," "),LEN(SUBSTITUTE('achieved fresh and panel'!K1,"_"," "))-1) -> Grand Total
A2: ='achieved fresh and panel'!A2 -> North | B2: =LEFT('achieved fresh and panel'!B2,FIND(")",'achieved fresh and panel'!B2)) -> Small (5-19) | C2: ='achieved fresh and panel'!C2 -> 4 | D2: ='achieved fresh and panel'!D2 -> 25 | E2: ='achieved fresh and panel'!E2 -> 8 | F2: ='achieved fresh and panel'!F2 -> 21 | G2: ='achieved fresh and panel'!G2 -> 17 | H2: ='achieved fresh and panel'!H2 -> 15 | I2: ='achieved fresh and panel'!I2 -> 3 | J2: ='achieved fresh and panel'!J2 -> 30 | K2: =SUM(C2:J4) -> 233
A3: ='achieved fresh and panel'!A3 -> North | B3: =LEFT('achieved fresh and panel'!B3,FIND(")",'achieved fresh and panel'!B3)) -> Medium (20-99) | C3: ='achieved fresh and panel'!C3 -> 6 | D3: ='achieved fresh and panel'!D3 -> 18 | E3: ='achieved fresh and panel'!E3 -> 7 | F3: ='achieved fresh and panel'!F3 -> 10 | G3: ='achieved fresh and panel'!G3 -> 4 | H3: ='achieved fresh and panel'!H3 -> 5 | I3: ='achieved fresh and panel'!I3 -> 2 | J3: ='achieved fresh and panel'!J3 -> 4
A4: ='achieved fresh and panel'!A4 -> North | B4: =LEFT('achieved fresh and panel'!B4,FIND(")",'achieved fresh and panel'!B4)) -> Large (100 or more) | C4: ='achieved fresh and panel'!C4 -> 6 | D4: ='achieved fresh and panel'!D4 -> 22 | E4: ='achieved fresh and panel'!E4 -> 8 | F4: ='achieved fresh and panel'!F4 -> 6 | G4: ='achieved fresh and panel'!G4 -> 3 | H4: ='achieved fresh and panel'!H4 -> 2 | I4: ='achieved fresh and panel'!I4 -> 1 | J4: ='achieved fresh and panel'!J4 -> 6
A5: ='achieved fresh and panel'!A5 -> Algarve | B5: =LEFT('achieved fresh and panel'!B5,FIND(")",'achieved fresh and panel'!B5)) -> Small (5-19) | C5: ='achieved fresh and panel'!C5 -> 6 | D5: ='achieved fresh and panel'!D5 -> 1 | E5: ='achieved fresh and panel'!E5 -> 10 | F5: ='achieved fresh and panel'!F5 -> 5 | G5: ='achieved fresh and panel'!G5 -> 2 | H5: ='achieved fresh and panel'!H5 -> 4 | I5: ='achieved fresh and panel'!I5 -> 1 | J5: ='achieved fresh and panel'!J5 -> 11 | K5: =SUM(C5:J7) -> 102
A6: ='achieved fresh and panel'!A6 -> Algarve | B6: =LEFT('achieved fresh and panel'!B6,FIND(")",'achieved fresh and panel'!B6)) -> Medium (20-99) | C6: ='achieved fresh and panel'!C6 -> 6 | D6: ='achieved fresh and panel'!D6 -> 0 | E6: ='achieved fresh and panel'!E6 -> 3 | F6: ='achieved fresh and panel'!F6 -> 6 | G6: ='achieved fresh and panel'!G6 -> 2 | H6: ='achieved fresh and panel'!H6 -> 7 | I6: ='achieved fresh and panel'!I6 -> 14 | J6: ='achieved fresh and panel'!J6 -> 3
A7: ='achieved fresh and panel'!A7 -> Algarve | B7: =LEFT('achieved fresh and panel'!B7,FIND(")",'achieved fresh and panel'!B7)) -> Large (100 or more) | C7: ='achieved fresh and panel'!C7 -> 0 | D7: ='achieved fresh and panel'!D7 -> 0 | E7: ='achieved fresh and panel'!E7 -> 0 | F7: ='achieved fresh and panel'!F7 -> 2 | G7: ='achieved fresh and panel'!G7 -> 2 | H7: ='achieved fresh and panel'!H7 -> 3 | I7: ='achieved fresh and panel'!I7 -> 10 | J7: ='achieved fresh and panel'!J7 -> 4
A8: ='achieved fresh and panel'!A8 -> Center | B8: =LEFT('achieved fresh and panel'!B8,FIND(")",'achieved fresh and panel'!B8)) -> Small (5-19) | C8: ='achieved fresh and panel'!C8 -> 5 | D8: ='achieved fresh and panel'!D8 -> 9 | E8: ='achieved fresh and panel'!E8 -> 9 | F8: ='achieved fresh and panel'!F8 -> 9 | G8: ='achieved fresh and panel'!G8 -> 8 | H8: ='achieved fresh and panel'!H8 -> 7 | I8: ='achieved fresh and panel'!I8 -> 5 | J8: ='achieved fresh and panel'!J8 -> 25 | K8: =SUM(C8:J10) -> 157
A9: ='achieved fresh and panel'!A9 -> Center | B9: =LEFT('achieved fresh and panel'!B9,FIND(")",'achieved fresh and panel'!B9)) -> Medium (20-99) | C9: ='achieved fresh and panel'!C9 -> 3 | D9: ='achieved fresh and panel'!D9 -> 9 | E9: ='achieved fresh and panel'!E9 -> 4 | F9: ='achieved fresh and panel'!F9 -> 5 | G9: ='achieved fresh and panel'!G9 -> 3 | H9: ='achieved fresh and panel'!H9 -> 2 | I9: ='achieved fresh and panel'!I9 -> 2 | J9: ='achieved fresh and panel'!J9 -> 3
A10: ='achieved fresh and panel'!A10 -> Center | B10: =LEFT('achieved fresh and panel'!B10,FIND(")",'achieved fresh and panel'!B10)) -> Large (100 or more) | C10: ='achieved fresh and panel'!C10 -> 3 | D10: ='achieved fresh and panel'!D10 -> 7 | E10: ='achieved fresh and panel'!E10 -> 10 | F10: ='achieved fresh and panel'!F10 -> 14 | G10: ='achieved fresh and panel'!G10 -> 5 | H10: ='achieved fresh and panel'!H10 -> 3 | I10: ='achieved fresh and panel'!I10 -> 0 | J10: ='achieved fresh and panel'!J10 -> 7
A11: ='achieved fresh and panel'!A11 -> Lisbon Metropolitan Area | B11: =LEFT('achieved fresh and panel'!B11,FIND(")",'achieved fresh and panel'!B11)) -> Small (5-19) | C11: ='achieved fresh and panel'!C11 -> 2 | D11: ='achieved fresh and panel'!D11 -> 2 | E11: ='achieved fresh and panel'!E11 -> 2 | F11: ='achieved fresh and panel'!F11 -> 7 | G11: ='achieved fresh and panel'!G11 -> 14 | H11: ='achieved fresh and panel'!H11 -> 10 | I11: ='achieved fresh and panel'!I11 -> 3 | J11: ='achieved fresh and panel'!J11 -> 28 | K11: =SUM(C11:J13) -> 167
A12: ='achieved fresh and panel'!A12 -> Lisbon Metropolitan Area | B12: =LEFT('achieved fresh and panel'!B12,FIND(")",'achieved fresh and panel'!B12)) -> Medium (20-99) | C12: ='achieved fresh and panel'!C12 -> 2 | D12: ='achieved fresh and panel'!D12 -> 4 | E12: ='achieved fresh and panel'!E12 -> 7 | F12: ='achieved fresh and panel'!F12 -> 11 | G12: ='achieved fresh and panel'!G12 -> 3 | H12: ='achieved fresh and panel'!H12 -> 3 | I12: ='achieved fresh and panel'!I12 -> 6 | J12: ='achieved fresh and panel'!J12 -> 6
A13: ='achieved fresh and panel'!A13 -> Lisbon Metropolitan Area | B13: =LEFT('achieved fresh and panel'!B13,FIND(")",'achieved fresh and panel'!B13)) -> Large (100 or more) | C13: ='achieved fresh and panel'!C13 -> 7 | D13: ='achieved fresh and panel'!D13 -> 0 | E13: ='achieved fresh and panel'!E13 -> 4 | F13: ='achieved fresh and panel'!F13 -> 9 | G13: ='achieved fresh and panel'!G13 -> 14 | H13: ='achieved fresh and panel'!H13 -> 12 | I13: ='achieved fresh and panel'!I13 -> 7 | J13: ='achieved fresh and panel'!J13 -> 4
A14: ='achieved fresh and panel'!A14 -> Alentejo | B14: =LEFT('achieved fresh and panel'!B14,FIND(")",'achieved fresh and panel'!B14)) -> Small (5-19) | C14: ='achieved fresh and panel'!C14 -> 5 | D14: ='achieved fresh and panel'!D14 -> 2 | E14: ='achieved fresh and panel'!E14 -> 11 | F14: ='achieved fresh and panel'!F14 -> 5 | G14: ='achieved fresh and panel'!G14 -> 3 | H14: ='achieved fresh and panel'!H14 -> 6 | I14: ='achieved fresh and panel'!I14 -> 2 | J14: ='achieved fresh and panel'!J14 -> 7 | K14: =SUM(C14:J16) -> 103
A15: ='achieved fresh and panel'!A15 -> Alentejo | B15: =LEFT('achieved fresh and panel'!B15,FIND(")",'achieved fresh and panel'!B15)) -> Medium (20-99) | C15: ='achieved fresh and panel'!C15 -> 7 | D15: ='achieved fresh and panel'!D15 -> 1 | E15: ='achieved fresh and panel'!E15 -> 7 | F15: ='achieved fresh and panel'!F15 -> 14 | G15: ='achieved fresh and panel'!G15 -> 3 | H15: ='achieved fresh and panel'!H15 -> 2 | I15: ='achieved fresh and panel'!I15 -> 6 | J15: ='achieved fresh and panel'!J15 -> 3
A16: ='achieved fresh and panel'!A16 -> Alentejo | B16: =LEFT('achieved fresh and panel'!B16,FIND(")",'achieved fresh and panel'!B16)) -> Large (100 or more) | C16: ='achieved fresh and panel'!C16 -> 4 | D16: ='achieved fresh and panel'!D16 -> 0 | E16: ='achieved fresh and panel'!E16 -> 0 | F16: ='achieved fresh and panel'!F16 -> 6 | G16: ='achieved fresh and panel'!G16 -> 2 | H16: ='achieved fresh and panel'!H16 -> 0 | I16: ='achieved fresh and panel'!I16 -> 2 | J16: ='achieved fresh and panel'!J16 -> 5
A17: ='achieved fresh and panel'!A17 -> Autonomous Region of the Azores | B17: =LEFT('achieved fresh and panel'!B17,FIND(")",'achieved fresh and panel'!B17)) -> Small (5-19) | C17: ='achieved fresh and panel'!C17 -> 11 | D17: ='achieved fresh and panel'!D17 -> 0 | E17: ='achieved fresh and panel'!E17 -> 8 | F17: ='achieved fresh and panel'!F17 -> 11 | G17: ='achieved fresh and panel'!G17 -> 2 | H17: ='achieved fresh and panel'!H17 -> 5 | I17: ='achieved fresh and panel'!I17 -> 24 | J17: ='achieved fresh and panel'!J17 -> 2 | K17: =SUM(C17:J19) -> 123
A18: ='achieved fresh and panel'!A18 -> Autonomous Region of the Azores | B18: =LEFT('achieved fresh and panel'!B18,FIND(")",'achieved fresh and panel'!B18)) -> Medium (20-99) | C18: ='achieved fresh and panel'!C18 -> 9 | D18: ='achieved fresh and panel'!D18 -> 0 | E18: ='achieved fresh and panel'!E18 -> 0 | F18: ='achieved fresh and panel'!F18 -> 8 | G18: ='achieved fresh and panel'!G18 -> 16 | H18: ='achieved fresh and panel'!H18 -> 6 | I18: ='achieved fresh and panel'!I18 -> 8 | J18: ='achieved fresh and panel'!J18 -> 3
A19: ='achieved fresh and panel'!A19 -> Autonomous Region of the Azores | B19: =LEFT('achieved fresh and panel'!B19,FIND(")",'achieved fresh and panel'!B19)) -> Large (100 or more) | C19: ='achieved fresh and panel'!C19 -> 1 | D19: ='achieved fresh and panel'!D19 -> 0 | E19: ='achieved fresh and panel'!E19 -> 1 | F19: ='achieved fresh and panel'!F19 -> 0 | G19: ='achieved fresh and panel'!G19 -> 1 | H19: ='achieved fresh and panel'!H19 -> 4 | I19: ='achieved fresh and panel'!I19 -> 1 | J19: ='achieved fresh and panel'!J19 -> 2
A20: ='achieved fresh and panel'!A20 -> Autonomous Region of Madeira | B20: =LEFT('achieved fresh and panel'!B20,FIND(")",'achieved fresh and panel'!B20)) -> Small (5-19) | C20: ='achieved fresh and panel'!C20 -> 8 | D20: ='achieved fresh and panel'!D20 -> 0 | E20: ='achieved fresh and panel'!E20 -> 7 | F20: ='achieved fresh and panel'!F20 -> 6 | G20: ='achieved fresh and panel'!G20 -> 6 | H20: ='achieved fresh and panel'!H20 -> 3 | I20: ='achieved fresh and panel'!I20 -> 9 | J20: ='achieved fresh and panel'!J20 -> 6 | K20: =SUM(C20:J22) -> 122
A21: ='achieved fresh and panel'!A21 -> Autonomous Region of Madeira | B21: =LEFT('achieved fresh and panel'!B21,FIND(")",'achieved fresh and panel'!B21)) -> Medium (20-99) | C21: ='achieved fresh and panel'!C21 -> 10 | D21: ='achieved fresh and panel'!D21 -> 0 | E21: ='achieved fresh and panel'!E21 -> 4 | F21: ='achieved fresh and panel'!F21 -> 4 | G21: ='achieved fresh and panel'!G21 -> 16 | H21: ='achieved fresh and panel'!H21 -> 6 | I21: ='achieved fresh and panel'!I21 -> 14 | J21: ='achieved fresh and panel'!J21 -> 6
A22: ='achieved fresh and panel'!A22 -> Autonomous Region of Madeira | B22: =LEFT('achieved fresh and panel'!B22,FIND(")",'achieved fresh and panel'!B22)) -> Large (100 or more) | C22: ='achieved fresh and panel'!C22 -> 2 | D22: ='achieved fresh and panel'!D22 -> 0 | E22: ='achieved fresh and panel'!E22 -> 0 | F22: ='achieved fresh and panel'!F22 -> 1 | G22: ='achieved fresh and panel'!G22 -> 1 | H22: ='achieved fresh and panel'!H22 -> 1 | I22: ='achieved fresh and panel'!I22 -> 5 | J22: ='achieved fresh and panel'!J22 -> 7
C23: =SUM(C2:C22) -> 107 | D23: =SUM(D2:D22) -> 100 | E23: =SUM(E2:E22) -> 110 | F23: =SUM(F2:F22) -> 160 | G23: =SUM(G2:G22) -> 127 | H23: =SUM(H2:H22) -> 106 | I23: =SUM(I2:I22) -> 125 | J23: =SUM(J2:J22) -> 172 | K23: =SUM(K2:K22) -> 1007

Sheet Table 7 Achieved Panel Sample
C1: =RIGHT(SUBSTITUTE('achieved panel'!C1,"_"," "),LEN(SUBSTITUTE('achieved panel'!C1,"_"," "))-1) -> Food | D1: =RIGHT(SUBSTITUTE('achieved panel'!D1,"_"," "),LEN(SUBSTITUTE('achieved panel'!D1,"_"," "))-1) -> Garments | E1: =RIGHT(SUBSTITUTE('achieved panel'!E1,"_"," "),LEN(SUBSTITUTE('achieved panel'!E1,"_"," "))-1) -> Fabricated Metal Products | F1: =RIGHT(SUBSTITUTE('achieved panel'!F1,"_"," "),LEN(SUBSTITUTE('achieved panel'!F1,"_"," "))-1) -> Other Manufacturing | G1: =RIGHT(SUBSTITUTE('achieved panel'!G1,"_"," "),LEN(SUBSTITUTE('achieved panel'!G1,"_"," "))-1) -> Construction | H1: =RIGHT(SUBSTITUTE('achieved panel'!H1,"_"," "),LEN(SUBSTITUTE('achieved panel'!H1,"_"," "))-1) -> Retail | I1: =RIGHT(SUBSTITUTE('achieved panel'!I1,"_"," "),LEN(SUBSTITUTE('achieved panel'!I1,"_"," "))-1) -> Hotels | J1: =RIGHT(SUBSTITUTE('achieved panel'!J1,"_"," "),LEN(SUBSTITUTE('achieved panel'!J1,"_"," "))-1) -> Other Services | K1: =RIGHT(SUBSTITUTE('achieved panel'!K1,"_"," "),LEN(SUBSTITUTE('achieved panel'!K1,"_"," "))-1) -> Grand Total
A2: ='achieved panel'!A2 -> North | B2: =LEFT('achieved panel'!B2,FIND(")",'achieved panel'!B2)) -> Small (5-19) | C2: ='achieved panel'!C2 -> 2 | D2: ='achieved panel'!D2 -> 9 | E2: ='achieved panel'!E2 -> 3 | F2: ='achieved panel'!F2 -> 9 | G2: ='achieved panel'!G2 -> 2 | H2: ='achieved panel'!H2 -> 2 | I2: ='achieved panel'!I2 -> 0 | J2: ='achieved panel'!J2 -> 7 | K2: =SUM(C2:J4) -> 74
A3: ='achieved panel'!A3 -> North | B3: =LEFT('achieved panel'!B3,FIND(")",'achieved panel'!B3)) -> Medium (20-99) | C3: ='achieved panel'!C3 -> 2 | D3: ='achieved panel'!D3 -> 5 | E3: ='achieved panel'!E3 -> 5 | F3: ='achieved panel'!F3 -> 3 | G3: ='achieved panel'!G3 -> 0 | H3: ='achieved panel'!H3 -> 3 | I3: ='achieved panel'!I3 -> 0 | J3: ='achieved panel'!J3 -> 0
A4: ='achieved panel'!A4 -> North | B4: =LEFT('achieved panel'!B4,FIND(")",'achieved panel'!B4)) -> Large (100 or more) | C4: ='achieved panel'!C4 -> 4 | D4: ='achieved panel'!D4 -> 9 | E4: ='achieved panel'!E4 -> 2 | F4: ='achieved panel'!F4 -> 4 | G4: ='achieved panel'!G4 -> 0 | H4: ='achieved panel'!H4 -> 0 | I4: ='achieved panel'!I4 -> 0 | J4: ='achieved panel'!J4 -> 3
A5: ='achieved panel'!A5 -> Algarve | B5: =LEFT('achieved panel'!B5,FIND(")",'achieved panel'!B5)) -> Small (5-19) | C5: ='achieved panel'!C5 -> 4 | D5: ='achieved panel'!D5 -> 1 | E5: ='achieved panel'!E5 -> 6 | F5: ='achieved panel'!F5 -> 1 | G5: ='achieved panel'!G5 -> 0 | H5: ='achieved panel'!H5 -> 3 | I5: ='achieved panel'!I5 -> 0 | J5: ='achieved panel'!J5 -> 2 | K5: =SUM(C5:J7) -> 45
A6: ='achieved panel'!A6 -> Algarve | B6: =LEFT('achieved panel'!B6,FIND(")",'achieved panel'!B6)) -> Medium (20-99) | C6: ='achieved panel'!C6 -> 5 | D6: ='achieved panel'!D6 -> 0 | E6: ='achieved panel'!E6 -> 1 | F6: ='achieved panel'!F6 -> 5 | G6: ='achieved panel'!G6 -> 0 | H6: ='achieved panel'!H6 -> 5 | I6: ='achieved panel'!I6 -> 1 | J6: ='achieved panel'!J6 -> 1
A7: ='achieved panel'!A7 -> Algarve | B7: =LEFT('achieved panel'!B7,FIND(")",'achieved panel'!B7)) -> Large (100 or more) | C7: ='achieved panel'!C7 -> 0 | D7: ='achieved panel'!D7 -> 0 | E7: ='achieved panel'!E7 -> 0 | F7: ='achieved panel'!F7 -> 2 | G7: ='achieved panel'!G7 -> 0 | H7: ='achieved panel'!H7 -> 2 | I7: ='achieved panel'!I7 -> 5 | J7: ='achieved panel'!J7 -> 1
A8: ='achieved panel'!A8 -> Center | B8: =LEFT('achieved panel'!B8,FIND(")",'achieved panel'!B8)) -> Small (5-19) | C8: ='achieved panel'!C8 -> 2 | D8: ='achieved panel'!D8 -> 0 | E8: ='achieved panel'!E8 -> 5 | F8: ='achieved panel'!F8 -> 4 | G8: ='achieved panel'!G8 -> 1 | H8: ='achieved panel'!H8 -> 3 | I8: ='achieved panel'!I8 -> 0 | J8: ='achieved panel'!J8 -> 2 | K8: =SUM(C8:J10) -> 48
A9: ='achieved panel'!A9 -> Center | B9: =LEFT('achieved panel'!B9,FIND(")",'achieved panel'!B9)) -> Medium (20-99) | C9: ='achieved panel'!C9 -> 1 | D9: ='achieved panel'!D9 -> 0 | E9: ='achieved panel'!E9 -> 0 | F9: ='achieved panel'!F9 -> 5 | G9: ='achieved panel'!G9 -> 0 | H9: ='achieved panel'!H9 -> 0 | I9: ='achieved panel'!I9 -> 0 | J9: ='achieved panel'!J9 -> 1
A10: ='achieved panel'!A10 -> Center | B10: =LEFT('achieved panel'!B10,FIND(")",'achieved panel'!B10)) -> Large (100 or more) | C10: ='achieved panel'!C10 -> 0 | D10: ='achieved panel'!D10 -> 4 | E10: ='achieved panel'!E10 -> 3 | F10: ='achieved panel'!F10 -> 12 | G10: ='achieved panel'!G10 -> 1 | H10: ='achieved panel'!H10 -> 1 | I10: ='achieved panel'!I10 -> 0 | J10: ='achieved panel'!J10 -> 3
A11: ='achieved panel'!A11 -> Lisbon Metropolitan Area | B11: =LEFT('achieved panel'!B11,FIND(")",'achieved panel'!B11)) -> Small (5-19) | C11: ='achieved panel'!C11 -> 1 | D11: ='achieved panel'!D11 -> 1 | E11: ='achieved panel'!E11 -> 1 | F11: ='achieved panel'!F11 -> 5 | G11: ='achieved panel'!G11 -> 0 | H11: ='achieved panel'!H11 -> 0 | I11: ='achieved panel'!I11 -> 1 | J11: ='achieved panel'!J11 -> 5 | K11: =SUM(C11:J13) -> 43
A12: ='achieved panel'!A12 -> Lisbon Metropolitan Area | B12: =LEFT('achieved panel'!B12,FIND(")",'achieved panel'!B12)) -> Medium (20-99) | C12: ='achieved panel'!C12 -> 0 | D12: ='achieved panel'!D12 -> 2 | E12: ='achieved panel'!E12 -> 3 | F12: ='achieved panel'!F12 -> 7 | G12: ='achieved panel'!G12 -> 0 | H12: ='achieved panel'!H12 -> 1 | I12: ='achieved panel'!I12 -> 0 | J12: ='achieved panel'!J12 -> 1
A13: ='achieved panel'!A13 -> Lisbon Metropolitan Area | B13: =LEFT('achieved panel'!B13,FIND(")",'achieved panel'!B13)) -> Large (100 or more) | C13: ='achieved panel'!C13 -> 2 | D13: ='achieved panel'!D13 -> 0 | E13: ='achieved panel'!E13 -> 0 | F13: ='achieved panel'!F13 -> 7 | G13: ='achieved panel'!G13 -> 0 | H13: ='achieved panel'!H13 -> 4 | I13: ='achieved panel'!I13 -> 0 | J13: ='achieved panel'!J13 -> 2
A14: ='achieved panel'!A14 -> Alentejo | B14: =LEFT('achieved panel'!B14,FIND(")",'achieved panel'!B14)) -> Small (5-19) | C14: ='achieved panel'!C14 -> 3 | D14: ='achieved panel'!D14 -> 1 | E14: ='achieved panel'!E14 -> 5 | F14: ='achieved panel'!F14 -> 4 | G14: ='achieved panel'!G14 -> 0 | H14: ='achieved panel'!H14 -> 2 | I14: ='achieved panel'!I14 -> 0 | J14: ='achieved panel'!J14 -> 1 | K14: =SUM(C14:J16) -> 45
A15: ='achieved panel'!A15 -> Alentejo | B15: =LEFT('achieved panel'!B15,FIND(")",'achieved panel'!B15)) -> Medium (20-99) | C15: ='achieved panel'!C15 -> 4 | D15: ='achieved panel'!D15 -> 1 | E15: ='achieved panel'!E15 -> 4 | F15: ='achieved panel'!F15 -> 12 | G15: ='achieved panel'!G15 -> 0 | H15: ='achieved panel'!H15 -> 0 | I15: ='achieved panel'!I15 -> 0 | J15: ='achieved panel'!J15 -> 1
A16: ='achieved panel'!A16 -> Alentejo | B16: =LEFT('achieved panel'!B16,FIND(")",'achieved panel'!B16)) -> Large (100 or more) | C16: ='achieved panel'!C16 -> 2 | D16: ='achieved panel'!D16 -> 0 | E16: ='achieved panel'!E16 -> 0 | F16: ='achieved panel'!F16 -> 2 | G16: ='achieved panel'!G16 -> 1 | H16: ='achieved panel'!H16 -> 0 | I16: ='achieved panel'!I16 -> 0 | J16: ='achieved panel'!J16 -> 2
A17: ='achieved panel'!A17 -> Autonomous Region of the Azores | B17: =LEFT('achieved panel'!B17,FIND(")",'achieved panel'!B17)) -> Small (5-19) | C17: ='achieved panel'!C17 -> 4 | D17: ='achieved panel'!D17 -> 0 | E17: ='achieved panel'!E17 -> 5 | F17: ='achieved panel'!F17 -> 5 | G17: ='achieved panel'!G17 -> 0 | H17: ='achieved panel'!H17 -> 3 | I17: ='achieved panel'!I17 -> 0 | J17: ='achieved panel'!J17 -> 0 | K17: =SUM(C17:J19) -> 32
A18: ='achieved panel'!A18 -> Autonomous Region of the Azores | B18: =LEFT('achieved panel'!B18,FIND(")",'achieved panel'!B18)) -> Medium (20-99) | C18: ='achieved panel'!C18 -> 4 | D18: ='achieved panel'!D18 -> 0 | E18: ='achieved panel'!E18 -> 0 | F18: ='achieved panel'!F18 -> 6 | G18: ='achieved panel'!G18 -> 0 | H18: ='achieved panel'!H18 -> 2 | I18: ='achieved panel'!I18 -> 0 | J18: ='achieved panel'!J18 -> 0
A19: ='achieved panel'!A19 -> Autonomous Region of the Azores | B19: =LEFT('achieved panel'!B19,FIND(")",'achieved panel'!B19)) -> Large (100 or more) | C19: ='achieved panel'!C19 -> 0 | D19: ='achieved panel'!D19 -> 0 | E19: ='achieved panel'!E19 -> 1 | F19: ='achieved panel'!F19 -> 0 | G19: ='achieved panel'!G19 -> 1 | H19: ='achieved panel'!H19 -> 1 | I19: ='achieved panel'!I19 -> 0 | J19: ='achieved panel'!J19 -> 0
A20: ='achieved panel'!A20 -> Autonomous Region of Madeira | B20: =LEFT('achieved panel'!B20,FIND(")",'achieved panel'!B20)) -> Small (5-19) | C20: ='achieved panel'!C20 -> 1 | D20: ='achieved panel'!D20 -> 0 | E20: ='achieved panel'!E20 -> 1 | F20: ='achieved panel'!F20 -> 2 | G20: ='achieved panel'!G20 -> 0 | H20: ='achieved panel'!H20 -> 1 | I20: ='achieved panel'!I20 -> 0 | J20: ='achieved panel'!J20 -> 3 | K20: =SUM(C20:J22) -> 21
A21: ='achieved panel'!A21 -> Autonomous Region of Madeira | B21: =LEFT('achieved panel'!B21,FIND(")",'achieved panel'!B21)) -> Medium (20-99) | C21: ='achieved panel'!C21 -> 3 | D21: ='achieved panel'!D21 -> 0 | E21: ='achieved panel'!E21 -> 1 | F21: ='achieved panel'!F21 -> 2 | G21: ='achieved panel'!G21 -> 0 | H21: ='achieved panel'!H21 -> 0 | I21: ='achieved panel'!I21 -> 0 | J21: ='achieved panel'!J21 -> 3
A22: ='achieved panel'!A22 -> Autonomous Region of Madeira | B22: =LEFT('achieved panel'!B22,FIND(")",'achieved panel'!B22)) -> Large (100 or more) | C22: ='achieved panel'!C22 -> 2 | D22: ='achieved panel'!D22 -> 0 | E22: ='achieved panel'!E22 -> 0 | F22: ='achieved panel'!F22 -> 1 | G22: ='achieved panel'!G22 -> 0 | H22: ='achieved panel'!H22 -> 1 | I22: ='achieved panel'!I22 -> 0 | J22: ='achieved panel'!J22 -> 0
C23: =SUM(C2:C22) -> 46 | D23: =SUM(D2:D22) -> 33 | E23: =SUM(E2:E22) -> 46 | F23: =SUM(F2:F22) -> 98 | G23: =SUM(G2:G22) -> 6 | H23: =SUM(H2:H22) -> 34 | I23: =SUM(I2:I22) -> 7 | J23: =SUM(J2:J22) -> 38 | K23: =SUM(K2:K22) -> 308

Sheet Table 8 Weak Universe Estimates
C1: =RIGHT(SUBSTITUTE(universe_weak!C1,"_"," "),LEN(SUBSTITUTE(universe_weak!C1,"_"," "))-1) -> Food | D1: =RIGHT(SUBSTITUTE(universe_weak!D1,"_"," "),LEN(SUBSTITUTE(universe_weak!D1,"_"," "))-1) -> Garments | E1: =RIGHT(SUBSTITUTE(universe_weak!E1,"_"," "),LEN(SUBSTITUTE(universe_weak!E1,"_"," "))-1) -> Fabricated Metal Products | F1: =RIGHT(SUBSTITUTE(universe_weak!F1,"_"," "),LEN(SUBSTITUTE(universe_weak!F1,"_"," "))-1) -> Other Manufacturing | G1: =RIGHT(SUBSTITUTE(universe_weak!G1,"_"," "),LEN(SUBSTITUTE(universe_weak!G1,"_"," "))-1) -> Construction | H1: =RIGHT(SUBSTITUTE(universe_weak!H1,"_"," "),LEN(SUBSTITUTE(universe_weak!H1,"_"," "))-1) -> Retail | I1: =RIGHT(SUBSTITUTE(universe_weak!I1,"_"," "),LEN(SUBSTITUTE(universe_weak!I1,"_"," "))-1) -> Hotels | J1: =RIGHT(SUBSTITUTE(universe_weak!J1,"_"," "),LEN(SUBSTITUTE(universe_weak!J1,"_"," "))-1) -> Other Services | K1: =RIGHT(SUBSTITUTE(universe_weak!K1,"_"," "),LEN(SUBSTITUTE(universe_weak!K1,"_"," "))-1) -> Grand Total
A2: =universe_weak!A2 -> North | B2: =LEFT(universe_weak!B2,FIND(")",universe_weak!B2)) -> Small (5-19) | C2: =universe_weak!C2 -> 690.55164 | D2: =universe_weak!D2 -> 1358.1202 | E2: =universe_weak!E2 -> 1156.266 | F2: =universe_weak!F2 -> 3944.6311 | G2: =universe_weak!G2 -> 4734.4707 | H2: =universe_weak!H2 -> 3430.2791 | I2: =universe_weak!I2 -> 356.38895 | J2: =universe_weak!J2 -> 10619.019 | K2: =SUM(C2:J4) -> 33745.907
A3: =universe_weak!A3 -> North | B3: =LEFT(universe_weak!B3,FIND(")",universe_weak!B3)) -> Medium (20-99) | C3: =universe_weak!C3 -> 169.50682 | D3: =universe_weak!D3 -> 752.72083 | E3: =universe_weak!E3 -> 379.46432 | F3: =universe_weak!F3 -> 1834.0016 | G3: =universe_weak!G3 -> 1049.9038 | H3: =universe_weak!H3 -> 417.9523 | I3: =universe_weak!I3 -> 108.75484 | J3: =universe_weak!J3 -> 1730.2909
A4: =universe_weak!A4 -> North | B4: =LEFT(universe_weak!B4,FIND(")",universe_weak!B4)) -> Large (100 or more) | C4: =universe_weak!C4 -> 43.950722 | D4: =universe_weak!D4 -> 107.49298 | E4: =universe_weak!E4 -> 64.737343 | F4: =universe_weak!F4 -> 378.74615 | G4: =universe_weak!G4 -> 95.105896 | H4: =universe_weak!H4 -> 61.579605 | I4: =universe_weak!I4 -> 12.728532 | J4: =universe_weak!J4 -> 249.24442
A5: =universe_weak!A5 -> Algarve | B5: =LEFT(universe_weak!B5,FIND(")",universe_weak!B5)) -> Small (5-19) | C5: =universe_weak!C5 -> 92.6073 | D5: =universe_weak!D5 -> 2.8930063 | E5: =universe_weak!E5 -> 60.745461 | F5: =universe_weak!F5 -> 131.44376 | G5: =universe_weak!G5 -> 812.86664 | H5: =universe_weak!H5 -> 584.08514 | I5: =universe_weak!I5 -> 230.07727 | J5: =universe_weak!J5 -> 1992.7916 | K5: =SUM(C5:J7) -> 4591.5891
A6: =universe_weak!A6 -> Algarve | B6: =LEFT(universe_weak!B6,FIND(")",universe_weak!B6)) -> Medium (20-99) | C6: =universe_weak!C6 -> 25.026297 | D6: =universe_weak!D6 -> 0 | E6: =universe_weak!E6 -> 4.9516869 | F6: =universe_weak!F6 -> 21.786524 | G6: =universe_weak!G6 -> 118.15623 | H6: =universe_weak!H6 -> 79.881287 | I6: =universe_weak!I6 -> 110.39025 | J6: =universe_weak!J6 -> 254.48076
A7: =universe_weak!A7 -> Algarve | B7: =LEFT(universe_weak!B7,FIND(")",universe_weak!B7)) -> Large (100 or more) | C7: =universe_weak!C7 -> 0 | D7: =universe_weak!D7 -> 0 | E7: =universe_weak!E7 -> 0 | F7: =universe_weak!F7 -> 2 | G7: =universe_weak!G7 -> 5.9570465 | H7: =universe_weak!H7 -> 6.9608531 | I7: =universe_weak!I7 -> 37.645405 | J7: =universe_weak!J7 -> 16.842575
A8: =universe_weak!A8 -> Center | B8: =LEFT(universe_weak!B8,FIND(")",universe_weak!B8)) -> Small (5-19) | C8: =universe_weak!C8 -> 606.12683 | D8: =universe_weak!D8 -> 50.483658 | E8: =universe_weak!E8 -> 822.16553 | F8: =universe_weak!F8 -> 1514.2976 | G8: =universe_weak!G8 -> 2669.6243 | H8: =universe_weak!H8 -> 2313.0105 | I8: =universe_weak!I8 -> 271.39172 | J8: =universe_weak!J8 -> 6416.2012 | K8: =SUM(C8:J11) -> 18381.048
A9: =universe_weak!A9 -> Center | B9: =LEFT(universe_weak!B9,FIND(")",universe_weak!B9)) -> Medium (20-99) | C9: =universe_weak!C9 -> 218.7448 | D9: =universe_weak!D9 -> 45.469006 | E9: =universe_weak!E9 -> 329.99084 | F9: =universe_weak!F9 -> 768.57532 | G9: =universe_weak!G9 -> 428.36786 | H9: =universe_weak!H9 -> 320.80771 | I9: =universe_weak!I9 -> 0 | J9: =universe_weak!J9 -> 978.30328
A10: =universe_weak!A10 -> Center | B10: =LEFT(universe_weak!B10,FIND(")",universe_weak!B10)) -> Large (100 or more) | C10: =universe_weak!C10 -> 51.898304 | D10: =universe_weak!D10 -> 24.834301 | E10: =universe_weak!E10 -> 52.330185 | F10: =universe_weak!F10 -> 231.03316 | G10: =universe_weak!G10 -> 32.395336 | H10: =universe_weak!H10 -> 14.748386 | I10: =universe_weak!I10 -> 0 | J10: =universe_weak!J10 -> 128.32748
A11: =universe_weak!A11 -> Center | B11: =LEFT(universe_weak!B11,FIND(")",universe_weak!B11)) -> Medium and Large (20+) | C11: =universe_weak!C11 -> 0 | D11: =universe_weak!D11 -> 0 | E11: =universe_weak!E11 -> 0 | F11: =universe_weak!F11 -> 0 | G11: =universe_weak!G11 -> 0 | H11: =universe_weak!H11 -> 0 | I11: =universe_weak!I11 -> 91.920944 | J11: =universe_weak!J11 -> 0
A12: =universe_weak!A12 -> Lisbon Metropolitan Area | B12: =LEFT(universe_weak!B12,FIND(")",universe_weak!B12)) -> Small (5-19) | C12: =universe_weak!C12 -> 248.80275 | D12: =universe_weak!D12 -> 21.122969 | E12: =universe_weak!E12 -> 322.56216 | F12: =universe_weak!F12 -> 931.91815 | G12: =universe_weak!G12 -> 2768.917 | H12: =universe_weak!H12 -> 2559.8042 | I12: =universe_weak!I12 -> 426.43304 | J12: =universe_weak!J12 -> 10185.694 | K12: =SUM(C12:J15) -> 22266.883
A13: =universe_weak!A13 -> Lisbon Metropolitan Area | B13: =LEFT(universe_weak!B13,FIND(")",universe_weak!B13)) -> Medium (20-99) | C13: =universe_weak!C13 -> 131.69724 | D13: =universe_weak!D13 -> 0 | E13: =universe_weak!E13 -> 90.863808 | F13: =universe_weak!F13 -> 340.5105 | G13: =universe_weak!G13 -> 563.29175 | H13: =universe_weak!H13 -> 397.08868 | I13: =universe_weak!I13 -> 206.03993 | J13: =universe_weak!J13 -> 2201.3933
A14: =universe_weak!A14 -> Lisbon Metropolitan Area | B14: =LEFT(universe_weak!B14,FIND(")",universe_weak!B14)) -> Large (100 or more) | C14: =universe_weak!C14 -> 33.198696 | D14: =universe_weak!D14 -> 0 | E14: =universe_weak!E14 -> 13.933547 | F14: =universe_weak!F14 -> 119.42548 | G14: =universe_weak!G14 -> 80.151352 | H14: =universe_weak!H14 -> 103.07275 | I14: =universe_weak!I14 -> 38.324112 | J14: =universe_weak!J14 -> 469.02856
A15: =universe_weak!A15 -> Lisbon Metropolitan Area | B15: =LEFT(universe_weak!B15,FIND(")",universe_weak!B15)) -> Medium and Large (20+) | C15: =universe_weak!C15 -> 0 | D15: =universe_weak!D15 -> 13.608357 | E15: =universe_weak!E15 -> 0 | F15: =universe_weak!F15 -> 0 | G15: =universe_weak!G15 -> 0 | H15: =universe_weak!H15 -> 0 | I15: =universe_weak!I15 -> 0 | J15: =universe_weak!J15 -> 0
A16: =universe_weak!A16 -> Alentejo | B16: =LEFT(universe_weak!B16,FIND(")",universe_weak!B16)) -> Small (5-19) | C16: =universe_weak!C16 -> 230.5235 | D16: =universe_weak!D16 -> 3.8368614 | E16: =universe_weak!E16 -> 72.383041 | F16: =universe_weak!F16 -> 292.49475 | G16: =universe_weak!G16 -> 581.64526 | H16: =universe_weak!H16 -> 650.69312 | I16: =universe_weak!I16 -> 116.55391 | J16: =universe_weak!J16 -> 1669.4287 | K16: =SUM(C16:J19) -> 4391.2922
A17: =universe_weak!A17 -> Alentejo | B17: =LEFT(universe_weak!B17,FIND(")",universe_weak!B17)) -> Medium (20-99) | C17: =universe_weak!C17 -> 80.736816 | D17: =universe_weak!D17 -> 0 | E17: =universe_weak!E17 -> 0 | F17: =universe_weak!F17 -> 115.36687 | G17: =universe_weak!G17 -> 93.138443 | H17: =universe_weak!H17 -> 0 | I17: =universe_weak!I17 -> 27.978603 | J17: =universe_weak!J17 -> 222.08084
A18: =universe_weak!A18 -> Alentejo | B18: =LEFT(universe_weak!B18,FIND(")",universe_weak!B18)) -> Large (100 or more) | C18: =universe_weak!C18 -> 16.080921 | D18: =universe_weak!D18 -> 0 | E18: =universe_weak!E18 -> 0 | F18: =universe_weak!F18 -> 36.78759 | G18: =universe_weak!G18 -> 7.9086018 | H18: =universe_weak!H18 -> 0 | I18: =universe_weak!I18 -> 4.0302539 | J18: =universe_weak!J18 -> 26.635036
A19: =universe_weak!A19 -> Alentejo | B19: =LEFT(universe_weak!B19,FIND(")",universe_weak!B19)) -> Medium and Large (20+) | C19: =universe_weak!C19 -> 0 | D19: =universe_weak!D19 -> 1.9286708 | E19: =universe_weak!E19 -> 27.103359 | F19: =universe_weak!F19 -> 0 | G19: =universe_weak!G19 -> 0 | H19: =universe_weak!H19 -> 113.95702 | I19: =universe_weak!I19 -> 0 | J19: =universe_weak!J19 -> 0
A20: =universe_weak!A20 -> Autonomous Region of the Azores | B20: =LEFT(universe_weak!B20,FIND(")",universe_weak!B20)) -> Small (5-19) | C20: =universe_weak!C20 -> 55.933014 | D20: =universe_weak!D20 -> 0 | E20: =universe_weak!E20 -> 29.643396 | F20: =universe_weak!F20 -> 61.260506 | G20: =universe_weak!G20 -> 187.64299 | H20: =universe_weak!H20 -> 288.30438 | I20: =universe_weak!I20 -> 63.081528 | J20: =universe_weak!J20 -> 560.7572 | K20: =SUM(C20:J23) -> 1611.0623
A21: =universe_weak!A21 -> Autonomous Region of the Azores | B21: =LEFT(universe_weak!B21,FIND(")",universe_weak!B21)) -> Medium (20-99) | C21: =universe_weak!C21 -> 30.792227 | D21: =universe_weak!D21 -> 0 | E21: =universe_weak!E21 -> 0 | F21: =universe_weak!F21 -> 0 | G21: =universe_weak!G21 -> 77.183647 | H21: =universe_weak!H21 -> 40.374863 | I21: =universe_weak!I21 -> 25.890129 | J21: =universe_weak!J21 -> 118.94272
A22: =universe_weak!A22 -> Autonomous Region of the Azores | B22: =LEFT(universe_weak!B22,FIND(")",universe_weak!B22)) -> Large (100 or more) | C22: =universe_weak!C22 -> 11.017333 | D22: =universe_weak!D22 -> 0 | E22: =universe_weak!E22 -> 0 | F22: =universe_weak!F22 -> 0 | G22: =universe_weak!G22 -> 4.8216772 | H22: =universe_weak!H22 -> 9.8670473 | I22: =universe_weak!I22 -> 8.0325832 | J22: =universe_weak!J22 -> 11.796784
A23: =universe_weak!A23 -> Autonomous Region of the Azores | B23: =LEFT(universe_weak!B23,FIND(")",universe_weak!B23)) -> Medium and Large (20+) | C23: =universe_weak!C23 -> 0 | D23: =universe_weak!D23 -> 0 | E23: =universe_weak!E23 -> 7.7146835 | F23: =universe_weak!F23 -> 18.005568 | G23: =universe_weak!G23 -> 0 | H23: =universe_weak!H23 -> 0 | I23: =universe_weak!I23 -> 0 | J23: =universe_weak!J23 -> 0
A24: =universe_weak!A24 -> Autonomous Region of Madeira | B24: =LEFT(universe_weak!B24,FIND(")",universe_weak!B24)) -> Small (5-19) | C24: =universe_weak!C24 -> 56.961075 | D24: =universe_weak!D24 -> 81.063599 | E24: =universe_weak!E24 -> 26.692768 | F24: =universe_weak!F24 -> 0 | G24: =universe_weak!G24 -> 256.54443 | H24: =universe_weak!H24 -> 267.77847 | I24: =universe_weak!I24 -> 57.103092 | J24: =universe_weak!J24 -> 805.27649 | K24: =SUM(C24:J27) -> 1973.3149
A25: =universe_weak!A25 -> Autonomous Region of Madeira | B25: =LEFT(universe_weak!B25,FIND(")",universe_weak!B25)) -> Medium (20-99) | C25: =universe_weak!C25 -> 19.876163 | D25: =universe_weak!D25 -> 0 | E25: =universe_weak!E25 -> 0 | F25: =universe_weak!F25 -> 14.746958 | G25: =universe_weak!G25 -> 80.15583 | H25: =universe_weak!H25 -> 36.224937 | I25: =universe_weak!I25 -> 58.780865 | J25: =universe_weak!J25 -> 144.05794
A26: =universe_weak!A26 -> Autonomous Region of Madeira | B26: =LEFT(universe_weak!B26,FIND(")",universe_weak!B26)) -> Large (100 or more) | C26: =universe_weak!C26 -> 2.6980953 | D26: =universe_weak!D26 -> 0 | E26: =universe_weak!E26 -> 0 | F26: =universe_weak!F26 -> 1.9286709 | G26: =universe_weak!G26 -> 13.799192 | H26: =universe_weak!H26 -> 2.8930063 | I26: =universe_weak!I26 -> 15.068832 | J26: =universe_weak!J26 -> 20.65498
A27: =universe_weak!A27 -> Autonomous Region of Madeira | B27: =LEFT(universe_weak!B27,FIND(")",universe_weak!B27)) -> Medium and Large (20+) | C27: =universe_weak!C27 -> 0 | D27: =universe_weak!D27 -> 0 | E27: =universe_weak!E27 -> 11.00951 | F27: =universe_weak!F27 -> 0 | G27: =universe_weak!G27 -> 0 | H27: =universe_weak!H27 -> 0 | I27: =universe_weak!I27 -> 0 | J27: =universe_weak!J27 -> 0
C28: =SUM(C2:C27) -> 2816.7305 | D28: =SUM(D2:D27) -> 2463.5745 | E28: =SUM(E2:E27) -> 3472.5576 | F28: =SUM(F2:F27) -> 10758.96 | G28: =SUM(G2:G27) -> 14662.048 | H28: =SUM(H2:H27) -> 11699.363 | I28: =SUM(I2:I27) -> 2266.6148 | J28: =SUM(J2:J27) -> 38821.248 | K28: =SUM(K2:K27) -> 86961.097

Sheet Table 9 Median Universe Est
C1: =RIGHT(SUBSTITUTE(universe_median!C1,"_"," "),LEN(SUBSTITUTE(universe_median!C1,"_"," "))-1) -> Food | D1: =RIGHT(SUBSTITUTE(universe_median!D1,"_"," "),LEN(SUBSTITUTE(universe_median!D1,"_"," "))-1) -> Garments | E1: =RIGHT(SUBSTITUTE(universe_median!E1,"_"," "),LEN(SUBSTITUTE(universe_median!E1,"_"," "))-1) -> Fabricated Metal Products | F1: =RIGHT(SUBSTITUTE(universe_median!F1,"_"," "),LEN(SUBSTITUTE(universe_median!F1,"_"," "))-1) -> Other Manufacturing | G1: =RIGHT(SUBSTITUTE(universe_median!G1,"_"," "),LEN(SUBSTITUTE(universe_median!G1,"_"," "))-1) -> Construction | H1: =RIGHT(SUBSTITUTE(universe_median!H1,"_"," "),LEN(SUBSTITUTE(universe_median!H1,"_"," "))-1) -> Retail | I1: =RIGHT(SUBSTITUTE(universe_median!I1,"_"," "),LEN(SUBSTITUTE(universe_median!I1,"_"," "))-1) -> Hotels | J1: =RIGHT(SUBSTITUTE(universe_median!J1,"_"," "),LEN(SUBSTITUTE(universe_median!J1,"_"," "))-1) -> Other Services | K1: =RIGHT(SUBSTITUTE(universe_median!K1,"_"," "),LEN(SUBSTITUTE(universe_median!K1,"_"," "))-1) -> Grand Total
A2: =universe_median!A2 -> North | B2: =LEFT(universe_median!B2,FIND(")",universe_median!B2)) -> Small (5-19) | C2: =universe_median!C2 -> 311.13748 | D2: =universe_median!D2 -> 668.14581 | E2: =universe_median!E2 -> 597.30615 | F2: =universe_median!F2 -> 2118.9893 | G2: =universe_median!G2 -> 1979.87 | H2: =universe_median!H2 -> 1613.2769 | I2: =universe_median!I2 -> 190.0692 | J2: =universe_median!J2 -> 5165.9937 | K2: =SUM(C2:J4) -> 16485.311
A3: =universe_median!A3 -> North | B3: =LEFT(universe_median!B3,FIND(")",universe_median!B3)) -> Medium (20-99) | C3: =universe_median!C3 -> 78.535706 | D3: =universe_median!D3 -> 380.79456 | E3: =universe_median!E3 -> 201.57376 | F3: =universe_median!F3 -> 1013.0848 | G3: =universe_median!G3 -> 451.48001 | H3: =universe_median!H3 -> 202.12965 | I3: =universe_median!I3 -> 59.643059 | J3: =universe_median!J3 -> 865.59045
A4: =universe_median!A4 -> North | B4: =LEFT(universe_median!B4,FIND(")",universe_median!B4)) -> Large (100 or more) | C4: =universe_median!C4 -> 22.983347 | D4: =universe_median!D4 -> 61.376793 | E4: =universe_median!E4 -> 38.813721 | F4: =universe_median!F4 -> 236.13571 | G4: =universe_median!G4 -> 46.159786 | H4: =universe_median!H4 -> 33.613018 | I4: =universe_median!I4 -> 7.8787432 | J4: =universe_median!J4 -> 140.7298
A5: =universe_median!A5 -> Algarve | B5: =LEFT(universe_median!B5,FIND(")",universe_median!B5)) -> Small (5-19) | C5: =universe_median!C5 -> 43.270874 | D5: =universe_median!D5 -> 1.4262694 | E5: =universe_median!E5 -> 32.542229 | F5: =universe_median!F5 -> 73.224525 | G5: =universe_median!G5 -> 352.51593 | H5: =universe_median!H5 -> 284.87207 | I5: =universe_median!I5 -> 127.24931 | J5: =universe_median!J5 -> 1005.3694 | K5: =SUM(C5:J7) -> 2279.9036
A6: =universe_median!A6 -> Algarve | B6: =LEFT(universe_median!B6,FIND(")",universe_median!B6)) -> Medium (20-99) | C6: =universe_median!C6 -> 12.024606 | D6: =universe_median!D6 -> 0 | E6: =universe_median!E6 -> 3 | F6: =universe_median!F6 -> 12.480394 | G6: =universe_median!G6 -> 52.691418 | H6: =universe_median!H6 -> 40.062923 | I6: =universe_median!I6 -> 62.782173 | J6: =universe_median!J6 -> 132.02086
A7: =universe_median!A7 -> Algarve | B7: =LEFT(universe_median!B7,FIND(")",universe_median!B7)) -> Large (100 or more) | C7: =universe_median!C7 -> 0 | D7: =universe_median!D7 -> 0 | E7: =universe_median!E7 -> 0 | F7: =universe_median!F7 -> 2 | G7: =universe_median!G7 -> 2.9983447 | H7: =universe_median!H7 -> 3.9402816 | I7: =universe_median!I7 -> 25.569998 | J7: =universe_median!J7 -> 9.8619614
A8: =universe_median!A8 -> Center | B8: =LEFT(universe_median!B8,FIND(")",universe_median!B8)) -> Small (5-19) | C8: =universe_median!C8 -> 294.36826 | D8: =universe_median!D8 -> 26.770418 | E8: =universe_median!E8 -> 457.7937 | F8: =universe_median!F8 -> 876.80872 | G8: =universe_median!G8 -> 1203.3353 | H8: =universe_median!H8 -> 1172.5419 | I8: =universe_median!I8 -> 156.01106 | J8: =universe_median!J8 -> 3364.4863 | K8: =SUM(C8:J11) -> 9542.675
A9: =universe_median!A9 -> Center | B9: =LEFT(universe_median!B9,FIND(")",universe_median!B9)) -> Medium (20-99) | C9: =universe_median!C9 -> 109.24184 | D9: =universe_median!D9 -> 24.793825 | E9: =universe_median!E9 -> 188.94537 | F9: =universe_median!F9 -> 378.91223 | G9: =universe_median!G9 -> 198.55334 | H9: =universe_median!H9 -> 167.23199 | I9: =universe_median!I9 -> 0 | J9: =universe_median!J9 -> 527.51904
A10: =universe_median!A10 -> Center | B10: =LEFT(universe_median!B10,FIND(")",universe_median!B10)) -> Large (100 or more) | C10: =universe_median!C10 -> 29.253086 | D10: =universe_median!D10 -> 15.284362 | E10: =universe_median!E10 -> 33.818466 | F10: =universe_median!F10 -> 155.25981 | G10: =universe_median!G10 -> 16.947674 | H10: =universe_median!H10 -> 8.6773357 | I10: =universe_median!I10 -> 0 | J10: =universe_median!J10 -> 78.100113
A11: =universe_median!A11 -> Center | B11: =LEFT(universe_median!B11,FIND(")",universe_median!B11)) -> Medium and Large (20+) | C11: =universe_median!C11 -> 0 | D11: =universe_median!D11 -> 0 | E11: =universe_median!E11 -> 0 | F11: =universe_median!F11 -> 0 | G11: =universe_median!G11 -> 0 | H11: =universe_median!H11 -> 0 | I11: =universe_median!I11 -> 58.020874 | J11: =universe_median!J11 -> 0
A12: =universe_median!A12 -> Lisbon Metropolitan Area | B12: =LEFT(universe_median!B12,FIND(")",universe_median!B12)) -> Small (5-19) | C12: =universe_median!C12 -> 109.85204 | D12: =universe_median!D12 -> 10.18321 | E12: =universe_median!E12 -> 163.28621 | F12: =universe_median!F12 -> 490.56543 | G12: =universe_median!G12 -> 1134.6763 | H12: =universe_median!H12 -> 1179.731 | I12: =universe_median!I12 -> 222.86153 | J12: =universe_median!J12 -> 4855.7568 | K12: =SUM(C12:J15) -> 10555.98
A13: =universe_median!A13 -> Lisbon Metropolitan Area | B13: =LEFT(universe_median!B13,FIND(")",universe_median!B13)) -> Medium (20-99) | C13: =universe_median!C13 -> 59.793423 | D13: =universe_median!D13 -> 0 | E13: =universe_median!E13 -> 48.129967 | F13: =universe_median!F13 -> 184.32042 | G13: =universe_median!G13 -> 237.36636 | H13: =universe_median!H13 -> 188.18613 | I13: =universe_median!I13 -> 110.72852 | J13: =universe_median!J13 -> 1079.1648
A14: =universe_median!A14 -> Lisbon Metropolitan Area | B14: =LEFT(universe_median!B14,FIND(")",universe_median!B14)) -> Large (100 or more) | C14: =universe_median!C14 -> 17.012383 | D14: =universe_median!D14 -> 0 | E14: =universe_median!E14 -> 8.1863232 | F14: =universe_median!F14 -> 72.963768 | G14: =universe_median!G14 -> 38.120975 | H14: =universe_median!H14 -> 55.132954 | I14: =universe_median!I14 -> 23.245962 | J14: =universe_median!J14 -> 259.51157
A15: =universe_median!A15 -> Lisbon Metropolitan Area | B15: =LEFT(universe_median!B15,FIND(")",universe_median!B15)) -> Medium and Large (20+) | C15: =universe_median!C15 -> 0 | D15: =universe_median!D15 -> 7.2035484 | E15: =universe_median!E15 -> 0 | F15: =universe_median!F15 -> 0 | G15: =universe_median!G15 -> 0 | H15: =universe_median!H15 -> 0 | I15: =universe_median!I15 -> 0 | J15: =universe_median!J15 -> 0
A16: =universe_median!A16 -> Alentejo | B16: =LEFT(universe_median!B16,FIND(")",universe_median!B16)) -> Small (5-19) | C16: =universe_median!C16 -> 107.56558 | D16: =universe_median!D16 -> 2 | E16: =universe_median!E16 -> 38.723801 | F16: =universe_median!F16 -> 162.72052 | G16: =universe_median!G16 -> 251.89835 | H16: =universe_median!H16 -> 316.92581 | I16: =universe_median!I16 -> 64.374855 | J16: =universe_median!J16 -> 841.0838 | K16: =SUM(C16:J19) -> 2194.9145
A17: =universe_median!A17 -> Alentejo | B17: =LEFT(universe_median!B17,FIND(")",universe_median!B17)) -> Medium (20-99) | C17: =universe_median!C17 -> 38.739456 | D17: =universe_median!D17 -> 0 | E17: =universe_median!E17 -> 0 | F17: =universe_median!F17 -> 65.997757 | G17: =universe_median!G17 -> 41.478203 | H17: =universe_median!H17 -> 0 | I17: =universe_median!I17 -> 15.890565 | J17: =universe_median!J17 -> 115.05521
A18: =universe_median!A18 -> Alentejo | B18: =LEFT(universe_median!B18,FIND(")",universe_median!B18)) -> Large (100 or more) | C18: =universe_median!C18 -> 8.7088366 | D18: =universe_median!D18 -> 0 | E18: =universe_median!E18 -> 0 | F18: =universe_median!F18 -> 23.752905 | G18: =universe_median!G18 -> 3.9751906 | H18: =universe_median!H18 -> 0 | I18: =universe_median!I18 -> 2.5835268 | J18: =universe_median!J18 -> 15.574564
A19: =universe_median!A19 -> Alentejo | B19: =LEFT(universe_median!B19,FIND(")",universe_median!B19)) -> Medium and Large (20+) | C19: =universe_median!C19 -> 0 | D19: =universe_median!D19 -> 1 | E19: =universe_median!E19 -> 15.921183 | F19: =universe_median!F19 -> 0 | G19: =universe_median!G19 -> 0 | H19: =universe_median!H19 -> 60.944355 | I19: =universe_median!I19 -> 0 | J19: =universe_median!J19 -> 0
A20: =universe_median!A20 -> Autonomous Region of the Azores | B20: =LEFT(universe_median!B20,FIND(")",universe_median!B20)) -> Small (5-19) | C20: =universe_median!C20 -> 30.172159 | D20: =universe_median!D20 -> 0 | E20: =universe_median!E20 -> 18.333664 | F20: =universe_median!F20 -> 39.398968 | G20: =universe_median!G20 -> 93.946259 | H20: =universe_median!H20 -> 162.33522 | I20: =universe_median!I20 -> 40.278351 | J20: =universe_median!J20 -> 326.60764 | K20: =SUM(C20:J23) -> 926.12948
A21: =universe_median!A21 -> Autonomous Region of the Azores | B21: =LEFT(universe_median!B21,FIND(")",universe_median!B21)) -> Medium (20-99) | C21: =universe_median!C21 -> 17.080597 | D21: =universe_median!D21 -> 0 | E21: =universe_median!E21 -> 0 | F21: =universe_median!F21 -> 0 | G21: =universe_median!G21 -> 39.73711 | H21: =universe_median!H21 -> 23.833235 | I21: =universe_median!I21 -> 16.999163 | J21: =universe_median!J21 -> 71.238235
A22: =universe_median!A22 -> Autonomous Region of the Azores | B22: =LEFT(universe_median!B22,FIND(")",universe_median!B22)) -> Large (100 or more) | C22: =universe_median!C22 -> 6.8977222 | D22: =universe_median!D22 -> 0 | E22: =universe_median!E22 -> 0 | F22: =universe_median!F22 -> 0 | G22: =universe_median!G22 -> 2.3771157 | H22: =universe_median!H22 -> 6.4482183 | I22: =universe_median!I22 -> 5.9527249 | J22: =universe_median!J22 -> 7.9745507
A23: =universe_median!A23 -> Autonomous Region of the Azores | B23: =LEFT(universe_median!B23,FIND(")",universe_median!B23)) -> Medium and Large (20+) | C23: =universe_median!C23 -> 0 | D23: =universe_median!D23 -> 0 | E23: =universe_median!E23 -> 3.803385 | F23: =universe_median!F23 -> 12.715166 | G23: =universe_median!G23 -> 0 | H23: =universe_median!H23 -> 0 | I23: =universe_median!I23 -> 0 | J23: =universe_median!J23 -> 0
A24: =universe_median!A24 -> Autonomous Region of Madeira | B24: =LEFT(universe_median!B24,FIND(")",universe_median!B24)) -> Small (5-19) | C24: =universe_median!C24 -> 24.095188 | D24: =universe_median!D24 -> 40.883125 | E24: =universe_median!E24 -> 12.945799 | F24: =universe_median!F24 -> 0 | G24: =universe_median!G24 -> 100.72186 | H24: =universe_median!H24 -> 118.23637 | I24: =universe_median!I24 -> 28.591906 | J24: =universe_median!J24 -> 367.79895 | K24: =SUM(C24:J27) -> 894.37703
A25: =universe_median!A25 -> Autonomous Region of Madeira | B25: =LEFT(universe_median!B25,FIND(")",universe_median!B25)) -> Medium (20-99) | C25: =universe_median!C25 -> 10 | D25: =universe_median!D25 -> 0 | E25: =universe_median!E25 -> 0 | F25: =universe_median!F25 -> 7.6479406 | G25: =universe_median!G25 -> 32.360867 | H25: =universe_median!H25 -> 16.447765 | I25: =universe_median!I25 -> 30.265182 | J25: =universe_median!J25 -> 68.098824
A26: =universe_median!A26 -> Autonomous Region of Madeira | B26: =LEFT(universe_median!B26,FIND(")",universe_median!B26)) -> Large (100 or more) | C26: =universe_median!C26 -> 2 | D26: =universe_median!D26 -> 0 | E26: =universe_median!E26 -> 0 | F26: =universe_median!F26 -> 1 | G26: =universe_median!G26 -> 6.2879052 | H26: =universe_median!H26 -> 1.4262694 | I26: =universe_median!I26 -> 8.7569771 | J26: =universe_median!J26 -> 10.949174
A27: =universe_median!A27 -> Autonomous Region of Madeira | B27: =LEFT(universe_median!B27,FIND(")",universe_median!B27)) -> Medium and Large (20+) | C27: =universe_median!C27 -> 0 | D27: =universe_median!D27 -> 0 | E27: =universe_median!E27 -> 5.8629236 | F27: =universe_median!F27 -> 0 | G27: =universe_median!G27 -> 0 | H27: =universe_median!H27 -> 0 | I27: =universe_median!I27 -> 0 | J27: =universe_median!J27 -> 0
C28: =SUM(C2:C27) -> 1332.7326 | D28: =SUM(D2:D27) -> 1239.8619 | E28: =SUM(E2:E27) -> 1868.9867 | F28: =SUM(F2:F27) -> 5927.9784 | G28: =SUM(G2:G27) -> 6287.4983 | H28: =SUM(H2:H27) -> 5655.9933 | I28: =SUM(I2:I27) -> 1257.7537 | J28: =SUM(J2:J27) -> 19308.486 | K28: =SUM(K2:K26) -> 42879.291

Sheet Table 10 Strict Universe Est
C1: =RIGHT(SUBSTITUTE(universe_strict!C1,"_"," "),LEN(SUBSTITUTE(universe_strict!C1,"_"," "))-1) -> Food | D1: =RIGHT(SUBSTITUTE(universe_strict!D1,"_"," "),LEN(SUBSTITUTE(universe_strict!D1,"_"," "))-1) -> Garments | E1: =RIGHT(SUBSTITUTE(universe_strict!E1,"_"," "),LEN(SUBSTITUTE(universe_strict!E1,"_"," "))-1) -> Fabricated Metal Products | F1: =RIGHT(SUBSTITUTE(universe_strict!F1,"_"," "),LEN(SUBSTITUTE(universe_strict!F1,"_"," "))-1) -> Other Manufacturing | G1: =RIGHT(SUBSTITUTE(universe_strict!G1,"_"," "),LEN(SUBSTITUTE(universe_strict!G1,"_"," "))-1) -> Construction | H1: =RIGHT(SUBSTITUTE(universe_strict!H1,"_"," "),LEN(SUBSTITUTE(universe_strict!H1,"_"," "))-1) -> Retail | I1: =RIGHT(SUBSTITUTE(universe_strict!I1,"_"," "),LEN(SUBSTITUTE(universe_strict!I1,"_"," "))-1) -> Hotels | J1: =RIGHT(SUBSTITUTE(universe_strict!J1,"_"," "),LEN(SUBSTITUTE(universe_strict!J1,"_"," "))-1) -> Other Services | K1: =RIGHT(SUBSTITUTE(universe_strict!K1,"_"," "),LEN(SUBSTITUTE(universe_strict!K1,"_"," "))-1) -> Grand Total
A2: =universe_strict!A2 -> North | B2: =LEFT(universe_strict!B2,FIND(")",universe_strict!B2)) -> Small (5-19) | C2: =universe_strict!C2 -> 303.802 | D2: =universe_strict!D2 -> 661.19519 | E2: =universe_strict!E2 -> 603.2395 | F2: =universe_strict!F2 -> 2097.3547 | G2: =universe_strict!G2 -> 1935.4553 | H2: =universe_strict!H2 -> 1583.6086 | I2: =universe_strict!I2 -> 174.04596 | J2: =universe_strict!J2 -> 4701.208 | K2: =SUM(C2:J4) -> 15842.321
A3: =universe_strict!A3 -> North | B3: =LEFT(universe_strict!B3,FIND(")",universe_strict!B3)) -> Medium (20-99) | C3: =universe_strict!C3 -> 77.647697 | D3: =universe_strict!D3 -> 381.56827 | E3: =universe_strict!E3 -> 206.13414 | F3: =universe_strict!F3 -> 1015.3412 | G3: =universe_strict!G3 -> 446.89764 | H3: =universe_strict!H3 -> 200.90559 | I3: =universe_strict!I3 -> 55.301285 | J3: =universe_strict!J3 -> 797.61102
A4: =universe_strict!A4 -> North | B4: =LEFT(universe_strict!B4,FIND(")",universe_strict!B4)) -> Large (100 or more) | C4: =universe_strict!C4 -> 23.682693 | D4: =universe_strict!D4 -> 64.097656 | E4: =universe_strict!E4 -> 41.36734 | F4: =universe_strict!F4 -> 246.65176 | G4: =universe_strict!G4 -> 47.620041 | H4: =universe_strict!H4 -> 34.819775 | I4: =universe_strict!I4 -> 7.613575 | J4: =universe_strict!J4 -> 135.15158
A5: =universe_strict!A5 -> Algarve | B5: =LEFT(universe_strict!B5,FIND(")",universe_strict!B5)) -> Small (5-19) | C5: =universe_strict!C5 -> 36.586178 | D5: =universe_strict!D5 -> 1.3263378 | E5: =universe_strict!E5 -> 28.459234 | F5: =universe_strict!F5 -> 62.759972 | G5: =universe_strict!G5 -> 298.40656 | H5: =universe_strict!H5 -> 242.14301 | I5: =universe_strict!I5 -> 100.8999 | J5: =universe_strict!J5 -> 792.25385 | K5: =SUM(C5:J7) -> 1860.7712
A6: =universe_strict!A6 -> Algarve | B6: =LEFT(universe_strict!B6,FIND(")",universe_strict!B6)) -> Medium (20-99) | C6: =universe_strict!C6 -> 10.294739 | D6: =universe_strict!D6 -> 0 | E6: =universe_strict!E6 -> 3 | F6: =universe_strict!F6 -> 10.831225 | G6: =universe_strict!G6 -> 45.164017 | H6: =universe_strict!H6 -> 34.481632 | I6: =universe_strict!I6 -> 50.407444 | J6: =universe_strict!J6 -> 105.34268
A7: =universe_strict!A7 -> Algarve | B7: =LEFT(universe_strict!B7,FIND(")",universe_strict!B7)) -> Large (100 or more) | C7: =universe_strict!C7 -> 0 | D7: =universe_strict!D7 -> 0 | E7: =universe_strict!E7 -> 0 | F7: =universe_strict!F7 -> 2 | G7: =universe_strict!G7 -> 2.6784935 | H7: =universe_strict!H7 -> 3.5345073 | I7: =universe_strict!I7 -> 22.000126 | J7: =universe_strict!J7 -> 8.2012787
A8: =universe_strict!A8 -> Center | B8: =LEFT(universe_strict!B8,FIND(")",universe_strict!B8)) -> Small (5-19) | C8: =universe_strict!C8 -> 281.64682 | D8: =universe_strict!D8 -> 25.959068 | E8: =universe_strict!E8 -> 453.04175 | F8: =universe_strict!F8 -> 850.40039 | G8: =universe_strict!G8 -> 1152.6797 | H8: =universe_strict!H8 -> 1127.828 | I8: =universe_strict!I8 -> 139.98553 | J8: =universe_strict!J8 -> 3000.198 | K8: =SUM(C8:J11) -> 8929.1738
A9: =universe_strict!A9 -> Center | B9: =LEFT(universe_strict!B9,FIND(")",universe_strict!B9)) -> Medium (20-99) | C9: =universe_strict!C9 -> 105.83417 | D9: =universe_strict!D9 -> 24.344488 | E9: =universe_strict!E9 -> 189.33362 | F9: =universe_strict!F9 -> 352.36374 | G9: =universe_strict!G9 -> 192.58493 | H9: =universe_strict!H9 -> 162.87596 | I9: =universe_strict!I9 -> 0 | J9: =universe_strict!J9 -> 476.3129
A10: =universe_strict!A10 -> Center | B10: =LEFT(universe_strict!B10,FIND(")",universe_strict!B10)) -> Large (100 or more) | C10: =universe_strict!C10 -> 29.536909 | D10: =universe_strict!D10 -> 15.640867 | E10: =universe_strict!E10 -> 35.318459 | F10: =universe_strict!F10 -> 158.91219 | G10: =universe_strict!G10 -> 17.132139 | H10: =universe_strict!H10 -> 8.8080626 | I10: =universe_strict!I10 -> 0 | J10: =universe_strict!J10 -> 73.49575
A11: =universe_strict!A11 -> Center | B11: =LEFT(universe_strict!B11,FIND(")",universe_strict!B11)) -> Medium and Large (20+) | C11: =universe_strict!C11 -> 0 | D11: =universe_strict!D11 -> 0 | E11: =universe_strict!E11 -> 0 | F11: =universe_strict!F11 -> 0 | G11: =universe_strict!G11 -> 0 | H11: =universe_strict!H11 -> 0 | I11: =universe_strict!I11 -> 54.940353 | J11: =universe_strict!J11 -> 0
A12: =universe_strict!A12 -> Lisbon Metropolitan Area | B12: =LEFT(universe_strict!B12,FIND(")",universe_strict!B12)) -> Small (5-19) | C12: =universe_strict!C12 -> 102.99899 | D12: =universe_strict!D12 -> 9.676753 | E12: =universe_strict!E12 -> 158.35391 | F12: =universe_strict!F12 -> 466.25821 | G12: =universe_strict!G12 -> 1065.1356 | H12: =universe_strict!H12 -> 1112.0094 | I12: =universe_strict!I12 -> 195.96291 | J12: =universe_strict!J12 -> 4243.2539 | K12: =SUM(C12:J15) -> 9552.886
A13: =universe_strict!A13 -> Lisbon Metropolitan Area | B13: =LEFT(universe_strict!B13,FIND(")",universe_strict!B13)) -> Medium (20-99) | C13: =universe_strict!C13 -> 56.7677 | D13: =universe_strict!D13 -> 0 | E13: =universe_strict!E13 -> 47.256432 | F13: =universe_strict!F13 -> 177.38875 | G13: =universe_strict!G13 -> 225.61877 | H13: =universe_strict!H13 -> 179.61234 | I13: =universe_strict!I13 -> 98.587372 | J13: =universe_strict!J13 -> 954.88904
A14: =universe_strict!A14 -> Lisbon Metropolitan Area | B14: =LEFT(universe_strict!B14,FIND(")",universe_strict!B14)) -> Large (100 or more) | C14: =universe_strict!C14 -> 16.833303 | D14: =universe_strict!D14 -> 0 | E14: =universe_strict!E14 -> 8.3781404 | F14: =universe_strict!F14 -> 73.184021 | G14: =universe_strict!G14 -> 37.763866 | H14: =universe_strict!H14 -> 54.842369 | I14: =universe_strict!I14 -> 21.570774 | J14: =universe_strict!J14 -> 239.3196
A15: =universe_strict!A15 -> Lisbon Metropolitan Area | B15: =LEFT(universe_strict!B15,FIND(")",universe_strict!B15)) -> Medium and Large (20+) | C15: =universe_strict!C15 -> 0 | D15: =universe_strict!D15 -> 7.223886 | E15: =universe_strict!E15 -> 0 | F15: =universe_strict!F15 -> 0 | G15: =universe_strict!G15 -> 0 | H15: =universe_strict!H15 -> 0 | I15: =universe_strict!I15 -> 0 | J15: =universe_strict!J15 -> 0
A16: =universe_strict!A16 -> Alentejo | B16: =LEFT(universe_strict!B16,FIND(")",universe_strict!B16)) -> Small (5-19) | C16: =universe_strict!C16 -> 103.01638 | D16: =universe_strict!D16 -> 2 | E16: =universe_strict!E16 -> 38.358841 | F16: =universe_strict!F16 -> 157.97198 | G16: =universe_strict!G16 -> 241.52742 | H16: =universe_strict!H16 -> 305.13452 | I16: =universe_strict!I16 -> 57.818012 | J16: =universe_strict!J16 -> 750.73999 | K16: =SUM(C16:J19) -> 2051.5643
A17: =universe_strict!A17 -> Alentejo | B17: =LEFT(universe_strict!B17,FIND(")",universe_strict!B17)) -> Medium (20-99) | C17: =universe_strict!C17 -> 37.567265 | D17: =universe_strict!D17 -> 0 | E17: =universe_strict!E17 -> 0 | F17: =universe_strict!F17 -> 64.876892 | G17: =universe_strict!G17 -> 40.270233 | H17: =universe_strict!H17 -> 0 | I17: =universe_strict!I17 -> 14.451379 | J17: =universe_strict!J17 -> 103.98715
A18: =universe_strict!A18 -> Alentejo | B18: =LEFT(universe_strict!B18,FIND(")",universe_strict!B18)) -> Large (100 or more) | C18: =universe_strict!C18 -> 8.8018227 | D18: =universe_strict!D18 -> 0 | E18: =universe_strict!E18 -> 0 | F18: =universe_strict!F18 -> 24.335148 | G18: =universe_strict!G18 -> 4.0223384 | H18: =universe_strict!H18 -> 0 | I18: =universe_strict!I18 -> 2.4487212 | J18: =universe_strict!J18 -> 14.670524
A19: =universe_strict!A19 -> Alentejo | B19: =LEFT(universe_strict!B19,FIND(")",universe_strict!B19)) -> Medium and Large (20+) | C19: =universe_strict!C19 -> 0 | D19: =universe_strict!D19 -> 1 | E19: =universe_strict!E19 -> 16.643408 | F19: =universe_strict!F19 -> 0 | G19: =universe_strict!G19 -> 0 | H19: =universe_strict!H19 -> 61.922226 | I19: =universe_strict!I19 -> 0 | J19: =universe_strict!J19 -> 0
A20: =universe_strict!A20 -> Autonomous Region of the Azores | B20: =LEFT(universe_strict!B20,FIND(")",universe_strict!B20)) -> Small (5-19) | C20: =universe_strict!C20 -> 26.603243 | D20: =universe_strict!D20 -> 0 | E20: =universe_strict!E20 -> 16.719833 | F20: =universe_strict!F20 -> 35.214203 | G20: =universe_strict!G20 -> 82.930809 | H20: =universe_strict!H20 -> 143.89366 | I20: =universe_strict!I20 -> 33.305336 | J20: =universe_strict!J20 -> 268.39337 | K20: =SUM(C20:J23) -> 795.01873
A21: =universe_strict!A21 -> Autonomous Region of the Azores | B21: =LEFT(universe_strict!B21,FIND(")",universe_strict!B21)) -> Medium (20-99) | C21: =universe_strict!C21 -> 15.249456 | D21: =universe_strict!D21 -> 0 | E21: =universe_strict!E21 -> 0 | F21: =universe_strict!F21 -> 0 | G21: =universe_strict!G21 -> 35.518593 | H21: =universe_strict!H21 -> 21.380243 | I21: =universe_strict!I21 -> 14.232878 | J21: =universe_strict!J21 -> 59.27639
A22: =universe_strict!A22 -> Autonomous Region of the Azores | B22: =LEFT(universe_strict!B22,FIND(")",universe_strict!B22)) -> Large (100 or more) | C22: =universe_strict!C22 -> 6.4182024 | D22: =universe_strict!D22 -> 0 | E22: =universe_strict!E22 -> 0 | F22: =universe_strict!F22 -> 0 | G22: =universe_strict!G22 -> 2.2105632 | H22: =universe_strict!H22 -> 6.0318165 | I22: =universe_strict!I22 -> 5.1944242 | J22: =universe_strict!J22 -> 6.9156208
A23: =universe_strict!A23 -> Autonomous Region of the Azores | B23: =LEFT(universe_strict!B23,FIND(")",universe_strict!B23)) -> Medium and Large (20+) | C23: =universe_strict!C23 -> 0 | D23: =universe_strict!D23 -> 0 | E23: =universe_strict!E23 -> 3.536901 | F23: =universe_strict!F23 -> 11.993184 | G23: =universe_strict!G23 -> 0 | H23: =universe_strict!H23 -> 0 | I23: =universe_strict!I23 -> 0 | J23: =universe_strict!J23 -> 0
A24: =universe_strict!A24 -> Autonomous Region of Madeira | B24: =LEFT(universe_strict!B24,FIND(")",universe_strict!B24)) -> Small (5-19) | C24: =universe_strict!C24 -> 23.505047 | D24: =universe_strict!D24 -> 40.427765 | E24: =universe_strict!E24 -> 13.062137 | F24: =universe_strict!F24 -> 0 | G24: =universe_strict!G24 -> 98.37001 | H24: =universe_strict!H24 -> 115.95316 | I24: =universe_strict!I24 -> 26.156992 | J24: =universe_strict!J24 -> 334.3941 | K24: =SUM(C24:J27) -> 844.65992
A25: =universe_strict!A25 -> Autonomous Region of Madeira | B25: =LEFT(universe_strict!B25,FIND(")",universe_strict!B25)) -> Medium (20-99) | C25: =universe_strict!C25 -> 10 | D25: =universe_strict!D25 -> 0 | E25: =universe_strict!E25 -> 0 | F25: =universe_strict!F25 -> 7.6577864 | G25: =universe_strict!G25 -> 32.002373 | H25: =universe_strict!H25 -> 16.332832 | I25: =universe_strict!I25 -> 28.035683 | J25: =universe_strict!J25 -> 62.752537
A26: =universe_strict!A26 -> Autonomous Region of Madeira | B26: =LEFT(universe_strict!B26,FIND(")",universe_strict!B26)) -> Large (100 or more) | C26: =universe_strict!C26 -> 2 | D26: =universe_strict!D26 -> 0 | E26: =universe_strict!E26 -> 0 | F26: =universe_strict!F26 -> 1 | G26: =universe_strict!G26 -> 6.4807377 | H26: =universe_strict!H26 -> 1.3263378 | I26: =universe_strict!I26 -> 8.4543142 | J26: =universe_strict!J26 -> 10.505312
A27: =universe_strict!A27 -> Autonomous Region of Madeira | B27: =LEFT(universe_strict!B27,FIND(")",universe_strict!B27)) -> Medium and Large (20+) | C27: =universe_strict!C27 -> 0 | D27: =universe_strict!D27 -> 0 | E27: =universe_strict!E27 -> 6.2427936 | F27: =universe_strict!F27 -> 0 | G27: =universe_strict!G27 -> 0 | H27: =universe_strict!H27 -> 0 | I27: =universe_strict!I27 -> 0 | J27: =universe_strict!J27 -> 0
C28: =SUM(C2:C27) -> 1278.7926 | D28: =SUM(D2:D27) -> 1234.4603 | E28: =SUM(E2:E27) -> 1868.4464 | F28: =SUM(F2:F27) -> 5816.4954 | G28: =SUM(G2:G27) -> 6010.4702 | H28: =SUM(H2:H27) -> 5417.4441 | I28: =SUM(I2:I27) -> 1111.413 | J28: =SUM(J2:J27) -> 17138.873 | K28: =SUM(K2:K27) -> 39876.395

Sheet Table 11 Item Response Rates
C2: Screener/Interview | D2: d2 | E2: l1 | F2: n2a | G2: all TFP variables
B3: Panel | C3: Fresh | D3: =VLOOKUP($C3,'item response'!$C:$G,2,FALSE) -> 0.99570817 | E3: =VLOOKUP($C3,'item response'!$C:$G,3,FALSE) -> 1 | F3: =VLOOKUP($C3,'item response'!$C:$G,4,FALSE) -> 0.9899857 | G3: =VLOOKUP($C3,'item response'!$C:$G,5,FALSE) -> 0.67916667
C4: Panel | D4: =VLOOKUP($C4,'item response'!$C:$G,2,FALSE) -> 0.99675328 | E4: =VLOOKUP($C4,'item response'!$C:$G,3,FALSE) -> 1 | F4: =VLOOKUP($C4,'item response'!$C:$G,4,FALSE) -> 0.99350649 | G4: =VLOOKUP($C4,'item response'!$C:$G,5,FALSE) -> 0.625
B5: Size | C5: Small (5-19) | D5: =VLOOKUP($C5,'item response'!$C:$G,2,FALSE) -> 0.99132323 | E5: =VLOOKUP($C5,'item response'!$C:$G,3,FALSE) -> 1 | F5: =VLOOKUP($C5,'item response'!$C:$G,4,FALSE) -> 0.98915404 | G5: =VLOOKUP($C5,'item response'!$C:$G,5,FALSE) -> 0.69999999
C6: Medium (20-99) | D6: =VLOOKUP($C6,'item response'!$C:$G,2,FALSE) -> 1 | E6: =VLOOKUP($C6,'item response'!$C:$G,3,FALSE) -> 1 | F6: =VLOOKUP($C6,'item response'!$C:$G,4,FALSE) -> 0.99076921 | G6: =VLOOKUP($C6,'item response'!$C:$G,5,FALSE) -> 0.66883117
C7: Large (100+) | D7: =VLOOKUP($C7,'item response'!$C:$G,2,FALSE) -> 1 | E7: =VLOOKUP($C7,'item response'!$C:$G,3,FALSE) -> 1 | F7: =VLOOKUP($C7,'item response'!$C:$G,4,FALSE) -> 0.99547511 | G7: =VLOOKUP($C7,'item response'!$C:$G,5,FALSE) -> 0.55660379
B8: Region | C8: North | D8: =VLOOKUP($C8,'item response'!$C:$G,2,FALSE) -> 0.98712444 | E8: =VLOOKUP($C8,'item response'!$C:$G,3,FALSE) -> 1 | F8: =VLOOKUP($C8,'item response'!$C:$G,4,FALSE) -> 0.97854078 | G8: =VLOOKUP($C8,'item response'!$C:$G,5,FALSE) -> 0.70072991
C9: Algarve | D9: =VLOOKUP($C9,'item response'!$C:$G,2,FALSE) -> 1 | E9: =VLOOKUP($C9,'item response'!$C:$G,3,FALSE) -> 1 | F9: =VLOOKUP($C9,'item response'!$C:$G,4,FALSE) -> 0.99009901 | G9: =VLOOKUP($C9,'item response'!$C:$G,5,FALSE) -> 0.7647059
C10: Center | D10: =VLOOKUP($C10,'item response'!$C:$G,2,FALSE) -> 1 | E10: =VLOOKUP($C10,'item response'!$C:$G,3,FALSE) -> 1 | F10: =VLOOKUP($C10,'item response'!$C:$G,4,FALSE) -> 0.99363059 | G10: =VLOOKUP($C10,'item response'!$C:$G,5,FALSE) -> 0.6025641
C11: Lisbon Metropolitan Area | D11: =VLOOKUP($C11,'item response'!$C:$G,2,FALSE) -> 0.99411762 | E11: =VLOOKUP($C11,'item response'!$C:$G,3,FALSE) -> 1 | F11: =VLOOKUP($C11,'item response'!$C:$G,4,FALSE) -> 0.98823529 | G11: =VLOOKUP($C11,'item response'!$C:$G,5,FALSE) -> 0.48979592
C12: Alentejo | D12: =VLOOKUP($C12,'item response'!$C:$G,2,FALSE) -> 1 | E12: =VLOOKUP($C12,'item response'!$C:$G,3,FALSE) -> 1 | F12: =VLOOKUP($C12,'item response'!$C:$G,4,FALSE) -> 1 | G12: =VLOOKUP($C12,'item response'!$C:$G,5,FALSE) -> 0.57377046
C13: Autonomous Region of the Azores | D13: =VLOOKUP($C13,'item response'!$C:$G,2,FALSE) -> 1 | E13: =VLOOKUP($C13,'item response'!$C:$G,3,FALSE) -> 1 | F13: =VLOOKUP($C13,'item response'!$C:$G,4,FALSE) -> 1 | G13: =VLOOKUP($C13,'item response'!$C:$G,5,FALSE) -> 0.65853661
C14: Autonomous Region of Madeira | D14: =VLOOKUP($C14,'item response'!$C:$G,2,FALSE) -> 1 | E14: =VLOOKUP($C14,'item response'!$C:$G,3,FALSE) -> 1 | F14: =VLOOKUP($C14,'item response'!$C:$G,4,FALSE) -> 1 | G14: =VLOOKUP($C14,'item response'!$C:$G,5,FALSE) -> 0.82499999
B15: Sector | C15: Food | D15: =VLOOKUP($C15,'item response'!$C:$G,2,FALSE) -> 1 | E15: =VLOOKUP($C15,'item response'!$C:$G,3,FALSE) -> 1 | F15: =VLOOKUP($C15,'item response'!$C:$G,4,FALSE) -> 1 | G15: =VLOOKUP($C15,'item response'!$C:$G,5,FALSE) -> 0.62727273
C16: Garments | D16: =VLOOKUP($C16,'item response'!$C:$G,2,FALSE) -> 1 | E16: =VLOOKUP($C16,'item response'!$C:$G,3,FALSE) -> 1 | F16: =VLOOKUP($C16,'item response'!$C:$G,4,FALSE) -> 1 | G16: =VLOOKUP($C16,'item response'!$C:$G,5,FALSE) -> 0.78160918
C17: Fabricated Metal Products | D17: =VLOOKUP($C17,'item response'!$C:$G,2,FALSE) -> 1 | E17: =VLOOKUP($C17,'item response'!$C:$G,3,FALSE) -> 1 | F17: =VLOOKUP($C17,'item response'!$C:$G,4,FALSE) -> 1 | G17: =VLOOKUP($C17,'item response'!$C:$G,5,FALSE) -> 0.62162161
C18: Other Manufacturing | D18: =VLOOKUP($C18,'item response'!$C:$G,2,FALSE) -> 1 | E18: =VLOOKUP($C18,'item response'!$C:$G,3,FALSE) -> 1 | F18: =VLOOKUP($C18,'item response'!$C:$G,4,FALSE) -> 0.98235291 | G18: =VLOOKUP($C18,'item response'!$C:$G,5,FALSE) -> 0.62130177
C19: Construction | D19: =VLOOKUP($C19,'item response'!$C:$G,2,FALSE) -> 1 | E19: =VLOOKUP($C19,'item response'!$C:$G,3,FALSE) -> 1 | F19: =VLOOKUP($C19,'item response'!$C:$G,4,FALSE) -> 1 | G19: =VLOOKUP($C19,'item response'!$C:$G,5,FALSE) -> 0
C20: Retail | D20: =VLOOKUP($C20,'item response'!$C:$G,2,FALSE) -> 0.99130434 | E20: =VLOOKUP($C20,'item response'!$C:$G,3,FALSE) -> 1 | F20: =VLOOKUP($C20,'item response'!$C:$G,4,FALSE) -> 0.98260868 | G20: =VLOOKUP($C20,'item response'!$C:$G,5,FALSE) -> 0
C21: Hotels | D21: =VLOOKUP($C21,'item response'!$C:$G,2,FALSE) -> 1 | E21: =VLOOKUP($C21,'item response'!$C:$G,3,FALSE) -> 1 | F21: =VLOOKUP($C21,'item response'!$C:$G,4,FALSE) -> 1 | G21: =VLOOKUP($C21,'item response'!$C:$G,5,FALSE) -> 0
C22: Other Services | D22: =VLOOKUP($C22,'item response'!$C:$G,2,FALSE) -> 0.98429322 | E22: =VLOOKUP($C22,'item response'!$C:$G,3,FALSE) -> 1 | F22: =VLOOKUP($C22,'item response'!$C:$G,4,FALSE) -> 0.97905761 | G22: =VLOOKUP($C22,'item response'!$C:$G,5,FALSE) -> 0
B23: Overall | C23: Portugal 2023 | D23: =VLOOKUP($C23,'item response'!$C:$G,2,FALSE) -> 0.99602783 | E23: =VLOOKUP($C23,'item response'!$C:$G,3,FALSE) -> 1 | F23: =VLOOKUP($C23,'item response'!$C:$G,4,FALSE) -> 0.99106258 | G23: =VLOOKUP($C23,'item response'!$C:$G,5,FALSE) -> 0.65454543
B24: Notes: the rates are calculated as follows. The number of responses with informative content in the respective variable (or combination of variables in the case of TFP) is divided by the same number plus the number of responses that are "don't know" (code -9) or refusal (code -8).

Sheet universe
A1: stratificationregionname | B1: stratificationsizename | C1: _Food | D1: _Garments | E1: _Fabricated_Metal_Products | F1: _Other_Manufacturing | G1: _Construction | H1: _Retail | I1: _Hotels | J1: _Other_Services | K1: _Grand_Total
A2: North | B2: Small (5-19) | C2: 709 | D2: 1457 | E2: 1191 | F2: 4094 | G2: 4942 | H2: 3575 | I2: 365 | J2: 11108
A3: North | B3: Medium (20-99) | C3: 170 | D3: 812 | E3: 383 | F3: 1878 | G3: 1060 | H3: 433 | I3: 112 | J3: 1820
A4: North | B4: Large (100-199) | C4: 42 | D4: 105 | E4: 62 | F4: 376 | G4: 98 | H4: 63 | I4: 11 | J4: 215
A5: Algarve | B5: Small (5-19) | C5: 92 | D5: 3 | E5: 54 | F5: 126 | G5: 821 | H5: 589 | I5: 228 | J5: 2017
A6: Algarve | B6: Medium (20-99) | C6: 22 | E6: 5 | F6: 17 | G6: 120 | H6: 79 | I6: 98 | J6: 259
A7: Algarve | B7: Large (100-199) | G7: 5 | H7: 6 | I7: 33 | J7: 16
A8: Center | B8: Small (5-19) | C8: 609 | D8: 50 | E8: 835 | F8: 1538 | G8: 2727 | H8: 2359 | I8: 272 | J8: 6568
A9: Center | B9: Medium (20-99) | C9: 221 | D9: 48 | E9: 337 | F9: 774 | G9: 420 | H9: 329 | I9: 87 | J9: 1007
A10: Center | B10: Large (100-199) | C10: 49 | D10: 21 | E10: 50 | F10: 223 | G10: 32 | H10: 14 | I10: 4 | J10: 121
A11: Lisbon Metropolitan Area | B11: Small (5-19) | C11: 248 | D11: 22 | E11: 322 | F11: 939 | G11: 2806 | H11: 2590 | I11: 424 | J11: 10344
A12: Lisbon Metropolitan Area | B12: Medium (20-99) | C12: 132 | D12: 10 | E12: 84 | F12: 345 | G12: 547 | H12: 404 | I12: 206 | J12: 2248
A13: Lisbon Metropolitan Area | B13: Large (100-199) | C13: 33 | D13: 1 | E13: 9 | F13: 111 | G13: 75 | H13: 104 | I13: 37 | J13: 452
A14: Alentejo | B14: Small (5-19) | C14: 230 | D14: 4 | E14: 70 | F14: 275 | G14: 590 | H14: 659 | I14: 110 | J14: 1697
A15: Alentejo | B15: Medium (20-99) | C15: 81 | E15: 21 | F15: 115 | G15: 86 | H15: 105 | I15: 28 | J15: 218
A16: Alentejo | B16: Large (100-199) | C16: 16 | D16: 1 | E16: 1 | F16: 37 | G16: 8 | H16: 3 | I16: 4 | J16: 24
A17: Autonomous Region of the Azores | B17: Small (5-19) | C17: 56 | E17: 30 | F17: 62 | G17: 189 | H17: 293 | I17: 63 | J17: 561
A18: Autonomous Region of the Azores | B18: Medium (20-99) | C18: 31 | E18: 5 | F18: 13 | G18: 79 | H18: 41 | I18: 23 | J18: 122
A19: Autonomous Region of the Azores | B19: Large (100-199) | C19: 11 | E19: 1 | F19: 1 | G19: 2 | H19: 8 | I19: 8 | J19: 9
A20: Autonomous Region of Madeira | B20: Small (5-19) | C20: 57 | D20: 2 | E20: 23 | F20: 71 | G20: 261 | H20: 263 | I20: 56 | J20: 759
A21: Autonomous Region of Madeira | B21: Medium (20-99) | C21: 17 | E21: 7 | F21: 15 | G21: 67 | H21: 34 | I21: 57 | J21: 141
A22: Autonomous Region of Madeira | B22: Large (100-199) | C22: 1 | E22: 1 | F22: 1 | G22: 8 | H22: 3 | I22: 14 | J22: 11

Sheet frame fresh and panel
A1: stratificationregionname | B1: stratificationsizename | C1: _Food | D1: _Garments | E1: _Fabricated_Metal_Products | F1: _Other_Manufacturing | G1: _Construction | H1: _Retail | I1: _Hotels | J1: _Other_Services | K1: _Grand_Total
A2: North | B2: Small (5-19) | C2: 643 | D2: 1357 | E2: 1200 | F2: 3965 | G2: 4931 | H2: 3503 | I2: 354 | J2: 10749
A3: North | B3: Medium (20-99) | C3: 175 | D3: 794 | E3: 396 | F3: 1914 | G3: 1102 | H3: 438 | I3: 100 | J3: 1800
A4: North | B4: Large (100 or more) | C4: 45 | D4: 115 | E4: 67 | F4: 392 | G4: 99 | H4: 64 | I4: 13 | J4: 260
A5: Algarve | B5: Small (5-19) | C5: 77 | D5: 2 | E5: 61 | F5: 132 | G5: 802 | H5: 573 | I5: 217 | J5: 1814
A6: Algarve | B6: Medium (20-99) | C6: 25 | E6: 5 | F6: 22 | G6: 115 | H6: 81 | I6: 110 | J6: 239
A7: Algarve | B7: Large (100 or more) | F7: 2 | G7: 6 | H7: 7 | I7: 35 | J7: 17
A8: Center | B8: Small (5-19) | C8: 561 | D8: 53 | E8: 823 | F8: 1507 | G8: 2596 | H8: 2281 | I8: 271 | J8: 6384
A9: Center | B9: Medium (20-99) | C9: 213 | D9: 46 | E9: 335 | F9: 797 | G9: 440 | H9: 306 | I9: 72 | J9: 999
A10: Center | B10: Large (100 or more) | C10: 52 | D10: 26 | E10: 53 | F10: 234 | G10: 33 | H10: 15 | I10: 3 | J10: 131
A11: Lisbon Metropolitan Area | B11: Small (5-19) | C11: 220 | D11: 21 | E11: 325 | F11: 901 | G11: 2675 | H11: 2495 | I11: 389 | J11: 9549
A12: Lisbon Metropolitan Area | B12: Medium (20-99) | C12: 122 | D12: 11 | E12: 91 | F12: 335 | G12: 574 | H12: 400 | I12: 192 | J12: 2225
A13: Lisbon Metropolitan Area | B13: Large (100 or more) | C13: 33 | D13: 3 | E13: 14 | F13: 120 | G13: 81 | H13: 92 | I13: 38 | J13: 475
A14: Alentejo | B14: Small (5-19) | C14: 204 | D14: 4 | E14: 73 | F14: 295 | G14: 555 | H14: 613 | I14: 116 | J14: 1632
A15: Alentejo | B15: Medium (20-99) | C15: 75 | D15: 1 | E15: 25 | F15: 117 | G15: 95 | H15: 111 | I15: 27 | J15: 227
A16: Alentejo | B16: Large (100 or more) | C16: 16 | D16: 1 | E16: 2 | F16: 36 | G16: 7 | I16: 4 | J16: 27
A17: Autonomous Region of the Azores | B17: Small (5-19) | C17: 44 | E17: 30 | F17: 59 | G17: 191 | H17: 251 | I17: 58 | J17: 572
A18: Autonomous Region of the Azores | B18: Medium (20-99) | C18: 30 | E18: 7 | F18: 16 | G18: 72 | H18: 38 | I18: 26 | J18: 118
A19: Autonomous Region of the Azores | B19: Large (100 or more) | C19: 8 | E19: 1 | F19: 2 | G19: 5 | H19: 10 | I19: 8 | J19: 12
A20: Autonomous Region of Madeira | B20: Small (5-19) | C20: 45 | E20: 27 | F20: 81 | G20: 256 | H20: 272 | I20: 57 | J20: 821
A21: Autonomous Region of Madeira | B21: Medium (20-99) | C21: 20 | E21: 10 | F21: 15 | G21: 82 | H21: 37 | I21: 59 | J21: 147
A22: Autonomous Region of Madeira | B22: Large (100 or more) | C22: 2 | F22: 2 | G22: 14 | H22: 3 | I22: 15 | J22: 21

Sheet original survey design
A1: stratificationregionname | B1: stratificationsizename | C1: _Food | D1: _Garments | E1: _Fabricated_Metal_Products | F1: _Other_Manufacturing | G1: _Construction | H1: _Retail | I1: _Hotels | J1: _Other_Services | K1: _Grand_Total
A2: North | B2: Small (5-19) | C2: 4 | D2: 19 | E2: 5 | F2: 18 | G2: 17 | H2: 11 | I2: 2 | J2: 29
A3: North | B3: Medium (20-99) | C3: 4 | D3: 22 | E3: 4 | F3: 6 | G3: 5 | H3: 4 | I3: 2 | J3: 6
A4: North | B4: Large (100-199) | C4: 5 | D4: 20 | E4: 7 | F4: 5 | G4: 4 | H4: 4 | I4: 3 | J4: 4
A5: Algarve | B5: Small (5-19) | C5: 8 | D5: 2 | E5: 10 | F5: 4 | G5: 2 | H5: 5 | I5: 4 | J5: 7
A6: Algarve | B6: Medium (20-99) | C6: 10 | D6: 0 | E6: 3 | F6: 8 | G6: 3 | H6: 11 | I6: 16 | J6: 4
A7: Algarve | B7: Large (100-199) | C7: 0 | D7: 0 | E7: 0 | F7: 2 | G7: 2 | H7: 3 | I7: 13 | J7: 3
A8: Center | B8: Small (5-19) | C8: 4 | D8: 10 | E8: 9 | F8: 6 | G8: 9 | H8: 9 | I8: 2 | J8: 21
A9: Center | B9: Medium (20-99) | C9: 7 | D9: 16 | E9: 6 | F9: 7 | G9: 3 | H9: 4 | I9: 2 | J9: 5
A10: Center | B10: Large (100-199) | C10: 5 | D10: 11 | E10: 11 | F10: 17 | G10: 5 | H10: 6 | I10: 1 | J10: 4
A11: Lisbon Metropolitan Area | B11: Small (5-19) | C11: 4 | D11: 7 | E11: 7 | F11: 4 | G11: 10 | H11: 15 | I11: 3 | J11: 29
A12: Lisbon Metropolitan Area | B12: Medium (20-99) | C12: 4 | D12: 5 | E12: 6 | F12: 5 | G12: 2 | H12: 5 | I12: 5 | J12: 10
A13: Lisbon Metropolitan Area | B13: Large (100-199) | C13: 7 | D13: 2 | E13: 5 | F13: 16 | G13: 8 | H13: 7 | I13: 8 | J13: 6
... A22: Autonomous Region of Madeira | B22: Large (100-199) | C22: 2 | D22: 0 | E22: 0 | F22: 2 | G22: 3 | H22: 2 | I22: 4 | J22: 5

Sheet yield calculation
A1: Survey | B1: Cell | C1: Name | D1: Yield | E1: Survey_response_rate | F1: Frame_quality
A2: Portugal 2023 | B2: Fresh/Panel | C2: Fresh | D2: 0.141785 | E2: 0.28185484 | F2: 0.50304258
A3: Portugal 2023 | B3: Fresh/Panel | C3: Panel | D3: 0.29001883 | E3: 0.4219178 | F3: 0.68738228
A4: Portugal 2023 | B4: Size | C4: Small (5-19) | D4: 0.1518777 | E4: 0.29771987 | F4: 0.51013625
A5: Portugal 2023 | B5: Size | C5: Medium (20-99) | D5: 0.17412399 | E5: 0.32494971 | F5: 0.53584903
A6: Portugal 2023 | B6: Size | C6: Large (100+) | D6: 0.20124114 | E6: 0.33333334 | F6: 0.60372341
A7: Portugal 2023 | B7: Region | C7: North | D7: 0.14700316 | E7: 0.29568529 | F7: 0.49716088
A8: Portugal 2023 | B8: Region | C8: Algarve | D8: 0.1811723 | E8: 0.31974921 | F8: 0.56660748
A9: Portugal 2023 | B9: Region | C9: Center | D9: 0.15407263 | E9: 0.26929674 | F9: 0.57212955
A10: Portugal 2023 | B10: Region | C10: Lisbon Metropolitan Area | D10: 0.13201581 | E10: 0.25692308 | F10: 0.513834
A11: Portugal 2023 | B11: Region | C11: Alentejo | D11: 0.17576791 | E11: 0.30654761 | F11: 0.57337886
A12: Portugal 2023 | B12: Region | C12: Autonomous Region of the Azores | D12: 0.28018224 | E12: 0.4522059 | F12: 0.61958998
A13: Portugal 2023 | B13: Region | C13: Autonomous Region of Madeira | D13: 0.22803739 | E13: 0.46564886 | F13: 0.48971963
... A22: Portugal 2023 | B22: Portugal 2023 | C22: Portugal 2023 | D22: 0.16805741 | E22: 0.31370717 | F22: 0.53571427

Sheet achieved fresh and panel
A1: stratificationregionname | B1: stratificationsizename | C1: _Food | D1: _Garments | E1: _Fabricated_Metal_Products | F1: _Other_Manufacturing | G1: _Construction | H1: _Retail | I1: _Hotels | J1: _Other_Services | K1: _Grand_Total
A2: North | B2: Small (5-19) | C2: 4 | D2: 25 | E2: 8 | F2: 21 | G2: 17 | H2: 15 | I2: 3 | J2: 30
A3: North | B3: Medium (20-99) | C3: 6 | D3: 18 | E3: 7 | F3: 10 | G3: 4 | H3: 5 | I3: 2 | J3: 4
A4: North | B4: Large (100 or more) | C4: 6 | D4: 22 | E4: 8 | F4: 6 | G4: 3 | H4: 2 | I4: 1 | J4: 6
A5: Algarve | B5: Small (5-19) | C5: 6 | D5: 1 | E5: 10 | F5: 5 | G5: 2 | H5: 4 | I5: 1 | J5: 11
A6: Algarve | B6: Medium (20-99) | C6: 6 | E6: 3 | F6: 6 | G6: 2 | H6: 7 | I6: 14 | J6: 3
A7: Algarve | B7: Large (100 or more) | F7: 2 | G7: 2 | H7: 3 | I7: 10 | J7: 4
A8: Center | B8: Small (5-19) | C8: 5 | D8: 9 | E8: 9 | F8: 9 | G8: 8 | H8: 7 | I8: 5 | J8: 25
A9: Center | B9: Medium (20-99) | C9: 3 | D9: 9 | E9: 4 | F9: 5 | G9: 3 | H9: 2 | I9: 2 | J9: 3
A10: Center | B10: Large (100 or more) | C10: 3 | D10: 7 | E10: 10 | F10: 14 | G10: 5 | H10: 3 | J10: 7
A11: Lisbon Metropolitan Area | B11: Small (5-19) | C11: 2 | D11: 2 | E11: 2 | F11: 7 | G11: 14 | H11: 10 | I11: 3 | J11: 28
A12: Lisbon Metropolitan Area | B12: Medium (20-99) | C12: 2 | D12: 4 | E12: 7 | F12: 11 | G12: 3 | H12: 3 | I12: 6 | J12: 6
A13: Lisbon Metropolitan Area | B13: Large (100 or more) | C13: 7 | E13: 4 | F13: 9 | G13: 14 | H13: 12 | I13: 7 | J13: 4
A14: Alentejo | B14: Small (5-19) | C14: 5 | D14: 2 | E14: 11 | F14: 5 | G14: 3 | H14: 6 | I14: 2 | J14: 7
A15: Alentejo | B15: Medium (20-99) | C15: 7 | D15: 1 | E15: 7 | F15: 14 | G15: 3 | H15: 2 | I15: 6 | J15: 3
A16: Alentejo | B16: Large (100 or more) | C16: 4 | F16: 6 | G16: 2 | I16: 2 | J16: 5
A17: Autonomous Region of the Azores | B17: Small (5-19) | C17: 11 | E17: 8 | F17: 11 | G17: 2 | H17: 5 | I17: 24 | J17: 2
A18: Autonomous Region of the Azores | B18: Medium (20-99) | C18: 9 | F18: 8 | G18: 16 | H18: 6 | I18: 8 | J18: 3
A19: Autonomous Region of the Azores | B19: Large (100 or more) | C19: 1 | E19: 1 | G19: 1 | H19: 4 | I19: 1 | J19: 2
A20: Autonomous Region of Madeira | B20: Small (5-19) | C20: 8 | E20: 7 | F20: 6 | G20: 6 | H20: 3 | I20: 9 | J20: 6
A21: Autonomous Region of Madeira | B21: Medium (20-99) | C21: 10 | E21: 4 | F21: 4 | G21: 16 | H21: 6 | I21: 14 | J21: 6
A22: Autonomous Region of Madeira | B22: Large (100 or more) | C22: 2 | F22: 1 | G22: 1 | H22: 1 | I22: 5 | J22: 7

Sheet achieved panel
A1: stratificationregionname | B1: stratificationsizename | C1: _Food | D1: _Garments | E1: _Fabricated_Metal_Products | F1: _Other_Manufacturing | G1: _Construction | H1: _Retail | I1: _Hotels | J1: _Other_Services | K1: _Grand_Total
A2: North | B2: Small (5-19) | C2: 2 | D2: 9 | E2: 3 | F2: 9 | G2: 2 | H2: 2 | J2: 7
A3: North | B3: Medium (20-99) | C3: 2 | D3: 5 | E3: 5 | F3: 3 | H3: 3
A4: North | B4: Large (100 or more) | C4: 4 | D4: 9 | E4: 2 | F4: 4 | J4: 3
A5: Algarve | B5: Small (5-19) | C5: 4 | D5: 1 | E5: 6 | F5: 1 | H5: 3 | J5: 2
A6: Algarve | B6: Medium (20-99) | C6: 5 | E6: 1 | F6: 5 | H6: 5 | I6: 1 | J6: 1
A7: Algarve | B7: Large (100 or more) | F7: 2 | H7: 2 | I7: 5 | J7: 1
A8: Center | B8: Small (5-19) | C8: 2 | E8: 5 | F8: 4 | G8: 1 | H8: 3 | J8: 2
A9: Center | B9: Medium (20-99) | C9: 1 | F9: 5 | J9: 1
A10: Center | B10: Large (100 or more) | D10: 4 | E10: 3 | F10: 12 | G10: 1 | H10: 1 | J10: 3
A11: Lisbon Metropolitan Area | B11: Small (5-19) | C11: 1 | D11: 1 | E11: 1 | F11: 5 | I11: 1 | J11: 5
A12: Lisbon Metropolitan Area | B12: Medium (20-99) | D12: 2 | E12: 3 | F12: 7 | H12: 1 | J12: 1
A13: Lisbon Metropolitan Area | B13: Large (100 or more) | C13: 2 | F13: 7 | H13: 4 | J13: 2
A14: Alentejo | B14: Small (5-19) | C14: 3 | D14: 1 | E14: 5 | F14: 4 | H14: 2 | J14: 1
A15: Alentejo | B15: Medium (20-99) | C15: 4 | D15: 1 | E15: 4 | F15: 12 | J15: 1
A16: Alentejo | B16: Large (100 or more) | C16: 2 | F16: 2 | G16: 1 | J16: 2
A17: Autonomous Region of the Azores | B17: Small (5-19) | C17: 4 | E17: 5 | F17: 5 | H17: 3
A18: Autonomous Region of the Azores | B18: Medium (20-99) | C18: 4 | F18: 6 | H18: 2
A19: Autonomous Region of the Azores | B19: Large (100 or more) | E19: 1 | G19: 1 | H19: 1
A20: Autonomous Region of Madeira | B20: Small (5-19) | C20: 1 | E20: 1 | F20: 2 | H20: 1 | J20: 3
A21: Autonomous Region of Madeira | B21: Medium (20-99) | C21: 3 | E21: 1 | F21: 2 | J21: 3
A22: Autonomous Region of Madeira | B22: Large (100 or more) | C22: 2 | F22: 1 | H22: 1

Sheet universe_strict
A1: stratificationregionname | B1: stratificationsizename | C1: _Food | D1: _Garments | E1: _Fabricated_Metal_Products | F1: _Other_Manufacturing | G1: _Construction | H1: _Retail | I1: _Hotels | J1: _Other_Services | K1: _Grand_Total
A2: North | B2: Small (5-19) | C2: 303.802 | D2: 661.19519 | E2: 603.2395 | F2: 2097.3547 | G2: 1935.4553 | H2: 1583.6086 | I2: 174.04596 | J2: 4701.208
A3: North | B3: Medium (20-99) | C3: 77.647697 | D3: 381.56827 | E3: 206.13414 | F3: 1015.3412 | G3: 446.89764 | H3: 200.90559 | I3: 55.301285 | J3: 797.61102
A4: North | B4: Large (100 or more) | C4: 23.682693 | D4: 64.097656 | E4: 41.36734 | F4: 246.65176 | G4: 47.620041 | H4: 34.819775 | I4: 7.613575 | J4: 135.15158
A5: Algarve | B5: Small (5-19) | C5: 36.586178 | D5: 1.3263378 | E5: 28.459234 | F5: 62.759972 | G5: 298.40656 | H5: 242.14301 | I5: 100.8999 | J5: 792.25385
A6: Algarve | B6: Medium (20-99) | C6: 10.294739 | E6: 3 | F6: 10.831225 | G6: 45.164017 | H6: 34.481632 | I6: 50.407444 | J6: 105.34268
A7: Algarve | B7: Large (100 or more) | F7: 2 | G7: 2.6784935 | H7: 3.5345073 | I7: 22.000126 | J7: 8.2012787
A8: Center | B8: Small (5-19) | C8: 281.64682 | D8: 25.959068 | E8: 453.04175 | F8: 850.40039 | G8: 1152.6797 | H8: 1127.828 | I8: 139.98553 | J8: 3000.198
A9: Center | B9: Medium (20-99) | C9: 105.83417 | D9: 24.344488 | E9: 189.33362 | F9: 352.36374 | G9: 192.58493 | H9: 162.87596 | J9: 476.3129
A10: Center | B10: Large (100 or more) | C10: 29.536909 | D10: 15.640867 | E10: 35.318459 | F10: 158.91219 | G10: 17.132139 | H10: 8.8080626 | J10: 73.49575
A11: Center | B11: Medium and Large (20+) | I11: 54.940353
A12: Lisbon Metropolitan Area | B12: Small (5-19) | C12: 102.99899 | D12: 9.676753 | E12: 158.35391 | F12: 466.25821 | G12: 1065.1356 | H12: 1112.0094 | I12: 195.96291 | J12: 4243.2539
A13: Lisbon Metropolitan Area | B13: Medium (20-99) | C13: 56.7677 | E13: 47.256432 | F13: 177.38875 | G13: 225.61877 | H13: 179.61234 | I13: 98.587372 | J13: 954.88904
A14: Lisbon Metropolitan Area | B14: Large (100 or more) | C14: 16.833303 | E14: 8.3781404 | F14: 73.184021 | G14: 37.763866 | H14: 54.842369 | I14: 21.570774 | J14: 239.3196
A15: Lisbon Metropolitan Area | B15: Medium and Large (20+) | D15: 7.223886
A16: Alentejo | B16: Small (5-19) | C16: 103.01638 | D16: 2 | E16: 38.358841 | F16: 157.97198 | G16: 241.52742 | H16: 305.13452 | I16: 57.818012 | J16: 750.73999
A17: Alentejo | B17: Medium (20-99) | C17: 37.567265 | F17: 64.876892 | G17: 40.270233 | I17: 14.451379 | J17: 103.98715
A18: Alentejo | B18: Large (100 or more) | C18: 8.8018227 | F18: 24.335148 | G18: 4.0223384 | I18: 2.4487212 | J18: 14.670524
A19: Alentejo | B19: Medium and Large (20+) | D19: 1 | E19: 16.643408 | H19: 61.922226
A20: Autonomous Region of the Azores | B20: Small (5-19) | C20: 26.603243 | E20: 16.719833 | F20: 35.214203 | G20: 82.930809 | H20: 143.89366 | I20: 33.305336 | J20: 268.39337
A21: Autonomous Region of the Azores | B21: Medium (20-99) | C21: 15.249456 | G21: 35.518593 | H21: 21.380243 | I21: 14.232878 | J21: 59.27639
A22: Autonomous Region of the Azores | B22: Large (100 or more) | C22: 6.4182024 | G22: 2.2105632 | H22: 6.0318165 | I22: 5.1944242 | J22: 6.9156208
A23: Autonomous Region of the Azores | B23: Medium and Large (20+) | E23: 3.536901 | F23: 11.993184
A24: Autonomous Region of Madeira | B24: Small (5-19) | C24: 23.505047 | D24: 40.427765 | E24: 13.062137 | G24: 98.37001 | H24: 115.95316 | I24: 26.156992 | J24: 334.3941
A25: Autonomous Region of Madeira | B25: Medium (20-99) | C25: 10 | F25: 7.6577864 | G25: 32.002373 | H25: 16.332832 | I25: 28.035683 | J25: 62.752537
A26: Autonomous Region of Madeira | B26: Large (100 or more) | C26: 2 | F26: 1 | G26: 6.4807377 | H26: 1.3263378 | I26: 8.4543142 | J26: 10.505312
A27: Autonomous Region of Madeira | B27: Medium and Large (20+) | E27: 6.2427936

Sheet universe_median
A1: stratificationregionname | B1: stratificationsizename | C1: _Food | D1: _Garments | E1: _Fabricated_Metal_Products | F1: _Other_Manufacturing | G1: _Construction | H1: _Retail | I1: _Hotels | J1: _Other_Services | K1: _Grand_Total
A2: North | B2: Small (5-19) | C2: 311.13748 | D2: 668.14581 | E2: 597.30615 | F2: 2118.9893 | G2: 1979.87 | H2: 1613.2769 | I2: 190.0692 | J2: 5165.9937
A3: North | B3: Medium (20-99) | C3: 78.535706 | D3: 380.79456 | E3: 201.57376 | F3: 1013.0848 | G3: 451.48001 | H3: 202.12965 | I3: 59.643059 | J3: 865.59045
A4: North | B4: Large (100 or more) | C4: 22.983347 | D4: 61.376793 | E4: 38.813721 | F4: 236.13571 | G4: 46.159786 | H4: 33.613018 | I4: 7.8787432 | J4: 140.7298
A5: Algarve | B5: Small (5-19) | C5: 43.270874 | D5: 1.4262694 | E5: 32.542229 | F5: 73.224525 | G5: 352.51593 | H5: 284.87207 | I5: 127.24931 | J5: 1005.3694
A6: Algarve | B6: Medium (20-99) | C6: 12.024606 | E6: 3 | F6: 12.480394 | G6: 52.691418 | H6: 40.062923 | I6: 62.782173 | J6: 132.02086
A7: Algarve | B7: Large (100 or more) | F7: 2 | G7: 2.9983447 | H7: 3.9402816 | I7: 25.569998 | J7: 9.8619614
A8: Center | B8: Small (5-19) | C8: 294.36826 | D8: 26.770418 | E8: 457.7937 | F8: 876.80872 | G8: 1203.3353 | H8: 1172.5419 | I8: 156.01106 | J8: 3364.4863
A9: Center | B9: Medium (20-99) | C9: 109.24184 | D9: 24.793825 | E9: 188.94537 | F9: 378.91223 | G9: 198.55334 | H9: 167.23199 | J9: 527.51904
A10: Center | B10: Large (100 or more) | C10: 29.253086 | D10: 15.284362 | E10: 33.818466 | F10: 155.25981 | G10: 16.947674 | H10: 8.6773357 | J10: 78.100113
A11: Center | B11: Medium and Large (20+) | I11: 58.020874
A12: Lisbon Metropolitan Area | B12: Small (5-19) | C12: 109.85204 | D12: 10.18321 | E12: 163.28621 | F12: 490.56543 | G12: 1134.6763 | H12: 1179.731 | I12: 222.86153 | J12: 4855.7568
A13: Lisbon Metropolitan Area | B13: Medium (20-99) | C13: 59.793423 | E13: 48.129967 | F13: 184.32042 | G13: 237.36636 | H13: 188.18613 | I13: 110.72852 | J13: 1079.1648
A14: Lisbon Metropolitan Area | B14: Large (100 or more) | C14: 17.012383 | E14: 8.1863232 | F14: 72.963768 | G14: 38.120975 | H14: 55.132954 | I14: 23.245962 | J14: 259.51157
A15: Lisbon Metropolitan Area | B15: Medium and Large (20+) | D15: 7.2035484
A16: Alentejo | B16: Small (5-19) | C16: 107.56558 | D16: 2 | E16: 38.723801 | F16: 162.72052 | G16: 251.89835 | H16: 316.92581 | I16: 64.374855 | J16: 841.0838
A17: Alentejo | B17: Medium (20-99) | C17: 38.739456 | F17: 65.997757 | G17: 41.478203 | I17: 15.890565 | J17: 115.05521
A18: Alentejo | B18: Large (100 or more) | C18: 8.7088366 | F18: 23.752905 | G18: 3.9751906 | I18: 2.5835268 | J18: 15.574564
A19: Alentejo | B19: Medium and Large (20+) | D19: 1 | E19: 15.921183 | H19: 60.944355
A20: Autonomous Region of the Azores | B20: Small (5-19) | C20: 30.172159 | E20: 18.333664 | F20: 39.398968 | G20: 93.946259 | H20: 162.33522 | I20: 40.278351 | J20: 326.60764
A21: Autonomous Region of the Azores | B21: Medium (20-99) | C21: 17.080597 | G21: 39.73711 | H21: 23.833235 | I21: 16.999163 | J21: 71.238235
A22: Autonomous Region of the Azores | B22: Large (100 or more) | C22: 6.8977222 | G22: 2.3771157 | H22: 6.4482183 | I22: 5.9527249 | J22: 7.9745507
A23: Autonomous Region of the Azores | B23: Medium and Large (20+) | E23: 3.803385 | F23: 12.715166
A24: Autonomous Region of Madeira | B24: Small (5-19) | C24: 24.095188 | D24: 40.883125 | E24: 12.945799 | G24: 100.72186 | H24: 118.23637 | I24: 28.591906 | J24: 367.79895
A25: Autonomous Region of Madeira | B25: Medium (20-99) | C25: 10 | F25: 7.6479406 | G25: 32.360867 | H25: 16.447765 | I25: 30.265182 | J25: 68.098824
A26: Autonomous Region of Madeira | B26: Large (100 or more) | C26: 2 | F26: 1 | G26: 6.2879052 | H26: 1.4262694 | I26: 8.7569771 | J26: 10.949174
A27: Autonomous Region of Madeira | B27: Medium and Large (20+) | E27: 5.8629236

Sheet universe_weak
A1: stratificationregionname | B1: stratificationsizename | C1: _Food | D1: _Garments | E1: _Fabricated_Metal_Products | F1: _Other_Manufacturing | G1: _Construction | H1: _Retail | I1: _Hotels | J1: _Other_Services | K1: _Grand_Total
A2: North | B2: Small (5-19) | C2: 690.55164 | D2: 1358.1202 | E2: 1156.266 | F2: 3944.6311 | G2: 4734.4707 | H2: 3430.2791 | I2: 356.38895 | J2: 10619.019
A3: North | B3: Medium (20-99) | C3: 169.50682 | D3: 752.72083 | E3: 379.46432 | F3: 1834.0016 | G3: 1049.9038 | H3: 417.9523 | I3: 108.75484 | J3: 1730.2909
A4: North | B4: Large (100 or more) | C4: 43.950722 | D4: 107.49298 | E4: 64.737343 | F4: 378.74615 | G4: 95.105896 | H4: 61.579605 | I4: 12.728532 | J4: 249.24442
A5: Algarve | B5: Small (5-19) | C5: 92.6073 | D5: 2.8930063 | E5: 60.745461 | F5: 131.44376 | G5: 812.86664 | H5: 584.08514 | I5: 230.07727 | J5: 1992.7916
A6: Algarve | B6: Medium (20-99) | C6: 25.026297 | E6: 4.9516869 | F6: 21.786524 | G6: 118.15623 | H6: 79.881287 | I6: 110.39025 | J6: 254.48076
A7: Algarve | B7: Large (100 or more) | F7: 2 | G7: 5.9570465 | H7: 6.9608531 | I7: 37.645405 | J7: 16.842575
A8: Center | B8: Small (5-19) | C8: 606.12683 | D8: 50.483658 | E8: 822.16553 | F8: 1514.2976 | G8: 2669.6243 | H8: 2313.0105 | I8: 271.39172 | J8: 6416.2012
A9: Center | B9: Medium (20-99) | C9: 218.7448 | D9: 45.469006 | E9: 329.99084 | F9: 768.57532 | G9: 428.36786 | H9: 320.80771 | J9: 978.30328
A10: Center | B10: Large (100 or more) | C10: 51.898304 | D10: 24.834301 | E10: 52.330185 | F10: 231.03316 | G10: 32.395336 | H10: 14.748386 | J10: 128.32748
A11: Center | B11: Medium and Large (20+) | I11: 91.920944
A12: Lisbon Metropolitan Area | B12: Small (5-19) | C12: 248.80275 | D12: 21.122969 | E12: 322.56216 | F12: 931.91815 | G12: 2768.917 | H12: 2559.8042 | I12: 426.43304 | J12: 10185.694
A13: Lisbon Metropolitan Area | B13: Medium (20-99) | C13: 131.69724 | E13: 90.863808 | F13: 340.5105 | G13: 563.29175 | H13: 397.08868 | I13: 206.03993 | J13: 2201.3933
A14: Lisbon Metropolitan Area | B14: Large (100 or more) | C14: 33.198696 | E14: 13.933547 | F14: 119.42548 | G14: 80.151352 | H14: 103.07275 | I14: 38.324112 | J14: 469.02856
A15: Lisbon Metropolitan Area | B15: Medium and Large (20+) | D15: 13.608357
A16: Alentejo | B16: Small (5-19) | C16: 230.5235 | D16: 3.8368614 | E16: 72.383041 | F16: 292.49475 | G16: 581.64526 | H16: 650.69312 | I16: 116.55391 | J16: 1669.4287
A17: Alentejo | B17: Medium (20-99) | C17: 80.736816 | F17: 115.36687 | G17: 93.138443 | I17: 27.978603 | J17: 222.08084
A18: Alentejo | B18: Large (100 or more) | C18: 16.080921 | F18: 36.78759 | G18: 7.9086018 | I18: 4.0302539 | J18: 26.635036
A19: Alentejo | B19: Medium and Large (20+) | D19: 1.9286708 | E19: 27.103359 | H19: 113.95702
A20: Autonomous Region of the Azores | B20: Small (5-19) | C20: 55.933014 | E20: 29.643396 | F20: 61.260506 | G20: 187.64299 | H20: 288.30438 | I20: 63.081528 | J20: 560.7572
A21: Autonomous Region of the Azores | B21: Medium (20-99) | C21: 30.792227 | G21: 77.183647 | H21: 40.374863 | I21: 25.890129 | J21: 118.94272
A22: Autonomous Region of the Azores | B22: Large (100 or more) | C22: 11.017333 | G22: 4.8216772 | H22: 9.8670473 | I22: 8.0325832 | J22: 11.796784
A23: Autonomous Region of the Azores | B23: Medium and Large (20+) | E23: 7.7146835 | F23: 18.005568
A24: Autonomous Region of Madeira | B24: Small (5-19) | C24: 56.961075 | D24: 81.063599 | E24: 26.692768 | G24: 256.54443 | H24: 267.77847 | I24: 57.103092 | J24: 805.27649
A25: Autonomous Region of Madeira | B25: Medium (20-99) | C25: 19.876163 | F25: 14.746958 | G25: 80.15583 | H25: 36.224937 | I25: 58.780865 | J25: 144.05794
A26: Autonomous Region of Madeira | B26: Large (100 or more) | C26: 2.6980953 | F26: 1.9286709 | G26: 13.799192 | H26: 2.8930063 | I26: 15.068832 | J26: 20.65498
A27: Autonomous Region of Madeira | B27: Medium and Large (20+) | E27: 11.00951

Sheet item response
A1: Survey | B1: Cell | C1: Name | D1: rr_d2 | E1: rr_l1 | F1: rr_n2a | G1: rr_TFP
A2: Portugal 2023 | B2: Fresh/Panel | C2: Fresh | D2: 0.99570817 | E2: 1 | F2: 0.9899857 | G2: 0.67916667
A3: Portugal 2023 | B3: Fresh/Panel | C3: Panel | D3: 0.99675328 | E3: 1 | F3: 0.99350649 | G3: 0.625
A4: Portugal 2023 | B4: Size | C4: Small (5-19) | D4: 0.99132323 | E4: 1 | F4: 0.98915404 | G4: 0.69999999
A5: Portugal 2023 | B5: Size | C5: Medium (20-99) | D5: 1 | E5: 1 | F5: 0.99076921 | G5: 0.66883117
A6: Portugal 2023 | B6: Size | C6: Large (100+) | D6: 1 | E6: 1 | F6: 0.99547511 | G6: 0.55660379
A7: Portugal 2023 | B7: Region | C7: North | D7: 0.98712444 | E7: 1 | F7: 0.97854078 | G7: 0.70072991
A8: Portugal 2023 | B8: Region | C8: Algarve | D8: 1 | E8: 1 | F8: 0.99009901 | G8: 0.7647059
A9: Portugal 2023 | B9: Region | C9: Center | D9: 1 | E9: 1 | F9: 0.99363059 | G9: 0.6025641
A10: Portugal 2023 | B10: Region | C10: Lisbon Metropolitan Area | D10: 0.99411762 | E10: 1 | F10: 0.98823529 | G10: 0.48979592
A11: Portugal 2023 | B11: Region | C11: Alentejo | D11: 1 | E11: 1 | F11: 1 | G11: 0.57377046
A12: Portugal 2023 | B12: Region | C12: Autonomous Region of the Azores | D12: 1 | E12: 1 | F12: 1 | G12: 0.65853661
A13: Portugal 2023 | B13: Region | C13: Autonomous Region of Madeira | D13: 1 | E13: 1 | F13: 1 | G13: 0.82499999
A14: Portugal 2023 | B14: Sector | C14: Construction | D14: 1 | E14: 1 | F14: 1
A15: Portugal 2023 | B15: Sector | C15: Fabricated Metal Products | D15: 1 | E15: 1 | F15: 1 | G15: 0.62162161
A16: Portugal 2023 | B16: Sector | C16: Food | D16: 1 | E16: 1 | F16: 1 | G16: 0.62727273
A17: Portugal 2023 | B17: Sector | C17: Garments | D17: 1 | E17: 1 | F17: 1 | G17: 0.78160918
A18: Portugal 2023 | B18: Sector | C18: Hotels | D18: 1 | E18: 1 | F18: 1
A19: Portugal 2023 | B19: Sector | C19: Other Manufacturing | D19: 1 | E19: 1 | F19: 0.98235291 | G19: 0.62130177
A20: Portugal 2023 | B20: Sector | C20: Other Services | D20: 0.98429322 | E20: 1 | F20: 0.97905761
A21: Portugal 2023 | B21: Sector | C21: Retail | D21: 0.99130434 | E21: 1 | F21: 0.98260868
A22: Portugal 2023 | B22: Portugal 2023 | C22: Portugal 2023 | D22: 0.99602783 | E22: 1 | F22: 0.99106258 | G22: 0.65454543
