Workbook

Sheet Graphs
A1: Strict assumption | B1: =SUM(Overview!J8:J12)/Overview!G40 -> 0.24504836 | F1: Non-response rate d2 | L1: Rejection/Contact | M1: Interviews/Contact
A2: Median assumption | B2: =(SUM(Overview!J8:J12)+SUM(Overview!J36:J37)+Overview!J14)/Overview!G40 -> 0.47443574 | F2: Manufacturing | G2: Retail/Wholesale | H2: Other Services | L2: =Overview!D23+Overview!D28 -> 0.22293874 | M2: =Overview!D26 -> 0.24458775
A3: Weak assumption | B3: =(SUM(Overview!J8:J12)+SUM(Overview!J36:J37)+Overview!J14+SUM(Overview!J32:J35)+Overview!J38)/Overview!G40 -> 0.93827729 | F3: 0.067096774 | G3: 0.074380165 | H3: 0.096385542

Sheet Overview
B3: SUMMARY | G3: SCREENING PHASE
B6: Target and totals | C6: Sample target | D6: 1050 | G6: =SUM(J6) -> 144 | H6: Screening in process | I6: 14. In process (the establishment is being called/ is being contacted - previous to ask the screener) | J6: 144
C7: Sample target completion rate | D7: 1.0114286
C8: Total contacts available in frame | D8: 13818 | G8: =SUM(J8:J12) -> 1064 | H8: Eligible | I8: 1. Eligible establishment (Correct name and address) | J8: 1064
C9: Total contacts issued | D9: 5003 | I9: 2. Eligible establishment (Different name but same address - the new firm/establishment bought the original firm/establishment) | J9: 0
C10: Total contacts contacted | D10: 4342 | I10: 3. Eligible establishment (Different name but same address - the firm/establishment changed its name) | J10: 0
I11: 4. Eligible establishment (Moved and traced) | J11: 0
B12: Screening phase | C12: Screening in process | D12: 144 | I12: 16. Eligible establishment (Panel Firm - now less than five employees; this code applies only to panel firms.) | J12: 0
C13: Eligibles | D13: 1064
C14: Screener refusal | D14: 968 | G14: =SUM(J14) -> 968 | H14: Screener refusal | I14: 13. Refuses to answer the screener | J14: 968
C15: Ineligible + out of target | D15: 124
C16: Unobtainable | D16: 2042 | G16: =SUM(J16:J24) -> 69 | H16: Ineligible | I16: 5. The establishment has less than 5 permanent full time employees | J16: 21
B17: Interview phase (only if eligible) | C17: Complete interviews without extra module | D17: 0 | I17: 616. The firm discontinued businesses - (Establishment went bankrupt) | J17: 19
C18: Complete interviews with extra module | D18: 1062 | I18: 618. The firm discontinued businesses - (Original establishment disappeared and is now a different firm) | J18: 2
C19: Eligible in process + incomplete interviews | D19: 2 | I19: 619. The firm discontinued businesses - (Establishment was bought out by another firm) | J19: 0
C20: Interview refusal | D20: 0 | I20: 620. The firm discontinued businesses - (It was impossible to determine for what reason) | J20: 5
I21: 621. The firm discontinued businesses - (Other) | J21: 8
B22: Percent breakdown (relative to total contacted) | C22: Screening in process rate | D22: 0.03316444 | I22: 71. Ineligible legal status: not a business, but private household | J22: 4
C23: Screener refusal rate | D23: 0.22293874 | I23: 72. Ineligible legal status: cooperatives, non-profit organizations, etc. | J23: 8
C24: Ineligible + out of target rate | D24: 0.028558268 | I24: 8. Ineligible activity: Education, Agriculture, Finances, Government, etc. | J24: 2
C25: Unobtainable rate | D25: 0.47029019 | G25: =SUM(J25:J31) -> 55 | H25: Out of Target | I25: 151. Out of target - outside the covered regions | J25: 0
C26: Interview conversion rate | D26: 0.24458775 | I26: 152. Out of target - moved abroad | J26: 0
C27: Eligible in process + incomplete interviews rate | D27: 0.00046061723 | I27: 153. Out of target - Not registered with Statistical Authority | J27: 1
C28: Interview refusal rate | D28: 0 | I28: 154. Out of target - establishment is HQ without production or sales of goods or services | J28: 8
I29: 155. Out of target - establishment was not in operation for the entirety of last fiscal year | J29: 0
I30: 156. Duplicated firm within the sample | J30: 31
I31: 157. Out of target - location that is not HQ and does not have financial statements prepared separately | J31: 15
G32: =SUM(J32:J38) -> 2042 | H32: Unobtainable | I32: 91. No reply after having called in different days of the week and in different business hours | J32: 1275
I33: 92. Line out of order | J33: 38
I34: 93. No tone | J34: 4
I35: 94. Phone number does not exist | J35: 687
I36: 10. Answering machine | J36: 18
I37: 11. Fax line- data line | J37: 10
I38: 12. Wrong address/ moved away and could not get the new references | J38: 10
G40: =SUM(G6:G38) -> 4342 | H40: Total contacted

Sheet Original Design Fresh Formatted
C1: =RIGHT(SUBSTITUTE(original_design_fresh!C1,"_"," "),LEN(SUBSTITUTE(original_design_fresh!C1,"_"," "))-1) -> Food | D1: =RIGHT(SUBSTITUTE(original_design_fresh!D1,"_"," "),LEN(SUBSTITUTE(original_design_fresh!D1,"_"," "))-1) -> Garments | E1: =RIGHT(SUBSTITUTE(original_design_fresh!E1,"_"," "),LEN(SUBSTITUTE(original_design_fresh!E1,"_"," "))-1) -> Fabricated Metal Products | F1: =RIGHT(SUBSTITUTE(original_design_fresh!F1,"_"," "),LEN(SUBSTITUTE(original_design_fresh!F1,"_"," "))-1) -> Machinery and Equipment | G1: =RIGHT(SUBSTITUTE(original_design_fresh!G1,"_"," "),LEN(SUBSTITUTE(original_design_fresh!G1,"_"," "))-1) -> Other Manufacturing | H1: =RIGHT(SUBSTITUTE(original_design_fresh!H1,"_"," "),LEN(SUBSTITUTE(original_design_fresh!H1,"_"," "))-1) -> Retail | I1: =RIGHT(SUBSTITUTE(original_design_fresh!I1,"_"," "),LEN(SUBSTITUTE(original_design_fresh!I1,"_"," "))-1) -> Other Services | J1: =RIGHT(SUBSTITUTE(original_design_fresh!J1,"_"," "),LEN(SUBSTITUTE(original_design_fresh!J1,"_"," "))-1) -> Grand Total
A2: =original_design_fresh!A2 -> North | B2: =LEFT(original_design_fresh!B2,FIND(")",original_design_fresh!B2)) -> Small (5-19) | C2: =original_design_fresh!C2 -> 5 | D2: =original_design_fresh!D2 -> 26 | E2: =original_design_fresh!E2 -> 9 | F2: =original_design_fresh!F2 -> 14 | G2: =original_design_fresh!G2 -> 6 | H2: =original_design_fresh!H2 -> 9 | I2: =original_design_fresh!I2 -> 25 | J2: =SUM(C2:I4) -> 262
B3: =LEFT(original_design_fresh!B3,FIND(")",original_design_fresh!B3)) -> Medium (20-99) | C3: =original_design_fresh!C3 -> 5 | D3: =original_design_fresh!D3 -> 27 | E3: =original_design_fresh!E3 -> 10 | F3: =original_design_fresh!F3 -> 21 | G3: =original_design_fresh!G3 -> 5 | H3: =original_design_fresh!H3 -> 5 | I3: =original_design_fresh!I3 -> 6
B4: =LEFT(original_design_fresh!B4,FIND(")",original_design_fresh!B4)) -> Large (100 or more) | C4: =original_design_fresh!C4 -> 6 | D4: =original_design_fresh!D4 -> 31 | E4: =original_design_fresh!E4 -> 13 | F4: =original_design_fresh!F4 -> 7 | G4: =original_design_fresh!G4 -> 22 | H4: =original_design_fresh!H4 -> 5 | I4: =original_design_fresh!I4 -> 5
A5: =original_design_fresh!A5 -> Algarve | B5: =LEFT(original_design_fresh!B5,FIND(")",original_design_fresh!B5)) -> Small (5-19) | C5: =original_design_fresh!C5 -> 19 | D5: =original_design_fresh!D5 -> 2 | E5: =original_design_fresh!E5 -> 13 | F5: =original_design_fresh!F5 -> 3 | G5: =original_design_fresh!G5 -> 32 | H5: =original_design_fresh!H5 -> 17 | I5: =original_design_fresh!I5 -> 5 | J5: =SUM(C5:I7) -> 150
B6: =LEFT(original_design_fresh!B6,FIND(")",original_design_fresh!B6)) -> Medium (20-99) | C6: =original_design_fresh!C6 -> 10 | D6: =original_design_fresh!D6 -> 0 | E6: =original_design_fresh!E6 -> 2 | F6: =original_design_fresh!F6 -> 1 | G6: =original_design_fresh!G6 -> 7 | H6: =original_design_fresh!H6 -> 17 | I6: =original_design_fresh!I6 -> 5
B7: =LEFT(original_design_fresh!B7,FIND(")",original_design_fresh!B7)) -> Large (100 or more) | C7: =original_design_fresh!C7 -> 0 | D7: =original_design_fresh!D7 -> 0 | E7: =original_design_fresh!E7 -> 0 | F7: =original_design_fresh!F7 -> 0 | G7: =original_design_fresh!G7 -> 0 | H7: =original_design_fresh!H7 -> 2 | I7: =original_design_fresh!I7 -> 15
A8: =original_design_fresh!A8 -> Center | B8: =LEFT(original_design_fresh!B8,FIND(")",original_design_fresh!B8)) -> Small (5-19) | C8: =original_design_fresh!C8 -> 5 | D8: =original_design_fresh!D8 -> 10 | E8: =original_design_fresh!E8 -> 7 | F8: =original_design_fresh!F8 -> 14 | G8: =original_design_fresh!G8 -> 5 | H8: =original_design_fresh!H8 -> 6 | I8: =original_design_fresh!I8 -> 13 | J8: =SUM(C8:I10) -> 188
B9: =LEFT(original_design_fresh!B9,FIND(")",original_design_fresh!B9)) -> Medium (20-99) | C9: =original_design_fresh!C9 -> 5 | D9: =original_design_fresh!D9 -> 18 | E9: =original_design_fresh!E9 -> 10 | F9: =original_design_fresh!F9 -> 21 | G9: =original_design_fresh!G9 -> 5 | H9: =original_design_fresh!H9 -> 5 | I9: =original_design_fresh!I9 -> 5
B10: =LEFT(original_design_fresh!B10,FIND(")",original_design_fresh!B10)) -> Large (100 or more) | C10: =original_design_fresh!C10 -> 7 | D10: =original_design_fresh!D10 -> 8 | E10: =original_design_fresh!E10 -> 9 | F10: =original_design_fresh!F10 -> 5 | G10: =original_design_fresh!G10 -> 20 | H10: =original_design_fresh!H10 -> 5 | I10: =original_design_fresh!I10 -> 5
A11: =original_design_fresh!A11 -> Lisbon Metropolitan Area | B11: =LEFT(original_design_fresh!B11,FIND(")",original_design_fresh!B11)) -> Small (5-19) | C11: =original_design_fresh!C11 -> 5 | D11: =original_design_fresh!D11 -> 10 | E11: =original_design_fresh!E11 -> 5 | F11: =original_design_fresh!F11 -> 12 | G11: =original_design_fresh!G11 -> 5 | H11: =original_design_fresh!H11 -> 7 | I11: =original_design_fresh!I11 -> 15 | J11: =SUM(C11:I13) -> 150
B12: =LEFT(original_design_fresh!B12,FIND(")",original_design_fresh!B12)) -> Medium (20-99) | C12: =original_design_fresh!C12 -> 5 | D12: =original_design_fresh!D12 -> 4 | E12: =original_design_fresh!E12 -> 6 | F12: =original_design_fresh!F12 -> 20 | G12: =original_design_fresh!G12 -> 5 | H12: =original_design_fresh!H12 -> 5 | I12: =original_design_fresh!I12 -> 6
B13: =LEFT(original_design_fresh!B13,FIND(")",original_design_fresh!B13)) -> Large (100 or more) | C13: =original_design_fresh!C13 -> 6 | D13: =original_design_fresh!D13 -> 0 | E13: =original_design_fresh!E13 -> 3 | F13: =original_design_fresh!F13 -> 2 | G13: =original_design_fresh!G13 -> 19 | H13: =original_design_fresh!H13 -> 5 | I13: =original_design_fresh!I13 -> 5
A14: =original_design_fresh!A14 -> Alentejo | B14: =LEFT(original_design_fresh!B14,FIND(")",original_design_fresh!B14)) -> Small (5-19) | C14: =original_design_fresh!C14 -> 8 | D14: =original_design_fresh!D14 -> 2 | E14: =original_design_fresh!E14 -> 20 | F14: =original_design_fresh!F14 -> 11 | G14: =original_design_fresh!G14 -> 19 | H14: =original_design_fresh!H14 -> 5 | I14: =original_design_fresh!I14 -> 5 | J14: =SUM(C14:I16) -> 150
B15: =LEFT(original_design_fresh!B15,FIND(")",original_design_fresh!B15)) -> Medium (20-99) | C15: =original_design_fresh!C15 -> 14 | D15: =original_design_fresh!D15 -> 1 | E15: =original_design_fresh!E15 -> 5 | F15: =original_design_fresh!F15 -> 3 | G15: =original_design_fresh!G15 -> 26 | H15: =original_design_fresh!H15 -> 5 | I15: =original_design_fresh!I15 -> 5
B16: =LEFT(original_design_fresh!B16,FIND(")",original_design_fresh!B16)) -> Large (100 or more) | C16: =original_design_fresh!C16 -> 4 | D16: =original_design_fresh!D16 -> 0 | E16: =original_design_fresh!E16 -> 0 | F16: =original_design_fresh!F16 -> 0 | G16: =original_design_fresh!G16 -> 9 | H16: =original_design_fresh!H16 -> 0 | I16: =original_design_fresh!I16 -> 8
A17: =original_design_fresh!A17 -> Autonomous Region of the Azores and Autonomous Region of Madeira | B17: =LEFT(original_design_fresh!B17,FIND(")",original_design_fresh!B17)) -> Small (5-19) | C17: =original_design_fresh!C17 -> 12 | D17: =original_design_fresh!D17 -> 1 | E17: =original_design_fresh!E17 -> 22 | F17: =original_design_fresh!F17 -> 5 | G17: =original_design_fresh!G17 -> 23 | H17: =original_design_fresh!H17 -> 8 | I17: =original_design_fresh!I17 -> 5 | J17: =SUM(C17:I19) -> 150
B18: =LEFT(original_design_fresh!B18,FIND(")",original_design_fresh!B18)) -> Medium (20-99) | C18: =original_design_fresh!C18 -> 19 | D18: =original_design_fresh!D18 -> 0 | E18: =original_design_fresh!E18 -> 5 | F18: =original_design_fresh!F18 -> 1 | G18: =original_design_fresh!G18 -> 11 | H18: =original_design_fresh!H18 -> 9 | I18: =original_design_fresh!I18 -> 5
B19: =LEFT(original_design_fresh!B19,FIND(")",original_design_fresh!B19)) -> Large (100 or more) | C19: =original_design_fresh!C19 -> 5 | D19: =original_design_fresh!D19 -> 0 | E19: =original_design_fresh!E19 -> 1 | F19: =original_design_fresh!F19 -> 0 | G19: =original_design_fresh!G19 -> 1 | H19: =original_design_fresh!H19 -> 5 | I19: =original_design_fresh!I19 -> 12
C20: =SUM(C2:C19) -> 140 | D20: =SUM(D2:D19) -> 140 | E20: =SUM(E2:E19) -> 140 | F20: =SUM(F2:F19) -> 140 | G20: =SUM(G2:G19) -> 220 | H20: =SUM(H2:H19) -> 120 | I20: =SUM(I2:I19) -> 150 | J20: =SUM(J2:J19) -> 1050

Sheet Full Frame Fresh and Panel
C1: =RIGHT(SUBSTITUTE('Frame Fresh and Panel'!C1,"_"," "),LEN(SUBSTITUTE('Frame Fresh and Panel'!C1,"_"," "))-1) -> Food | D1: =RIGHT(SUBSTITUTE('Frame Fresh and Panel'!D1,"_"," "),LEN(SUBSTITUTE('Frame Fresh and Panel'!D1,"_"," "))-1) -> Garments | E1: =RIGHT(SUBSTITUTE('Frame Fresh and Panel'!E1,"_"," "),LEN(SUBSTITUTE('Frame Fresh and Panel'!E1,"_"," "))-1) -> Fabricated Metal Products | F1: =RIGHT(SUBSTITUTE('Frame Fresh and Panel'!F1,"_"," "),LEN(SUBSTITUTE('Frame Fresh and Panel'!F1,"_"," "))-1) -> Machinery and Equipment | G1: =RIGHT(SUBSTITUTE('Frame Fresh and Panel'!G1,"_"," "),LEN(SUBSTITUTE('Frame Fresh and Panel'!G1,"_"," "))-1) -> Other Manufacturing | H1: =RIGHT(SUBSTITUTE('Frame Fresh and Panel'!H1,"_"," "),LEN(SUBSTITUTE('Frame Fresh and Panel'!H1,"_"," "))-1) -> Retail | I1: =RIGHT(SUBSTITUTE('Frame Fresh and Panel'!I1,"_"," "),LEN(SUBSTITUTE('Frame Fresh and Panel'!I1,"_"," "))-1) -> Other Services | J1: =RIGHT(SUBSTITUTE('Frame Fresh and Panel'!J1,"_"," "),LEN(SUBSTITUTE('Frame Fresh and Panel'!J1,"_"," "))-1) -> Grand Total
A2: North | B2: =LEFT('Frame Fresh and Panel'!B2,FIND(")",'Frame Fresh and Panel'!B2)) -> Small (5-19) | C2: 1045 | D2: 1444 | E2: 924 | F2: 272 | G2: 3534 | H2: 5132 | I2: 13198 | J2: =SUM(C2:I4) -> 34540
B3: =LEFT('Frame Fresh and Panel'!B3,FIND(")",'Frame Fresh and Panel'!B3)) -> Medium (20-99) | C3: 346 | D3: 891 | E3: 316 | F3: 146 | G3: 1722 | H3: 1145 | I3: 3655
B4: =LEFT('Frame Fresh and Panel'!B4,FIND(")",'Frame Fresh and Panel'!B4)) -> Large (100 or more) | C4: 42 | D4: 102 | E4: 43 | F4: 24 | G4: 290 | H4: 51 | I4: 218
A5: Algarve | B5: =LEFT('Frame Fresh and Panel'!B5,FIND(")",'Frame Fresh and Panel'!B5)) -> Small (5-19) | C5: 121 | D5: 6 | E5: 42 | F5: 11 | G5: 121 | H5: 1016 | I5: 2506 | J5: =SUM(C5:I7) -> 4989
B6: =LEFT('Frame Fresh and Panel'!B6,FIND(")",'Frame Fresh and Panel'!B6)) -> Medium (20-99) | C6: 33 | D6: 0 | E6: 6 | F6: 2 | G6: 24 | H6: 248 | I6: 796
B7: =LEFT('Frame Fresh and Panel'!B7,FIND(")",'Frame Fresh and Panel'!B7)) -> Large (100 or more) | C7: 0 | D7: 0 | E7: 0 | F7: 0 | G7: 0 | H7: 6 | I7: 51
A8: Center | B8: =LEFT('Frame Fresh and Panel'!B8,FIND(")",'Frame Fresh and Panel'!B8)) -> Small (5-19) | C8: 944 | D8: 82 | E8: 749 | F8: 240 | G8: 1386 | H8: 3673 | I8: 9057 | J8: =SUM(C8:I10) -> 21453
B9: =LEFT('Frame Fresh and Panel'!B9,FIND(")",'Frame Fresh and Panel'!B9)) -> Medium (20-99) | C9: 320 | D9: 62 | E9: 327 | F9: 127 | G9: 758 | H9: 777 | I9: 2513
B10: =LEFT('Frame Fresh and Panel'!B10,FIND(")",'Frame Fresh and Panel'!B10)) -> Large (100 or more) | C10: 54 | D10: 27 | E10: 31 | F10: 18 | G10: 167 | H10: 19 | I10: 122
A11: Lisbon Metropolitan Area | B11: =LEFT('Frame Fresh and Panel'!B11,FIND(")",'Frame Fresh and Panel'!B11)) -> Small (5-19) | C11: 363 | D11: 46 | E11: 235 | F11: 156 | G11: 591 | H11: 4249 | I11: 9890 | J11: =SUM(C11:I13) -> 21507
B12: =LEFT('Frame Fresh and Panel'!B12,FIND(")",'Frame Fresh and Panel'!B12)) -> Medium (20-99) | C12: 213 | D12: 13 | E12: 63 | F12: 66 | G12: 275 | H12: 1062 | I12: 3729
B13: =LEFT('Frame Fresh and Panel'!B13,FIND(")",'Frame Fresh and Panel'!B13)) -> Large (100 or more) | C13: 33 | D13: 1 | E13: 9 | F13: 6 | G13: 68 | H13: 88 | I13: 351
A14: Alentejo | B14: =LEFT('Frame Fresh and Panel'!B14,FIND(")",'Frame Fresh and Panel'!B14)) -> Small (5-19) | C14: 293 | D14: 7 | E14: 65 | F14: 37 | G14: 167 | H14: 948 | I14: 1992 | J14: =SUM(C14:I16) -> 4658
B15: =LEFT('Frame Fresh and Panel'!B15,FIND(")",'Frame Fresh and Panel'!B15)) -> Medium (20-99) | C15: 150 | D15: 3 | E15: 17 | F15: 11 | G15: 107 | H15: 192 | I15: 598
B16: =LEFT('Frame Fresh and Panel'!B16,FIND(")",'Frame Fresh and Panel'!B16)) -> Large (100 or more) | C16: 14 | D16: 0 | E16: 1 | F16: 0 | G16: 29 | H16: 1 | I16: 26
A17: Autonomous Region of the Azores and Autonomous Region of Madeira | B17: =LEFT('Frame Fresh and Panel'!B17,FIND(")",'Frame Fresh and Panel'!B17)) -> Small (5-19) | C17: 172 | D17: 4 | E17: 73 | F17: 18 | G17: 135 | H17: 1056 | I17: 2183 | J17: =SUM(C17:I19) -> 5114
B18: =LEFT('Frame Fresh and Panel'!B18,FIND(")",'Frame Fresh and Panel'!B18)) -> Medium (20-99) | C18: 88 | D18: 0 | E18: 17 | F18: 3 | G18: 36 | H18: 316 | I18: 909
B19: =LEFT('Frame Fresh and Panel'!B19,FIND(")",'Frame Fresh and Panel'!B19)) -> Large (100 or more) | C19: 17 | D19: 0 | E19: 2 | F19: 0 | G19: 2 | H19: 16 | I19: 67
C20: =SUM(C2:C19) -> 4248 | D20: =SUM(D2:D19) -> 2688 | E20: =SUM(E2:E19) -> 2920 | F20: =SUM(F2:F19) -> 1137 | G20: =SUM(G2:G19) -> 9412 | H20: =SUM(H2:H19) -> 19995 | I20: =SUM(I2:I19) -> 51861 | J20: =SUM(J2:J19) -> 92261

Sheet Frame Fresh and Panel Formatted
C1: =RIGHT(SUBSTITUTE('Frame Fresh and Panel'!C1,"_"," "),LEN(SUBSTITUTE('Frame Fresh and Panel'!C1,"_"," "))-1) -> Food | D1: =RIGHT(SUBSTITUTE('Frame Fresh and Panel'!D1,"_"," "),LEN(SUBSTITUTE('Frame Fresh and Panel'!D1,"_"," "))-1) -> Garments | E1: =RIGHT(SUBSTITUTE('Frame Fresh and Panel'!E1,"_"," "),LEN(SUBSTITUTE('Frame Fresh and Panel'!E1,"_"," "))-1) -> Fabricated Metal Products | F1: =RIGHT(SUBSTITUTE('Frame Fresh and Panel'!F1,"_"," "),LEN(SUBSTITUTE('Frame Fresh and Panel'!F1,"_"," "))-1) -> Machinery and Equipment | G1: =RIGHT(SUBSTITUTE('Frame Fresh and Panel'!G1,"_"," "),LEN(SUBSTITUTE('Frame Fresh and Panel'!G1,"_"," "))-1) -> Other Manufacturing | H1: =RIGHT(SUBSTITUTE('Frame Fresh and Panel'!H1,"_"," "),LEN(SUBSTITUTE('Frame Fresh and Panel'!H1,"_"," "))-1) -> Retail | I1: =RIGHT(SUBSTITUTE('Frame Fresh and Panel'!I1,"_"," "),LEN(SUBSTITUTE('Frame Fresh and Panel'!I1,"_"," "))-1) -> Other Services | J1: =RIGHT(SUBSTITUTE('Frame Fresh and Panel'!J1,"_"," "),LEN(SUBSTITUTE('Frame Fresh and Panel'!J1,"_"," "))-1) -> Grand Total
A2: ='Frame Fresh and Panel'!A2 -> North | B2: =LEFT('Frame Fresh and Panel'!B2,FIND(")",'Frame Fresh and Panel'!B2)) -> Small (5-19) | C2: ='Frame Fresh and Panel'!C2 -> 100 | D2: ='Frame Fresh and Panel'!D2 -> 520 | E2: ='Frame Fresh and Panel'!E2 -> 280 | F2: ='Frame Fresh and Panel'!F2 -> 180 | G2: ='Frame Fresh and Panel'!G2 -> 120 | H2: ='Frame Fresh and Panel'!H2 -> 180 | I2: ='Frame Fresh and Panel'!I2 -> 500 | J2: =SUM(C2:I4) -> 3850
B3: =LEFT('Frame Fresh and Panel'!B3,FIND(")",'Frame Fresh and Panel'!B3)) -> Medium (20-99) | C3: ='Frame Fresh and Panel'!C3 -> 100 | D3: ='Frame Fresh and Panel'!D3 -> 540 | E3: ='Frame Fresh and Panel'!E3 -> 278 | F3: ='Frame Fresh and Panel'!F3 -> 131 | G3: ='Frame Fresh and Panel'!G3 -> 100 | H3: ='Frame Fresh and Panel'!H3 -> 100 | I3: ='Frame Fresh and Panel'!I3 -> 120
B4: =LEFT('Frame Fresh and Panel'!B4,FIND(")",'Frame Fresh and Panel'!B4)) -> Large (100 or more) | C4: ='Frame Fresh and Panel'!C4 -> 40 | D4: ='Frame Fresh and Panel'!D4 -> 97 | E4: ='Frame Fresh and Panel'!E4 -> 38 | F4: ='Frame Fresh and Panel'!F4 -> 22 | G4: ='Frame Fresh and Panel'!G4 -> 270 | H4: ='Frame Fresh and Panel'!H4 -> 34 | I4: ='Frame Fresh and Panel'!I4 -> 100
A5: ='Frame Fresh and Panel'!A5 -> Algarve | B5: =LEFT('Frame Fresh and Panel'!B5,FIND(")",'Frame Fresh and Panel'!B5)) -> Small (5-19) | C5: ='Frame Fresh and Panel'!C5 -> 119 | D5: ='Frame Fresh and Panel'!D5 -> 6 | E5: ='Frame Fresh and Panel'!E5 -> 39 | F5: ='Frame Fresh and Panel'!F5 -> 9 | G5: ='Frame Fresh and Panel'!G5 -> 112 | H5: ='Frame Fresh and Panel'!H5 -> 340 | I5: ='Frame Fresh and Panel'!I5 -> 100 | J5: =SUM(C5:I7) -> 1177
B6: =LEFT('Frame Fresh and Panel'!B6,FIND(")",'Frame Fresh and Panel'!B6)) -> Medium (20-99) | C6: ='Frame Fresh and Panel'!C6 -> 32 | D6: ='Frame Fresh and Panel'!D6 -> 0 | E6: ='Frame Fresh and Panel'!E6 -> 6 | F6: ='Frame Fresh and Panel'!F6 -> 2 | G6: ='Frame Fresh and Panel'!G6 -> 23 | H6: ='Frame Fresh and Panel'!H6 -> 242 | I6: ='Frame Fresh and Panel'!I6 -> 100
B7: =LEFT('Frame Fresh and Panel'!B7,FIND(")",'Frame Fresh and Panel'!B7)) -> Large (100 or more) | C7: ='Frame Fresh and Panel'!C7 -> 0 | D7: ='Frame Fresh and Panel'!D7 -> 0 | E7: ='Frame Fresh and Panel'!E7 -> 0 | F7: ='Frame Fresh and Panel'!F7 -> 0 | G7: ='Frame Fresh and Panel'!G7 -> 0 | H7: ='Frame Fresh and Panel'!H7 -> 5 | I7: ='Frame Fresh and Panel'!I7 -> 42
A8: ='Frame Fresh and Panel'!A8 -> Center | B8: =LEFT('Frame Fresh and Panel'!B8,FIND(")",'Frame Fresh and Panel'!B8)) -> Small (5-19) | C8: ='Frame Fresh and Panel'!C8 -> 100 | D8: ='Frame Fresh and Panel'!D8 -> 79 | E8: ='Frame Fresh and Panel'!E8 -> 280 | F8: ='Frame Fresh and Panel'!F8 -> 140 | G8: ='Frame Fresh and Panel'!G8 -> 100 | H8: ='Frame Fresh and Panel'!H8 -> 120 | I8: ='Frame Fresh and Panel'!I8 -> 260 | J8: =SUM(C8:I10) -> 2338
B9: =LEFT('Frame Fresh and Panel'!B9,FIND(")",'Frame Fresh and Panel'!B9)) -> Medium (20-99) | C9: ='Frame Fresh and Panel'!C9 -> 100 | D9: ='Frame Fresh and Panel'!D9 -> 60 | E9: ='Frame Fresh and Panel'!E9 -> 298 | F9: ='Frame Fresh and Panel'!F9 -> 113 | G9: ='Frame Fresh and Panel'!G9 -> 100 | H9: ='Frame Fresh and Panel'!H9 -> 100 | I9: ='Frame Fresh and Panel'!I9 -> 100
B10: =LEFT('Frame Fresh and Panel'!B10,FIND(")",'Frame Fresh and Panel'!B10)) -> Large (100 or more) | C10: ='Frame Fresh and Panel'!C10 -> 52 | D10: ='Frame Fresh and Panel'!D10 -> 25 | E10: ='Frame Fresh and Panel'!E10 -> 26 | F10: ='Frame Fresh and Panel'!F10 -> 18 | G10: ='Frame Fresh and Panel'!G10 -> 154 | H10: ='Frame Fresh and Panel'!H10 -> 14 | I10: ='Frame Fresh and Panel'!I10 -> 99
A11: ='Frame Fresh and Panel'!A11 -> Lisbon Metropolitan Area | B11: =LEFT('Frame Fresh and Panel'!B11,FIND(")",'Frame Fresh and Panel'!B11)) -> Small (5-19) | C11: ='Frame Fresh and Panel'!C11 -> 100 | D11: ='Frame Fresh and Panel'!D11 -> 41 | E11: ='Frame Fresh and Panel'!E11 -> 213 | F11: ='Frame Fresh and Panel'!F11 -> 100 | G11: ='Frame Fresh and Panel'!G11 -> 100 | H11: ='Frame Fresh and Panel'!H11 -> 140 | I11: ='Frame Fresh and Panel'!I11 -> 300 | J11: =SUM(C11:I13) -> 1814
B12: =LEFT('Frame Fresh and Panel'!B12,FIND(")",'Frame Fresh and Panel'!B12)) -> Medium (20-99) | C12: ='Frame Fresh and Panel'!C12 -> 100 | D12: ='Frame Fresh and Panel'!D12 -> 13 | E12: ='Frame Fresh and Panel'!E12 -> 58 | F12: ='Frame Fresh and Panel'!F12 -> 59 | G12: ='Frame Fresh and Panel'!G12 -> 100 | H12: ='Frame Fresh and Panel'!H12 -> 100 | I12: ='Frame Fresh and Panel'!I12 -> 120
B13: =LEFT('Frame Fresh and Panel'!B13,FIND(")",'Frame Fresh and Panel'!B13)) -> Large (100 or more) | C13: ='Frame Fresh and Panel'!C13 -> 29 | D13: ='Frame Fresh and Panel'!D13 -> 0 | E13: ='Frame Fresh and Panel'!E13 -> 8 | F13: ='Frame Fresh and Panel'!F13 -> 5 | G13: ='Frame Fresh and Panel'!G13 -> 59 | H13: ='Frame Fresh and Panel'!H13 -> 69 | I13: ='Frame Fresh and Panel'!I13 -> 100
A14: ='Frame Fresh and Panel'!A14 -> Alentejo | B14: =LEFT('Frame Fresh and Panel'!B14,FIND(")",'Frame Fresh and Panel'!B14)) -> Small (5-19) | C14: ='Frame Fresh and Panel'!C14 -> 160 | D14: ='Frame Fresh and Panel'!D14 -> 7 | E14: ='Frame Fresh and Panel'!E14 -> 56 | F14: ='Frame Fresh and Panel'!F14 -> 36 | G14: ='Frame Fresh and Panel'!G14 -> 160 | H14: ='Frame Fresh and Panel'!H14 -> 100 | I14: ='Frame Fresh and Panel'!I14 -> 100 | J14: =SUM(C14:I16) -> 1148
B15: =LEFT('Frame Fresh and Panel'!B15,FIND(")",'Frame Fresh and Panel'!B15)) -> Medium (20-99) | C15: ='Frame Fresh and Panel'!C15 -> 142 | D15: ='Frame Fresh and Panel'!D15 -> 3 | E15: ='Frame Fresh and Panel'!E15 -> 16 | F15: ='Frame Fresh and Panel'!F15 -> 10 | G15: ='Frame Fresh and Panel'!G15 -> 99 | H15: ='Frame Fresh and Panel'!H15 -> 100 | I15: ='Frame Fresh and Panel'!I15 -> 100
B16: =LEFT('Frame Fresh and Panel'!B16,FIND(")",'Frame Fresh and Panel'!B16)) -> Large (100 or more) | C16: ='Frame Fresh and Panel'!C16 -> 13 | D16: ='Frame Fresh and Panel'!D16 -> 0 | E16: ='Frame Fresh and Panel'!E16 -> 0 | F16: ='Frame Fresh and Panel'!F16 -> 0 | G16: ='Frame Fresh and Panel'!G16 -> 27 | H16: ='Frame Fresh and Panel'!H16 -> 0 | I16: ='Frame Fresh and Panel'!I16 -> 19
A17: ='Frame Fresh and Panel'!A17 -> Autonomous Region of the Azores | B17: =LEFT('Frame Fresh and Panel'!B17,FIND(")",'Frame Fresh and Panel'!B17)) -> Small (5-19) | C17: ='Frame Fresh and Panel'!C17 -> 47 | D17: ='Frame Fresh and Panel'!D17 -> 0 | E17: ='Frame Fresh and Panel'!E17 -> 21 | F17: ='Frame Fresh and Panel'!F17 -> 1 | G17: ='Frame Fresh and Panel'!G17 -> 45 | H17: ='Frame Fresh and Panel'!H17 -> 229 | I17: ='Frame Fresh and Panel'!I17 -> 576 | J17: =SUM(C17:I19) -> 1206
B18: =LEFT('Frame Fresh and Panel'!B18,FIND(")",'Frame Fresh and Panel'!B18)) -> Medium (20-99) | C18: ='Frame Fresh and Panel'!C18 -> 25 | D18: ='Frame Fresh and Panel'!D18 -> 0 | E18: ='Frame Fresh and Panel'!E18 -> 4 | F18: ='Frame Fresh and Panel'!F18 -> 0 | G18: ='Frame Fresh and Panel'!G18 -> 10 | H18: ='Frame Fresh and Panel'!H18 -> 32 | I18: ='Frame Fresh and Panel'!I18 -> 182
B19: =LEFT('Frame Fresh and Panel'!B19,FIND(")",'Frame Fresh and Panel'!B19)) -> Large (100 or more) | C19: ='Frame Fresh and Panel'!C19 -> 8 | D19: ='Frame Fresh and Panel'!D19 -> 0 | E19: ='Frame Fresh and Panel'!E19 -> 1 | F19: ='Frame Fresh and Panel'!F19 -> 0 | G19: ='Frame Fresh and Panel'!G19 -> 1 | H19: ='Frame Fresh and Panel'!H19 -> 6 | I19: ='Frame Fresh and Panel'!I19 -> 18
A20: ='Frame Fresh and Panel'!A20 -> Autonomous Region of Madeira | B20: =LEFT('Frame Fresh and Panel'!B20,FIND(")",'Frame Fresh and Panel'!B20)) -> Small (5-19) | C20: ='Frame Fresh and Panel'!C20 -> 147 | D20: ='Frame Fresh and Panel'!D20 -> 4 | E20: ='Frame Fresh and Panel'!E20 -> 52 | F20: ='Frame Fresh and Panel'!F20 -> 17 | G20: ='Frame Fresh and Panel'!G20 -> 109 | H20: ='Frame Fresh and Panel'!H20 -> 391 | I20: ='Frame Fresh and Panel'!I20 -> 893 | J20: =SUM(C20:I22) -> 2285
B21: =LEFT('Frame Fresh and Panel'!B21,FIND(")",'Frame Fresh and Panel'!B21)) -> Medium (20-99) | C21: ='Frame Fresh and Panel'!C21 -> 61 | D21: ='Frame Fresh and Panel'!D21 -> 0 | E21: ='Frame Fresh and Panel'!E21 -> 11 | F21: ='Frame Fresh and Panel'!F21 -> 2 | G21: ='Frame Fresh and Panel'!G21 -> 22 | H21: ='Frame Fresh and Panel'!H21 -> 203 | I21: ='Frame Fresh and Panel'!I21 -> 306
B22: =LEFT('Frame Fresh and Panel'!B22,FIND(")",'Frame Fresh and Panel'!B22)) -> Large (100 or more) | C22: ='Frame Fresh and Panel'!C22 -> 8 | D22: ='Frame Fresh and Panel'!D22 -> 0 | E22: ='Frame Fresh and Panel'!E22 -> 0 | F22: ='Frame Fresh and Panel'!F22 -> 0 | G22: ='Frame Fresh and Panel'!G22 -> 1 | H22: ='Frame Fresh and Panel'!H22 -> 9 | I22: ='Frame Fresh and Panel'!I22 -> 49
C23: =SUM(C2:C22) -> 1483 | D23: =SUM(D2:D22) -> 1395 | E23: =SUM(E2:E22) -> 1685 | F23: =SUM(F2:F22) -> 845 | G23: =SUM(G2:G22) -> 1712 | H23: =SUM(H2:H22) -> 2514 | I23: =SUM(I2:I22) -> 4184 | J23: =SUM(J2:J22) -> 13818

Sheet Achieved Fresh &Panel Formatted
C1: =RIGHT(SUBSTITUTE('Achieved Fresh and Panel'!C1,"_"," "),LEN(SUBSTITUTE('Achieved Fresh and Panel'!C1,"_"," "))-1) -> Food | D1: =RIGHT(SUBSTITUTE('Achieved Fresh and Panel'!D1,"_"," "),LEN(SUBSTITUTE('Achieved Fresh and Panel'!D1,"_"," "))-1) -> Garments | E1: =RIGHT(SUBSTITUTE('Achieved Fresh and Panel'!E1,"_"," "),LEN(SUBSTITUTE('Achieved Fresh and Panel'!E1,"_"," "))-1) -> Fabricated Metal Products | F1: =RIGHT(SUBSTITUTE('Achieved Fresh and Panel'!F1,"_"," "),LEN(SUBSTITUTE('Achieved Fresh and Panel'!F1,"_"," "))-1) -> Machinery and Equipment | G1: =RIGHT(SUBSTITUTE('Achieved Fresh and Panel'!G1,"_"," "),LEN(SUBSTITUTE('Achieved Fresh and Panel'!G1,"_"," "))-1) -> Other Manufacturing | H1: =RIGHT(SUBSTITUTE('Achieved Fresh and Panel'!H1,"_"," "),LEN(SUBSTITUTE('Achieved Fresh and Panel'!H1,"_"," "))-1) -> Retail | I1: =RIGHT(SUBSTITUTE('Achieved Fresh and Panel'!I1,"_"," "),LEN(SUBSTITUTE('Achieved Fresh and Panel'!I1,"_"," "))-1) -> Other Services | J1: =RIGHT(SUBSTITUTE('Achieved Fresh and Panel'!J1,"_"," "),LEN(SUBSTITUTE('Achieved Fresh and Panel'!J1,"_"," "))-1) -> Grand Total
A2: ='Achieved Fresh and Panel'!A2 -> North | B2: =LEFT('Achieved Fresh and Panel'!B2,FIND(")",'Achieved Fresh and Panel'!B2)) -> Small (5-19) | C2: ='Achieved Fresh and Panel'!C2 -> 5 | D2: ='Achieved Fresh and Panel'!D2 -> 26 | E2: ='Achieved Fresh and Panel'!E2 -> 9 | F2: ='Achieved Fresh and Panel'!F2 -> 14 | G2: ='Achieved Fresh and Panel'!G2 -> 6 | H2: ='Achieved Fresh and Panel'!H2 -> 9 | I2: ='Achieved Fresh and Panel'!I2 -> 25 | J2: =SUM(C2:I4) -> 243
B3: =LEFT('Achieved Fresh and Panel'!B3,FIND(")",'Achieved Fresh and Panel'!B3)) -> Medium (20-99) | C3: ='Achieved Fresh and Panel'!C3 -> 5 | D3: ='Achieved Fresh and Panel'!D3 -> 33 | E3: ='Achieved Fresh and Panel'!E3 -> 12 | F3: ='Achieved Fresh and Panel'!F3 -> 24 | G3: ='Achieved Fresh and Panel'!G3 -> 5 | H3: ='Achieved Fresh and Panel'!H3 -> 5 | I3: ='Achieved Fresh and Panel'!I3 -> 6
B4: =LEFT('Achieved Fresh and Panel'!B4,FIND(")",'Achieved Fresh and Panel'!B4)) -> Large (100 or more) | C4: ='Achieved Fresh and Panel'!C4 -> 6 | D4: ='Achieved Fresh and Panel'!D4 -> 24 | E4: ='Achieved Fresh and Panel'!E4 -> 9 | F4: ='Achieved Fresh and Panel'!F4 -> 1 | G4: ='Achieved Fresh and Panel'!G4 -> 12 | H4: ='Achieved Fresh and Panel'!H4 -> 2 | I4: ='Achieved Fresh and Panel'!I4 -> 5
A5: ='Achieved Fresh and Panel'!A5 -> Algarve | B5: =LEFT('Achieved Fresh and Panel'!B5,FIND(")",'Achieved Fresh and Panel'!B5)) -> Small (5-19) | C5: ='Achieved Fresh and Panel'!C5 -> 19 | D5: ='Achieved Fresh and Panel'!D5 -> 2 | E5: ='Achieved Fresh and Panel'!E5 -> 13 | F5: ='Achieved Fresh and Panel'!F5 -> 0 | G5: ='Achieved Fresh and Panel'!G5 -> 33 | H5: ='Achieved Fresh and Panel'!H5 -> 17 | I5: ='Achieved Fresh and Panel'!I5 -> 5 | J5: =SUM(C5:I8) -> 145
B6: =LEFT('Achieved Fresh and Panel'!B6,FIND(")",'Achieved Fresh and Panel'!B6)) -> Medium (20-99) | C6: ='Achieved Fresh and Panel'!C6 -> 10 | D6: ='Achieved Fresh and Panel'!D6 -> 0 | E6: ='Achieved Fresh and Panel'!E6 -> 2 | F6: ='Achieved Fresh and Panel'!F6 -> 0 | G6: ='Achieved Fresh and Panel'!G6 -> 6 | H6: ='Achieved Fresh and Panel'!H6 -> 17 | I6: ='Achieved Fresh and Panel'!I6 -> 5
B7: =LEFT('Achieved Fresh and Panel'!B7,FIND(")",'Achieved Fresh and Panel'!B7)) -> Large (100 or more) | C7: ='Achieved Fresh and Panel'!C7 -> 0 | D7: ='Achieved Fresh and Panel'!D7 -> 0 | E7: ='Achieved Fresh and Panel'!E7 -> 0 | F7: ='Achieved Fresh and Panel'!F7 -> 0 | G7: ='Achieved Fresh and Panel'!G7 -> 0 | H7: ='Achieved Fresh and Panel'!H7 -> 2 | I7: ='Achieved Fresh and Panel'!I7 -> 11
B8: =LEFT('Achieved Fresh and Panel'!B8,FIND(")",'Achieved Fresh and Panel'!B8)) -> Small and Medium (5-99) | C8: ='Achieved Fresh and Panel'!C8 -> 0 | D8: ='Achieved Fresh and Panel'!D8 -> 0 | E8: ='Achieved Fresh and Panel'!E8 -> 0 | F8: ='Achieved Fresh and Panel'!F8 -> 3 | G8: ='Achieved Fresh and Panel'!G8 -> 0 | H8: ='Achieved Fresh and Panel'!H8 -> 0 | I8: ='Achieved Fresh and Panel'!I8 -> 0
A9: ='Achieved Fresh and Panel'!A9 -> Center | B9: =LEFT('Achieved Fresh and Panel'!B9,FIND(")",'Achieved Fresh and Panel'!B9)) -> Small (5-19) | C9: ='Achieved Fresh and Panel'!C9 -> 6 | D9: ='Achieved Fresh and Panel'!D9 -> 10 | E9: ='Achieved Fresh and Panel'!E9 -> 10 | F9: ='Achieved Fresh and Panel'!F9 -> 14 | G9: ='Achieved Fresh and Panel'!G9 -> 6 | H9: ='Achieved Fresh and Panel'!H9 -> 7 | I9: ='Achieved Fresh and Panel'!I9 -> 16 | J9: =SUM(C9:I11) -> 207
B10: =LEFT('Achieved Fresh and Panel'!B10,FIND(")",'Achieved Fresh and Panel'!B10)) -> Medium (20-99) | C10: ='Achieved Fresh and Panel'!C10 -> 7 | D10: ='Achieved Fresh and Panel'!D10 -> 19 | E10: ='Achieved Fresh and Panel'!E10 -> 10 | F10: ='Achieved Fresh and Panel'!F10 -> 22 | G10: ='Achieved Fresh and Panel'!G10 -> 5 | H10: ='Achieved Fresh and Panel'!H10 -> 7 | I10: ='Achieved Fresh and Panel'!I10 -> 5
B11: =LEFT('Achieved Fresh and Panel'!B11,FIND(")",'Achieved Fresh and Panel'!B11)) -> Large (100 or more) | C11: ='Achieved Fresh and Panel'!C11 -> 7 | D11: ='Achieved Fresh and Panel'!D11 -> 8 | E11: ='Achieved Fresh and Panel'!E11 -> 9 | F11: ='Achieved Fresh and Panel'!F11 -> 6 | G11: ='Achieved Fresh and Panel'!G11 -> 20 | H11: ='Achieved Fresh and Panel'!H11 -> 6 | I11: ='Achieved Fresh and Panel'!I11 -> 7
A12: ='Achieved Fresh and Panel'!A12 -> Lisbon Metropolitan Area | B12: =LEFT('Achieved Fresh and Panel'!B12,FIND(")",'Achieved Fresh and Panel'!B12)) -> Small (5-19) | C12: ='Achieved Fresh and Panel'!C12 -> 5 | D12: ='Achieved Fresh and Panel'!D12 -> 10 | E12: ='Achieved Fresh and Panel'!E12 -> 5 | F12: ='Achieved Fresh and Panel'!F12 -> 13 | G12: ='Achieved Fresh and Panel'!G12 -> 5 | H12: ='Achieved Fresh and Panel'!H12 -> 9 | I12: ='Achieved Fresh and Panel'!I12 -> 15 | J12: =SUM(C12:I15) -> 152
B13: =LEFT('Achieved Fresh and Panel'!B13,FIND(")",'Achieved Fresh and Panel'!B13)) -> Medium (20-99) | C13: ='Achieved Fresh and Panel'!C13 -> 5 | D13: ='Achieved Fresh and Panel'!D13 -> 0 | E13: ='Achieved Fresh and Panel'!E13 -> 8 | F13: ='Achieved Fresh and Panel'!F13 -> 20 | G13: ='Achieved Fresh and Panel'!G13 -> 6 | H13: ='Achieved Fresh and Panel'!H13 -> 5 | I13: ='Achieved Fresh and Panel'!I13 -> 6
B14: =LEFT('Achieved Fresh and Panel'!B14,FIND(")",'Achieved Fresh and Panel'!B14)) -> Large (100 or more) | C14: ='Achieved Fresh and Panel'!C14 -> 3 | D14: ='Achieved Fresh and Panel'!D14 -> 0 | E14: ='Achieved Fresh and Panel'!E14 -> 3 | F14: ='Achieved Fresh and Panel'!F14 -> 2 | G14: ='Achieved Fresh and Panel'!G14 -> 16 | H14: ='Achieved Fresh and Panel'!H14 -> 9 | I14: ='Achieved Fresh and Panel'!I14 -> 4
B15: =LEFT('Achieved Fresh and Panel'!B15,FIND(")",'Achieved Fresh and Panel'!B15)) -> Medium and Large (20+) | C15: ='Achieved Fresh and Panel'!C15 -> 0 | D15: ='Achieved Fresh and Panel'!D15 -> 3 | E15: ='Achieved Fresh and Panel'!E15 -> 0 | F15: ='Achieved Fresh and Panel'!F15 -> 0 | G15: ='Achieved Fresh and Panel'!G15 -> 0 | H15: ='Achieved Fresh and Panel'!H15 -> 0 | I15: ='Achieved Fresh and Panel'!I15 -> 0
A16: ='Achieved Fresh and Panel'!A16 -> Alentejo | B16: =LEFT('Achieved Fresh and Panel'!B16,FIND(")",'Achieved Fresh and Panel'!B16)) -> Small (5-19) | C16: ='Achieved Fresh and Panel'!C16 -> 10 | D16: ='Achieved Fresh and Panel'!D16 -> 2 | E16: ='Achieved Fresh and Panel'!E16 -> 21 | F16: ='Achieved Fresh and Panel'!F16 -> 12 | G16: ='Achieved Fresh and Panel'!G16 -> 26 | H16: ='Achieved Fresh and Panel'!H16 -> 6 | I16: ='Achieved Fresh and Panel'!I16 -> 5 | J16: =SUM(C16:I19) -> 166
B17: =LEFT('Achieved Fresh and Panel'!B17,FIND(")",'Achieved Fresh and Panel'!B17)) -> Medium (20-99) | C17: ='Achieved Fresh and Panel'!C17 -> 16 | D17: ='Achieved Fresh and Panel'!D17 -> 1 | E17: ='Achieved Fresh and Panel'!E17 -> 0 | F17: ='Achieved Fresh and Panel'!F17 -> 3 | G17: ='Achieved Fresh and Panel'!G17 -> 28 | H17: ='Achieved Fresh and Panel'!H17 -> 0 | I17: ='Achieved Fresh and Panel'!I17 -> 5
B18: =LEFT('Achieved Fresh and Panel'!B18,FIND(")",'Achieved Fresh and Panel'!B18)) -> Large (100 or more) | C18: ='Achieved Fresh and Panel'!C18 -> 4 | D18: ='Achieved Fresh and Panel'!D18 -> 0 | E18: ='Achieved Fresh and Panel'!E18 -> 0 | F18: ='Achieved Fresh and Panel'!F18 -> 0 | G18: ='Achieved Fresh and Panel'!G18 -> 9 | H18: ='Achieved Fresh and Panel'!H18 -> 0 | I18: ='Achieved Fresh and Panel'!I18 -> 8
B19: =LEFT('Achieved Fresh and Panel'!B19,FIND(")",'Achieved Fresh and Panel'!B19)) -> Medium and Large (20+) | C19: ='Achieved Fresh and Panel'!C19 -> 0 | D19: ='Achieved Fresh and Panel'!D19 -> 0 | E19: ='Achieved Fresh and Panel'!E19 -> 5 | F19: ='Achieved Fresh and Panel'!F19 -> 0 | G19: ='Achieved Fresh and Panel'!G19 -> 0 | H19: ='Achieved Fresh and Panel'!H19 -> 5 | I19: ='Achieved Fresh and Panel'!I19 -> 0
A20: ='Achieved Fresh and Panel'!A20 -> Autonomous Region of the Azores | B20: =LEFT('Achieved Fresh and Panel'!B20,FIND(")",'Achieved Fresh and Panel'!B20)) -> Small (5-19) | C20: ='Achieved Fresh and Panel'!C20 -> 9 | D20: ='Achieved Fresh and Panel'!D20 -> 0 | E20: ='Achieved Fresh and Panel'!E20 -> 11 | F20: ='Achieved Fresh and Panel'!F20 -> 1 | G20: ='Achieved Fresh and Panel'!G20 -> 12 | H20: ='Achieved Fresh and Panel'!H20 -> 5 | I20: ='Achieved Fresh and Panel'!I20 -> 2 | J20: =SUM(C20:I22) -> 73
B21: =LEFT('Achieved Fresh and Panel'!B21,FIND(")",'Achieved Fresh and Panel'!B21)) -> Medium (20-99) | C21: ='Achieved Fresh and Panel'!C21 -> 11 | D21: ='Achieved Fresh and Panel'!D21 -> 0 | E21: ='Achieved Fresh and Panel'!E21 -> 1 | F21: ='Achieved Fresh and Panel'!F21 -> 0 | G21: ='Achieved Fresh and Panel'!G21 -> 5 | H21: ='Achieved Fresh and Panel'!H21 -> 4 | I21: ='Achieved Fresh and Panel'!I21 -> 2
B22: =LEFT('Achieved Fresh and Panel'!B22,FIND(")",'Achieved Fresh and Panel'!B22)) -> Large (100 or more) | C22: ='Achieved Fresh and Panel'!C22 -> 3 | D22: ='Achieved Fresh and Panel'!D22 -> 0 | E22: ='Achieved Fresh and Panel'!E22 -> 1 | F22: ='Achieved Fresh and Panel'!F22 -> 0 | G22: ='Achieved Fresh and Panel'!G22 -> 1 | H22: ='Achieved Fresh and Panel'!H22 -> 1 | I22: ='Achieved Fresh and Panel'!I22 -> 4
A23: ='Achieved Fresh and Panel'!A23 -> Autonomous Region of Madeira | B23: =LEFT('Achieved Fresh and Panel'!B23,FIND(")",'Achieved Fresh and Panel'!B23)) -> Small (5-19) | C23: ='Achieved Fresh and Panel'!C23 -> 4 | D23: ='Achieved Fresh and Panel'!D23 -> 1 | E23: ='Achieved Fresh and Panel'!E23 -> 8 | F23: ='Achieved Fresh and Panel'!F23 -> 4 | G23: ='Achieved Fresh and Panel'!G23 -> 7 | H23: ='Achieved Fresh and Panel'!H23 -> 6 | I23: ='Achieved Fresh and Panel'!I23 -> 9 | J23: =SUM(C23:I26) -> 76
B24: =LEFT('Achieved Fresh and Panel'!B24,FIND(")",'Achieved Fresh and Panel'!B24)) -> Medium (20-99) | C24: ='Achieved Fresh and Panel'!C24 -> 6 | D24: ='Achieved Fresh and Panel'!D24 -> 0 | E24: ='Achieved Fresh and Panel'!E24 -> 0 | F24: ='Achieved Fresh and Panel'!F24 -> 1 | G24: ='Achieved Fresh and Panel'!G24 -> 0 | H24: ='Achieved Fresh and Panel'!H24 -> 2 | I24: ='Achieved Fresh and Panel'!I24 -> 3
B25: =LEFT('Achieved Fresh and Panel'!B25,FIND(")",'Achieved Fresh and Panel'!B25)) -> Large (100 or more) | C25: ='Achieved Fresh and Panel'!C25 -> 4 | D25: ='Achieved Fresh and Panel'!D25 -> 0 | E25: ='Achieved Fresh and Panel'!E25 -> 0 | F25: ='Achieved Fresh and Panel'!F25 -> 0 | G25: ='Achieved Fresh and Panel'!G25 -> 0 | H25: ='Achieved Fresh and Panel'!H25 -> 3 | I25: ='Achieved Fresh and Panel'!I25 -> 3
B26: =LEFT('Achieved Fresh and Panel'!B26,FIND(")",'Achieved Fresh and Panel'!B26)) -> Medium and Large (20+) | C26: ='Achieved Fresh and Panel'!C26 -> 0 | D26: ='Achieved Fresh and Panel'!D26 -> 0 | E26: ='Achieved Fresh and Panel'!E26 -> 6 | F26: ='Achieved Fresh and Panel'!F26 -> 0 | G26: ='Achieved Fresh and Panel'!G26 -> 9 | H26: ='Achieved Fresh and Panel'!H26 -> 0 | I26: ='Achieved Fresh and Panel'!I26 -> 0
C27: =SUM(C2:C26) -> 145 | D27: =SUM(D2:D26) -> 139 | E27: =SUM(E2:E26) -> 143 | F27: =SUM(F2:F26) -> 140 | G27: =SUM(G2:G26) -> 217 | H27: =SUM(H2:H26) -> 127 | I27: =SUM(I2:I26) -> 151 | J27: =SUM(J2:J26) -> 1062

Sheet Universe Strict Formatted
C1: =RIGHT(SUBSTITUTE(universe_strict!C1,"_"," "),LEN(SUBSTITUTE(universe_strict!C1,"_"," "))-1) -> Food | D1: =RIGHT(SUBSTITUTE(universe_strict!D1,"_"," "),LEN(SUBSTITUTE(universe_strict!D1,"_"," "))-1) -> Garments | E1: =RIGHT(SUBSTITUTE(universe_strict!E1,"_"," "),LEN(SUBSTITUTE(universe_strict!E1,"_"," "))-1) -> Fabricated Metal Products | F1: =RIGHT(SUBSTITUTE(universe_strict!F1,"_"," "),LEN(SUBSTITUTE(universe_strict!F1,"_"," "))-1) -> Machinery and Equipment | G1: =RIGHT(SUBSTITUTE(universe_strict!G1,"_"," "),LEN(SUBSTITUTE(universe_strict!G1,"_"," "))-1) -> Other Manufacturing | H1: =RIGHT(SUBSTITUTE(universe_strict!H1,"_"," "),LEN(SUBSTITUTE(universe_strict!H1,"_"," "))-1) -> Retail | I1: =RIGHT(SUBSTITUTE(universe_strict!I1,"_"," "),LEN(SUBSTITUTE(universe_strict!I1,"_"," "))-1) -> Other Services | J1: =RIGHT(SUBSTITUTE(universe_strict!J1,"_"," "),LEN(SUBSTITUTE(universe_strict!J1,"_"," "))-1) -> Grand Total
A2: =universe_strict!A2 -> North | B2: =LEFT(universe_strict!B2,FIND(")",universe_strict!B2)) -> Small (5-19) | C2: =universe_strict!C2 -> 232.13454 | D2: =universe_strict!D2 -> 336.09869 | E2: =universe_strict!E2 -> 241.36896 | F2: =universe_strict!F2 -> 59.49855 | G2: =universe_strict!G2 -> 624.46466 | H2: =universe_strict!H2 -> 846.84375 | I2: =universe_strict!I2 -> 2641.6189 | J2: =SUM(C2:I4) -> 7166.0327
B3: =LEFT(universe_strict!B3,FIND(")",universe_strict!B3)) -> Medium (20-99) | C3: =universe_strict!C3 -> 93.206284 | D3: =universe_strict!D3 -> 251.49133 | E3: =universe_strict!E3 -> 100.10186 | F3: =universe_strict!F3 -> 38.728973 | G3: =universe_strict!G3 -> 363.15118 | H3: =universe_strict!H3 -> 229.12248 | I3: =universe_strict!I3 -> 921.70129
B4: =LEFT(universe_strict!B4,FIND(")",universe_strict!B4)) -> Large (100 or more) | C4: =universe_strict!C4 -> 10.224023 | D4: =universe_strict!D4 -> 26.0165 | E4: =universe_strict!E4 -> 12.309118 | F4: =universe_strict!F4 -> 5.7530451 | G4: =universe_strict!G4 -> 62.9739 | H4: =universe_strict!H4 -> 9.2222281 | I4: =universe_strict!I4 -> 60.002476
A5: =universe_strict!A5 -> Algarve | B5: =LEFT(universe_strict!B5,FIND(")",universe_strict!B5)) -> Small (5-19) | C5: =universe_strict!C5 -> 24.088989 | D5: =universe_strict!D5 -> 2 | E5: =universe_strict!E5 -> 13 | F5: =universe_strict!F5 -> 0 | G5: =universe_strict!G5 -> 33 | H5: =universe_strict!H5 -> 150.25192 | I5: =universe_strict!I5 -> 430.49136 | J5: =SUM(C5:I8) -> 897.23611
B6: =LEFT(universe_strict!B6,FIND(")",universe_strict!B6)) -> Medium (20-99) | C6: =universe_strict!C6 -> 10 | D6: =universe_strict!D6 -> 0 | E6: =universe_strict!E6 -> 2 | F6: =universe_strict!F6 -> 0 | G6: =universe_strict!G6 -> 6 | H6: =universe_strict!H6 -> 44.475788 | I6: =universe_strict!I6 -> 165.83176
B7: =LEFT(universe_strict!B7,FIND(")",universe_strict!B7)) -> Large (100 or more) | C7: =universe_strict!C7 -> 0 | D7: =universe_strict!D7 -> 0 | E7: =universe_strict!E7 -> 0 | F7: =universe_strict!F7 -> 0 | G7: =universe_strict!G7 -> 0 | H7: =universe_strict!H7 -> 2 | I7: =universe_strict!I7 -> 11
B8: =LEFT(universe_strict!B8,FIND(")",universe_strict!B8)) -> Small and Medium (5-99) | C8: =universe_strict!C8 -> 0 | D8: =universe_strict!D8 -> 0 | E8: =universe_strict!E8 -> 0 | F8: =universe_strict!F8 -> 3.096287 | G8: =universe_strict!G8 -> 0 | H8: =universe_strict!H8 -> 0 | I8: =universe_strict!I8 -> 0
A9: =universe_strict!A9 -> Center | B9: =LEFT(universe_strict!B9,FIND(")",universe_strict!B9)) -> Small (5-19) | C9: =universe_strict!C9 -> 226.27025 | D9: =universe_strict!D9 -> 20.594231 | E9: =universe_strict!E9 -> 211.11703 | F9: =universe_strict!F9 -> 56.647499 | G9: =universe_strict!G9 -> 305.44391 | H9: =universe_strict!H9 -> 653.98773 | I9: =universe_strict!I9 -> 1882.5541 | J9: =SUM(C9:I11) -> 4737.408
B10: =LEFT(universe_strict!B10,FIND(")",universe_strict!B10)) -> Medium (20-99) | C10: =universe_strict!C10 -> 93.014595 | D10: =universe_strict!D10 -> 19 | E10: =universe_strict!E10 -> 111.77247 | F10: =universe_strict!F10 -> 36.351208 | G10: =universe_strict!G10 -> 200.5201 | H10: =universe_strict!H10 -> 167.77039 | I10: =universe_strict!I10 -> 639.06079
B11: =LEFT(universe_strict!B11,FIND(")",universe_strict!B11)) -> Large (100 or more) | C11: =universe_strict!C11 -> 14.183988 | D11: =universe_strict!D11 -> 8 | E11: =universe_strict!E11 -> 9.5752964 | F11: =universe_strict!F11 -> 6 | G11: =universe_strict!G11 -> 38.75695 | H11: =universe_strict!H11 -> 6 | I11: =universe_strict!I11 -> 30.787474
A12: =universe_strict!A12 -> Lisbon Metropolitan Area | B12: =LEFT(universe_strict!B12,FIND(")",universe_strict!B12)) -> Small (5-19) | C12: =universe_strict!C12 -> 76.742409 | D12: =universe_strict!D12 -> 10.189734 | E12: =universe_strict!E12 -> 58.422836 | F12: =universe_strict!F12 -> 32.476364 | G12: =universe_strict!G12 -> 114.24369 | H12: =universe_strict!H12 -> 667.28088 | I12: =universe_strict!I12 -> 1806.9233 | J12: =SUM(C12:I15) -> 4072.0776
B13: =LEFT(universe_strict!B13,FIND(")",universe_strict!B13)) -> Medium (20-99) | C13: =universe_strict!C13 -> 54.607716 | D13: =universe_strict!D13 -> 0 | E13: =universe_strict!E13 -> 18.993322 | F13: =universe_strict!F13 -> 20 | G13: =universe_strict!G13 -> 65.585831 | H13: =universe_strict!H13 -> 202.25166 | I13: =universe_strict!I13 -> 825.711
B14: =LEFT(universe_strict!B14,FIND(")",universe_strict!B14)) -> Large (100 or more) | C14: =universe_strict!C14 -> 7.6452522 | D14: =universe_strict!D14 -> 0 | E14: =universe_strict!E14 -> 3 | F14: =universe_strict!F14 -> 2 | G14: =universe_strict!G14 -> 16 | H14: =universe_strict!H14 -> 15.144456 | I14: =universe_strict!I14 -> 70.083466
B15: =LEFT(universe_strict!B15,FIND(")",universe_strict!B15)) -> Medium and Large (20+) | C15: =universe_strict!C15 -> 0 | D15: =universe_strict!D15 -> 4.7756014 | E15: =universe_strict!E15 -> 0 | F15: =universe_strict!F15 -> 0 | G15: =universe_strict!G15 -> 0 | H15: =universe_strict!H15 -> 0 | I15: =universe_strict!I15 -> 0
A16: =universe_strict!A16 -> Alentejo | B16: =LEFT(universe_strict!B16,FIND(")",universe_strict!B16)) -> Small (5-19) | C16: =universe_strict!C16 -> 87.049171 | D16: =universe_strict!D16 -> 2.1790705 | E16: =universe_strict!E16 -> 22.708916 | F16: =universe_strict!F16 -> 12 | G16: =universe_strict!G16 -> 47.253006 | H16: =universe_strict!H16 -> 209.21774 | I16: =universe_strict!I16 -> 510.31097 | J16: =SUM(C16:I19) -> 1269.1449
B17: =LEFT(universe_strict!B17,FIND(")",universe_strict!B17)) -> Medium (20-99) | C17: =universe_strict!C17 -> 54.042313 | D17: =universe_strict!D17 -> 1.1325049 | E17: =universe_strict!E17 -> 0 | F17: =universe_strict!F17 -> 3.9025578 | G17: =universe_strict!G17 -> 35.900486 | H17: =universe_strict!H17 -> 0 | I17: =universe_strict!I17 -> 186.61548
B18: =LEFT(universe_strict!B18,FIND(")",universe_strict!B18)) -> Large (100 or more) | C18: =universe_strict!C18 -> 4.5579982 | D18: =universe_strict!D18 -> 0 | E18: =universe_strict!E18 -> 0 | F18: =universe_strict!F18 -> 0 | G18: =universe_strict!G18 -> 9 | H18: =universe_strict!H18 -> 0 | I18: =universe_strict!I18 -> 8
B19: =LEFT(universe_strict!B19,FIND(")",universe_strict!B19)) -> Medium and Large (20+) | C19: =universe_strict!C19 -> 0 | D19: =universe_strict!D19 -> 0 | E19: =universe_strict!E19 -> 9.6839066 | F19: =universe_strict!F19 -> 0 | G19: =universe_strict!G19 -> 0 | H19: =universe_strict!H19 -> 65.590744 | I19: =universe_strict!I19 -> 0
A20: =universe_strict!A20 -> Autonomous Region of the Azores | B20: =LEFT(universe_strict!B20,FIND(")",universe_strict!B20)) -> Small (5-19) | C20: =universe_strict!C20 -> 14.720955 | D20: =universe_strict!D20 -> 0 | E20: =universe_strict!E20 -> 11 | F20: =universe_strict!F20 -> 1 | G20: =universe_strict!G20 -> 13.504389 | H20: =universe_strict!H20 -> 53.280312 | I20: =universe_strict!I20 -> 155.48595 | J20: =SUM(C20:I22) -> 347.23934
B21: =LEFT(universe_strict!B21,FIND(")",universe_strict!B21)) -> Medium (20-99) | C21: =universe_strict!C21 -> 11 | D21: =universe_strict!D21 -> 0 | E21: =universe_strict!E21 -> 1.7866096 | F21: =universe_strict!F21 -> 0 | G21: =universe_strict!G21 -> 5 | H21: =universe_strict!H21 -> 9.0287342 | I21: =universe_strict!I21 -> 59.577969
B22: =LEFT(universe_strict!B22,FIND(")",universe_strict!B22)) -> Large (100 or more) | C22: =universe_strict!C22 -> 3 | D22: =universe_strict!D22 -> 0 | E22: =universe_strict!E22 -> 1 | F22: =universe_strict!F22 -> 0 | G22: =universe_strict!G22 -> 1 | H22: =universe_strict!H22 -> 1.5297892 | I22: =universe_strict!I22 -> 5.3246398
A23: =universe_strict!A23 -> Autonomous Region of Madeira | B23: =LEFT(universe_strict!B23,FIND(")",universe_strict!B23)) -> Small (5-19) | C23: =universe_strict!C23 -> 35.790924 | D23: =universe_strict!D23 -> 1.0204501 | E23: =universe_strict!E23 -> 14.888293 | F23: =universe_strict!F23 -> 4.0758529 | G23: =universe_strict!G23 -> 25.42766 | H23: =universe_strict!H23 -> 150.83939 | I23: =universe_strict!I23 -> 345.81464 | J23: =SUM(C23:I26) -> 880.6893
B24: =LEFT(universe_strict!B24,FIND(")",universe_strict!B24)) -> Medium (20-99) | C24: =universe_strict!C24 -> 18.305977 | D24: =universe_strict!D24 -> 0 | E24: =universe_strict!E24 -> 0 | F24: =universe_strict!F24 -> 1 | G24: =universe_strict!G24 -> 0 | H24: =universe_strict!H24 -> 62.289192 | I24: =universe_strict!I24 -> 187.79678
B25: =LEFT(universe_strict!B25,FIND(")",universe_strict!B25)) -> Large (100 or more) | C25: =universe_strict!C25 -> 4 | D25: =universe_strict!D25 -> 0 | E25: =universe_strict!E25 -> 0 | F25: =universe_strict!F25 -> 0 | G25: =universe_strict!G25 -> 0 | H25: =universe_strict!H25 -> 3 | I25: =universe_strict!I25 -> 11.267597
B26: =LEFT(universe_strict!B26,FIND(")",universe_strict!B26)) -> Medium and Large (20+) | C26: =universe_strict!C26 -> 0 | D26: =universe_strict!D26 -> 0 | E26: =universe_strict!E26 -> 6.1725502 | F26: =universe_strict!F26 -> 0 | G26: =universe_strict!G26 -> 9 | H26: =universe_strict!H26 -> 0 | I26: =universe_strict!I26 -> 0
C27: =SUM(C2:C26) -> 1074.5854 | D27: =SUM(D2:D26) -> 682.49812 | E27: =SUM(E2:E26) -> 848.90117 | F27: =SUM(F2:F26) -> 282.53034 | G27: =SUM(G2:G26) -> 1976.2258 | H27: =SUM(H2:H26) -> 3549.1272 | I27: =SUM(I2:I26) -> 10955.96 | J27: =SUM(J2:J26) -> 19369.828

Sheet Universe Median Formatted
C1: =RIGHT(SUBSTITUTE(universe_median!C1,"_"," "),LEN(SUBSTITUTE(universe_median!C1,"_"," "))-1) -> Food | D1: =RIGHT(SUBSTITUTE(universe_median!D1,"_"," "),LEN(SUBSTITUTE(universe_median!D1,"_"," "))-1) -> Garments | E1: =RIGHT(SUBSTITUTE(universe_median!E1,"_"," "),LEN(SUBSTITUTE(universe_median!E1,"_"," "))-1) -> Fabricated Metal Products | F1: =RIGHT(SUBSTITUTE(universe_median!F1,"_"," "),LEN(SUBSTITUTE(universe_median!F1,"_"," "))-1) -> Machinery and Equipment | G1: =RIGHT(SUBSTITUTE(universe_median!G1,"_"," "),LEN(SUBSTITUTE(universe_median!G1,"_"," "))-1) -> Other Manufacturing | H1: =RIGHT(SUBSTITUTE(universe_median!H1,"_"," "),LEN(SUBSTITUTE(universe_median!H1,"_"," "))-1) -> Retail | I1: =RIGHT(SUBSTITUTE(universe_median!I1,"_"," "),LEN(SUBSTITUTE(universe_median!I1,"_"," "))-1) -> Other Services | J1: =RIGHT(SUBSTITUTE(universe_strict!J1,"_"," "),LEN(SUBSTITUTE(universe_strict!J1,"_"," "))-1) -> Grand Total
A2: =universe_median!A2 -> North | B2: =LEFT(universe_median!B2,FIND(")",universe_median!B2)) -> Small (5-19) | C2: =universe_median!C2 -> 618.43481 | D2: =universe_median!D2 -> 746.01385 | E2: =universe_median!E2 -> 574.56097 | F2: =universe_median!F2 -> 142.49957 | G2: =universe_median!G2 -> 1519.2324 | H2: =universe_median!H2 -> 2252.812 | I2: =universe_median!I2 -> 6735.6523 | J2: =SUM(C2:I4) -> 16884.705
B3: =LEFT(universe_median!B3,FIND(")",universe_median!B3)) -> Medium (20-99) | C3: =universe_median!C3 -> 194.68326 | D3: =universe_median!D3 -> 437.65549 | E3: =universe_median!E3 -> 186.82124 | F3: =universe_median!F3 -> 72.723122 | G3: =universe_median!G3 -> 692.68079 | H3: =universe_median!H3 -> 477.87988 | I3: =universe_median!I3 -> 1842.5914
B4: =LEFT(universe_median!B4,FIND(")",universe_median!B4)) -> Large (100 or more) | C4: =universe_median!C4 -> 23.181053 | D4: =universe_median!D4 -> 49.145771 | E4: =universe_median!E4 -> 24.936695 | F4: =universe_median!F4 -> 11.726332 | G4: =universe_median!G4 -> 130.38696 | H4: =universe_median!H4 -> 20.879242 | I4: =universe_median!I4 -> 130.20746
A5: =universe_median!A5 -> Algarve | B5: =LEFT(universe_median!B5,FIND(")",universe_median!B5)) -> Small (5-19) | C5: =universe_median!C5 -> 51.11092 | D5: =universe_median!D5 -> 2.212492 | E5: =universe_median!E5 -> 18.640785 | F5: =universe_median!F5 -> 0 | G5: =universe_median!G5 -> 43.611084 | H5: =universe_median!H5 -> 318.3338 | I5: =universe_median!I5 -> 874.20831 | J5: =SUM(C5:I8) -> 1693.9194
B6: =LEFT(universe_median!B6,FIND(")",universe_median!B6)) -> Medium (20-99) | C6: =universe_median!C6 -> 13.253093 | D6: =universe_median!D6 -> 0 | E6: =universe_median!E6 -> 2.5318685 | F6: =universe_median!F6 -> 0 | G6: =universe_median!G6 -> 8.0819778 | H6: =universe_median!H6 -> 73.878098 | I6: =universe_median!I6 -> 264.02652
B7: =LEFT(universe_median!B7,FIND(")",universe_median!B7)) -> Large (100 or more) | C7: =universe_median!C7 -> 0 | D7: =universe_median!D7 -> 0 | E7: =universe_median!E7 -> 0 | F7: =universe_median!F7 -> 0 | G7: =universe_median!G7 -> 0 | H7: =universe_median!H7 -> 2 | I7: =universe_median!I7 -> 16.572605
B8: =LEFT(universe_median!B8,FIND(")",universe_median!B8)) -> Small and Medium (5-99) | C8: =universe_median!C8 -> 0 | D8: =universe_median!D8 -> 0 | E8: =universe_median!E8 -> 0 | F8: =universe_median!F8 -> 5.4578285 | G8: =universe_median!G8 -> 0 | H8: =universe_median!H8 -> 0 | I8: =universe_median!I8 -> 0
A9: =universe_median!A9 -> Center | B9: =LEFT(universe_median!B9,FIND(")",universe_median!B9)) -> Small (5-19) | C9: =universe_median!C9 -> 485.31967 | D9: =universe_median!D9 -> 36.80204 | E9: =universe_median!E9 -> 404.59854 | F9: =universe_median!F9 -> 109.22807 | G9: =universe_median!G9 -> 598.26575 | H9: =universe_median!H9 -> 1400.6755 | I9: =universe_median!I9 -> 3864.5884 | J9: =SUM(C9:I11) -> 9109.0497
B10: =LEFT(universe_median!B10,FIND(")",universe_median!B10)) -> Medium (20-99) | C10: =universe_median!C10 -> 156.41591 | D10: =universe_median!D10 -> 26.456032 | E10: =universe_median!E10 -> 167.94431 | F10: =universe_median!F10 -> 54.954304 | G10: =universe_median!G10 -> 307.92853 | H10: =universe_median!H10 -> 281.71674 | I10: =universe_median!I10 -> 1028.5546
B11: =LEFT(universe_median!B11,FIND(")",universe_median!B11)) -> Large (100 or more) | C11: =universe_median!C11 -> 25.891428 | D11: =universe_median!D11 -> 11.301292 | E11: =universe_median!E11 -> 15.617462 | F11: =universe_median!F11 -> 7.6401486 | G11: =universe_median!G11 -> 64.605492 | H11: =universe_median!H11 -> 6.7573514 | I11: =universe_median!I11 -> 53.788208
A12: =universe_median!A12 -> Lisbon Metropolitan Area | B12: =LEFT(universe_median!B12,FIND(")",universe_median!B12)) -> Small (5-19) | C12: =universe_median!C12 -> 197.96944 | D12: =universe_median!D12 -> 21.90037 | E12: =universe_median!E12 -> 134.66229 | F12: =universe_median!F12 -> 75.315292 | G12: =universe_median!G12 -> 269.12695 | H12: =universe_median!H12 -> 1718.8539 | I12: =universe_median!I12 -> 4461.2627 | J12: =SUM(C12:I15) -> 9425.2643
B13: =LEFT(universe_median!B13,FIND(")",universe_median!B13)) -> Medium (20-99) | C13: =universe_median!C13 -> 110.44501 | D13: =universe_median!D13 -> 0 | E13: =universe_median!E13 -> 34.323666 | F13: =universe_median!F13 -> 30.295456 | G13: =universe_median!G13 -> 121.13351 | H13: =universe_median!H13 -> 408.46204 | I13: =universe_median!I13 -> 1598.3635
B14: =LEFT(universe_median!B14,FIND(")",universe_median!B14)) -> Large (100 or more) | C14: =universe_median!C14 -> 16.78463 | D14: =universe_median!D14 -> 0 | E14: =universe_median!E14 -> 4.8097987 | F14: =universe_median!F14 -> 2.7015693 | G14: =universe_median!G14 -> 30.261694 | H14: =universe_median!H14 -> 33.200233 | I14: =universe_median!I14 -> 147.26205
B15: =LEFT(universe_median!B15,FIND(")",universe_median!B15)) -> Medium and Large (20+) | C15: =universe_median!C15 -> 0 | D15: =universe_median!D15 -> 8.1301842 | E15: =universe_median!E15 -> 0 | F15: =universe_median!F15 -> 0 | G15: =universe_median!G15 -> 0 | H15: =universe_median!H15 -> 0 | I15: =universe_median!I15 -> 0
A16: =universe_median!A16 -> Alentejo | B16: =LEFT(universe_median!B16,FIND(")",universe_median!B16)) -> Small (5-19) | C16: =universe_median!C16 -> 185.37329 | D16: =universe_median!D16 -> 3.8661587 | E16: =universe_median!E16 -> 43.209526 | F16: =universe_median!F16 -> 20.722794 | G16: =universe_median!G16 -> 91.891251 | H16: =universe_median!H16 -> 444.8858 | I16: =universe_median!I16 -> 1040.0945 | J16: =SUM(C16:I19) -> 2441.5475
B17: =LEFT(universe_median!B17,FIND(")",universe_median!B17)) -> Medium (20-99) | C17: =universe_median!C17 -> 90.22892 | D17: =universe_median!D17 -> 1.5753529 | E17: =universe_median!E17 -> 0 | F17: =universe_median!F17 -> 5.8575268 | G17: =universe_median!G17 -> 54.736168 | H17: =universe_median!H17 -> 0 | I17: =universe_median!I17 -> 298.20499
B18: =LEFT(universe_median!B18,FIND(")",universe_median!B18)) -> Large (100 or more) | C18: =universe_median!C18 -> 8.260643 | D18: =universe_median!D18 -> 0 | E18: =universe_median!E18 -> 0 | F18: =universe_median!F18 -> 0 | G18: =universe_median!G18 -> 13.939144 | H18: =universe_median!H18 -> 0 | I18: =universe_median!I18 -> 13.627927
B19: =LEFT(universe_median!B19,FIND(")",universe_median!B19)) -> Medium and Large (20+) | C19: =universe_median!C19 -> 0 | D19: =universe_median!D19 -> 0 | E19: =universe_median!E19 -> 14.595446 | F19: =universe_median!F19 -> 0 | G19: =universe_median!G19 -> 0 | H19: =universe_median!H19 -> 110.47813 | I19: =universe_median!I19 -> 0
A20: =universe_median!A20 -> Autonomous Region of the Azores | B20: =LEFT(universe_median!B20,FIND(")",universe_median!B20)) -> Small (5-19) | C20: =universe_median!C20 -> 28.222406 | D20: =universe_median!D20 -> 0 | E20: =universe_median!E20 -> 13.249577 | F20: =universe_median!F20 -> 1 | G20: =universe_median!G20 -> 23.642599 | H20: =universe_median!H20 -> 101.99815 | I20: =universe_median!I20 -> 285.30185 | J20: =SUM(C20:I22) -> 591.63517
B21: =LEFT(universe_median!B21,FIND(")",universe_median!B21)) -> Medium (20-99) | C21: =universe_median!C21 -> 14.272866 | D21: =universe_median!D21 -> 0 | E21: =universe_median!E21 -> 2.3994832 | F21: =universe_median!F21 -> 0 | G21: =universe_median!G21 -> 5 | H21: =universe_median!H21 -> 13.551327 | I21: =universe_median!I21 -> 85.709404
B22: =LEFT(universe_median!B22,FIND(")",universe_median!B22)) -> Large (100 or more) | C22: =universe_median!C22 -> 4.4801488 | D22: =universe_median!D22 -> 0 | E22: =universe_median!E22 -> 1 | F22: =universe_median!F22 -> 0 | G22: =universe_median!G22 -> 1 | H22: =universe_median!H22 -> 2.4923806 | I22: =universe_median!I22 -> 8.3149738
A23: =universe_median!A23 -> Autonomous Region of Madeira | B23: =LEFT(universe_median!B23,FIND(")",universe_median!B23)) -> Small (5-19) | C23: =universe_median!C23 -> 92.044388 | D23: =universe_median!D23 -> 2.1864626 | E23: =universe_median!E23 -> 34.211327 | F23: =universe_median!F23 -> 9.4231472 | G23: =universe_median!G23 -> 59.716312 | H23: =universe_median!H23 -> 387.35278 | I23: =universe_median!I23 -> 851.18335 | J23: =SUM(C23:I26) -> 2022.8907
B24: =LEFT(universe_median!B24,FIND(")",universe_median!B24)) -> Medium (20-99) | C24: =universe_median!C24 -> 36.910217 | D24: =universe_median!D24 -> 0 | E24: =universe_median!E24 -> 0 | F24: =universe_median!F24 -> 1.5810416 | G24: =universe_median!G24 -> 0 | H24: =universe_median!H24 -> 125.41052 | I24: =universe_median!I24 -> 362.40756
B25: =LEFT(universe_median!B25,FIND(")",universe_median!B25)) -> Large (100 or more) | C25: =universe_median!C25 -> 5.2556782 | D25: =universe_median!D25 -> 0 | E25: =universe_median!E25 -> 0 | F25: =universe_median!F25 -> 0 | G25: =universe_median!G25 -> 0 | H25: =universe_median!H25 -> 4.3315859 | I25: =universe_median!I25 -> 23.60306
