Workbook

Sheet Graphs
A1: Strict assumption | B1: =SUM(Overview!J8:J12)/Overview!G39 -> 0.79207921 | F1: Non-response rate d2 | L1: Rejection/Contact | M1: Interviews/Contact
A2: Median assumption | B2: =(SUM(Overview!J8:J12)+SUM(Overview!J35:J36)+Overview!J14)/Overview!G39 -> 0.81188119 | F2: Manufacturing | G2: Retail/Wholesale | H2: Other Services | L2: =Overview!D23+Overview!D28 -> 0.059405941 | M2: =Overview!D26 -> 0.75247525
A3: Weak assumption | B3: =(SUM(Overview!J8:J12)+SUM(Overview!J35:J36)+Overview!J14+SUM(Overview!J31:J34)+Overview!J37)/Overview!G39 -> 0.91089109 | F3: 0 | G3: 0 | H3: 0

Sheet Overview
B3: SUMMARY | G3: SCREENING PHASE
B6: Target and totals | C6: Sample target | D6: 150 | G6: =SUM(J6) -> 0 | H6: Screening in process | I6: 14. In process (the establishment is being called/ is being contacted - previous to ask the screener) | J6: 0
C7: Sample target completion rate | D7: 1.0133333
C8: Total contacts available in frame | D8: 1057 | G8: =SUM(J8:J12) -> 160 | H8: Eligible | I8: 1. Eligible establishment (Correct name and address) | J8: 135
C9: Total contacts issued | D9: 305 | I9: 2. Eligible establishment (Different name but same address - the new firm/establishment bought the original firm/establishment) | J9: 1
C10: Total contacts contacted | D10: 202 | I10: 3. Eligible establishment (Different name but same address - the firm/establishment changed its name) | J10: 8
I11: 4. Eligible establishment (Moved and traced) | J11: 15
B12: Screening phase | C12: Screening in process | D12: 0 | I12: 16. Eligible establishment (Panel Firm - now less than five employees; this code applies only to panel firms.) | J12: 1
C13: Eligibles | D13: 160
C14: Screener refusal | D14: 4 | G14: =SUM(J14) -> 4 | H14: Screener refusal | I14: 13. Refuses to answer the screener | J14: 4
C15: Ineligible + out of target | D15: 18
C16: Unobtainable | D16: 20 | G16: =SUM(J16:J24) -> 13 | H16: Ineligible | I16: 5. The establishment has less than 5 permanent full time employees | J16: 1
B17: Interview phase (only if eligible) | C17: Complete interviews without extra module | D17: 152 | I17: 616. The firm discontinued businesses - (Establishment went bankrupt) | J17: 1
C18: Complete interviews with extra module | D18: 0 | I18: 618. The firm discontinued businesses - (Original establishment disappeared and is now a different firm) | J18: 2
C19: Eligible in process + incomplete interviews | D19: 0 | I19: 619. The firm discontinued businesses - (Establishment was bought out by another firm) | J19: 0
C20: Interview refusal | D20: 8 | I20: 620. The firm discontinued businesses - (It was impossible to determine for what reason) | J20: 1
I21: 621. The firm discontinued businesses - (Other) | J21: 2
B22: Percent breakdown (relative to total contacted) | C22: Screening in process rate | D22: 0 | I22: 71. Ineligible legal status: not a business, but private household | J22: 2
C23: Screener refusal rate | D23: 0.01980198 | I23: 72. Ineligible legal status: cooperatives, non-profit organizations, etc. | J23: 1
C24: Ineligible + out of target rate | D24: 0.089108911 | I24: 8. Ineligible activity: Education, Agriculture, Finances, Government, etc. | J24: 3
C25: Unobtainable rate | D25: 0.099009901 | G25: =SUM(J25:J30) -> 5 | H25: Out of Target | I25: 151. Out of target - outside the covered regions | J25: 1
C26: Interview conversion rate | D26: 0.75247525 | I26: 152. Out of target - moved abroad | J26: 0
C27: Eligible in process + incomplete interviews rate | D27: 0 | I27: 153. Out of target - Not registered with Statistical Authority | J27: 0
C28: Interview refusal rate | D28: 0.03960396 | I28: 154. Out of target - establishment is HQ without production or sales of goods or services | J28: 0
I29: 155. Out of target - establishment was not in operation for the entirety of last fiscal year | J29: 2
I30: 156. Duplicated firm within the sample | J30: 2
G31: =SUM(J31:J37) -> 20 | H31: Unobtainable | I31: 91. No reply after having called in different days of the week and in different business hours | J31: 7
I32: 92. Line out of order | J32: 1
I33: 93. No tone | J33: 0
I34: 94. Phone number does not exist | J34: 2
I35: 10. Answering machine | J35: 0
I36: 11. Fax line- data line | J36: 0
I37: 12. Wrong address/ moved away and could not get the new references | J37: 10
G39: =SUM(G6:G37) -> 202 | H39: Total contacted

Sheet Original Design Fresh Formatted
C1: =RIGHT(SUBSTITUTE(original_design_fresh!C1,"_"," "),LEN(SUBSTITUTE(original_design_fresh!C1,"_"," "))-1) -> Manufacturing | D1: =RIGHT(SUBSTITUTE(original_design_fresh!D1,"_"," "),LEN(SUBSTITUTE(original_design_fresh!D1,"_"," "))-1) -> Services | E1: =RIGHT(SUBSTITUTE(original_design_fresh!E1,"_"," "),LEN(SUBSTITUTE(original_design_fresh!E1,"_"," "))-1) -> Grand Total
A2: Bo | B2: =LEFT(original_design_fresh!B2,FIND(" ",original_design_fresh!B2)) -> Small | C2: =original_design_fresh!C2 -> 11 | D2: =original_design_fresh!D2 -> 3 | E2: =SUM(C2:D4) -> 20
B3: =LEFT(original_design_fresh!B3,FIND(" ",original_design_fresh!B3)) -> Medium | C3: =original_design_fresh!C3 -> 2 | D3: =original_design_fresh!D3 -> 4
B4: =LEFT(original_design_fresh!B4,FIND(" ",original_design_fresh!B4)) -> Large | C4: =original_design_fresh!C4 -> 0 | D4: =original_design_fresh!D4 -> 0
A5: Western Urban | B5: =LEFT(original_design_fresh!B5,FIND(" ",original_design_fresh!B5)) -> Small | C5: =original_design_fresh!C5 -> 3 | D5: =original_design_fresh!D5 -> 4 | E5: =SUM(C5:D7) -> 28
B6: =LEFT(original_design_fresh!B6,FIND(" ",original_design_fresh!B6)) -> Medium | C6: =original_design_fresh!C6 -> 7 | D6: =original_design_fresh!D6 -> 3
B7: =LEFT(original_design_fresh!B7,FIND(" ",original_design_fresh!B7)) -> Large | C7: =original_design_fresh!C7 -> 5 | D7: =original_design_fresh!D7 -> 6
A8: Kenema | B8: =LEFT(original_design_fresh!B8,FIND(" ",original_design_fresh!B8)) -> Small | C8: =original_design_fresh!C8 -> 4 | D8: =original_design_fresh!D8 -> 2 | E8: =SUM(C8:D10) -> 7
B9: =LEFT(original_design_fresh!B9,FIND(" ",original_design_fresh!B9)) -> Medium | C9: =original_design_fresh!C9 -> 0 | D9: =original_design_fresh!D9 -> 1
B10: =LEFT(original_design_fresh!B10,FIND(" ",original_design_fresh!B10)) -> Large | C10: =original_design_fresh!C10 -> 0 | D10: =original_design_fresh!D10 -> 0
A11: Bombali | B11: =LEFT(original_design_fresh!B11,FIND(" ",original_design_fresh!B11)) -> Small | C11: =original_design_fresh!C11 -> 8 | D11: =original_design_fresh!D11 -> 10 | E11: =SUM(C11:D13) -> 20
B12: =LEFT(original_design_fresh!B12,FIND(" ",original_design_fresh!B12)) -> Medium | C12: =original_design_fresh!C12 -> 0 | D12: =original_design_fresh!D12 -> 2
B13: =LEFT(original_design_fresh!B13,FIND(" ",original_design_fresh!B13)) -> Large | C13: =original_design_fresh!C13 -> 0 | D13: =original_design_fresh!D13 -> 0
C14: =SUM(C2:C13) -> 40 | D14: =SUM(D2:D13) -> 35 | E14: =SUM(E2:E13) -> 75

Sheet Original Design Panel Formatted
C1: =RIGHT(SUBSTITUTE(original_design_panel!C1,"_"," "),LEN(SUBSTITUTE(original_design_panel!C1,"_"," "))-1) -> Manufacturing | D1: =RIGHT(SUBSTITUTE(original_design_panel!D1,"_"," "),LEN(SUBSTITUTE(original_design_panel!D1,"_"," "))-1) -> Services | E1: =RIGHT(SUBSTITUTE(original_design_panel!E1,"_"," "),LEN(SUBSTITUTE(original_design_panel!E1,"_"," "))-1) -> Grand Total
A2: =original_design_panel!A2 -> Bo | B2: =LEFT(original_design_panel!B2,FIND(" ",original_design_panel!B2)) -> Small | C2: =original_design_panel!C2 -> 0 | D2: =original_design_panel!D2 -> 0 | E2: =SUM(C2:D4) -> 0
B3: =LEFT(original_design_panel!B3,FIND(" ",original_design_panel!B3)) -> Medium | C3: =original_design_panel!C3 -> 0 | D3: =original_design_panel!D3 -> 0
B4: =LEFT(original_design_panel!B4,FIND(" ",original_design_panel!B4)) -> Large | C4: =original_design_panel!C4 -> 0 | D4: =original_design_panel!D4 -> 0
A5: =original_design_panel!A5 -> Western Urban | B5: =LEFT(original_design_panel!B5,FIND(" ",original_design_panel!B5)) -> Small | C5: =original_design_panel!C5 -> 17 | D5: =original_design_panel!D5 -> 19 | E5: =SUM(C5:D7) -> 62
B6: =LEFT(original_design_panel!B6,FIND(" ",original_design_panel!B6)) -> Medium | C6: =original_design_panel!C6 -> 8 | D6: =original_design_panel!D6 -> 9
B7: =LEFT(original_design_panel!B7,FIND(" ",original_design_panel!B7)) -> Large | C7: =original_design_panel!C7 -> 2 | D7: =original_design_panel!D7 -> 7
A8: =original_design_panel!A8 -> Kenema | B8: =LEFT(original_design_panel!B8,FIND(" ",original_design_panel!B8)) -> Small | C8: =original_design_panel!C8 -> 7 | D8: =original_design_panel!D8 -> 2 | E8: =SUM(C8:D10) -> 13
B9: =LEFT(original_design_panel!B9,FIND(" ",original_design_panel!B9)) -> Medium | C9: =original_design_panel!C9 -> 1 | D9: =original_design_panel!D9 -> 3
B10: =LEFT(original_design_panel!B10,FIND(" ",original_design_panel!B10)) -> Large | C10: =original_design_panel!C10 -> 0 | D10: =original_design_panel!D10 -> 0
A11: =original_design_panel!A11 -> Bombali | B11: =LEFT(original_design_panel!B11,FIND(" ",original_design_panel!B11)) -> Small | C11: =original_design_panel!C11 -> 0 | D11: =original_design_panel!D11 -> 0 | E11: =SUM(C11:D13) -> 0
B12: =LEFT(original_design_panel!B12,FIND(" ",original_design_panel!B12)) -> Medium | C12: =original_design_panel!C12 -> 0 | D12: =original_design_panel!D12 -> 0
B13: =LEFT(original_design_panel!B13,FIND(" ",original_design_panel!B13)) -> Large | C13: =original_design_panel!C13 -> 0 | D13: =original_design_panel!D13 -> 0
C14: =SUM(C2:C13) -> 35 | D14: =SUM(D2:D13) -> 40 | E14: =SUM(E2:E13) -> 75

Sheet Frame Fresh and Panel Formatted
C1: =RIGHT(SUBSTITUTE('Frame Fresh and Panel'!C1,"_"," "),LEN(SUBSTITUTE('Frame Fresh and Panel'!C1,"_"," "))-1) -> Manufacturing | D1: =RIGHT(SUBSTITUTE('Frame Fresh and Panel'!D1,"_"," "),LEN(SUBSTITUTE('Frame Fresh and Panel'!D1,"_"," "))-1) -> Services | E1: =RIGHT(SUBSTITUTE('Frame Fresh and Panel'!E1,"_"," "),LEN(SUBSTITUTE('Frame Fresh and Panel'!E1,"_"," "))-1) -> Grand Total
A2: ='Frame Fresh and Panel'!A2 -> Bo | B2: =LEFT('Frame Fresh and Panel'!B2,FIND(" ",'Frame Fresh and Panel'!B2)) -> Small | C2: ='Frame Fresh and Panel'!C2 -> 42 | D2: ='Frame Fresh and Panel'!D2 -> 60 | E2: =SUM(C2:D4) -> 110
B3: =LEFT('Frame Fresh and Panel'!B3,FIND(" ",'Frame Fresh and Panel'!B3)) -> Medium | C3: ='Frame Fresh and Panel'!C3 -> 2 | D3: ='Frame Fresh and Panel'!D3 -> 6
B4: Large | C4: 0 | D4: 0
A5: ='Frame Fresh and Panel'!A5 -> Western Urban | B5: =LEFT('Frame Fresh and Panel'!B4,FIND(" ",'Frame Fresh and Panel'!B4)) -> Small | C5: ='Frame Fresh and Panel'!C4 -> 266 | D5: ='Frame Fresh and Panel'!D4 -> 401 | E5: =SUM(C5:D7) -> 763
B6: =LEFT('Frame Fresh and Panel'!B5,FIND(" ",'Frame Fresh and Panel'!B5)) -> Medium | C6: ='Frame Fresh and Panel'!C5 -> 22 | D6: ='Frame Fresh and Panel'!D5 -> 36
B7: =LEFT('Frame Fresh and Panel'!B6,FIND(" ",'Frame Fresh and Panel'!B6)) -> Large | C7: ='Frame Fresh and Panel'!C6 -> 10 | D7: ='Frame Fresh and Panel'!D6 -> 28
A8: ='Frame Fresh and Panel'!A8 -> Kenema | B8: =LEFT('Frame Fresh and Panel'!B7,FIND(" ",'Frame Fresh and Panel'!B7)) -> Small | C8: ='Frame Fresh and Panel'!C7 -> 30 | D8: ='Frame Fresh and Panel'!D7 -> 92 | E8: =SUM(C8:D10) -> 127
B9: =LEFT('Frame Fresh and Panel'!B8,FIND(" ",'Frame Fresh and Panel'!B8)) -> Medium | C9: ='Frame Fresh and Panel'!C8 -> 1 | D9: ='Frame Fresh and Panel'!D8 -> 4
B10: Large | C10: 0 | D10: 0
A11: ='Frame Fresh and Panel'!A9 -> Bombali | B11: =LEFT('Frame Fresh and Panel'!B9,FIND(" ",'Frame Fresh and Panel'!B9)) -> Small | C11: ='Frame Fresh and Panel'!C9 -> 12 | D11: ='Frame Fresh and Panel'!D9 -> 43 | E11: =SUM(C11:D13) -> 57
B12: =LEFT('Frame Fresh and Panel'!B10,FIND(" ",'Frame Fresh and Panel'!B10)) -> Medium | C12: ='Frame Fresh and Panel'!C10 -> 0 | D12: ='Frame Fresh and Panel'!D10 -> 2
B13: Large | C13: ='Frame Fresh and Panel'!C13 -> 0 | D13: ='Frame Fresh and Panel'!D13 -> 0
C14: =SUM(C2:C13) -> 385 | D14: =SUM(D2:D13) -> 672 | E14: =SUM(E2:E13) -> 1057

Sheet Frame Panel Formatted
C1: =RIGHT(SUBSTITUTE('Frame Panel'!C1,"_"," "),LEN(SUBSTITUTE('Frame Panel'!C1,"_"," "))-1) -> Manufacturing | D1: =RIGHT(SUBSTITUTE('Frame Panel'!D1,"_"," "),LEN(SUBSTITUTE('Frame Panel'!D1,"_"," "))-1) -> Services | E1: =RIGHT(SUBSTITUTE('Frame Panel'!E1,"_"," "),LEN(SUBSTITUTE('Frame Panel'!E1,"_"," "))-1) -> Grand Total
A2: Bo | B2: Small | C2: 0 | D2: 0 | E2: =SUM(C2:D4) -> 0
B3: Medium | C3: 0 | D3: 0
B4: Large | C4: 0 | D4: 0
A5: Western Urban | B5: Small | C5: ='Frame Panel'!C2 -> 32 | D5: ='Frame Panel'!D2 -> 31 | E5: =SUM(C5:D7) -> 98
B6: Medium | C6: ='Frame Panel'!C3 -> 11 | D6: ='Frame Panel'!D3 -> 12
B7: Large | C7: ='Frame Panel'!C4 -> 2 | D7: ='Frame Panel'!D4 -> 10
A8: Kenema | B8: Small | C8: ='Frame Panel'!C5 -> 22 | D8: ='Frame Panel'!D5 -> 26 | E8: =SUM(C8:D10) -> 52
B9: Medium | C9: ='Frame Panel'!C6 -> 1 | D9: ='Frame Panel'!D6 -> 3
B10: Large | C10: ='Frame Panel'!C10 -> 0 | D10: ='Frame Panel'!D10 -> 0
A11: Bombali | B11: Small | C11: ='Frame Panel'!C11 -> 0 | D11: ='Frame Panel'!D11 -> 0 | E11: =SUM(C11:D13) -> 0
B12: Medium | C12: ='Frame Panel'!C12 -> 0 | D12: ='Frame Panel'!D12 -> 0
B13: Large | C13: ='Frame Panel'!C13 -> 0 | D13: ='Frame Panel'!D13 -> 0
C14: =SUM(C2:C13) -> 68 | D14: =SUM(D2:D13) -> 82 | E14: =SUM(E2:E13) -> 150

Sheet Achieved Panel Formatted
C1: =RIGHT(SUBSTITUTE('Achieved Panel'!C1,"_"," "),LEN(SUBSTITUTE('Achieved Panel'!C1,"_"," "))-1) -> Manufacturing | D1: =RIGHT(SUBSTITUTE('Achieved Panel'!D1,"_"," "),LEN(SUBSTITUTE('Achieved Panel'!D1,"_"," "))-1) -> Services | E1: =RIGHT(SUBSTITUTE('Achieved Panel'!E1,"_"," "),LEN(SUBSTITUTE('Achieved Panel'!E1,"_"," "))-1) -> Grand Total
A2: Bo | B2: Small | C2: 0 | D2: 0 | E2: =SUM(C2:D4) -> 0
B3: Medium | C3: 0 | D3: 0
B4: Large | C4: 0 | D4: 0
A5: Western Urban | B5: Small | C5: ='Achieved Panel'!C2 -> 17 | D5: ='Achieved Panel'!D2 -> 20 | E5: =SUM(C5:D7) -> 63
B6: Medium | C6: ='Achieved Panel'!C3 -> 8 | D6: ='Achieved Panel'!D3 -> 9
B7: Large | C7: ='Achieved Panel'!C4 -> 2 | D7: ='Achieved Panel'!D4 -> 7
A8: Kenema | B8: Small | C8: ='Achieved Panel'!C5 -> 0 | D8: ='Achieved Panel'!D5 -> 2 | E8: =SUM(C8:D10) -> 12
B9: Medium | C9: ='Achieved Panel'!C6 -> 0 | D9: ='Achieved Panel'!D6 -> 1
B10: Small and Medium | C10: ='Achieved Panel'!C7 -> 9 | D10: ='Achieved Panel'!D7 -> 0
A11: Bombali | B11: Small | C11: ='Achieved Panel'!C11 -> 0 | D11: ='Achieved Panel'!D11 -> 0 | E11: =SUM(C11:D13) -> 0
B12: Medium | C12: ='Achieved Panel'!C12 -> 0 | D12: ='Achieved Panel'!D12 -> 0
B13: Large | C13: ='Achieved Panel'!C13 -> 0 | D13: ='Achieved Panel'!D13 -> 0
C14: =SUM(C2:C13) -> 36 | D14: =SUM(D2:D13) -> 39 | E14: =SUM(E2:E13) -> 75

Sheet Achieved Fresh &Panel Formatted
C1: =RIGHT(SUBSTITUTE('Achieved Fresh and Panel'!C1,"_"," "),LEN(SUBSTITUTE('Achieved Fresh and Panel'!C1,"_"," "))-1) -> Manufacturing | D1: =RIGHT(SUBSTITUTE('Achieved Fresh and Panel'!D1,"_"," "),LEN(SUBSTITUTE('Achieved Fresh and Panel'!D1,"_"," "))-1) -> Services | E1: =RIGHT(SUBSTITUTE('Achieved Fresh and Panel'!E1,"_"," "),LEN(SUBSTITUTE('Achieved Fresh and Panel'!E1,"_"," "))-1) -> Grand Total
A2: Bo | B2: Small | C2: ='Achieved Fresh and Panel'!C2 -> 11 | D2: ='Achieved Fresh and Panel'!D2 -> 3 | E2: =SUM(C2:D4) -> 20
B3: Medium | C3: ='Achieved Fresh and Panel'!C3 -> 2 | D3: ='Achieved Fresh and Panel'!D3 -> 4
B4: Large | C4: 0 | D4: 0
A5: Western Urban | B5: Small | C5: ='Achieved Fresh and Panel'!C4 -> 20 | D5: ='Achieved Fresh and Panel'!D4 -> 24 | E5: =SUM(C5:D7) -> 91
B6: Medium | C6: ='Achieved Fresh and Panel'!C5 -> 16 | D6: ='Achieved Fresh and Panel'!D5 -> 12
B7: Large | C7: ='Achieved Fresh and Panel'!C6 -> 7 | D7: ='Achieved Fresh and Panel'!D6 -> 12
A8: Kenema | B8: Small | C8: ='Achieved Fresh and Panel'!C7 -> 0 | D8: ='Achieved Fresh and Panel'!D7 -> 4 | E8: =SUM(C8:D10) -> 20
B9: Medium | C9: ='Achieved Fresh and Panel'!C8 -> 0 | D9: ='Achieved Fresh and Panel'!D8 -> 2
B10: Small and Medium | C10: ='Achieved Fresh and Panel'!C9 -> 14 | D10: ='Achieved Fresh and Panel'!D9 -> 0
A11: Bombali | B11: Small | C11: ='Achieved Fresh and Panel'!C10 -> 9 | D11: ='Achieved Fresh and Panel'!D10 -> 10 | E11: =SUM(C11:D13) -> 21
B12: Medium | C12: ='Achieved Fresh and Panel'!C11 -> 0 | D12: ='Achieved Fresh and Panel'!D11 -> 2
B13: Large | C13: ='Achieved Fresh and Panel'!C13 -> 0 | D13: ='Achieved Fresh and Panel'!D13 -> 0
C14: =SUM(C2:C13) -> 79 | D14: =SUM(D2:D13) -> 73 | E14: =SUM(E2:E13) -> 152

Sheet Universe Strict Formatted
C1: =RIGHT(SUBSTITUTE(universe_strict!C1,"_"," "),LEN(SUBSTITUTE(universe_strict!C1,"_"," "))-1) -> Manufacturing | D1: =RIGHT(SUBSTITUTE(universe_strict!D1,"_"," "),LEN(SUBSTITUTE(universe_strict!D1,"_"," "))-1) -> Services | E1: =RIGHT(SUBSTITUTE(universe_strict!E1,"_"," "),LEN(SUBSTITUTE(universe_strict!E1,"_"," "))-1) -> Grand Total
A2: Bo | B2: Small | C2: =universe_strict!C2 -> 43.312538 | D2: =universe_strict!D2 -> 53.265717 | E2: =SUM(C2:D4) -> 104.94606
B3: Medium | C3: =universe_strict!C3 -> 2.3356946 | D3: =universe_strict!D3 -> 6.0321136
B4: Large | C4: 0 | D4: 0
A5: Western Urban | B5: Small | C5: =universe_strict!C4 -> 214.4892 | D5: =universe_strict!D4 -> 278.35583 | E5: =SUM(C5:D7) -> 568.55585
B6: Medium | C6: =universe_strict!C5 -> 22.158636 | D6: =universe_strict!D5 -> 28.996326
B7: Large | C7: =universe_strict!C6 -> 7.1408892 | D7: =universe_strict!D6 -> 17.414963
A8: Kenema | B8: Small | C8: =universe_strict!C7 -> 0 | D8: =universe_strict!D7 -> 49.004463 | E8: =SUM(C8:D10) -> 69.260349
B9: Medium | C9: =universe_strict!C8 -> 0 | D9: =universe_strict!D8 -> 2.4128454
B10: Small and Medium | C10: =universe_strict!C9 -> 17.84304 | D10: =universe_strict!D9 -> 0
A11: Bombali | B11: Small | C11: =universe_strict!C10 -> 9.857337 | D11: =universe_strict!D10 -> 30.407375 | E11: =SUM(C11:D13) -> 42.264712
B12: Medium | C12: =universe_strict!C11 -> 0 | D12: =universe_strict!D11 -> 2
B13: Large | C13: =universe_strict!C13 -> 0 | D13: =universe_strict!D13 -> 0
C14: =SUM(C2:C13) -> 317.13733 | D14: =SUM(D2:D13) -> 467.88964 | E14: =SUM(E2:E13) -> 785.02697

Sheet Universe Median Formatted
C1: =RIGHT(SUBSTITUTE(universe_median!C1,"_"," "),LEN(SUBSTITUTE(universe_median!C1,"_"," "))-1) -> Manufacturing | D1: =RIGHT(SUBSTITUTE(universe_median!D1,"_"," "),LEN(SUBSTITUTE(universe_median!D1,"_"," "))-1) -> Services | E1: =RIGHT(SUBSTITUTE(universe_median!E1,"_"," "),LEN(SUBSTITUTE(universe_median!E1,"_"," "))-1) -> Grand Total
A2: Bo | B2: Small | C2: =universe_median!C2 -> 41.349506 | D2: =universe_median!D2 -> 54.483841 | E2: =SUM(C2:D4) -> 104.04234
B3: Medium | C3: =universe_median!C3 -> 2.1791573 | D3: =universe_median!D3 -> 6.0298319
B4: Large | C4: 0 | D4: 0
A5: Western Urban | B5: Small | C5: =universe_median!C4 -> 216.46906 | D5: =universe_median!D4 -> 300.99136 | E5: =SUM(C5:D7) -> 598.12041
B6: Medium | C6: =universe_median!C5 -> 21.998764 | D6: =universe_median!D5 -> 30.31778
B7: Large | C7: =universe_median!C6 -> 7.871604 | D7: =universe_median!D6 -> 20.471842
A8: Kenema | B8: Small | C8: =universe_median!C7 -> 0 | D8: =universe_median!D7 -> 56.390778 | E8: =SUM(C8:D10) -> 77.832308
B9: Medium | C9: =universe_median!C8 -> 0 | D9: =universe_median!D8 -> 2.7134244
B10: Small and Medium | C10: =universe_median!C9 -> 18.728106 | D10: =universe_median!D9 -> 0
A11: Bombali | B11: Small | C11: =universe_median!C10 -> 9.4105778 | D11: =universe_median!D10 -> 31.10276 | E11: =SUM(C11:D13) -> 42.513338
B12: Medium | C12: =universe_median!C11 -> 0 | D12: =universe_median!D11 -> 2
B13: Large | C13: =universe_median!C13 -> 0 | D13: =universe_median!D13 -> 0
C14: =SUM(C2:C13) -> 318.00677 | D14: =SUM(D2:D13) -> 504.50162 | E14: =SUM(E2:E13) -> 822.50839

Sheet Universe Weak Formatted
C1: =RIGHT(SUBSTITUTE(universe_weak!C1,"_"," "),LEN(SUBSTITUTE(universe_weak!C1,"_"," "))-1) -> Manufacturing | D1: =RIGHT(SUBSTITUTE(universe_weak!D1,"_"," "),LEN(SUBSTITUTE(universe_weak!D1,"_"," "))-1) -> Services | E1: =RIGHT(SUBSTITUTE(universe_weak!E1,"_"," "),LEN(SUBSTITUTE(universe_weak!E1,"_"," "))-1) -> Grand Total
A2: Bo | B2: Small | C2: =universe_weak!C2 -> 38.927643 | D2: =universe_weak!D2 -> 53.184341 | E2: =SUM(C2:D4) -> 99.914414
B3: Medium | C3: =universe_weak!C3 -> 2.0166032 | D3: =universe_weak!D3 -> 5.7858262
B4: Large | C4: 0 | D4: 0
A5: Western Urban | B5: Small | C5: =universe_weak!C4 -> 231.32961 | D5: =universe_weak!D4 -> 333.51672 | E5: =SUM(C5:D7) -> 655.60709
B6: Medium | C6: =universe_weak!C5 -> 22.85652 | D6: =universe_weak!D5 -> 32.843731
B7: Large | C7: =universe_weak!C6 -> 9.5329561 | D7: =universe_weak!D6 -> 25.527557
A8: Kenema | B8: Small | C8: =universe_weak!C7 -> 0 | D8: =universe_weak!D7 -> 79.510582 | E8: =SUM(C8:D10) -> 116.64975
B9: Medium | C9: =universe_weak!C8 -> 0 | D9: =universe_weak!D8 -> 3.760787
B10: Small and Medium | C10: =universe_weak!C9 -> 33.37838 | D10: =universe_weak!D9 -> 0
A11: Bombali | B11: Small | C11: =universe_weak!C10 -> 9.2620955 | D11: =universe_weak!D10 -> 31.740963 | E11: =SUM(C11:D13) -> 43.003058
B12: Medium | C12: =universe_weak!C11 -> 0 | D12: =universe_weak!D11 -> 2
B13: Large | C13: =universe_weak!C13 -> 0 | D13: =universe_weak!D13 -> 0
C14: =SUM(C2:C13) -> 347.3038 | D14: =SUM(D2:D13) -> 567.87051 | E14: =SUM(E2:E13) -> 915.17431

Sheet Achieved Fresh and Panel
A1: stratificationregionname | B1: stratificationsizename | C1: _Manufacturing | D1: _Services | E1: _Grand_Total
A2: Bo | B2: Small (5-19) | C2: 11 | D2: 3
A3: Bo | B3: Medium (20-99) | C3: 2 | D3: 4
A4: Western Urban | B4: Small (5-19) | C4: 20 | D4: 24
A5: Western Urban | B5: Medium (20-99) | C5: 16 | D5: 12
A6: Western Urban | B6: Large (100 or more) | C6: 7 | D6: 12
A7: Kenema | B7: Small (5-19) | D7: 4
A8: Kenema | B8: Medium (20-99) | D8: 2
A9: Kenema | B9: Small and Medium (5-99) | C9: 14
A10: Bombali | B10: Small (5-19) | C10: 9 | D10: 10
A11: Bombali | B11: Medium (20-99) | D11: 2

Sheet Achieved Panel
A1: stratificationregionname | B1: stratificationsizename | C1: _Manufacturing | D1: _Services | E1: _Grand_Total
A2: Western Urban | B2: Small (5-19) | C2: 17 | D2: 20
A3: Western Urban | B3: Medium (20-99) | C3: 8 | D3: 9
A4: Western Urban | B4: Large (100 or more) | C4: 2 | D4: 7
A5: Kenema | B5: Small (5-19) | D5: 2
A6: Kenema | B6: Medium (20-99) | D6: 1
A7: Kenema | B7: Small and Medium (5-99) | C7: 9

Sheet Frame Fresh and Panel
A1: stratificationregionname | B1: stratificationsizename | C1: _Manufacturing | D1: _Services | E1: _Grand_Total
A2: Bo | B2: Small (5-19) | C2: 42 | D2: 60
A3: Bo | B3: Medium (20-99) | C3: 2 | D3: 6
A4: Western Urban | B4: Small (5-19) | C4: 266 | D4: 401
A5: Western Urban | B5: Medium (20-99) | C5: 22 | D5: 36
A6: Western Urban | B6: Large (100 or more) | C6: 10 | D6: 28
A7: Kenema | B7: Small (5-19) | C7: 30 | D7: 92
A8: Kenema | B8: Medium (20-99) | C8: 1 | D8: 4
A9: Bombali | B9: Small (5-19) | C9: 12 | D9: 43
A10: Bombali | B10: Medium (20-99) | D10: 2

Sheet Frame Panel
A1: stratificationregionname | B1: stratificationsizename | C1: _Manufacturing | D1: _Services | E1: _Grand_Total
A2: Western Urban | B2: Small (5-19) | C2: 32 | D2: 31
A3: Western Urban | B3: Medium (20-99) | C3: 11 | D3: 12
A4: Western Urban | B4: Large (100 or more) | C4: 2 | D4: 10
A5: Kenema | B5: Small (5-19) | C5: 22 | D5: 26
A6: Kenema | B6: Medium (20-99) | C6: 1 | D6: 3

Sheet original_design_fresh
A1: stratificationregionname | B1: stratificationsizename | C1: _Manufacturing | D1: _Services | E1: _Grand_Total
A2: Bo | B2: Small (5-19) | C2: 11 | D2: 3
A3: Bo | B3: Medium (20-99) | C3: 2 | D3: 4
A4: Bo | B4: Large (100+) | C4: 0 | D4: 0
A5: Western Urban | B5: Small (5-19) | C5: 3 | D5: 4
A6: Western Urban | B6: Medium (20-99) | C6: 7 | D6: 3
A7: Western Urban | B7: Large (100+) | C7: 5 | D7: 6
A8: Kenema | B8: Small (5-19) | C8: 4 | D8: 2
A9: Kenema | B9: Medium (20-99) | C9: 0 | D9: 1
A10: Kenema | B10: Large (100+) | C10: 0 | D10: 0
A11: Bombali | B11: Small (5-19) | C11: 8 | D11: 10
A12: Bombali | B12: Medium (20-99) | C12: 0 | D12: 2
A13: Bombali | B13: Large (100+) | C13: 0 | D13: 0

Sheet original_design_panel
A1: stratificationregionname | B1: stratificationsizename | C1: _Manufacturing | D1: _Services | E1: _Grand_Total
A2: Bo | B2: Small (5-19) | C2: 0 | D2: 0
A3: Bo | B3: Medium (20-99) | C3: 0 | D3: 0
A4: Bo | B4: Large (100+) | C4: 0 | D4: 0
A5: Western Urban | B5: Small (5-19) | C5: 17 | D5: 19
A6: Western Urban | B6: Medium (20-99) | C6: 8 | D6: 9
A7: Western Urban | B7: Large (100+) | C7: 2 | D7: 7
A8: Kenema | B8: Small (5-19) | C8: 7 | D8: 2
A9: Kenema | B9: Medium (20-99) | C9: 1 | D9: 3
A10: Kenema | B10: Large (100+) | C10: 0 | D10: 0
A11: Bombali | B11: Small (5-19) | C11: 0 | D11: 0
A12: Bombali | B12: Medium (20-99) | C12: 0 | D12: 0
A13: Bombali | B13: Large (100+) | C13: 0 | D13: 0

Sheet universe_strict
A1: stratificationregionname | B1: stratificationsizename | C1: _Manufacturing | D1: _Services | E1: _Grand_Total
A2: Bo | B2: Small (5-19) | C2: 43.312538 | D2: 53.265717
A3: Bo | B3: Medium (20-99) | C3: 2.3356946 | D3: 6.0321136
A4: Western Urban | B4: Small (5-19) | C4: 214.4892 | D4: 278.35583
A5: Western Urban | B5: Medium (20-99) | C5: 22.158636 | D5: 28.996326
A6: Western Urban | B6: Large (100 or more) | C6: 7.1408892 | D6: 17.414963
A7: Kenema | B7: Small (5-19) | D7: 49.004463
A8: Kenema | B8: Medium (20-99) | D8: 2.4128454
A9: Kenema | B9: Small and Medium (5-99) | C9: 17.84304
A10: Bombali | B10: Small (5-19) | C10: 9.857337 | D10: 30.407375
A11: Bombali | B11: Medium (20-99) | D11: 2

Sheet universe_median
A1: stratificationregionname | B1: stratificationsizename | C1: _Manufacturing | D1: _Services | E1: _Grand_Total
A2: Bo | B2: Small (5-19) | C2: 41.349506 | D2: 54.483841
A3: Bo | B3: Medium (20-99) | C3: 2.1791573 | D3: 6.0298319
A4: Western Urban | B4: Small (5-19) | C4: 216.46906 | D4: 300.99136
A5: Western Urban | B5: Medium (20-99) | C5: 21.998764 | D5: 30.31778
A6: Western Urban | B6: Large (100 or more) | C6: 7.871604 | D6: 20.471842
A7: Kenema | B7: Small (5-19) | D7: 56.390778
A8: Kenema | B8: Medium (20-99) | D8: 2.7134244
A9: Kenema | B9: Small and Medium (5-99) | C9: 18.728106
A10: Bombali | B10: Small (5-19) | C10: 9.4105778 | D10: 31.10276
A11: Bombali | B11: Medium (20-99) | D11: 2

Sheet universe_weak
A1: stratificationregionname | B1: stratificationsizename | C1: _Manufacturing | D1: _Services | E1: _Grand_Total
A2: Bo | B2: Small (5-19) | C2: 38.927643 | D2: 53.184341
A3: Bo | B3: Medium (20-99) | C3: 2.0166032 | D3: 5.7858262
A4: Western Urban | B4: Small (5-19) | C4: 231.32961 | D4: 333.51672
A5: Western Urban | B5: Medium (20-99) | C5: 22.85652 | D5: 32.843731
A6: Western Urban | B6: Large (100 or more) | C6: 9.5329561 | D6: 25.527557
A7: Kenema | B7: Small (5-19) | D7: 79.510582
A8: Kenema | B8: Medium (20-99) | D8: 3.760787
A9: Kenema | B9: Small and Medium (5-99) | C9: 33.37838
A10: Bombali | B10: Small (5-19) | C10: 9.2620955 | D10: 31.740963
A11: Bombali | B11: Medium (20-99) | D11: 2
