Workbook

Sheet Table 1 Universe
C1: =RIGHT(SUBSTITUTE(universe!C1,"_"," "),LEN(SUBSTITUTE(universe!C1,"_"," "))-1) -> Manufacturing | D1: =RIGHT(SUBSTITUTE(universe!D1,"_"," "),LEN(SUBSTITUTE(universe!D1,"_"," "))-1) -> Services | E1: =RIGHT(SUBSTITUTE(universe!E1,"_"," "),LEN(SUBSTITUTE(universe!E1,"_"," "))-1) -> Grand Total
A2: =universe!A2 -> Western Area | B2: =LEFT(universe!B2,FIND(")",universe!B2)) -> Small (5-19) | C2: =universe!C2 -> 0 | D2: =universe!D2 -> 0 | E2: =SUM(C2:D5) -> 0
A3: =universe!A3 -> Western Area | B3: =LEFT(universe!B3,FIND(")",universe!B3)) -> Medium (20-99) | C3: =universe!C3 -> 0 | D3: =universe!D3 -> 0
A4: =universe!A4 -> Western Area | B4: =LEFT(universe!B4,FIND(")",universe!B4)) -> Large (100 or more) | C4: =universe!C4 -> 0 | D4: =universe!D4 -> 0
A5: =universe!A5 -> Northern and North West Province | B5: =LEFT(universe!B5,FIND(")",universe!B5)) -> Small (5-19) | C5: =universe!C5 -> 0 | D5: =universe!D5 -> 0
A6: =universe!A6 -> Northern and North West Province | B6: =LEFT(universe!B6,FIND(")",universe!B6)) -> Medium (20-99) | C6: =universe!C6 -> 0 | D6: =universe!D6 -> 0 | E6: =SUM(C6:D9) -> 0
A7: =universe!A7 -> Northern and North West Province | B7: =LEFT(universe!B7,FIND(")",universe!B7)) -> Large (100 or more) | C7: =universe!C7 -> 0 | D7: =universe!D7 -> 0
A8: =universe!A8 -> Eastern Province | B8: =LEFT(universe!B8,FIND(")",universe!B8)) -> Small (5-19) | C8: =universe!C8 -> 0 | D8: =universe!D8 -> 0
A9: =universe!A9 -> Eastern Province | B9: =LEFT(universe!B9,FIND(")",universe!B9)) -> Medium (20-99) | C9: =universe!C9 -> 0 | D9: =universe!D9 -> 0
A10: =universe!A10 -> Eastern Province | B10: =LEFT(universe!B10,FIND(")",universe!B10)) -> Large (100 or more) | C10: =universe!C10 -> 0 | D10: =universe!D10 -> 0 | E10: =SUM(C10:D13) -> 0
A11: =universe!A11 -> Southern Province | B11: =LEFT(universe!B11,FIND(")",universe!B11)) -> Small (5-19) | C11: =universe!C11 -> 0 | D11: =universe!D11 -> 0
A12: =universe!A12 -> Southern Province | B12: =LEFT(universe!B12,FIND(")",universe!B12)) -> Medium (20-99) | C12: =universe!C12 -> 0 | D12: =universe!D12 -> 0
A13: =universe!A13 -> Southern Province | B13: =LEFT(universe!B13,FIND(")",universe!B13)) -> Large (100 or more) | C13: =universe!C13 -> 0 | D13: =universe!D13 -> 0
C14: =SUM(C2:C13) -> 0 | D14: =SUM(D2:D13) -> 0 | E14: =SUM(E2:E13) -> 0
B15: Source: 6th Economic Census (conducted between January 2013 and April 2014).

Sheet Table 2 Frame
C1: =RIGHT(SUBSTITUTE('frame fresh and panel'!C1,"_"," "),LEN(SUBSTITUTE('frame fresh and panel'!C1,"_"," "))-1) -> Manufacturing | D1: =RIGHT(SUBSTITUTE('frame fresh and panel'!D1,"_"," "),LEN(SUBSTITUTE('frame fresh and panel'!D1,"_"," "))-1) -> Services | E1: =RIGHT(SUBSTITUTE('frame fresh and panel'!E1,"_"," "),LEN(SUBSTITUTE('frame fresh and panel'!E1,"_"," "))-1) -> Grand Total
A2: ='frame fresh and panel'!A2 -> Western Area | B2: =LEFT('frame fresh and panel'!B2,FIND(")",'frame fresh and panel'!B2)) -> Small (5-19) | C2: ='frame fresh and panel'!C2 -> 302 | D2: ='frame fresh and panel'!D2 -> 543 | E2: =SUM(C2:D5) -> 1373
A3: ='frame fresh and panel'!A3 -> Western Area | B3: =LEFT('frame fresh and panel'!B3,FIND(")",'frame fresh and panel'!B3)) -> Medium (20-99) | C3: ='frame fresh and panel'!C3 -> 19 | D3: ='frame fresh and panel'!D3 -> 41
A4: ='frame fresh and panel'!A4 -> Western Area | B4: =LEFT('frame fresh and panel'!B4,FIND(")",'frame fresh and panel'!B4)) -> Large (100 or more) | C4: ='frame fresh and panel'!C4 -> 14 | D4: ='frame fresh and panel'!D4 -> 36
A5: ='frame fresh and panel'!A5 -> Northern and North West Province | B5: =LEFT('frame fresh and panel'!B5,FIND(")",'frame fresh and panel'!B5)) -> Small (5-19) | C5: ='frame fresh and panel'!C5 -> 156 | D5: ='frame fresh and panel'!D5 -> 262
A6: ='frame fresh and panel'!A6 -> Northern and North West Province | B6: =LEFT('frame fresh and panel'!B6,FIND(")",'frame fresh and panel'!B6)) -> Medium (20-99) | C6: ='frame fresh and panel'!C6 -> 7 | D6: ='frame fresh and panel'!D6 -> 9 | E6: =SUM(C6:D9) -> 257
A7: ='frame fresh and panel'!A7 -> Northern and North West Province | B7: =LEFT('frame fresh and panel'!B7,FIND(")",'frame fresh and panel'!B7)) -> Large (100 or more) | C7: ='frame fresh and panel'!C7 -> 1 | D7: ='frame fresh and panel'!D7 -> 0
A8: ='frame fresh and panel'!A8 -> Eastern Province | B8: =LEFT('frame fresh and panel'!B8,FIND(")",'frame fresh and panel'!B8)) -> Small (5-19) | C8: ='frame fresh and panel'!C8 -> 82 | D8: ='frame fresh and panel'!D8 -> 145
A9: ='frame fresh and panel'!A9 -> Eastern Province | B9: =LEFT('frame fresh and panel'!B9,FIND(")",'frame fresh and panel'!B9)) -> Medium (20-99) | C9: ='frame fresh and panel'!C9 -> 4 | D9: ='frame fresh and panel'!D9 -> 9
A10: ='frame fresh and panel'!A10 -> Eastern Province | B10: =LEFT('frame fresh and panel'!B10,FIND(")",'frame fresh and panel'!B10)) -> Large (100 or more) | C10: ='frame fresh and panel'!C10 -> 0 | D10: ='frame fresh and panel'!D10 -> 1 | E10: =SUM(C10:D12) -> 166
A11: ='frame fresh and panel'!A11 -> Southern Province | B11: =LEFT('frame fresh and panel'!B11,FIND(")",'frame fresh and panel'!B11)) -> Small (5-19) | C11: ='frame fresh and panel'!C11 -> 58 | D11: ='frame fresh and panel'!D11 -> 96
A12: ='frame fresh and panel'!A12 -> Southern Province | B12: =LEFT('frame fresh and panel'!B12,FIND(")",'frame fresh and panel'!B12)) -> Medium (20-99) | C12: ='frame fresh and panel'!C12 -> 4 | D12: ='frame fresh and panel'!D12 -> 7
C13: =SUM(C2:C12) -> 647 | D13: =SUM(D2:D12) -> 1149 | E13: =SUM(E2:E12) -> 1796
A14: Source: Annual Survey of Industries (ASI, 2018-2019), and the 6th EC (conducted between January 2013 and April 2014).

Sheet Table 3 Original Survey Design
C1: =RIGHT(SUBSTITUTE('original survey design'!C1,"_"," "),LEN(SUBSTITUTE('original survey design'!C1,"_"," "))-1) -> Manufacturing | D1: =RIGHT(SUBSTITUTE('original survey design'!D1,"_"," "),LEN(SUBSTITUTE('original survey design'!D1,"_"," "))-1) -> Services | E1: =RIGHT(SUBSTITUTE('original survey design'!E1,"_"," "),LEN(SUBSTITUTE('original survey design'!E1,"_"," "))-1) -> Grand Total
A2: ='original survey design'!A2 -> Western Area | B2: =LEFT('original survey design'!B2,FIND(")",'original survey design'!B2)) -> Small (5-19) | C2: ='original survey design'!C2 -> 29 | D2: ='original survey design'!D2 -> 30 | E2: =SUM(C2:D5) -> 140
A3: ='original survey design'!A3 -> Western Area | B3: =LEFT('original survey design'!B3,FIND(")",'original survey design'!B3)) -> Medium (20-99) | C3: ='original survey design'!C3 -> 15 | D3: ='original survey design'!D3 -> 13
A4: ='original survey design'!A4 -> Western Area | B4: =LEFT('original survey design'!B4,FIND(")",'original survey design'!B4)) -> Large (100 or more) | C4: ='original survey design'!C4 -> 10 | D4: ='original survey design'!D4 -> 23
A5: ='original survey design'!A5 -> Northern and North West Province | B5: =LEFT('original survey design'!B5,FIND(")",'original survey design'!B5)) -> Small (5-19) | C5: ='original survey design'!C5 -> 10 | D5: ='original survey design'!D5 -> 10
A6: ='original survey design'!A6 -> Northern and North West Province | B6: =LEFT('original survey design'!B6,FIND(")",'original survey design'!B6)) -> Medium (20-99) | C6: ='original survey design'!C6 -> 4 | D6: ='original survey design'!D6 -> 5 | E6: =SUM(C6:D9) -> 39
A7: ='original survey design'!A7 -> Northern and North West Province | B7: =LEFT('original survey design'!B7,FIND(")",'original survey design'!B7)) -> Large (100 or more) | C7: ='original survey design'!C7 -> 1 | D7: ='original survey design'!D7 -> 0
A8: ='original survey design'!A8 -> Eastern Province | B8: =LEFT('original survey design'!B8,FIND(")",'original survey design'!B8)) -> Small (5-19) | C8: ='original survey design'!C8 -> 14 | D8: ='original survey design'!D8 -> 6
A9: ='original survey design'!A9 -> Eastern Province | B9: =LEFT('original survey design'!B9,FIND(")",'original survey design'!B9)) -> Medium (20-99) | C9: ='original survey design'!C9 -> 3 | D9: ='original survey design'!D9 -> 6
A10: ='original survey design'!A10 -> Eastern Province | B10: =LEFT('original survey design'!B10,FIND(")",'original survey design'!B10)) -> Large (100 or more) | C10: ='original survey design'!C10 -> 0 | D10: ='original survey design'!D10 -> 1 | E10: =SUM(C10:D13) -> 31
A11: ='original survey design'!A11 -> Southern Province | B11: =LEFT('original survey design'!B11,FIND(")",'original survey design'!B11)) -> Small (5-19) | C11: ='original survey design'!C11 -> 16 | D11: ='original survey design'!D11 -> 5
A12: ='original survey design'!A12 -> Southern Province | B12: =LEFT('original survey design'!B12,FIND(")",'original survey design'!B12)) -> Medium (20-99) | C12: ='original survey design'!C12 -> 3 | D12: ='original survey design'!D12 -> 6
A13: ='original survey design'!A13 -> Southern Province | B13: =LEFT('original survey design'!B13,FIND(")",'original survey design'!B13)) -> Large (100 or more) | C13: ='original survey design'!C13 -> 0 | D13: ='original survey design'!D13 -> 0
C14: =SUM(C2:C13) -> 105 | D14: =SUM(D2:D13) -> 105 | E14: =SUM(E2:E13) -> 210

Sheet Table 4 Response Outcomes
D2: Totals | E2: Rates relative to total contacted
B3: Overall | C3: Contacts available in frame | D3: 1796
C4: Issued | D4: 601
C5: Contacted | D5: 318
B6: Screening phase | C6: Eligibles | D6: 222 | E6: =D6/D$5 -> 0.68421053
C7: Screener refusals | D7: 0 | E7: =D7/D$5 -> 0
C8: Assumed eligibles | D8: 222 | E8: =D8/D$5 -> 0.68421053
C9: Ineligible + out of target | D9: 70 | E9: =D9/D$5 -> 0.21981424
C10: Unobtainables | D10: 26 | E10: =D10/D$5 -> 0.095975232
B11: Interview phase | C11: Interview refusals | D11: 5 | E11: =D11/D$5 -> 0.034055728
B12: (only if eligible) | C12: Complete interviews | D12: 209 | E12: =D12/D$5 -> 0.6501548

Sheet Table 5 Survey Yield Rates
C2: Stratification | D2: Yield | E2: Survey response rate | F2: Frame quality
B3: Panel | C3: Fresh | D3: =VLOOKUP($C3,'yield calculation'!$C:$F,2,FALSE) -> 0.62430942 | E3: =VLOOKUP($C3,'yield calculation'!$C:$F,3,FALSE) -> 0.95762712 | F3: =VLOOKUP($C3,'yield calculation'!$C:$F,4,FALSE) -> 0.65193373
C4: Panel | D4: =VLOOKUP($C4,'yield calculation'!$C:$F,2,FALSE) -> 0.68309861 | E4: =VLOOKUP($C4,'yield calculation'!$C:$F,3,FALSE) -> 0.94174755 | F4: =VLOOKUP($C4,'yield calculation'!$C:$F,4,FALSE) -> 0.72535211
B5: Size | C5: Small (5-19) | D5: =VLOOKUP($C5,'yield calculation'!$C:$F,2,FALSE) -> 0.7474227 | E5: =VLOOKUP($C5,'yield calculation'!$C:$F,3,FALSE) -> 0.97315437 | F5: =VLOOKUP($C5,'yield calculation'!$C:$F,4,FALSE) -> 0.76804125
C6: Medium (20-99) | D6: =VLOOKUP($C6,'yield calculation'!$C:$F,2,FALSE) -> 0.66233766 | E6: =VLOOKUP($C6,'yield calculation'!$C:$F,3,FALSE) -> 0.94444442 | F6: =VLOOKUP($C6,'yield calculation'!$C:$F,4,FALSE) -> 0.70129871
C7: Large (100-199) | D7: =VLOOKUP($C7,'yield calculation'!$C:$F,2,FALSE) -> #N/A | E7: =VLOOKUP($C7,'yield calculation'!$C:$F,3,FALSE) -> #N/A | F7: =VLOOKUP($C7,'yield calculation'!$C:$F,4,FALSE) -> #N/A
B8: Region | C8: Western Area | D8: =VLOOKUP($C8,'yield calculation'!$C:$F,2,FALSE) -> 0.54123712 | E8: =VLOOKUP($C8,'yield calculation'!$C:$F,3,FALSE) -> 0.9130435 | F8: =VLOOKUP($C8,'yield calculation'!$C:$F,4,FALSE) -> 0.59278351
C9: Northern and North West Province | D9: =VLOOKUP($C9,'yield calculation'!$C:$F,2,FALSE) -> 0.83333331 | E9: =VLOOKUP($C9,'yield calculation'!$C:$F,3,FALSE) -> 0.97560978 | F9: =VLOOKUP($C9,'yield calculation'!$C:$F,4,FALSE) -> 0.85416669
C10: Eastern Province | D10: =VLOOKUP($C10,'yield calculation'!$C:$F,2,FALSE) -> 0.8974359 | E10: =VLOOKUP($C10,'yield calculation'!$C:$F,3,FALSE) -> 1 | F10: =VLOOKUP($C10,'yield calculation'!$C:$F,4,FALSE) -> 0.8974359
C11: Southern Province | D11: =VLOOKUP($C11,'yield calculation'!$C:$F,2,FALSE) -> 0.71428573 | E11: =VLOOKUP($C11,'yield calculation'!$C:$F,3,FALSE) -> 1 | F11: =VLOOKUP($C11,'yield calculation'!$C:$F,4,FALSE) -> 0.71428573
B12: Sector | C12: Manufacturing | D12: =VLOOKUP($C12,'yield calculation'!$C:$F,2,FALSE) -> 0.69387758 | E12: =VLOOKUP($C12,'yield calculation'!$C:$F,3,FALSE) -> 0.98076922 | F12: =VLOOKUP($C12,'yield calculation'!$C:$F,4,FALSE) -> 0.70748299
C13: Services | D13: =VLOOKUP($C13,'yield calculation'!$C:$F,2,FALSE) -> 0.61363637 | E13: =VLOOKUP($C13,'yield calculation'!$C:$F,3,FALSE) -> 0.92307693 | F13: =VLOOKUP($C13,'yield calculation'!$C:$F,4,FALSE) -> 0.66477275
B14: Overall | C14: SierraLeone 2023 | D14: =VLOOKUP($C14,'yield calculation'!$C:$F,2,FALSE) -> 0.65015477 | E14: =VLOOKUP($C14,'yield calculation'!$C:$F,3,FALSE) -> 0.95022625 | F14: =VLOOKUP($C14,'yield calculation'!$C:$F,4,FALSE) -> 0.68421054
B15: Notes: the rates are calculated as defined in Section III.4

Sheet Table 6 Achieved Total Sample 
C1: =RIGHT(SUBSTITUTE('achieved fresh and panel'!C1,"_"," "),LEN(SUBSTITUTE('achieved fresh and panel'!C1,"_"," "))-1) -> Manufacturing | D1: =RIGHT(SUBSTITUTE('achieved fresh and panel'!D1,"_"," "),LEN(SUBSTITUTE('achieved fresh and panel'!D1,"_"," "))-1) -> Services | E1: =RIGHT(SUBSTITUTE('achieved fresh and panel'!E1,"_"," "),LEN(SUBSTITUTE('achieved fresh and panel'!E1,"_"," "))-1) -> Grand Total
A2: ='achieved fresh and panel'!A2 -> Western Area | B2: =LEFT('achieved fresh and panel'!B2,FIND(")",'achieved fresh and panel'!B2)) -> Small (5-19) | C2: ='achieved fresh and panel'!C2 -> 30 | D2: ='achieved fresh and panel'!D2 -> 37 | E2: =SUM(C2:D5) -> 136
A3: ='achieved fresh and panel'!A3 -> Western Area | B3: =LEFT('achieved fresh and panel'!B3,FIND(")",'achieved fresh and panel'!B3)) -> Medium (20-99) | C3: ='achieved fresh and panel'!C3 -> 11 | D3: ='achieved fresh and panel'!D3 -> 14
A4: ='achieved fresh and panel'!A4 -> Western Area | B4: =LEFT('achieved fresh and panel'!B4,FIND(")",'achieved fresh and panel'!B4)) -> Large (100 or more) | C4: ='achieved fresh and panel'!C4 -> 2 | D4: ='achieved fresh and panel'!D4 -> 11
A5: ='achieved fresh and panel'!A5 -> Northern and North West Province | B5: =LEFT('achieved fresh and panel'!B5,FIND(")",'achieved fresh and panel'!B5)) -> Small (5-19) | C5: ='achieved fresh and panel'!C5 -> 18 | D5: ='achieved fresh and panel'!D5 -> 13
A6: ='achieved fresh and panel'!A6 -> Northern and North West Province | B6: =LEFT('achieved fresh and panel'!B6,FIND(")",'achieved fresh and panel'!B6)) -> Medium (20-99) | C6: ='achieved fresh and panel'!C6 -> 4 | D6: ='achieved fresh and panel'!D6 -> 5 | E6: =SUM(C6:D9) -> 44
A7: ='achieved fresh and panel'!A7 -> Eastern Province | B7: =LEFT('achieved fresh and panel'!B7,FIND(")",'achieved fresh and panel'!B7)) -> Small (5-19) | C7: ='achieved fresh and panel'!C7 -> 16 | D7: ='achieved fresh and panel'!D7 -> 9
A8: ='achieved fresh and panel'!A8 -> Eastern Province | B8: =LEFT('achieved fresh and panel'!B8,FIND(")",'achieved fresh and panel'!B8)) -> Medium (20-99) | C8: ='achieved fresh and panel'!C8 -> 3 | D8: ='achieved fresh and panel'!D8 -> 6
A9: ='achieved fresh and panel'!A9 -> Eastern Province | B9: =LEFT('achieved fresh and panel'!B9,FIND(")",'achieved fresh and panel'!B9)) -> Large (100 or more) | C9: ='achieved fresh and panel'!C9 -> 0 | D9: ='achieved fresh and panel'!D9 -> 1
A10: ='achieved fresh and panel'!A10 -> Southern Province | B10: =LEFT('achieved fresh and panel'!B10,FIND(")",'achieved fresh and panel'!B10)) -> Small (5-19) | C10: ='achieved fresh and panel'!C10 -> 15 | D10: ='achieved fresh and panel'!D10 -> 7 | E10: =SUM(C10:D11) -> 30
A11: ='achieved fresh and panel'!A11 -> Southern Province | B11: =LEFT('achieved fresh and panel'!B11,FIND(")",'achieved fresh and panel'!B11)) -> Medium (20-99) | C11: ='achieved fresh and panel'!C11 -> 3 | D11: ='achieved fresh and panel'!D11 -> 5
C12: =SUM(C2:C11) -> 102 | D12: =SUM(D2:D11) -> 108 | E12: =SUM(E2:E11) -> 210

Sheet Table 7 Achieved Panel Sample
C1: =RIGHT(SUBSTITUTE('achieved panel'!C1,"_"," "),LEN(SUBSTITUTE('achieved panel'!C1,"_"," "))-1) -> Manufacturing | D1: =RIGHT(SUBSTITUTE('achieved panel'!D1,"_"," "),LEN(SUBSTITUTE('achieved panel'!D1,"_"," "))-1) -> Services | E1: =RIGHT(SUBSTITUTE('achieved panel'!E1,"_"," "),LEN(SUBSTITUTE('achieved panel'!E1,"_"," "))-1) -> Grand Total
A2: ='achieved panel'!A2 -> Western Area | B2: =LEFT('achieved panel'!B2,FIND(")",'achieved panel'!B2)) -> Small (5-19) | C2: ='achieved panel'!C2 -> 15 | D2: ='achieved panel'!D2 -> 14 | E2: =SUM(C2:D5) -> 59
A3: ='achieved panel'!A3 -> Western Area | B3: =LEFT('achieved panel'!B3,FIND(")",'achieved panel'!B3)) -> Medium (20-99) | C3: ='achieved panel'!C3 -> 7 | D3: ='achieved panel'!D3 -> 7
A4: ='achieved panel'!A4 -> Western Area | B4: =LEFT('achieved panel'!B4,FIND(")",'achieved panel'!B4)) -> Large (100 or more) | C4: ='achieved panel'!C4 -> 1 | D4: ='achieved panel'!D4 -> 4
A5: ='achieved panel'!A5 -> Northern and North West Province | B5: =LEFT('achieved panel'!B5,FIND(")",'achieved panel'!B5)) -> Small (5-19) | C5: ='achieved panel'!C5 -> 7 | D5: ='achieved panel'!D5 -> 4
A6: ='achieved panel'!A6 -> Eastern Province | B6: =LEFT('achieved panel'!B6,FIND(")",'achieved panel'!B6)) -> Small (5-19) | C6: ='achieved panel'!C6 -> 13 | D6: ='achieved panel'!D6 -> 4 | E6: =SUM(C6:D9) -> 38
A7: ='achieved panel'!A7 -> Eastern Province | B7: =LEFT('achieved panel'!B7,FIND(")",'achieved panel'!B7)) -> Medium (20-99) | C7: ='achieved panel'!C7 -> 1 | D7: ='achieved panel'!D7 -> 2
A8: ='achieved panel'!A8 -> Southern Province | B8: =LEFT('achieved panel'!B8,FIND(")",'achieved panel'!B8)) -> Small (5-19) | C8: ='achieved panel'!C8 -> 10 | D8: ='achieved panel'!D8 -> 3
A9: ='achieved panel'!A9 -> Southern Province | B9: =LEFT('achieved panel'!B9,FIND(")",'achieved panel'!B9)) -> Medium (20-99) | C9: ='achieved panel'!C9 -> 2 | D9: ='achieved panel'!D9 -> 3
C10: =SUM(C2:C9) -> 56 | D10: =SUM(D2:D9) -> 41 | E10: =SUM(E2:E9) -> 97

Sheet Table 8 Weak Universe Estimates
C1: =RIGHT(SUBSTITUTE(universe_weak!C1,"_"," "),LEN(SUBSTITUTE(universe_weak!C1,"_"," "))-1) -> Manufacturing | D1: =RIGHT(SUBSTITUTE(universe_weak!D1,"_"," "),LEN(SUBSTITUTE(universe_weak!D1,"_"," "))-1) -> Services | E1: =RIGHT(SUBSTITUTE(universe_weak!E1,"_"," "),LEN(SUBSTITUTE(universe_weak!E1,"_"," "))-1) -> Grand Total
A2: =universe_weak!A2 -> Western Area | B2: =LEFT(universe_weak!B2,FIND(")",universe_weak!B2)) -> Small (5-19) | C2: =universe_weak!C2 -> 230.96365 | D2: =universe_weak!D2 -> 418.43213 | E2: =SUM(C2:D5) -> 1088.4874
A3: =universe_weak!A3 -> Western Area | B3: =LEFT(universe_weak!B3,FIND(")",universe_weak!B3)) -> Medium (20-99) | C3: =universe_weak!C3 -> 14.860062 | D3: =universe_weak!D3 -> 31.084057
A4: =universe_weak!A4 -> Western Area | B4: =LEFT(universe_weak!B4,FIND(")",universe_weak!B4)) -> Large (100 or more) | C4: =universe_weak!C4 -> 6.9776778 | D4: =universe_weak!D4 -> 18.729294
A5: =universe_weak!A5 -> Northern and North West Province | B5: =LEFT(universe_weak!B5,FIND(")",universe_weak!B5)) -> Small (5-19) | C5: =universe_weak!C5 -> 136.48824 | D5: =universe_weak!D5 -> 230.95229
A6: =universe_weak!A6 -> Northern and North West Province | B6: =LEFT(universe_weak!B6,FIND(")",universe_weak!B6)) -> Medium (20-99) | C6: =universe_weak!C6 -> 0 | D6: =universe_weak!D6 -> 7.8060293 | E6: =SUM(C6:D10) -> 219.12863
A7: =universe_weak!A7 -> Northern and North West Province | B7: =LEFT(universe_weak!B7,FIND(")",universe_weak!B7)) -> Medium and Large (20+) | C7: =universe_weak!C7 -> 5.0598049 | D7: =universe_weak!D7 -> 0
A8: =universe_weak!A8 -> Eastern Province | B8: =LEFT(universe_weak!B8,FIND(")",universe_weak!B8)) -> Small (5-19) | C8: =universe_weak!C8 -> 69.85582 | D8: =universe_weak!D8 -> 124.45351
A9: =universe_weak!A9 -> Eastern Province | B9: =LEFT(universe_weak!B9,FIND(")",universe_weak!B9)) -> Medium (20-99) | C9: =universe_weak!C9 -> 3.3528607 | D9: =universe_weak!D9 -> 7.6006088
A10: =universe_weak!A10 -> Eastern Province | B10: =LEFT(universe_weak!B10,FIND(")",universe_weak!B10)) -> Large (100 or more) | C10: =universe_weak!C10 -> 0 | D10: =universe_weak!D10 -> 1
A11: =universe_weak!A11 -> Southern Province | B11: =LEFT(universe_weak!B11,FIND(")",universe_weak!B11)) -> Small (5-19) | C11: =universe_weak!C11 -> 39.827629 | D11: =universe_weak!D11 -> 66.416817 | E11: =SUM(C11:D12) -> 114.24445
A12: =universe_weak!A12 -> Southern Province | B12: =LEFT(universe_weak!B12,FIND(")",universe_weak!B12)) -> Medium (20-99) | C12: =universe_weak!C12 -> 3 | D12: =universe_weak!D12 -> 5
C13: =SUM(C2:C12) -> 510.38574 | D13: =SUM(D2:D12) -> 911.47473 | E13: =SUM(E2:E12) -> 1421.8605

Sheet Table 9 Median Universe Est
C1: =RIGHT(SUBSTITUTE(universe_median!C1,"_"," "),LEN(SUBSTITUTE(universe_median!C1,"_"," "))-1) -> Manufacturing | D1: =RIGHT(SUBSTITUTE(universe_median!D1,"_"," "),LEN(SUBSTITUTE(universe_median!D1,"_"," "))-1) -> Services | E1: =RIGHT(SUBSTITUTE(universe_median!E1,"_"," "),LEN(SUBSTITUTE(universe_median!E1,"_"," "))-1) -> Grand Total
A2: =universe_median!A2 -> Western Area | B2: =LEFT(universe_median!B2,FIND(")",universe_median!B2)) -> Small (5-19) | C2: =universe_median!C2 -> 202.9456 | D2: =universe_median!D2 -> 359.71979 | E2: =SUM(C2:D5) -> 1000.6258
A3: =universe_median!A3 -> Western Area | B3: =LEFT(universe_median!B3,FIND(")",universe_median!B3)) -> Medium (20-99) | C3: =universe_median!C3 -> 13.616232 | D3: =universe_median!D3 -> 26.787977
A4: =universe_median!A4 -> Western Area | B4: =LEFT(universe_median!B4,FIND(")",universe_median!B4)) -> Large (100 or more) | C4: =universe_median!C4 -> 4.2757363 | D4: =universe_median!D4 -> 12.209822
A5: =universe_median!A5 -> Northern and North West Province | B5: =LEFT(universe_median!B5,FIND(")",universe_median!B5)) -> Small (5-19) | C5: =universe_median!C5 -> 143.50171 | D5: =universe_median!D5 -> 237.56894
A6: =universe_median!A6 -> Northern and North West Province | B6: =LEFT(universe_median!B6,FIND(")",universe_median!B6)) -> Medium (20-99) | C6: =universe_median!C6 -> 0 | D6: =universe_median!D6 -> 8.037117 | E6: =SUM(C6:D10) -> 227.58988
A7: =universe_median!A7 -> Northern and North West Province | B7: =LEFT(universe_median!B7,FIND(")",universe_median!B7)) -> Medium and Large (20+) | C7: =universe_median!C7 -> 5.734334 | D7: =universe_median!D7 -> 0
A8: =universe_median!A8 -> Eastern Province | B8: =LEFT(universe_median!B8,FIND(")",universe_median!B8)) -> Small (5-19) | C8: =universe_median!C8 -> 73.445389 | D8: =universe_median!D8 -> 128.01901
A9: =universe_median!A9 -> Eastern Province | B9: =LEFT(universe_median!B9,FIND(")",universe_median!B9)) -> Medium (20-99) | C9: =universe_median!C9 -> 3.5284181 | D9: =universe_median!D9 -> 7.8256145
A10: =universe_median!A10 -> Eastern Province | B10: =LEFT(universe_median!B10,FIND(")",universe_median!B10)) -> Large (100 or more) | C10: =universe_median!C10 -> 0 | D10: =universe_median!D10 -> 1
A11: =universe_median!A11 -> Southern Province | B11: =LEFT(universe_median!B11,FIND(")",universe_median!B11)) -> Small (5-19) | C11: =universe_median!C11 -> 35.892151 | D11: =universe_median!D11 -> 58.559677 | E11: =SUM(C11:D12) -> 102.45183
A12: =universe_median!A12 -> Southern Province | B12: =LEFT(universe_median!B12,FIND(")",universe_median!B12)) -> Medium (20-99) | C12: =universe_median!C12 -> 3 | D12: =universe_median!D12 -> 5
C13: =SUM(C2:C12) -> 485.93957 | D13: =SUM(D2:D12) -> 844.72795 | E13: =SUM(E2:E12) -> 1330.6675

Sheet Table 10 Strict Universe Est
C1: =RIGHT(SUBSTITUTE(universe_strict!C1,"_"," "),LEN(SUBSTITUTE(universe_strict!C1,"_"," "))-1) -> Manufacturing | D1: =RIGHT(SUBSTITUTE(universe_strict!D1,"_"," "),LEN(SUBSTITUTE(universe_strict!D1,"_"," "))-1) -> Services | E1: =RIGHT(SUBSTITUTE(universe_strict!E1,"_"," "),LEN(SUBSTITUTE(universe_strict!E1,"_"," "))-1) -> Grand Total
A2: =universe_strict!A2 -> Western Area | B2: =LEFT(universe_strict!B2,FIND(")",universe_strict!B2)) -> Small (5-19) | C2: =universe_strict!C2 -> 202.91422 | D2: =universe_strict!D2 -> 359.64825 | E2: =SUM(C2:D5) -> 1000.5445
A3: =universe_strict!A3 -> Western Area | B3: =LEFT(universe_strict!B3,FIND(")",universe_strict!B3)) -> Medium (20-99) | C3: =universe_strict!C3 -> 13.714265 | D3: =universe_strict!D3 -> 26.74328
A4: =universe_strict!A4 -> Western Area | B4: =LEFT(universe_strict!B4,FIND(")",universe_strict!B4)) -> Large (100 or more) | C4: =universe_strict!C4 -> 4.2757363 | D4: =universe_strict!D4 -> 12.178082
A5: =universe_strict!A5 -> Northern and North West Province | B5: =LEFT(universe_strict!B5,FIND(")",universe_strict!B5)) -> Small (5-19) | C5: =universe_strict!C5 -> 143.50171 | D5: =universe_strict!D5 -> 237.56895
A6: =universe_strict!A6 -> Northern and North West Province | B6: =LEFT(universe_strict!B6,FIND(")",universe_strict!B6)) -> Medium (20-99) | C6: =universe_strict!C6 -> 0 | D6: =universe_strict!D6 -> 8.037117 | E6: =SUM(C6:D10) -> 227.58988
A7: =universe_strict!A7 -> Northern and North West Province | B7: =LEFT(universe_strict!B7,FIND(")",universe_strict!B7)) -> Medium and Large (20+) | C7: =universe_strict!C7 -> 5.734334 | D7: =universe_strict!D7 -> 0
A8: =universe_strict!A8 -> Eastern Province | B8: =LEFT(universe_strict!B8,FIND(")",universe_strict!B8)) -> Small (5-19) | C8: =universe_strict!C8 -> 73.445381 | D8: =universe_strict!D8 -> 128.01901
A9: =universe_strict!A9 -> Eastern Province | B9: =LEFT(universe_strict!B9,FIND(")",universe_strict!B9)) -> Medium (20-99) | C9: =universe_strict!C9 -> 3.5284181 | D9: =universe_strict!D9 -> 7.8256145
A10: =universe_strict!A10 -> Eastern Province | B10: =LEFT(universe_strict!B10,FIND(")",universe_strict!B10)) -> Large (100 or more) | C10: =universe_strict!C10 -> 0 | D10: =universe_strict!D10 -> 1
A11: =universe_strict!A11 -> Southern Province | B11: =LEFT(universe_strict!B11,FIND(")",universe_strict!B11)) -> Small (5-19) | C11: =universe_strict!C11 -> 35.892151 | D11: =universe_strict!D11 -> 58.559681 | E11: =SUM(C11:D12) -> 102.45183
A12: =universe_strict!A12 -> Southern Province | B12: =LEFT(universe_strict!B12,FIND(")",universe_strict!B12)) -> Medium (20-99) | C12: =universe_strict!C12 -> 3 | D12: =universe_strict!D12 -> 5
C13: =SUM(C2:C12) -> 486.00621 | D13: =SUM(D2:D12) -> 844.58 | E13: =SUM(E2:E12) -> 1330.5862

Sheet Table 11 Item Response Rates
C2: Screener/Interview | D2: d2 | E2: l1 | F2: n2a | G2: all TFP variables
B3: Panel | C3: Fresh | D3: =VLOOKUP($C3,'item response'!$C:$G,2,FALSE) -> 0.94339621 | E3: =VLOOKUP($C3,'item response'!$C:$G,3,FALSE) -> 0.98113209 | F3: =VLOOKUP($C3,'item response'!$C:$G,4,FALSE) -> 0.9528302 | G3: =VLOOKUP($C3,'item response'!$C:$G,5,FALSE) -> 0.82499999
C4: Panel | D4: =VLOOKUP($C4,'item response'!$C:$G,2,FALSE) -> 0.94736844 | E4: =VLOOKUP($C4,'item response'!$C:$G,3,FALSE) -> 0.94736844 | F4: =VLOOKUP($C4,'item response'!$C:$G,4,FALSE) -> 0.93684208 | G4: =VLOOKUP($C4,'item response'!$C:$G,5,FALSE) -> 0.91836733
B5: Size | C5: Small (5-19) | D5: =VLOOKUP($C5,'item response'!$C:$G,2,FALSE) -> 0.94904459 | E5: =VLOOKUP($C5,'item response'!$C:$G,3,FALSE) -> 0.9808917 | F5: =VLOOKUP($C5,'item response'!$C:$G,4,FALSE) -> 0.955414 | G5: =VLOOKUP($C5,'item response'!$C:$G,5,FALSE) -> 0.88461536
C6: Medium (20-99) | D6: =VLOOKUP($C6,'item response'!$C:$G,2,FALSE) -> 0.97297299 | E6: =VLOOKUP($C6,'item response'!$C:$G,3,FALSE) -> 0.94594592 | F6: =VLOOKUP($C6,'item response'!$C:$G,4,FALSE) -> 0.97297299 | G6: =VLOOKUP($C6,'item response'!$C:$G,5,FALSE) -> 0.81818181
C7: Large (100+) | D7: =VLOOKUP($C7,'item response'!$C:$G,2,FALSE) -> 0.71428573 | E7: =VLOOKUP($C7,'item response'!$C:$G,3,FALSE) -> 0.71428573 | F7: =VLOOKUP($C7,'item response'!$C:$G,4,FALSE) -> 0.5714286 | G7: =VLOOKUP($C7,'item response'!$C:$G,5,FALSE) -> 0
B8: Region | C8: Western Area | D8: =VLOOKUP($C8,'item response'!$C:$G,2,FALSE) -> 0.93478262 | E8: =VLOOKUP($C8,'item response'!$C:$G,3,FALSE) -> 0.92391306 | F8: =VLOOKUP($C8,'item response'!$C:$G,4,FALSE) -> 0.93478262 | G8: =VLOOKUP($C8,'item response'!$C:$G,5,FALSE) -> 0.8974359
C9: Northern and North West Province | D9: =VLOOKUP($C9,'item response'!$C:$G,2,FALSE) -> 0.94594592 | E9: =VLOOKUP($C9,'item response'!$C:$G,3,FALSE) -> 1 | F9: =VLOOKUP($C9,'item response'!$C:$G,4,FALSE) -> 0.8918919 | G9: =VLOOKUP($C9,'item response'!$C:$G,5,FALSE) -> 0.5
C10: Eastern Province | D10: =VLOOKUP($C10,'item response'!$C:$G,2,FALSE) -> 0.93023258 | E10: =VLOOKUP($C10,'item response'!$C:$G,3,FALSE) -> 1 | F10: =VLOOKUP($C10,'item response'!$C:$G,4,FALSE) -> 0.97674417 | G10: =VLOOKUP($C10,'item response'!$C:$G,5,FALSE) -> 0.94736844
C11: Southern Province | D11: =VLOOKUP($C11,'item response'!$C:$G,2,FALSE) -> 1 | E11: =VLOOKUP($C11,'item response'!$C:$G,3,FALSE) -> 1 | F11: =VLOOKUP($C11,'item response'!$C:$G,4,FALSE) -> 1 | G11: =VLOOKUP($C11,'item response'!$C:$G,5,FALSE) -> 1
B12: Overall | C12: SierraLeone 2023 | D12: =VLOOKUP($C12,'item response'!$C:$G,2,FALSE) -> 0.94527364 | E12: =VLOOKUP($C12,'item response'!$C:$G,3,FALSE) -> 0.96517414 | F12: =VLOOKUP($C12,'item response'!$C:$G,4,FALSE) -> 0.94527364 | G12: =VLOOKUP($C12,'item response'!$C:$G,5,FALSE) -> 0.87640452
B13: Notes: the rates are calculated as follows. The number of responses with informative content in the respective variable (or combination of variables in the case of TFP) is divided by the same number plus the number of responses that are "don't know" (code -9) or refusal (code -8).

Sheet universe
A1: _Manufacturing | B1: stratificationsizename | C1: _Services | D1: stratificationregionname | E1: _Grand_Total
A2: Western Area | B2: Small (5-19) | C2: 302 | D2: 543
A3: Western Area | B3: Medium (20-99) | C3: 19 | D3: 41
A4: Western Area | B4: Large (100 or more) | C4: 14 | D4: 36
A5: Northern and North West Province | B5: Small (5-19) | C5: 156 | D5: 262
A6: Northern and North West Province | B6: Medium (20-99) | C6: 7 | D6: 9
A7: Northern and North West Province | B7: Large (100 or more) | C7: 1 | D7: 0
A8: Eastern Province | B8: Small (5-19) | C8: 82 | D8: 145
A9: Eastern Province | B9: Medium (20-99) | C9: 4 | D9: 9
A10: Eastern Province | B10: Large (100 or more) | C10: 0 | D10: 1
A11: Southern Province | B11: Small (5-19) | C11: 58 | D11: 96
A12: Southern Province | B12: Medium (20-99) | C12: 4 | D12: 7
A13: Southern Province | B13: Large (100 or more) | C13: 0 | D13: 0

Sheet frame fresh and panel
A1: stratificationregionname | B1: stratificationsizename | C1: _Manufacturing | D1: _Services | E1: _Grand_Total
A2: Western Area | B2: Small (5-19) | C2: 302 | D2: 543
A3: Western Area | B3: Medium (20-99) | C3: 19 | D3: 41
A4: Western Area | B4: Large (100 or more) | C4: 14 | D4: 36
A5: Northern and North West Province | B5: Small (5-19) | C5: 156 | D5: 262
A6: Northern and North West Province | B6: Medium (20-99) | C6: 7 | D6: 9
A7: Northern and North West Province | B7: Large (100 or more) | C7: 1
A8: Eastern Province | B8: Small (5-19) | C8: 82 | D8: 145
A9: Eastern Province | B9: Medium (20-99) | C9: 4 | D9: 9
A10: Eastern Province | B10: Large (100 or more) | D10: 1
A11: Southern Province | B11: Small (5-19) | C11: 58 | D11: 96
A12: Southern Province | B12: Medium (20-99) | C12: 4 | D12: 7

Sheet original survey design
A1: stratificationregionname | B1: stratificationsizename | C1: _Manufacturing | D1: _Services | E1: _Grand_Total
A2: Western Area | B2: Small (5-19) | C2: 29 | D2: 30
A3: Western Area | B3: Medium (20-99) | C3: 15 | D3: 13
A4: Western Area | B4: Large (100 or more) | C4: 10 | D4: 23
A5: Northern and North West Province | B5: Small (5-19) | C5: 10 | D5: 10
A6: Northern and North West Province | B6: Medium (20-99) | C6: 4 | D6: 5
A7: Northern and North West Province | B7: Large (100 or more) | C7: 1 | D7: 0
A8: Eastern Province | B8: Small (5-19) | C8: 14 | D8: 6
A9: Eastern Province | B9: Medium (20-99) | C9: 3 | D9: 6
A10: Eastern Province | B10: Large (100 or more) | C10: 0 | D10: 1
A11: Southern Province | B11: Small (5-19) | C11: 16 | D11: 5
A12: Southern Province | B12: Medium (20-99) | C12: 3 | D12: 6
A13: Southern Province | B13: Large (100 or more) | C13: 0 | D13: 0

Sheet yield calculation
A1: Survey | B1: Cell | C1: Name | D1: Yield | E1: Survey_response_rate | F1: Frame_quality
A2: SierraLeone 2023 | B2: Fresh/Panel | C2: Fresh | D2: 0.61878455 | E2: 0.94117647 | F2: 0.65745854
A3: SierraLeone 2023 | B3: Fresh/Panel | C3: Panel | D3: 0.70802921 | E3: 0.94174755 | F3: 0.7518248
A4: SierraLeone 2023 | B4: Size | C4: Small (5-19) | D4: 0.77486908 | E4: 0.97368419 | F4: 0.79581153
A5: SierraLeone 2023 | B5: Size | C5: Medium (20-99) | D5: 0.63157892 | E5: 0.92307693 | F5: 0.68421054
A6: SierraLeone 2023 | B6: Size | C6: Large (100+) | D6: 0.25490198 | E6: 0.72222221 | F6: 0.35294119
A7: SierraLeone 2023 | B7: Region | C7: Western Area | D7: 0.55026454 | E7: 0.90434784 | F7: 0.60846561
A8: SierraLeone 2023 | B8: Region | C8: Northern and North West Province | D8: 0.83333331 | E8: 0.97560978 | F8: 0.85416669
A9: SierraLeone 2023 | B9: Region | C9: Eastern Province | D9: 0.8974359 | E9: 1 | F9: 0.8974359
A10: SierraLeone 2023 | B10: Region | C10: Southern Province | D10: 0.71428573 | E10: 0.96774191 | F10: 0.73809522
A11: SierraLeone 2023 | B11: Sector | C11: Manufacturing | D11: 0.69387758 | E11: 0.95327103 | F11: 0.72789115
A12: SierraLeone 2023 | B12: Sector | C12: Services | D12: 0.62573099 | E12: 0.93043476 | F12: 0.67251462
A13: SierraLeone 2023 | B13: Region
A14: SierraLeone 2023 | B14: Sector
A15: SierraLeone 2023 | B15: Fresh/Panel
A16: SierraLeone 2023 | B16: Size
A17: SierraLeone 2023 | B17: SierraLeone 2023 | C17: SierraLeone 2023 | D17: 0.6572327 | E17: 0.94144142 | F17: 0.6981132

Sheet achieved fresh and panel
A1: stratificationregionname | B1: stratificationsizename | C1: _Manufacturing | D1: _Services | E1: _Grand_Total
A2: Western Area | B2: Small (5-19) | C2: 32 | D2: 37
A3: Western Area | B3: Medium (20-99) | C3: 10 | D3: 13
A4: Western Area | B4: Large (100 or more) | C4: 1 | D4: 11
A5: Northern and North West Province | B5: Small (5-19) | C5: 18 | D5: 13
A6: Northern and North West Province | B6: Medium (20-99) | C6: 4 | D6: 5
A7: Eastern Province | B7: Small (5-19) | C7: 16 | D7: 9
A8: Eastern Province | B8: Medium (20-99) | C8: 3 | D8: 6
A9: Eastern Province | B9: Large (100 or more) | D9: 1
A10: Southern Province | B10: Small (5-19) | C10: 16 | D10: 7
A11: Southern Province | B11: Medium (20-99) | C11: 2 | D11: 5

Sheet achieved panel
A1: stratificationregionname | B1: stratificationsizename | C1: _Manufacturing | D1: _Services | E1: _Grand_Total
A2: Western Area | B2: Small (5-19) | C2: 16 | D2: 13
A3: Western Area | B3: Medium (20-99) | C3: 7 | D3: 6
A4: Western Area | B4: Large (100 or more) | C4: 1 | D4: 5
A5: Northern and North West Province | B5: Small (5-19) | C5: 7 | D5: 4
A6: Eastern Province | B6: Small (5-19) | C6: 13 | D6: 4
A7: Eastern Province | B7: Medium (20-99) | C7: 1 | D7: 2
A8: Southern Province | B8: Small (5-19) | C8: 10 | D8: 3
A9: Southern Province | B9: Medium (20-99) | C9: 2 | D9: 3

Sheet universe_strict
A1: stratificationregionname | B1: stratificationsizename | C1: _Manufacturing | D1: _Services | E1: _Grand_Total
A2: Western Area | B2: Small (5-19) | C2: 209.61392 | D2: 363.94434
A3: Western Area | B3: Medium (20-99) | C3: 13.038118 | D3: 25.28433
A4: Western Area | B4: Large (100 or more) | C4: 10.509439 | D4: 12.220499
A5: Northern and North West Province | B5: Small (5-19) | C5: 148.23975 | D5: 240.40442
A6: Northern and North West Province | B6: Medium (20-99) | D6: 7.59866
A7: Northern and North West Province | B7: Medium and Large (20+) | C7: 5.7558298
A8: Eastern Province | B8: Small (5-19) | C8: 75.870361 | D8: 129.54698
A9: Eastern Province | B9: Medium (20-99) | C9: 3.4054275 | D9: 7.3986955
A10: Eastern Province | B10: Large (100 or more) | D10: 1
A11: Southern Province | B11: Small (5-19) | C11: 40.166985 | D11: 64.196815
A12: Southern Province | B12: Medium (20-99) | C12: 3.002697 | D12: 5

Sheet universe_median
A1: stratificationregionname | B1: stratificationsizename | C1: _Manufacturing | D1: _Services | E1: _Grand_Total
A2: Western Area | B2: Small (5-19) | C2: 209.67732 | D2: 364.01559
A3: Western Area | B3: Medium (20-99) | C3: 12.93404 | D3: 25.28433
A4: Western Area | B4: Large (100 or more) | C4: 10.509439 | D4: 12.215136
A5: Northern and North West Province | B5: Small (5-19) | C5: 148.23975 | D5: 240.40442
A6: Northern and North West Province | B6: Medium (20-99) | D6: 7.59866
A7: Northern and North West Province | B7: Medium and Large (20+) | C7: 5.7558298
A8: Eastern Province | B8: Small (5-19) | C8: 75.870361 | D8: 129.54698
A9: Eastern Province | B9: Medium (20-99) | C9: 3.4054272 | D9: 7.3986955
A10: Eastern Province | B10: Large (100 or more) | D10: 1
A11: Southern Province | B11: Small (5-19) | C11: 40.166985 | D11: 64.196815
A12: Southern Province | B12: Medium (20-99) | C12: 3.002697 | D12: 5

Sheet universe_weak
A1: stratificationregionname | B1: stratificationsizename | C1: _Manufacturing | D1: _Services | E1: _Grand_Total
A2: Western Area | B2: Small (5-19) | C2: 238.21823 | D2: 418.23636
A3: Western Area | B3: Medium (20-99) | C3: 14.251849 | D3: 29.189089
A4: Western Area | B4: Large (100 or more) | C4: 11.198628 | D4: 16.744486
A5: Northern and North West Province | B5: Small (5-19) | C5: 142.73053 | D5: 234.04189
A6: Northern and North West Province | B6: Medium (20-99) | D6: 7.4319611
A7: Northern and North West Province | B7: Medium and Large (20+) | C7: 5.155273
A8: Eastern Province | B8: Small (5-19) | C8: 73.05069 | D8: 126.11839
A9: Eastern Province | B9: Medium (20-99) | C9: 3.2941179 | D9: 7.2363839
A10: Eastern Province | B10: Large (100 or more) | D10: 1
A11: Southern Province | B11: Small (5-19) | C11: 44.624092 | D11: 72.112831
A12: Southern Province | B12: Medium (20-99) | C12: 3.1996081 | D12: 5

Sheet item response
A1: Survey | B1: Cell | C1: Name | D1: rr_d2 | E1: rr_l1 | F1: rr_n2a | G1: rr_TFP
A2: SierraLeone 2023 | B2: Fresh/Panel | C2: Fresh | D2: 1 | E2: 1 | F2: 1 | G2: 0.84782606
A3: SierraLeone 2023 | B3: Fresh/Panel | C3: Panel | D3: 1 | E3: 1 | F3: 1 | G3: 0.875
A4: SierraLeone 2023 | B4: Size | C4: Small (5-19) | D4: 1 | E4: 1 | F4: 1 | G4: 0.89655173
A5: SierraLeone 2023 | B5: Size | C5: Medium (20-99) | D5: 1 | E5: 1 | F5: 1 | G5: 0.71428573
A6: SierraLeone 2023 | B6: Size | C6: Large (100+) | D6: 1 | E6: 1 | F6: 1 | G6: 0
A7: SierraLeone 2023 | B7: Region | C7: Western Area | D7: 1 | E7: 1 | F7: 1 | G7: 0.90196079
A8: SierraLeone 2023 | B8: Region | C8: Northern and North West Province | D8: 1 | E8: 1 | F8: 1 | G8: 0.6875
A9: SierraLeone 2023 | B9: Region | C9: Eastern Province | D9: 1 | E9: 1 | F9: 1 | G9: 0.73333335
A10: SierraLeone 2023 | B10: Region | C10: Southern Province | D10: 1 | E10: 1 | F10: 1 | G10: 1
A11: SierraLeone 2023 | B11: Sector | C11: Manufacturing | D11: 1 | E11: 1 | F11: 1 | G11: 0.86138612
A12: SierraLeone 2023 | B12: Sector | C12: Services | D12: 1 | E12: 1 | F12: 1 | G12: 1
A13: SierraLeone 2023 | B13: SierraLeone 2023 | C13: SierraLeone 2023 | D13: 1 | E13: 1 | F13: 1 | G13: 0.86274511
