Workbook

Sheet Table 1 Universe
C1: =RIGHT(SUBSTITUTE(universe!C1,"_"," "),LEN(SUBSTITUTE(universe!C1,"_"," "))-1) -> Food | D1: =RIGHT(SUBSTITUTE(universe!D1,"_"," "),LEN(SUBSTITUTE(universe!D1,"_"," "))-1) -> Wearing apparel | E1: =RIGHT(SUBSTITUTE(universe!E1,"_"," "),LEN(SUBSTITUTE(universe!E1,"_"," "))-1) -> Chemicals and chemical products | F1: =RIGHT(SUBSTITUTE(universe!F1,"_"," "),LEN(SUBSTITUTE(universe!F1,"_"," "))-1) -> Basic metals | G1: =RIGHT(SUBSTITUTE(universe!G1,"_"," "),LEN(SUBSTITUTE(universe!G1,"_"," "))-1) -> Computer electronics and opt | H1: =RIGHT(SUBSTITUTE(universe!H1,"_"," "),LEN(SUBSTITUTE(universe!H1,"_"," "))-1) -> Electrical equipment | I1: =RIGHT(SUBSTITUTE(universe!I1,"_"," "),LEN(SUBSTITUTE(universe!I1,"_"," "))-1) -> Machinery and equipment | J1: =RIGHT(SUBSTITUTE(universe!J1,"_"," "),LEN(SUBSTITUTE(universe!J1,"_"," "))-1) -> Motor vehicles trailers | ... P1: =RIGHT(SUBSTITUTE(universe!P1,"_"," "),LEN(SUBSTITUTE(universe!P1,"_"," "))-1) -> Other services | Q1: =RIGHT(SUBSTITUTE(universe!T1,"_"," "),LEN(SUBSTITUTE(universe!T1,"_"," "))-1) -> #VALUE!
A2: =universe!A2 -> North | B2: =LEFT(universe!B2,FIND(")",universe!B2)) -> Small (5-19) | C2: =universe!C2 -> 13249 | D2: =universe!D2 -> 6818 | E2: =universe!E2 -> 6703 | F2: =universe!F2 -> 2773 | G2: =universe!G2 -> 3897 | H2: =universe!H2 -> 8682 | I2: =universe!I2 -> 27952 | J2: =universe!J2 -> 4036 | ... P2: =universe!P2 -> 278828 | Q2: =SUM(C2:P5) -> 1073407
A3: =universe!A3 -> North | B3: =LEFT(universe!B3,FIND(")",universe!B3)) -> Medium (20-99) | C3: =universe!C3 -> 4895 | D3: =universe!D3 -> 3068 | E3: =universe!E3 -> 2918 | F3: =universe!F3 -> 1616 | G3: =universe!G3 -> 1869 | H3: =universe!H3 -> 2995 | I3: =universe!I3 -> 7287 | J3: =universe!J3 -> 1707 | ... P3: =universe!P3 -> 45574
A4: =universe!A4 -> North | B4: =LEFT(universe!B4,FIND(")",universe!B4)) -> Large (100-269) | C4: =universe!C4 -> 831 | D4: =universe!D4 -> 363 | E4: =universe!E4 -> 592 | F4: =universe!F4 -> 417 | G4: =universe!G4 -> 462 | H4: =universe!H4 -> 419 | I4: =universe!I4 -> 932 | J4: =universe!J4 -> 455 | ... P4: =universe!P4 -> 4488
A5: =universe!A5 -> North | B5: =LEFT(universe!B5,FIND(")",universe!B5)) -> Extra Large (270 or more) | C5: =universe!C5 -> 464 | D5: =universe!D5 -> 90 | E5: =universe!E5 -> 330 | F5: =universe!F5 -> 387 | G5: =universe!G5 -> 274 | H5: =universe!H5 -> 197 | I5: =universe!I5 -> 339 | J5: =universe!J5 -> 277 | ... P5: =universe!P5 -> 1856
A6: =universe!A6 -> Northeastern | B6: =LEFT(universe!B6,FIND(")",universe!B6)) -> Small (5-19) | C6: =universe!C6 -> 10077 | D6: =universe!D6 -> 3002 | E6: =universe!E6 -> 2678 | F6: =universe!F6 -> 639 | G6: =universe!G6 -> 1141 | H6: =universe!H6 -> 1903 | I6: =universe!I6 -> 6970 | J6: =universe!J6 -> 1135 | ... P6: =universe!P6 -> 77546 | Q6: =SUM(C6:P9) -> 278075
A7: =universe!A7 -> Northeastern | B7: =LEFT(universe!B7,FIND(")",universe!B7)) -> Medium (20-99) | C7: =universe!C7 -> 3827 | D7: =universe!D7 -> 1572 | E7: =universe!E7 -> 1248 | F7: =universe!F7 -> 426 | G7: =universe!G7 -> 501 | H7: =universe!H7 -> 825 | I7: =universe!I7 -> 2816 | J7: =universe!J7 -> 923 | ... P7: =universe!P7 -> 12013
A8: =universe!A8 -> Northeastern | B8: =LEFT(universe!B8,FIND(")",universe!B8)) -> Large (100-269) | C8: =universe!C8 -> 750 | D8: =universe!D8 -> 255 | E8: =universe!E8 -> 286 | F8: =universe!F8 -> 135 | G8: =universe!G8 -> 145 | H8: =universe!H8 -> 174 | I8: =universe!I8 -> 480 | J8: =universe!J8 -> 353 | ... P8: =universe!P8 -> 1012
A9: =universe!A9 -> Northeastern | B9: =LEFT(universe!B9,FIND(")",universe!B9)) -> Extra Large (270 or more) | C9: =universe!C9 -> 373 | D9: =universe!D9 -> 119 | E9: =universe!E9 -> 110 | F9: =universe!F9 -> 111 | G9: =universe!G9 -> 82 | H9: =universe!H9 -> 84 | I9: =universe!I9 -> 198 | J9: =universe!J9 -> 220 | ... P9: =universe!P9 -> 438
A10: =universe!A10 -> East | B10: =LEFT(universe!B10,FIND(")",universe!B10)) -> Small (5-19) | C10: =universe!C10 -> 46678 | D10: =universe!D10 -> 59610 | E10: =universe!E10 -> 22405 | F10: =universe!F10 -> 10273 | G10: =universe!G10 -> 35011 | H10: =universe!H10 -> 55873 | I10: =universe!I10 -> 138623 | J10: =universe!J10 -> 22305 | ... P10: =universe!P10 -> 1147842 | Q10: =SUM(C10:P13) -> 4296585
A11: =universe!A11 -> East | B11: =LEFT(universe!B11,FIND(")",universe!B11)) -> Medium (20-99) | C11: =universe!C11 -> 20960 | D11: =universe!D11 -> 31167 | E11: =universe!E11 -> 14221 | F11: =universe!F11 -> 6601 | G11: =universe!G11 -> 16765 | H11: =universe!H11 -> 24405 | I11: =universe!I11 -> 50747 | J11: =universe!J11 -> 12711 | ... P11: =universe!P11 -> 155909
A12: =universe!A12 -> East | B12: =LEFT(universe!B12,FIND(")",universe!B12)) -> Large (100-269) | C12: =universe!C12 -> 4205 | D12: =universe!D12 -> 4678 | E12: =universe!E12 -> 3343 | F12: =universe!F12 -> 1295 | G12: =universe!G12 -> 4467 | H12: =universe!H12 -> 4741 | I12: =universe!I12 -> 7300 | J12: =universe!J12 -> 3112 | ... P12: =universe!P12 -> 12185
A13: =universe!A13 -> East | B13: =LEFT(universe!B13,FIND(")",universe!B13)) -> Extra Large (270 or more) | C13: =universe!C13 -> 1725 | D13: =universe!D13 -> 1436 | E13: =universe!E13 -> 1480 | F13: =universe!F13 -> 694 | G13: =universe!G13 -> 2937 | H13: =universe!H13 -> 2363 | I13: =universe!I13 -> 2536 | J13: =universe!J13 -> 1697 | ... P13: =universe!P13 -> 4636
A14: =universe!A14 -> Central | B14: =LEFT(universe!B14,FIND(")",universe!B14)) -> Small (5-19) | C14: =universe!C14 -> 36187 | D14: =universe!D14 -> 27617 | E14: =universe!E14 -> 16426 | F14: =universe!F14 -> 5690 | G14: =universe!G14 -> 31439 | H14: =universe!H14 -> 39619 | I14: =universe!I14 -> 50765 | J14: =universe!J14 -> 8145 | ... P14: =universe!P14 -> 754506 | Q14: =SUM(C14:P17) -> 2760793
A15: =universe!A15 -> Central | B15: =LEFT(universe!B15,FIND(")",universe!B15)) -> Medium (20-99) | C15: =universe!C15 -> 17851 | D15: =universe!D15 -> 14833 | E15: =universe!E15 -> 9994 | F15: =universe!F15 -> 3992 | G15: =universe!G15 -> 17822 | H15: =universe!H15 -> 18321 | I15: =universe!I15 -> 21662 | J15: =universe!J15 -> 5009 | ... P15: =universe!P15 -> 112964
A16: =universe!A16 -> Central | B16: =LEFT(universe!B16,FIND(")",universe!B16)) -> Large (100-269) | C16: =universe!C16 -> 3453 | D16: =universe!D16 -> 2467 | E16: =universe!E16 -> 2138 | F16: =universe!F16 -> 858 | G16: =universe!G16 -> 4245 | H16: =universe!H16 -> 3869 | I16: =universe!I16 -> 3320 | J16: =universe!J16 -> 1400 | ... P16: =universe!P16 -> 8706
A17: =universe!A17 -> Central | B17: =LEFT(universe!B17,FIND(")",universe!B17)) -> Extra Large (270 or more) | C17: =universe!C17 -> 1580 | D17: =universe!D17 -> 949 | E17: =universe!E17 -> 846 | F17: =universe!F17 -> 567 | G17: =universe!G17 -> 2778 | H17: =universe!H17 -> 1984 | I17: =universe!I17 -> 1323 | J17: =universe!J17 -> 872 | ... P17: =universe!P17 -> 3119
A18: =universe!A18 -> Southwest | B18: =LEFT(universe!B18,FIND(")",universe!B18)) -> Small (5-19) | C18: =universe!C18 -> 19295 | D18: =universe!D18 -> 2926 | E18: =universe!E18 -> 3460 | F18: =universe!F18 -> 1407 | G18: =universe!G18 -> 2760 | H18: =universe!H18 -> 2976 | I18: =universe!I18 -> 8154 | J18: =universe!J18 -> 2569 | ... P18: =universe!P18 -> 265218 | Q18: =SUM(C18:P21) -> 913268
A19: =universe!A19 -> Southwest | B19: =LEFT(universe!B19,FIND(")",universe!B19)) -> Medium (20-99) | C19: =universe!C19 -> 7991 | D19: =universe!D19 -> 1390 | E19: =universe!E19 -> 2090 | F19: =universe!F19 -> 1155 | G19: =universe!G19 -> 2167 | H19: =universe!H19 -> 2158 | I19: =universe!I19 -> 3817 | J19: =universe!J19 -> 2272 | ... P19: =universe!P19 -> 40402
A20: =universe!A20 -> Southwest | B20: =LEFT(universe!B20,FIND(")",universe!B20)) -> Large (100-269) | C20: =universe!C20 -> 1418 | D20: =universe!D20 -> 185 | E20: =universe!E20 -> 490 | F20: =universe!F20 -> 396 | G20: =universe!G20 -> 651 | H20: =universe!H20 -> 386 | I20: =universe!I20 -> 651 | J20: =universe!J20 -> 641 | ... P20: =universe!P20 -> 3199
A21: =universe!A21 -> Southwest | B21: =LEFT(universe!B21,FIND(")",universe!B21)) -> Extra Large (270 or more) | C21: =universe!C21 -> 568 | D21: =universe!D21 -> 61 | E21: =universe!E21 -> 267 | F21: =universe!F21 -> 216 | G21: =universe!G21 -> 479 | H21: =universe!H21 -> 211 | I21: =universe!I21 -> 280 | J21: =universe!J21 -> 378 | ... P21: =universe!P21 -> 1074
A22: =universe!A22 -> Northwest | B22: =LEFT(universe!B22,FIND(")",universe!B22)) -> Small (5-19) | C22: =universe!C22 -> 7527 | D22: =universe!D22 -> 1032 | E22: =universe!E22 -> 2507 | F22: =universe!F22 -> 1130 | G22: =universe!G22 -> 1351 | H22: =universe!H22 -> 1913 | I22: =universe!I22 -> 4584 | J22: =universe!J22 -> 402 | ... P22: =universe!P22 -> 111709 | Q22: =SUM(C22:P25) -> 427921
A23: =universe!A23 -> Northwest | B23: =LEFT(universe!B23,FIND(")",universe!B23)) -> Medium (20-99) | C23: =universe!C23 -> 3516 | D23: =universe!D23 -> 625 | E23: =universe!E23 -> 1342 | F23: =universe!F23 -> 622 | G23: =universe!G23 -> 616 | H23: =universe!H23 -> 883 | I23: =universe!I23 -> 1488 | J23: =universe!J23 -> 301 | ... P23: =universe!P23 -> 18089
A24: =universe!A24 -> Northwest | B24: =LEFT(universe!B24,FIND(")",universe!B24)) -> Large (100-269) | C24: =universe!C24 -> 589 | D24: =universe!D24 -> 189 | E24: =universe!E24 -> 329 | F24: =universe!F24 -> 227 | G24: =universe!G24 -> 174 | H24: =universe!H24 -> 157 | I24: =universe!I24 -> 211 | J24: =universe!J24 -> 90 | ... P24: =universe!P24 -> 1475
A25: =universe!A25 -> Northwest | B25: =LEFT(universe!B25,FIND(")",universe!B25)) -> Extra Large (270 or more) | C25: =universe!C25 -> 174 | D25: =universe!D25 -> 89 | E25: =universe!E25 -> 223 | F25: =universe!F25 -> 199 | G25: =universe!G25 -> 116 | H25: =universe!H25 -> 89 | I25: =universe!I25 -> 102 | J25: =universe!J25 -> 46 | ... P25: =universe!P25 -> 532
C26: =SUM(C2:C25) -> 208183 | D26: =SUM(D2:D25) -> 164541 | E26: =SUM(E2:E25) -> 96426 | F26: =SUM(F2:F25) -> 41826 | G26: =SUM(G2:G25) -> 132149 | H26: =SUM(H2:H25) -> 175227 | I26: =SUM(I2:I25) -> 342537 | J26: =SUM(J2:J25) -> 71056 | ... Q26: =SUM(Q2:Q25) -> 9750049
A27: Source: NBS drew sample (Establishment-level)

Sheet Table 2 Frame
C1: =RIGHT(SUBSTITUTE('frame fresh and panel'!C1,"_"," "),LEN(SUBSTITUTE('frame fresh and panel'!C1,"_"," "))-1) -> Food | D1: =RIGHT(SUBSTITUTE('frame fresh and panel'!D1,"_"," "),LEN(SUBSTITUTE('frame fresh and panel'!D1,"_"," "))-1) -> Wearing apparel | E1: =RIGHT(SUBSTITUTE('frame fresh and panel'!E1,"_"," "),LEN(SUBSTITUTE('frame fresh and panel'!E1,"_"," "))-1) -> Chemicals and chemical products | F1: =RIGHT(SUBSTITUTE('frame fresh and panel'!F1,"_"," "),LEN(SUBSTITUTE('frame fresh and panel'!F1,"_"," "))-1) -> Basic metals | G1: =RIGHT(SUBSTITUTE('frame fresh and panel'!G1,"_"," "),LEN(SUBSTITUTE('frame fresh and panel'!G1,"_"," "))-1) -> Computer electronics and opt | H1: =RIGHT(SUBSTITUTE('frame fresh and panel'!H1,"_"," "),LEN(SUBSTITUTE('frame fresh and panel'!H1,"_"," "))-1) -> Electrical equipment | I1: =RIGHT(SUBSTITUTE('frame fresh and panel'!I1,"_"," "),LEN(SUBSTITUTE('frame fresh and panel'!I1,"_"," "))-1) -> Machinery and equipment | J1: =RIGHT(SUBSTITUTE('frame fresh and panel'!J1,"_"," "),LEN(SUBSTITUTE('frame fresh and panel'!J1,"_"," "))-1) -> Motor vehicles trailers | ... P1: =RIGHT(SUBSTITUTE('frame fresh and panel'!P1,"_"," "),LEN(SUBSTITUTE('frame fresh and panel'!P1,"_"," "))-1) -> Other services | Q1: =RIGHT(SUBSTITUTE('frame fresh and panel'!T1,"_"," "),LEN(SUBSTITUTE('frame fresh and panel'!T1,"_"," "))-1) -> #VALUE!
A2: ='frame fresh and panel'!A2 -> North | B2: =LEFT('frame fresh and panel'!B2,FIND(")",'frame fresh and panel'!B2)) -> Small (5-19) | C2: ='frame fresh and panel'!C2 -> 94 | D2: ='frame fresh and panel'!D2 -> 93 | E2: ='frame fresh and panel'!E2 -> 104 | F2: ='frame fresh and panel'!F2 -> 105 | G2: ='frame fresh and panel'!G2 -> 46 | H2: ='frame fresh and panel'!H2 -> 59 | I2: ='frame fresh and panel'!I2 -> 126 | J2: ='frame fresh and panel'!J2 -> 103 | ... P2: ='frame fresh and panel'!P2 -> 630 | Q2: =SUM(C2:P5) -> 6542
A3: ='frame fresh and panel'!A3 -> North | B3: =LEFT('frame fresh and panel'!B3,FIND(")",'frame fresh and panel'!B3)) -> Medium (20-99) | C3: ='frame fresh and panel'!C3 -> 170 | D3: ='frame fresh and panel'!D3 -> 124 | E3: ='frame fresh and panel'!E3 -> 111 | F3: ='frame fresh and panel'!F3 -> 168 | G3: ='frame fresh and panel'!G3 -> 99 | H3: ='frame fresh and panel'!H3 -> 153 | I3: ='frame fresh and panel'!I3 -> 118 | J3: ='frame fresh and panel'!J3 -> 149 | ... P3: ='frame fresh and panel'!P3 -> 148
A4: ='frame fresh and panel'!A4 -> North | B4: =LEFT('frame fresh and panel'!B4,FIND(")",'frame fresh and panel'!B4)) -> Large (100-269) | C4: ='frame fresh and panel'!C4 -> 59 | D4: ='frame fresh and panel'!D4 -> 24 | E4: ='frame fresh and panel'!E4 -> 48 | F4: ='frame fresh and panel'!F4 -> 103 | G4: ='frame fresh and panel'!G4 -> 69 | H4: ='frame fresh and panel'!H4 -> 73 | I4: ='frame fresh and panel'!I4 -> 105 | J4: ='frame fresh and panel'!J4 -> 93 | ... P4: ='frame fresh and panel'!P4 -> 115
A5: ='frame fresh and panel'!A5 -> North | B5: =LEFT('frame fresh and panel'!B5,FIND(")",'frame fresh and panel'!B5)) -> Extra Large (270 or more) | C5: ='frame fresh and panel'!C5 -> 58 | D5: ='frame fresh and panel'!D5 -> 65 | E5: ='frame fresh and panel'!E5 -> 85 | F5: ='frame fresh and panel'!F5 -> 107 | G5: ='frame fresh and panel'!G5 -> 68 | H5: ='frame fresh and panel'!H5 -> 20 | I5: ='frame fresh and panel'!I5 -> 25 | J5: ='frame fresh and panel'!J5 -> 41 | ... P5: ='frame fresh and panel'!P5 -> 106
A6: ='frame fresh and panel'!A6 -> Northeastern | B6: =LEFT('frame fresh and panel'!B6,FIND(")",'frame fresh and panel'!B6)) -> Small (5-19) | C6: ='frame fresh and panel'!C6 -> 24 | D6: ='frame fresh and panel'!D6 -> 81 | E6: ='frame fresh and panel'!E6 -> 42 | F6: ='frame fresh and panel'!F6 -> 83 | G6: ='frame fresh and panel'!G6 -> 38 | H6: ='frame fresh and panel'!H6 -> 20 | I6: ='frame fresh and panel'!I6 -> 90 | J6: ='frame fresh and panel'!J6 -> 42 | ... P6: ='frame fresh and panel'!P6 -> 228 | Q6: =SUM(C6:P9) -> 2955
A7: ='frame fresh and panel'!A7 -> Northeastern | B7: =LEFT('frame fresh and panel'!B7,FIND(")",'frame fresh and panel'!B7)) -> Medium (20-99) | C7: ='frame fresh and panel'!C7 -> 76 | D7: ='frame fresh and panel'!D7 -> 59 | E7: ='frame fresh and panel'!E7 -> 44 | F7: ='frame fresh and panel'!F7 -> 98 | G7: ='frame fresh and panel'!G7 -> 34 | H7: ='frame fresh and panel'!H7 -> 30 | I7: ='frame fresh and panel'!I7 -> 26 | J7: ='frame fresh and panel'!J7 -> 65 | ... P7: ='frame fresh and panel'!P7 -> 97
A8: ='frame fresh and panel'!A8 -> Northeastern | B8: =LEFT('frame fresh and panel'!B8,FIND(")",'frame fresh and panel'!B8)) -> Large (100-269) | C8: ='frame fresh and panel'!C8 -> 25 | D8: ='frame fresh and panel'!D8 -> 22 | E8: ='frame fresh and panel'!E8 -> 44 | F8: ='frame fresh and panel'!F8 -> 44 | G8: ='frame fresh and panel'!G8 -> 23 | H8: ='frame fresh and panel'!H8 -> 20 | I8: ='frame fresh and panel'!I8 -> 35 | J8: ='frame fresh and panel'!J8 -> 29 | ... P8: ='frame fresh and panel'!P8 -> 57
A9: ='frame fresh and panel'!A9 -> Northeastern | B9: =LEFT('frame fresh and panel'!B9,FIND(")",'frame fresh and panel'!B9)) -> Extra Large (270 or more) | C9: ='frame fresh and panel'!C9 -> 21 | D9: ='frame fresh and panel'!D9 -> 62 | E9: ='frame fresh and panel'!E9 -> 20 | F9: ='frame fresh and panel'!F9 -> 82 | G9: ='frame fresh and panel'!G9 -> 21 | H9: ='frame fresh and panel'!H9 -> 20 | I9: ='frame fresh and panel'!I9 -> 65 | J9: ='frame fresh and panel'!J9 -> 22 | ... P9: ='frame fresh and panel'!P9 -> 108
A10: ='frame fresh and panel'!A10 -> East | B10: =LEFT('frame fresh and panel'!B10,FIND(")",'frame fresh and panel'!B10)) -> Small (5-19) | C10: ='frame fresh and panel'!C10 -> 232 | D10: ='frame fresh and panel'!D10 -> 303 | E10: ='frame fresh and panel'!E10 -> 176 | F10: ='frame fresh and panel'!F10 -> 116 | G10: ='frame fresh and panel'!G10 -> 183 | H10: ='frame fresh and panel'!H10 -> 278 | I10: ='frame fresh and panel'!I10 -> 835 | J10: ='frame fresh and panel'!J10 -> 193 | ... P10: ='frame fresh and panel'!P10 -> 1956 | Q10: =SUM(C10:P13) -> 14310
A11: ='frame fresh and panel'!A11 -> East | B11: =LEFT('frame fresh and panel'!B11,FIND(")",'frame fresh and panel'!B11)) -> Medium (20-99) | C11: ='frame fresh and panel'!C11 -> 301 | D11: ='frame fresh and panel'!D11 -> 432 | E11: ='frame fresh and panel'!E11 -> 283 | F11: ='frame fresh and panel'!F11 -> 208 | G11: ='frame fresh and panel'!G11 -> 191 | H11: ='frame fresh and panel'!H11 -> 229 | I11: ='frame fresh and panel'!I11 -> 455 | J11: ='frame fresh and panel'!J11 -> 339 | ... P11: ='frame fresh and panel'!P11 -> 247
A12: ='frame fresh and panel'!A12 -> East | B12: =LEFT('frame fresh and panel'!B12,FIND(")",'frame fresh and panel'!B12)) -> Large (100-269) | C12: ='frame fresh and panel'!C12 -> 143 | D12: ='frame fresh and panel'!D12 -> 155 | E12: ='frame fresh and panel'!E12 -> 140 | F12: ='frame fresh and panel'!F12 -> 136 | G12: ='frame fresh and panel'!G12 -> 107 | H12: ='frame fresh and panel'!H12 -> 97 | I12: ='frame fresh and panel'!I12 -> 105 | J12: ='frame fresh and panel'!J12 -> 162 | ... P12: ='frame fresh and panel'!P12 -> 158
A13: ='frame fresh and panel'!A13 -> East | B13: =LEFT('frame fresh and panel'!B13,FIND(")",'frame fresh and panel'!B13)) -> Extra Large (270 or more) | C13: ='frame fresh and panel'!C13 -> 61 | D13: ='frame fresh and panel'!D13 -> 71 | E13: ='frame fresh and panel'!E13 -> 110 | F13: ='frame fresh and panel'!F13 -> 90 | G13: ='frame fresh and panel'!G13 -> 32 | H13: ='frame fresh and panel'!H13 -> 20 | I13: ='frame fresh and panel'!I13 -> 107 | J13: ='frame fresh and panel'!J13 -> 73 | ... P13: ='frame fresh and panel'!P13 -> 101
A14: ='frame fresh and panel'!A14 -> Central | B14: =LEFT('frame fresh and panel'!B14,FIND(")",'frame fresh and panel'!B14)) -> Small (5-19) | C14: ='frame fresh and panel'!C14 -> 143 | D14: ='frame fresh and panel'!D14 -> 149 | E14: ='frame fresh and panel'!E14 -> 109 | F14: ='frame fresh and panel'!F14 -> 106 | G14: ='frame fresh and panel'!G14 -> 155 | H14: ='frame fresh and panel'!H14 -> 185 | I14: ='frame fresh and panel'!I14 -> 207 | J14: ='frame fresh and panel'!J14 -> 46 | ... P14: ='frame fresh and panel'!P14 -> 2032 | Q14: =SUM(C14:P17) -> 10032
A15: ='frame fresh and panel'!A15 -> Central | B15: =LEFT('frame fresh and panel'!B15,FIND(")",'frame fresh and panel'!B15)) -> Medium (20-99) | C15: ='frame fresh and panel'!C15 -> 188 | D15: ='frame fresh and panel'!D15 -> 267 | E15: ='frame fresh and panel'!E15 -> 165 | F15: ='frame fresh and panel'!F15 -> 234 | G15: ='frame fresh and panel'!G15 -> 195 | H15: ='frame fresh and panel'!H15 -> 124 | I15: ='frame fresh and panel'!I15 -> 133 | J15: ='frame fresh and panel'!J15 -> 121 | ... P15: ='frame fresh and panel'!P15 -> 267
A16: ='frame fresh and panel'!A16 -> Central | B16: =LEFT('frame fresh and panel'!B16,FIND(")",'frame fresh and panel'!B16)) -> Large (100-269) | C16: ='frame fresh and panel'!C16 -> 113 | D16: ='frame fresh and panel'!D16 -> 87 | E16: ='frame fresh and panel'!E16 -> 115 | F16: ='frame fresh and panel'!F16 -> 150 | G16: ='frame fresh and panel'!G16 -> 101 | H16: ='frame fresh and panel'!H16 -> 105 | I16: ='frame fresh and panel'!I16 -> 32 | J16: ='frame fresh and panel'!J16 -> 94 | ... P16: ='frame fresh and panel'!P16 -> 115
A17: ='frame fresh and panel'!A17 -> Central | B17: =LEFT('frame fresh and panel'!B17,FIND(")",'frame fresh and panel'!B17)) -> Extra Large (270 or more) | C17: ='frame fresh and panel'!C17 -> 62 | D17: ='frame fresh and panel'!D17 -> 68 | E17: ='frame fresh and panel'!E17 -> 26 | F17: ='frame fresh and panel'!F17 -> 86 | G17: ='frame fresh and panel'!G17 -> 30 | H17: ='frame fresh and panel'!H17 -> 20 | I17: ='frame fresh and panel'!I17 -> 23 | J17: ='frame fresh and panel'!J17 -> 29 | ... P17: ='frame fresh and panel'!P17 -> 71
A18: ='frame fresh and panel'!A18 -> Southwest | B18: =LEFT('frame fresh and panel'!B18,FIND(")",'frame fresh and panel'!B18)) -> Small (5-19) | C18: ='frame fresh and panel'!C18 -> 58 | D18: ='frame fresh and panel'!D18 -> 59 | E18: ='frame fresh and panel'!E18 -> 82 | F18: ='frame fresh and panel'!F18 -> 81 | G18: ='frame fresh and panel'!G18 -> 66 | H18: ='frame fresh and panel'!H18 -> 36 | I18: ='frame fresh and panel'!I18 -> 70 | J18: ='frame fresh and panel'!J18 -> 21 | ... P18: ='frame fresh and panel'!P18 -> 564 | Q18: =SUM(C18:P21) -> 5792
A19: ='frame fresh and panel'!A19 -> Southwest | B19: =LEFT('frame fresh and panel'!B19,FIND(")",'frame fresh and panel'!B19)) -> Medium (20-99) | C19: ='frame fresh and panel'!C19 -> 114 | D19: ='frame fresh and panel'!D19 -> 114 | E19: ='frame fresh and panel'!E19 -> 143 | F19: ='frame fresh and panel'!F19 -> 142 | G19: ='frame fresh and panel'!G19 -> 100 | H19: ='frame fresh and panel'!H19 -> 90 | I19: ='frame fresh and panel'!I19 -> 51 | J19: ='frame fresh and panel'!J19 -> 162 | ... P19: ='frame fresh and panel'!P19 -> 125
A20: ='frame fresh and panel'!A20 -> Southwest | B20: =LEFT('frame fresh and panel'!B20,FIND(")",'frame fresh and panel'!B20)) -> Large (100-269) | C20: ='frame fresh and panel'!C20 -> 66 | D20: ='frame fresh and panel'!D20 -> 81 | E20: ='frame fresh and panel'!E20 -> 86 | F20: ='frame fresh and panel'!F20 -> 102 | G20: ='frame fresh and panel'!G20 -> 74 | H20: ='frame fresh and panel'!H20 -> 118 | I20: ='frame fresh and panel'!I20 -> 55 | J20: ='frame fresh and panel'!J20 -> 107 | ... P20: ='frame fresh and panel'!P20 -> 106
A21: ='frame fresh and panel'!A21 -> Southwest | B21: =LEFT('frame fresh and panel'!B21,FIND(")",'frame fresh and panel'!B21)) -> Extra Large (270 or more) | C21: ='frame fresh and panel'!C21 -> 44 | D21: ='frame fresh and panel'!D21 -> 54 | E21: ='frame fresh and panel'!E21 -> 62 | F21: ='frame fresh and panel'!F21 -> 61 | G21: ='frame fresh and panel'!G21 -> 21 | H21: ='frame fresh and panel'!H21 -> 38 | I21: ='frame fresh and panel'!I21 -> 26 | J21: ='frame fresh and panel'!J21 -> 61 | ... P21: ='frame fresh and panel'!P21 -> 77
A22: ='frame fresh and panel'!A22 -> Northwest | B22: =LEFT('frame fresh and panel'!B22,FIND(")",'frame fresh and panel'!B22)) -> Small (5-19) | C22: ='frame fresh and panel'!C22 -> 20 | D22: ='frame fresh and panel'!D22 -> 40 | E22: ='frame fresh and panel'!E22 -> 40 | F22: ='frame fresh and panel'!F22 -> 60 | G22: ='frame fresh and panel'!G22 -> 20 | H22: ='frame fresh and panel'!H22 -> 20 | I22: ='frame fresh and panel'!I22 -> 47 | J22: ='frame fresh and panel'!J22 -> 60 | ... P22: ='frame fresh and panel'!P22 -> 109 | Q22: =SUM(C22:P25) -> 1965
A23: ='frame fresh and panel'!A23 -> Northwest | B23: =LEFT('frame fresh and panel'!B23,FIND(")",'frame fresh and panel'!B23)) -> Medium (20-99) | C23: ='frame fresh and panel'!C23 -> 53 | D23: ='frame fresh and panel'!D23 -> 55 | E23: ='frame fresh and panel'!E23 -> 40 | F23: ='frame fresh and panel'!F23 -> 40 | G23: ='frame fresh and panel'!G23 -> 30 | H23: ='frame fresh and panel'!H23 -> 35 | I23: ='frame fresh and panel'!I23 -> 20 | J23: ='frame fresh and panel'!J23 -> 40 | ... P23: ='frame fresh and panel'!P23 -> 20
A24: ='frame fresh and panel'!A24 -> Northwest | B24: =LEFT('frame fresh and panel'!B24,FIND(")",'frame fresh and panel'!B24)) -> Large (100-269) | C24: ='frame fresh and panel'!C24 -> 20 | D24: ='frame fresh and panel'!D24 -> 79 | E24: ='frame fresh and panel'!E24 -> 20 | F24: ='frame fresh and panel'!F24 -> 20 | G24: ='frame fresh and panel'!G24 -> 20 | H24: ='frame fresh and panel'!H24 -> 20 | I24: ='frame fresh and panel'!I24 -> 20 | J24: ='frame fresh and panel'!J24 -> 25 | ... P24: ='frame fresh and panel'!P24 -> 20
A25: ='frame fresh and panel'!A25 -> Northwest | B25: =LEFT('frame fresh and panel'!B25,FIND(")",'frame fresh and panel'!B25)) -> Extra Large (270 or more) | C25: ='frame fresh and panel'!C25 -> 20 | D25: ='frame fresh and panel'!D25 -> 20 | E25: ='frame fresh and panel'!E25 -> 20 | F25: ='frame fresh and panel'!F25 -> 20 | G25: ='frame fresh and panel'!G25 -> 20 | H25: ='frame fresh and panel'!H25 -> 20 | I25: ='frame fresh and panel'!I25 -> 20 | J25: ='frame fresh and panel'!J25 -> 20 | ... P25: ='frame fresh and panel'!P25 -> 20
C26: =SUM(C2:C25) -> 2165 | D26: =SUM(D2:D25) -> 2564 | E26: =SUM(E2:E25) -> 2115 | F26: =SUM(F2:F25) -> 2442 | G26: =SUM(G2:G25) -> 1743 | H26: =SUM(H2:H25) -> 1830 | I26: =SUM(I2:I25) -> 2796 | J26: =SUM(J2:J25) -> 2097 | ... Q26: =SUM(Q2:Q25) -> 41596
A27: Source: NBS drew sample (Establishment-level)

Sheet Table 3 Original Survey Design
C1: =RIGHT(SUBSTITUTE('original survey design'!C1,"_"," "),LEN(SUBSTITUTE('original survey design'!C1,"_"," "))-1) -> Food | D1: =RIGHT(SUBSTITUTE('original survey design'!D1,"_"," "),LEN(SUBSTITUTE('original survey design'!D1,"_"," "))-1) -> Wearing apparel | E1: =RIGHT(SUBSTITUTE('original survey design'!E1,"_"," "),LEN(SUBSTITUTE('original survey design'!E1,"_"," "))-1) -> Chemicals and chemical products | F1: =RIGHT(SUBSTITUTE('original survey design'!F1,"_"," "),LEN(SUBSTITUTE('original survey design'!F1,"_"," "))-1) -> Basic metals | G1: =RIGHT(SUBSTITUTE('original survey design'!G1,"_"," "),LEN(SUBSTITUTE('original survey design'!G1,"_"," "))-1) -> Computer electronics and opt | H1: =RIGHT(SUBSTITUTE('original survey design'!H1,"_"," "),LEN(SUBSTITUTE('original survey design'!H1,"_"," "))-1) -> Electrical equipment | I1: =RIGHT(SUBSTITUTE('original survey design'!I1,"_"," "),LEN(SUBSTITUTE('original survey design'!I1,"_"," "))-1) -> Machinery and equipment | J1: =RIGHT(SUBSTITUTE('original survey design'!J1,"_"," "),LEN(SUBSTITUTE('original survey design'!J1,"_"," "))-1) -> Motor vehicles trailers | ... P1: =RIGHT(SUBSTITUTE('original survey design'!P1,"_"," "),LEN(SUBSTITUTE('original survey design'!P1,"_"," "))-1) -> Other services | Q1: =RIGHT(SUBSTITUTE('original survey design'!T1,"_"," "),LEN(SUBSTITUTE('original survey design'!T1,"_"," "))-1) -> #VALUE!
A2: ='original survey design'!A2 -> North | B2: =LEFT('original survey design'!B2,FIND(")",'original survey design'!B2)) -> Small (5-19) | C2: ='original survey design'!C2 -> 6 | D2: ='original survey design'!D2 -> 4 | E2: ='original survey design'!E2 -> 5 | F2: ='original survey design'!F2 -> 4 | G2: ='original survey design'!G2 -> 3 | H2: ='original survey design'!H2 -> 5 | I2: ='original survey design'!I2 -> 8 | J2: ='original survey design'!J2 -> 3 | ... P2: ='original survey design'!P2 -> 31 | Q2: =SUM(C2:P5) -> 320
A3: ='original survey design'!A3 -> North | B3: =LEFT('original survey design'!B3,FIND(")",'original survey design'!B3)) -> Medium (20-99) | C3: ='original survey design'!C3 -> 6 | D3: ='original survey design'!D3 -> 4 | E3: ='original survey design'!E3 -> 4 | F3: ='original survey design'!F3 -> 5 | G3: ='original survey design'!G3 -> 3 | H3: ='original survey design'!H3 -> 4 | I3: ='original survey design'!I3 -> 4 | J3: ='original survey design'!J3 -> 6 | ... P3: ='original survey design'!P3 -> 10
A4: ='original survey design'!A4 -> North | B4: =LEFT('original survey design'!B4,FIND(")",'original survey design'!B4)) -> Large (100-269) | C4: ='original survey design'!C4 -> 3 | D4: ='original survey design'!D4 -> 3 | E4: ='original survey design'!E4 -> 3 | F4: ='original survey design'!F4 -> 3 | G4: ='original survey design'!G4 -> 2 | H4: ='original survey design'!H4 -> 4 | I4: ='original survey design'!I4 -> 3 | J4: ='original survey design'!J4 -> 5 | ... P4: ='original survey design'!P4 -> 2
A5: ='original survey design'!A5 -> North | B5: =LEFT('original survey design'!B5,FIND(")",'original survey design'!B5)) -> Extra Large (270 or more) | C5: ='original survey design'!C5 -> 3 | D5: ='original survey design'!D5 -> 3 | E5: ='original survey design'!E5 -> 4 | F5: ='original survey design'!F5 -> 5 | G5: ='original survey design'!G5 -> 3 | H5: ='original survey design'!H5 -> 3 | I5: ='original survey design'!I5 -> 2 | J5: ='original survey design'!J5 -> 3 | ... P5: ='original survey design'!P5 -> 2
A6: ='original survey design'!A6 -> Northeastern | B6: =LEFT('original survey design'!B6,FIND(")",'original survey design'!B6)) -> Small (5-19) | C6: ='original survey design'!C6 -> 4 | D6: ='original survey design'!D6 -> 2 | E6: ='original survey design'!E6 -> 3 | F6: ='original survey design'!F6 -> 4 | G6: ='original survey design'!G6 -> 3 | H6: ='original survey design'!H6 -> 4 | I6: ='original survey design'!I6 -> 4 | J6: ='original survey design'!J6 -> 3 | ... P6: ='original survey design'!P6 -> 15 | Q6: =SUM(C6:P9) -> 181
A7: ='original survey design'!A7 -> Northeastern | B7: =LEFT('original survey design'!B7,FIND(")",'original survey design'!B7)) -> Medium (20-99) | C7: ='original survey design'!C7 -> 3 | D7: ='original survey design'!D7 -> 3 | E7: ='original survey design'!E7 -> 3 | F7: ='original survey design'!F7 -> 3 | G7: ='original survey design'!G7 -> 3 | H7: ='original survey design'!H7 -> 4 | I7: ='original survey design'!I7 -> 3 | J7: ='original survey design'!J7 -> 4 | ... P7: ='original survey design'!P7 -> 4
A8: ='original survey design'!A8 -> Northeastern | B8: =LEFT('original survey design'!B8,FIND(")",'original survey design'!B8)) -> Large (100-269) | C8: ='original survey design'!C8 -> 4 | D8: ='original survey design'!D8 -> 2 | E8: ='original survey design'!E8 -> 3 | F8: ='original survey design'!F8 -> 3 | G8: ='original survey design'!G8 -> 3 | H8: ='original survey design'!H8 -> 3 | I8: ='original survey design'!I8 -> 1 | J8: ='original survey design'!J8 -> 3 | ... P8: ='original survey design'!P8 -> 2
A9: ='original survey design'!A9 -> Northeastern | B9: =LEFT('original survey design'!B9,FIND(")",'original survey design'!B9)) -> Extra Large (270 or more) | C9: ='original survey design'!C9 -> 2 | D9: ='original survey design'!D9 -> 3 | E9: ='original survey design'!E9 -> 2 | F9: ='original survey design'!F9 -> 3 | G9: ='original survey design'!G9 -> 2 | H9: ='original survey design'!H9 -> 3 | I9: ='original survey design'!I9 -> 3 | J9: ='original survey design'!J9 -> 2 | ... P9: ='original survey design'!P9 -> 2
A10: ='original survey design'!A10 -> East | B10: =LEFT('original survey design'!B10,FIND(")",'original survey design'!B10)) -> Small (5-19) | C10: ='original survey design'!C10 -> 15 | D10: ='original survey design'!D10 -> 17 | E10: ='original survey design'!E10 -> 13 | F10: ='original survey design'!F10 -> 10 | G10: ='original survey design'!G10 -> 16 | H10: ='original survey design'!H10 -> 16 | I10: ='original survey design'!I10 -> 33 | J10: ='original survey design'!J10 -> 11 | ... P10: ='original survey design'!P10 -> 60 | Q10: =SUM(C10:P13) -> 688
A11: ='original survey design'!A11 -> East | B11: =LEFT('original survey design'!B11,FIND(")",'original survey design'!B11)) -> Medium (20-99) | C11: ='original survey design'!C11 -> 12 | D11: ='original survey design'!D11 -> 16 | E11: ='original survey design'!E11 -> 14 | F11: ='original survey design'!F11 -> 15 | G11: ='original survey design'!G11 -> 14 | H11: ='original survey design'!H11 -> 9 | I11: ='original survey design'!I11 -> 14 | J11: ='original survey design'!J11 -> 14 | ... P11: ='original survey design'!P11 -> 29
A12: ='original survey design'!A12 -> East | B12: =LEFT('original survey design'!B12,FIND(")",'original survey design'!B12)) -> Large (100-269) | C12: ='original survey design'!C12 -> 8 | D12: ='original survey design'!D12 -> 10 | E12: ='original survey design'!E12 -> 9 | F12: ='original survey design'!F12 -> 9 | G12: ='original survey design'!G12 -> 6 | H12: ='original survey design'!H12 -> 4 | I12: ='original survey design'!I12 -> 4 | J12: ='original survey design'!J12 -> 10 | ... P12: ='original survey design'!P12 -> 4
A13: ='original survey design'!A13 -> East | B13: =LEFT('original survey design'!B13,FIND(")",'original survey design'!B13)) -> Extra Large (270 or more) | C13: ='original survey design'!C13 -> 3 | D13: ='original survey design'!D13 -> 7 | E13: ='original survey design'!E13 -> 6 | F13: ='original survey design'!F13 -> 6 | G13: ='original survey design'!G13 -> 7 | H13: ='original survey design'!H13 -> 4 | I13: ='original survey design'!I13 -> 3 | J13: ='original survey design'!J13 -> 8 | ... P13: ='original survey design'!P13 -> 2
A14: ='original survey design'!A14 -> Central | B14: =LEFT('original survey design'!B14,FIND(")",'original survey design'!B14)) -> Small (5-19) | C14: ='original survey design'!C14 -> 12 | D14: ='original survey design'!D14 -> 10 | E14: ='original survey design'!E14 -> 8 | F14: ='original survey design'!F14 -> 5 | G14: ='original survey design'!G14 -> 12 | H14: ='original survey design'!H14 -> 12 | I14: ='original survey design'!I14 -> 14 | J14: ='original survey design'!J14 -> 5 | ... P14: ='original survey design'!P14 -> 60 | Q14: =SUM(C14:P17) -> 541
A15: ='original survey design'!A15 -> Central | B15: =LEFT('original survey design'!B15,FIND(")",'original survey design'!B15)) -> Medium (20-99) | C15: ='original survey design'!C15 -> 11 | D15: ='original survey design'!D15 -> 12 | E15: ='original survey design'!E15 -> 10 | F15: ='original survey design'!F15 -> 8 | G15: ='original survey design'!G15 -> 14 | H15: ='original survey design'!H15 -> 8 | I15: ='original survey design'!I15 -> 8 | J15: ='original survey design'!J15 -> 9 | ... P15: ='original survey design'!P15 -> 22
A16: ='original survey design'!A16 -> Central | B16: =LEFT('original survey design'!B16,FIND(")",'original survey design'!B16)) -> Large (100-269) | C16: ='original survey design'!C16 -> 6 | D16: ='original survey design'!D16 -> 6 | E16: ='original survey design'!E16 -> 6 | F16: ='original survey design'!F16 -> 6 | G16: ='original survey design'!G16 -> 7 | H16: ='original survey design'!H16 -> 4 | I16: ='original survey design'!I16 -> 3 | J16: ='original survey design'!J16 -> 6 | ... P16: ='original survey design'!P16 -> 3
A17: ='original survey design'!A17 -> Central | B17: =LEFT('original survey design'!B17,FIND(")",'original survey design'!B17)) -> Extra Large (270 or more) | C17: ='original survey design'!C17 -> 5 | D17: ='original survey design'!D17 -> 6 | E17: ='original survey design'!E17 -> 4 | F17: ='original survey design'!F17 -> 4 | G17: ='original survey design'!G17 -> 6 | H17: ='original survey design'!H17 -> 4 | I17: ='original survey design'!I17 -> 3 | J17: ='original survey design'!J17 -> 6 | ... P17: ='original survey design'!P17 -> 2
A18: ='original survey design'!A18 -> Southwest | B18: =LEFT('original survey design'!B18,FIND(")",'original survey design'!B18)) -> Small (5-19) | C18: ='original survey design'!C18 -> 5 | D18: ='original survey design'!D18 -> 2 | E18: ='original survey design'!E18 -> 3 | F18: ='original survey design'!F18 -> 4 | G18: ='original survey design'!G18 -> 2 | H18: ='original survey design'!H18 -> 4 | I18: ='original survey design'!I18 -> 2 | J18: ='original survey design'!J18 -> 3 | ... P18: ='original survey design'!P18 -> 31 | Q18: =SUM(C18:P21) -> 260
A19: ='original survey design'!A19 -> Southwest | B19: =LEFT('original survey design'!B19,FIND(")",'original survey design'!B19)) -> Medium (20-99) | C19: ='original survey design'!C19 -> 3 | D19: ='original survey design'!D19 -> 2 | E19: ='original survey design'!E19 -> 3 | F19: ='original survey design'!F19 -> 4 | G19: ='original survey design'!G19 -> 2 | H19: ='original survey design'!H19 -> 4 | I19: ='original survey design'!I19 -> 1 | J19: ='original survey design'!J19 -> 3 | ... P19: ='original survey design'!P19 -> 9
A20: ='original survey design'!A20 -> Southwest | B20: =LEFT('original survey design'!B20,FIND(")",'original survey design'!B20)) -> Large (100-269) | C20: ='original survey design'!C20 -> 3 | D20: ='original survey design'!D20 -> 2 | E20: ='original survey design'!E20 -> 3 | F20: ='original survey design'!F20 -> 3 | G20: ='original survey design'!G20 -> 2 | H20: ='original survey design'!H20 -> 4 | I20: ='original survey design'!I20 -> 1 | J20: ='original survey design'!J20 -> 3 | ... P20: ='original survey design'!P20 -> 2
A21: ='original survey design'!A21 -> Southwest | B21: =LEFT('original survey design'!B21,FIND(")",'original survey design'!B21)) -> Extra Large (270 or more) | C21: ='original survey design'!C21 -> 1 | D21: ='original survey design'!D21 -> 2 | E21: ='original survey design'!E21 -> 3 | F21: ='original survey design'!F21 -> 3 | G21: ='original survey design'!G21 -> 2 | H21: ='original survey design'!H21 -> 3 | I21: ='original survey design'!I21 -> 2 | J21: ='original survey design'!J21 -> 3 | ... P21: ='original survey design'!P21 -> 2
A22: ='original survey design'!A22 -> Northwest | B22: =LEFT('original survey design'!B22,FIND(")",'original survey design'!B22)) -> Small (5-19) | C22: ='original survey design'!C22 -> 2 | D22: ='original survey design'!D22 -> 1 | E22: ='original survey design'!E22 -> 3 | F22: ='original survey design'!F22 -> 4 | G22: ='original survey design'!G22 -> 2 | H22: ='original survey design'!H22 -> 4 | I22: ='original survey design'!I22 -> 1 | J22: ='original survey design'!J22 -> 3 | ... P22: ='original survey design'!P22 -> 20 | Q22: =SUM(C22:P25) -> 170
A23: ='original survey design'!A23 -> Northwest | B23: =LEFT('original survey design'!B23,FIND(")",'original survey design'!B23)) -> Medium (20-99) | C23: ='original survey design'!C23 -> 1 | D23: ='original survey design'!D23 -> 1 | E23: ='original survey design'!E23 -> 3 | F23: ='original survey design'!F23 -> 3 | G23: ='original survey design'!G23 -> 2 | H23: ='original survey design'!H23 -> 4 | I23: ='original survey design'!I23 -> 1 | J23: ='original survey design'!J23 -> 3 | ... P23: ='original survey design'!P23 -> 4
A24: ='original survey design'!A24 -> Northwest | B24: =LEFT('original survey design'!B24,FIND(")",'original survey design'!B24)) -> Large (100-269) | C24: ='original survey design'!C24 -> 1 | D24: ='original survey design'!D24 -> 1 | E24: ='original survey design'!E24 -> 3 | F24: ='original survey design'!F24 -> 3 | G24: ='original survey design'!G24 -> 2 | H24: ='original survey design'!H24 -> 3 | I24: ='original survey design'!I24 -> 1 | J24: ='original survey design'!J24 -> 2 | ... P24: ='original survey design'!P24 -> 1
A25: ='original survey design'!A25 -> Northwest | B25: =LEFT('original survey design'!B25,FIND(")",'original survey design'!B25)) -> Extra Large (270 or more) | C25: ='original survey design'!C25 -> 1 | D25: ='original survey design'!D25 -> 1 | E25: ='original survey design'!E25 -> 2 | F25: ='original survey design'!F25 -> 3 | G25: ='original survey design'!G25 -> 2 | H25: ='original survey design'!H25 -> 3 | I25: ='original survey design'!I25 -> 1 | J25: ='original survey design'!J25 -> 2 | ... P25: ='original survey design'!P25 -> 1
C26: =SUM(C2:C25) -> 120 | D26: =SUM(D2:D25) -> 120 | E26: =SUM(E2:E25) -> 120 | F26: =SUM(F2:F25) -> 120 | G26: =SUM(G2:G25) -> 120 | H26: =SUM(H2:H25) -> 120 | I26: =SUM(I2:I25) -> 120 | J26: =SUM(J2:J25) -> 120 | ... Q26: =SUM(Q2:Q25) -> 2160

Sheet Table 4 Response Outcomes
D2: Totals | E2: Rates relative to total contacted
B3: Overall | C3: Contacts available in frame | D3: 41596
C4: Issued | D4: 32580
C5: Contacted | D5: 22121
B6: Screening phase | C6: Eligibles | D6: 2962 | E6: =D6/D$5 -> 0.13389991
C7: Screener refusals | D7: 7848 | E7: =D7/D$5 -> 0.354776
C8: Assumed eligibles | D8: 10857 | E8: =D8/D$5 -> 0.4908006
C9: Ineligible + out of target | D9: 3307 | E9: =D9/D$5 -> 0.14949595
C10: Unobtainables | D10: 8000 | E10: =D10/D$5 -> 0.3616473
B11: Interview phase | C11: Interview refusals | D11: 726 | E11: =D11/D$5 -> 0.032819493
B12: (only if eligible) | C12: Complete interviews | D12: 2189 | E12: =D12/D$5 -> 0.098955743

Sheet Table 5 Survey Yield Rates
C2: Stratification | D2: Yield | E2: Survey response rate | F2: Frame quality
B3: Panel | C3: Fresh | D3: =VLOOKUP($C3,'yield calculation'!$C:$F,2,FALSE) -> 0.10213912 | E3: =VLOOKUP($C3,'yield calculation'!$C:$F,3,FALSE) -> 0.1914935 | F3: =VLOOKUP($C3,'yield calculation'!$C:$F,4,FALSE) -> 0.5333817
C4: Panel | D4: =VLOOKUP($C4,'yield calculation'!$C:$F,2,FALSE) -> 0.077114426 | E4: =VLOOKUP($C4,'yield calculation'!$C:$F,3,FALSE) -> 0.38819319 | F4: =VLOOKUP($C4,'yield calculation'!$C:$F,4,FALSE) -> 0.19864962
B5: Size | C5: Small (5-19) | D5: =VLOOKUP($C5,'yield calculation'!$C:$F,2,FALSE) -> 0.080161944 | E5: =VLOOKUP($C5,'yield calculation'!$C:$F,3,FALSE) -> 0.16176471 | F5: =VLOOKUP($C5,'yield calculation'!$C:$F,4,FALSE) -> 0.49554655
C6: Medium (20-99) | D6: =VLOOKUP($C6,'yield calculation'!$C:$F,2,FALSE) -> 0.10495166 | E6: =VLOOKUP($C6,'yield calculation'!$C:$F,3,FALSE) -> 0.24192815 | F6: =VLOOKUP($C6,'yield calculation'!$C:$F,4,FALSE) -> 0.43381336
C7: Large (100-269) | D7: =VLOOKUP($C7,'yield calculation'!$C:$F,2,FALSE) -> 0.12155745 | E7: =VLOOKUP($C7,'yield calculation'!$C:$F,3,FALSE) -> 0.23747681 | F7: =VLOOKUP($C7,'yield calculation'!$C:$F,4,FALSE) -> 0.51187086
C8: Extra large (270+) | D8: =VLOOKUP($C8,'yield calculation'!$C:$F,2,FALSE) -> 0.137509 | E8: =VLOOKUP($C8,'yield calculation'!$C:$F,3,FALSE) -> 0.24918461 | F8: =VLOOKUP($C8,'yield calculation'!$C:$F,4,FALSE) -> 0.55183583
B9: Region | C9: North | D9: =VLOOKUP($C9,'yield calculation'!$C:$F,2,FALSE) -> 0.098591551 | E9: =VLOOKUP($C9,'yield calculation'!$C:$F,3,FALSE) -> 0.14564756 | F9: =VLOOKUP($C9,'yield calculation'!$C:$F,4,FALSE) -> 0.67691863
C10: Northeastern | D10: =VLOOKUP($C10,'yield calculation'!$C:$F,2,FALSE) -> 0.14162873 | E10: =VLOOKUP($C10,'yield calculation'!$C:$F,3,FALSE) -> 0.30973452 | F10: =VLOOKUP($C10,'yield calculation'!$C:$F,4,FALSE) -> 0.45725846
C11: East | D11: =VLOOKUP($C11,'yield calculation'!$C:$F,2,FALSE) -> 0.10958904 | E11: =VLOOKUP($C11,'yield calculation'!$C:$F,3,FALSE) -> 0.5673759 | F11: =VLOOKUP($C11,'yield calculation'!$C:$F,4,FALSE) -> 0.19315068
C12: Central | D12: =VLOOKUP($C12,'yield calculation'!$C:$F,2,FALSE) -> 0.067327611 | E12: =VLOOKUP($C12,'yield calculation'!$C:$F,3,FALSE) -> 0.12569061 | F12: =VLOOKUP($C12,'yield calculation'!$C:$F,4,FALSE) -> 0.53566146
C13: Southwest | D13: =VLOOKUP($C13,'yield calculation'!$C:$F,2,FALSE) -> 0.084049664 | E13: =VLOOKUP($C13,'yield calculation'!$C:$F,3,FALSE) -> 0.10666667 | F13: =VLOOKUP($C13,'yield calculation'!$C:$F,4,FALSE) -> 0.7879656
C14: Northwest | D14: =VLOOKUP($C14,'yield calculation'!$C:$F,2,FALSE) -> 0.17330918 | E14: =VLOOKUP($C14,'yield calculation'!$C:$F,3,FALSE) -> 0.55620158 | F14: =VLOOKUP($C14,'yield calculation'!$C:$F,4,FALSE) -> 0.31159419
B15: Sector | C15: Food | D15: =VLOOKUP($C15,'yield calculation'!$C:$F,2,FALSE) -> 0.10731319 | E15: =VLOOKUP($C15,'yield calculation'!$C:$F,3,FALSE) -> 0.21915585 | F15: =VLOOKUP($C15,'yield calculation'!$C:$F,4,FALSE) -> 0.48966613
C16: Wearing apparel | D16: =VLOOKUP($C16,'yield calculation'!$C:$F,2,FALSE) -> 0.098274566 | E16: =VLOOKUP($C16,'yield calculation'!$C:$F,3,FALSE) -> 0.19124088 | F16: =VLOOKUP($C16,'yield calculation'!$C:$F,4,FALSE) -> 0.51387846
C17: Chemicals and chemical products | D17: =VLOOKUP($C17,'yield calculation'!$C:$F,2,FALSE) -> 0.14240506 | E17: =VLOOKUP($C17,'yield calculation'!$C:$F,3,FALSE) -> 0.28784648 | F17: =VLOOKUP($C17,'yield calculation'!$C:$F,4,FALSE) -> 0.49472573
C18: Basic metals | D18: =VLOOKUP($C18,'yield calculation'!$C:$F,2,FALSE) -> 0.11181818 | E18: =VLOOKUP($C18,'yield calculation'!$C:$F,3,FALSE) -> 0.20263591 | F18: =VLOOKUP($C18,'yield calculation'!$C:$F,4,FALSE) -> 0.55181819
C19: Computer, electronics, and optical products | D19: =VLOOKUP($C19,'yield calculation'!$C:$F,2,FALSE) -> 0.13870247 | E19: =VLOOKUP($C19,'yield calculation'!$C:$F,3,FALSE) -> 0.29594272 | F19: =VLOOKUP($C19,'yield calculation'!$C:$F,4,FALSE) -> 0.46868008
C20: Electrical equipment | D20: =VLOOKUP($C20,'yield calculation'!$C:$F,2,FALSE) -> 0.1733167 | E20: =VLOOKUP($C20,'yield calculation'!$C:$F,3,FALSE) -> 0.37165776 | F20: =VLOOKUP($C20,'yield calculation'!$C:$F,4,FALSE) -> 0.46633416
C21: Machinery and equipment | D21: =VLOOKUP($C21,'yield calculation'!$C:$F,2,FALSE) -> 0.11749116 | E21: =VLOOKUP($C21,'yield calculation'!$C:$F,3,FALSE) -> 0.24050634 | F21: =VLOOKUP($C21,'yield calculation'!$C:$F,4,FALSE) -> 0.48851591
C22: Motor vehicles, trailers, and semi-trailers | D22: =VLOOKUP($C22,'yield calculation'!$C:$F,2,FALSE) -> 0.15045249 | E22: =VLOOKUP($C22,'yield calculation'!$C:$F,3,FALSE) -> 0.37784091 | F22: =VLOOKUP($C22,'yield calculation'!$C:$F,4,FALSE) -> 0.39819005
C23: Other manufacturing | D23: =VLOOKUP($C23,'yield calculation'!$C:$F,2,FALSE) -> 0.099154137 | E23: =VLOOKUP($C23,'yield calculation'!$C:$F,3,FALSE) -> 0.26408011 | F23: =VLOOKUP($C23,'yield calculation'!$C:$F,4,FALSE) -> 0.37546992
C24: Retail | D24: =VLOOKUP($C24,'yield calculation'!$C:$F,2,FALSE) -> 0.095559306 | E24: =VLOOKUP($C24,'yield calculation'!$C:$F,3,FALSE) -> 0.17580144 | F24: =VLOOKUP($C24,'yield calculation'!$C:$F,4,FALSE) -> 0.54356378
C25: Hotels | D25: =VLOOKUP($C25,'yield calculation'!$C:$F,2,FALSE) -> 0.14461884 | E25: =VLOOKUP($C25,'yield calculation'!$C:$F,3,FALSE) -> 0.25443786 | F25: =VLOOKUP($C25,'yield calculation'!$C:$F,4,FALSE) -> 0.56838566
C26: Construction | D26: =VLOOKUP($C26,'yield calculation'!$C:$F,2,FALSE) -> 0.067025237 | E26: =VLOOKUP($C26,'yield calculation'!$C:$F,3,FALSE) -> 0.13798977 | F26: =VLOOKUP($C26,'yield calculation'!$C:$F,4,FALSE) -> 0.48572612
C27: Professional services | D27: =VLOOKUP($C27,'yield calculation'!$C:$F,2,FALSE) -> 0.069501229 | E27: =VLOOKUP($C27,'yield calculation'!$C:$F,3,FALSE) -> 0.11517615 | F27: =VLOOKUP($C27,'yield calculation'!$C:$F,4,FALSE) -> 0.60343421
C28: Other Services | D28: =VLOOKUP($C28,'yield calculation'!$C:$F,2,FALSE) -> 0.07156767 | E28: =VLOOKUP($C28,'yield calculation'!$C:$F,3,FALSE) -> 0.15814954 | F28: =VLOOKUP($C28,'yield calculation'!$C:$F,4,FALSE) -> 0.45253164
B29: Overall | C29: China 2024 | D29: =VLOOKUP($C29,'yield calculation'!$C:$F,2,FALSE) -> 0.098955743 | E29: =VLOOKUP($C29,'yield calculation'!$C:$F,3,FALSE) -> 0.20162107 | F29: =VLOOKUP($C29,'yield calculation'!$C:$F,4,FALSE) -> 0.49080059
B30: Notes: the rates are calculated as defined in Section III.4

Sheet Table 6 Achieved Total Sample 
C1: =RIGHT(SUBSTITUTE('achieved fresh and panel'!C1,"_"," "),LEN(SUBSTITUTE('achieved fresh and panel'!C1,"_"," "))-1) -> Food | D1: =RIGHT(SUBSTITUTE('achieved fresh and panel'!D1,"_"," "),LEN(SUBSTITUTE('achieved fresh and panel'!D1,"_"," "))-1) -> Wearing apparel | E1: =RIGHT(SUBSTITUTE('achieved fresh and panel'!E1,"_"," "),LEN(SUBSTITUTE('achieved fresh and panel'!E1,"_"," "))-1) -> Chemicals and chemical products | F1: =RIGHT(SUBSTITUTE('achieved fresh and panel'!F1,"_"," "),LEN(SUBSTITUTE('achieved fresh and panel'!F1,"_"," "))-1) -> Basic metals | G1: =RIGHT(SUBSTITUTE('achieved fresh and panel'!G1,"_"," "),LEN(SUBSTITUTE('achieved fresh and panel'!G1,"_"," "))-1) -> Computer electronics and opt | H1: =RIGHT(SUBSTITUTE('achieved fresh and panel'!H1,"_"," "),LEN(SUBSTITUTE('achieved fresh and panel'!H1,"_"," "))-1) -> Electrical equipment | I1: =RIGHT(SUBSTITUTE('achieved fresh and panel'!I1,"_"," "),LEN(SUBSTITUTE('achieved fresh and panel'!I1,"_"," "))-1) -> Machinery and equipment | J1: =RIGHT(SUBSTITUTE('achieved fresh and panel'!J1,"_"," "),LEN(SUBSTITUTE('achieved fresh and panel'!J1,"_"," "))-1) -> Motor vehicles trailers | ... P1: =RIGHT(SUBSTITUTE('achieved fresh and panel'!P1,"_"," "),LEN(SUBSTITUTE('achieved fresh and panel'!P1,"_"," "))-1) -> Other services | Q1: =RIGHT(SUBSTITUTE('achieved fresh and panel'!T1,"_"," "),LEN(SUBSTITUTE('achieved fresh and panel'!T1,"_"," "))-1) -> #VALUE!
A2: ='achieved fresh and panel'!A2 -> North | B2: =LEFT('achieved fresh and panel'!B2,FIND(")",'achieved fresh and panel'!B2)) -> Small (5-19) | C2: ='achieved fresh and panel'!C2 -> 5 | D2: ='achieved fresh and panel'!D2 -> 4 | E2: ='achieved fresh and panel'!E2 -> 7 | F2: ='achieved fresh and panel'!F2 -> 9 | G2: ='achieved fresh and panel'!G2 -> 4 | H2: ='achieved fresh and panel'!H2 -> 5 | I2: ='achieved fresh and panel'!I2 -> 5 | J2: ='achieved fresh and panel'!J2 -> 6 | ... P2: ='achieved fresh and panel'!P2 -> 22 | Q2: =SUM(C2:P5) -> 343
A3: ='achieved fresh and panel'!A3 -> North | B3: =LEFT('achieved fresh and panel'!B3,FIND(")",'achieved fresh and panel'!B3)) -> Medium (20-99) | C3: ='achieved fresh and panel'!C3 -> 8 | D3: ='achieved fresh and panel'!D3 -> 10 | E3: ='achieved fresh and panel'!E3 -> 8 | F3: ='achieved fresh and panel'!F3 -> 5 | G3: ='achieved fresh and panel'!G3 -> 5 | H3: ='achieved fresh and panel'!H3 -> 7 | I3: ='achieved fresh and panel'!I3 -> 4 | J3: ='achieved fresh and panel'!J3 -> 6 | ... P3: ='achieved fresh and panel'!P3 -> 5
A4: ='achieved fresh and panel'!A4 -> North | B4: =LEFT('achieved fresh and panel'!B4,FIND(")",'achieved fresh and panel'!B4)) -> Large (100-269) | C4: ='achieved fresh and panel'!C4 -> 4 | D4: ='achieved fresh and panel'!D4 -> 6 | E4: ='achieved fresh and panel'!E4 -> 5 | F4: ='achieved fresh and panel'!F4 -> 4 | G4: ='achieved fresh and panel'!G4 -> 4 | H4: ='achieved fresh and panel'!H4 -> 4 | I4: ='achieved fresh and panel'!I4 -> 5 | J4: ='achieved fresh and panel'!J4 -> 6 | ... P4: ='achieved fresh and panel'!P4 -> 4
A5: ='achieved fresh and panel'!A5 -> North | B5: =LEFT('achieved fresh and panel'!B5,FIND(")",'achieved fresh and panel'!B5)) -> Extra Large (270 or more) | C5: ='achieved fresh and panel'!C5 -> 4 | D5: ='achieved fresh and panel'!D5 -> 3 | E5: ='achieved fresh and panel'!E5 -> 4 | F5: ='achieved fresh and panel'!F5 -> 3 | G5: ='achieved fresh and panel'!G5 -> 7 | H5: ='achieved fresh and panel'!H5 -> 4 | I5: ='achieved fresh and panel'!I5 -> 5 | J5: ='achieved fresh and panel'!J5 -> 5 | ... P5: ='achieved fresh and panel'!P5 -> 4
A6: ='achieved fresh and panel'!A6 -> Northeastern | B6: =LEFT('achieved fresh and panel'!B6,FIND(")",'achieved fresh and panel'!B6)) -> Small (5-19) | C6: ='achieved fresh and panel'!C6 -> 6 | D6: ='achieved fresh and panel'!D6 -> 4 | E6: ='achieved fresh and panel'!E6 -> 4 | F6: ='achieved fresh and panel'!F6 -> 4 | G6: ='achieved fresh and panel'!G6 -> 4 | H6: ='achieved fresh and panel'!H6 -> 5 | I6: ='achieved fresh and panel'!I6 -> 4 | J6: ='achieved fresh and panel'!J6 -> 4 | ... P6: ='achieved fresh and panel'!P6 -> 6 | Q6: =SUM(C6:P9) -> 280
A7: ='achieved fresh and panel'!A7 -> Northeastern | B7: =LEFT('achieved fresh and panel'!B7,FIND(")",'achieved fresh and panel'!B7)) -> Medium (20-99) | C7: ='achieved fresh and panel'!C7 -> 5 | D7: ='achieved fresh and panel'!D7 -> 4 | E7: ='achieved fresh and panel'!E7 -> 7 | F7: ='achieved fresh and panel'!F7 -> 5 | G7: ='achieved fresh and panel'!G7 -> 6 | H7: ='achieved fresh and panel'!H7 -> 7 | I7: ='achieved fresh and panel'!I7 -> 8 | J7: ='achieved fresh and panel'!J7 -> 6 | ... P7: ='achieved fresh and panel'!P7 -> 4
A8: ='achieved fresh and panel'!A8 -> Northeastern | B8: =LEFT('achieved fresh and panel'!B8,FIND(")",'achieved fresh and panel'!B8)) -> Large (100-269) | C8: ='achieved fresh and panel'!C8 -> 5 | D8: ='achieved fresh and panel'!D8 -> 4 | E8: ='achieved fresh and panel'!E8 -> 5 | F8: ='achieved fresh and panel'!F8 -> 4 | G8: ='achieved fresh and panel'!G8 -> 6 | H8: ='achieved fresh and panel'!H8 -> 5 | I8: ='achieved fresh and panel'!I8 -> 8 | J8: ='achieved fresh and panel'!J8 -> 5 | ... P8: ='achieved fresh and panel'!P8 -> 4
A9: ='achieved fresh and panel'!A9 -> Northeastern | B9: =LEFT('achieved fresh and panel'!B9,FIND(")",'achieved fresh and panel'!B9)) -> Extra Large (270 or more) | C9: ='achieved fresh and panel'!C9 -> 4 | D9: ='achieved fresh and panel'!D9 -> 4 | E9: ='achieved fresh and panel'!E9 -> 4 | F9: ='achieved fresh and panel'!F9 -> 4 | G9: ='achieved fresh and panel'!G9 -> 6 | H9: ='achieved fresh and panel'!H9 -> 6 | I9: ='achieved fresh and panel'!I9 -> 4 | J9: ='achieved fresh and panel'!J9 -> 7 | ... P9: ='achieved fresh and panel'!P9 -> 4
A10: ='achieved fresh and panel'!A10 -> East | B10: =LEFT('achieved fresh and panel'!B10,FIND(")",'achieved fresh and panel'!B10)) -> Small (5-19) | C10: ='achieved fresh and panel'!C10 -> 11 | D10: ='achieved fresh and panel'!D10 -> 9 | E10: ='achieved fresh and panel'!E10 -> 6 | F10: ='achieved fresh and panel'!F10 -> 9 | G10: ='achieved fresh and panel'!G10 -> 4 | H10: ='achieved fresh and panel'!H10 -> 9 | I10: ='achieved fresh and panel'!I10 -> 19 | J10: ='achieved fresh and panel'!J10 -> 7 | ... P10: ='achieved fresh and panel'!P10 -> 87 | Q10: =SUM(C10:P13) -> 560
A11: ='achieved fresh and panel'!A11 -> East | B11: =LEFT('achieved fresh and panel'!B11,FIND(")",'achieved fresh and panel'!B11)) -> Medium (20-99) | C11: ='achieved fresh and panel'!C11 -> 9 | D11: ='achieved fresh and panel'!D11 -> 9 | E11: ='achieved fresh and panel'!E11 -> 15 | F11: ='achieved fresh and panel'!F11 -> 9 | G11: ='achieved fresh and panel'!G11 -> 8 | H11: ='achieved fresh and panel'!H11 -> 8 | I11: ='achieved fresh and panel'!I11 -> 10 | J11: ='achieved fresh and panel'!J11 -> 9 | ... P11: ='achieved fresh and panel'!P11 -> 12
A12: ='achieved fresh and panel'!A12 -> East | B12: =LEFT('achieved fresh and panel'!B12,FIND(")",'achieved fresh and panel'!B12)) -> Large (100-269) | C12: ='achieved fresh and panel'!C12 -> 4 | D12: ='achieved fresh and panel'!D12 -> 9 | E12: ='achieved fresh and panel'!E12 -> 4 | F12: ='achieved fresh and panel'!F12 -> 4 | G12: ='achieved fresh and panel'!G12 -> 5 | H12: ='achieved fresh and panel'!H12 -> 4 | I12: ='achieved fresh and panel'!I12 -> 4 | J12: ='achieved fresh and panel'!J12 -> 5 | ... P12: ='achieved fresh and panel'!P12 -> 4
A13: ='achieved fresh and panel'!A13 -> East | B13: =LEFT('achieved fresh and panel'!B13,FIND(")",'achieved fresh and panel'!B13)) -> Extra Large (270 or more) | C13: ='achieved fresh and panel'!C13 -> 4 | D13: ='achieved fresh and panel'!D13 -> 4 | E13: ='achieved fresh and panel'!E13 -> 4 | F13: ='achieved fresh and panel'!F13 -> 4 | G13: ='achieved fresh and panel'!G13 -> 7 | H13: ='achieved fresh and panel'!H13 -> 4 | I13: ='achieved fresh and panel'!I13 -> 4 | J13: ='achieved fresh and panel'!J13 -> 4 | ... P13: ='achieved fresh and panel'!P13 -> 4
A14: ='achieved fresh and panel'!A14 -> Central | B14: =LEFT('achieved fresh and panel'!B14,FIND(")",'achieved fresh and panel'!B14)) -> Small (5-19) | C14: ='achieved fresh and panel'!C14 -> 10 | D14: ='achieved fresh and panel'!D14 -> 9 | E14: ='achieved fresh and panel'!E14 -> 4 | F14: ='achieved fresh and panel'!F14 -> 9 | G14: ='achieved fresh and panel'!G14 -> 5 | H14: ='achieved fresh and panel'!H14 -> 10 | I14: ='achieved fresh and panel'!I14 -> 4 | J14: ='achieved fresh and panel'!J14 -> 4 | ... P14: ='achieved fresh and panel'!P14 -> 59 | Q14: =SUM(C14:P17) -> 455
A15: ='achieved fresh and panel'!A15 -> Central | B15: =LEFT('achieved fresh and panel'!B15,FIND(")",'achieved fresh and panel'!B15)) -> Medium (20-99) | C15: ='achieved fresh and panel'!C15 -> 10 | D15: ='achieved fresh and panel'!D15 -> 8 | E15: ='achieved fresh and panel'!E15 -> 10 | F15: ='achieved fresh and panel'!F15 -> 6 | G15: ='achieved fresh and panel'!G15 -> 8 | H15: ='achieved fresh and panel'!H15 -> 10 | I15: ='achieved fresh and panel'!I15 -> 5 | J15: ='achieved fresh and panel'!J15 -> 9 | ... P15: ='achieved fresh and panel'!P15 -> 9
A16: ='achieved fresh and panel'!A16 -> Central | B16: =LEFT('achieved fresh and panel'!B16,FIND(")",'achieved fresh and panel'!B16)) -> Large (100-269) | C16: ='achieved fresh and panel'!C16 -> 4 | D16: ='achieved fresh and panel'!D16 -> 4 | E16: ='achieved fresh and panel'!E16 -> 4 | F16: ='achieved fresh and panel'!F16 -> 4 | G16: ='achieved fresh and panel'!G16 -> 4 | H16: ='achieved fresh and panel'!H16 -> 4 | I16: ='achieved fresh and panel'!I16 -> 4 | J16: ='achieved fresh and panel'!J16 -> 5 | ... P16: ='achieved fresh and panel'!P16 -> 6
A17: ='achieved fresh and panel'!A17 -> Central | B17: =LEFT('achieved fresh and panel'!B17,FIND(")",'achieved fresh and panel'!B17)) -> Extra Large (270 or more) | C17: ='achieved fresh and panel'!C17 -> 4 | D17: ='achieved fresh and panel'!D17 -> 4 | E17: ='achieved fresh and panel'!E17 -> 4 | F17: ='achieved fresh and panel'!F17 -> 5 | G17: ='achieved fresh and panel'!G17 -> 4 | H17: ='achieved fresh and panel'!H17 -> 6 | I17: ='achieved fresh and panel'!I17 -> 4 | J17: ='achieved fresh and panel'!J17 -> 5 | ... P17: ='achieved fresh and panel'!P17 -> 5
A18: ='achieved fresh and panel'!A18 -> Southwest | B18: =LEFT('achieved fresh and panel'!B18,FIND(")",'achieved fresh and panel'!B18)) -> Small (5-19) | C18: ='achieved fresh and panel'!C18 -> 4 | D18: ='achieved fresh and panel'!D18 -> 4 | E18: ='achieved fresh and panel'!E18 -> 5 | F18: ='achieved fresh and panel'!F18 -> 4 | G18: ='achieved fresh and panel'!G18 -> 4 | H18: ='achieved fresh and panel'!H18 -> 4 | I18: ='achieved fresh and panel'!I18 -> 4 | J18: ='achieved fresh and panel'!J18 -> 4 | ... P18: ='achieved fresh and panel'!P18 -> 21 | Q18: =SUM(C18:P21) -> 264
A19: ='achieved fresh and panel'!A19 -> Southwest | B19: =LEFT('achieved fresh and panel'!B19,FIND(")",'achieved fresh and panel'!B19)) -> Medium (20-99) | C19: ='achieved fresh and panel'!C19 -> 4 | D19: ='achieved fresh and panel'!D19 -> 4 | E19: ='achieved fresh and panel'!E19 -> 4 | F19: ='achieved fresh and panel'!F19 -> 4 | G19: ='achieved fresh and panel'!G19 -> 4 | H19: ='achieved fresh and panel'!H19 -> 5 | I19: ='achieved fresh and panel'!I19 -> 4 | J19: ='achieved fresh and panel'!J19 -> 4 | ... P19: ='achieved fresh and panel'!P19 -> 4
A20: ='achieved fresh and panel'!A20 -> Southwest | B20: =LEFT('achieved fresh and panel'!B20,FIND(")",'achieved fresh and panel'!B20)) -> Large (100-269) | C20: ='achieved fresh and panel'!C20 -> 4 | D20: ='achieved fresh and panel'!D20 -> 4 | E20: ='achieved fresh and panel'!E20 -> 4 | F20: ='achieved fresh and panel'!F20 -> 3 | G20: ='achieved fresh and panel'!G20 -> 4 | H20: ='achieved fresh and panel'!H20 -> 4 | I20: ='achieved fresh and panel'!I20 -> 5 | J20: ='achieved fresh and panel'!J20 -> 5 | ... P20: ='achieved fresh and panel'!P20 -> 4
A21: ='achieved fresh and panel'!A21 -> Southwest | B21: =LEFT('achieved fresh and panel'!B21,FIND(")",'achieved fresh and panel'!B21)) -> Extra Large (270 or more) | C21: ='achieved fresh and panel'!C21 -> 4 | D21: ='achieved fresh and panel'!D21 -> 4 | E21: ='achieved fresh and panel'!E21 -> 4 | F21: ='achieved fresh and panel'!F21 -> 4 | G21: ='achieved fresh and panel'!G21 -> 4 | H21: ='achieved fresh and panel'!H21 -> 4 | I21: ='achieved fresh and panel'!I21 -> 4 | J21: ='achieved fresh and panel'!J21 -> 4 | ... P21: ='achieved fresh and panel'!P21 -> 4
A22: ='achieved fresh and panel'!A22 -> Northwest | B22: =LEFT('achieved fresh and panel'!B22,FIND(")",'achieved fresh and panel'!B22)) -> Small (5-19) | C22: ='achieved fresh and panel'!C22 -> 4 | D22: ='achieved fresh and panel'!D22 -> 5 | E22: ='achieved fresh and panel'!E22 -> 4 | F22: ='achieved fresh and panel'!F22 -> 4 | G22: ='achieved fresh and panel'!G22 -> 4 | H22: ='achieved fresh and panel'!H22 -> 4 | I22: ='achieved fresh and panel'!I22 -> 4 | J22: ='achieved fresh and panel'!J22 -> 4 | ... P22: ='achieved fresh and panel'!P22 -> 9 | Q22: =SUM(C22:P25) -> 287
A23: ='achieved fresh and panel'!A23 -> Northwest | B23: =LEFT('achieved fresh and panel'!B23,FIND(")",'achieved fresh and panel'!B23)) -> Medium (20-99) | C23: ='achieved fresh and panel'!C23 -> 6 | D23: ='achieved fresh and panel'!D23 -> 6 | E23: ='achieved fresh and panel'!E23 -> 10 | F23: ='achieved fresh and panel'!F23 -> 6 | G23: ='achieved fresh and panel'!G23 -> 7 | H23: ='achieved fresh and panel'!H23 -> 9 | I23: ='achieved fresh and panel'!I23 -> 4 | J23: ='achieved fresh and panel'!J23 -> 8 | ... P23: ='achieved fresh and panel'!P23 -> 4
A24: ='achieved fresh and panel'!A24 -> Northwest | B24: =LEFT('achieved fresh and panel'!B24,FIND(")",'achieved fresh and panel'!B24)) -> Large (100-269) | C24: ='achieved fresh and panel'!C24 -> 5 | D24: ='achieved fresh and panel'!D24 -> 4 | E24: ='achieved fresh and panel'!E24 -> 5 | F24: ='achieved fresh and panel'!F24 -> 5 | G24: ='achieved fresh and panel'!G24 -> 4 | H24: ='achieved fresh and panel'!H24 -> 6 | I24: ='achieved fresh and panel'!I24 -> 5 | J24: ='achieved fresh and panel'!J24 -> 6 | ... P24: ='achieved fresh and panel'!P24 -> 4
A25: ='achieved fresh and panel'!A25 -> Northwest | B25: =LEFT('achieved fresh and panel'!B25,FIND(")",'achieved fresh and panel'!B25)) -> Extra Large (270 or more) | C25: ='achieved fresh and panel'!C25 -> 7 | D25: ='achieved fresh and panel'!D25 -> 5 | E25: ='achieved fresh and panel'!E25 -> 4 | F25: ='achieved fresh and panel'!F25 -> 4 | G25: ='achieved fresh and panel'!G25 -> 6 | H25: ='achieved fresh and panel'!H25 -> 5 | I25: ='achieved fresh and panel'!I25 -> 6 | J25: ='achieved fresh and panel'!J25 -> 5 | ... P25: ='achieved fresh and panel'!P25 -> 5
C26: =SUM(C2:C25) -> 135 | D26: =SUM(D2:D25) -> 131 | E26: =SUM(E2:E25) -> 135 | F26: =SUM(F2:F25) -> 122 | G26: =SUM(G2:G25) -> 124 | H26: =SUM(H2:H25) -> 139 | I26: =SUM(I2:I25) -> 133 | J26: =SUM(J2:J25) -> 133 | ... Q26: =SUM(Q2:Q25) -> 2189

Sheet Table 7 Achieved Panel Sample
C1: =RIGHT(SUBSTITUTE('achieved panel'!C1,"_"," "),LEN(SUBSTITUTE('achieved panel'!C1,"_"," "))-1) -> Food | D1: =RIGHT(SUBSTITUTE('achieved panel'!D1,"_"," "),LEN(SUBSTITUTE('achieved panel'!D1,"_"," "))-1) -> Wearing apparel | E1: =RIGHT(SUBSTITUTE('achieved panel'!E1,"_"," "),LEN(SUBSTITUTE('achieved panel'!E1,"_"," "))-1) -> Chemicals and chemical products | F1: =RIGHT(SUBSTITUTE('achieved panel'!F1,"_"," "),LEN(SUBSTITUTE('achieved panel'!F1,"_"," "))-1) -> Basic metals | G1: =RIGHT(SUBSTITUTE('achieved panel'!G1,"_"," "),LEN(SUBSTITUTE('achieved panel'!G1,"_"," "))-1) -> Computer electronics and opt | H1: =RIGHT(SUBSTITUTE('achieved panel'!H1,"_"," "),LEN(SUBSTITUTE('achieved panel'!H1,"_"," "))-1) -> Electrical equipment | I1: =RIGHT(SUBSTITUTE('achieved panel'!I1,"_"," "),LEN(SUBSTITUTE('achieved panel'!I1,"_"," "))-1) -> Machinery and equipment | J1: =RIGHT(SUBSTITUTE('achieved panel'!J1,"_"," "),LEN(SUBSTITUTE('achieved panel'!J1,"_"," "))-1) -> Motor vehicles trailers | ... P1: =RIGHT(SUBSTITUTE('achieved panel'!P1,"_"," "),LEN(SUBSTITUTE('achieved panel'!P1,"_"," "))-1) -> Other services | Q1: =RIGHT(SUBSTITUTE('achieved panel'!T1,"_"," "),LEN(SUBSTITUTE('achieved panel'!T1,"_"," "))-1) -> #VALUE!
A2: ='achieved panel'!A2 -> North | B2: =LEFT('achieved panel'!B2,FIND(")",'achieved panel'!B2)) -> Small (5-19) | C2: ='achieved panel'!C2 -> 0 | D2: ='achieved panel'!D2 -> 0 | E2: ='achieved panel'!E2 -> 1 | F2: ='achieved panel'!F2 -> 0 | G2: ='achieved panel'!G2 -> 0 | H2: ='achieved panel'!H2 -> 0 | I2: ='achieved panel'!I2 -> 2 | J2: ='achieved panel'!J2 -> 0 | ... P2: ='achieved panel'!P2 -> 7 | Q2: =SUM(C2:P5) -> 25
A3: ='achieved panel'!A3 -> North | B3: =LEFT('achieved panel'!B3,FIND(")",'achieved panel'!B3)) -> Medium (20-99) | C3: ='achieved panel'!C3 -> 0 | D3: ='achieved panel'!D3 -> 0 | E3: ='achieved panel'!E3 -> 1 | F3: ='achieved panel'!F3 -> 0 | G3: ='achieved panel'!G3 -> 0 | H3: ='achieved panel'!H3 -> 0 | I3: ='achieved panel'!I3 -> 0 | J3: ='achieved panel'!J3 -> 0 | ... P3: ='achieved panel'!P3 -> 1
A4: ='achieved panel'!A4 -> North | B4: =LEFT('achieved panel'!B4,FIND(")",'achieved panel'!B4)) -> Large (100-269) | C4: ='achieved panel'!C4 -> 0 | D4: ='achieved panel'!D4 -> 0 | E4: ='achieved panel'!E4 -> 0 | F4: ='achieved panel'!F4 -> 0 | G4: ='achieved panel'!G4 -> 0 | H4: ='achieved panel'!H4 -> 0 | I4: ='achieved panel'!I4 -> 1 | J4: ='achieved panel'!J4 -> 2 | ... P4: ='achieved panel'!P4 -> 1
A5: ='achieved panel'!A5 -> North | B5: =LEFT('achieved panel'!B5,FIND(")",'achieved panel'!B5)) -> Extra Large (270 or more) | C5: ='achieved panel'!C5 -> 0 | D5: ='achieved panel'!D5 -> 0 | E5: ='achieved panel'!E5 -> 0 | F5: ='achieved panel'!F5 -> 2 | G5: ='achieved panel'!G5 -> 0 | H5: ='achieved panel'!H5 -> 0 | I5: ='achieved panel'!I5 -> 0 | J5: ='achieved panel'!J5 -> 0 | ... P5: ='achieved panel'!P5 -> 0
A6: ='achieved panel'!A6 -> Northeastern | B6: =LEFT('achieved panel'!B6,FIND(")",'achieved panel'!B6)) -> Small (5-19) | C6: ='achieved panel'!C6 -> 1 | D6: ='achieved panel'!D6 -> 0 | E6: ='achieved panel'!E6 -> 1 | F6: ='achieved panel'!F6 -> 0 | G6: ='achieved panel'!G6 -> 0 | H6: ='achieved panel'!H6 -> 0 | I6: ='achieved panel'!I6 -> 0 | J6: ='achieved panel'!J6 -> 1 | ... P6: ='achieved panel'!P6 -> 3 | Q6: =SUM(C6:P9) -> 28
A7: ='achieved panel'!A7 -> Northeastern | B7: =LEFT('achieved panel'!B7,FIND(")",'achieved panel'!B7)) -> Medium (20-99) | C7: ='achieved panel'!C7 -> 0 | D7: ='achieved panel'!D7 -> 2 | E7: ='achieved panel'!E7 -> 1 | F7: ='achieved panel'!F7 -> 0 | G7: ='achieved panel'!G7 -> 0 | H7: ='achieved panel'!H7 -> 0 | I7: ='achieved panel'!I7 -> 1 | J7: ='achieved panel'!J7 -> 0 | ... P7: ='achieved panel'!P7 -> 1
A8: ='achieved panel'!A8 -> Northeastern | B8: =LEFT('achieved panel'!B8,FIND(")",'achieved panel'!B8)) -> Large (100-269) | C8: ='achieved panel'!C8 -> 1 | D8: ='achieved panel'!D8 -> 0 | E8: ='achieved panel'!E8 -> 0 | F8: ='achieved panel'!F8 -> 0 | G8: ='achieved panel'!G8 -> 1 | H8: ='achieved panel'!H8 -> 0 | I8: ='achieved panel'!I8 -> 0 | J8: ='achieved panel'!J8 -> 0 | ... P8: ='achieved panel'!P8 -> 0
A9: ='achieved panel'!A9 -> Northeastern | B9: =LEFT('achieved panel'!B9,FIND(")",'achieved panel'!B9)) -> Extra Large (270 or more) | C9: ='achieved panel'!C9 -> 0 | D9: ='achieved panel'!D9 -> 0 | E9: ='achieved panel'!E9 -> 0 | F9: ='achieved panel'!F9 -> 0 | G9: ='achieved panel'!G9 -> 0 | H9: ='achieved panel'!H9 -> 0 | I9: ='achieved panel'!I9 -> 0 | J9: ='achieved panel'!J9 -> 0 | ... P9: ='achieved panel'!P9 -> 0
A10: ='achieved panel'!A10 -> East | B10: =LEFT('achieved panel'!B10,FIND(")",'achieved panel'!B10)) -> Small (5-19) | C10: ='achieved panel'!C10 -> 0 | D10: ='achieved panel'!D10 -> 0 | E10: ='achieved panel'!E10 -> 3 | F10: ='achieved panel'!F10 -> 1 | G10: ='achieved panel'!G10 -> 0 | H10: ='achieved panel'!H10 -> 0 | I10: ='achieved panel'!I10 -> 6 | J10: ='achieved panel'!J10 -> 0 | ... P10: ='achieved panel'!P10 -> 14 | Q10: =SUM(C10:P13) -> 112
A11: ='achieved panel'!A11 -> East | B11: =LEFT('achieved panel'!B11,FIND(")",'achieved panel'!B11)) -> Medium (20-99) | C11: ='achieved panel'!C11 -> 1 | D11: ='achieved panel'!D11 -> 1 | E11: ='achieved panel'!E11 -> 3 | F11: ='achieved panel'!F11 -> 2 | G11: ='achieved panel'!G11 -> 2 | H11: ='achieved panel'!H11 -> 0 | I11: ='achieved panel'!I11 -> 3 | J11: ='achieved panel'!J11 -> 1 | ... P11: ='achieved panel'!P11 -> 5
A12: ='achieved panel'!A12 -> East | B12: =LEFT('achieved panel'!B12,FIND(")",'achieved panel'!B12)) -> Large (100-269) | C12: ='achieved panel'!C12 -> 2 | D12: ='achieved panel'!D12 -> 1 | E12: ='achieved panel'!E12 -> 0 | F12: ='achieved panel'!F12 -> 1 | G12: ='achieved panel'!G12 -> 1 | H12: ='achieved panel'!H12 -> 1 | I12: ='achieved panel'!I12 -> 0 | J12: ='achieved panel'!J12 -> 3 | ... P12: ='achieved panel'!P12 -> 3
A13: ='achieved panel'!A13 -> East | B13: =LEFT('achieved panel'!B13,FIND(")",'achieved panel'!B13)) -> Extra Large (270 or more) | C13: ='achieved panel'!C13 -> 0 | D13: ='achieved panel'!D13 -> 1 | E13: ='achieved panel'!E13 -> 1 | F13: ='achieved panel'!F13 -> 1 | G13: ='achieved panel'!G13 -> 1 | H13: ='achieved panel'!H13 -> 0 | I13: ='achieved panel'!I13 -> 0 | J13: ='achieved panel'!J13 -> 0 | ... P13: ='achieved panel'!P13 -> 1
A14: ='achieved panel'!A14 -> Central | B14: =LEFT('achieved panel'!B14,FIND(")",'achieved panel'!B14)) -> Small (5-19) | C14: ='achieved panel'!C14 -> 0 | D14: ='achieved panel'!D14 -> 0 | E14: ='achieved panel'!E14 -> 1 | F14: ='achieved panel'!F14 -> 0 | G14: ='achieved panel'!G14 -> 2 | H14: ='achieved panel'!H14 -> 0 | I14: ='achieved panel'!I14 -> 0 | J14: ='achieved panel'!J14 -> 0 | ... P14: ='achieved panel'!P14 -> 12 | Q14: =SUM(C14:P17) -> 49
A15: ='achieved panel'!A15 -> Central | B15: =LEFT('achieved panel'!B15,FIND(")",'achieved panel'!B15)) -> Medium (20-99) | C15: ='achieved panel'!C15 -> 2 | D15: ='achieved panel'!D15 -> 0 | E15: ='achieved panel'!E15 -> 1 | F15: ='achieved panel'!F15 -> 2 | G15: ='achieved panel'!G15 -> 1 | H15: ='achieved panel'!H15 -> 0 | I15: ='achieved panel'!I15 -> 1 | J15: ='achieved panel'!J15 -> 1 | ... P15: ='achieved panel'!P15 -> 2
A16: ='achieved panel'!A16 -> Central | B16: =LEFT('achieved panel'!B16,FIND(")",'achieved panel'!B16)) -> Large (100-269) | C16: ='achieved panel'!C16 -> 0 | D16: ='achieved panel'!D16 -> 0 | E16: ='achieved panel'!E16 -> 0 | F16: ='achieved panel'!F16 -> 0 | G16: ='achieved panel'!G16 -> 1 | H16: ='achieved panel'!H16 -> 1 | I16: ='achieved panel'!I16 -> 0 | J16: ='achieved panel'!J16 -> 0 | ... P16: ='achieved panel'!P16 -> 1
A17: ='achieved panel'!A17 -> Central | B17: =LEFT('achieved panel'!B17,FIND(")",'achieved panel'!B17)) -> Extra Large (270 or more) | C17: ='achieved panel'!C17 -> 2 | D17: ='achieved panel'!D17 -> 0 | E17: ='achieved panel'!E17 -> 0 | F17: ='achieved panel'!F17 -> 0 | G17: ='achieved panel'!G17 -> 2 | H17: ='achieved panel'!H17 -> 0 | I17: ='achieved panel'!I17 -> 0 | J17: ='achieved panel'!J17 -> 1 | ... P17: ='achieved panel'!P17 -> 4
A18: ='achieved panel'!A18 -> Southwest | B18: =LEFT('achieved panel'!B18,FIND(")",'achieved panel'!B18)) -> Small (5-19) | C18: ='achieved panel'!C18 -> 0 | D18: ='achieved panel'!D18 -> 0 | E18: ='achieved panel'!E18 -> 0 | F18: ='achieved panel'!F18 -> 0 | G18: ='achieved panel'!G18 -> 0 | H18: ='achieved panel'!H18 -> 0 | I18: ='achieved panel'!I18 -> 0 | J18: ='achieved panel'!J18 -> 0 | ... P18: ='achieved panel'!P18 -> 1 | Q18: =SUM(C18:P20) -> 3
A19: ='achieved panel'!A19 -> Southwest | B19: =LEFT('achieved panel'!B19,FIND(")",'achieved panel'!B19)) -> Medium (20-99) | C19: ='achieved panel'!C19 -> 0 | D19: ='achieved panel'!D19 -> 0 | E19: ='achieved panel'!E19 -> 0 | F19: ='achieved panel'!F19 -> 0 | G19: ='achieved panel'!G19 -> 0 | H19: ='achieved panel'!H19 -> 0 | I19: ='achieved panel'!I19 -> 0 | J19: ='achieved panel'!J19 -> 0 | ... P19: ='achieved panel'!P19 -> 1
A20: ='achieved panel'!A20 -> Southwest | B20: =LEFT('achieved panel'!B20,FIND(")",'achieved panel'!B20)) -> Large (100-269) | C20: ='achieved panel'!C20 -> 1 | D20: ='achieved panel'!D20 -> 0 | E20: ='achieved panel'!E20 -> 0 | F20: ='achieved panel'!F20 -> 0 | G20: ='achieved panel'!G20 -> 0 | H20: ='achieved panel'!H20 -> 0 | I20: ='achieved panel'!I20 -> 0 | J20: ='achieved panel'!J20 -> 0 | ... P20: ='achieved panel'!P20 -> 0
C21: =SUM(C2:C20) -> 10 | D21: =SUM(D2:D20) -> 5 | E21: =SUM(E2:E20) -> 13 | F21: =SUM(F2:F20) -> 9 | G21: =SUM(G2:G20) -> 11 | H21: =SUM(H2:H20) -> 2 | I21: =SUM(I2:I20) -> 14 | J21: =SUM(J2:J20) -> 9 | ... Q21: =SUM(Q2:Q20) -> 217

Sheet Table 8 Weak Universe Estimates
C1: =RIGHT(SUBSTITUTE(universe_weak!C1,"_"," "),LEN(SUBSTITUTE(universe_weak!C1,"_"," "))-1) -> Food | D1: =RIGHT(SUBSTITUTE(universe_weak!D1,"_"," "),LEN(SUBSTITUTE(universe_weak!D1,"_"," "))-1) -> Wearing apparel | E1: =RIGHT(SUBSTITUTE(universe_weak!E1,"_"," "),LEN(SUBSTITUTE(universe_weak!E1,"_"," "))-1) -> Chemicals and chemical products | F1: =RIGHT(SUBSTITUTE(universe_weak!F1,"_"," "),LEN(SUBSTITUTE(universe_weak!F1,"_"," "))-1) -> Basic metals | G1: =RIGHT(SUBSTITUTE(universe_weak!G1,"_"," "),LEN(SUBSTITUTE(universe_weak!G1,"_"," "))-1) -> Computer electronics and opt | H1: =RIGHT(SUBSTITUTE(universe_weak!H1,"_"," "),LEN(SUBSTITUTE(universe_weak!H1,"_"," "))-1) -> Electrical equipment | I1: =RIGHT(SUBSTITUTE(universe_weak!I1,"_"," "),LEN(SUBSTITUTE(universe_weak!I1,"_"," "))-1) -> Machinery and equipment | J1: =RIGHT(SUBSTITUTE(universe_weak!J1,"_"," "),LEN(SUBSTITUTE(universe_weak!J1,"_"," "))-1) -> Motor vehicles trailers | ... P1: =RIGHT(SUBSTITUTE(universe_weak!P1,"_"," "),LEN(SUBSTITUTE(universe_weak!P1,"_"," "))-1) -> Other services | Q1: =RIGHT(SUBSTITUTE(universe_weak!T1,"_"," "),LEN(SUBSTITUTE(universe_weak!T1,"_"," "))-1) -> #VALUE!
A2: =universe_weak!A2 -> North | B2: =LEFT(universe_weak!B2,FIND(")",universe_weak!B2)) -> Small (5-19) | C2: =universe_weak!C2 -> 12571.311 | D2: =universe_weak!D2 -> 6265.751 | E2: =universe_weak!E2 -> 6704.5034 | F2: =universe_weak!F2 -> 2684.1694 | G2: =universe_weak!G2 -> 3902.0623 | H2: =universe_weak!H2 -> 8186.9492 | I2: =universe_weak!I2 -> 27867.852 | J2: =universe_weak!J2 -> 7277.5576 | ... P2: =universe_weak!P2 -> 259099.55 | Q2: =SUM(C2:P5) -> 1050057.6
A3: =universe_weak!A3 -> North | B3: =LEFT(universe_weak!B3,FIND(")",universe_weak!B3)) -> Medium (20-99) | C3: =universe_weak!C3 -> 4932.0752 | D3: =universe_weak!D3 -> 2993.9946 | E3: =universe_weak!E3 -> 3099.29 | F3: =universe_weak!F3 -> 1661.0435 | G3: =universe_weak!G3 -> 1987.2504 | H3: =universe_weak!H3 -> 2999.0154 | I3: =universe_weak!I3 -> 7714.6973 | J3: =universe_weak!J3 -> 1816.5295 | ... P3: =universe_weak!P3 -> 44970.422
A4: =universe_weak!A4 -> North | B4: =LEFT(universe_weak!B4,FIND(")",universe_weak!B4)) -> Large (100-269) | C4: =universe_weak!C4 -> 861.95477 | D4: =universe_weak!D4 -> 364.67731 | E4: =universe_weak!E4 -> 647.29919 | F4: =universe_weak!F4 -> 441.24738 | G4: =universe_weak!G4 -> 505.69864 | H4: =universe_weak!H4 -> 431.91898 | I4: =universe_weak!I4 -> 1015.7632 | J4: =universe_weak!J4 -> 498.45593 | ... P4: =universe_weak!P4 -> 4558.9946
A5: =universe_weak!A5 -> North | B5: =LEFT(universe_weak!B5,FIND(")",universe_weak!B5)) -> Extra Large (270 or more) | C5: =universe_weak!C5 -> 472.90103 | D5: =universe_weak!D5 -> 88.841011 | E5: =universe_weak!E5 -> 354.54077 | F5: =universe_weak!F5 -> 402.37027 | G5: =universe_weak!G5 -> 294.6926 | H5: =universe_weak!H5 -> 199.53697 | I5: =universe_weak!I5 -> 363.0322 | J5: =universe_weak!J5 -> 298.17004 | ... P5: =universe_weak!P5 -> 1852.5208
A6: =universe_weak!A6 -> Northeastern | B6: =LEFT(universe_weak!B6,FIND(")",universe_weak!B6)) -> Small (5-19) | C6: =universe_weak!C6 -> 8741.4854 | D6: =universe_weak!D6 -> 2522.2222 | E6: =universe_weak!E6 -> 2448.863 | F6: =universe_weak!F6 -> 659.28448 | G6: =universe_weak!G6 -> 2571.4141 | H6: =universe_weak!H6 -> 5387.2773 | I6: =universe_weak!I6 -> 6353.0146 | J6: =universe_weak!J6 -> 4861.3076 | ... P6: =universe_weak!P6 -> 65878.867 | Q6: =SUM(C6:P9) -> 282761.59
A7: =universe_weak!A7 -> Northeastern | B7: =LEFT(universe_weak!B7,FIND(")",universe_weak!B7)) -> Medium (20-99) | C7: =universe_weak!C7 -> 3525.2666 | D7: =universe_weak!D7 -> 1402.506 | E7: =universe_weak!E7 -> 1211.8475 | F7: =universe_weak!F7 -> 400.31854 | G7: =universe_weak!G7 -> 1062.478 | H7: =universe_weak!H7 -> 1249.5999 | I7: =universe_weak!I7 -> 2725.582 | J7: =universe_weak!J7 -> 1291.03 | ... P7: =universe_weak!P7 -> 10837.217
A8: =universe_weak!A8 -> Northeastern | B8: =LEFT(universe_weak!B8,FIND(")",universe_weak!B8)) -> Large (100-269) | C8: =universe_weak!C8 -> 711.21545 | D8: =universe_weak!D8 -> 234.20642 | E8: =universe_weak!E8 -> 285.89456 | F8: =universe_weak!F8 -> 130.59795 | G8: =universe_weak!G8 -> 145.10228 | H8: =universe_weak!H8 -> 163.98119 | I8: =universe_weak!I8 -> 478.27127 | J8: =universe_weak!J8 -> 353.54648 | ... P8: =universe_weak!P8 -> 939.8385
A9: =universe_weak!A9 -> Northeastern | B9: =LEFT(universe_weak!B9,FIND(")",universe_weak!B9)) -> Extra Large (270 or more) | C9: =universe_weak!C9 -> 347.55026 | D9: =universe_weak!D9 -> 107.39262 | E9: =universe_weak!E9 -> 108.04419 | F9: =universe_weak!F9 -> 105.51019 | G9: =universe_weak!G9 -> 120.94286 | H9: =universe_weak!H9 -> 96.304596 | I9: =universe_weak!I9 -> 193.85059 | J9: =universe_weak!J9 -> 216.50275 | ... P9: =universe_weak!P9 -> 399.68301
A10: =universe_weak!A10 -> East | B10: =LEFT(universe_weak!B10,FIND(")",universe_weak!B10)) -> Small (5-19) | C10: =universe_weak!C10 -> 31515.209 | D10: =universe_weak!D10 -> 38980.352 | E10: =universe_weak!E10 -> 15946.04 | F10: =universe_weak!F10 -> 7075.6748 | G10: =universe_weak!G10 -> 24944.729 | H10: =universe_weak!H10 -> 37489.945 | I10: =universe_weak!I10 -> 98341.398 | J10: =universe_weak!J10 -> 15905.309 | ... P10: =universe_weak!P10 -> 758966.94 | Q10: =SUM(C10:P13) -> 2919658.2
A11: =universe_weak!A11 -> East | B11: =LEFT(universe_weak!B11,FIND(")",universe_weak!B11)) -> Medium (20-99) | C11: =universe_weak!C11 -> 15027.225 | D11: =universe_weak!D11 -> 21642.189 | E11: =universe_weak!E11 -> 10747.751 | F11: =universe_weak!F11 -> 4827.9175 | G11: =universe_weak!G11 -> 12684.033 | H11: =universe_weak!H11 -> 17388.861 | I11: =universe_weak!I11 -> 38228.828 | J11: =universe_weak!J11 -> 9624.9639 | ... P11: =universe_weak!P11 -> 109469.09
A12: =universe_weak!A12 -> East | B12: =LEFT(universe_weak!B12,FIND(")",universe_weak!B12)) -> Large (100-269) | C12: =universe_weak!C12 -> 3103.5586 | D12: =universe_weak!D12 -> 3344.0508 | E12: =universe_weak!E12 -> 2600.9395 | F12: =universe_weak!F12 -> 975.04871 | G12: =universe_weak!G12 -> 3479.1748 | H12: =universe_weak!H12 -> 3477.5127 | I12: =universe_weak!I12 -> 5661.2188 | J12: =universe_weak!J12 -> 2425.8584 | ... P12: =universe_weak!P12 -> 8807.4922
A13: =universe_weak!A13 -> East | B13: =LEFT(universe_weak!B13,FIND(")",universe_weak!B13)) -> Extra Large (270 or more) | C13: =universe_weak!C13 -> 1250.9844 | D13: =universe_weak!D13 -> 1008.6393 | E13: =universe_weak!E13 -> 1131.4216 | F13: =universe_weak!F13 -> 513.43427 | G13: =universe_weak!G13 -> 2247.6729 | H13: =universe_weak!H13 -> 1703.0656 | I13: =universe_weak!I13 -> 1932.4363 | J13: =universe_weak!J13 -> 1299.8 | ... P13: =universe_weak!P13 -> 3292.6006
A14: =universe_weak!A14 -> Central | B14: =LEFT(universe_weak!B14,FIND(")",universe_weak!B14)) -> Small (5-19) | C14: =universe_weak!C14 -> 31702.699 | D14: =universe_weak!D14 -> 23433.594 | E14: =universe_weak!E14 -> 15169.646 | F14: =universe_weak!F14 -> 5085.3237 | G14: =universe_weak!G14 -> 29065.568 | H14: =universe_weak!H14 -> 34494.672 | I14: =universe_weak!I14 -> 46730.586 | J14: =universe_weak!J14 -> 7536.4482 | ... P14: =universe_weak!P14 -> 647350.06 | Q14: =SUM(C14:P17) -> 2431277
A15: =universe_weak!A15 -> Central | B15: =LEFT(universe_weak!B15,FIND(")",universe_weak!B15)) -> Medium (20-99) | C15: =universe_weak!C15 -> 16606.793 | D15: =universe_weak!D15 -> 13365.06 | E15: =universe_weak!E15 -> 9800.8213 | F15: =universe_weak!F15 -> 3788.5796 | G15: =universe_weak!G15 -> 17496.291 | H15: =universe_weak!H15 -> 16938.59 | I15: =universe_weak!I15 -> 21174.586 | J15: =universe_weak!J15 -> 4921.5986 | ... P15: =universe_weak!P15 -> 102919.13
A16: =universe_weak!A16 -> Central | B16: =LEFT(universe_weak!B16,FIND(")",universe_weak!B16)) -> Large (100-269) | C16: =universe_weak!C16 -> 3306.9397 | D16: =universe_weak!D16 -> 2288.324 | E16: =universe_weak!E16 -> 2158.4268 | F16: =universe_weak!F16 -> 838.2616 | G16: =universe_weak!G16 -> 4290.1621 | H16: =universe_weak!H16 -> 3682.4194 | I16: =universe_weak!I16 -> 3340.8804 | J16: =universe_weak!J16 -> 1416.0859 | ... P16: =universe_weak!P16 -> 8165.4688
A17: =universe_weak!A17 -> Central | B17: =LEFT(universe_weak!B17,FIND(")",universe_weak!B17)) -> Extra Large (270 or more) | C17: =universe_weak!C17 -> 1486.8105 | D17: =universe_weak!D17 -> 864.93494 | E17: =universe_weak!E17 -> 839.20654 | F17: =universe_weak!F17 -> 544.30737 | G17: =universe_weak!G17 -> 2758.6533 | H17: =universe_weak!H17 -> 1855.4319 | I17: =universe_weak!I17 -> 1308.1318 | J17: =universe_weak!J17 -> 866.65643 | ... P17: =universe_weak!P17 -> 2874.3967
A18: =universe_weak!A18 -> Southwest | B18: =LEFT(universe_weak!B18,FIND(")",universe_weak!B18)) -> Small (5-19) | C18: =universe_weak!C18 -> 17985.688 | D18: =universe_weak!D18 -> 2641.6499 | E18: =universe_weak!E18 -> 3399.8386 | F18: =universe_weak!F18 -> 1337.9471 | G18: =universe_weak!G18 -> 2714.9238 | H18: =universe_weak!H18 -> 2756.8938 | I18: =universe_weak!I18 -> 7986.3086 | J18: =universe_weak!J18 -> 2529.1714 | ... P18: =universe_weak!P18 -> 242112.98 | Q18: =SUM(C18:P21) -> 853131.72
A19: =universe_weak!A19 -> Southwest | B19: =LEFT(universe_weak!B19,FIND(")",universe_weak!B19)) -> Medium (20-99) | C19: =universe_weak!C19 -> 7909.7524 | D19: =universe_weak!D19 -> 1332.5861 | E19: =universe_weak!E19 -> 2180.7607 | F19: =universe_weak!F19 -> 1166.2894 | G19: =universe_weak!G19 -> 2263.5339 | H19: =universe_weak!H19 -> 2122.844 | I19: =universe_weak!I19 -> 3969.8774 | J19: =universe_weak!J19 -> 2375.21 | ... P19: =universe_weak!P19 -> 39164.938
A20: =universe_weak!A20 -> Southwest | B20: =LEFT(universe_weak!B20,FIND(")",universe_weak!B20)) -> Large (100-269) | C20: =universe_weak!C20 -> 1444.9221 | D20: =universe_weak!D20 -> 182.58229 | E20: =universe_weak!E20 -> 526.3374 | F20: =universe_weak!F20 -> 411.64807 | G20: =universe_weak!G20 -> 700.0282 | H20: =universe_weak!H20 -> 390.89523 | I20: =universe_weak!I20 -> 697.01532 | J20: =universe_weak!J20 -> 689.85559 | ... P20: =universe_weak!P20 -> 3192.385
A21: =universe_weak!A21 -> Southwest | B21: =LEFT(universe_weak!B21,FIND(")",universe_weak!B21)) -> Extra Large (270 or more) | C21: =universe_weak!C21 -> 568.70282 | D21: =universe_weak!D21 -> 59.154205 | E21: =universe_weak!E21 -> 281.80472 | F21: =universe_weak!F21 -> 220.62436 | G21: =universe_weak!G21 -> 506.10306 | H21: =universe_weak!H21 -> 209.9541 | I21: =universe_weak!I21 -> 294.56982 | J21: =universe_weak!J21 -> 399.72455 | ... P21: =universe_weak!P21 -> 1053.1111
A22: =universe_weak!A22 -> Northwest | B22: =LEFT(universe_weak!B22,FIND(")",universe_weak!B22)) -> Small (5-19) | C22: =universe_weak!C22 -> 6071.2388 | D22: =universe_weak!D22 -> 806.22034 | E22: =universe_weak!E22 -> 2131.6194 | F22: =universe_weak!F22 -> 929.81476 | G22: =universe_weak!G22 -> 1933.8823 | H22: =universe_weak!H22 -> 3842.0911 | I22: =universe_weak!I22 -> 3885.0188 | J22: =universe_weak!J22 -> 3575.4136 | ... P22: =universe_weak!P22 -> 88242.203 | Q22: =SUM(C22:P25) -> 367541.5
A23: =universe_weak!A23 -> Northwest | B23: =LEFT(universe_weak!B23,FIND(")",universe_weak!B23)) -> Medium (20-99) | C23: =universe_weak!C23 -> 3011.5063 | D23: =universe_weak!D23 -> 518.48193 | E23: =universe_weak!E23 -> 1211.6783 | F23: =universe_weak!F23 -> 543.48541 | G23: =universe_weak!G23 -> 680.60669 | H23: =universe_weak!H23 -> 933.78381 | I23: =universe_weak!I23 -> 1339.1554 | J23: =universe_weak!J23 -> 916.38141 | ... P23: =universe_weak!P23 -> 15173.378
A24: =universe_weak!A24 -> Northwest | B24: =LEFT(universe_weak!B24,FIND(")",universe_weak!B24)) -> Large (100-269) | C24: =universe_weak!C24 -> 519.34583 | D24: =universe_weak!D24 -> 161.4068 | E24: =universe_weak!E24 -> 305.7998 | F24: =universe_weak!F24 -> 204.18781 | G24: =universe_weak!G24 -> 161.90376 | H24: =universe_weak!H24 -> 137.577 | I24: =universe_weak!I24 -> 195.48659 | J24: =universe_weak!J24 -> 83.81385 | ... P24: =universe_weak!P24 -> 1273.6971
A25: =universe_weak!A25 -> Northwest | B25: =LEFT(universe_weak!B25,FIND(")",universe_weak!B25)) -> Extra Large (270 or more) | C25: =universe_weak!C25 -> 150.75075 | D25: =universe_weak!D25 -> 74.68251 | E25: =universe_weak!E25 -> 203.66435 | F25: =universe_weak!F25 -> 175.88383 | G25: =universe_weak!G25 -> 106.05583 | H25: =universe_weak!H25 -> 76.631096 | I25: =universe_weak!I25 -> 92.854622 | J25: =universe_weak!J25 -> 53.072571 | ... P25: =universe_weak!P25 -> 451.39282
C26: =SUM(C2:C25) -> 173825.88 | D26: =SUM(D2:D25) -> 124683.5 | E26: =SUM(E2:E25) -> 83496.039 | F26: =SUM(F2:F25) -> 35122.97 | G26: =SUM(G2:G25) -> 116622.96 | H26: =SUM(H2:H25) -> 146215.75 | I26: =SUM(I2:I25) -> 281890.42 | J26: =SUM(J2:J25) -> 71232.463 | ... Q26: =SUM(Q2:Q25) -> 7904427.7

Sheet Table 9 Median Universe Est
C1: =RIGHT(SUBSTITUTE(universe_median!C1,"_"," "),LEN(SUBSTITUTE(universe_median!C1,"_"," "))-1) -> Food | D1: =RIGHT(SUBSTITUTE(universe_median!D1,"_"," "),LEN(SUBSTITUTE(universe_median!D1,"_"," "))-1) -> Wearing apparel | E1: =RIGHT(SUBSTITUTE(universe_median!E1,"_"," "),LEN(SUBSTITUTE(universe_median!E1,"_"," "))-1) -> Chemicals and chemical products | F1: =RIGHT(SUBSTITUTE(universe_median!F1,"_"," "),LEN(SUBSTITUTE(universe_median!F1,"_"," "))-1) -> Basic metals | G1: =RIGHT(SUBSTITUTE(universe_median!G1,"_"," "),LEN(SUBSTITUTE(universe_median!G1,"_"," "))-1) -> Computer electronics and opt | H1: =RIGHT(SUBSTITUTE(universe_median!H1,"_"," "),LEN(SUBSTITUTE(universe_median!H1,"_"," "))-1) -> Electrical equipment | I1: =RIGHT(SUBSTITUTE(universe_median!I1,"_"," "),LEN(SUBSTITUTE(universe_median!I1,"_"," "))-1) -> Machinery and equipment | J1: =RIGHT(SUBSTITUTE(universe_median!J1,"_"," "),LEN(SUBSTITUTE(universe_median!J1,"_"," "))-1) -> Motor vehicles trailers | ... P1: =RIGHT(SUBSTITUTE(universe_median!P1,"_"," "),LEN(SUBSTITUTE(universe_median!P1,"_"," "))-1) -> Other services | Q1: =RIGHT(SUBSTITUTE(universe_median!T1,"_"," "),LEN(SUBSTITUTE(universe_median!T1,"_"," "))-1) -> #VALUE!
A2: =universe_median!A2 -> North | B2: =LEFT(universe_median!B2,FIND(")",universe_median!B2)) -> Small (5-19) | C2: =universe_median!C2 -> 9251.9258 | D2: =universe_median!D2 -> 4994.23 | E2: =universe_median!E2 -> 4771.0107 | F2: =universe_median!F2 -> 2196.8586 | G2: =universe_median!G2 -> 2654.3438 | H2: =universe_median!H2 -> 5378.1641 | I2: =universe_median!I2 -> 19193.176 | J2: =universe_median!J2 -> 4239.8076 | ... P2: =universe_median!P2 -> 188193.73 | Q2: =SUM(C2:P5) -> 767610.13
A3: =universe_median!A3 -> North | B3: =LEFT(universe_median!B3,FIND(")",universe_median!B3)) -> Medium (20-99) | C3: =universe_median!C3 -> 3197.1292 | D3: =universe_median!D3 -> 2101.9644 | E3: =universe_median!E3 -> 1942.6068 | F3: =universe_median!F3 -> 1197.4353 | G3: =universe_median!G3 -> 1190.6785 | H3: =universe_median!H3 -> 1735.2798 | I3: =universe_median!I3 -> 4679.9497 | J3: =universe_median!J3 -> 932.1416 | ... P3: =universe_median!P3 -> 28770.297
A4: =universe_median!A4 -> North | B4: =LEFT(universe_median!B4,FIND(")",universe_median!B4)) -> Large (100-269) | C4: =universe_median!C4 -> 644.00397 | D4: =universe_median!D4 -> 295.09146 | E4: =universe_median!E4 -> 467.62894 | F4: =universe_median!F4 -> 366.62897 | G4: =universe_median!G4 -> 349.22653 | H4: =universe_median!H4 -> 288.04926 | I4: =universe_median!I4 -> 710.21265 | J4: =universe_median!J4 -> 294.80838 | ... P4: =universe_median!P4 -> 3361.7087
A5: =universe_median!A5 -> North | B5: =LEFT(universe_median!B5,FIND(")",universe_median!B5)) -> Extra Large (270 or more) | C5: =universe_median!C5 -> 368.06622 | D5: =universe_median!D5 -> 74.88813 | E5: =universe_median!E5 -> 266.81732 | F5: =universe_median!F5 -> 348.2749 | G5: =universe_median!G5 -> 212.0002 | H5: =universe_median!H5 -> 138.62433 | I5: =universe_median!I5 -> 264.41898 | J5: =universe_median!J5 -> 183.70825 | ... P5: =universe_median!P5 -> 1423.0026
A6: =universe_median!A6 -> Northeastern | B6: =LEFT(universe_median!B6,FIND(")",universe_median!B6)) -> Small (5-19) | C6: =universe_median!C6 -> 4712.1553 | D6: =universe_median!D6 -> 1472.5212 | E6: =universe_median!E6 -> 1276.4126 | F6: =universe_median!F6 -> 395.22815 | G6: =universe_median!G6 -> 1281.2026 | H6: =universe_median!H6 -> 2592.1738 | I6: =universe_median!I6 -> 3204.8381 | J6: =universe_median!J6 -> 2074.4189 | ... P6: =universe_median!P6 -> 35048.34 | Q6: =SUM(C6:P9) -> 149747.56
A7: =universe_median!A7 -> Northeastern | B7: =LEFT(universe_median!B7,FIND(")",universe_median!B7)) -> Medium (20-99) | C7: =universe_median!C7 -> 1673.8066 | D7: =universe_median!D7 -> 721.21021 | E7: =universe_median!E7 -> 556.35699 | F7: =universe_median!F7 -> 211.3779 | G7: =universe_median!G7 -> 466.27777 | H7: =universe_median!H7 -> 529.59601 | I7: =universe_median!I7 -> 1211.0565 | J7: =universe_median!J7 -> 485.24222 | ... P7: =universe_median!P7 -> 5078.2959
A8: =universe_median!A8 -> Northeastern | B8: =LEFT(universe_median!B8,FIND(")",universe_median!B8)) -> Large (100-269) | C8: =universe_median!C8 -> 389.21368 | D8: =universe_median!D8 -> 138.81281 | E8: =universe_median!E8 -> 151.28122 | F8: =universe_median!F8 -> 79.481087 | G8: =universe_median!G8 -> 73.396027 | H8: =universe_median!H8 -> 80.101624 | I8: =universe_median!I8 -> 244.93623 | J8: =universe_median!J8 -> 153.15897 | ... P8: =universe_median!P8 -> 507.60638
A9: =universe_median!A9 -> Northeastern | B9: =LEFT(universe_median!B9,FIND(")",universe_median!B9)) -> Extra Large (270 or more) | C9: =universe_median!C9 -> 198.13271 | D9: =universe_median!D9 -> 66.306602 | E9: =universe_median!E9 -> 59.556908 | F9: =universe_median!F9 -> 66.891891 | G9: =universe_median!G9 -> 63.727982 | H9: =universe_median!H9 -> 49.005623 | I9: =universe_median!I9 -> 103.41832 | J9: =universe_median!J9 -> 97.703667 | ... P9: =universe_median!P9 -> 224.87498
A10: =universe_median!A10 -> East | B10: =LEFT(universe_median!B10,FIND(")",universe_median!B10)) -> Small (5-19) | C10: =universe_median!C10 -> 9137.9121 | D10: =universe_median!D10 -> 12240.984 | E10: =universe_median!E10 -> 4470.6616 | F10: =universe_median!F10 -> 2281.5774 | G10: =universe_median!G10 -> 6685.2397 | H10: =universe_median!H10 -> 9702.9082 | I10: =universe_median!I10 -> 26684.246 | J10: =universe_median!J10 -> 3650.7136 | ... P10: =universe_median!P10 -> 217188.38 | Q10: =SUM(C10:P13) -> 824836.07
A11: =universe_median!A11 -> East | B11: =LEFT(universe_median!B11,FIND(")",universe_median!B11)) -> Medium (20-99) | C11: =universe_median!C11 -> 3837.8188 | D11: =universe_median!D11 -> 5986.1924 | E11: =universe_median!E11 -> 2654.0889 | F11: =universe_median!F11 -> 1371.2168 | G11: =universe_median!G11 -> 2994.1562 | H11: =universe_median!H11 -> 3964.0325 | I11: =universe_median!I11 -> 9136.6816 | J11: =universe_median!J11 -> 1945.8698 | ... P11: =universe_median!P11 -> 27592.057
A12: =universe_median!A12 -> East | B12: =LEFT(universe_median!B12,FIND(")",universe_median!B12)) -> Large (100-269) | C12: =universe_median!C12 -> 913.56451 | D12: =universe_median!D12 -> 1066.0951 | E12: =universe_median!E12 -> 740.28973 | F12: =universe_median!F12 -> 319.18771 | G12: =universe_median!G12 -> 946.60089 | H12: =universe_median!H12 -> 913.71002 | I12: =universe_median!I12 -> 1559.4844 | J12: =universe_median!J12 -> 565.26709 | ... P12: =universe_median!P12 -> 2558.6946
A13: =universe_median!A13 -> East | B13: =LEFT(universe_median!B13,FIND(")",universe_median!B13)) -> Extra Large (270 or more) | C13: =universe_median!C13 -> 383.6037 | D13: =universe_median!D13 -> 334.97363 | E13: =universe_median!E13 -> 335.46524 | F13: =universe_median!F13 -> 175.08798 | G13: =universe_median!G13 -> 637.05267 | H13: =universe_median!H13 -> 466.1467 | I13: =universe_median!I13 -> 554.53363 | J13: =universe_median!J13 -> 315.51236 | ... P13: =universe_median!P13 -> 996.453
A14: =universe_median!A14 -> Central | B14: =LEFT(universe_median!B14,FIND(")",universe_median!B14)) -> Small (5-19) | C14: =universe_median!C14 -> 20936.789 | D14: =universe_median!D14 -> 16760.869 | E14: =universe_median!E14 -> 9686.8262 | F14: =universe_median!F14 -> 3734.8486 | G14: =universe_median!G14 -> 17742.059 | H14: =universe_median!H14 -> 20334.16 | I14: =universe_median!I14 -> 28880.645 | J14: =universe_median!J14 -> 3939.939 | ... P14: =universe_median!P14 -> 421929.56 | Q14: =SUM(C14:P17) -> 1574425.8
A15: =universe_median!A15 -> Central | B15: =LEFT(universe_median!B15,FIND(")",universe_median!B15)) -> Medium (20-99) | C15: =universe_median!C15 -> 9660.0322 | D15: =universe_median!D15 -> 8419.9102 | E15: =universe_median!E15 -> 5512.4849 | F15: =universe_median!F15 -> 2450.8103 | G15: =universe_median!G15 -> 9406.9785 | H15: =universe_median!H15 -> 8794.8896 | I15: =universe_median!I15 -> 11526.555 | J15: =universe_median!J15 -> 2266.2505 | ... P15: =universe_median!P15 -> 59084.797
A16: =universe_median!A16 -> Central | B16: =LEFT(universe_median!B16,FIND(")",universe_median!B16)) -> Large (100-269) | C16: =universe_median!C16 -> 2217.1375 | D16: =universe_median!D16 -> 1661.6045 | E16: =universe_median!E16 -> 1399.2517 | F16: =universe_median!F16 -> 625.00934 | G16: =universe_median!G16 -> 2658.5906 | H16: =universe_median!H16 -> 2203.738 | I16: =universe_median!I16 -> 2096.134 | J16: =universe_median!J16 -> 751.56219 | ... P16: =universe_median!P16 -> 5402.9922
A17: =universe_median!A17 -> Central | B17: =LEFT(universe_median!B17,FIND(")",universe_median!B17)) -> Extra Large (270 or more) | C17: =universe_median!C17 -> 1038.4213 | D17: =universe_median!D17 -> 654.2522 | E17: =universe_median!E17 -> 566.73364 | F17: =universe_median!F17 -> 422.76862 | G17: =universe_median!G17 -> 1780.8463 | H17: =universe_median!H17 -> 1156.707 | I17: =universe_median!I17 -> 854.99048 | J17: =universe_median!J17 -> 479.15265 | ... P17: =universe_median!P17 -> 1981.3062
A18: =universe_median!A18 -> Southwest | B18: =LEFT(universe_median!B18,FIND(")",universe_median!B18)) -> Small (5-19) | C18: =universe_median!C18 -> 15059.603 | D18: =universe_median!D18 -> 2395.5518 | E18: =universe_median!E18 -> 2752.561 | F18: =universe_median!F18 -> 1245.8508 | G18: =universe_median!G18 -> 2101.1426 | H18: =universe_median!H18 -> 2060.4727 | I18: =universe_median!I18 -> 6257.8389 | J18: =universe_median!J18 -> 1676.3848 | ... P18: =universe_median!P18 -> 200074.38 | Q18: =SUM(C18:P21) -> 709205.67
A19: =universe_median!A19 -> Southwest | B19: =LEFT(universe_median!B19,FIND(")",universe_median!B19)) -> Medium (20-99) | C19: =universe_median!C19 -> 5833.4883 | D19: =universe_median!D19 -> 1064.399 | E19: =universe_median!E19 -> 1555.1261 | F19: =universe_median!F19 -> 956.56036 | G19: =universe_median!G19 -> 1542.9926 | H19: =universe_median!H19 -> 1397.4744 | I19: =universe_median!I19 -> 2739.8972 | J19: =universe_median!J19 -> 1386.6804 | ... P19: =universe_median!P19 -> 28506.885
A20: =universe_median!A20 -> Southwest | B20: =LEFT(universe_median!B20,FIND(")",universe_median!B20)) -> Large (100-269) | C20: =universe_median!C20 -> 1228.2406 | D20: =universe_median!D20 -> 168.08984 | E20: =universe_median!E20 -> 432.60889 | F20: =universe_median!F20 -> 389.13977 | G20: =universe_median!G20 -> 550.00409 | H20: =universe_median!H20 -> 296.59222 | I20: =universe_median!I20 -> 554.46375 | J20: =universe_median!J20 -> 464.20105 | ... P20: =universe_median!P20 -> 2678.1887
A21: =universe_median!A21 -> Southwest | B21: =LEFT(universe_median!B21,FIND(")",universe_median!B21)) -> Extra Large (270 or more) | C21: =universe_median!C21 -> 503.58875 | D21: =universe_median!D21 -> 56.730946 | E21: =universe_median!E21 -> 241.28542 | F21: =universe_median!F21 -> 217.26244 | G21: =universe_median!G21 -> 414.2294 | H21: =universe_median!H21 -> 165.94926 | I21: =universe_median!I21 -> 244.10164 | J21: =universe_median!J21 -> 280.19498 | ... P21: =universe_median!P21 -> 920.34717
A22: =universe_median!A22 -> Northwest | B22: =LEFT(universe_median!B22,FIND(")",universe_median!B22)) -> Small (5-19) | C22: =universe_median!C22 -> 2289.6868 | D22: =universe_median!D22 -> 329.30353 | E22: =universe_median!E22 -> 777.32147 | F22: =universe_median!F22 -> 389.97415 | G22: =universe_median!G22 -> 674.12469 | H22: =universe_median!H22 -> 1293.3821 | I22: =universe_median!I22 -> 1371.1461 | J22: =universe_median!J22 -> 1067.4167 | ... P22: =universe_median!P22 -> 32844.457 | Q22: =SUM(C22:P25) -> 136668.69
A23: =universe_median!A23 -> Northwest | B23: =LEFT(universe_median!B23,FIND(")",universe_median!B23)) -> Medium (20-99) | C23: =universe_median!C23 -> 1000.372 | D23: =universe_median!D23 -> 186.53278 | E23: =universe_median!E23 -> 389.18607 | F23: =universe_median!F23 -> 200.77344 | G23: =universe_median!G23 -> 208.97067 | H23: =universe_median!H23 -> 276.87549 | I23: =universe_median!I23 -> 416.29437 | J23: =universe_median!J23 -> 240.96999 | ... P23: =universe_median!P23 -> 4974.4712
A24: =universe_median!A24 -> Northwest | B24: =LEFT(universe_median!B24,FIND(")",universe_median!B24)) -> Large (100-269) | C24: =universe_median!C24 -> 198.84193 | D24: =universe_median!D24 -> 66.929413 | E24: =universe_median!E24 -> 113.20894 | F24: =universe_median!F24 -> 86.940422 | G24: =universe_median!G24 -> 57.295387 | H24: =universe_median!H24 -> 47.017281 | I24: =universe_median!I24 -> 70.042252 | J24: =universe_median!J24 -> 25.402477 | ... P24: =universe_median!P24 -> 481.28729
A25: =universe_median!A25 -> Northwest | B25: =LEFT(universe_median!B25,FIND(")",universe_median!B25)) -> Extra Large (270 or more) | C25: =universe_median!C25 -> 60.126015 | D25: =universe_median!D25 -> 32.260094 | E25: =universe_median!E25 -> 78.54348 | F25: =universe_median!F25 -> 78.013435 | G25: =universe_median!G25 -> 39.097488 | H25: =universe_median!H25 -> 27.281506 | I25: =universe_median!I25 -> 34.657581 | J25: =universe_median!J25 -> 16.756451 | ... P25: =universe_median!P25 -> 177.68243
C26: =SUM(C2:C25) -> 94733.659 | D26: =SUM(D2:D25) -> 61289.704 | E26: =SUM(E2:E25) -> 41197.315 | F26: =SUM(F2:F25) -> 19807.198 | G26: =SUM(G2:G25) -> 54730.234 | H26: =SUM(H2:H25) -> 63892.332 | I26: =SUM(I2:I25) -> 122593.72 | J26: =SUM(J2:J25) -> 27533.264 | ... Q26: =SUM(Q2:Q25) -> 4162493.9

Sheet Table 10 Strict Universe Est
C1: =RIGHT(SUBSTITUTE(universe_strict!C1,"_"," "),LEN(SUBSTITUTE(universe_strict!C1,"_"," "))-1) -> Food | D1: =RIGHT(SUBSTITUTE(universe_strict!D1,"_"," "),LEN(SUBSTITUTE(universe_strict!D1,"_"," "))-1) -> Wearing apparel | E1: =RIGHT(SUBSTITUTE(universe_strict!E1,"_"," "),LEN(SUBSTITUTE(universe_strict!E1,"_"," "))-1) -> Chemicals and chemical products | F1: =RIGHT(SUBSTITUTE(universe_strict!F1,"_"," "),LEN(SUBSTITUTE(universe_strict!F1,"_"," "))-1) -> Basic metals | G1: =RIGHT(SUBSTITUTE(universe_strict!G1,"_"," "),LEN(SUBSTITUTE(universe_strict!G1,"_"," "))-1) -> Computer electronics and opt | H1: =RIGHT(SUBSTITUTE(universe_strict!H1,"_"," "),LEN(SUBSTITUTE(universe_strict!H1,"_"," "))-1) -> Electrical equipment | I1: =RIGHT(SUBSTITUTE(universe_strict!I1,"_"," "),LEN(SUBSTITUTE(universe_strict!I1,"_"," "))-1) -> Machinery and equipment | J1: =RIGHT(SUBSTITUTE(universe_strict!J1,"_"," "),LEN(SUBSTITUTE(universe_strict!J1,"_"," "))-1) -> Motor vehicles trailers | ... P1: =RIGHT(SUBSTITUTE(universe_strict!P1,"_"," "),LEN(SUBSTITUTE(universe_strict!P1,"_"," "))-1) -> Other services | Q1: =RIGHT(SUBSTITUTE(universe_strict!T1,"_"," "),LEN(SUBSTITUTE(universe_strict!T1,"_"," "))-1) -> #VALUE!
A2: =universe_strict!A2 -> North | B2: =LEFT(universe_strict!B2,FIND(")",universe_strict!B2)) -> Small (5-19) | C2: =universe_strict!C2 -> 1038.8473 | D2: =universe_strict!D2 -> 494.32489 | E2: =universe_strict!E2 -> 738.9646 | F2: =universe_strict!F2 -> 249.79646 | G2: =universe_strict!G2 -> 435.51596 | H2: =universe_strict!H2 -> 1111.5243 | I2: =universe_strict!I2 -> 2531.2935 | J2: =universe_strict!J2 -> 833.51196 | ... P2: =universe_strict!P2 -> 13986.641 | Q2: =SUM(C2:P5) -> 78810.987
A3: =universe_strict!A3 -> North | B3: =LEFT(universe_strict!B3,FIND(")",universe_strict!B3)) -> Medium (20-99) | C3: =universe_strict!C3 -> 649.15686 | D3: =universe_strict!D3 -> 376.21768 | E3: =universe_strict!E3 -> 544.08655 | F3: =universe_strict!F3 -> 246.21027 | G3: =universe_strict!G3 -> 353.27368 | H3: =universe_strict!H3 -> 648.52136 | I3: =universe_strict!I3 -> 1116.1093 | J3: =universe_strict!J3 -> 331.37323 | ... P3: =universe_strict!P3 -> 3866.54
A4: =universe_strict!A4 -> North | B4: =LEFT(universe_strict!B4,FIND(")",universe_strict!B4)) -> Large (100-269) | C4: =universe_strict!C4 -> 117.74507 | D4: =universe_strict!D4 -> 47.559273 | E4: =universe_strict!E4 -> 117.93678 | F4: =universe_strict!F4 -> 67.880585 | G4: =universe_strict!G4 -> 93.301529 | H4: =universe_strict!H4 -> 96.936264 | I4: =universe_strict!I4 -> 152.51712 | J4: =universe_strict!J4 -> 94.371323 | ... P4: =universe_strict!P4 -> 406.82062
A5: =universe_strict!A5 -> North | B5: =LEFT(universe_strict!B5,FIND(")",universe_strict!B5)) -> Extra Large (270 or more) | C5: =universe_strict!C5 -> 73.990089 | D5: =universe_strict!D5 -> 13.270429 | E5: =universe_strict!E5 -> 73.986977 | F5: =universe_strict!F5 -> 70.898064 | G5: =universe_strict!G5 -> 62.274628 | H5: =universe_strict!H5 -> 51.292316 | I5: =universe_strict!I5 -> 62.433296 | J5: =universe_strict!J5 -> 64.658005 | ... P5: =universe_strict!P5 -> 189.3398
A6: =universe_strict!A6 -> Northeastern | B6: =LEFT(universe_strict!B6,FIND(")",universe_strict!B6)) -> Small (5-19) | C6: =universe_strict!C6 -> 1222.4717 | D6: =universe_strict!D6 -> 336.74811 | E6: =universe_strict!E6 -> 456.77673 | F6: =universe_strict!F6 -> 103.83211 | G6: =universe_strict!G6 -> 485.69583 | H6: =universe_strict!H6 -> 1237.7948 | I6: =universe_strict!I6 -> 976.56549 | J6: =universe_strict!J6 -> 942.24048 | ... P6: =universe_strict!P6 -> 6018.3213 | Q6: =SUM(C6:P9) -> 39940.892
A7: =universe_strict!A7 -> Northeastern | B7: =LEFT(universe_strict!B7,FIND(")",universe_strict!B7)) -> Medium (20-99) | C7: =universe_strict!C7 -> 785.22552 | D7: =universe_strict!D7 -> 298.24649 | E7: =universe_strict!E7 -> 360.02805 | F7: =universe_strict!F7 -> 100.4184 | G7: =universe_strict!G7 -> 319.64005 | H7: =universe_strict!H7 -> 457.29785 | I7: =universe_strict!I7 -> 667.31299 | J7: =universe_strict!J7 -> 398.56009 | ... P7: =universe_strict!P7 -> 1576.8696
A8: =universe_strict!A8 -> Northeastern | B8: =LEFT(universe_strict!B8,FIND(")",universe_strict!B8)) -> Large (100-269) | C8: =universe_strict!C8 -> 164.41519 | D8: =universe_strict!D8 -> 51.690147 | E8: =universe_strict!E8 -> 88.152077 | F8: =universe_strict!F8 -> 34.000263 | G8: =universe_strict!G8 -> 45.305794 | H8: =universe_strict!H8 -> 62.281704 | I8: =universe_strict!I8 -> 121.52983 | J8: =universe_strict!J8 -> 113.27716 | ... P8: =universe_strict!P8 -> 141.9285
A9: =universe_strict!A9 -> Northeastern | B9: =LEFT(universe_strict!B9,FIND(")",universe_strict!B9)) -> Extra Large (270 or more) | C9: =universe_strict!C9 -> 92.024475 | D9: =universe_strict!D9 -> 27.147409 | E9: =universe_strict!E9 -> 38.156895 | F9: =universe_strict!F9 -> 31.461929 | G9: =universe_strict!G9 -> 43.25185 | H9: =universe_strict!H9 -> 41.894634 | I9: =universe_strict!I9 -> 56.418392 | J9: =universe_strict!J9 -> 79.451881 | ... P9: =universe_strict!P9 -> 69.131668
A10: =universe_strict!A10 -> East | B10: =LEFT(universe_strict!B10,FIND(")",universe_strict!B10)) -> Small (5-19) | C10: =universe_strict!C10 -> 6915.4175 | D10: =universe_strict!D10 -> 8166.0532 | E10: =universe_strict!E10 -> 4666.9902 | F10: =universe_strict!F10 -> 1748.5227 | G10: =universe_strict!G10 -> 7392.9155 | H10: =universe_strict!H10 -> 13515.705 | I10: =universe_strict!I10 -> 23719.332 | J10: =universe_strict!J10 -> 4837.2144 | ... P10: =universe_strict!P10 -> 108791.93 | Q10: =SUM(C10:P13) -> 603225.6
A11: =universe_strict!A11 -> East | B11: =LEFT(universe_strict!B11,FIND(")",universe_strict!B11)) -> Medium (20-99) | C11: =universe_strict!C11 -> 5252.0127 | D11: =universe_strict!D11 -> 7221.3169 | E11: =universe_strict!E11 -> 5010.147 | F11: =universe_strict!F11 -> 1900.2559 | G11: =universe_strict!G11 -> 5987.4673 | H11: =universe_strict!H11 -> 9984.9033 | I11: =universe_strict!I11 -> 14686.078 | J11: =universe_strict!J11 -> 4662.3105 | ... P11: =universe_strict!P11 -> 24992.754
A12: =universe_strict!A12 -> East | B12: =LEFT(universe_strict!B12,FIND(")",universe_strict!B12)) -> Large (100-269) | C12: =universe_strict!C12 -> 1125.7585 | D12: =universe_strict!D12 -> 1158.0476 | E12: =universe_strict!E12 -> 1258.3499 | F12: =universe_strict!F12 -> 398.30603 | G12: =universe_strict!G12 -> 1704.5128 | H12: =universe_strict!H12 -> 2072.4294 | I12: =universe_strict!I12 -> 2257.1641 | J12: =universe_strict!J12 -> 1219.5674 | ... P12: =universe_strict!P12 -> 2086.9556
A13: =universe_strict!A13 -> East | B13: =LEFT(universe_strict!B13,FIND(")",universe_strict!B13)) -> Extra Large (270 or more) | C13: =universe_strict!C13 -> 519.73529 | D13: =universe_strict!D13 -> 400.06854 | E13: =universe_strict!E13 -> 626.96112 | F13: =universe_strict!F13 -> 240.2262 | G13: =universe_strict!G13 -> 1261.2527 | H13: =universe_strict!H13 -> 1162.485 | I13: =universe_strict!I13 -> 882.47687 | J13: =universe_strict!J13 -> 748.44843 | ... P13: =universe_strict!P13 -> 893.60364
A14: =universe_strict!A14 -> Central | B14: =LEFT(universe_strict!B14,FIND(")",universe_strict!B14)) -> Small (5-19) | C14: =universe_strict!C14 -> 2734.8242 | D14: =universe_strict!D14 -> 1929.9242 | E14: =universe_strict!E14 -> 1745.3982 | F14: =universe_strict!F14 -> 494.03412 | G14: =universe_strict!G14 -> 3386.4966 | H14: =universe_strict!H14 -> 4888.897 | I14: =universe_strict!I14 -> 4431.0049 | J14: =universe_strict!J14 -> 901.06244 | ... P14: =universe_strict!P14 -> 36479.426 | Q14: =SUM(C14:P17) -> 198137.75
A15: =universe_strict!A15 -> Central | B15: =LEFT(universe_strict!B15,FIND(")",universe_strict!B15)) -> Medium (20-99) | C15: =universe_strict!C15 -> 2281.7483 | D15: =universe_strict!D15 -> 1753.1581 | E15: =universe_strict!E15 -> 1796.0992 | F15: =universe_strict!F15 -> 586.224 | G15: =universe_strict!G15 -> 3246.8833 | H15: =universe_strict!H15 -> 3823.7097 | I15: =universe_strict!I15 -> 3197.8989 | J15: =universe_strict!J15 -> 937.22351 | ... P15: =universe_strict!P15 -> 9237.4824
A16: =universe_strict!A16 -> Central | B16: =LEFT(universe_strict!B16,FIND(")",universe_strict!B16)) -> Large (100-269) | C16: =universe_strict!C16 -> 471.57037 | D16: =universe_strict!D16 -> 311.53439 | E16: =universe_strict!E16 -> 410.52863 | F16: =universe_strict!F16 -> 134.61859 | G16: =universe_strict!G16 -> 826.29041 | H16: =universe_strict!H16 -> 862.73859 | I16: =universe_strict!I16 -> 523.65955 | J16: =universe_strict!J16 -> 279.87552 | ... P16: =universe_strict!P16 -> 760.63617
A17: =universe_strict!A17 -> Central | B17: =LEFT(universe_strict!B17,FIND(")",universe_strict!B17)) -> Extra Large (270 or more) | C17: =universe_strict!C17 -> 242.84036 | D17: =universe_strict!D17 -> 134.87048 | E17: =universe_strict!E17 -> 182.81842 | F17: =universe_strict!F17 -> 100.11858 | G17: =universe_strict!G17 -> 608.55676 | H17: =universe_strict!H17 -> 497.89297 | I17: =universe_strict!I17 -> 234.84679 | J17: =universe_strict!J17 -> 196.18567 | ... P17: =universe_strict!P17 -> 306.68152
A18: =universe_strict!A18 -> Southwest | B18: =LEFT(universe_strict!B18,FIND(")",universe_strict!B18)) -> Small (5-19) | C18: =universe_strict!C18 -> 1299.6862 | D18: =universe_strict!D18 -> 182.24469 | E18: =universe_strict!E18 -> 327.6843 | F18: =universe_strict!F18 -> 108.88188 | G18: =universe_strict!G18 -> 264.97681 | H18: =universe_strict!H18 -> 327.30841 | I18: =universe_strict!I18 -> 634.34479 | J18: =universe_strict!J18 -> 253.30559 | ... P18: =universe_strict!P18 -> 11428.918 | Q18: =SUM(C18:P21) -> 54462.008
A19: =universe_strict!A19 -> Southwest | B19: =LEFT(universe_strict!B19,FIND(")",universe_strict!B19)) -> Medium (20-99) | C19: =universe_strict!C19 -> 910.38092 | D19: =universe_strict!D19 -> 146.42787 | E19: =universe_strict!E19 -> 334.77585 | F19: =universe_strict!F19 -> 151.17216 | G19: =universe_strict!G19 -> 351.87305 | H19: =universe_strict!H19 -> 401.42462 | I19: =universe_strict!I19 -> 502.23294 | J19: =universe_strict!J19 -> 378.89365 | ... P19: =universe_strict!P19 -> 2944.6472
A20: =universe_strict!A20 -> Southwest | B20: =LEFT(universe_strict!B20,FIND(")",universe_strict!B20)) -> Large (100-269) | C20: =universe_strict!C20 -> 172.60088 | D20: =universe_strict!D20 -> 20.822142 | E20: =universe_strict!E20 -> 83.858803 | F20: =universe_strict!F20 -> 55.377052 | G20: =universe_strict!G20 -> 112.94131 | H20: =universe_strict!H20 -> 76.715767 | I20: =universe_strict!I20 -> 91.518471 | J20: =universe_strict!J20 -> 114.21201 | ... P20: =universe_strict!P20 -> 249.10901
A21: =universe_strict!A21 -> Southwest | B21: =LEFT(universe_strict!B21,FIND(")",universe_strict!B21)) -> Extra Large (270 or more) | C21: =universe_strict!C21 -> 77.808846 | D21: =universe_strict!D21 -> 7.7267594 | E21: =universe_strict!E21 -> 51.4254 | F21: =universe_strict!F21 -> 33.993996 | G21: =universe_strict!G21 -> 93.523598 | H21: =universe_strict!H21 -> 47.194744 | I21: =universe_strict!I21 -> 44.299583 | J21: =universe_strict!J21 -> 75.798286 | ... P21: =universe_strict!P21 -> 94.122475
A22: =universe_strict!A22 -> Northwest | B22: =LEFT(universe_strict!B22,FIND(")",universe_strict!B22)) -> Small (5-19) | C22: =universe_strict!C22 -> 1496.1055 | D22: =universe_strict!D22 -> 189.6736 | E22: =universe_strict!E22 -> 700.61664 | F22: =universe_strict!F22 -> 258.03973 | G22: =universe_strict!G22 -> 643.65582 | H22: =universe_strict!H22 -> 1555.5295 | I22: =universe_strict!I22 -> 1052.3153 | J22: =universe_strict!J22 -> 1221.1422 | ... P22: =universe_strict!P22 -> 14204.858 | Q22: =SUM(C22:P25) -> 81828.756
A23: =universe_strict!A23 -> Northwest | B23: =LEFT(universe_strict!B23,FIND(")",universe_strict!B23)) -> Medium (20-99) | C23: =universe_strict!C23 -> 1182.0001 | D23: =universe_strict!D23 -> 194.28333 | E23: =universe_strict!E23 -> 634.31787 | F23: =universe_strict!F23 -> 240.22977 | G23: =universe_strict!G23 -> 360.80179 | H23: =universe_strict!H23 -> 602.15149 | I23: =universe_strict!I23 -> 577.74017 | J23: =universe_strict!J23 -> 498.49988 | ... P23: =universe_strict!P23 -> 3890.3762
A24: =universe_strict!A24 -> Northwest | B24: =LEFT(universe_strict!B24,FIND(")",universe_strict!B24)) -> Large (100-269) | C24: =universe_strict!C24 -> 211.55763 | D24: =universe_strict!D24 -> 62.771442 | E24: =universe_strict!E24 -> 166.14801 | F24: =universe_strict!F24 -> 93.671417 | G24: =universe_strict!G24 -> 89.077438 | H24: =universe_strict!H24 -> 92.075394 | I24: =universe_strict!I24 -> 87.529984 | J24: =universe_strict!J24 -> 47.319794 | ... P24: =universe_strict!P24 -> 338.93298
A25: =universe_strict!A25 -> Northwest | B25: =LEFT(universe_strict!B25,FIND(")",universe_strict!B25)) -> Extra Large (270 or more) | C25: =universe_strict!C25 -> 70.335815 | D25: =universe_strict!D25 -> 33.26627 | E25: =universe_strict!E25 -> 126.74123 | F25: =universe_strict!F25 -> 92.416206 | G25: =universe_strict!G25 -> 66.832909 | H25: =universe_strict!H25 -> 58.741875 | I25: =universe_strict!I25 -> 47.619892 | J25: =universe_strict!J25 -> 34.319599 | ... P25: =universe_strict!P25 -> 137.57747
C26: =SUM(C2:C25) -> 29108.259 | D26: =SUM(D2:D25) -> 23557.394 | E26: =SUM(E2:E25) -> 20540.949 | F26: =SUM(F2:F25) -> 7540.5864 | G26: =SUM(G2:G25) -> 28236.317 | H26: =SUM(H2:H25) -> 43677.446 | I26: =SUM(I2:I25) -> 58654.242 | J26: =SUM(J2:J25) -> 19262.823 | ... Q26: =SUM(Q2:Q25) -> 1056406

Sheet Table 11 Item Response Rates
C2: Screener/Interview | D2: d2 | E2: l1 | F2: n2a | G2: all TFP variables
B3: Panel | C3: Fresh | D3: =VLOOKUP($C3,'item response'!$C:$G,2,FALSE) -> 0.90060854 | E3: =VLOOKUP($C3,'item response'!$C:$G,3,FALSE) -> 0.99594319 | F3: =VLOOKUP($C3,'item response'!$C:$G,4,FALSE) -> 0.84736305 | G3: =IF(VLOOKUP($C3,'item response'!$C:$G,5,FALSE)="",NA(),VLOOKUP($C3,'item response'!$C:$G,5,FALSE)) -> 0.53308481
C4: Panel | D4: =VLOOKUP($C4,'item response'!$C:$G,2,FALSE) -> 0.87096775 | E4: =VLOOKUP($C4,'item response'!$C:$G,3,FALSE) -> 0.99078339 | F4: =VLOOKUP($C4,'item response'!$C:$G,4,FALSE) -> 0.84331799 | G4: =IF(VLOOKUP($C4,'item response'!$C:$G,5,FALSE)="",NA(),VLOOKUP($C4,'item response'!$C:$G,5,FALSE)) -> 0.60526317
B5: Size | C5: Small (5-19) | D5: =VLOOKUP($C5,'item response'!$C:$G,2,FALSE) -> 0.89695549 | E5: =VLOOKUP($C5,'item response'!$C:$G,3,FALSE) -> 1 | F5: =VLOOKUP($C5,'item response'!$C:$G,4,FALSE) -> 0.88758785 | G5: =IF(VLOOKUP($C5,'item response'!$C:$G,5,FALSE)="",NA(),VLOOKUP($C5,'item response'!$C:$G,5,FALSE)) -> 0.55271566
C6: Medium (20-99) | D6: =VLOOKUP($C6,'item response'!$C:$G,2,FALSE) -> 0.89970499 | E6: =VLOOKUP($C6,'item response'!$C:$G,3,FALSE) -> 0.99410027 | F6: =VLOOKUP($C6,'item response'!$C:$G,4,FALSE) -> 0.84660769 | G6: =IF(VLOOKUP($C6,'item response'!$C:$G,5,FALSE)="",NA(),VLOOKUP($C6,'item response'!$C:$G,5,FALSE)) -> 0.60328639
C7: Large (100+) | D7: =VLOOKUP($C7,'item response'!$C:$G,2,FALSE) -> 0.89649922 | E7: =VLOOKUP($C7,'item response'!$C:$G,3,FALSE) -> 0.99086756 | F7: =VLOOKUP($C7,'item response'!$C:$G,4,FALSE) -> 0.79452056 | G7: =IF(VLOOKUP($C7,'item response'!$C:$G,5,FALSE)="",NA(),VLOOKUP($C7,'item response'!$C:$G,5,FALSE)) -> 0.47098213
B8: Region | C8: North | D8: =VLOOKUP($C8,'item response'!$C:$G,2,FALSE) -> 0.8862974 | E8: =VLOOKUP($C8,'item response'!$C:$G,3,FALSE) -> 0.99125367 | F8: =VLOOKUP($C8,'item response'!$C:$G,4,FALSE) -> 0.83965015 | G8: =IF(VLOOKUP($C8,'item response'!$C:$G,5,FALSE)="",NA(),VLOOKUP($C8,'item response'!$C:$G,5,FALSE)) -> 0.45454547
C9: Northeastern | D9: =VLOOKUP($C9,'item response'!$C:$G,2,FALSE) -> 1 | E9: =VLOOKUP($C9,'item response'!$C:$G,3,FALSE) -> 1 | F9: =VLOOKUP($C9,'item response'!$C:$G,4,FALSE) -> 0.85357141 | G9: =IF(VLOOKUP($C9,'item response'!$C:$G,5,FALSE)="",NA(),VLOOKUP($C9,'item response'!$C:$G,5,FALSE)) -> 0.54444444
C10: East | D10: =VLOOKUP($C10,'item response'!$C:$G,2,FALSE) -> 0.91785717 | E10: =VLOOKUP($C10,'item response'!$C:$G,3,FALSE) -> 1 | F10: =VLOOKUP($C10,'item response'!$C:$G,4,FALSE) -> 0.8767857 | G10: =IF(VLOOKUP($C10,'item response'!$C:$G,5,FALSE)="",NA(),VLOOKUP($C10,'item response'!$C:$G,5,FALSE)) -> 0.5477941
C11: Central | D11: =VLOOKUP($C11,'item response'!$C:$G,2,FALSE) -> 0.92087913 | E11: =VLOOKUP($C11,'item response'!$C:$G,3,FALSE) -> 0.99120879 | F11: =VLOOKUP($C11,'item response'!$C:$G,4,FALSE) -> 0.90109891 | G11: =IF(VLOOKUP($C11,'item response'!$C:$G,5,FALSE)="",NA(),VLOOKUP($C11,'item response'!$C:$G,5,FALSE)) -> 0.64135021
C12: Southwest | D12: =VLOOKUP($C12,'item response'!$C:$G,2,FALSE) -> 0.79166669 | E12: =VLOOKUP($C12,'item response'!$C:$G,3,FALSE) -> 0.99242425 | F12: =VLOOKUP($C12,'item response'!$C:$G,4,FALSE) -> 0.75378788 | G12: =IF(VLOOKUP($C12,'item response'!$C:$G,5,FALSE)="",NA(),VLOOKUP($C12,'item response'!$C:$G,5,FALSE)) -> 0.44525549
C13: Northwest | D13: =VLOOKUP($C13,'item response'!$C:$G,2,FALSE) -> 0.83275259 | E13: =VLOOKUP($C13,'item response'!$C:$G,3,FALSE) -> 0.99651569 | F13: =VLOOKUP($C13,'item response'!$C:$G,4,FALSE) -> 0.79094076 | G13: =IF(VLOOKUP($C13,'item response'!$C:$G,5,FALSE)="",NA(),VLOOKUP($C13,'item response'!$C:$G,5,FALSE)) -> 0.54594594
B14: Sector | C14: Food | D14: =VLOOKUP($C14,'item response'!$C:$G,2,FALSE) -> 0.97142857 | E14: =VLOOKUP($C14,'item response'!$C:$G,3,FALSE) -> 1 | F14: =VLOOKUP($C14,'item response'!$C:$G,4,FALSE) -> 0.86666667 | G14: =IF(VLOOKUP($C14,'item response'!$C:$G,5,FALSE)="",NA(),VLOOKUP($C14,'item response'!$C:$G,5,FALSE)) -> 0.53333336
C15: Garments | D15: =VLOOKUP($C15,'item response'!$C:$G,2,FALSE) -> 0.90983605 | E15: =VLOOKUP($C15,'item response'!$C:$G,3,FALSE) -> 0.99180329 | F15: =VLOOKUP($C15,'item response'!$C:$G,4,FALSE) -> 0.87704921 | G15: =IF(VLOOKUP($C15,'item response'!$C:$G,5,FALSE)="",NA(),VLOOKUP($C15,'item response'!$C:$G,5,FALSE)) -> 0.58196723
C16: Chemicals & Chemical Products | D16: =VLOOKUP($C16,'item response'!$C:$G,2,FALSE) -> 0.87179488 | E16: =VLOOKUP($C16,'item response'!$C:$G,3,FALSE) -> 1 | F16: =VLOOKUP($C16,'item response'!$C:$G,4,FALSE) -> 0.88034189 | G16: =IF(VLOOKUP($C16,'item response'!$C:$G,5,FALSE)="",NA(),VLOOKUP($C16,'item response'!$C:$G,5,FALSE)) -> 0.58119661
C17: Basic Metals | D17: =VLOOKUP($C17,'item response'!$C:$G,2,FALSE) -> 0.92307693 | E17: =VLOOKUP($C17,'item response'!$C:$G,3,FALSE) -> 0.98717946 | F17: =VLOOKUP($C17,'item response'!$C:$G,4,FALSE) -> 0.92307693 | G17: =IF(VLOOKUP($C17,'item response'!$C:$G,5,FALSE)="",NA(),VLOOKUP($C17,'item response'!$C:$G,5,FALSE)) -> 0.66666669
C18: Electrical & Computer Products | D18: =VLOOKUP($C18,'item response'!$C:$G,2,FALSE) -> 0.89215684 | E18: =VLOOKUP($C18,'item response'!$C:$G,3,FALSE) -> 0.98039216 | F18: =VLOOKUP($C18,'item response'!$C:$G,4,FALSE) -> 0.7647059 | G18: =IF(VLOOKUP($C18,'item response'!$C:$G,5,FALSE)="",NA(),VLOOKUP($C18,'item response'!$C:$G,5,FALSE)) -> 0.4509804
C19: Electronics | D19: =VLOOKUP($C19,'item response'!$C:$G,2,FALSE) -> 0.9147287 | E19: =VLOOKUP($C19,'item response'!$C:$G,3,FALSE) -> 1 | F19: =VLOOKUP($C19,'item response'!$C:$G,4,FALSE) -> 0.79844964 | G19: =IF(VLOOKUP($C19,'item response'!$C:$G,5,FALSE)="",NA(),VLOOKUP($C19,'item response'!$C:$G,5,FALSE)) -> 0.51937985
C20: Machinery & Equipment | D20: =VLOOKUP($C20,'item response'!$C:$G,2,FALSE) -> 0.90845072 | E20: =VLOOKUP($C20,'item response'!$C:$G,3,FALSE) -> 1 | F20: =VLOOKUP($C20,'item response'!$C:$G,4,FALSE) -> 0.80985916 | G20: =IF(VLOOKUP($C20,'item response'!$C:$G,5,FALSE)="",NA(),VLOOKUP($C20,'item response'!$C:$G,5,FALSE)) -> 0.52112675
C21: Motor Vehicles | D21: =VLOOKUP($C21,'item response'!$C:$G,2,FALSE) -> 0.94166666 | E21: =VLOOKUP($C21,'item response'!$C:$G,3,FALSE) -> 1 | F21: =VLOOKUP($C21,'item response'!$C:$G,4,FALSE) -> 0.77499998 | G21: =IF(VLOOKUP($C21,'item response'!$C:$G,5,FALSE)="",NA(),VLOOKUP($C21,'item response'!$C:$G,5,FALSE)) -> 0.52499998
C22: Other Manufacturing | D22: =VLOOKUP($C22,'item response'!$C:$G,2,FALSE) -> 0.88602942 | E22: =VLOOKUP($C22,'item response'!$C:$G,3,FALSE) -> 0.99632353 | F22: =VLOOKUP($C22,'item response'!$C:$G,4,FALSE) -> 0.84926468 | G22: =IF(VLOOKUP($C22,'item response'!$C:$G,5,FALSE)="",NA(),VLOOKUP($C22,'item response'!$C:$G,5,FALSE)) -> 0.52941179
C23: Retail | D23: =VLOOKUP($C23,'item response'!$C:$G,2,FALSE) -> 0.87368423 | E23: =VLOOKUP($C23,'item response'!$C:$G,3,FALSE) -> 1 | F23: =VLOOKUP($C23,'item response'!$C:$G,4,FALSE) -> 0.84736842 | G23: =IF(VLOOKUP($C23,'item response'!$C:$G,5,FALSE)="",NA(),VLOOKUP($C23,'item response'!$C:$G,5,FALSE)) -> #N/A
C24: Hotels | D24: =VLOOKUP($C24,'item response'!$C:$G,2,FALSE) -> 0.89705884 | E24: =VLOOKUP($C24,'item response'!$C:$G,3,FALSE) -> 0.99264705 | F24: =VLOOKUP($C24,'item response'!$C:$G,4,FALSE) -> 0.85294116 | G24: =IF(VLOOKUP($C24,'item response'!$C:$G,5,FALSE)="",NA(),VLOOKUP($C24,'item response'!$C:$G,5,FALSE)) -> #N/A
C25: Construction | D25: =VLOOKUP($C25,'item response'!$C:$G,2,FALSE) -> 0.89570552 | E25: =VLOOKUP($C25,'item response'!$C:$G,3,FALSE) -> 1 | F25: =VLOOKUP($C25,'item response'!$C:$G,4,FALSE) -> 0.85276073 | G25: =IF(VLOOKUP($C25,'item response'!$C:$G,5,FALSE)="",NA(),VLOOKUP($C25,'item response'!$C:$G,5,FALSE)) -> #N/A
C26: Professional Activities | D26: =VLOOKUP($C26,'item response'!$C:$G,2,FALSE) -> 0.89932889 | E26: =VLOOKUP($C26,'item response'!$C:$G,3,FALSE) -> 0.97986579 | F26: =VLOOKUP($C26,'item response'!$C:$G,4,FALSE) -> 0.8389262 | G26: =IF(VLOOKUP($C26,'item response'!$C:$G,5,FALSE)="",NA(),VLOOKUP($C26,'item response'!$C:$G,5,FALSE)) -> #N/A
C27: Other Services | D27: =VLOOKUP($C27,'item response'!$C:$G,2,FALSE) -> 0.87362635 | E27: =VLOOKUP($C27,'item response'!$C:$G,3,FALSE) -> 0.99725276 | F27: =VLOOKUP($C27,'item response'!$C:$G,4,FALSE) -> 0.87912089 | G27: =IF(VLOOKUP($C27,'item response'!$C:$G,5,FALSE)="",NA(),VLOOKUP($C27,'item response'!$C:$G,5,FALSE)) -> #N/A
B28: Overall | C28: China 2024 | D28: =VLOOKUP($C28,'item response'!$C:$G,2,FALSE) -> 0.89767015 | E28: =VLOOKUP($C28,'item response'!$C:$G,3,FALSE) -> 0.99543172 | F28: =VLOOKUP($C28,'item response'!$C:$G,4,FALSE) -> 0.84696209 | G28: =VLOOKUP($C28,'item response'!$C:$G,5,FALSE) -> 0.54001683
B29: Notes: the rates are calculated as follows. The number of responses with informative content in the respective variable (or combination of variables in the case of TFP) is divided by the same number plus the number of responses that are "don't know" (code -9) or refusal (code -8).

Sheet universe
A1: stratificationregionname | B1: stratificationsizename | C1: _Food | D1: _Wearing_apparel | E1: _Chemicals_and_chemical_products | F1: _Basic_metals | G1: _Computer_electronics_and_opt | H1: _Electrical_equipment | I1: _Machinery_and_equipment | J1: _Motor_vehicles_trailers | K1: _Other_manufacturing | L1: _Retail | M1: _Hotels | N1: _Construction | O1: _Professional_services | P1: _Other_services
A2: North | B2: Small (5-19) | C2: 13249 | D2: 6818 | E2: 6703 | F2: 2773 | G2: 3897 | H2: 8682 | I2: 27952 | J2: 4036 | K2: 114875 | L2: 116204 | M2: 7280 | N2: 114712 | O2: 156074 | P2: 278828
A3: North | B3: Medium (20-99) | C3: 4895 | D3: 3068 | E3: 2918 | F3: 1616 | G3: 1869 | H3: 2995 | I3: 7287 | J3: 1707 | K3: 33603 | L3: 11992 | M3: 2500 | N3: 23727 | O3: 39318 | P3: 45574
A4: North | B4: Large (100-269) | C4: 831 | D4: 363 | E4: 592 | F4: 417 | G4: 462 | H4: 419 | I4: 932 | J4: 455 | K4: 4008 | L4: 963 | M4: 395 | N4: 2463 | O4: 2315 | P4: 4488
A5: North | B5: Extra Large (270 or more) | C5: 464 | D5: 90 | E5: 330 | F5: 387 | G5: 274 | H5: 197 | I5: 339 | J5: 277 | K5: 1716 | L5: 544 | M5: 97 | N5: 1701 | O5: 880 | P5: 1856
A6: Northeastern | B6: Small (5-19) | C6: 10077 | D6: 3002 | E6: 2678 | F6: 639 | G6: 1141 | H6: 1903 | I6: 6970 | J6: 1135 | K6: 24876 | L6: 28373 | M6: 2128 | N6: 26932 | O6: 29779 | P6: 77546
A7: Northeastern | B7: Medium (20-99) | C7: 3827 | D7: 1572 | E7: 1248 | F7: 426 | G7: 501 | H7: 825 | I7: 2816 | J7: 923 | K7: 9771 | L7: 3049 | M7: 848 | N7: 8710 | O7: 3869 | P7: 12013
A8: Northeastern | B8: Large (100-269) | C8: 750 | D8: 255 | E8: 286 | F8: 135 | G8: 145 | H8: 174 | I8: 480 | J8: 353 | K8: 1699 | L8: 465 | M8: 128 | N8: 1040 | O8: 290 | P8: 1012
A9: Northeastern | B9: Extra Large (270 or more) | C9: 373 | D9: 119 | E9: 110 | F9: 111 | G9: 82 | H9: 84 | I9: 198 | J9: 220 | K9: 725 | L9: 212 | M9: 23 | N9: 495 | O9: 96 | P9: 438
A10: East | B10: Small (5-19) | C10: 46678 | D10: 59610 | E10: 22405 | F10: 10273 | G10: 35011 | H10: 55873 | I10: 138623 | J10: 22305 | K10: 519858 | L10: 469462 | M10: 22599 | N10: 426320 | O10: 463036 | P10: 1147842
A11: East | B11: Medium (20-99) | C11: 20960 | D11: 31167 | E11: 14221 | F11: 6601 | G11: 16765 | H11: 24405 | I11: 50747 | J11: 12711 | K11: 197471 | L11: 40637 | M11: 7671 | N11: 85785 | O11: 54203 | P11: 155909
A12: East | B12: Large (100-269) | C12: 4205 | D12: 4678 | E12: 3343 | F12: 1295 | G12: 4467 | H12: 4741 | I12: 7300 | J12: 3112 | K12: 27901 | L12: 2850 | M12: 1274 | N12: 13080 | O12: 4118 | P12: 12185
A13: East | B13: Extra Large (270 or more) | C13: 1725 | D13: 1436 | E13: 1480 | F13: 694 | G13: 2937 | H13: 2363 | I13: 2536 | J13: 1697 | K13: 9564 | L13: 1324 | M13: 272 | N13: 10685 | O13: 1539 | P13: 4636
... A25: Northwest | B25: Extra Large (270 or more) | C25: 174 | D25: 89 | E25: 223 | F25: 199 | G25: 116 | H25: 89 | I25: 102 | J25: 46 | K25: 627 | L25: 182 | M25: 36 | N25: 1004 | O25: 145 | P25: 532

Sheet frame fresh and panel
A1: stratificationregionname | B1: stratificationsizename | C1: _Food | D1: _Wearing_apparel | E1: _Chemicals_and_chemical_products | F1: _Basic_metals | G1: _Computer_electronics_and_opt | H1: _Electrical_equipment | I1: _Machinery_and_equipment | J1: _Motor_vehicles_trailers | K1: _Other_manufacturing | L1: _Retail | M1: _Hotels | N1: _Construction | O1: _Professional_services | P1: _Other_services
A2: North | B2: Small (5-19) | C2: 94 | D2: 93 | E2: 104 | F2: 105 | G2: 46 | H2: 59 | I2: 126 | J2: 103 | K2: 347 | L2: 316 | M2: 60 | N2: 298 | O2: 357 | P2: 630
A3: North | B3: Medium (20-99) | C3: 170 | D3: 124 | E3: 111 | F3: 168 | G3: 99 | H3: 153 | I3: 118 | J3: 149 | K3: 228 | L3: 61 | M3: 181 | N3: 109 | O3: 82 | P3: 148
A4: North | B4: Large (100-269) | C4: 59 | D4: 24 | E4: 48 | F4: 103 | G4: 69 | H4: 73 | I4: 105 | J4: 93 | K4: 59 | L4: 60 | M4: 117 | N4: 40 | O4: 62 | P4: 115
A5: North | B5: Extra Large (270 or more) | C5: 58 | D5: 65 | E5: 85 | F5: 107 | G5: 68 | H5: 20 | I5: 25 | J5: 41 | K5: 92 | L5: 40 | M5: 60 | N5: 86 | O5: 23 | P5: 106
A6: Northeastern | B6: Small (5-19) | C6: 24 | D6: 81 | E6: 42 | F6: 83 | G6: 38 | H6: 20 | I6: 90 | J6: 42 | K6: 90 | L6: 55 | M6: 21 | N6: 126 | O6: 59 | P6: 228
A7: Northeastern | B7: Medium (20-99) | C7: 76 | D7: 59 | E7: 44 | F7: 98 | G7: 34 | H7: 30 | I7: 26 | J7: 65 | K7: 41 | L7: 62 | M7: 76 | N7: 105 | O7: 41 | P7: 97
A8: Northeastern | B8: Large (100-269) | C8: 25 | D8: 22 | E8: 44 | F8: 44 | G8: 23 | H8: 20 | I8: 35 | J8: 29 | K8: 34 | L8: 20 | M8: 60 | N8: 83 | O8: 20 | P8: 57
A9: Northeastern | B9: Extra Large (270 or more) | C9: 21 | D9: 62 | E9: 20 | F9: 82 | G9: 21 | H9: 20 | I9: 65 | J9: 22 | K9: 62 | L9: 40 | M9: 21 | N9: 22 | O9: 20 | P9: 108
A10: East | B10: Small (5-19) | C10: 232 | D10: 303 | E10: 176 | F10: 116 | G10: 183 | H10: 278 | I10: 835 | J10: 193 | K10: 1017 | L10: 984 | M10: 125 | N10: 816 | O10: 882 | P10: 1956
A11: East | B11: Medium (20-99) | C11: 301 | D11: 432 | E11: 283 | F11: 208 | G11: 191 | H11: 229 | I11: 455 | J11: 339 | K11: 401 | L11: 129 | M11: 171 | N11: 219 | O11: 127 | P11: 247
A12: East | B12: Large (100-269) | C12: 143 | D12: 155 | E12: 140 | F12: 136 | G12: 107 | H12: 97 | I12: 105 | J12: 162 | K12: 118 | L12: 61 | M12: 103 | N12: 75 | O12: 21 | P12: 158
A13: East | B13: Extra Large (270 or more) | C13: 61 | D13: 71 | E13: 110 | F13: 90 | G13: 32 | H13: 20 | I13: 107 | J13: 73 | K13: 84 | L13: 20 | M13: 20 | N13: 91 | O13: 21 | P13: 101
... A25: Northwest | B25: Extra Large (270 or more) | C25: 20 | D25: 20 | E25: 20 | F25: 20 | G25: 20 | H25: 20 | I25: 20 | J25: 20 | K25: 20 | L25: 20 | M25: 20 | N25: 40 | O25: 20 | P25: 20

Sheet original survey design
A1: stratificationregionname | B1: stratificationsizename | C1: _Food | D1: _Wearing_apparel | E1: _Chemicals_and_chemical_products | F1: _Basic_metals | G1: _Computer_electronics_and_opt | H1: _Electrical_equipment | I1: _Machinery_and_equipment | J1: _Motor_vehicles_trailers | K1: _Other_manufacturing | L1: _Retail | M1: _Hotels | N1: _Construction | O1: _Professional_services | P1: _Other_services
A2: North | B2: Small (5-19) | C2: 6 | D2: 4 | E2: 5 | F2: 4 | G2: 3 | H2: 5 | I2: 8 | J2: 3 | K2: 22 | L2: 22 | M2: 6 | N2: 22 | O2: 28 | P2: 31
A3: North | B3: Medium (20-99) | C3: 6 | D3: 4 | E3: 4 | F3: 5 | G3: 3 | H3: 4 | I3: 4 | J3: 6 | K3: 8 | L3: 3 | M3: 5 | N3: 6 | O3: 8 | P3: 10
A4: North | B4: Large (100-269) | C4: 3 | D4: 3 | E4: 3 | F4: 3 | G4: 2 | H4: 4 | I4: 3 | J4: 5 | K4: 2 | L4: 1 | M4: 4 | N4: 1 | O4: 1 | P4: 2
A5: North | B5: Extra Large (270 or more) | C5: 3 | D5: 3 | E5: 4 | F5: 5 | G5: 3 | H5: 3 | I5: 2 | J5: 3 | K5: 2 | L5: 1 | M5: 4 | N5: 2 | O5: 1 | P5: 2
A6: Northeastern | B6: Small (5-19) | C6: 4 | D6: 2 | E6: 3 | F6: 4 | G6: 3 | H6: 4 | I6: 4 | J6: 3 | K6: 6 | L6: 7 | M6: 5 | N6: 6 | O6: 6 | P6: 15
A7: Northeastern | B7: Medium (20-99) | C7: 3 | D7: 3 | E7: 3 | F7: 3 | G7: 3 | H7: 4 | I7: 3 | J7: 4 | K7: 3 | L7: 2 | M7: 4 | N7: 3 | O7: 1 | P7: 4
A8: Northeastern | B8: Large (100-269) | C8: 4 | D8: 2 | E8: 3 | F8: 3 | G8: 3 | H8: 3 | I8: 1 | J8: 3 | K8: 2 | L8: 1 | M8: 4 | N8: 2 | O8: 1 | P8: 2
A9: Northeastern | B9: Extra Large (270 or more) | C9: 2 | D9: 3 | E9: 2 | F9: 3 | G9: 2 | H9: 3 | I9: 3 | J9: 2 | K9: 2 | L9: 1 | M9: 4 | N9: 2 | O9: 1 | P9: 2
A10: East | B10: Small (5-19) | C10: 15 | D10: 17 | E10: 13 | F10: 10 | G10: 16 | H10: 16 | I10: 33 | J10: 11 | K10: 45 | L10: 33 | M10: 9 | N10: 31 | O10: 30 | P10: 60
A11: East | B11: Medium (20-99) | C11: 12 | D11: 16 | E11: 14 | F11: 15 | G11: 14 | H11: 9 | I11: 14 | J11: 14 | K11: 31 | L11: 9 | M11: 6 | N11: 17 | O11: 10 | P11: 29
A12: East | B12: Large (100-269) | C12: 8 | D12: 10 | E12: 9 | F12: 9 | G12: 6 | H12: 4 | I12: 4 | J12: 10 | K12: 6 | L12: 2 | M12: 4 | N12: 4 | O12: 1 | P12: 4
A13: East | B13: Extra Large (270 or more) | C13: 3 | D13: 7 | E13: 6 | F13: 6 | G13: 7 | H13: 4 | I13: 3 | J13: 8 | K13: 3 | L13: 1 | M13: 4 | N13: 3 | O13: 1 | P13: 2
... A25: Northwest | B25: Extra Large (270 or more) | C25: 1 | D25: 1 | E25: 2 | F25: 3 | G25: 2 | H25: 3 | I25: 1 | J25: 2 | K25: 1 | L25: 1 | M25: 4 | N25: 1 | O25: 1 | P25: 1

Sheet yield calculation
A1: Survey | B1: Cell | C1: Name | D1: Yield | E1: Survey_response_rate | F1: Frame_quality
A2: China 2024 | B2: Fresh/Panel | D2: 0.10213912 | E2: 0.1914935 | F2: 0.5333817
A3: China 2024 | B3: Fresh/Panel | D3: 0.10213912 | E3: 0.1914935 | F3: 0.5333817
A4: China 2024 | B4: Fresh/Panel | C4: Fresh | D4: 0.10213912 | E4: 0.1914935 | F4: 0.5333817
A5: China 2024 | B5: Fresh/Panel | C5: Panel | D5: 0.077114426 | E5: 0.38819319 | F5: 0.19864962
A6: China 2024 | B6: Size | C6: Small (5-19) | D6: 0.080161944 | E6: 0.16176471 | F6: 0.49554655
A7: China 2024 | B7: Size | C7: Medium (20-99) | D7: 0.10495166 | E7: 0.24192815 | F7: 0.43381336
A8: China 2024 | B8: Size | C8: Large (100-269) | D8: 0.12155745 | E8: 0.23747681 | F8: 0.51187086
A9: China 2024 | B9: Size | C9: Extra Large (270+) | D9: 0.137509 | E9: 0.24918461 | F9: 0.55183583
A10: China 2024 | B10: Region | C10: North | D10: 0.098591551 | E10: 0.14564756 | F10: 0.67691863
A11: China 2024 | B11: Region | C11: Northeastern | D11: 0.14162873 | E11: 0.30973452 | F11: 0.45725846
A12: China 2024 | B12: Region | C12: East | D12: 0.10958904 | E12: 0.5673759 | F12: 0.19315068
A13: China 2024 | B13: Region | C13: Central | D13: 0.067327611 | E13: 0.12569061 | F13: 0.53566146
A14: China 2024 | B14: Region | C14: Southwest | D14: 0.084049664 | E14: 0.10666667 | F14: 0.7879656
A15: China 2024 | B15: Region | C15: Northwest | D15: 0.17330918 | E15: 0.55620158 | F15: 0.31159419
... A30: China 2024 | B30: China 2024 | C30: China 2024 | D30: 0.098955743 | E30: 0.20162107 | F30: 0.49080059
A31: China 2024 | B31: Sector
A32: China 2024 | B32: Size
A33: China 2024 | B33: Region
A34: China 2024 | B34: Fresh/Panel

Sheet achieved fresh and panel
A1: stratificationregionname | B1: stratificationsizename | C1: _Food | D1: _Wearing_apparel | E1: _Chemicals_and_chemical_products | F1: _Basic_metals | G1: _Computer_electronics_and_opt | H1: _Electrical_equipment | I1: _Machinery_and_equipment | J1: _Motor_vehicles_trailers | K1: _Other_manufacturing | L1: _Retail | M1: _Hotels | N1: _Construction | O1: _Professional_services | P1: _Other_services
A2: North | B2: Small (5-19) | C2: 5 | D2: 4 | E2: 7 | F2: 9 | G2: 4 | H2: 5 | I2: 5 | J2: 6 | K2: 20 | L2: 9 | M2: 10 | N2: 10 | O2: 13 | P2: 22
A3: North | B3: Medium (20-99) | C3: 8 | D3: 10 | E3: 8 | F3: 5 | G3: 5 | H3: 7 | I3: 4 | J3: 6 | K3: 5 | L3: 5 | M3: 8 | N3: 5 | O3: 4 | P3: 5
A4: North | B4: Large (100-269) | C4: 4 | D4: 6 | E4: 5 | F4: 4 | G4: 4 | H4: 4 | I4: 5 | J4: 6 | K4: 5 | L4: 4 | M4: 4 | N4: 5 | O4: 5 | P4: 4
A5: North | B5: Extra Large (270 or more) | C5: 4 | D5: 3 | E5: 4 | F5: 3 | G5: 7 | H5: 4 | I5: 5 | J5: 5 | K5: 6 | L5: 4 | M5: 6 | N5: 4 | O5: 5 | P5: 4
A6: Northeastern | B6: Small (5-19) | C6: 6 | D6: 4 | E6: 4 | F6: 4 | G6: 4 | H6: 5 | I6: 4 | J6: 4 | K6: 4 | L6: 4 | M6: 9 | N6: 4 | O6: 4 | P6: 6
A7: Northeastern | B7: Medium (20-99) | C7: 5 | D7: 4 | E7: 7 | F7: 5 | G7: 6 | H7: 7 | I7: 8 | J7: 6 | K7: 6 | L7: 4 | M7: 6 | N7: 4 | O7: 4 | P7: 4
A8: Northeastern | B8: Large (100-269) | C8: 5 | D8: 4 | E8: 5 | F8: 4 | G8: 6 | H8: 5 | I8: 8 | J8: 5 | K8: 8 | L8: 5 | M8: 4 | N8: 4 | O8: 4 | P8: 4
A9: Northeastern | B9: Extra Large (270 or more) | C9: 4 | D9: 4 | E9: 4 | F9: 4 | G9: 6 | H9: 6 | I9: 4 | J9: 7 | K9: 4 | L9: 4 | M9: 8 | N9: 4 | O9: 4 | P9: 4
A10: East | B10: Small (5-19) | C10: 11 | D10: 9 | E10: 6 | F10: 9 | G10: 4 | H10: 9 | I10: 19 | J10: 7 | K10: 39 | L10: 37 | M10: 8 | N10: 32 | O10: 36 | P10: 87
A11: East | B11: Medium (20-99) | C11: 9 | D11: 9 | E11: 15 | F11: 9 | G11: 8 | H11: 8 | I11: 10 | J11: 9 | K11: 16 | L11: 4 | M11: 3 | N11: 7 | O11: 5 | P11: 12
A12: East | B12: Large (100-269) | C12: 4 | D12: 9 | E12: 4 | F12: 4 | G12: 5 | H12: 4 | I12: 4 | J12: 5 | K12: 5 | L12: 4 | M12: 4 | N12: 4 | O12: 4 | P12: 4
A13: East | B13: Extra Large (270 or more) | C13: 4 | D13: 4 | E13: 4 | F13: 4 | G13: 7 | H13: 4 | I13: 4 | J13: 4 | K13: 4 | L13: 4 | M13: 4 | N13: 4 | O13: 4 | P13: 4
... A25: Northwest | B25: Extra Large (270 or more) | C25: 7 | D25: 5 | E25: 4 | F25: 4 | G25: 6 | H25: 5 | I25: 6 | J25: 5 | K25: 4 | L25: 4 | M25: 4 | N25: 4 | O25: 6 | P25: 5

Sheet achieved panel
A1: stratificationregionname | B1: stratificationsizename | C1: _Food | D1: _Wearing_apparel | E1: _Chemicals_and_chemical_products | F1: _Basic_metals | G1: _Computer_electronics_and_opt | H1: _Electrical_equipment | I1: _Machinery_and_equipment | J1: _Motor_vehicles_trailers | K1: _Other_manufacturing | L1: _Retail | M1: _Hotels | N1: _Construction | O1: _Professional_services | P1: _Other_services
A2: North | B2: Small (5-19) | E2: 1 | I2: 2 | K2: 1 | L2: 1 | O2: 0 | P2: 7
A3: North | B3: Medium (20-99) | E3: 1 | K3: 1 | O3: 0 | P3: 1
A4: North | B4: Large (100-269) | I4: 1 | J4: 2 | K4: 2 | M4: 1 | O4: 0 | P4: 1
A5: North | B5: Extra Large (270 or more) | F5: 2 | K5: 1 | O5: 0
A6: Northeastern | B6: Small (5-19) | C6: 1 | E6: 1 | J6: 1 | K6: 2 | L6: 2 | N6: 1 | O6: 0 | P6: 3
A7: Northeastern | B7: Medium (20-99) | D7: 2 | E7: 1 | I7: 1 | K7: 3 | O7: 0 | P7: 1
A8: Northeastern | B8: Large (100-269) | C8: 1 | G8: 1 | K8: 5 | O8: 0
A9: Northeastern | B9: Extra Large (270 or more) | K9: 2 | O9: 0
A10: East | B10: Small (5-19) | E10: 3 | F10: 1 | I10: 6 | K10: 16 | L10: 11 | N10: 3 | O10: 0 | P10: 14
A11: East | B11: Medium (20-99) | C11: 1 | D11: 1 | E11: 3 | F11: 2 | G11: 2 | I11: 3 | J11: 1 | K11: 9 | L11: 1 | N11: 2 | O11: 0 | P11: 5
A12: East | B12: Large (100-269) | C12: 2 | D12: 1 | F12: 1 | G12: 1 | H12: 1 | J12: 3 | K12: 4 | M12: 1 | N12: 2 | O12: 0 | P12: 3
A13: East | B13: Extra Large (270 or more) | D13: 1 | E13: 1 | F13: 1 | G13: 1 | K13: 3 | N13: 1 | O13: 0 | P13: 1
A14: Central | B14: Small (5-19) | E14: 1 | G14: 2 | K14: 2 | L14: 2 | O14: 0 | P14: 12
A15: Central | B15: Medium (20-99) | C15: 2 | E15: 1 | F15: 2 | G15: 1 | I15: 1 | J15: 1 | K15: 3 | O15: 0 | P15: 2
A16: Central | B16: Large (100-269) | G16: 1 | H16: 1 | K16: 2 | O16: 0 | P16: 1
A17: Central | B17: Extra Large (270 or more) | C17: 2 | G17: 2 | J17: 1 | K17: 3 | O17: 0 | P17: 4
A18: Southwest | B18: Small (5-19) | O18: 0 | P18: 1
A19: Southwest | B19: Medium (20-99) | O19: 0 | P19: 1
A20: Southwest | B20: Large (100-269) | C20: 1 | O20: 0

Sheet universe_strict
A1: stratificationregionname | B1: stratificationsizename | C1: _Food | D1: _Wearing_apparel | E1: _Chemicals_and_chemical_products | F1: _Basic_metals | G1: _Computer_electronics_and_opt | H1: _Electrical_equipment | I1: _Machinery_and_equipment | J1: _Motor_vehicles_trailers | K1: _Other_manufacturing | L1: _Retail | M1: _Hotels | N1: _Construction | O1: _Professional_services | P1: _Other_services
A2: North | B2: Small (5-19) | C2: 1038.8473 | D2: 494.32489 | E2: 738.9646 | F2: 249.79646 | G2: 435.51596 | H2: 1111.5243 | I2: 2531.2935 | J2: 833.51196 | K2: 8738.4678 | L2: 8528.7676 | M2: 3005.5454 | N2: 5647.7295 | O2: 7399.7393 | P2: 13986.641
A3: North | B3: Medium (20-99) | C3: 649.15686 | D3: 376.21768 | E3: 544.08655 | F3: 246.21027 | G3: 353.27368 | H3: 648.52136 | I3: 1116.1093 | J3: 331.37323 | K3: 4323.3081 | L3: 1488.6244 | M3: 1209.9237 | N3: 1975.7689 | O3: 3152.8667 | P3: 3866.54
A4: North | B4: Large (100-269) | C4: 117.74507 | D4: 47.559273 | E4: 117.93678 | F4: 67.880585 | G4: 93.301529 | H4: 96.936264 | I4: 152.51712 | J4: 94.371323 | K4: 550.948 | L4: 127.72168 | M4: 101.46728 | N4: 219.13034 | O4: 198.33983 | P4: 406.82062
A5: North | B5: Extra Large (270 or more) | C5: 73.990089 | D5: 13.270429 | E5: 73.986977 | F5: 70.898064 | G5: 62.274628 | H5: 51.292316 | I5: 62.433296 | J5: 64.658005 | K5: 265.46912 | L5: 90.154846 | M5: 122.7271 | N5: 170.31631 | O5: 84.8507 | P5: 189.3398
A6: Northeastern | B6: Small (5-19) | C6: 1222.4717 | D6: 336.74811 | E6: 456.77673 | F6: 103.83211 | G6: 485.69583 | H6: 1237.7948 | I6: 976.56549 | J6: 942.24048 | K6: 2927.7185 | L6: 3221.8806 | M6: 3675.6228 | N6: 2051.5051 | O6: 2184.4138 | P6: 6018.3213
A7: Northeastern | B7: Medium (20-99) | C7: 785.22552 | D7: 298.24649 | E7: 360.02805 | F7: 100.4184 | G7: 319.64005 | H7: 457.29785 | I7: 667.31299 | J7: 398.56009 | K7: 1944.9846 | L7: 1151.9642 | M7: 1568.1602 | N7: 1122.1489 | O7: 744.1485 | P7: 1576.8696
A8: Northeastern | B8: Large (100-269) | C8: 164.41519 | D8: 51.690147 | E8: 88.152077 | F8: 34.000263 | G8: 45.305794 | H8: 62.281704 | I8: 121.52983 | J8: 113.27716 | K8: 361.33932 | L8: 95.417976 | M8: 105.86877 | N8: 143.1563 | O8: 50.238552 | P8: 141.9285
A9: Northeastern | B9: Extra Large (270 or more) | C9: 92.024475 | D9: 27.147409 | E9: 38.156895 | F9: 31.461929 | G9: 43.25185 | H9: 41.894634 | I9: 56.418392 | J9: 79.451881 | K9: 173.52966 | L9: 98.60955 | M9: 134.23643 | N9: 76.68248 | O9: 63.700031 | P9: 69.131668
A10: East | B10: Small (5-19) | C10: 6915.4175 | D10: 8166.0532 | E10: 4666.9902 | F10: 1748.5227 | G10: 7392.9155 | H10: 13515.705 | I10: 23719.332 | J10: 4837.2144 | K10: 74719.172 | L10: 65103.328 | M10: 4266.2212 | N10: 39658.684 | O10: 41479.941 | P10: 108791.93
A11: East | B11: Medium (20-99) | C11: 5252.0127 | D11: 7221.3169 | E11: 5010.147 | F11: 1900.2559 | G11: 5987.4673 | H11: 9984.9033 | I11: 14686.078 | J11: 4662.3105 | K11: 48004.176 | L11: 9531.3135 | M11: 2449.2578 | N11: 13497.156 | O11: 8212.4932 | P11: 24992.754
A12: East | B12: Large (100-269) | C12: 1125.7585 | D12: 1158.0476 | E12: 1258.3499 | F12: 398.30603 | G12: 1704.5128 | H12: 2072.4294 | I12: 2257.1641 | J12: 1219.5674 | K12: 7246.6987 | L12: 714.20148 | M12: 434.60696 | N12: 2198.7881 | O12: 666.62689 | P12: 2086.9556
A13: East | B13: Extra Large (270 or more) | C13: 519.73529 | D13: 400.06854 | E13: 626.96112 | F13: 240.2262 | G13: 1261.2527 | H13: 1162.485 | I13: 882.47687 | J13: 748.44843 | K13: 2795.5925 | L13: 373.40289 | M13: 104.42632 | N13: 2021.4547 | O13: 280.38123 | P13: 893.60364
... A25: Northwest | B25: Extra Large (270 or more) | C25: 70.335815 | D25: 33.26627 | E25: 126.74123 | F25: 92.416206 | G25: 66.832909 | H25: 58.741875 | I25: 47.619892 | J25: 34.319599 | K25: 245.88724 | L25: 109.35072 | M25: 148.85832 | N25: 254.834 | O25: 70.638641 | P25: 137.57747

Sheet universe_median
A1: stratificationregionname | B1: stratificationsizename | C1: _Food | D1: _Wearing_apparel | E1: _Chemicals_and_chemical_products | F1: _Basic_metals | G1: _Computer_electronics_and_opt | H1: _Electrical_equipment | I1: _Machinery_and_equipment | J1: _Motor_vehicles_trailers | K1: _Other_manufacturing | L1: _Retail | M1: _Hotels | N1: _Construction | O1: _Professional_services | P1: _Other_services
A2: North | B2: Small (5-19) | C2: 9251.9258 | D2: 4994.23 | E2: 4771.0107 | F2: 2196.8586 | G2: 2654.3438 | H2: 5378.1641 | I2: 19193.176 | J2: 4239.8076 | K2: 71363.445 | L2: 87129.336 | M2: 22964.229 | N2: 76181.82 | O2: 124053.29 | P2: 188193.73
A3: North | B3: Medium (20-99) | C3: 3197.1292 | D3: 2101.9644 | E3: 1942.6068 | F3: 1197.4353 | G3: 1190.6785 | H3: 1735.2798 | I3: 4679.9497 | J3: 932.1416 | K3: 19524.811 | L3: 8409.9492 | M3: 5112.3037 | N3: 14738.178 | O3: 29229.916 | P3: 28770.297
A4: North | B4: Large (100-269) | C4: 644.00397 | D4: 295.09146 | E4: 467.62894 | F4: 366.62897 | G4: 349.22653 | H4: 288.04926 | I4: 710.21265 | J4: 294.80838 | K4: 2763.2268 | L4: 801.32391 | M4: 476.1239 | N4: 1815.2874 | O4: 2042.0538 | P4: 3361.7087
A5: North | B5: Extra Large (270 or more) | C5: 368.06622 | D5: 74.88813 | E5: 266.81732 | F5: 348.2749 | G5: 212.0002 | H5: 138.62433 | I5: 264.41898 | J5: 183.70825 | K5: 1210.9509 | L5: 514.44537 | M5: 523.77051 | N5: 1283.2338 | O5: 794.54651 | P5: 1423.0026
A6: Northeastern | B6: Small (5-19) | C6: 4712.1553 | D6: 1472.5212 | E6: 1276.4126 | F6: 395.22815 | G6: 1281.2026 | H6: 2592.1738 | I6: 3204.8381 | J6: 2074.4189 | K6: 10348.328 | L6: 14245.836 | M6: 12155.137 | N6: 11977.065 | O6: 15849.922 | P6: 35048.34
A7: Northeastern | B7: Medium (20-99) | C7: 1673.8066 | D7: 721.21021 | E7: 556.35699 | F7: 211.3779 | G7: 466.27777 | H7: 529.59601 | I7: 1211.0565 | J7: 485.24222 | K7: 3801.781 | L7: 2816.7454 | M7: 2867.804 | N7: 3622.9175 | O7: 2985.946 | P7: 5078.2959
A8: Northeastern | B8: Large (100-269) | C8: 389.21368 | D8: 138.81281 | E8: 151.28122 | F8: 79.481087 | G8: 73.396027 | H8: 80.101624 | I8: 244.93623 | J8: 153.15897 | K8: 784.37091 | L8: 259.10397 | M8: 215.01176 | N8: 513.27917 | O8: 223.8694 | P8: 507.60638
A9: Northeastern | B9: Extra Large (270 or more) | C9: 198.13271 | D9: 66.306602 | E9: 59.556908 | F9: 66.891891 | G9: 63.727982 | H9: 49.005623 | I9: 103.41832 | J9: 97.703667 | K9: 342.5994 | L9: 243.53955 | M9: 247.95413 | N9: 250.061 | O9: 258.16885 | P9: 224.87498
A10: East | B10: Small (5-19) | C10: 9137.9121 | D10: 12240.984 | E10: 4470.6616 | F10: 2281.5774 | G10: 6685.2397 | H10: 9702.9082 | I10: 26684.246 | J10: 3650.7136 | K10: 90535.891 | L10: 98680.07 | M10: 4836.3765 | N10: 79371.375 | O10: 103175.88 | P10: 217188.38
A11: East | B11: Medium (20-99) | C11: 3837.8188 | D11: 5986.1924 | E11: 2654.0889 | F11: 1371.2168 | G11: 2994.1562 | H11: 3964.0325 | I11: 9136.6816 | J11: 1945.8698 | K11: 32166.053 | L11: 7989.3076 | M11: 1535.47 | N11: 14938.19 | O11: 11296.533 | P11: 27592.057
A12: East | B12: Large (100-269) | C12: 913.56451 | D12: 1066.0951 | E12: 740.28973 | F12: 319.18771 | G12: 946.60089 | H12: 913.71002 | I12: 1559.4844 | J12: 565.26709 | K12: 5392.5508 | L12: 664.8327 | M12: 302.57898 | N12: 2702.5542 | O12: 1018.3293 | P12: 2558.6946
A13: East | B13: Extra Large (270 or more) | C13: 383.6037 | D13: 334.97363 | E13: 335.46524 | F13: 175.08798 | G13: 637.05267 | H13: 466.1467 | I13: 554.53363 | J13: 315.51236 | K13: 1892.0585 | L13: 316.13748 | M13: 66.12394 | N13: 2259.7568 | O13: 389.54797 | P13: 996.453
... A25: Northwest | B25: Extra Large (270 or more) | C25: 60.126015 | D25: 32.260094 | E25: 78.54348 | F25: 78.013435 | G25: 39.097488 | H25: 27.281506 | I25: 34.657581 | J25: 16.756451 | K25: 192.74448 | L25: 107.22728 | M25: 109.17097 | N25: 329.94406 | O25: 113.66838 | P25: 177.68243

Sheet universe_weak
A1: stratificationregionname | B1: stratificationsizename | C1: _Food | D1: _Wearing_apparel | E1: _Chemicals_and_chemical_products | F1: _Basic_metals | G1: _Computer_electronics_and_opt | H1: _Electrical_equipment | I1: _Machinery_and_equipment | J1: _Motor_vehicles_trailers | K1: _Other_manufacturing | L1: _Retail | M1: _Hotels | N1: _Construction | O1: _Professional_services | P1: _Other_services
A2: North | B2: Small (5-19) | C2: 12571.311 | D2: 6265.751 | E2: 6704.5034 | F2: 2684.1694 | G2: 3902.0623 | H2: 8186.9492 | I2: 27867.852 | J2: 7277.5576 | K2: 110210.46 | L2: 108523.31 | M2: 28470.693 | N2: 111865.38 | O2: 139205.8 | P2: 259099.55
A3: North | B3: Medium (20-99) | C3: 4932.0752 | D3: 2993.9946 | E3: 3099.29 | F3: 1661.0435 | G3: 1987.2504 | H3: 2999.0154 | I3: 7714.6973 | J3: 1816.5295 | K3: 34233.781 | L3: 11892.498 | M3: 7195.8794 | N3: 24570.23 | O3: 37238.969 | P3: 44970.422
A4: North | B4: Large (100-269) | C4: 861.95477 | D4: 364.67731 | E4: 647.29919 | F4: 441.24738 | G4: 505.69864 | H4: 431.91898 | I4: 1015.7632 | J4: 498.45593 | K4: 4203.4995 | L4: 983.13739 | M4: 581.45166 | N4: 2625.6521 | O4: 2257.167 | P4: 4558.9946
A5: North | B5: Extra Large (270 or more) | C5: 472.90103 | D5: 88.841011 | E5: 354.54077 | F5: 402.37027 | G5: 294.6926 | H5: 199.53697 | I5: 363.0322 | J5: 298.17004 | K5: 1768.355 | L5: 605.88989 | M5: 614.02087 | N5: 1781.7468 | O5: 843.07117 | P5: 1852.5208
A6: Northeastern | B6: Small (5-19) | C6: 8741.4854 | D6: 2522.2222 | E6: 2448.863 | F6: 659.28448 | G6: 2571.4141 | H6: 5387.2773 | I6: 6353.0146 | J6: 4861.3076 | K6: 21818.975 | L6: 24224.994 | M6: 20574.209 | N6: 24011.09 | O6: 24282.496 | P6: 65878.867
A7: Northeastern | B7: Medium (20-99) | C7: 3525.2666 | D7: 1402.506 | E7: 1211.8475 | F7: 400.31854 | G7: 1062.478 | H7: 1249.5999 | I7: 2725.582 | J7: 1291.03 | K7: 9100.6484 | L7: 5438.0654 | M7: 5511.043 | N7: 8245.9561 | O7: 5193.6084 | P7: 10837.217
A8: Northeastern | B8: Large (100-269) | C8: 711.21545 | D8: 234.20642 | E8: 285.89456 | F8: 130.59795 | G8: 145.10228 | H8: 163.98119 | I8: 478.27127 | J8: 353.54648 | K8: 1629.0452 | L8: 434.0076 | M8: 358.48666 | N8: 1013.5907 | O8: 337.83792 | P8: 939.8385
A9: Northeastern | B9: Extra Large (270 or more) | C9: 347.55026 | D9: 107.39262 | E9: 108.04419 | F9: 105.51019 | G9: 120.94286 | H9: 96.304596 | I9: 193.85059 | J9: 216.50275 | K9: 683.04077 | L9: 391.59863 | M9: 396.85379 | N9: 474.02728 | O9: 373.99512 | P9: 399.68301
A10: East | B10: Small (5-19) | C10: 31515.209 | D10: 38980.352 | E10: 15946.04 | F10: 7075.6748 | G10: 24944.729 | H10: 37489.945 | I10: 98341.398 | J10: 15905.309 | K10: 354889 | L10: 311970.06 | M10: 15219.173 | N10: 295823.72 | O10: 293867.78 | P10: 758966.94
A11: East | B11: Medium (20-99) | C11: 15027.225 | D11: 21642.189 | E11: 10747.751 | F11: 4827.9175 | G11: 12684.033 | H11: 17388.861 | I11: 38228.828 | J11: 9624.9639 | K11: 143149.77 | L11: 28675.672 | M11: 5485.7163 | N11: 63210.355 | O11: 36529.188 | P11: 109469.09
A12: East | B12: Large (100-269) | C12: 3103.5586 | D12: 3344.0508 | E12: 2600.9395 | F12: 975.04871 | G12: 3479.1748 | H12: 3477.5127 | I12: 5661.2188 | J12: 2425.8584 | K12: 20821.572 | L12: 2070.3477 | M12: 937.90149 | N12: 9921.8125 | O12: 2856.9954 | P12: 8807.4922
A13: East | B13: Extra Large (270 or more) | C13: 1250.9844 | D13: 1008.6393 | E13: 1131.4216 | F13: 513.43427 | G13: 2247.6729 | H13: 1703.0656 | I13: 1932.4363 | J13: 1299.8 | K13: 7012.9736 | L13: 945.05103 | M13: 196.75491 | N13: 7963.917 | O13: 1049.1333 | P13: 3292.6006
... A25: Northwest | B25: Extra Large (270 or more) | C25: 150.75075 | D25: 74.68251 | E25: 203.66435 | F25: 175.88383 | G25: 106.05583 | H25: 76.631096 | I25: 92.854622 | J25: 53.072571 | K25: 549.25952 | L25: 246.44075 | M25: 249.74794 | N25: 893.99127 | O25: 235.36253 | P25: 451.39282

Sheet item response
A1: Survey | B1: Cell | C1: Name | D1: rr_d2 | E1: rr_l1 | F1: rr_n2a | G1: rr_TFP
A2: China 2024 | B2: Fresh/Panel | C2: Fresh | D2: 0.90060854 | E2: 0.99594319 | F2: 0.84736305 | G2: 0.53308481
A3: China 2024 | B3: Fresh/Panel | C3: Panel | D3: 0.87096775 | E3: 0.99078339 | F3: 0.84331799 | G3: 0.60526317
A4: China 2024 | B4: Size | C4: Small (5-19) | D4: 0.89695549 | E4: 1 | F4: 0.88758785 | G4: 0.55271566
A5: China 2024 | B5: Size | C5: Medium (20-99) | D5: 0.89970499 | E5: 0.99410027 | F5: 0.84660769 | G5: 0.60328639
A6: China 2024 | B6: Size | C6: Large (100+) | D6: 0.89649922 | E6: 0.99086756 | F6: 0.79452056 | G6: 0.47098213
A7: China 2024 | B7: Region | C7: North | D7: 0.8862974 | E7: 0.99125367 | F7: 0.83965015 | G7: 0.45454547
A8: China 2024 | B8: Region | C8: Northeastern | D8: 1 | E8: 1 | F8: 0.85357141 | G8: 0.54444444
A9: China 2024 | B9: Region | C9: East | D9: 0.91785717 | E9: 1 | F9: 0.8767857 | G9: 0.5477941
A10: China 2024 | B10: Region | C10: Central | D10: 0.92087913 | E10: 0.99120879 | F10: 0.90109891 | G10: 0.64135021
A11: China 2024 | B11: Region | C11: Southwest | D11: 0.79166669 | E11: 0.99242425 | F11: 0.75378788 | G11: 0.44525549
A12: China 2024 | B12: Region | C12: Northwest | D12: 0.83275259 | E12: 0.99651569 | F12: 0.79094076 | G12: 0.54594594
A13: China 2024 | B13: Sector | C13: Basic Metals | D13: 0.92307693 | E13: 0.98717946 | F13: 0.92307693 | G13: 0.66666669
A14: China 2024 | B14: Sector | C14: Chemicals & Chemical Products | D14: 0.87179488 | E14: 1 | F14: 0.88034189 | G14: 0.58119661
A15: China 2024 | B15: Sector | C15: Construction | D15: 0.89570552 | E15: 1 | F15: 0.85276073
A16: China 2024 | B16: Sector | C16: Electrical & Computer Products | D16: 0.89215684 | E16: 0.98039216 | F16: 0.7647059 | G16: 0.4509804
A17: China 2024 | B17: Sector | C17: Electronics | D17: 0.9147287 | E17: 1 | F17: 0.79844964 | G17: 0.51937985
A18: China 2024 | B18: Sector | C18: Food | D18: 0.97142857 | E18: 1 | F18: 0.86666667 | G18: 0.53333336
A19: China 2024 | B19: Sector | C19: Garments | D19: 0.90983605 | E19: 0.99180329 | F19: 0.87704921 | G19: 0.58196723
A20: China 2024 | B20: Sector | C20: Hotels | D20: 0.89705884 | E20: 0.99264705 | F20: 0.85294116
A21: China 2024 | B21: Sector | C21: Machinery & Equipment | D21: 0.90845072 | E21: 1 | F21: 0.80985916 | G21: 0.52112675
A22: China 2024 | B22: Sector | C22: Motor Vehicles | D22: 0.94166666 | E22: 1 | F22: 0.77499998 | G22: 0.52499998
A23: China 2024 | B23: Sector | C23: Other Manufacturing | D23: 0.88602942 | E23: 0.99632353 | F23: 0.84926468 | G23: 0.52941179
A24: China 2024 | B24: Sector | C24: Other Services | D24: 0.87362635 | E24: 0.99725276 | F24: 0.87912089
A25: China 2024 | B25: Sector | C25: Professional Activities | D25: 0.89932889 | E25: 0.97986579 | F25: 0.8389262
A26: China 2024 | B26: Sector | C26: Retail | D26: 0.87368423 | E26: 1 | F26: 0.84736842
A27: China 2024 | B27: China 2024 | C27: China 2024 | D27: 0.89767015 | E27: 0.99543172 | F27: 0.84696209 | G27: 0.54001683
