Workbook

Sheet Table 1 Universe
C1: =RIGHT(SUBSTITUTE(universe!C1,"_"," "),LEN(SUBSTITUTE(universe!C1,"_"," "))-1) -> Food | D1: =RIGHT(SUBSTITUTE(universe!D1,"_"," "),LEN(SUBSTITUTE(universe!D1,"_"," "))-1) -> Wearing apparel | E1: =RIGHT(SUBSTITUTE(universe!E1,"_"," "),LEN(SUBSTITUTE(universe!E1,"_"," "))-1) -> Chemicals and chemical products | F1: =RIGHT(SUBSTITUTE(universe!F1,"_"," "),LEN(SUBSTITUTE(universe!F1,"_"," "))-1) -> Basic metals | G1: =RIGHT(SUBSTITUTE(universe!G1,"_"," "),LEN(SUBSTITUTE(universe!G1,"_"," "))-1) -> Computer electronics and opt | H1: =RIGHT(SUBSTITUTE(universe!H1,"_"," "),LEN(SUBSTITUTE(universe!H1,"_"," "))-1) -> Electrical equipment | I1: =RIGHT(SUBSTITUTE(universe!I1,"_"," "),LEN(SUBSTITUTE(universe!I1,"_"," "))-1) -> Machinery and equipment | J1: =RIGHT(SUBSTITUTE(universe!J1,"_"," "),LEN(SUBSTITUTE(universe!J1,"_"," "))-1) -> Motor vehicles trailers | ... P1: =RIGHT(SUBSTITUTE(universe!P1,"_"," "),LEN(SUBSTITUTE(universe!P1,"_"," "))-1) -> Other services | Q1: =RIGHT(SUBSTITUTE(universe!T1,"_"," "),LEN(SUBSTITUTE(universe!T1,"_"," "))-1) -> #VALUE!
A2: =universe!A2 -> North | B2: =LEFT(universe!B2,FIND(")",universe!B2)) -> Small (5-19) | C2: =universe!C2 -> 13249 | D2: =universe!D2 -> 6818 | E2: =universe!E2 -> 6703 | F2: =universe!F2 -> 2773 | G2: =universe!G2 -> 3897 | H2: =universe!H2 -> 8682 | I2: =universe!I2 -> 27952 | J2: =universe!J2 -> 4036 | ... P2: =universe!P2 -> 278828 | Q2: =SUM(C2:P5) -> 1073407
A3: =universe!A3 -> North | B3: =LEFT(universe!B3,FIND(")",universe!B3)) -> Medium (20-99) | C3: =universe!C3 -> 4895 | D3: =universe!D3 -> 3068 | E3: =universe!E3 -> 2918 | F3: =universe!F3 -> 1616 | G3: =universe!G3 -> 1869 | H3: =universe!H3 -> 2995 | I3: =universe!I3 -> 7287 | J3: =universe!J3 -> 1707 | ... P3: =universe!P3 -> 45574
A4: =universe!A4 -> North | B4: =LEFT(universe!B4,FIND(")",universe!B4)) -> Large (100-269) | C4: =universe!C4 -> 831 | D4: =universe!D4 -> 363 | E4: =universe!E4 -> 592 | F4: =universe!F4 -> 417 | G4: =universe!G4 -> 462 | H4: =universe!H4 -> 419 | I4: =universe!I4 -> 932 | J4: =universe!J4 -> 455 | ... P4: =universe!P4 -> 4488
A5: =universe!A5 -> North | B5: =LEFT(universe!B5,FIND(")",universe!B5)) -> Extra Large (270 or more) | C5: =universe!C5 -> 464 | D5: =universe!D5 -> 90 | E5: =universe!E5 -> 330 | F5: =universe!F5 -> 387 | G5: =universe!G5 -> 274 | H5: =universe!H5 -> 197 | I5: =universe!I5 -> 339 | J5: =universe!J5 -> 277 | ... P5: =universe!P5 -> 1856
A6: =universe!A6 -> Northeastern | B6: =LEFT(universe!B6,FIND(")",universe!B6)) -> Small (5-19) | C6: =universe!C6 -> 10077 | D6: =universe!D6 -> 3002 | E6: =universe!E6 -> 2678 | F6: =universe!F6 -> 639 | G6: =universe!G6 -> 1141 | H6: =universe!H6 -> 1903 | I6: =universe!I6 -> 6970 | J6: =universe!J6 -> 1135 | ... P6: =universe!P6 -> 77546 | Q6: =SUM(C6:P9) -> 278075
A7: =universe!A7 -> Northeastern | B7: =LEFT(universe!B7,FIND(")",universe!B7)) -> Medium (20-99) | C7: =universe!C7 -> 3827 | D7: =universe!D7 -> 1572 | E7: =universe!E7 -> 1248 | F7: =universe!F7 -> 426 | G7: =universe!G7 -> 501 | H7: =universe!H7 -> 825 | I7: =universe!I7 -> 2816 | J7: =universe!J7 -> 923 | ... P7: =universe!P7 -> 12013
A8: =universe!A8 -> Northeastern | B8: =LEFT(universe!B8,FIND(")",universe!B8)) -> Large (100-269) | C8: =universe!C8 -> 750 | D8: =universe!D8 -> 255 | E8: =universe!E8 -> 286 | F8: =universe!F8 -> 135 | G8: =universe!G8 -> 145 | H8: =universe!H8 -> 174 | I8: =universe!I8 -> 480 | J8: =universe!J8 -> 353 | ... P8: =universe!P8 -> 1012
A9: =universe!A9 -> Northeastern | B9: =LEFT(universe!B9,FIND(")",universe!B9)) -> Extra Large (270 or more) | C9: =universe!C9 -> 373 | D9: =universe!D9 -> 119 | E9: =universe!E9 -> 110 | F9: =universe!F9 -> 111 | G9: =universe!G9 -> 82 | H9: =universe!H9 -> 84 | I9: =universe!I9 -> 198 | J9: =universe!J9 -> 220 | ... P9: =universe!P9 -> 438
A10: =universe!A10 -> East | B10: =LEFT(universe!B10,FIND(")",universe!B10)) -> Small (5-19) | C10: =universe!C10 -> 46678 | D10: =universe!D10 -> 59610 | E10: =universe!E10 -> 22405 | F10: =universe!F10 -> 10273 | G10: =universe!G10 -> 35011 | H10: =universe!H10 -> 55873 | I10: =universe!I10 -> 138623 | J10: =universe!J10 -> 22305 | ... P10: =universe!P10 -> 1147842 | Q10: =SUM(C10:P13) -> 4296585
A11: =universe!A11 -> East | B11: =LEFT(universe!B11,FIND(")",universe!B11)) -> Medium (20-99) | C11: =universe!C11 -> 20960 | D11: =universe!D11 -> 31167 | E11: =universe!E11 -> 14221 | F11: =universe!F11 -> 6601 | G11: =universe!G11 -> 16765 | H11: =universe!H11 -> 24405 | I11: =universe!I11 -> 50747 | J11: =universe!J11 -> 12711 | ... P11: =universe!P11 -> 155909
A12: =universe!A12 -> East | B12: =LEFT(universe!B12,FIND(")",universe!B12)) -> Large (100-269) | C12: =universe!C12 -> 4205 | D12: =universe!D12 -> 4678 | E12: =universe!E12 -> 3343 | F12: =universe!F12 -> 1295 | G12: =universe!G12 -> 4467 | H12: =universe!H12 -> 4741 | I12: =universe!I12 -> 7300 | J12: =universe!J12 -> 3112 | ... P12: =universe!P12 -> 12185
A13: =universe!A13 -> East | B13: =LEFT(universe!B13,FIND(")",universe!B13)) -> Extra Large (270 or more) | C13: =universe!C13 -> 1725 | D13: =universe!D13 -> 1436 | E13: =universe!E13 -> 1480 | F13: =universe!F13 -> 694 | G13: =universe!G13 -> 2937 | H13: =universe!H13 -> 2363 | I13: =universe!I13 -> 2536 | J13: =universe!J13 -> 1697 | ... P13: =universe!P13 -> 4636
A14: =universe!A14 -> Central | B14: =LEFT(universe!B14,FIND(")",universe!B14)) -> Small (5-19) | C14: =universe!C14 -> 36187 | D14: =universe!D14 -> 27617 | E14: =universe!E14 -> 16426 | F14: =universe!F14 -> 5690 | G14: =universe!G14 -> 31439 | H14: =universe!H14 -> 39619 | I14: =universe!I14 -> 50765 | J14: =universe!J14 -> 8145 | ... P14: =universe!P14 -> 754506 | Q14: =SUM(C14:P17) -> 2760793
A15: =universe!A15 -> Central | B15: =LEFT(universe!B15,FIND(")",universe!B15)) -> Medium (20-99) | C15: =universe!C15 -> 17851 | D15: =universe!D15 -> 14833 | E15: =universe!E15 -> 9994 | F15: =universe!F15 -> 3992 | G15: =universe!G15 -> 17822 | H15: =universe!H15 -> 18321 | I15: =universe!I15 -> 21662 | J15: =universe!J15 -> 5009 | ... P15: =universe!P15 -> 112964
A16: =universe!A16 -> Central | B16: =LEFT(universe!B16,FIND(")",universe!B16)) -> Large (100-269) | C16: =universe!C16 -> 3453 | D16: =universe!D16 -> 2467 | E16: =universe!E16 -> 2138 | F16: =universe!F16 -> 858 | G16: =universe!G16 -> 4245 | H16: =universe!H16 -> 3869 | I16: =universe!I16 -> 3320 | J16: =universe!J16 -> 1400 | ... P16: =universe!P16 -> 8706
A17: =universe!A17 -> Central | B17: =LEFT(universe!B17,FIND(")",universe!B17)) -> Extra Large (270 or more) | C17: =universe!C17 -> 1580 | D17: =universe!D17 -> 949 | E17: =universe!E17 -> 846 | F17: =universe!F17 -> 567 | G17: =universe!G17 -> 2778 | H17: =universe!H17 -> 1984 | I17: =universe!I17 -> 1323 | J17: =universe!J17 -> 872 | ... P17: =universe!P17 -> 3119
A18: =universe!A18 -> Southwest | B18: =LEFT(universe!B18,FIND(")",universe!B18)) -> Small (5-19) | C18: =universe!C18 -> 19295 | D18: =universe!D18 -> 2926 | E18: =universe!E18 -> 3460 | F18: =universe!F18 -> 1407 | G18: =universe!G18 -> 2760 | H18: =universe!H18 -> 2976 | I18: =universe!I18 -> 8154 | J18: =universe!J18 -> 2569 | ... P18: =universe!P18 -> 265218 | Q18: =SUM(C18:P21) -> 913268
A19: =universe!A19 -> Southwest | B19: =LEFT(universe!B19,FIND(")",universe!B19)) -> Medium (20-99) | C19: =universe!C19 -> 7991 | D19: =universe!D19 -> 1390 | E19: =universe!E19 -> 2090 | F19: =universe!F19 -> 1155 | G19: =universe!G19 -> 2167 | H19: =universe!H19 -> 2158 | I19: =universe!I19 -> 3817 | J19: =universe!J19 -> 2272 | ... P19: =universe!P19 -> 40402
A20: =universe!A20 -> Southwest | B20: =LEFT(universe!B20,FIND(")",universe!B20)) -> Large (100-269) | C20: =universe!C20 -> 1418 | D20: =universe!D20 -> 185 | E20: =universe!E20 -> 490 | F20: =universe!F20 -> 396 | G20: =universe!G20 -> 651 | H20: =universe!H20 -> 386 | I20: =universe!I20 -> 651 | J20: =universe!J20 -> 641 | ... P20: =universe!P20 -> 3199
A21: =universe!A21 -> Southwest | B21: =LEFT(universe!B21,FIND(")",universe!B21)) -> Extra Large (270 or more) | C21: =universe!C21 -> 568 | D21: =universe!D21 -> 61 | E21: =universe!E21 -> 267 | F21: =universe!F21 -> 216 | G21: =universe!G21 -> 479 | H21: =universe!H21 -> 211 | I21: =universe!I21 -> 280 | J21: =universe!J21 -> 378 | ... P21: =universe!P21 -> 1074
A22: =universe!A22 -> Northwest | B22: =LEFT(universe!B22,FIND(")",universe!B22)) -> Small (5-19) | C22: =universe!C22 -> 7527 | D22: =universe!D22 -> 1032 | E22: =universe!E22 -> 2507 | F22: =universe!F22 -> 1130 | G22: =universe!G22 -> 1351 | H22: =universe!H22 -> 1913 | I22: =universe!I22 -> 4584 | J22: =universe!J22 -> 402 | ... P22: =universe!P22 -> 111709 | Q22: =SUM(C22:P25) -> 427921
A23: =universe!A23 -> Northwest | B23: =LEFT(universe!B23,FIND(")",universe!B23)) -> Medium (20-99) | C23: =universe!C23 -> 3516 | D23: =universe!D23 -> 625 | E23: =universe!E23 -> 1342 | F23: =universe!F23 -> 622 | G23: =universe!G23 -> 616 | H23: =universe!H23 -> 883 | I23: =universe!I23 -> 1488 | J23: =universe!J23 -> 301 | ... P23: =universe!P23 -> 18089
A24: =universe!A24 -> Northwest | B24: =LEFT(universe!B24,FIND(")",universe!B24)) -> Large (100-269) | C24: =universe!C24 -> 589 | D24: =universe!D24 -> 189 | E24: =universe!E24 -> 329 | F24: =universe!F24 -> 227 | G24: =universe!G24 -> 174 | H24: =universe!H24 -> 157 | I24: =universe!I24 -> 211 | J24: =universe!J24 -> 90 | ... P24: =universe!P24 -> 1475
A25: =universe!A25 -> Northwest | B25: =LEFT(universe!B25,FIND(")",universe!B25)) -> Extra Large (270 or more) | C25: =universe!C25 -> 174 | D25: =universe!D25 -> 89 | E25: =universe!E25 -> 223 | F25: =universe!F25 -> 199 | G25: =universe!G25 -> 116 | H25: =universe!H25 -> 89 | I25: =universe!I25 -> 102 | J25: =universe!J25 -> 46 | ... P25: =universe!P25 -> 532
C26: =SUM(C2:C25) -> 208183 | D26: =SUM(D2:D25) -> 164541 | E26: =SUM(E2:E25) -> 96426 | F26: =SUM(F2:F25) -> 41826 | G26: =SUM(G2:G25) -> 132149 | H26: =SUM(H2:H25) -> 175227 | I26: =SUM(I2:I25) -> 342537 | J26: =SUM(J2:J25) -> 71056 | ... Q26: =SUM(Q2:Q25) -> 9750049
A27: Source: NBS drew sample (Establishment-level)

Sheet Table 2 Frame
C1: =RIGHT(SUBSTITUTE('frame fresh and panel'!C1,"_"," "),LEN(SUBSTITUTE('frame fresh and panel'!C1,"_"," "))-1) -> Food | D1: =RIGHT(SUBSTITUTE('frame fresh and panel'!D1,"_"," "),LEN(SUBSTITUTE('frame fresh and panel'!D1,"_"," "))-1) -> Wearing apparel | E1: =RIGHT(SUBSTITUTE('frame fresh and panel'!E1,"_"," "),LEN(SUBSTITUTE('frame fresh and panel'!E1,"_"," "))-1) -> Chemicals and chemical products | F1: =RIGHT(SUBSTITUTE('frame fresh and panel'!F1,"_"," "),LEN(SUBSTITUTE('frame fresh and panel'!F1,"_"," "))-1) -> Basic metals | G1: =RIGHT(SUBSTITUTE('frame fresh and panel'!G1,"_"," "),LEN(SUBSTITUTE('frame fresh and panel'!G1,"_"," "))-1) -> Computer electronics and opt | H1: =RIGHT(SUBSTITUTE('frame fresh and panel'!H1,"_"," "),LEN(SUBSTITUTE('frame fresh and panel'!H1,"_"," "))-1) -> Electrical equipment | I1: =RIGHT(SUBSTITUTE('frame fresh and panel'!I1,"_"," "),LEN(SUBSTITUTE('frame fresh and panel'!I1,"_"," "))-1) -> Machinery and equipment | J1: =RIGHT(SUBSTITUTE('frame fresh and panel'!J1,"_"," "),LEN(SUBSTITUTE('frame fresh and panel'!J1,"_"," "))-1) -> Motor vehicles trailers | ... P1: =RIGHT(SUBSTITUTE('frame fresh and panel'!P1,"_"," "),LEN(SUBSTITUTE('frame fresh and panel'!P1,"_"," "))-1) -> Other services | Q1: =RIGHT(SUBSTITUTE('frame fresh and panel'!T1,"_"," "),LEN(SUBSTITUTE('frame fresh and panel'!T1,"_"," "))-1) -> #VALUE!
A2: ='frame fresh and panel'!A2 -> North | B2: =LEFT('frame fresh and panel'!B2,FIND(")",'frame fresh and panel'!B2)) -> Small (5-19) | C2: ='frame fresh and panel'!C2 -> 94 | D2: ='frame fresh and panel'!D2 -> 93 | E2: ='frame fresh and panel'!E2 -> 104 | F2: ='frame fresh and panel'!F2 -> 105 | G2: ='frame fresh and panel'!G2 -> 46 | H2: ='frame fresh and panel'!H2 -> 59 | I2: ='frame fresh and panel'!I2 -> 126 | J2: ='frame fresh and panel'!J2 -> 103 | ... P2: ='frame fresh and panel'!P2 -> 630 | Q2: =SUM(C2:P5) -> 6542
A3: ='frame fresh and panel'!A3 -> North | B3: =LEFT('frame fresh and panel'!B3,FIND(")",'frame fresh and panel'!B3)) -> Medium (20-99) | C3: ='frame fresh and panel'!C3 -> 170 | D3: ='frame fresh and panel'!D3 -> 124 | E3: ='frame fresh and panel'!E3 -> 111 | F3: ='frame fresh and panel'!F3 -> 168 | G3: ='frame fresh and panel'!G3 -> 99 | H3: ='frame fresh and panel'!H3 -> 153 | I3: ='frame fresh and panel'!I3 -> 118 | J3: ='frame fresh and panel'!J3 -> 149 | ... P3: ='frame fresh and panel'!P3 -> 148
A4: ='frame fresh and panel'!A4 -> North | B4: =LEFT('frame fresh and panel'!B4,FIND(")",'frame fresh and panel'!B4)) -> Large (100-269) | C4: ='frame fresh and panel'!C4 -> 59 | D4: ='frame fresh and panel'!D4 -> 24 | E4: ='frame fresh and panel'!E4 -> 48 | F4: ='frame fresh and panel'!F4 -> 103 | G4: ='frame fresh and panel'!G4 -> 69 | H4: ='frame fresh and panel'!H4 -> 73 | I4: ='frame fresh and panel'!I4 -> 105 | J4: ='frame fresh and panel'!J4 -> 93 | ... P4: ='frame fresh and panel'!P4 -> 115
A5: ='frame fresh and panel'!A5 -> North | B5: =LEFT('frame fresh and panel'!B5,FIND(")",'frame fresh and panel'!B5)) -> Extra Large (270 or more) | C5: ='frame fresh and panel'!C5 -> 58 | D5: ='frame fresh and panel'!D5 -> 65 | E5: ='frame fresh and panel'!E5 -> 85 | F5: ='frame fresh and panel'!F5 -> 107 | G5: ='frame fresh and panel'!G5 -> 68 | H5: ='frame fresh and panel'!H5 -> 20 | I5: ='frame fresh and panel'!I5 -> 25 | J5: ='frame fresh and panel'!J5 -> 41 | ... P5: ='frame fresh and panel'!P5 -> 106
A6: ='frame fresh and panel'!A6 -> Northeastern | B6: =LEFT('frame fresh and panel'!B6,FIND(")",'frame fresh and panel'!B6)) -> Small (5-19) | C6: ='frame fresh and panel'!C6 -> 24 | D6: ='frame fresh and panel'!D6 -> 81 | E6: ='frame fresh and panel'!E6 -> 42 | F6: ='frame fresh and panel'!F6 -> 83 | G6: ='frame fresh and panel'!G6 -> 38 | H6: ='frame fresh and panel'!H6 -> 20 | I6: ='frame fresh and panel'!I6 -> 90 | J6: ='frame fresh and panel'!J6 -> 42 | ... P6: ='frame fresh and panel'!P6 -> 228 | Q6: =SUM(C6:P9) -> 2955
A7: ='frame fresh and panel'!A7 -> Northeastern | B7: =LEFT('frame fresh and panel'!B7,FIND(")",'frame fresh and panel'!B7)) -> Medium (20-99) | C7: ='frame fresh and panel'!C7 -> 76 | D7: ='frame fresh and panel'!D7 -> 59 | E7: ='frame fresh and panel'!E7 -> 44 | F7: ='frame fresh and panel'!F7 -> 98 | G7: ='frame fresh and panel'!G7 -> 34 | H7: ='frame fresh and panel'!H7 -> 30 | I7: ='frame fresh and panel'!I7 -> 26 | J7: ='frame fresh and panel'!J7 -> 65 | ... P7: ='frame fresh and panel'!P7 -> 97
A8: ='frame fresh and panel'!A8 -> Northeastern | B8: =LEFT('frame fresh and panel'!B8,FIND(")",'frame fresh and panel'!B8)) -> Large (100-269) | C8: ='frame fresh and panel'!C8 -> 25 | D8: ='frame fresh and panel'!D8 -> 22 | E8: ='frame fresh and panel'!E8 -> 44 | F8: ='frame fresh and panel'!F8 -> 44 | G8: ='frame fresh and panel'!G8 -> 23 | H8: ='frame fresh and panel'!H8 -> 20 | I8: ='frame fresh and panel'!I8 -> 35 | J8: ='frame fresh and panel'!J8 -> 29 | ... P8: ='frame fresh and panel'!P8 -> 57
A9: ='frame fresh and panel'!A9 -> Northeastern | B9: =LEFT('frame fresh and panel'!B9,FIND(")",'frame fresh and panel'!B9)) -> Extra Large (270 or more) | C9: ='frame fresh and panel'!C9 -> 21 | D9: ='frame fresh and panel'!D9 -> 62 | E9: ='frame fresh and panel'!E9 -> 20 | F9: ='frame fresh and panel'!F9 -> 82 | G9: ='frame fresh and panel'!G9 -> 21 | H9: ='frame fresh and panel'!H9 -> 20 | I9: ='frame fresh and panel'!I9 -> 65 | J9: ='frame fresh and panel'!J9 -> 22 | ... P9: ='frame fresh and panel'!P9 -> 108
A10: ='frame fresh and panel'!A10 -> East | B10: =LEFT('frame fresh and panel'!B10,FIND(")",'frame fresh and panel'!B10)) -> Small (5-19) | C10: ='frame fresh and panel'!C10 -> 232 | D10: ='frame fresh and panel'!D10 -> 303 | E10: ='frame fresh and panel'!E10 -> 176 | F10: ='frame fresh and panel'!F10 -> 116 | G10: ='frame fresh and panel'!G10 -> 183 | H10: ='frame fresh and panel'!H10 -> 278 | I10: ='frame fresh and panel'!I10 -> 835 | J10: ='frame fresh and panel'!J10 -> 193 | ... P10: ='frame fresh and panel'!P10 -> 1956 | Q10: =SUM(C10:P13) -> 14310
A11: ='frame fresh and panel'!A11 -> East | B11: =LEFT('frame fresh and panel'!B11,FIND(")",'frame fresh and panel'!B11)) -> Medium (20-99) | C11: ='frame fresh and panel'!C11 -> 301 | D11: ='frame fresh and panel'!D11 -> 432 | E11: ='frame fresh and panel'!E11 -> 283 | F11: ='frame fresh and panel'!F11 -> 208 | G11: ='frame fresh and panel'!G11 -> 191 | H11: ='frame fresh and panel'!H11 -> 229 | I11: ='frame fresh and panel'!I11 -> 455 | J11: ='frame fresh and panel'!J11 -> 339 | ... P11: ='frame fresh and panel'!P11 -> 247
A12: ='frame fresh and panel'!A12 -> East | B12: =LEFT('frame fresh and panel'!B12,FIND(")",'frame fresh and panel'!B12)) -> Large (100-269) | C12: ='frame fresh and panel'!C12 -> 143 | D12: ='frame fresh and panel'!D12 -> 155 | E12: ='frame fresh and panel'!E12 -> 140 | F12: ='frame fresh and panel'!F12 -> 136 | G12: ='frame fresh and panel'!G12 -> 107 | H12: ='frame fresh and panel'!H12 -> 97 | I12: ='frame fresh and panel'!I12 -> 105 | J12: ='frame fresh and panel'!J12 -> 162 | ... P12: ='frame fresh and panel'!P12 -> 158
A13: ='frame fresh and panel'!A13 -> East | B13: =LEFT('frame fresh and panel'!B13,FIND(")",'frame fresh and panel'!B13)) -> Extra Large (270 or more) | C13: ='frame fresh and panel'!C13 -> 61 | D13: ='frame fresh and panel'!D13 -> 71 | E13: ='frame fresh and panel'!E13 -> 110 | F13: ='frame fresh and panel'!F13 -> 90 | G13: ='frame fresh and panel'!G13 -> 32 | H13: ='frame fresh and panel'!H13 -> 20 | I13: ='frame fresh and panel'!I13 -> 107 | J13: ='frame fresh and panel'!J13 -> 73 | ... P13: ='frame fresh and panel'!P13 -> 101
A14: ='frame fresh and panel'!A14 -> Central | B14: =LEFT('frame fresh and panel'!B14,FIND(")",'frame fresh and panel'!B14)) -> Small (5-19) | C14: ='frame fresh and panel'!C14 -> 143 | D14: ='frame fresh and panel'!D14 -> 149 | E14: ='frame fresh and panel'!E14 -> 109 | F14: ='frame fresh and panel'!F14 -> 106 | G14: ='frame fresh and panel'!G14 -> 155 | H14: ='frame fresh and panel'!H14 -> 185 | I14: ='frame fresh and panel'!I14 -> 207 | J14: ='frame fresh and panel'!J14 -> 46 | ... P14: ='frame fresh and panel'!P14 -> 2032 | Q14: =SUM(C14:P17) -> 10032
A15: ='frame fresh and panel'!A15 -> Central | B15: =LEFT('frame fresh and panel'!B15,FIND(")",'frame fresh and panel'!B15)) -> Medium (20-99) | C15: ='frame fresh and panel'!C15 -> 188 | D15: ='frame fresh and panel'!D15 -> 267 | E15: ='frame fresh and panel'!E15 -> 165 | F15: ='frame fresh and panel'!F15 -> 234 | G15: ='frame fresh and panel'!G15 -> 195 | H15: ='frame fresh and panel'!H15 -> 124 | I15: ='frame fresh and panel'!I15 -> 133 | J15: ='frame fresh and panel'!J15 -> 121 | ... P15: ='frame fresh and panel'!P15 -> 267
A16: ='frame fresh and panel'!A16 -> Central | B16: =LEFT('frame fresh and panel'!B16,FIND(")",'frame fresh and panel'!B16)) -> Large (100-269) | C16: ='frame fresh and panel'!C16 -> 113 | D16: ='frame fresh and panel'!D16 -> 87 | E16: ='frame fresh and panel'!E16 -> 115 | F16: ='frame fresh and panel'!F16 -> 150 | G16: ='frame fresh and panel'!G16 -> 101 | H16: ='frame fresh and panel'!H16 -> 105 | I16: ='frame fresh and panel'!I16 -> 32 | J16: ='frame fresh and panel'!J16 -> 94 | ... P16: ='frame fresh and panel'!P16 -> 115
A17: ='frame fresh and panel'!A17 -> Central | B17: =LEFT('frame fresh and panel'!B17,FIND(")",'frame fresh and panel'!B17)) -> Extra Large (270 or more) | C17: ='frame fresh and panel'!C17 -> 62 | D17: ='frame fresh and panel'!D17 -> 68 | E17: ='frame fresh and panel'!E17 -> 26 | F17: ='frame fresh and panel'!F17 -> 86 | G17: ='frame fresh and panel'!G17 -> 30 | H17: ='frame fresh and panel'!H17 -> 20 | I17: ='frame fresh and panel'!I17 -> 23 | J17: ='frame fresh and panel'!J17 -> 29 | ... P17: ='frame fresh and panel'!P17 -> 71
A18: ='frame fresh and panel'!A18 -> Southwest | B18: =LEFT('frame fresh and panel'!B18,FIND(")",'frame fresh and panel'!B18)) -> Small (5-19) | C18: ='frame fresh and panel'!C18 -> 58 | D18: ='frame fresh and panel'!D18 -> 59 | E18: ='frame fresh and panel'!E18 -> 82 | F18: ='frame fresh and panel'!F18 -> 81 | G18: ='frame fresh and panel'!G18 -> 66 | H18: ='frame fresh and panel'!H18 -> 36 | I18: ='frame fresh and panel'!I18 -> 70 | J18: ='frame fresh and panel'!J18 -> 21 | ... P18: ='frame fresh and panel'!P18 -> 564 | Q18: =SUM(C18:P21) -> 5792
A19: ='frame fresh and panel'!A19 -> Southwest | B19: =LEFT('frame fresh and panel'!B19,FIND(")",'frame fresh and panel'!B19)) -> Medium (20-99) | C19: ='frame fresh and panel'!C19 -> 114 | D19: ='frame fresh and panel'!D19 -> 114 | E19: ='frame fresh and panel'!E19 -> 143 | F19: ='frame fresh and panel'!F19 -> 142 | G19: ='frame fresh and panel'!G19 -> 100 | H19: ='frame fresh and panel'!H19 -> 90 | I19: ='frame fresh and panel'!I19 -> 51 | J19: ='frame fresh and panel'!J19 -> 162 | ... P19: ='frame fresh and panel'!P19 -> 125
A20: ='frame fresh and panel'!A20 -> Southwest | B20: =LEFT('frame fresh and panel'!B20,FIND(")",'frame fresh and panel'!B20)) -> Large (100-269) | C20: ='frame fresh and panel'!C20 -> 66 | D20: ='frame fresh and panel'!D20 -> 81 | E20: ='frame fresh and panel'!E20 -> 86 | F20: ='frame fresh and panel'!F20 -> 102 | G20: ='frame fresh and panel'!G20 -> 74 | H20: ='frame fresh and panel'!H20 -> 118 | I20: ='frame fresh and panel'!I20 -> 55 | J20: ='frame fresh and panel'!J20 -> 107 | ... P20: ='frame fresh and panel'!P20 -> 106
A21: ='frame fresh and panel'!A21 -> Southwest | B21: =LEFT('frame fresh and panel'!B21,FIND(")",'frame fresh and panel'!B21)) -> Extra Large (270 or more) | C21: ='frame fresh and panel'!C21 -> 44 | D21: ='frame fresh and panel'!D21 -> 54 | E21: ='frame fresh and panel'!E21 -> 62 | F21: ='frame fresh and panel'!F21 -> 61 | G21: ='frame fresh and panel'!G21 -> 21 | H21: ='frame fresh and panel'!H21 -> 38 | I21: ='frame fresh and panel'!I21 -> 26 | J21: ='frame fresh and panel'!J21 -> 61 | ... P21: ='frame fresh and panel'!P21 -> 77
A22: ='frame fresh and panel'!A22 -> Northwest | B22: =LEFT('frame fresh and panel'!B22,FIND(")",'frame fresh and panel'!B22)) -> Small (5-19) | C22: ='frame fresh and panel'!C22 -> 20 | D22: ='frame fresh and panel'!D22 -> 40 | E22: ='frame fresh and panel'!E22 -> 40 | F22: ='frame fresh and panel'!F22 -> 60 | G22: ='frame fresh and panel'!G22 -> 20 | H22: ='frame fresh and panel'!H22 -> 20 | I22: ='frame fresh and panel'!I22 -> 47 | J22: ='frame fresh and panel'!J22 -> 60 | ... P22: ='frame fresh and panel'!P22 -> 109 | Q22: =SUM(C22:P25) -> 1965
A23: ='frame fresh and panel'!A23 -> Northwest | B23: =LEFT('frame fresh and panel'!B23,FIND(")",'frame fresh and panel'!B23)) -> Medium (20-99) | C23: ='frame fresh and panel'!C23 -> 53 | D23: ='frame fresh and panel'!D23 -> 55 | E23: ='frame fresh and panel'!E23 -> 40 | F23: ='frame fresh and panel'!F23 -> 40 | G23: ='frame fresh and panel'!G23 -> 30 | H23: ='frame fresh and panel'!H23 -> 35 | I23: ='frame fresh and panel'!I23 -> 20 | J23: ='frame fresh and panel'!J23 -> 40 | ... P23: ='frame fresh and panel'!P23 -> 20
A24: ='frame fresh and panel'!A24 -> Northwest | B24: =LEFT('frame fresh and panel'!B24,FIND(")",'frame fresh and panel'!B24)) -> Large (100-269) | C24: ='frame fresh and panel'!C24 -> 20 | D24: ='frame fresh and panel'!D24 -> 79 | E24: ='frame fresh and panel'!E24 -> 20 | F24: ='frame fresh and panel'!F24 -> 20 | G24: ='frame fresh and panel'!G24 -> 20 | H24: ='frame fresh and panel'!H24 -> 20 | I24: ='frame fresh and panel'!I24 -> 20 | J24: ='frame fresh and panel'!J24 -> 25 | ... P24: ='frame fresh and panel'!P24 -> 20
A25: ='frame fresh and panel'!A25 -> Northwest | B25: =LEFT('frame fresh and panel'!B25,FIND(")",'frame fresh and panel'!B25)) -> Extra Large (270 or more) | C25: ='frame fresh and panel'!C25 -> 20 | D25: ='frame fresh and panel'!D25 -> 20 | E25: ='frame fresh and panel'!E25 -> 20 | F25: ='frame fresh and panel'!F25 -> 20 | G25: ='frame fresh and panel'!G25 -> 20 | H25: ='frame fresh and panel'!H25 -> 20 | I25: ='frame fresh and panel'!I25 -> 20 | J25: ='frame fresh and panel'!J25 -> 20 | ... P25: ='frame fresh and panel'!P25 -> 20
C26: =SUM(C2:C25) -> 2165 | D26: =SUM(D2:D25) -> 2564 | E26: =SUM(E2:E25) -> 2115 | F26: =SUM(F2:F25) -> 2442 | G26: =SUM(G2:G25) -> 1743 | H26: =SUM(H2:H25) -> 1830 | I26: =SUM(I2:I25) -> 2796 | J26: =SUM(J2:J25) -> 2097 | ... Q26: =SUM(Q2:Q25) -> 41596
A27: Source: NBS drew sample (Establishment-level)

Sheet Table 3 Original Survey Design
C1: =RIGHT(SUBSTITUTE('original survey design'!C1,"_"," "),LEN(SUBSTITUTE('original survey design'!C1,"_"," "))-1) -> Food | D1: =RIGHT(SUBSTITUTE('original survey design'!D1,"_"," "),LEN(SUBSTITUTE('original survey design'!D1,"_"," "))-1) -> Wearing apparel | E1: =RIGHT(SUBSTITUTE('original survey design'!E1,"_"," "),LEN(SUBSTITUTE('original survey design'!E1,"_"," "))-1) -> Chemicals and chemical products | F1: =RIGHT(SUBSTITUTE('original survey design'!F1,"_"," "),LEN(SUBSTITUTE('original survey design'!F1,"_"," "))-1) -> Basic metals | G1: =RIGHT(SUBSTITUTE('original survey design'!G1,"_"," "),LEN(SUBSTITUTE('original survey design'!G1,"_"," "))-1) -> Computer electronics and opt | H1: =RIGHT(SUBSTITUTE('original survey design'!H1,"_"," "),LEN(SUBSTITUTE('original survey design'!H1,"_"," "))-1) -> Electrical equipment | I1: =RIGHT(SUBSTITUTE('original survey design'!I1,"_"," "),LEN(SUBSTITUTE('original survey design'!I1,"_"," "))-1) -> Machinery and equipment | J1: =RIGHT(SUBSTITUTE('original survey design'!J1,"_"," "),LEN(SUBSTITUTE('original survey design'!J1,"_"," "))-1) -> Motor vehicles trailers | ... P1: =RIGHT(SUBSTITUTE('original survey design'!P1,"_"," "),LEN(SUBSTITUTE('original survey design'!P1,"_"," "))-1) -> Other services | Q1: =RIGHT(SUBSTITUTE('original survey design'!T1,"_"," "),LEN(SUBSTITUTE('original survey design'!T1,"_"," "))-1) -> #VALUE!
A2: ='original survey design'!A2 -> North | B2: =LEFT('original survey design'!B2,FIND(")",'original survey design'!B2)) -> Small (5-19) | C2: ='original survey design'!C2 -> 6 | D2: ='original survey design'!D2 -> 4 | E2: ='original survey design'!E2 -> 5 | F2: ='original survey design'!F2 -> 4 | G2: ='original survey design'!G2 -> 3 | H2: ='original survey design'!H2 -> 5 | I2: ='original survey design'!I2 -> 8 | J2: ='original survey design'!J2 -> 3 | ... P2: ='original survey design'!P2 -> 31 | Q2: =SUM(C2:P5) -> 320
A3: ='original survey design'!A3 -> North | B3: =LEFT('original survey design'!B3,FIND(")",'original survey design'!B3)) -> Medium (20-99) | C3: ='original survey design'!C3 -> 6 | D3: ='original survey design'!D3 -> 4 | E3: ='original survey design'!E3 -> 4 | F3: ='original survey design'!F3 -> 5 | G3: ='original survey design'!G3 -> 3 | H3: ='original survey design'!H3 -> 4 | I3: ='original survey design'!I3 -> 4 | J3: ='original survey design'!J3 -> 6 | ... P3: ='original survey design'!P3 -> 10
A4: ='original survey design'!A4 -> North | B4: =LEFT('original survey design'!B4,FIND(")",'original survey design'!B4)) -> Large (100-269) | C4: ='original survey design'!C4 -> 3 | D4: ='original survey design'!D4 -> 3 | E4: ='original survey design'!E4 -> 3 | F4: ='original survey design'!F4 -> 3 | G4: ='original survey design'!G4 -> 2 | H4: ='original survey design'!H4 -> 4 | I4: ='original survey design'!I4 -> 3 | J4: ='original survey design'!J4 -> 5 | ... P4: ='original survey design'!P4 -> 2
A5: ='original survey design'!A5 -> North | B5: =LEFT('original survey design'!B5,FIND(")",'original survey design'!B5)) -> Extra Large (270 or more) | C5: ='original survey design'!C5 -> 3 | D5: ='original survey design'!D5 -> 3 | E5: ='original survey design'!E5 -> 4 | F5: ='original survey design'!F5 -> 5 | G5: ='original survey design'!G5 -> 3 | H5: ='original survey design'!H5 -> 3 | I5: ='original survey design'!I5 -> 2 | J5: ='original survey design'!J5 -> 3 | ... P5: ='original survey design'!P5 -> 2
A6: ='original survey design'!A6 -> Northeastern | B6: =LEFT('original survey design'!B6,FIND(")",'original survey design'!B6)) -> Small (5-19) | C6: ='original survey design'!C6 -> 4 | D6: ='original survey design'!D6 -> 2 | E6: ='original survey design'!E6 -> 3 | F6: ='original survey design'!F6 -> 4 | G6: ='original survey design'!G6 -> 3 | H6: ='original survey design'!H6 -> 4 | I6: ='original survey design'!I6 -> 4 | J6: ='original survey design'!J6 -> 3 | ... P6: ='original survey design'!P6 -> 15 | Q6: =SUM(C6:P9) -> 181
A7: ='original survey design'!A7 -> Northeastern | B7: =LEFT('original survey design'!B7,FIND(")",'original survey design'!B7)) -> Medium (20-99) | C7: ='original survey design'!C7 -> 3 | D7: ='original survey design'!D7 -> 3 | E7: ='original survey design'!E7 -> 3 | F7: ='original survey design'!F7 -> 3 | G7: ='original survey design'!G7 -> 3 | H7: ='original survey design'!H7 -> 4 | I7: ='original survey design'!I7 -> 3 | J7: ='original survey design'!J7 -> 4 | ... P7: ='original survey design'!P7 -> 4
A8: ='original survey design'!A8 -> Northeastern | B8: =LEFT('original survey design'!B8,FIND(")",'original survey design'!B8)) -> Large (100-269) | C8: ='original survey design'!C8 -> 4 | D8: ='original survey design'!D8 -> 2 | E8: ='original survey design'!E8 -> 3 | F8: ='original survey design'!F8 -> 3 | G8: ='original survey design'!G8 -> 3 | H8: ='original survey design'!H8 -> 3 | I8: ='original survey design'!I8 -> 1 | J8: ='original survey design'!J8 -> 3 | ... P8: ='original survey design'!P8 -> 2
A9: ='original survey design'!A9 -> Northeastern | B9: =LEFT('original survey design'!B9,FIND(")",'original survey design'!B9)) -> Extra Large (270 or more) | C9: ='original survey design'!C9 -> 2 | D9: ='original survey design'!D9 -> 3 | E9: ='original survey design'!E9 -> 2 | F9: ='original survey design'!F9 -> 3 | G9: ='original survey design'!G9 -> 2 | H9: ='original survey design'!H9 -> 3 | I9: ='original survey design'!I9 -> 3 | J9: ='original survey design'!J9 -> 2 | ... P9: ='original survey design'!P9 -> 2
A10: ='original survey design'!A10 -> East | B10: =LEFT('original survey design'!B10,FIND(")",'original survey design'!B10)) -> Small (5-19) | C10: ='original survey design'!C10 -> 15 | D10: ='original survey design'!D10 -> 17 | E10: ='original survey design'!E10 -> 13 | F10: ='original survey design'!F10 -> 10 | G10: ='original survey design'!G10 -> 16 | H10: ='original survey design'!H10 -> 16 | I10: ='original survey design'!I10 -> 33 | J10: ='original survey design'!J10 -> 11 | ... P10: ='original survey design'!P10 -> 60 | Q10: =SUM(C10:P13) -> 688
A11: ='original survey design'!A11 -> East | B11: =LEFT('original survey design'!B11,FIND(")",'original survey design'!B11)) -> Medium (20-99) | C11: ='original survey design'!C11 -> 12 | D11: ='original survey design'!D11 -> 16 | E11: ='original survey design'!E11 -> 14 | F11: ='original survey design'!F11 -> 15 | G11: ='original survey design'!G11 -> 14 | H11: ='original survey design'!H11 -> 9 | I11: ='original survey design'!I11 -> 14 | J11: ='original survey design'!J11 -> 14 | ... P11: ='original survey design'!P11 -> 29
A12: ='original survey design'!A12 -> East | B12: =LEFT('original survey design'!B12,FIND(")",'original survey design'!B12)) -> Large (100-269) | C12: ='original survey design'!C12 -> 8 | D12: ='original survey design'!D12 -> 10 | E12: ='original survey design'!E12 -> 9 | F12: ='original survey design'!F12 -> 9 | G12: ='original survey design'!G12 -> 6 | H12: ='original survey design'!H12 -> 4 | I12: ='original survey design'!I12 -> 4 | J12: ='original survey design'!J12 -> 10 | ... P12: ='original survey design'!P12 -> 4
A13: ='original survey design'!A13 -> East | B13: =LEFT('original survey design'!B13,FIND(")",'original survey design'!B13)) -> Extra Large (270 or more) | C13: ='original survey design'!C13 -> 3 | D13: ='original survey design'!D13 -> 7 | E13: ='original survey design'!E13 -> 6 | F13: ='original survey design'!F13 -> 6 | G13: ='original survey design'!G13 -> 7 | H13: ='original survey design'!H13 -> 4 | I13: ='original survey design'!I13 -> 3 | J13: ='original survey design'!J13 -> 8 | ... P13: ='original survey design'!P13 -> 2
A14: ='original survey design'!A14 -> Central | B14: =LEFT('original survey design'!B14,FIND(")",'original survey design'!B14)) -> Small (5-19) | C14: ='original survey design'!C14 -> 12 | D14: ='original survey design'!D14 -> 10 | E14: ='original survey design'!E14 -> 8 | F14: ='original survey design'!F14 -> 5 | G14: ='original survey design'!G14 -> 12 | H14: ='original survey design'!H14 -> 12 | I14: ='original survey design'!I14 -> 14 | J14: ='original survey design'!J14 -> 5 | ... P14: ='original survey design'!P14 -> 60 | Q14: =SUM(C14:P17) -> 541
A15: ='original survey design'!A15 -> Central | B15: =LEFT('original survey design'!B15,FIND(")",'original survey design'!B15)) -> Medium (20-99) | C15: ='original survey design'!C15 -> 11 | D15: ='original survey design'!D15 -> 12 | E15: ='original survey design'!E15 -> 10 | F15: ='original survey design'!F15 -> 8 | G15: ='original survey design'!G15 -> 14 | H15: ='original survey design'!H15 -> 8 | I15: ='original survey design'!I15 -> 8 | J15: ='original survey design'!J15 -> 9 | ... P15: ='original survey design'!P15 -> 22
A16: ='original survey design'!A16 -> Central | B16: =LEFT('original survey design'!B16,FIND(")",'original survey design'!B16)) -> Large (100-269) | C16: ='original survey design'!C16 -> 6 | D16: ='original survey design'!D16 -> 6 | E16: ='original survey design'!E16 -> 6 | F16: ='original survey design'!F16 -> 6 | G16: ='original survey design'!G16 -> 7 | H16: ='original survey design'!H16 -> 4 | I16: ='original survey design'!I16 -> 3 | J16: ='original survey design'!J16 -> 6 | ... P16: ='original survey design'!P16 -> 3
A17: ='original survey design'!A17 -> Central | B17: =LEFT('original survey design'!B17,FIND(")",'original survey design'!B17)) -> Extra Large (270 or more) | C17: ='original survey design'!C17 -> 5 | D17: ='original survey design'!D17 -> 6 | E17: ='original survey design'!E17 -> 4 | F17: ='original survey design'!F17 -> 4 | G17: ='original survey design'!G17 -> 6 | H17: ='original survey design'!H17 -> 4 | I17: ='original survey design'!I17 -> 3 | J17: ='original survey design'!J17 -> 6 | ... P17: ='original survey design'!P17 -> 2
A18: ='original survey design'!A18 -> Southwest | B18: =LEFT('original survey design'!B18,FIND(")",'original survey design'!B18)) -> Small (5-19) | C18: ='original survey design'!C18 -> 5 | D18: ='original survey design'!D18 -> 2 | E18: ='original survey design'!E18 -> 3 | F18: ='original survey design'!F18 -> 4 | G18: ='original survey design'!G18 -> 2 | H18: ='original survey design'!H18 -> 4 | I18: ='original survey design'!I18 -> 2 | J18: ='original survey design'!J18 -> 3 | ... P18: ='original survey design'!P18 -> 31 | Q18: =SUM(C18:P21) -> 260
A19: ='original survey design'!A19 -> Southwest | B19: =LEFT('original survey design'!B19,FIND(")",'original survey design'!B19)) -> Medium (20-99) | C19: ='original survey design'!C19 -> 3 | D19: ='original survey design'!D19 -> 2 | E19: ='original survey design'!E19 -> 3 | F19: ='original survey design'!F19 -> 4 | G19: ='original survey design'!G19 -> 2 | H19: ='original survey design'!H19 -> 4 | I19: ='original survey design'!I19 -> 1 | J19: ='original survey design'!J19 -> 3 | ... P19: ='original survey design'!P19 -> 9
A20: ='original survey design'!A20 -> Southwest | B20: =LEFT('original survey design'!B20,FIND(")",'original survey design'!B20)) -> Large (100-269) | C20: ='original survey design'!C20 -> 3 | D20: ='original survey design'!D20 -> 2 | E20: ='original survey design'!E20 -> 3 | F20: ='original survey design'!F20 -> 3 | G20: ='original survey design'!G20 -> 2 | H20: ='original survey design'!H20 -> 4 | I20: ='original survey design'!I20 -> 1 | J20: ='original survey design'!J20 -> 3 | ... P20: ='original survey design'!P20 -> 2
A21: ='original survey design'!A21 -> Southwest | B21: =LEFT('original survey design'!B21,FIND(")",'original survey design'!B21)) -> Extra Large (270 or more) | C21: ='original survey design'!C21 -> 1 | D21: ='original survey design'!D21 -> 2 | E21: ='original survey design'!E21 -> 3 | F21: ='original survey design'!F21 -> 3 | G21: ='original survey design'!G21 -> 2 | H21: ='original survey design'!H21 -> 3 | I21: ='original survey design'!I21 -> 2 | J21: ='original survey design'!J21 -> 3 | ... P21: ='original survey design'!P21 -> 2
A22: ='original survey design'!A22 -> Northwest | B22: =LEFT('original survey design'!B22,FIND(")",'original survey design'!B22)) -> Small (5-19) | C22: ='original survey design'!C22 -> 2 | D22: ='original survey design'!D22 -> 1 | E22: ='original survey design'!E22 -> 3 | F22: ='original survey design'!F22 -> 4 | G22: ='original survey design'!G22 -> 2 | H22: ='original survey design'!H22 -> 4 | I22: ='original survey design'!I22 -> 1 | J22: ='original survey design'!J22 -> 3 | ... P22: ='original survey design'!P22 -> 20 | Q22: =SUM(C22:P25) -> 170
A23: ='original survey design'!A23 -> Northwest | B23: =LEFT('original survey design'!B23,FIND(")",'original survey design'!B23)) -> Medium (20-99) | C23: ='original survey design'!C23 -> 1 | D23: ='original survey design'!D23 -> 1 | E23: ='original survey design'!E23 -> 3 | F23: ='original survey design'!F23 -> 3 | G23: ='original survey design'!G23 -> 2 | H23: ='original survey design'!H23 -> 4 | I23: ='original survey design'!I23 -> 1 | J23: ='original survey design'!J23 -> 3 | ... P23: ='original survey design'!P23 -> 4
A24: ='original survey design'!A24 -> Northwest | B24: =LEFT('original survey design'!B24,FIND(")",'original survey design'!B24)) -> Large (100-269) | C24: ='original survey design'!C24 -> 1 | D24: ='original survey design'!D24 -> 1 | E24: ='original survey design'!E24 -> 3 | F24: ='original survey design'!F24 -> 3 | G24: ='original survey design'!G24 -> 2 | H24: ='original survey design'!H24 -> 3 | I24: ='original survey design'!I24 -> 1 | J24: ='original survey design'!J24 -> 2 | ... P24: ='original survey design'!P24 -> 1
A25: ='original survey design'!A25 -> Northwest | B25: =LEFT('original survey design'!B25,FIND(")",'original survey design'!B25)) -> Extra Large (270 or more) | C25: ='original survey design'!C25 -> 1 | D25: ='original survey design'!D25 -> 1 | E25: ='original survey design'!E25 -> 2 | F25: ='original survey design'!F25 -> 3 | G25: ='original survey design'!G25 -> 2 | H25: ='original survey design'!H25 -> 3 | I25: ='original survey design'!I25 -> 1 | J25: ='original survey design'!J25 -> 2 | ... P25: ='original survey design'!P25 -> 1
C26: =SUM(C2:C25) -> 120 | D26: =SUM(D2:D25) -> 120 | E26: =SUM(E2:E25) -> 120 | F26: =SUM(F2:F25) -> 120 | G26: =SUM(G2:G25) -> 120 | H26: =SUM(H2:H25) -> 120 | I26: =SUM(I2:I25) -> 120 | J26: =SUM(J2:J25) -> 120 | ... Q26: =SUM(Q2:Q25) -> 2160

Sheet Table 4 Response Outcomes
D2: Totals | E2: Rates relative to total contacted
B3: Overall | C3: Contacts available in frame | D3: 41596
C4: Issued | D4: 32580
C5: Contacted | D5: 22121
B6: Screening phase | C6: Eligibles | D6: 2962 | E6: =D6/D$5 -> 0.13389991
C7: Screener refusals | D7: 7848 | E7: =D7/D$5 -> 0.354776
C8: Assumed eligibles | D8: 10857 | E8: =D8/D$5 -> 0.4908006
C9: Ineligible + out of target | D9: 3307 | E9: =D9/D$5 -> 0.14949595
C10: Unobtainables | D10: 8000 | E10: =D10/D$5 -> 0.3616473
B11: Interview phase | C11: Interview refusals | D11: 726 | E11: =D11/D$5 -> 0.032819493
B12: (only if eligible) | C12: Complete interviews | D12: 2189 | E12: =D12/D$5 -> 0.098955743

Sheet Table 5 Survey Yield Rates
C2: Stratification | D2: Yield | E2: Survey response rate | F2: Frame quality
B3: Panel | C3: Fresh | D3: =VLOOKUP($C3,'yield calculation'!$C:$F,2,FALSE) -> 0.10213912 | E3: =VLOOKUP($C3,'yield calculation'!$C:$F,3,FALSE) -> 0.1914935 | F3: =VLOOKUP($C3,'yield calculation'!$C:$F,4,FALSE) -> 0.5333817
C4: Panel | D4: =VLOOKUP($C4,'yield calculation'!$C:$F,2,FALSE) -> 0.077114426 | E4: =VLOOKUP($C4,'yield calculation'!$C:$F,3,FALSE) -> 0.38819319 | F4: =VLOOKUP($C4,'yield calculation'!$C:$F,4,FALSE) -> 0.19864962
B5: Size | C5: Small (5-19) | D5: =VLOOKUP($C5,'yield calculation'!$C:$F,2,FALSE) -> 0.080161944 | E5: =VLOOKUP($C5,'yield calculation'!$C:$F,3,FALSE) -> 0.16176471 | F5: =VLOOKUP($C5,'yield calculation'!$C:$F,4,FALSE) -> 0.49554655
C6: Medium (20-99) | D6: =VLOOKUP($C6,'yield calculation'!$C:$F,2,FALSE) -> 0.10495166 | E6: =VLOOKUP($C6,'yield calculation'!$C:$F,3,FALSE) -> 0.24192815 | F6: =VLOOKUP($C6,'yield calculation'!$C:$F,4,FALSE) -> 0.43381336
C7: Large (100-269) | D7: =VLOOKUP($C7,'yield calculation'!$C:$F,2,FALSE) -> 0.12155745 | E7: =VLOOKUP($C7,'yield calculation'!$C:$F,3,FALSE) -> 0.23747681 | F7: =VLOOKUP($C7,'yield calculation'!$C:$F,4,FALSE) -> 0.51187086
C8: Extra large (270+) | D8: =VLOOKUP($C8,'yield calculation'!$C:$F,2,FALSE) -> 0.137509 | E8: =VLOOKUP($C8,'yield calculation'!$C:$F,3,FALSE) -> 0.24918461 | F8: =VLOOKUP($C8,'yield calculation'!$C:$F,4,FALSE) -> 0.55183583
B9: Region | C9: North | D9: =VLOOKUP($C9,'yield calculation'!$C:$F,2,FALSE) -> 0.098591551 | E9: =VLOOKUP($C9,'yield calculation'!$C:$F,3,FALSE) -> 0.14564756 | F9: =VLOOKUP($C9,'yield calculation'!$C:$F,4,FALSE) -> 0.67691863
C10: Northeastern | D10: =VLOOKUP($C10,'yield calculation'!$C:$F,2,FALSE) -> 0.14162873 | E10: =VLOOKUP($C10,'yield calculation'!$C:$F,3,FALSE) -> 0.30973452 | F10: =VLOOKUP($C10,'yield calculation'!$C:$F,4,FALSE) -> 0.45725846
C11: East | D11: =VLOOKUP($C11,'yield calculation'!$C:$F,2,FALSE) -> 0.10958904 | E11: =VLOOKUP($C11,'yield calculation'!$C:$F,3,FALSE) -> 0.5673759 | F11: =VLOOKUP($C11,'yield calculation'!$C:$F,4,FALSE) -> 0.19315068
C12: Central | D12: =VLOOKUP($C12,'yield calculation'!$C:$F,2,FALSE) -> 0.067327611 | E12: =VLOOKUP($C12,'yield calculation'!$C:$F,3,FALSE) -> 0.12569061 | F12: =VLOOKUP($C12,'yield calculation'!$C:$F,4,FALSE) -> 0.53566146
C13: Southwest | D13: =VLOOKUP($C13,'yield calculation'!$C:$F,2,FALSE) -> 0.084049664 | E13: =VLOOKUP($C13,'yield calculation'!$C:$F,3,FALSE) -> 0.10666667 | F13: =VLOOKUP($C13,'yield calculation'!$C:$F,4,FALSE) -> 0.7879656
C14: Northwest | D14: =VLOOKUP($C14,'yield calculation'!$C:$F,2,FALSE) -> 0.17330918 | E14: =VLOOKUP($C14,'yield calculation'!$C:$F,3,FALSE) -> 0.55620158 | F14: =VLOOKUP($C14,'yield calculation'!$C:$F,4,FALSE) -> 0.31159419
B15: Sector | C15: Food | D15: =VLOOKUP($C15,'yield calculation'!$C:$F,2,FALSE) -> 0.10731319 | E15: =VLOOKUP($C15,'yield calculation'!$C:$F,3,FALSE) -> 0.21915585 | F15: =VLOOKUP($C15,'yield calculation'!$C:$F,4,FALSE) -> 0.48966613
C16: Wearing apparel | D16: =VLOOKUP($C16,'yield calculation'!$C:$F,2,FALSE) -> 0.098274566 | E16: =VLOOKUP($C16,'yield calculation'!$C:$F,3,FALSE) -> 0.19124088 | F16: =VLOOKUP($C16,'yield calculation'!$C:$F,4,FALSE) -> 0.51387846
C17: Chemicals and chemical products | D17: =VLOOKUP($C17,'yield calculation'!$C:$F,2,FALSE) -> 0.14240506 | E17: =VLOOKUP($C17,'yield calculation'!$C:$F,3,FALSE) -> 0.28784648 | F17: =VLOOKUP($C17,'yield calculation'!$C:$F,4,FALSE) -> 0.49472573
C18: Basic metals | D18: =VLOOKUP($C18,'yield calculation'!$C:$F,2,FALSE) -> 0.11181818 | E18: =VLOOKUP($C18,'yield calculation'!$C:$F,3,FALSE) -> 0.20263591 | F18: =VLOOKUP($C18,'yield calculation'!$C:$F,4,FALSE) -> 0.55181819
C19: Computer, electronics, and optical products | D19: =VLOOKUP($C19,'yield calculation'!$C:$F,2,FALSE) -> 0.13870247 | E19: =VLOOKUP($C19,'yield calculation'!$C:$F,3,FALSE) -> 0.29594272 | F19: =VLOOKUP($C19,'yield calculation'!$C:$F,4,FALSE) -> 0.46868008
C20: Electrical equipment | D20: =VLOOKUP($C20,'yield calculation'!$C:$F,2,FALSE) -> 0.1733167 | E20: =VLOOKUP($C20,'yield calculation'!$C:$F,3,FALSE) -> 0.37165776 | F20: =VLOOKUP($C20,'yield calculation'!$C:$F,4,FALSE) -> 0.46633416
C21: Machinery and equipment | D21: =VLOOKUP($C21,'yield calculation'!$C:$F,2,FALSE) -> 0.11749116 | E21: =VLOOKUP($C21,'yield calculation'!$C:$F,3,FALSE) -> 0.24050634 | F21: =VLOOKUP($C21,'yield calculation'!$C:$F,4,FALSE) -> 0.48851591
C22: Motor vehicles, trailers, and semi-trailers | D22: =VLOOKUP($C22,'yield calculation'!$C:$F,2,FALSE) -> 0.15045249 | E22: =VLOOKUP($C22,'yield calculation'!$C:$F,3,FALSE) -> 0.37784091 | F22: =VLOOKUP($C22,'yield calculation'!$C:$F,4,FALSE) -> 0.39819005
C23: Other manufacturing | D23: =VLOOKUP($C23,'yield calculation'!$C:$F,2,FALSE) -> 0.099154137 | E23: =VLOOKUP($C23,'yield calculation'!$C:$F,3,FALSE) -> 0.26408011 | F23: =VLOOKUP($C23,'yield calculation'!$C:$F,4,FALSE) -> 0.37546992
C24: Retail | D24: =VLOOKUP($C24,'yield calculation'!$C:$F,2,FALSE) -> 0.095559306 | E24: =VLOOKUP($C24,'yield calculation'!$C:$F,3,FALSE) -> 0.17580144 | F24: =VLOOKUP($C24,'yield calculation'!$C:$F,4,FALSE) -> 0.54356378
C25: Hotels | D25: =VLOOKUP($C25,'yield calculation'!$C:$F,2,FALSE) -> 0.14461884 | E25: =VLOOKUP($C25,'yield calculation'!$C:$F,3,FALSE) -> 0.25443786 | F25: =VLOOKUP($C25,'yield calculation'!$C:$F,4,FALSE) -> 0.56838566
C26: Construction | D26: =VLOOKUP($C26,'yield calculation'!$C:$F,2,FALSE) -> 0.067025237 | E26: =VLOOKUP($C26,'yield calculation'!$C:$F,3,FALSE) -> 0.13798977 | F26: =VLOOKUP($C26,'yield calculation'!$C:$F,4,FALSE) -> 0.48572612
C27: Professional services | D27: =VLOOKUP($C27,'yield calculation'!$C:$F,2,FALSE) -> 0.069501229 | E27: =VLOOKUP($C27,'yield calculation'!$C:$F,3,FALSE) -> 0.11517615 | F27: =VLOOKUP($C27,'yield calculation'!$C:$F,4,FALSE) -> 0.60343421
C28: Other Services | D28: =VLOOKUP($C28,'yield calculation'!$C:$F,2,FALSE) -> 0.07156767 | E28: =VLOOKUP($C28,'yield calculation'!$C:$F,3,FALSE) -> 0.15814954 | F28: =VLOOKUP($C28,'yield calculation'!$C:$F,4,FALSE) -> 0.45253164
B29: Overall | C29: China 2024 | D29: =VLOOKUP($C29,'yield calculation'!$C:$F,2,FALSE) -> 0.098955743 | E29: =VLOOKUP($C29,'yield calculation'!$C:$F,3,FALSE) -> 0.20162107 | F29: =VLOOKUP($C29,'yield calculation'!$C:$F,4,FALSE) -> 0.49080059
B30: Notes: the rates are calculated as defined in Section III.4

Sheet Table 6 Achieved Total Sample 
C1: =RIGHT(SUBSTITUTE('achieved fresh and panel'!C1,"_"," "),LEN(SUBSTITUTE('achieved fresh and panel'!C1,"_"," "))-1) -> Food | D1: =RIGHT(SUBSTITUTE('achieved fresh and panel'!D1,"_"," "),LEN(SUBSTITUTE('achieved fresh and panel'!D1,"_"," "))-1) -> Wearing apparel | E1: =RIGHT(SUBSTITUTE('achieved fresh and panel'!E1,"_"," "),LEN(SUBSTITUTE('achieved fresh and panel'!E1,"_"," "))-1) -> Chemicals and chemical products | F1: =RIGHT(SUBSTITUTE('achieved fresh and panel'!F1,"_"," "),LEN(SUBSTITUTE('achieved fresh and panel'!F1,"_"," "))-1) -> Basic metals | G1: =RIGHT(SUBSTITUTE('achieved fresh and panel'!G1,"_"," "),LEN(SUBSTITUTE('achieved fresh and panel'!G1,"_"," "))-1) -> Computer electronics and opt | H1: =RIGHT(SUBSTITUTE('achieved fresh and panel'!H1,"_"," "),LEN(SUBSTITUTE('achieved fresh and panel'!H1,"_"," "))-1) -> Electrical equipment | I1: =RIGHT(SUBSTITUTE('achieved fresh and panel'!I1,"_"," "),LEN(SUBSTITUTE('achieved fresh and panel'!I1,"_"," "))-1) -> Machinery and equipment | J1: =RIGHT(SUBSTITUTE('achieved fresh and panel'!J1,"_"," "),LEN(SUBSTITUTE('achieved fresh and panel'!J1,"_"," "))-1) -> Motor vehicles trailers | ... P1: =RIGHT(SUBSTITUTE('achieved fresh and panel'!P1,"_"," "),LEN(SUBSTITUTE('achieved fresh and panel'!P1,"_"," "))-1) -> Other services | Q1: =RIGHT(SUBSTITUTE('achieved fresh and panel'!T1,"_"," "),LEN(SUBSTITUTE('achieved fresh and panel'!T1,"_"," "))-1) -> #VALUE!
A2: ='achieved fresh and panel'!A2 -> North | B2: =LEFT('achieved fresh and panel'!B2,FIND(")",'achieved fresh and panel'!B2)) -> Small (5-19) | C2: ='achieved fresh and panel'!C2 -> 5 | D2: ='achieved fresh and panel'!D2 -> 4 | E2: ='achieved fresh and panel'!E2 -> 7 | F2: ='achieved fresh and panel'!F2 -> 9 | G2: ='achieved fresh and panel'!G2 -> 4 | H2: ='achieved fresh and panel'!H2 -> 5 | I2: ='achieved fresh and panel'!I2 -> 5 | J2: ='achieved fresh and panel'!J2 -> 6 | ... P2: ='achieved fresh and panel'!P2 -> 22 | Q2: =SUM(C2:P5) -> 343
A3: ='achieved fresh and panel'!A3 -> North | B3: =LEFT('achieved fresh and panel'!B3,FIND(")",'achieved fresh and panel'!B3)) -> Medium (20-99) | C3: ='achieved fresh and panel'!C3 -> 8 | D3: ='achieved fresh and panel'!D3 -> 10 | E3: ='achieved fresh and panel'!E3 -> 8 | F3: ='achieved fresh and panel'!F3 -> 5 | G3: ='achieved fresh and panel'!G3 -> 5 | H3: ='achieved fresh and panel'!H3 -> 7 | I3: ='achieved fresh and panel'!I3 -> 4 | J3: ='achieved fresh and panel'!J3 -> 6 | ... P3: ='achieved fresh and panel'!P3 -> 5
A4: ='achieved fresh and panel'!A4 -> North | B4: =LEFT('achieved fresh and panel'!B4,FIND(")",'achieved fresh and panel'!B4)) -> Large (100-269) | C4: ='achieved fresh and panel'!C4 -> 4 | D4: ='achieved fresh and panel'!D4 -> 6 | E4: ='achieved fresh and panel'!E4 -> 5 | F4: ='achieved fresh and panel'!F4 -> 4 | G4: ='achieved fresh and panel'!G4 -> 4 | H4: ='achieved fresh and panel'!H4 -> 4 | I4: ='achieved fresh and panel'!I4 -> 5 | J4: ='achieved fresh and panel'!J4 -> 6 | ... P4: ='achieved fresh and panel'!P4 -> 4
A5: ='achieved fresh and panel'!A5 -> North | B5: =LEFT('achieved fresh and panel'!B5,FIND(")",'achieved fresh and panel'!B5)) -> Extra Large (270 or more) | C5: ='achieved fresh and panel'!C5 -> 4 | D5: ='achieved fresh and panel'!D5 -> 3 | E5: ='achieved fresh and panel'!E5 -> 4 | F5: ='achieved fresh and panel'!F5 -> 3 | G5: ='achieved fresh and panel'!G5 -> 7 | H5: ='achieved fresh and panel'!H5 -> 4 | I5: ='achieved fresh and panel'!I5 -> 5 | J5: ='achieved fresh and panel'!J5 -> 5 | ... P5: ='achieved fresh and panel'!P5 -> 4
A6: ='achieved fresh and panel'!A6 -> Northeastern | B6: =LEFT('achieved fresh and panel'!B6,FIND(")",'achieved fresh and panel'!B6)) -> Small (5-19) | C6: ='achieved fresh and panel'!C6 -> 6 | D6: ='achieved fresh and panel'!D6 -> 4 | E6: ='achieved fresh and panel'!E6 -> 4 | F6: ='achieved fresh and panel'!F6 -> 4 | G6: ='achieved fresh and panel'!G6 -> 4 | H6: ='achieved fresh and panel'!H6 -> 5 | I6: ='achieved fresh and panel'!I6 -> 4 | J6: ='achieved fresh and panel'!J6 -> 4 | ... P6: ='achieved fresh and panel'!P6 -> 6 | Q6: =SUM(C6:P9) -> 280
A7: ='achieved fresh and panel'!A7 -> Northeastern | B7: =LEFT('achieved fresh and panel'!B7,FIND(")",'achieved fresh and panel'!B7)) -> Medium (20-99) | C7: ='achieved fresh and panel'!C7 -> 5 | D7: ='achieved fresh and panel'!D7 -> 4 | E7: ='achieved fresh and panel'!E7 -> 7 | F7: ='achieved fresh and panel'!F7 -> 5 | G7: ='achieved fresh and panel'!G7 -> 6 | H7: ='achieved fresh and panel'!H7 -> 7 | I7: ='achieved fresh and panel'!I7 -> 8 | J7: ='achieved fresh and panel'!J7 -> 6 | ... P7: ='achieved fresh and panel'!P7 -> 4
A8: ='achieved fresh and panel'!A8 -> Northeastern | B8: =LEFT('achieved fresh and panel'!B8,FIND(")",'achieved fresh and panel'!B8)) -> Large (100-269) | C8: ='achieved fresh and panel'!C8 -> 5 | D8: ='achieved fresh and panel'!D8 -> 4 | E8: ='achieved fresh and panel'!E8 -> 5 | F8: ='achieved fresh and panel'!F8 -> 4 | G8: ='achieved fresh and panel'!G8 -> 6 | H8: ='achieved fresh and panel'!H8 -> 5 | I8: ='achieved fresh and panel'!I8 -> 8 | J8: ='achieved fresh and panel'!J8 -> 5 | ... P8: ='achieved fresh and panel'!P8 -> 4
A9: ='achieved fresh and panel'!A9 -> Northeastern | B9: =LEFT('achieved fresh and panel'!B9,FIND(")",'achieved fresh and panel'!B9)) -> Extra Large (270 or more) | C9: ='achieved fresh and panel'!C9 -> 4 | D9: ='achieved fresh and panel'!D9 -> 4 | E9: ='achieved fresh and panel'!E9 -> 4 | F9: ='achieved fresh and panel'!F9 -> 4 | G9: ='achieved fresh and panel'!G9 -> 6 | H9: ='achieved fresh and panel'!H9 -> 6 | I9: ='achieved fresh and panel'!I9 -> 4 | J9: ='achieved fresh and panel'!J9 -> 7 | ... P9: ='achieved fresh and panel'!P9 -> 4
A10: ='achieved fresh and panel'!A10 -> East | B10: =LEFT('achieved fresh and panel'!B10,FIND(")",'achieved fresh and panel'!B10)) -> Small (5-19) | C10: ='achieved fresh and panel'!C10 -> 11 | D10: ='achieved fresh and panel'!D10 -> 9 | E10: ='achieved fresh and panel'!E10 -> 6 | F10: ='achieved fresh and panel'!F10 -> 9 | G10: ='achieved fresh and panel'!G10 -> 4 | H10: ='achieved fresh and panel'!H10 -> 9 | I10: ='achieved fresh and panel'!I10 -> 19 | J10: ='achieved fresh and panel'!J10 -> 7 | ... P10: ='achieved fresh and panel'!P10 -> 87 | Q10: =SUM(C10:P13) -> 560
A11: ='achieved fresh and panel'!A11 -> East | B11: =LEFT('achieved fresh and panel'!B11,FIND(")",'achieved fresh and panel'!B11)) -> Medium (20-99) | C11: ='achieved fresh and panel'!C11 -> 9 | D11: ='achieved fresh and panel'!D11 -> 9 | E11: ='achieved fresh and panel'!E11 -> 15 | F11: ='achieved fresh and panel'!F11 -> 9 | G11: ='achieved fresh and panel'!G11 -> 8 | H11: ='achieved fresh and panel'!H11 -> 8 | I11: ='achieved fresh and panel'!I11 -> 10 | J11: ='achieved fresh and panel'!J11 -> 9 | ... P11: ='achieved fresh and panel'!P11 -> 12
A12: ='achieved fresh and panel'!A12 -> East | B12: =LEFT('achieved fresh and panel'!B12,FIND(")",'achieved fresh and panel'!B12)) -> Large (100-269) | C12: ='achieved fresh and panel'!C12 -> 4 | D12: ='achieved fresh and panel'!D12 -> 9 | E12: ='achieved fresh and panel'!E12 -> 4 | F12: ='achieved fresh and panel'!F12 -> 4 | G12: ='achieved fresh and panel'!G12 -> 5 | H12: ='achieved fresh and panel'!H12 -> 4 | I12: ='achieved fresh and panel'!I12 -> 4 | J12: ='achieved fresh and panel'!J12 -> 5 | ... P12: ='achieved fresh and panel'!P12 -> 4
A13: ='achieved fresh and panel'!A13 -> East | B13: =LEFT('achieved fresh and panel'!B13,FIND(")",'achieved fresh and panel'!B13)) -> Extra Large (270 or more) | C13: ='achieved fresh and panel'!C13 -> 4 | D13: ='achieved fresh and panel'!D13 -> 4 | E13: ='achieved fresh and panel'!E13 -> 4 | F13: ='achieved fresh and panel'!F13 -> 4 | G13: ='achieved fresh and panel'!G13 -> 7 | H13: ='achieved fresh and panel'!H13 -> 4 | I13: ='achieved fresh and panel'!I13 -> 4 | J13: ='achieved fresh and panel'!J13 -> 4 | ... P13: ='achieved fresh and panel'!P13 -> 4
A14: ='achieved fresh and panel'!A14 -> Central | B14: =LEFT('achieved fresh and panel'!B14,FIND(")",'achieved fresh and panel'!B14)) -> Small (5-19) | C14: ='achieved fresh and panel'!C14 -> 10 | D14: ='achieved fresh and panel'!D14 -> 9 | E14: ='achieved fresh and panel'!E14 -> 4 | F14: ='achieved fresh and panel'!F14 -> 9 | G14: ='achieved fresh and panel'!G14 -> 5 | H14: ='achieved fresh and panel'!H14 -> 10 | I14: ='achieved fresh and panel'!I14 -> 4 | J14: ='achieved fresh and panel'!J14 -> 4 | ... P14: ='achieved fresh and panel'!P14 -> 59 | Q14: =SUM(C14:P17) -> 455
A15: ='achieved fresh and panel'!A15 -> Central | B15: =LEFT('achieved fresh and panel'!B15,FIND(")",'achieved fresh and panel'!B15)) -> Medium (20-99) | C15: ='achieved fresh and panel'!C15 -> 10 | D15: ='achieved fresh and panel'!D15 -> 8 | E15: ='achieved fresh and panel'!E15 -> 10 | F15: ='achieved fresh and panel'!F15 -> 6 | G15: ='achieved fresh and panel'!G15 -> 8 | H15: ='achieved fresh and panel'!H15 -> 10 | I15: ='achieved fresh and panel'!I15 -> 5 | J15: ='achieved fresh and panel'!J15 -> 9 | ... P15: ='achieved fresh and panel'!P15 -> 9
A16: ='achieved fresh and panel'!A16 -> Central | B16: =LEFT('achieved fresh and panel'!B16,FIND(")",'achieved fresh and panel'!B16)) -> Large (100-269) | C16: ='achieved fresh and panel'!C16 -> 4 | D16: ='achieved fresh and panel'!D16 -> 4 | E16: ='achieved fresh and panel'!E16 -> 4 | F16: ='achieved fresh and panel'!F16 -> 4 | G16: ='achieved fresh and panel'!G16 -> 4 | H16: ='achieved fresh and panel'!H16 -> 4 | I16: ='achieved fresh and panel'!I16 -> 4 | J16: ='achieved fresh and panel'!J16 -> 5 | ... P16: ='achieved fresh and panel'!P16 -> 6
A17: ='achieved fresh and panel'!A17 -> Central | B17: =LEFT('achieved fresh and panel'!B17,FIND(")",'achieved fresh and panel'!B17)) -> Extra Large (270 or more) | C17: ='achieved fresh and panel'!C17 -> 4 | D17: ='achieved fresh and panel'!D17 -> 4 | E17: ='achieved fresh and panel'!E17 -> 4 | F17: ='achieved fresh and panel'!F17 -> 5 | G17: ='achieved fresh and panel'!G17 -> 4 | H17: ='achieved fresh and panel'!H17 -> 6 | I17: ='achieved fresh and panel'!I17 -> 4 | J17: ='achieved fresh and panel'!J17 -> 5 | ... P17: ='achieved fresh and panel'!P17 -> 5
A18: ='achieved fresh and panel'!A18 -> Southwest | B18: =LEFT('achieved fresh and panel'!B18,FIND(")",'achieved fresh and panel'!B18)) -> Small (5-19) | C18: ='achieved fresh and panel'!C18 -> 4 | D18: ='achieved fresh and panel'!D18 -> 4 | E18: ='achieved fresh and panel'!E18 -> 5 | F18: ='achieved fresh and panel'!F18 -> 4 | G18: ='achieved fresh and panel'!G18 -> 4 | H18: ='achieved fresh and panel'!H18 -> 4 | I18: ='achieved fresh and panel'!I18 -> 4 | J18: ='achieved fresh and panel'!J18 -> 4 | ... P18: ='achieved fresh and panel'!P18 -> 21 | Q18: =SUM(C18:P21) -> 264
A19: ='achieved fresh and panel'!A19 -> Southwest | B19: =LEFT('achieved fresh and panel'!B19,FIND(")",'achieved fresh and panel'!B19)) -> Medium (20-99) | C19: ='achieved fresh and panel'!C19 -> 4 | D19: ='achieved fresh and panel'!D19 -> 4 | E19: ='achieved fresh and panel'!E19 -> 4 | F19: ='achieved fresh and panel'!F19 -> 4 | G19: ='achieved fresh and panel'!G19 -> 4 | H19: ='achieved fresh and panel'!H19 -> 5 | I19: ='achieved fresh and panel'!I19 -> 4 | J19: ='achieved fresh and panel'!J19 -> 4 | ... P19: ='achieved fresh and panel'!P19 -> 4
A20: ='achieved fresh and panel'!A20 -> Southwest | B20: =LEFT('achieved fresh and panel'!B20,FIND(")",'achieved fresh and panel'!B20)) -> Large (100-269) | C20: ='achieved fresh and panel'!C20 -> 4 | D20: ='achieved fresh and panel'!D20 -> 4 | E20: ='achieved fresh and panel'!E20 -> 4 | F20: ='achieved fresh and panel'!F20 -> 3 | G20: ='achieved fresh and panel'!G20 -> 4 | H20: ='achieved fresh and panel'!H20 -> 4 | I20: ='achieved fresh and panel'!I20 -> 5 | J20: ='achieved fresh and panel'!J20 -> 5 | ... P20: ='achieved fresh and panel'!P20 -> 4
A21: ='achieved fresh and panel'!A21 -> Southwest | B21: =LEFT('achieved fresh and panel'!B21,FIND(")",'achieved fresh and panel'!B21)) -> Extra Large (270 or more) | C21: ='achieved fresh and panel'!C21 -> 4 | D21: ='achieved fresh and panel'!D21 -> 4 | E21: ='achieved fresh and panel'!E21 -> 4 | F21: ='achieved fresh and panel'!F21 -> 4 | G21: ='achieved fresh and panel'!G21 -> 4 | H21: ='achieved fresh and panel'!H21 -> 4 | I21: ='achieved fresh and panel'!I21 -> 4 | J21: ='achieved fresh and panel'!J21 -> 4 | ... P21: ='achieved fresh and panel'!P21 -> 4
A22: ='achieved fresh and panel'!A22 -> Northwest | B22: =LEFT('achieved fresh and panel'!B22,FIND(")",'achieved fresh and panel'!B22)) -> Small (5-19) | C22: ='achieved fresh and panel'!C22 -> 4 | D22: ='achieved fresh and panel'!D22 -> 5 | E22: ='achieved fresh and panel'!E22 -> 4 | F22: ='achieved fresh and panel'!F22 -> 4 | G22: ='achieved fresh and panel'!G22 -> 4 | H22: ='achieved fresh and panel'!H22 -> 4 | I22: ='achieved fresh and panel'!I22 -> 4 | J22: ='achieved fresh and panel'!J22 -> 4 | ... P22: ='achieved fresh and panel'!P22 -> 9 | Q22: =SUM(C22:P25) -> 287
A23: ='achieved fresh and panel'!A23 -> Northwest | B23: =LEFT('achieved fresh and panel'!B23,FIND(")",'achieved fresh and panel'!B23)) -> Medium (20-99) | C23: ='achieved fresh and panel'!C23 -> 6 | D23: ='achieved fresh and panel'!D23 -> 6 | E23: ='achieved fresh and panel'!E23 -> 10 | F23: ='achieved fresh and panel'!F23 -> 6 | G23: ='achieved fresh and panel'!G23 -> 7 | H23: ='achieved fresh and panel'!H23 -> 9 | I23: ='achieved fresh and panel'!I23 -> 4 | J23: ='achieved fresh and panel'!J23 -> 8 | ... P23: ='achieved fresh and panel'!P23 -> 4
