Workbook

Sheet Table 1 Universe
C1: =RIGHT(SUBSTITUTE(universe!C1,"_"," "),LEN(SUBSTITUTE(universe!C1,"_"," "))-1) -> Food | D1: =RIGHT(SUBSTITUTE(universe!D1,"_"," "),LEN(SUBSTITUTE(universe!D1,"_"," "))-1) -> Fabricated Metal Products | E1: =RIGHT(SUBSTITUTE(universe!E1,"_"," "),LEN(SUBSTITUTE(universe!E1,"_"," "))-1) -> Motor Vehicles | F1: =RIGHT(SUBSTITUTE(universe!F1,"_"," "),LEN(SUBSTITUTE(universe!F1,"_"," "))-1) -> Other Manufacturing | G1: =RIGHT(SUBSTITUTE(universe!G1,"_"," "),LEN(SUBSTITUTE(universe!G1,"_"," "))-1) -> Retail | H1: =RIGHT(SUBSTITUTE(universe!H1,"_"," "),LEN(SUBSTITUTE(universe!H1,"_"," "))-1) -> Construction | I1: =RIGHT(SUBSTITUTE(universe!I1,"_"," "),LEN(SUBSTITUTE(universe!I1,"_"," "))-1) -> Professional Activities | J1: =RIGHT(SUBSTITUTE(universe!J1,"_"," "),LEN(SUBSTITUTE(universe!J1,"_"," "))-1) -> Other services | K1: =RIGHT(SUBSTITUTE(universe!K1,"_"," "),LEN(SUBSTITUTE(universe!K1,"_"," "))-1) -> Grand Total
A2: =universe!A2 -> Małopolskie (PL21) | B2: =LEFT(universe!B2,FIND(")",universe!B2)) -> Small (5-19) | C2: =universe!C2 -> 1621 | D2: =universe!D2 -> 3586 | E2: =universe!E2 -> 128 | F2: =universe!F2 -> 19585 | G2: =universe!G2 -> 24592 | H2: =universe!H2 -> 42203 | I2: =universe!I2 -> 25737 | J2: =universe!J2 -> 56727 | K2: =SUM(C2:J4) -> 182262
A3: =universe!A3 -> Małopolskie (PL21) | B3: =LEFT(universe!B3,FIND(")",universe!B3)) -> Medium (20-99) | C3: =universe!C3 -> 461 | D3: =universe!D3 -> 280 | E3: =universe!E3 -> 18 | F3: =universe!F3 -> 1335 | G3: =universe!G3 -> 1100 | H3: =universe!H3 -> 1227 | I3: =universe!I3 -> 449 | J3: =universe!J3 -> 2171
A4: =universe!A4 -> Małopolskie (PL21) | B4: =LEFT(universe!B4,FIND(")",universe!B4)) -> Large (100-199) | C4: =universe!C4 -> 87 | D4: =universe!D4 -> 73 | E4: =universe!E4 -> 12 | F4: =universe!F4 -> 309 | G4: =universe!G4 -> 101 | H4: =universe!H4 -> 115 | I4: =universe!I4 -> 73 | J4: =universe!J4 -> 272
A5: =universe!A5 -> Śląskie (PL22) | B5: =LEFT(universe!B5,FIND(")",universe!B5)) -> Small (5-19) | C5: =universe!C5 -> 1816 | D5: =universe!D5 -> 5965 | E5: =universe!E5 -> 201 | F5: =universe!F5 -> 22149 | G5: =universe!G5 -> 32710 | H5: =universe!H5 -> 38575 | I5: =universe!I5 -> 28592 | J5: =universe!J5 -> 67574 | K5: =SUM(C5:J7) -> 209301
A6: =universe!A6 -> Śląskie (PL22) | B6: =LEFT(universe!B6,FIND(")",universe!B6)) -> Medium (20-99) | C6: =universe!C6 -> 634 | D6: =universe!D6 -> 574 | E6: =universe!E6 -> 65 | F6: =universe!F6 -> 2010 | G6: =universe!G6 -> 1499 | H6: =universe!H6 -> 1735 | I6: =universe!I6 -> 613 | J6: =universe!J6 -> 3142
A7: =universe!A7 -> Śląskie (PL22) | B7: =LEFT(universe!B7,FIND(")",universe!B7)) -> Large (100-199) | C7: =universe!C7 -> 115 | D7: =universe!D7 -> 109 | E7: =universe!E7 -> 80 | F7: =universe!F7 -> 471 | G7: =universe!G7 -> 77 | H7: =universe!H7 -> 150 | I7: =universe!I7 -> 80 | J7: =universe!J7 -> 365
A8: =universe!A8 -> Wielkopolskie (PL41) | B8: =LEFT(universe!B8,FIND(")",universe!B8)) -> Small (5-19) | C8: =universe!C8 -> 1796 | D8: =universe!D8 -> 4413 | E8: =universe!E8 -> 201 | F8: =universe!F8 -> 22972 | G8: =universe!G8 -> 25244 | H8: =universe!H8 -> 41336 | I8: =universe!I8 -> 26472 | J8: =universe!J8 -> 60472 | K8: =SUM(C8:J10) -> 193344
A9: =universe!A9 -> Wielkopolskie (PL41) | B9: =LEFT(universe!B9,FIND(")",universe!B9)) -> Medium (20-99) | C9: =universe!C9 -> 561 | D9: =universe!D9 -> 527 | E9: =universe!E9 -> 39 | F9: =universe!F9 -> 2159 | G9: =universe!G9 -> 1183 | H9: =universe!H9 -> 1300 | I9: =universe!I9 -> 480 | J9: =universe!J9 -> 2730
A10: =universe!A10 -> Wielkopolskie (PL41) | B10: =LEFT(universe!B10,FIND(")",universe!B10)) -> Large (100-199) | C10: =universe!C10 -> 159 | D10: =universe!D10 -> 91 | E10: =universe!E10 -> 39 | F10: =universe!F10 -> 587 | G10: =universe!G10 -> 104 | H10: =universe!H10 -> 95 | I10: =universe!I10 -> 55 | J10: =universe!J10 -> 329
A11: =universe!A11 -> Zachodniopomorskie (PL42) | B11: =LEFT(universe!B11,FIND(")",universe!B11)) -> Small (5-19) | C11: =universe!C11 -> 692 | D11: =universe!D11 -> 2210 | E11: =universe!E11 -> 53 | F11: =universe!F11 -> 10409 | G11: =universe!G11 -> 11852 | H11: =universe!H11 -> 22066 | I11: =universe!I11 -> 10158 | J11: =universe!J11 -> 26170 | K11: =SUM(C11:J13) -> 87013
A12: =universe!A12 -> Zachodniopomorskie (PL42) | B12: =LEFT(universe!B12,FIND(")",universe!B12)) -> Medium (20-99) | C12: =universe!C12 -> 197 | D12: =universe!D12 -> 134 | E12: =universe!E12 -> 8 | F12: =universe!F12 -> 667 | G12: =universe!G12 -> 418 | H12: =universe!H12 -> 478 | I12: =universe!I12 -> 133 | J12: =universe!J12 -> 990
A13: =universe!A13 -> Zachodniopomorskie (PL42) | B13: =LEFT(universe!B13,FIND(")",universe!B13)) -> Large (100-199) | C13: =universe!C13 -> 45 | D13: =universe!D13 -> 38 | E13: =universe!E13 -> 7 | F13: =universe!F13 -> 152 | G13: =universe!G13 -> 10 | H13: =universe!H13 -> 30 | I13: =universe!I13 -> 7 | J13: =universe!J13 -> 89
A14: =universe!A14 -> Lubuskie (PL43) | B14: =LEFT(universe!B14,FIND(")",universe!B14)) -> Small (5-19) | C14: =universe!C14 -> 392 | D14: =universe!D14 -> 1129 | E14: =universe!E14 -> 39 | F14: =universe!F14 -> 5771 | G14: =universe!G14 -> 7572 | H14: =universe!H14 -> 12217 | I14: =universe!I14 -> 4931 | J14: =universe!J14 -> 15047 | K14: =SUM(C14:J16) -> 49501
A15: =universe!A15 -> Lubuskie (PL43) | B15: =LEFT(universe!B15,FIND(")",universe!B15)) -> Medium (20-99) | C15: =universe!C15 -> 137 | D15: =universe!D15 -> 115 | E15: =universe!E15 -> 11 | F15: =universe!F15 -> 489 | G15: =universe!G15 -> 310 | H15: =universe!H15 -> 323 | I15: =universe!I15 -> 78 | J15: =universe!J15 -> 627
A16: =universe!A16 -> Lubuskie (PL43) | B16: =LEFT(universe!B16,FIND(")",universe!B16)) -> Large (100-199) | C16: =universe!C16 -> 21 | D16: =universe!D16 -> 29 | E16: =universe!E16 -> 9 | F16: =universe!F16 -> 132 | G16: =universe!G16 -> 19 | H16: =universe!H16 -> 24 | I16: =universe!I16 -> 5 | J16: =universe!J16 -> 74
A17: =universe!A17 -> Dolnośląskie (PL51) | B17: =LEFT(universe!B17,FIND(")",universe!B17)) -> Small (5-19) | C17: =universe!C17 -> 1098 | D17: =universe!D17 -> 3126 | E17: =universe!E17 -> 139 | F17: =universe!F17 -> 15226 | G17: =universe!G17 -> 24817 | H17: =universe!H17 -> 35349 | I17: =universe!I17 -> 23658 | J17: =universe!J17 -> 49180 | K17: =SUM(C17:J19) -> 158975
A18: =universe!A18 -> Dolnośląskie (PL51) | B18: =LEFT(universe!B18,FIND(")",universe!B18)) -> Medium (20-99) | C18: =universe!C18 -> 304 | D18: =universe!D18 -> 288 | E18: =universe!E18 -> 29 | F18: =universe!F18 -> 1140 | G18: =universe!G18 -> 680 | H18: =universe!H18 -> 966 | I18: =universe!I18 -> 364 | J18: =universe!J18 -> 1749
A19: =universe!A19 -> Dolnośląskie (PL51) | B19: =LEFT(universe!B19,FIND(")",universe!B19)) -> Large (100-199) | C19: =universe!C19 -> 32 | D19: =universe!D19 -> 80 | E19: =universe!E19 -> 51 | F19: =universe!F19 -> 310 | G19: =universe!G19 -> 56 | H19: =universe!H19 -> 66 | I19: =universe!I19 -> 62 | J19: =universe!J19 -> 205
A20: =universe!A20 -> Opolskie (PL52) | B20: =LEFT(universe!B20,FIND(")",universe!B20)) -> Small (5-19) | C20: =universe!C20 -> 435 | D20: =universe!D20 -> 1170 | E20: =universe!E20 -> 21 | F20: =universe!F20 -> 5467 | G20: =universe!G20 -> 5210 | H20: =universe!H20 -> 9558 | I20: =universe!I20 -> 4549 | J20: =universe!J20 -> 11005 | K20: =SUM(C20:J22) -> 39500
A21: =universe!A21 -> Opolskie (PL52) | B21: =LEFT(universe!B21,FIND(")",universe!B21)) -> Medium (20-99) | C21: =universe!C21 -> 125 | D21: =universe!D21 -> 119 | E21: =universe!E21 -> 11 | F21: =universe!F21 -> 413 | G21: =universe!G21 -> 272 | H21: =universe!H21 -> 317 | I21: =universe!I21 -> 73 | J21: =universe!J21 -> 501
A22: =universe!A22 -> Opolskie (PL52) | B22: =LEFT(universe!B22,FIND(")",universe!B22)) -> Large (100-199) | C22: =universe!C22 -> 17 | D22: =universe!D22 -> 26 | E22: =universe!E22 -> 9 | F22: =universe!F22 -> 110 | G22: =universe!G22 -> 6 | H22: =universe!H22 -> 24 | I22: =universe!I22 -> 10 | J22: =universe!J22 -> 52
A23: =universe!A23 -> Kujawsko-Pomorskie (PL61) | B23: =LEFT(universe!B23,FIND(")",universe!B23)) -> Small (5-19) | C23: =universe!C23 -> 757 | D23: =universe!D23 -> 2269 | E23: =universe!E23 -> 67 | F23: =universe!F23 -> 9799 | G23: =universe!G23 -> 13148 | H23: =universe!H23 -> 18922 | I23: =universe!I23 -> 10216 | J23: =universe!J23 -> 26405 | K23: =SUM(C23:J25) -> 86210
A24: =universe!A24 -> Kujawsko-Pomorskie (PL61) | B24: =LEFT(universe!B24,FIND(")",universe!B24)) -> Medium (20-99) | C24: =universe!C24 -> 250 | D24: =universe!D24 -> 223 | E24: =universe!E24 -> 23 | F24: =universe!F24 -> 972 | G24: =universe!G24 -> 562 | H24: =universe!H24 -> 655 | I24: =universe!I24 -> 178 | J24: =universe!J24 -> 1158
A25: =universe!A25 -> Kujawsko-Pomorskie (PL61) | B25: =LEFT(universe!B25,FIND(")",universe!B25)) -> Large (100-199) | C25: =universe!C25 -> 72 | D25: =universe!D25 -> 54 | E25: =universe!E25 -> 6 | F25: =universe!F25 -> 256 | G25: =universe!G25 -> 32 | H25: =universe!H25 -> 54 | I25: =universe!I25 -> 16 | J25: =universe!J25 -> 116
A26: =universe!A26 -> Warmińsko-Mazurskie (PL62) | B26: =LEFT(universe!B26,FIND(")",universe!B26)) -> Small (5-19) | C26: =universe!C26 -> 413 | D26: =universe!D26 -> 1483 | E26: =universe!E26 -> 25 | F26: =universe!F26 -> 7468 | G26: =universe!G26 -> 8293 | H26: =universe!H26 -> 13042 | I26: =universe!I26 -> 6566 | J26: =universe!J26 -> 15303 | K26: =SUM(C26:J28) -> 55288
A27: =universe!A27 -> Warmińsko-Mazurskie (PL62) | B27: =LEFT(universe!B27,FIND(")",universe!B27)) -> Medium (20-99) | C27: =universe!C27 -> 134 | D27: =universe!D27 -> 90 | E27: =universe!E27 -> 4 | F27: =universe!F27 -> 611 | G27: =universe!G27 -> 416 | H27: =universe!H27 -> 367 | I27: =universe!I27 -> 92 | J27: =universe!J27 -> 638
A28: =universe!A28 -> Warmińsko-Mazurskie (PL62) | B28: =LEFT(universe!B28,FIND(")",universe!B28)) -> Large (100-199) | C28: =universe!C28 -> 35 | D28: =universe!D28 -> 31 | E28: =universe!E28 -> 1 | F28: =universe!F28 -> 176 | G28: =universe!G28 -> 16 | H28: =universe!H28 -> 28 | I28: =universe!I28 -> 6 | J28: =universe!J28 -> 50
A29: =universe!A29 -> Pomorskie (PL63) | B29: =LEFT(universe!B29,FIND(")",universe!B29)) -> Small (5-19) | C29: =universe!C29 -> 808 | D29: =universe!D29 -> 5046 | E29: =universe!E29 -> 87 | F29: =universe!F29 -> 15620 | G29: =universe!G29 -> 15705 | H29: =universe!H29 -> 28999 | I29: =universe!I29 -> 18342 | J29: =universe!J29 -> 39166 | K29: =SUM(C29:J31) -> 129295
A30: =universe!A30 -> Pomorskie (PL63) | B30: =LEFT(universe!B30,FIND(")",universe!B30)) -> Medium (20-99) | C30: =universe!C30 -> 263 | D30: =universe!D30 -> 230 | E30: =universe!E30 -> 15 | F30: =universe!F30 -> 1024 | G30: =universe!G30 -> 694 | H30: =universe!H30 -> 807 | I30: =universe!I30 -> 243 | J30: =universe!J30 -> 1506
A31: =universe!A31 -> Pomorskie (PL63) | B31: =LEFT(universe!B31,FIND(")",universe!B31)) -> Large (100-199) | C31: =universe!C31 -> 64 | D31: =universe!D31 -> 72 | E31: =universe!E31 -> 9 | F31: =universe!F31 -> 252 | G31: =universe!G31 -> 46 | H31: =universe!H31 -> 65 | I31: =universe!I31 -> 40 | J31: =universe!J31 -> 192
A32: =universe!A32 -> Łódzkie (PL71) | B32: =LEFT(universe!B32,FIND(")",universe!B32)) -> Small (5-19) | C32: =universe!C32 -> 1166 | D32: =universe!D32 -> 2239 | E32: =universe!E32 -> 102 | F32: =universe!F32 -> 16091 | G32: =universe!G32 -> 19374 | H32: =universe!H32 -> 20564 | I32: =universe!I32 -> 14609 | J32: =universe!J32 -> 35721 | K32: =SUM(C32:J34) -> 116237
A33: =universe!A33 -> Łódzkie (PL71) | B33: =LEFT(universe!B33,FIND(")",universe!B33)) -> Medium (20-99) | C33: =universe!C33 -> 423 | D33: =universe!D33 -> 191 | E33: =universe!E33 -> 24 | F33: =universe!F33 -> 1829 | G33: =universe!G33 -> 648 | H33: =universe!H33 -> 732 | I33: =universe!I33 -> 258 | J33: =universe!J33 -> 1547
A34: =universe!A34 -> Łódzkie (PL71) | B34: =LEFT(universe!B34,FIND(")",universe!B34)) -> Large (100-199) | C34: =universe!C34 -> 88 | D34: =universe!D34 -> 29 | E34: =universe!E34 -> 16 | F34: =universe!F34 -> 326 | G34: =universe!G34 -> 44 | H34: =universe!H34 -> 54 | I34: =universe!I34 -> 22 | J34: =universe!J34 -> 140
A35: =universe!A35 -> Świętokrzyskie (PL72) | B35: =LEFT(universe!B35,FIND(")",universe!B35)) -> Small (5-19) | C35: =universe!C35 -> 419 | D35: =universe!D35 -> 1366 | E35: =universe!E35 -> 49 | F35: =universe!F35 -> 5252 | G35: =universe!G35 -> 11189 | H35: =universe!H35 -> 10807 | I35: =universe!I35 -> 5886 | J35: =universe!J35 -> 14958 | K35: =SUM(C35:J37) -> 52169
A36: =universe!A36 -> Świętokrzyskie (PL72) | B36: =LEFT(universe!B36,FIND(")",universe!B36)) -> Medium (20-99) | C36: =universe!C36 -> 171 | D36: =universe!D36 -> 120 | E36: =universe!E36 -> 10 | F36: =universe!F36 -> 396 | G36: =universe!G36 -> 320 | H36: =universe!H36 -> 354 | I36: =universe!I36 -> 87 | J36: =universe!J36 -> 536
A37: =universe!A37 -> Świętokrzyskie (PL72) | B37: =LEFT(universe!B37,FIND(")",universe!B37)) -> Large (100-199) | C37: =universe!C37 -> 18 | D37: =universe!D37 -> 31 | E37: =universe!E37 -> 10 | F37: =universe!F37 -> 91 | G37: =universe!G37 -> 23 | H37: =universe!H37 -> 19 | I37: =universe!I37 -> 5 | J37: =universe!J37 -> 52
A38: =universe!A38 -> Lubelskie (PL81) | B38: =LEFT(universe!B38,FIND(")",universe!B38)) -> Small (5-19) | C38: =universe!C38 -> 784 | D38: =universe!D38 -> 1472 | E38: =universe!E38 -> 48 | F38: =universe!F38 -> 8432 | G38: =universe!G38 -> 12677 | H38: =universe!H38 -> 17581 | I38: =universe!I38 -> 9459 | J38: =universe!J38 -> 25000 | K38: =SUM(C38:J40) -> 78573
A39: =universe!A39 -> Lubelskie (PL81) | B39: =LEFT(universe!B39,FIND(")",universe!B39)) -> Medium (20-99) | C39: =universe!C39 -> 241 | D39: =universe!D39 -> 105 | E39: =universe!E39 -> 16 | F39: =universe!F39 -> 488 | G39: =universe!G39 -> 514 | H39: =universe!H39 -> 407 | I39: =universe!I39 -> 115 | J39: =universe!J39 -> 867
A40: =universe!A40 -> Lubelskie (PL81) | B40: =LEFT(universe!B40,FIND(")",universe!B40)) -> Large (100-199) | C40: =universe!C40 -> 51 | D40: =universe!D40 -> 21 | E40: =universe!E40 -> 8 | F40: =universe!F40 -> 117 | G40: =universe!G40 -> 26 | H40: =universe!H40 -> 38 | I40: =universe!I40 -> 17 | J40: =universe!J40 -> 89
A41: =universe!A41 -> Podkarpackie (PL82) | B41: =LEFT(universe!B41,FIND(")",universe!B41)) -> Small (5-19) | C41: =universe!C41 -> 712 | D41: =universe!D41 -> 2188 | E41: =universe!E41 -> 93 | F41: =universe!F41 -> 9034 | G41: =universe!G41 -> 11114 | H41: =universe!H41 -> 17691 | I41: =universe!I41 -> 9434 | J41: =universe!J41 -> 24585 | K41: =SUM(C41:J43) -> 78477
A42: =universe!A42 -> Podkarpackie (PL82) | B42: =LEFT(universe!B42,FIND(")",universe!B42)) -> Medium (20-99) | C42: =universe!C42 -> 224 | D42: =universe!D42 -> 178 | E42: =universe!E42 -> 24 | F42: =universe!F42 -> 750 | G42: =universe!G42 -> 532 | H42: =universe!H42 -> 481 | I42: =universe!I42 -> 98 | J42: =universe!J42 -> 859
A43: =universe!A43 -> Podkarpackie (PL82) | B43: =LEFT(universe!B43,FIND(")",universe!B43)) -> Large (100-199) | C43: =universe!C43 -> 27 | D43: =universe!D43 -> 45 | E43: =universe!E43 -> 10 | F43: =universe!F43 -> 201 | G43: =universe!G43 -> 51 | H43: =universe!H43 -> 45 | I43: =universe!I43 -> 9 | J43: =universe!J43 -> 92
A44: =universe!A44 -> Podlaskie (PL84) | B44: =LEFT(universe!B44,FIND(")",universe!B44)) -> Small (5-19) | C44: =universe!C44 -> 419 | D44: =universe!D44 -> 758 | E44: =universe!E44 -> 31 | F44: =universe!F44 -> 5413 | G44: =universe!G44 -> 9351 | H44: =universe!H44 -> 10455 | I44: =universe!I44 -> 6395 | J44: =universe!J44 -> 14615 | K44: =SUM(C44:J46) -> 49380
A45: =universe!A45 -> Podlaskie (PL84) | B45: =LEFT(universe!B45,FIND(")",universe!B45)) -> Medium (20-99) | C45: =universe!C45 -> 142 | D45: =universe!D45 -> 64 | E45: =universe!E45 -> 9 | F45: =universe!F45 -> 355 | G45: =universe!G45 -> 259 | H45: =universe!H45 -> 265 | I45: =universe!I45 -> 68 | J45: =universe!J45 -> 547
A46: =universe!A46 -> Podlaskie (PL84) | B46: =LEFT(universe!B46,FIND(")",universe!B46)) -> Large (100-199) | C46: =universe!C46 -> 35 | D46: =universe!D46 -> 11 | E46: =universe!E46 -> 2 | F46: =universe!F46 -> 72 | G46: =universe!G46 -> 31 | H46: =universe!H46 -> 25 | I46: =universe!I46 -> 3 | J46: =universe!J46 -> 55
A47: =universe!A47 -> Region Warszawski Stołeczny (PL91) | B47: =LEFT(universe!B47,FIND(")",universe!B47)) -> Small (5-19) | C47: =universe!C47 -> 2049 | D47: =universe!D47 -> 2734 | E47: =universe!E47 -> 239 | F47: =universe!F47 -> 21057 | G47: =universe!G47 -> 34584 | H47: =universe!H47 -> 38161 | I47: =universe!I47 -> 70229 | J47: =universe!J47 -> 107360 | K47: =SUM(C47:J49) -> 288408
A48: =universe!A48 -> Region Warszawski Stołeczny (PL91) | B48: =LEFT(universe!B48,FIND(")",universe!B48)) -> Medium (20-99) | C48: =universe!C48 -> 342 | D48: =universe!D48 -> 236 | E48: =universe!E48 -> 36 | F48: =universe!F48 -> 1560 | G48: =universe!G48 -> 1135 | H48: =universe!H48 -> 1461 | I48: =universe!I48 -> 1256 | J48: =universe!J48 -> 3957
A49: =universe!A49 -> Region Warszawski Stołeczny (PL91) | B49: =LEFT(universe!B49,FIND(")",universe!B49)) -> Large (100-199) | C49: =universe!C49 -> 108 | D49: =universe!D49 -> 44 | E49: =universe!E49 -> 15 | F49: =universe!F49 -> 368 | G49: =universe!G49 -> 188 | H49: =universe!H49 -> 189 | I49: =universe!I49 -> 326 | J49: =universe!J49 -> 774
A50: =universe!A50 -> Region Mazowiecki Regionalny (PL92) | B50: =LEFT(universe!B50,FIND(")",universe!B50)) -> Small (5-19) | C50: =universe!C50 -> 872 | D50: =universe!D50 -> 2398 | E50: =universe!E50 -> 47 | F50: =universe!F50 -> 11353 | G50: =universe!G50 -> 14591 | H50: =universe!H50 -> 20461 | I50: =universe!I50 -> 9072 | J50: =universe!J50 -> 28483 | K50: =SUM(C50:J52) -> 91236
A51: =universe!A51 -> Region Mazowiecki Regionalny (PL92) | B51: =LEFT(universe!B51,FIND(")",universe!B51)) -> Medium (20-99) | C51: =universe!C51 -> 298 | D51: =universe!D51 -> 180 | E51: =universe!E51 -> 18 | F51: =universe!F51 -> 783 | G51: =universe!G51 -> 455 | H51: =universe!H51 -> 560 | I51: =universe!I51 -> 113 | J51: =universe!J51 -> 1095
A52: =universe!A52 -> Region Mazowiecki Regionalny (PL92) | B52: =LEFT(universe!B52,FIND(")",universe!B52)) -> Large (100-199) | C52: =universe!C52 -> 72 | D52: =universe!D52 -> 50 | E52: =universe!E52 -> 2 | F52: =universe!F52 -> 147 | G52: =universe!G52 -> 34 | H52: =universe!H52 -> 45 | I52: =universe!I52 -> 14 | J52: =universe!J52 -> 93
C53: =SUM(C2:C52) -> 22202 | D53: =SUM(D2:D52) -> 48040 | E53: =SUM(E2:E52) -> 2216 | F53: =SUM(F2:F52) -> 232156 | G53: =SUM(G2:G52) -> 293884 | H53: =SUM(H2:H52) -> 411488 | I53: =SUM(I2:I52) -> 289753 | J53: =SUM(J2:J52) -> 645430 | K53: =SUM(K2:K52) -> 1945169
A54: Source: Orbis Database (Bureau van Dijk) as of 2024 (Establishment-level)

Sheet Table 2 Frame
C1: =RIGHT(SUBSTITUTE('frame fresh and panel'!C1,"_"," "),LEN(SUBSTITUTE('frame fresh and panel'!C1,"_"," "))-1) -> Food | D1: =RIGHT(SUBSTITUTE('frame fresh and panel'!D1,"_"," "),LEN(SUBSTITUTE('frame fresh and panel'!D1,"_"," "))-1) -> Fabricated Metal Products | E1: =RIGHT(SUBSTITUTE('frame fresh and panel'!E1,"_"," "),LEN(SUBSTITUTE('frame fresh and panel'!E1,"_"," "))-1) -> Motor Vehicles | F1: =RIGHT(SUBSTITUTE('frame fresh and panel'!F1,"_"," "),LEN(SUBSTITUTE('frame fresh and panel'!F1,"_"," "))-1) -> Other Manufacturing | G1: =RIGHT(SUBSTITUTE('frame fresh and panel'!G1,"_"," "),LEN(SUBSTITUTE('frame fresh and panel'!G1,"_"," "))-1) -> Retail | H1: =RIGHT(SUBSTITUTE('frame fresh and panel'!H1,"_"," "),LEN(SUBSTITUTE('frame fresh and panel'!H1,"_"," "))-1) -> Construction | I1: =RIGHT(SUBSTITUTE('frame fresh and panel'!I1,"_"," "),LEN(SUBSTITUTE('frame fresh and panel'!I1,"_"," "))-1) -> Professional Activities | J1: =RIGHT(SUBSTITUTE('frame fresh and panel'!J1,"_"," "),LEN(SUBSTITUTE('frame fresh and panel'!J1,"_"," "))-1) -> Other services | K1: =RIGHT(SUBSTITUTE('frame fresh and panel'!K1,"_"," "),LEN(SUBSTITUTE('frame fresh and panel'!K1,"_"," "))-1) -> Grand Total
A2: ='frame fresh and panel'!A2 -> Małopolskie (PL21) | B2: =LEFT('frame fresh and panel'!B2,FIND(")",'frame fresh and panel'!B2)) -> Small (5-19) | C2: ='frame fresh and panel'!C2 -> 1623 | D2: ='frame fresh and panel'!D2 -> 3589 | E2: ='frame fresh and panel'!E2 -> 128 | F2: ='frame fresh and panel'!F2 -> 19607 | G2: ='frame fresh and panel'!G2 -> 24596 | H2: ='frame fresh and panel'!H2 -> 42205 | I2: ='frame fresh and panel'!I2 -> 25737 | J2: ='frame fresh and panel'!J2 -> 56740 | K2: =SUM(C2:J4) -> 182358
A3: ='frame fresh and panel'!A3 -> Małopolskie (PL21) | B3: =LEFT('frame fresh and panel'!B3,FIND(")",'frame fresh and panel'!B3)) -> Medium (20-99) | C3: ='frame fresh and panel'!C3 -> 464 | D3: ='frame fresh and panel'!D3 -> 282 | E3: ='frame fresh and panel'!E3 -> 18 | F3: ='frame fresh and panel'!F3 -> 1349 | G3: ='frame fresh and panel'!G3 -> 1102 | H3: ='frame fresh and panel'!H3 -> 1228 | I3: ='frame fresh and panel'!I3 -> 449 | J3: ='frame fresh and panel'!J3 -> 2176
A4: ='frame fresh and panel'!A4 -> Małopolskie (PL21) | B4: =LEFT('frame fresh and panel'!B4,FIND(")",'frame fresh and panel'!B4)) -> Large (100 or more) | C4: ='frame fresh and panel'!C4 -> 92 | D4: ='frame fresh and panel'!D4 -> 73 | E4: ='frame fresh and panel'!E4 -> 12 | F4: ='frame fresh and panel'!F4 -> 322 | G4: ='frame fresh and panel'!G4 -> 103 | H4: ='frame fresh and panel'!H4 -> 116 | I4: ='frame fresh and panel'!I4 -> 73 | J4: ='frame fresh and panel'!J4 -> 274
A5: ='frame fresh and panel'!A5 -> Śląskie (PL22) | B5: =LEFT('frame fresh and panel'!B5,FIND(")",'frame fresh and panel'!B5)) -> Small (5-19) | C5: ='frame fresh and panel'!C5 -> 1821 | D5: ='frame fresh and panel'!D5 -> 5967 | E5: ='frame fresh and panel'!E5 -> 201 | F5: ='frame fresh and panel'!F5 -> 22191 | G5: ='frame fresh and panel'!G5 -> 32722 | H5: ='frame fresh and panel'!H5 -> 38584 | I5: ='frame fresh and panel'!I5 -> 28592 | J5: ='frame fresh and panel'!J5 -> 67590 | K5: =SUM(C5:J7) -> 209434
A6: ='frame fresh and panel'!A6 -> Śląskie (PL22) | B6: =LEFT('frame fresh and panel'!B6,FIND(")",'frame fresh and panel'!B6)) -> Medium (20-99) | C6: ='frame fresh and panel'!C6 -> 636 | D6: ='frame fresh and panel'!D6 -> 581 | E6: ='frame fresh and panel'!E6 -> 65 | F6: ='frame fresh and panel'!F6 -> 2029 | G6: ='frame fresh and panel'!G6 -> 1500 | H6: ='frame fresh and panel'!H6 -> 1735 | I6: ='frame fresh and panel'!I6 -> 613 | J6: ='frame fresh and panel'!J6 -> 3145
A7: ='frame fresh and panel'!A7 -> Śląskie (PL22) | B7: =LEFT('frame fresh and panel'!B7,FIND(")",'frame fresh and panel'!B7)) -> Large (100 or more) | C7: ='frame fresh and panel'!C7 -> 118 | D7: ='frame fresh and panel'!D7 -> 111 | E7: ='frame fresh and panel'!E7 -> 81 | F7: ='frame fresh and panel'!F7 -> 478 | G7: ='frame fresh and panel'!G7 -> 78 | H7: ='frame fresh and panel'!H7 -> 150 | I7: ='frame fresh and panel'!I7 -> 80 | J7: ='frame fresh and panel'!J7 -> 366
A8: ='frame fresh and panel'!A8 -> Wielkopolskie (PL41) | B8: =LEFT('frame fresh and panel'!B8,FIND(")",'frame fresh and panel'!B8)) -> Small (5-19) | C8: ='frame fresh and panel'!C8 -> 1799 | D8: ='frame fresh and panel'!D8 -> 4417 | E8: ='frame fresh and panel'!E8 -> 202 | F8: ='frame fresh and panel'!F8 -> 23002 | G8: ='frame fresh and panel'!G8 -> 25255 | H8: ='frame fresh and panel'!H8 -> 41342 | I8: ='frame fresh and panel'!I8 -> 26472 | J8: ='frame fresh and panel'!J8 -> 60482 | K8: =SUM(C8:J10) -> 193475
A9: ='frame fresh and panel'!A9 -> Wielkopolskie (PL41) | B9: =LEFT('frame fresh and panel'!B9,FIND(")",'frame fresh and panel'!B9)) -> Medium (20-99) | C9: ='frame fresh and panel'!C9 -> 566 | D9: ='frame fresh and panel'!D9 -> 529 | E9: ='frame fresh and panel'!E9 -> 39 | F9: ='frame fresh and panel'!F9 -> 2183 | G9: ='frame fresh and panel'!G9 -> 1186 | H9: ='frame fresh and panel'!H9 -> 1301 | I9: ='frame fresh and panel'!I9 -> 480 | J9: ='frame fresh and panel'!J9 -> 2731
A10: ='frame fresh and panel'!A10 -> Wielkopolskie (PL41) | B10: =LEFT('frame fresh and panel'!B10,FIND(")",'frame fresh and panel'!B10)) -> Large (100 or more) | C10: ='frame fresh and panel'!C10 -> 163 | D10: ='frame fresh and panel'!D10 -> 97 | E10: ='frame fresh and panel'!E10 -> 39 | F10: ='frame fresh and panel'!F10 -> 604 | G10: ='frame fresh and panel'!G10 -> 105 | H10: ='frame fresh and panel'!H10 -> 95 | I10: ='frame fresh and panel'!I10 -> 55 | J10: ='frame fresh and panel'!J10 -> 331
A11: ='frame fresh and panel'!A11 -> Zachodniopomorskie (PL42) | B11: =LEFT('frame fresh and panel'!B11,FIND(")",'frame fresh and panel'!B11)) -> Small (5-19) | C11: ='frame fresh and panel'!C11 -> 694 | D11: ='frame fresh and panel'!D11 -> 2211 | E11: ='frame fresh and panel'!E11 -> 53 | F11: ='frame fresh and panel'!F11 -> 10414 | G11: ='frame fresh and panel'!G11 -> 11856 | H11: ='frame fresh and panel'!H11 -> 22073 | I11: ='frame fresh and panel'!I11 -> 10158 | J11: ='frame fresh and panel'!J11 -> 26173 | K11: =SUM(C11:J13) -> 87049
A12: ='frame fresh and panel'!A12 -> Zachodniopomorskie (PL42) | B12: =LEFT('frame fresh and panel'!B12,FIND(")",'frame fresh and panel'!B12)) -> Medium (20-99) | C12: ='frame fresh and panel'!C12 -> 198 | D12: ='frame fresh and panel'!D12 -> 134 | E12: ='frame fresh and panel'!E12 -> 8 | F12: ='frame fresh and panel'!F12 -> 674 | G12: ='frame fresh and panel'!G12 -> 418 | H12: ='frame fresh and panel'!H12 -> 479 | I12: ='frame fresh and panel'!I12 -> 133 | J12: ='frame fresh and panel'!J12 -> 990
A13: ='frame fresh and panel'!A13 -> Zachodniopomorskie (PL42) | B13: =LEFT('frame fresh and panel'!B13,FIND(")",'frame fresh and panel'!B13)) -> Large (100 or more) | C13: ='frame fresh and panel'!C13 -> 46 | D13: ='frame fresh and panel'!D13 -> 38 | E13: ='frame fresh and panel'!E13 -> 7 | F13: ='frame fresh and panel'!F13 -> 155 | G13: ='frame fresh and panel'!G13 -> 11 | H13: ='frame fresh and panel'!H13 -> 30 | I13: ='frame fresh and panel'!I13 -> 7 | J13: ='frame fresh and panel'!J13 -> 89
A14: ='frame fresh and panel'!A14 -> Lubuskie (PL43) | B14: =LEFT('frame fresh and panel'!B14,FIND(")",'frame fresh and panel'!B14)) -> Small (5-19) | C14: ='frame fresh and panel'!C14 -> 394 | D14: ='frame fresh and panel'!D14 -> 1131 | E14: ='frame fresh and panel'!E14 -> 39 | F14: ='frame fresh and panel'!F14 -> 5774 | G14: ='frame fresh and panel'!G14 -> 7573 | H14: ='frame fresh and panel'!H14 -> 12219 | I14: ='frame fresh and panel'!I14 -> 4931 | J14: ='frame fresh and panel'!J14 -> 15050 | K14: =SUM(C14:J16) -> 49530
A15: ='frame fresh and panel'!A15 -> Lubuskie (PL43) | B15: =LEFT('frame fresh and panel'!B15,FIND(")",'frame fresh and panel'!B15)) -> Medium (20-99) | C15: ='frame fresh and panel'!C15 -> 139 | D15: ='frame fresh and panel'!D15 -> 118 | E15: ='frame fresh and panel'!E15 -> 11 | F15: ='frame fresh and panel'!F15 -> 496 | G15: ='frame fresh and panel'!G15 -> 310 | H15: ='frame fresh and panel'!H15 -> 323 | I15: ='frame fresh and panel'!I15 -> 78 | J15: ='frame fresh and panel'!J15 -> 628
A16: ='frame fresh and panel'!A16 -> Lubuskie (PL43) | B16: =LEFT('frame fresh and panel'!B16,FIND(")",'frame fresh and panel'!B16)) -> Large (100 or more) | C16: ='frame fresh and panel'!C16 -> 22 | D16: ='frame fresh and panel'!D16 -> 29 | E16: ='frame fresh and panel'!E16 -> 9 | F16: ='frame fresh and panel'!F16 -> 134 | G16: ='frame fresh and panel'!G16 -> 19 | H16: ='frame fresh and panel'!H16 -> 24 | I16: ='frame fresh and panel'!I16 -> 5 | J16: ='frame fresh and panel'!J16 -> 74
A17: ='frame fresh and panel'!A17 -> Dolnośląskie (PL51) | B17: =LEFT('frame fresh and panel'!B17,FIND(")",'frame fresh and panel'!B17)) -> Small (5-19) | C17: ='frame fresh and panel'!C17 -> 1108 | D17: ='frame fresh and panel'!D17 -> 3139 | E17: ='frame fresh and panel'!E17 -> 139 | F17: ='frame fresh and panel'!F17 -> 15264 | G17: ='frame fresh and panel'!G17 -> 24823 | H17: ='frame fresh and panel'!H17 -> 35356 | I17: ='frame fresh and panel'!I17 -> 23658 | J17: ='frame fresh and panel'!J17 -> 49191 | K17: =SUM(C17:J19) -> 159165
A18: ='frame fresh and panel'!A18 -> Dolnośląskie (PL51) | B18: =LEFT('frame fresh and panel'!B18,FIND(")",'frame fresh and panel'!B18)) -> Medium (20-99) | C18: ='frame fresh and panel'!C18 -> 312 | D18: ='frame fresh and panel'!D18 -> 296 | E18: ='frame fresh and panel'!E18 -> 29 | F18: ='frame fresh and panel'!F18 -> 1180 | G18: ='frame fresh and panel'!G18 -> 682 | H18: ='frame fresh and panel'!H18 -> 967 | I18: ='frame fresh and panel'!I18 -> 364 | J18: ='frame fresh and panel'!J18 -> 1752
A19: ='frame fresh and panel'!A19 -> Dolnośląskie (PL51) | B19: =LEFT('frame fresh and panel'!B19,FIND(")",'frame fresh and panel'!B19)) -> Large (100 or more) | C19: ='frame fresh and panel'!C19 -> 39 | D19: ='frame fresh and panel'!D19 -> 87 | E19: ='frame fresh and panel'!E19 -> 54 | F19: ='frame fresh and panel'!F19 -> 334 | G19: ='frame fresh and panel'!G19 -> 56 | H19: ='frame fresh and panel'!H19 -> 67 | I19: ='frame fresh and panel'!I19 -> 62 | J19: ='frame fresh and panel'!J19 -> 206
A20: ='frame fresh and panel'!A20 -> Opolskie (PL52) | B20: =LEFT('frame fresh and panel'!B20,FIND(")",'frame fresh and panel'!B20)) -> Small (5-19) | C20: ='frame fresh and panel'!C20 -> 436 | D20: ='frame fresh and panel'!D20 -> 1172 | E20: ='frame fresh and panel'!E20 -> 21 | F20: ='frame fresh and panel'!F20 -> 5472 | G20: ='frame fresh and panel'!G20 -> 5210 | H20: ='frame fresh and panel'!H20 -> 9558 | I20: ='frame fresh and panel'!I20 -> 4549 | J20: ='frame fresh and panel'!J20 -> 11007 | K20: =SUM(C20:J22) -> 39529
A21: ='frame fresh and panel'!A21 -> Opolskie (PL52) | B21: =LEFT('frame fresh and panel'!B21,FIND(")",'frame fresh and panel'!B21)) -> Medium (20-99) | C21: ='frame fresh and panel'!C21 -> 128 | D21: ='frame fresh and panel'!D21 -> 120 | E21: ='frame fresh and panel'!E21 -> 11 | F21: ='frame fresh and panel'!F21 -> 418 | G21: ='frame fresh and panel'!G21 -> 273 | H21: ='frame fresh and panel'!H21 -> 317 | I21: ='frame fresh and panel'!I21 -> 73 | J21: ='frame fresh and panel'!J21 -> 502
A22: ='frame fresh and panel'!A22 -> Opolskie (PL52) | B22: =LEFT('frame fresh and panel'!B22,FIND(")",'frame fresh and panel'!B22)) -> Large (100 or more) | C22: ='frame fresh and panel'!C22 -> 17 | D22: ='frame fresh and panel'!D22 -> 28 | E22: ='frame fresh and panel'!E22 -> 9 | F22: ='frame fresh and panel'!F22 -> 114 | G22: ='frame fresh and panel'!G22 -> 6 | H22: ='frame fresh and panel'!H22 -> 25 | I22: ='frame fresh and panel'!I22 -> 10 | J22: ='frame fresh and panel'!J22 -> 53
A23: ='frame fresh and panel'!A23 -> Kujawsko-Pomorskie (PL61) | B23: =LEFT('frame fresh and panel'!B23,FIND(")",'frame fresh and panel'!B23)) -> Small (5-19) | C23: ='frame fresh and panel'!C23 -> 758 | D23: ='frame fresh and panel'!D23 -> 2273 | E23: ='frame fresh and panel'!E23 -> 67 | F23: ='frame fresh and panel'!F23 -> 9809 | G23: ='frame fresh and panel'!G23 -> 13151 | H23: ='frame fresh and panel'!H23 -> 18924 | I23: ='frame fresh and panel'!I23 -> 10216 | J23: ='frame fresh and panel'!J23 -> 26407 | K23: =SUM(C23:J25) -> 86277
A24: ='frame fresh and panel'!A24 -> Kujawsko-Pomorskie (PL61) | B24: =LEFT('frame fresh and panel'!B24,FIND(")",'frame fresh and panel'!B24)) -> Medium (20-99) | C24: ='frame fresh and panel'!C24 -> 252 | D24: ='frame fresh and panel'!D24 -> 226 | E24: ='frame fresh and panel'!E24 -> 23 | F24: ='frame fresh and panel'!F24 -> 990 | G24: ='frame fresh and panel'!G24 -> 564 | H24: ='frame fresh and panel'!H24 -> 658 | I24: ='frame fresh and panel'!I24 -> 178 | J24: ='frame fresh and panel'!J24 -> 1158
A25: ='frame fresh and panel'!A25 -> Kujawsko-Pomorskie (PL61) | B25: =LEFT('frame fresh and panel'!B25,FIND(")",'frame fresh and panel'!B25)) -> Large (100 or more) | C25: ='frame fresh and panel'!C25 -> 75 | D25: ='frame fresh and panel'!D25 -> 57 | E25: ='frame fresh and panel'!E25 -> 6 | F25: ='frame fresh and panel'!F25 -> 266 | G25: ='frame fresh and panel'!G25 -> 33 | H25: ='frame fresh and panel'!H25 -> 54 | I25: ='frame fresh and panel'!I25 -> 16 | J25: ='frame fresh and panel'!J25 -> 116
A26: ='frame fresh and panel'!A26 -> Warmińsko-Mazurskie (PL62) | B26: =LEFT('frame fresh and panel'!B26,FIND(")",'frame fresh and panel'!B26)) -> Small (5-19) | C26: ='frame fresh and panel'!C26 -> 417 | D26: ='frame fresh and panel'!D26 -> 1484 | E26: ='frame fresh and panel'!E26 -> 25 | F26: ='frame fresh and panel'!F26 -> 7475 | G26: ='frame fresh and panel'!G26 -> 8294 | H26: ='frame fresh and panel'!H26 -> 13045 | I26: ='frame fresh and panel'!I26 -> 6566 | J26: ='frame fresh and panel'!J26 -> 15305 | K26: =SUM(C26:J28) -> 55331
A27: ='frame fresh and panel'!A27 -> Warmińsko-Mazurskie (PL62) | B27: =LEFT('frame fresh and panel'!B27,FIND(")",'frame fresh and panel'!B27)) -> Medium (20-99) | C27: ='frame fresh and panel'!C27 -> 135 | D27: ='frame fresh and panel'!D27 -> 90 | E27: ='frame fresh and panel'!E27 -> 4 | F27: ='frame fresh and panel'!F27 -> 618 | G27: ='frame fresh and panel'!G27 -> 417 | H27: ='frame fresh and panel'!H27 -> 367 | I27: ='frame fresh and panel'!I27 -> 92 | J27: ='frame fresh and panel'!J27 -> 641
A28: ='frame fresh and panel'!A28 -> Warmińsko-Mazurskie (PL62) | B28: =LEFT('frame fresh and panel'!B28,FIND(")",'frame fresh and panel'!B28)) -> Large (100 or more) | C28: ='frame fresh and panel'!C28 -> 36 | D28: ='frame fresh and panel'!D28 -> 31 | E28: ='frame fresh and panel'!E28 -> 2 | F28: ='frame fresh and panel'!F28 -> 185 | G28: ='frame fresh and panel'!G28 -> 16 | H28: ='frame fresh and panel'!H28 -> 30 | I28: ='frame fresh and panel'!I28 -> 6 | J28: ='frame fresh and panel'!J28 -> 50
A29: ='frame fresh and panel'!A29 -> Pomorskie (PL63) | B29: =LEFT('frame fresh and panel'!B29,FIND(")",'frame fresh and panel'!B29)) -> Small (5-19) | C29: ='frame fresh and panel'!C29 -> 814 | D29: ='frame fresh and panel'!D29 -> 5050 | E29: ='frame fresh and panel'!E29 -> 88 | F29: ='frame fresh and panel'!F29 -> 15634 | G29: ='frame fresh and panel'!G29 -> 15710 | H29: ='frame fresh and panel'!H29 -> 29003 | I29: ='frame fresh and panel'!I29 -> 18342 | J29: ='frame fresh and panel'!J29 -> 39178 | K29: =SUM(C29:J31) -> 129389
A30: ='frame fresh and panel'!A30 -> Pomorskie (PL63) | B30: =LEFT('frame fresh and panel'!B30,FIND(")",'frame fresh and panel'!B30)) -> Medium (20-99) | C30: ='frame fresh and panel'!C30 -> 266 | D30: ='frame fresh and panel'!D30 -> 233 | E30: ='frame fresh and panel'!E30 -> 15 | F30: ='frame fresh and panel'!F30 -> 1045 | G30: ='frame fresh and panel'!G30 -> 695 | H30: ='frame fresh and panel'!H30 -> 807 | I30: ='frame fresh and panel'!I30 -> 243 | J30: ='frame fresh and panel'!J30 -> 1508
A31: ='frame fresh and panel'!A31 -> Pomorskie (PL63) | B31: =LEFT('frame fresh and panel'!B31,FIND(")",'frame fresh and panel'!B31)) -> Large (100 or more) | C31: ='frame fresh and panel'!C31 -> 67 | D31: ='frame fresh and panel'!D31 -> 74 | E31: ='frame fresh and panel'!E31 -> 9 | F31: ='frame fresh and panel'!F31 -> 261 | G31: ='frame fresh and panel'!G31 -> 48 | H31: ='frame fresh and panel'!H31 -> 66 | I31: ='frame fresh and panel'!I31 -> 40 | J31: ='frame fresh and panel'!J31 -> 193
A32: ='frame fresh and panel'!A32 -> Łódzkie (PL71) | B32: =LEFT('frame fresh and panel'!B32,FIND(")",'frame fresh and panel'!B32)) -> Small (5-19) | C32: ='frame fresh and panel'!C32 -> 1171 | D32: ='frame fresh and panel'!D32 -> 2240 | E32: ='frame fresh and panel'!E32 -> 102 | F32: ='frame fresh and panel'!F32 -> 16114 | G32: ='frame fresh and panel'!G32 -> 19379 | H32: ='frame fresh and panel'!H32 -> 20569 | I32: ='frame fresh and panel'!I32 -> 14609 | J32: ='frame fresh and panel'!J32 -> 35730 | K32: =SUM(C32:J34) -> 116325
A33: ='frame fresh and panel'!A33 -> Łódzkie (PL71) | B33: =LEFT('frame fresh and panel'!B33,FIND(")",'frame fresh and panel'!B33)) -> Medium (20-99) | C33: ='frame fresh and panel'!C33 -> 425 | D33: ='frame fresh and panel'!D33 -> 193 | E33: ='frame fresh and panel'!E33 -> 24 | F33: ='frame fresh and panel'!F33 -> 1846 | G33: ='frame fresh and panel'!G33 -> 648 | H33: ='frame fresh and panel'!H33 -> 733 | I33: ='frame fresh and panel'!I33 -> 258 | J33: ='frame fresh and panel'!J33 -> 1550
A34: ='frame fresh and panel'!A34 -> Łódzkie (PL71) | B34: =LEFT('frame fresh and panel'!B34,FIND(")",'frame fresh and panel'!B34)) -> Large (100 or more) | C34: ='frame fresh and panel'!C34 -> 90 | D34: ='frame fresh and panel'!D34 -> 29 | E34: ='frame fresh and panel'!E34 -> 16 | F34: ='frame fresh and panel'!F34 -> 336 | G34: ='frame fresh and panel'!G34 -> 45 | H34: ='frame fresh and panel'!H34 -> 56 | I34: ='frame fresh and panel'!I34 -> 22 | J34: ='frame fresh and panel'!J34 -> 140
A35: ='frame fresh and panel'!A35 -> Świętokrzyskie (PL72) | B35: =LEFT('frame fresh and panel'!B35,FIND(")",'frame fresh and panel'!B35)) -> Small (5-19) | C35: ='frame fresh and panel'!C35 -> 420 | D35: ='frame fresh and panel'!D35 -> 1366 | E35: ='frame fresh and panel'!E35 -> 49 | F35: ='frame fresh and panel'!F35 -> 5266 | G35: ='frame fresh and panel'!G35 -> 11191 | H35: ='frame fresh and panel'!H35 -> 10810 | I35: ='frame fresh and panel'!I35 -> 5886 | J35: ='frame fresh and panel'!J35 -> 14961 | K35: =SUM(C35:J37) -> 52218
A36: ='frame fresh and panel'!A36 -> Świętokrzyskie (PL72) | B36: =LEFT('frame fresh and panel'!B36,FIND(")",'frame fresh and panel'!B36)) -> Medium (20-99) | C36: ='frame fresh and panel'!C36 -> 176 | D36: ='frame fresh and panel'!D36 -> 123 | E36: ='frame fresh and panel'!E36 -> 10 | F36: ='frame fresh and panel'!F36 -> 407 | G36: ='frame fresh and panel'!G36 -> 320 | H36: ='frame fresh and panel'!H36 -> 355 | I36: ='frame fresh and panel'!I36 -> 87 | J36: ='frame fresh and panel'!J36 -> 537
A37: ='frame fresh and panel'!A37 -> Świętokrzyskie (PL72) | B37: =LEFT('frame fresh and panel'!B37,FIND(")",'frame fresh and panel'!B37)) -> Large (100 or more) | C37: ='frame fresh and panel'!C37 -> 18 | D37: ='frame fresh and panel'!D37 -> 35 | E37: ='frame fresh and panel'!E37 -> 10 | F37: ='frame fresh and panel'!F37 -> 92 | G37: ='frame fresh and panel'!G37 -> 23 | H37: ='frame fresh and panel'!H37 -> 19 | I37: ='frame fresh and panel'!I37 -> 5 | J37: ='frame fresh and panel'!J37 -> 52
A38: ='frame fresh and panel'!A38 -> Lubelskie (PL81) | B38: =LEFT('frame fresh and panel'!B38,FIND(")",'frame fresh and panel'!B38)) -> Small (5-19) | C38: ='frame fresh and panel'!C38 -> 789 | D38: ='frame fresh and panel'!D38 -> 1474 | E38: ='frame fresh and panel'!E38 -> 48 | F38: ='frame fresh and panel'!F38 -> 8447 | G38: ='frame fresh and panel'!G38 -> 12681 | H38: ='frame fresh and panel'!H38 -> 17581 | I38: ='frame fresh and panel'!I38 -> 9459 | J38: ='frame fresh and panel'!J38 -> 25006 | K38: =SUM(C38:J40) -> 78647
A39: ='frame fresh and panel'!A39 -> Lubelskie (PL81) | B39: =LEFT('frame fresh and panel'!B39,FIND(")",'frame fresh and panel'!B39)) -> Medium (20-99) | C39: ='frame fresh and panel'!C39 -> 245 | D39: ='frame fresh and panel'!D39 -> 107 | E39: ='frame fresh and panel'!E39 -> 16 | F39: ='frame fresh and panel'!F39 -> 506 | G39: ='frame fresh and panel'!G39 -> 514 | H39: ='frame fresh and panel'!H39 -> 407 | I39: ='frame fresh and panel'!I39 -> 115 | J39: ='frame fresh and panel'!J39 -> 870
A40: ='frame fresh and panel'!A40 -> Lubelskie (PL81) | B40: =LEFT('frame fresh and panel'!B40,FIND(")",'frame fresh and panel'!B40)) -> Large (100 or more) | C40: ='frame fresh and panel'!C40 -> 54 | D40: ='frame fresh and panel'!D40 -> 21 | E40: ='frame fresh and panel'!E40 -> 8 | F40: ='frame fresh and panel'!F40 -> 127 | G40: ='frame fresh and panel'!G40 -> 27 | H40: ='frame fresh and panel'!H40 -> 39 | I40: ='frame fresh and panel'!I40 -> 17 | J40: ='frame fresh and panel'!J40 -> 89
A41: ='frame fresh and panel'!A41 -> Podkarpackie (PL82) | B41: =LEFT('frame fresh and panel'!B41,FIND(")",'frame fresh and panel'!B41)) -> Small (5-19) | C41: ='frame fresh and panel'!C41 -> 714 | D41: ='frame fresh and panel'!D41 -> 2190 | E41: ='frame fresh and panel'!E41 -> 93 | F41: ='frame fresh and panel'!F41 -> 9051 | G41: ='frame fresh and panel'!G41 -> 11122 | H41: ='frame fresh and panel'!H41 -> 17696 | I41: ='frame fresh and panel'!I41 -> 9434 | J41: ='frame fresh and panel'!J41 -> 24589 | K41: =SUM(C41:J43) -> 78537
A42: ='frame fresh and panel'!A42 -> Podkarpackie (PL82) | B42: =LEFT('frame fresh and panel'!B42,FIND(")",'frame fresh and panel'!B42)) -> Medium (20-99) | C42: ='frame fresh and panel'!C42 -> 226 | D42: ='frame fresh and panel'!D42 -> 181 | E42: ='frame fresh and panel'!E42 -> 24 | F42: ='frame fresh and panel'!F42 -> 757 | G42: ='frame fresh and panel'!G42 -> 532 | H42: ='frame fresh and panel'!H42 -> 481 | I42: ='frame fresh and panel'!I42 -> 98 | J42: ='frame fresh and panel'!J42 -> 861
A43: ='frame fresh and panel'!A43 -> Podkarpackie (PL82) | B43: =LEFT('frame fresh and panel'!B43,FIND(")",'frame fresh and panel'!B43)) -> Large (100 or more) | C43: ='frame fresh and panel'!C43 -> 28 | D43: ='frame fresh and panel'!D43 -> 46 | E43: ='frame fresh and panel'!E43 -> 10 | F43: ='frame fresh and panel'!F43 -> 205 | G43: ='frame fresh and panel'!G43 -> 52 | H43: ='frame fresh and panel'!H43 -> 46 | I43: ='frame fresh and panel'!I43 -> 9 | J43: ='frame fresh and panel'!J43 -> 92
A44: ='frame fresh and panel'!A44 -> Podlaskie (PL84) | B44: =LEFT('frame fresh and panel'!B44,FIND(")",'frame fresh and panel'!B44)) -> Small (5-19) | C44: ='frame fresh and panel'!C44 -> 421 | D44: ='frame fresh and panel'!D44 -> 759 | E44: ='frame fresh and panel'!E44 -> 31 | F44: ='frame fresh and panel'!F44 -> 5419 | G44: ='frame fresh and panel'!G44 -> 9352 | H44: ='frame fresh and panel'!H44 -> 10456 | I44: ='frame fresh and panel'!I44 -> 6395 | J44: ='frame fresh and panel'!J44 -> 14617 | K44: =SUM(C44:J46) -> 49408
A45: ='frame fresh and panel'!A45 -> Podlaskie (PL84) | B45: =LEFT('frame fresh and panel'!B45,FIND(")",'frame fresh and panel'!B45)) -> Medium (20-99) | C45: ='frame fresh and panel'!C45 -> 145 | D45: ='frame fresh and panel'!D45 -> 64 | E45: ='frame fresh and panel'!E45 -> 9 | F45: ='frame fresh and panel'!F45 -> 356 | G45: ='frame fresh and panel'!G45 -> 260 | H45: ='frame fresh and panel'!H45 -> 266 | I45: ='frame fresh and panel'!I45 -> 68 | J45: ='frame fresh and panel'!J45 -> 548
A46: ='frame fresh and panel'!A46 -> Podlaskie (PL84) | B46: =LEFT('frame fresh and panel'!B46,FIND(")",'frame fresh and panel'!B46)) -> Large (100 or more) | C46: ='frame fresh and panel'!C46 -> 37 | D46: ='frame fresh and panel'!D46 -> 11 | E46: ='frame fresh and panel'!E46 -> 2 | F46: ='frame fresh and panel'!F46 -> 77 | G46: ='frame fresh and panel'!G46 -> 31 | H46: ='frame fresh and panel'!H46 -> 25 | I46: ='frame fresh and panel'!I46 -> 3 | J46: ='frame fresh and panel'!J46 -> 56
A47: ='frame fresh and panel'!A47 -> Region Warszawski Stołeczny (PL91) | B47: =LEFT('frame fresh and panel'!B47,FIND(")",'frame fresh and panel'!B47)) -> Small (5-19) | C47: ='frame fresh and panel'!C47 -> 2053 | D47: ='frame fresh and panel'!D47 -> 2741 | E47: ='frame fresh and panel'!E47 -> 239 | F47: ='frame fresh and panel'!F47 -> 21092 | G47: ='frame fresh and panel'!G47 -> 34593 | H47: ='frame fresh and panel'!H47 -> 38169 | I47: ='frame fresh and panel'!I47 -> 70229 | J47: ='frame fresh and panel'!J47 -> 107372 | K47: =SUM(C47:J49) -> 288540
A48: ='frame fresh and panel'!A48 -> Region Warszawski Stołeczny (PL91) | B48: =LEFT('frame fresh and panel'!B48,FIND(")",'frame fresh and panel'!B48)) -> Medium (20-99) | C48: ='frame fresh and panel'!C48 -> 345 | D48: ='frame fresh and panel'!D48 -> 238 | E48: ='frame fresh and panel'!E48 -> 36 | F48: ='frame fresh and panel'!F48 -> 1576 | G48: ='frame fresh and panel'!G48 -> 1135 | H48: ='frame fresh and panel'!H48 -> 1464 | I48: ='frame fresh and panel'!I48 -> 1256 | J48: ='frame fresh and panel'!J48 -> 3959
A49: ='frame fresh and panel'!A49 -> Region Warszawski Stołeczny (PL91) | B49: =LEFT('frame fresh and panel'!B49,FIND(")",'frame fresh and panel'!B49)) -> Large (100 or more) | C49: ='frame fresh and panel'!C49 -> 113 | D49: ='frame fresh and panel'!D49 -> 47 | E49: ='frame fresh and panel'!E49 -> 15 | F49: ='frame fresh and panel'!F49 -> 389 | G49: ='frame fresh and panel'!G49 -> 189 | H49: ='frame fresh and panel'!H49 -> 189 | I49: ='frame fresh and panel'!I49 -> 326 | J49: ='frame fresh and panel'!J49 -> 775
A50: ='frame fresh and panel'!A50 -> Region Mazowiecki Regionalny (PL92) | B50: =LEFT('frame fresh and panel'!B50,FIND(")",'frame fresh and panel'!B50)) -> Small (5-19) | C50: ='frame fresh and panel'!C50 -> 881 | D50: ='frame fresh and panel'!D50 -> 2404 | E50: ='frame fresh and panel'!E50 -> 47 | F50: ='frame fresh and panel'!F50 -> 11372 | G50: ='frame fresh and panel'!G50 -> 14601 | H50: ='frame fresh and panel'!H50 -> 20463 | I50: ='frame fresh and panel'!I50 -> 9072 | J50: ='frame fresh and panel'!J50 -> 28490 | K50: =SUM(C50:J52) -> 91326
A51: ='frame fresh and panel'!A51 -> Region Mazowiecki Regionalny (PL92) | B51: =LEFT('frame fresh and panel'!B51,FIND(")",'frame fresh and panel'!B51)) -> Medium (20-99) | C51: ='frame fresh and panel'!C51 -> 301 | D51: ='frame fresh and panel'!D51 -> 182 | E51: ='frame fresh and panel'!E51 -> 18 | F51: ='frame fresh and panel'!F51 -> 793 | G51: ='frame fresh and panel'!G51 -> 457 | H51: ='frame fresh and panel'!H51 -> 563 | I51: ='frame fresh and panel'!I51 -> 113 | J51: ='frame fresh and panel'!J51 -> 1096
A52: ='frame fresh and panel'!A52 -> Region Mazowiecki Regionalny (PL92) | B52: =LEFT('frame fresh and panel'!B52,FIND(")",'frame fresh and panel'!B52)) -> Large (100 or more) | C52: ='frame fresh and panel'!C52 -> 76 | D52: ='frame fresh and panel'!D52 -> 52 | E52: ='frame fresh and panel'!E52 -> 2 | F52: ='frame fresh and panel'!F52 -> 155 | G52: ='frame fresh and panel'!G52 -> 34 | H52: ='frame fresh and panel'!H52 -> 47 | I52: ='frame fresh and panel'!I52 -> 14 | J52: ='frame fresh and panel'!J52 -> 93
C53: =SUM(C2:C52) -> 22363 | D53: =SUM(D2:D52) -> 48170 | E53: =SUM(E2:E52) -> 2223 | F53: =SUM(F2:F52) -> 232860 | G53: =SUM(G2:G52) -> 293998 | H53: =SUM(H2:H52) -> 411582 | I53: =SUM(I2:I52) -> 289753 | J53: =SUM(J2:J52) -> 645589 | K53: =SUM(K2:K52) -> 1946538
A54: Source: Orbis Database (Bureau van Dijk) as of 2024 (Establishment-level)

Sheet Table 3 Original Survey Design
C1: =RIGHT(SUBSTITUTE('original survey design'!C1,"_"," "),LEN(SUBSTITUTE('original survey design'!C1,"_"," "))-1) -> Food | D1: =RIGHT(SUBSTITUTE('original survey design'!D1,"_"," "),LEN(SUBSTITUTE('original survey design'!D1,"_"," "))-1) -> Fabricated Metal Products | E1: =RIGHT(SUBSTITUTE('original survey design'!E1,"_"," "),LEN(SUBSTITUTE('original survey design'!E1,"_"," "))-1) -> Motor Vehicles | F1: =RIGHT(SUBSTITUTE('original survey design'!F1,"_"," "),LEN(SUBSTITUTE('original survey design'!F1,"_"," "))-1) -> Other Manufacturing | G1: =RIGHT(SUBSTITUTE('original survey design'!G1,"_"," "),LEN(SUBSTITUTE('original survey design'!G1,"_"," "))-1) -> Retail | H1: =RIGHT(SUBSTITUTE('original survey design'!H1,"_"," "),LEN(SUBSTITUTE('original survey design'!H1,"_"," "))-1) -> Construction | I1: =RIGHT(SUBSTITUTE('original survey design'!I1,"_"," "),LEN(SUBSTITUTE('original survey design'!I1,"_"," "))-1) -> Professional Activities | J1: =RIGHT(SUBSTITUTE('original survey design'!J1,"_"," "),LEN(SUBSTITUTE('original survey design'!J1,"_"," "))-1) -> Other services | K1: =RIGHT(SUBSTITUTE('original survey design'!K1,"_"," "),LEN(SUBSTITUTE('original survey design'!K1,"_"," "))-1) -> Grand Total
A2: ='original survey design'!A2 -> Małopolskie (PL21) | B2: =LEFT('original survey design'!B2,FIND(")",'original survey design'!B2)) -> Small (5-19) | C2: ='original survey design'!C2 -> 2 | D2: ='original survey design'!D2 -> 2 | E2: ='original survey design'!E2 -> 2 | F2: ='original survey design'!F2 -> 3 | G2: ='original survey design'!G2 -> 4 | H2: ='original survey design'!H2 -> 6 | I2: ='original survey design'!I2 -> 4 | J2: ='original survey design'!J2 -> 8 | K2: =SUM(C2:J4) -> 68
A3: ='original survey design'!A3 -> Małopolskie (PL21) | B3: =LEFT('original survey design'!B3,FIND(")",'original survey design'!B3)) -> Medium (20-99) | C3: ='original survey design'!C3 -> 2 | D3: ='original survey design'!D3 -> 2 | E3: ='original survey design'!E3 -> 2 | F3: ='original survey design'!F3 -> 2 | G3: ='original survey design'!G3 -> 2 | H3: ='original survey design'!H3 -> 2 | I3: ='original survey design'!I3 -> 2 | J3: ='original survey design'!J3 -> 3
A4: ='original survey design'!A4 -> Małopolskie (PL21) | B4: =LEFT('original survey design'!B4,FIND(")",'original survey design'!B4)) -> Large (100-199) | C4: ='original survey design'!C4 -> 2 | D4: ='original survey design'!D4 -> 2 | E4: ='original survey design'!E4 -> 2 | F4: ='original survey design'!F4 -> 3 | G4: ='original survey design'!G4 -> 3 | H4: ='original survey design'!H4 -> 3 | I4: ='original survey design'!I4 -> 2 | J4: ='original survey design'!J4 -> 3
A5: ='original survey design'!A5 -> Śląskie (PL22) | B5: =LEFT('original survey design'!B5,FIND(")",'original survey design'!B5)) -> Small (5-19) | C5: ='original survey design'!C5 -> 2 | D5: ='original survey design'!D5 -> 2 | E5: ='original survey design'!E5 -> 2 | F5: ='original survey design'!F5 -> 3 | G5: ='original survey design'!G5 -> 5 | H5: ='original survey design'!H5 -> 5 | I5: ='original survey design'!I5 -> 4 | J5: ='original survey design'!J5 -> 14 | K5: =SUM(C5:J7) -> 87
A6: ='original survey design'!A6 -> Śląskie (PL22) | B6: =LEFT('original survey design'!B6,FIND(")",'original survey design'!B6)) -> Medium (20-99) | C6: ='original survey design'!C6 -> 2 | D6: ='original survey design'!D6 -> 2 | E6: ='original survey design'!E6 -> 7 | F6: ='original survey design'!F6 -> 3 | G6: ='original survey design'!G6 -> 2 | H6: ='original survey design'!H6 -> 2 | I6: ='original survey design'!I6 -> 2 | J6: ='original survey design'!J6 -> 3
A7: ='original survey design'!A7 -> Śląskie (PL22) | B7: =LEFT('original survey design'!B7,FIND(")",'original survey design'!B7)) -> Large (100-199) | C7: ='original survey design'!C7 -> 3 | D7: ='original survey design'!D7 -> 2 | E7: ='original survey design'!E7 -> 9 | F7: ='original survey design'!F7 -> 3 | G7: ='original survey design'!G7 -> 2 | H7: ='original survey design'!H7 -> 3 | I7: ='original survey design'!I7 -> 2 | J7: ='original survey design'!J7 -> 3
A8: ='original survey design'!A8 -> Wielkopolskie (PL41) | B8: =LEFT('original survey design'!B8,FIND(")",'original survey design'!B8)) -> Small (5-19) | C8: ='original survey design'!C8 -> 2 | D8: ='original survey design'!D8 -> 2 | E8: ='original survey design'!E8 -> 2 | F8: ='original survey design'!F8 -> 3 | G8: ='original survey design'!G8 -> 4 | H8: ='original survey design'!H8 -> 6 | I8: ='original survey design'!I8 -> 4 | J8: ='original survey design'!J8 -> 9 | K8: =SUM(C8:J10) -> 73
A9: ='original survey design'!A9 -> Wielkopolskie (PL41) | B9: =LEFT('original survey design'!B9,FIND(")",'original survey design'!B9)) -> Medium (20-99) | C9: ='original survey design'!C9 -> 2 | D9: ='original survey design'!D9 -> 2 | E9: ='original survey design'!E9 -> 4 | F9: ='original survey design'!F9 -> 3 | G9: ='original survey design'!G9 -> 2 | H9: ='original survey design'!H9 -> 2 | I9: ='original survey design'!I9 -> 2 | J9: ='original survey design'!J9 -> 3
A10: ='original survey design'!A10 -> Wielkopolskie (PL41) | B10: =LEFT('original survey design'!B10,FIND(")",'original survey design'!B10)) -> Large (100-199) | C10: ='original survey design'!C10 -> 3 | D10: ='original survey design'!D10 -> 2 | E10: ='original survey design'!E10 -> 4 | F10: ='original survey design'!F10 -> 3 | G10: ='original survey design'!G10 -> 2 | H10: ='original survey design'!H10 -> 2 | I10: ='original survey design'!I10 -> 2 | J10: ='original survey design'!J10 -> 3
A11: ='original survey design'!A11 -> Zachodniopomorskie (PL42) | B11: =LEFT('original survey design'!B11,FIND(")",'original survey design'!B11)) -> Small (5-19) | C11: ='original survey design'!C11 -> 2 | D11: ='original survey design'!D11 -> 2 | E11: ='original survey design'!E11 -> 3 | F11: ='original survey design'!F11 -> 2 | G11: ='original survey design'!G11 -> 2 | H11: ='original survey design'!H11 -> 3 | I11: ='original survey design'!I11 -> 2 | J11: ='original survey design'!J11 -> 4 | K11: =SUM(C11:J13) -> 68
A12: ='original survey design'!A12 -> Zachodniopomorskie (PL42) | B12: =LEFT('original survey design'!B12,FIND(")",'original survey design'!B12)) -> Medium (20-99) | C12: ='original survey design'!C12 -> 3 | D12: ='original survey design'!D12 -> 3 | E12: ='original survey design'!E12 -> 1 | F12: ='original survey design'!F12 -> 4 | G12: ='original survey design'!G12 -> 3 | H12: ='original survey design'!H12 -> 4 | I12: ='original survey design'!I12 -> 3 | J12: ='original survey design'!J12 -> 4
A13: ='original survey design'!A13 -> Zachodniopomorskie (PL42) | B13: =LEFT('original survey design'!B13,FIND(")",'original survey design'!B13)) -> Large (100-199) | C13: ='original survey design'!C13 -> 4 | D13: ='original survey design'!D13 -> 4 | E13: ='original survey design'!E13 -> 1 | F13: ='original survey design'!F13 -> 4 | G13: ='original survey design'!G13 -> 2 | H13: ='original survey design'!H13 -> 3 | I13: ='original survey design'!I13 -> 1 | J13: ='original survey design'!J13 -> 4
A14: ='original survey design'!A14 -> Lubuskie (PL43) | B14: =LEFT('original survey design'!B14,FIND(")",'original survey design'!B14)) -> Small (5-19) | C14: ='original survey design'!C14 -> 2 | D14: ='original survey design'!D14 -> 2 | E14: ='original survey design'!E14 -> 3 | F14: ='original survey design'!F14 -> 2 | G14: ='original survey design'!G14 -> 2 | H14: ='original survey design'!H14 -> 2 | I14: ='original survey design'!I14 -> 2 | J14: ='original survey design'!J14 -> 2 | K14: =SUM(C14:J16) -> 68
A15: ='original survey design'!A15 -> Lubuskie (PL43) | B15: =LEFT('original survey design'!B15,FIND(")",'original survey design'!B15)) -> Medium (20-99) | C15: ='original survey design'!C15 -> 4 | D15: ='original survey design'!D15 -> 3 | E15: ='original survey design'!E15 -> 2 | F15: ='original survey design'!F15 -> 4 | G15: ='original survey design'!G15 -> 4 | H15: ='original survey design'!H15 -> 4 | I15: ='original survey design'!I15 -> 3 | J15: ='original survey design'!J15 -> 4
A16: ='original survey design'!A16 -> Lubuskie (PL43) | B16: =LEFT('original survey design'!B16,FIND(")",'original survey design'!B16)) -> Large (100-199) | C16: ='original survey design'!C16 -> 3 | D16: ='original survey design'!D16 -> 3 | E16: ='original survey design'!E16 -> 1 | F16: ='original survey design'!F16 -> 5 | G16: ='original survey design'!G16 -> 2 | H16: ='original survey design'!H16 -> 3 | I16: ='original survey design'!I16 -> 1 | J16: ='original survey design'!J16 -> 5
A17: ='original survey design'!A17 -> Dolnośląskie (PL51) | B17: =LEFT('original survey design'!B17,FIND(")",'original survey design'!B17)) -> Small (5-19) | C17: ='original survey design'!C17 -> 2 | D17: ='original survey design'!D17 -> 2 | E17: ='original survey design'!E17 -> 2 | F17: ='original survey design'!F17 -> 2 | G17: ='original survey design'!G17 -> 4 | H17: ='original survey design'!H17 -> 5 | I17: ='original survey design'!I17 -> 3 | J17: ='original survey design'!J17 -> 7 | K17: =SUM(C17:J19) -> 68
A18: ='original survey design'!A18 -> Dolnośląskie (PL51) | B18: =LEFT('original survey design'!B18,FIND(")",'original survey design'!B18)) -> Medium (20-99) | C18: ='original survey design'!C18 -> 2 | D18: ='original survey design'!D18 -> 2 | E18: ='original survey design'!E18 -> 3 | F18: ='original survey design'!F18 -> 2 | G18: ='original survey design'!G18 -> 2 | H18: ='original survey design'!H18 -> 2 | I18: ='original survey design'!I18 -> 2 | J18: ='original survey design'!J18 -> 2
A19: ='original survey design'!A19 -> Dolnośląskie (PL51) | B19: =LEFT('original survey design'!B19,FIND(")",'original survey design'!B19)) -> Large (100-199) | C19: ='original survey design'!C19 -> 2 | D19: ='original survey design'!D19 -> 3 | E19: ='original survey design'!E19 -> 6 | F19: ='original survey design'!F19 -> 3 | G19: ='original survey design'!G19 -> 2 | H19: ='original survey design'!H19 -> 3 | I19: ='original survey design'!I19 -> 2 | J19: ='original survey design'!J19 -> 3
A20: ='original survey design'!A20 -> Opolskie (PL52) | B20: =LEFT('original survey design'!B20,FIND(")",'original survey design'!B20)) -> Small (5-19) | C20: ='original survey design'!C20 -> 2 | D20: ='original survey design'!D20 -> 2 | E20: ='original survey design'!E20 -> 3 | F20: ='original survey design'!F20 -> 2 | G20: ='original survey design'!G20 -> 2 | H20: ='original survey design'!H20 -> 2 | I20: ='original survey design'!I20 -> 2 | J20: ='original survey design'!J20 -> 2 | K20: =SUM(C20:J22) -> 68
A21: ='original survey design'!A21 -> Opolskie (PL52) | B21: =LEFT('original survey design'!B21,FIND(")",'original survey design'!B21)) -> Medium (20-99) | C21: ='original survey design'!C21 -> 4 | D21: ='original survey design'!D21 -> 4 | E21: ='original survey design'!E21 -> 2 | F21: ='original survey design'!F21 -> 4 | G21: ='original survey design'!G21 -> 4 | H21: ='original survey design'!H21 -> 4 | I21: ='original survey design'!I21 -> 4 | J21: ='original survey design'!J21 -> 4
A22: ='original survey design'!A22 -> Opolskie (PL52) | B22: =LEFT('original survey design'!B22,FIND(")",'original survey design'!B22)) -> Large (100-199) | C22: ='original survey design'!C22 -> 2 | D22: ='original survey design'!D22 -> 3 | E22: ='original survey design'!E22 -> 1 | F22: ='original survey design'!F22 -> 5 | G22: ='original survey design'!G22 -> 1 | H22: ='original survey design'!H22 -> 3 | I22: ='original survey design'!I22 -> 1 | J22: ='original survey design'!J22 -> 5
A23: ='original survey design'!A23 -> Kujawsko-Pomorskie (PL61) | B23: =LEFT('original survey design'!B23,FIND(")",'original survey design'!B23)) -> Small (5-19) | C23: ='original survey design'!C23 -> 2 | D23: ='original survey design'!D23 -> 2 | E23: ='original survey design'!E23 -> 2 | F23: ='original survey design'!F23 -> 2 | G23: ='original survey design'!G23 -> 2 | H23: ='original survey design'!H23 -> 3 | I23: ='original survey design'!I23 -> 2 | J23: ='original survey design'!J23 -> 4 | K23: =SUM(C23:J25) -> 68
A24: ='original survey design'!A24 -> Kujawsko-Pomorskie (PL61) | B24: =LEFT('original survey design'!B24,FIND(")",'original survey design'!B24)) -> Medium (20-99) | C24: ='original survey design'!C24 -> 3 | D24: ='original survey design'!D24 -> 3 | E24: ='original survey design'!E24 -> 3 | F24: ='original survey design'!F24 -> 3 | G24: ='original survey design'!G24 -> 3 | H24: ='original survey design'!H24 -> 3 | I24: ='original survey design'!I24 -> 3 | J24: ='original survey design'!J24 -> 3
A25: ='original survey design'!A25 -> Kujawsko-Pomorskie (PL61) | B25: =LEFT('original survey design'!B25,FIND(")",'original survey design'!B25)) -> Large (100-199) | C25: ='original survey design'!C25 -> 4 | D25: ='original survey design'!D25 -> 4 | E25: ='original survey design'!E25 -> 1 | F25: ='original survey design'!F25 -> 4 | G25: ='original survey design'!G25 -> 3 | H25: ='original survey design'!H25 -> 3 | I25: ='original survey design'!I25 -> 2 | J25: ='original survey design'!J25 -> 4
A26: ='original survey design'!A26 -> Warmińsko-Mazurskie (PL62) | B26: =LEFT('original survey design'!B26,FIND(")",'original survey design'!B26)) -> Small (5-19) | C26: ='original survey design'!C26 -> 2 | D26: ='original survey design'!D26 -> 2 | E26: ='original survey design'!E26 -> 3 | F26: ='original survey design'!F26 -> 2 | G26: ='original survey design'!G26 -> 2 | H26: ='original survey design'!H26 -> 2 | I26: ='original survey design'!I26 -> 2 | J26: ='original survey design'!J26 -> 2 | K26: =SUM(C26:J28) -> 68
A27: ='original survey design'!A27 -> Warmińsko-Mazurskie (PL62) | B27: =LEFT('original survey design'!B27,FIND(")",'original survey design'!B27)) -> Medium (20-99) | C27: ='original survey design'!C27 -> 4 | D27: ='original survey design'!D27 -> 3 | E27: ='original survey design'!E27 -> 1 | F27: ='original survey design'!F27 -> 4 | G27: ='original survey design'!G27 -> 4 | H27: ='original survey design'!H27 -> 4 | I27: ='original survey design'!I27 -> 3 | J27: ='original survey design'!J27 -> 4
A28: ='original survey design'!A28 -> Warmińsko-Mazurskie (PL62) | B28: =LEFT('original survey design'!B28,FIND(")",'original survey design'!B28)) -> Large (100-199) | C28: ='original survey design'!C28 -> 4 | D28: ='original survey design'!D28 -> 4 | E28: ='original survey design'!E28 -> 1 | F28: ='original survey design'!F28 -> 5 | G28: ='original survey design'!G28 -> 2 | H28: ='original survey design'!H28 -> 3 | I28: ='original survey design'!I28 -> 1 | J28: ='original survey design'!J28 -> 4
A29: ='original survey design'!A29 -> Pomorskie (PL63) | B29: =LEFT('original survey design'!B29,FIND(")",'original survey design'!B29)) -> Small (5-19) | C29: ='original survey design'!C29 -> 2 | D29: ='original survey design'!D29 -> 2 | E29: ='original survey design'!E29 -> 2 | F29: ='original survey design'!F29 -> 2 | G29: ='original survey design'!G29 -> 2 | H29: ='original survey design'!H29 -> 4 | I29: ='original survey design'!I29 -> 3 | J29: ='original survey design'!J29 -> 5 | K29: =SUM(C29:J31) -> 68
A30: ='original survey design'!A30 -> Pomorskie (PL63) | B30: =LEFT('original survey design'!B30,FIND(")",'original survey design'!B30)) -> Medium (20-99) | C30: ='original survey design'!C30 -> 3 | D30: ='original survey design'!D30 -> 2 | E30: ='original survey design'!E30 -> 2 | F30: ='original survey design'!F30 -> 3 | G30: ='original survey design'!G30 -> 3 | H30: ='original survey design'!H30 -> 3 | I30: ='original survey design'!I30 -> 3 | J30: ='original survey design'!J30 -> 3
A31: ='original survey design'!A31 -> Pomorskie (PL63) | B31: =LEFT('original survey design'!B31,FIND(")",'original survey design'!B31)) -> Large (100-199) | C31: ='original survey design'!C31 -> 3 | D31: ='original survey design'!D31 -> 3 | E31: ='original survey design'!E31 -> 1 | F31: ='original survey design'!F31 -> 4 | G31: ='original survey design'!G31 -> 3 | H31: ='original survey design'!H31 -> 3 | I31: ='original survey design'!I31 -> 3 | J31: ='original survey design'!J31 -> 4
A32: ='original survey design'!A32 -> Łódzkie (PL71) | B32: =LEFT('original survey design'!B32,FIND(")",'original survey design'!B32)) -> Small (5-19) | C32: ='original survey design'!C32 -> 2 | D32: ='original survey design'!D32 -> 2 | E32: ='original survey design'!E32 -> 2 | F32: ='original survey design'!F32 -> 3 | G32: ='original survey design'!G32 -> 3 | H32: ='original survey design'!H32 -> 3 | I32: ='original survey design'!I32 -> 2 | J32: ='original survey design'!J32 -> 5 | K32: =SUM(C32:J34) -> 68
A33: ='original survey design'!A33 -> Łódzkie (PL71) | B33: =LEFT('original survey design'!B33,FIND(")",'original survey design'!B33)) -> Medium (20-99) | C33: ='original survey design'!C33 -> 3 | D33: ='original survey design'!D33 -> 2 | E33: ='original survey design'!E33 -> 3 | F33: ='original survey design'!F33 -> 3 | G33: ='original survey design'!G33 -> 3 | H33: ='original survey design'!H33 -> 3 | I33: ='original survey design'!I33 -> 2 | J33: ='original survey design'!J33 -> 3
A34: ='original survey design'!A34 -> Łódzkie (PL71) | B34: =LEFT('original survey design'!B34,FIND(")",'original survey design'!B34)) -> Large (100-199) | C34: ='original survey design'!C34 -> 3 | D34: ='original survey design'!D34 -> 3 | E34: ='original survey design'!E34 -> 2 | F34: ='original survey design'!F34 -> 4 | G34: ='original survey design'!G34 -> 3 | H34: ='original survey design'!H34 -> 3 | I34: ='original survey design'!I34 -> 3 | J34: ='original survey design'!J34 -> 3
A35: ='original survey design'!A35 -> Świętokrzyskie (PL72) | B35: =LEFT('original survey design'!B35,FIND(")",'original survey design'!B35)) -> Small (5-19) | C35: ='original survey design'!C35 -> 2 | D35: ='original survey design'!D35 -> 2 | E35: ='original survey design'!E35 -> 3 | F35: ='original survey design'!F35 -> 2 | G35: ='original survey design'!G35 -> 2 | H35: ='original survey design'!H35 -> 2 | I35: ='original survey design'!I35 -> 2 | J35: ='original survey design'!J35 -> 2 | K35: =SUM(C35:J37) -> 68
A36: ='original survey design'!A36 -> Świętokrzyskie (PL72) | B36: =LEFT('original survey design'!B36,FIND(")",'original survey design'!B36)) -> Medium (20-99) | C36: ='original survey design'!C36 -> 4 | D36: ='original survey design'!D36 -> 4 | E36: ='original survey design'!E36 -> 1 | F36: ='original survey design'!F36 -> 4 | G36: ='original survey design'!G36 -> 4 | H36: ='original survey design'!H36 -> 4 | I36: ='original survey design'!I36 -> 3 | J36: ='original survey design'!J36 -> 4
A37: ='original survey design'!A37 -> Świętokrzyskie (PL72) | B37: =LEFT('original survey design'!B37,FIND(")",'original survey design'!B37)) -> Large (100-199) | C37: ='original survey design'!C37 -> 2 | D37: ='original survey design'!D37 -> 4 | E37: ='original survey design'!E37 -> 1 | F37: ='original survey design'!F37 -> 5 | G37: ='original survey design'!G37 -> 3 | H37: ='original survey design'!H37 -> 2 | I37: ='original survey design'!I37 -> 1 | J37: ='original survey design'!J37 -> 5
A38: ='original survey design'!A38 -> Lubelskie (PL81) | B38: =LEFT('original survey design'!B38,FIND(")",'original survey design'!B38)) -> Small (5-19) | C38: ='original survey design'!C38 -> 2 | D38: ='original survey design'!D38 -> 2 | E38: ='original survey design'!E38 -> 3 | F38: ='original survey design'!F38 -> 2 | G38: ='original survey design'!G38 -> 2 | H38: ='original survey design'!H38 -> 3 | I38: ='original survey design'!I38 -> 2 | J38: ='original survey design'!J38 -> 4 | K38: =SUM(C38:J40) -> 68
A39: ='original survey design'!A39 -> Lubelskie (PL81) | B39: =LEFT('original survey design'!B39,FIND(")",'original survey design'!B39)) -> Medium (20-99) | C39: ='original survey design'!C39 -> 3 | D39: ='original survey design'!D39 -> 3 | E39: ='original survey design'!E39 -> 2 | F39: ='original survey design'!F39 -> 3 | G39: ='original survey design'!G39 -> 3 | H39: ='original survey design'!H39 -> 3 | I39: ='original survey design'!I39 -> 3 | J39: ='original survey design'!J39 -> 3
A40: ='original survey design'!A40 -> Lubelskie (PL81) | B40: =LEFT('original survey design'!B40,FIND(")",'original survey design'!B40)) -> Large (100-199) | C40: ='original survey design'!C40 -> 4 | D40: ='original survey design'!D40 -> 3 | E40: ='original survey design'!E40 -> 1 | F40: ='original survey design'!F40 -> 4 | G40: ='original survey design'!G40 -> 3 | H40: ='original survey design'!H40 -> 4 | I40: ='original survey design'!I40 -> 2 | J40: ='original survey design'!J40 -> 4
A41: ='original survey design'!A41 -> Podkarpackie (PL82) | B41: =LEFT('original survey design'!B41,FIND(")",'original survey design'!B41)) -> Small (5-19) | C41: ='original survey design'!C41 -> 2 | D41: ='original survey design'!D41 -> 2 | E41: ='original survey design'!E41 -> 2 | F41: ='original survey design'!F41 -> 2 | G41: ='original survey design'!G41 -> 2 | H41: ='original survey design'!H41 -> 3 | I41: ='original survey design'!I41 -> 2 | J41: ='original survey design'!J41 -> 4 | K41: =SUM(C41:J43) -> 68
A42: ='original survey design'!A42 -> Podkarpackie (PL82) | B42: =LEFT('original survey design'!B42,FIND(")",'original survey design'!B42)) -> Medium (20-99) | C42: ='original survey design'!C42 -> 3 | D42: ='original survey design'!D42 -> 3 | E42: ='original survey design'!E42 -> 3 | F42: ='original survey design'!F42 -> 3 | G42: ='original survey design'!G42 -> 3 | H42: ='original survey design'!H42 -> 3 | I42: ='original survey design'!I42 -> 3 | J42: ='original survey design'!J42 -> 3
A43: ='original survey design'!A43 -> Podkarpackie (PL82) | B43: =LEFT('original survey design'!B43,FIND(")",'original survey design'!B43)) -> Large (100-199) | C43: ='original survey design'!C43 -> 3 | D43: ='original survey design'!D43 -> 4 | E43: ='original survey design'!E43 -> 1 | F43: ='original survey design'!F43 -> 4 | G43: ='original survey design'!G43 -> 4 | H43: ='original survey design'!H43 -> 4 | I43: ='original survey design'!I43 -> 1 | J43: ='original survey design'!J43 -> 4
A44: ='original survey design'!A44 -> Podlaskie (PL84) | B44: =LEFT('original survey design'!B44,FIND(")",'original survey design'!B44)) -> Small (5-19) | C44: ='original survey design'!C44 -> 2 | D44: ='original survey design'!D44 -> 2 | E44: ='original survey design'!E44 -> 3 | F44: ='original survey design'!F44 -> 2 | G44: ='original survey design'!G44 -> 2 | H44: ='original survey design'!H44 -> 2 | I44: ='original survey design'!I44 -> 2 | J44: ='original survey design'!J44 -> 2 | K44: =SUM(C44:J46) -> 68
A45: ='original survey design'!A45 -> Podlaskie (PL84) | B45: =LEFT('original survey design'!B45,FIND(")",'original survey design'!B45)) -> Medium (20-99) | C45: ='original survey design'!C45 -> 4 | D45: ='original survey design'!D45 -> 3 | E45: ='original survey design'!E45 -> 1 | F45: ='original survey design'!F45 -> 4 | G45: ='original survey design'!G45 -> 4 | H45: ='original survey design'!H45 -> 4 | I45: ='original survey design'!I45 -> 3 | J45: ='original survey design'!J45 -> 4
A46: ='original survey design'!A46 -> Podlaskie (PL84) | B46: =LEFT('original survey design'!B46,FIND(")",'original survey design'!B46)) -> Large (100-199) | C46: ='original survey design'!C46 -> 4 | D46: ='original survey design'!D46 -> 2 | E46: ='original survey design'!E46 -> 1 | F46: ='original survey design'!F46 -> 5 | G46: ='original survey design'!G46 -> 4 | H46: ='original survey design'!H46 -> 3 | I46: ='original survey design'!I46 -> 1 | J46: ='original survey design'!J46 -> 4
A47: ='original survey design'!A47 -> Region Warszawski Stołeczny (PL91) | B47: =LEFT('original survey design'!B47,FIND(")",'original survey design'!B47)) -> Small (5-19) | C47: ='original survey design'!C47 -> 2 | D47: ='original survey design'!D47 -> 2 | E47: ='original survey design'!E47 -> 2 | F47: ='original survey design'!F47 -> 3 | G47: ='original survey design'!G47 -> 5 | H47: ='original survey design'!H47 -> 5 | I47: ='original survey design'!I47 -> 14 | J47: ='original survey design'!J47 -> 14 | K47: =SUM(C47:J49) -> 88
A48: ='original survey design'!A48 -> Region Warszawski Stołeczny (PL91) | B48: =LEFT('original survey design'!B48,FIND(")",'original survey design'!B48)) -> Medium (20-99) | C48: ='original survey design'!C48 -> 2 | D48: ='original survey design'!D48 -> 2 | E48: ='original survey design'!E48 -> 4 | F48: ='original survey design'!F48 -> 2 | G48: ='original survey design'!G48 -> 2 | H48: ='original survey design'!H48 -> 2 | I48: ='original survey design'!I48 -> 2 | J48: ='original survey design'!J48 -> 4
A49: ='original survey design'!A49 -> Region Warszawski Stołeczny (PL91) | B49: =LEFT('original survey design'!B49,FIND(")",'original survey design'!B49)) -> Large (100-199) | C49: ='original survey design'!C49 -> 2 | D49: ='original survey design'!D49 -> 2 | E49: ='original survey design'!E49 -> 2 | F49: ='original survey design'!F49 -> 3 | G49: ='original survey design'!G49 -> 3 | H49: ='original survey design'!H49 -> 3 | I49: ='original survey design'!I49 -> 3 | J49: ='original survey design'!J49 -> 3
A50: ='original survey design'!A50 -> Region Mazowiecki Regionalny (PL92) | B50: =LEFT('original survey design'!B50,FIND(")",'original survey design'!B50)) -> Small (5-19) | C50: ='original survey design'!C50 -> 2 | D50: ='original survey design'!D50 -> 2 | E50: ='original survey design'!E50 -> 2 | F50: ='original survey design'!F50 -> 2 | G50: ='original survey design'!G50 -> 2 | H50: ='original survey design'!H50 -> 3 | I50: ='original survey design'!I50 -> 2 | J50: ='original survey design'!J50 -> 4 | K50: =SUM(C50:J52) -> 68
A51: ='original survey design'!A51 -> Region Mazowiecki Regionalny (PL92) | B51: =LEFT('original survey design'!B51,FIND(")",'original survey design'!B51)) -> Medium (20-99) | C51: ='original survey design'!C51 -> 3 | D51: ='original survey design'!D51 -> 3 | E51: ='original survey design'!E51 -> 2 | F51: ='original survey design'!F51 -> 3 | G51: ='original survey design'!G51 -> 3 | H51: ='original survey design'!H51 -> 3 | I51: ='original survey design'!I51 -> 3 | J51: ='original survey design'!J51 -> 3
A52: ='original survey design'!A52 -> Region Mazowiecki Regionalny (PL92) | B52: =LEFT('original survey design'!B52,FIND(")",'original survey design'!B52)) -> Large (100-199) | C52: ='original survey design'!C52 -> 4 | D52: ='original survey design'!D52 -> 4 | E52: ='original survey design'!E52 -> 1 | F52: ='original survey design'!F52 -> 4 | G52: ='original survey design'!G52 -> 3 | H52: ='original survey design'!H52 -> 4 | I52: ='original survey design'!I52 -> 2 | J52: ='original survey design'!J52 -> 4
C53: =SUM(C2:C52) -> 137 | D53: =SUM(D2:D52) -> 132 | E53: =SUM(E2:E52) -> 120 | F53: =SUM(F2:F52) -> 161 | G53: =SUM(G2:G52) -> 143 | H53: =SUM(H2:H52) -> 163 | I53: =SUM(I2:I52) -> 130 | J53: =SUM(J2:J52) -> 214 | K53: =SUM(K2:K52) -> 1200

Sheet Table 4 Response Outcomes
D2: Totals | E2: Rates relative to total contacted
B3: Overall | C3: Contacts available in frame | D3: 1946538
C4: Issued | D4: 19100
C5: Contacted | D5: 12320
B6: Screening phase | C6: Eligibles | D6: 3111 | E6: =D6/D$5 -> 0.25251623
C7: Screener refusals | D7: 4654 | E7: =D7/D$5 -> 0.37775974
C8: Assumed eligibles | D8: 8382 | E8: =D8/D$5 -> 0.68035714
C9: Ineligible + out of target | D9: 1527 | E9: =D9/D$5 -> 0.12394481
C10: Unobtainables | D10: 3025 | E10: =D10/D$5 -> 0.24553571
B11: Interview phase | C11: Interview refusals | D11: 1386 | E11: =D11/D$5 -> 0.1125
B12: (only if eligible) | C12: Complete interviews | D12: 1725 | E12: =D12/D$5 -> 0.14001623

Sheet Table 5 Survey Yield Rates
C2: Stratification | D2: Yield | E2: Survey response rate | F2: Frame quality
B3: Panel | C3: Fresh | D3: =VLOOKUP($C3,'yield calculation'!$C:$F,2,FALSE) -> 0.13936652 | E3: =VLOOKUP($C3,'yield calculation'!$C:$F,3,FALSE) -> 0.20613037 | F3: =VLOOKUP($C3,'yield calculation'!$C:$F,4,FALSE) -> 0.6761086
C4: Panel | D4: =VLOOKUP($C4,'yield calculation'!$C:$F,2,FALSE) -> 0.14566929 | E4: =VLOOKUP($C4,'yield calculation'!$C:$F,3,FALSE) -> 0.20307355 | F4: =VLOOKUP($C4,'yield calculation'!$C:$F,4,FALSE) -> 0.71732283
B5: Size | C5: Small (5-19) | D5: =VLOOKUP($C5,'yield calculation'!$C:$F,2,FALSE) -> 0.12862691 | E5: =VLOOKUP($C5,'yield calculation'!$C:$F,3,FALSE) -> 0.2071376 | F5: =VLOOKUP($C5,'yield calculation'!$C:$F,4,FALSE) -> 0.62097327
C6: Medium (20-99) | D6: =VLOOKUP($C6,'yield calculation'!$C:$F,2,FALSE) -> 0.14786908 | E6: =VLOOKUP($C6,'yield calculation'!$C:$F,3,FALSE) -> 0.20422764 | F6: =VLOOKUP($C6,'yield calculation'!$C:$F,4,FALSE) -> 0.7240405
C7: Large (100+) | D7: =VLOOKUP($C7,'yield calculation'!$C:$F,2,FALSE) -> 0.14448052 | E7: =VLOOKUP($C7,'yield calculation'!$C:$F,3,FALSE) -> 0.20625724 | F7: =VLOOKUP($C7,'yield calculation'!$C:$F,4,FALSE) -> 0.70048701
B8: Region | C8: Małopolskie (PL21) | D8: =VLOOKUP($C8,'yield calculation'!$C:$F,2,FALSE) -> 0.21059783 | E8: =VLOOKUP($C8,'yield calculation'!$C:$F,3,FALSE) -> 0.29080675 | F8: =VLOOKUP($C8,'yield calculation'!$C:$F,4,FALSE) -> 0.72418478
C9: Śląskie (PL22) | D9: =VLOOKUP($C9,'yield calculation'!$C:$F,2,FALSE) -> 0.15895611 | E9: =VLOOKUP($C9,'yield calculation'!$C:$F,3,FALSE) -> 0.24144144 | F9: =VLOOKUP($C9,'yield calculation'!$C:$F,4,FALSE) -> 0.65836299
C10: Wielkopolskie (PL41) | D10: =VLOOKUP($C10,'yield calculation'!$C:$F,2,FALSE) -> 0.14489311 | E10: =VLOOKUP($C10,'yield calculation'!$C:$F,3,FALSE) -> 0.19805195 | F10: =VLOOKUP($C10,'yield calculation'!$C:$F,4,FALSE) -> 0.73159145
C11: Zachodniopomorskie (PL42) | D11: =VLOOKUP($C11,'yield calculation'!$C:$F,2,FALSE) -> 0.11707989 | E11: =VLOOKUP($C11,'yield calculation'!$C:$F,3,FALSE) -> 0.16898608 | F11: =VLOOKUP($C11,'yield calculation'!$C:$F,4,FALSE) -> 0.69283747
C12: Lubuskie (PL43) | D12: =VLOOKUP($C12,'yield calculation'!$C:$F,2,FALSE) -> 0.14264487 | E12: =VLOOKUP($C12,'yield calculation'!$C:$F,3,FALSE) -> 0.1995842 | F12: =VLOOKUP($C12,'yield calculation'!$C:$F,4,FALSE) -> 0.71471025
C13: Dolnośląskie (PL51) | D13: =VLOOKUP($C13,'yield calculation'!$C:$F,2,FALSE) -> 0.13802083 | E13: =VLOOKUP($C13,'yield calculation'!$C:$F,3,FALSE) -> 0.21031746 | F13: =VLOOKUP($C13,'yield calculation'!$C:$F,4,FALSE) -> 0.65625
C14: Opolskie (PL52) | D14: =VLOOKUP($C14,'yield calculation'!$C:$F,2,FALSE) -> 0.12456747 | E14: =VLOOKUP($C14,'yield calculation'!$C:$F,3,FALSE) -> 0.18604651 | F14: =VLOOKUP($C14,'yield calculation'!$C:$F,4,FALSE) -> 0.66955017
C15: Kujawsko-Pomorskie (PL61) | D15: =VLOOKUP($C15,'yield calculation'!$C:$F,2,FALSE) -> 0.14820359 | E15: =VLOOKUP($C15,'yield calculation'!$C:$F,3,FALSE) -> 0.20798319 | F15: =VLOOKUP($C15,'yield calculation'!$C:$F,4,FALSE) -> 0.71257485
C16: Warmińsko-Mazurskie (PL62) | D16: =VLOOKUP($C16,'yield calculation'!$C:$F,2,FALSE) -> 0.21520803 | E16: =VLOOKUP($C16,'yield calculation'!$C:$F,3,FALSE) -> 0.31055901 | F16: =VLOOKUP($C16,'yield calculation'!$C:$F,4,FALSE) -> 0.69296987
C17: Pomorskie (PL63) | D17: =VLOOKUP($C17,'yield calculation'!$C:$F,2,FALSE) -> 0.08423913 | E17: =VLOOKUP($C17,'yield calculation'!$C:$F,3,FALSE) -> 0.12601626 | F17: =VLOOKUP($C17,'yield calculation'!$C:$F,4,FALSE) -> 0.66847826
C18: Łódzkie (PL71) | D18: =VLOOKUP($C18,'yield calculation'!$C:$F,2,FALSE) -> 0.12391931 | E18: =VLOOKUP($C18,'yield calculation'!$C:$F,3,FALSE) -> 0.16929134 | F18: =VLOOKUP($C18,'yield calculation'!$C:$F,4,FALSE) -> 0.73198847
C19: Świętokrzyskie (PL72) | D19: =VLOOKUP($C19,'yield calculation'!$C:$F,2,FALSE) -> 0.088150289 | E19: =VLOOKUP($C19,'yield calculation'!$C:$F,3,FALSE) -> 0.14319249 | F19: =VLOOKUP($C19,'yield calculation'!$C:$F,4,FALSE) -> 0.61560694
C20: Lubelskie (PL81) | D20: =VLOOKUP($C20,'yield calculation'!$C:$F,2,FALSE) -> 0.085714286 | E20: =VLOOKUP($C20,'yield calculation'!$C:$F,3,FALSE) -> 0.13443396 | F20: =VLOOKUP($C20,'yield calculation'!$C:$F,4,FALSE) -> 0.63759398
... C24: Region Mazowiecki Regionalny (PL92) | D24: =VLOOKUP($C24,'yield calculation'!$C:$F,2,FALSE) -> 0.16413793 | E24: =VLOOKUP($C24,'yield calculation'!$C:$F,3,FALSE) -> 0.23611111 | F24: =VLOOKUP($C24,'yield calculation'!$C:$F,4,FALSE) -> 0.69517241
B25: Sector | C25: Food | D25: =VLOOKUP($C25,'yield calculation'!$C:$F,2,FALSE) -> 0.15156131 | E25: =VLOOKUP($C25,'yield calculation'!$C:$F,3,FALSE) -> 0.20494336 | F25: =VLOOKUP($C25,'yield calculation'!$C:$F,4,FALSE) -> 0.7395278
C26: Fabricated Metal Products | D26: =VLOOKUP($C26,'yield calculation'!$C:$F,2,FALSE) -> 0.14253394 | E26: =VLOOKUP($C26,'yield calculation'!$C:$F,3,FALSE) -> 0.1964657 | F26: =VLOOKUP($C26,'yield calculation'!$C:$F,4,FALSE) -> 0.7254902
C27: Motor Vehicles | D27: =VLOOKUP($C27,'yield calculation'!$C:$F,2,FALSE) -> 0.13085938 | E27: =VLOOKUP($C27,'yield calculation'!$C:$F,3,FALSE) -> 0.20583717 | F27: =VLOOKUP($C27,'yield calculation'!$C:$F,4,FALSE) -> 0.63574219
C28: Other Manufacturing | D28: =VLOOKUP($C28,'yield calculation'!$C:$F,2,FALSE) -> 0.14113125 | E28: =VLOOKUP($C28,'yield calculation'!$C:$F,3,FALSE) -> 0.19648318 | F28: =VLOOKUP($C28,'yield calculation'!$C:$F,4,FALSE) -> 0.71828666
C29: Retail | D29: =VLOOKUP($C29,'yield calculation'!$C:$F,2,FALSE) -> 0.13951936 | E29: =VLOOKUP($C29,'yield calculation'!$C:$F,3,FALSE) -> 0.21111111 | F29: =VLOOKUP($C29,'yield calculation'!$C:$F,4,FALSE) -> 0.66088117
C30: Construction | D30: =VLOOKUP($C30,'yield calculation'!$C:$F,2,FALSE) -> 0.13669065 | E30: =VLOOKUP($C30,'yield calculation'!$C:$F,3,FALSE) -> 0.20559062 | F30: =VLOOKUP($C30,'yield calculation'!$C:$F,4,FALSE) -> 0.66486811
C31: Professional Services | D31: =VLOOKUP($C31,'yield calculation'!$C:$F,2,FALSE) -> 0.11557789 | E31: =VLOOKUP($C31,'yield calculation'!$C:$F,3,FALSE) -> 0.18661258 | F31: =VLOOKUP($C31,'yield calculation'!$C:$F,4,FALSE) -> 0.61934673
C32: Other Services | D32: =VLOOKUP($C32,'yield calculation'!$C:$F,2,FALSE) -> 0.15640038 | E32: =VLOOKUP($C32,'yield calculation'!$C:$F,3,FALSE) -> 0.23131673 | F32: =VLOOKUP($C32,'yield calculation'!$C:$F,4,FALSE) -> 0.6761309
B33: Overall | C33: Poland 2025 | D33: =VLOOKUP($C33,'yield calculation'!$C:$F,2,FALSE) -> 0.14001623 | E33: =VLOOKUP($C33,'yield calculation'!$C:$F,3,FALSE) -> 0.20579814 | F33: =VLOOKUP($C33,'yield calculation'!$C:$F,4,FALSE) -> 0.68035714
B34: Notes: the rates are calculated as defined in Section III.4

Sheet Table 6 Achieved Total Sample 
C1: =RIGHT(SUBSTITUTE('achieved fresh and panel'!C1,"_"," "),LEN(SUBSTITUTE('achieved fresh and panel'!C1,"_"," "))-1) -> Food | D1: =RIGHT(SUBSTITUTE('achieved fresh and panel'!D1,"_"," "),LEN(SUBSTITUTE('achieved fresh and panel'!D1,"_"," "))-1) -> Fabricated Metal Products | E1: =RIGHT(SUBSTITUTE('achieved fresh and panel'!E1,"_"," "),LEN(SUBSTITUTE('achieved fresh and panel'!E1,"_"," "))-1) -> Motor Vehicles | F1: =RIGHT(SUBSTITUTE('achieved fresh and panel'!F1,"_"," "),LEN(SUBSTITUTE('achieved fresh and panel'!F1,"_"," "))-1) -> Other Manufacturing | G1: =RIGHT(SUBSTITUTE('achieved fresh and panel'!G1,"_"," "),LEN(SUBSTITUTE('achieved fresh and panel'!G1,"_"," "))-1) -> Retail | H1: =RIGHT(SUBSTITUTE('achieved fresh and panel'!H1,"_"," "),LEN(SUBSTITUTE('achieved fresh and panel'!H1,"_"," "))-1) -> Construction | I1: =RIGHT(SUBSTITUTE('achieved fresh and panel'!I1,"_"," "),LEN(SUBSTITUTE('achieved fresh and panel'!I1,"_"," "))-1) -> Professional Activities | J1: =RIGHT(SUBSTITUTE('achieved fresh and panel'!J1,"_"," "),LEN(SUBSTITUTE('achieved fresh and panel'!J1,"_"," "))-1) -> Other services | K1: =RIGHT(SUBSTITUTE('achieved fresh and panel'!K1,"_"," "),LEN(SUBSTITUTE('achieved fresh and panel'!K1,"_"," "))-1) -> Grand Total
A2: ='achieved fresh and panel'!A2 -> Małopolskie (PL21) | B2: =LEFT('achieved fresh and panel'!B2,FIND(")",'achieved fresh and panel'!B2)) -> Small (5-19) | C2: ='achieved fresh and panel'!C2 -> 4 | D2: ='achieved fresh and panel'!D2 -> 8 | E2: ='achieved fresh and panel'!E2 -> 10 | F2: ='achieved fresh and panel'!F2 -> 7 | G2: ='achieved fresh and panel'!G2 -> 10 | H2: ='achieved fresh and panel'!H2 -> 9 | I2: ='achieved fresh and panel'!I2 -> 7 | J2: ='achieved fresh and panel'!J2 -> 16 | K2: =SUM(C2:J4) -> 155
A3: ='achieved fresh and panel'!A3 -> Małopolskie (PL21) | B3: =LEFT('achieved fresh and panel'!B3,FIND(")",'achieved fresh and panel'!B3)) -> Medium (20-99) | C3: ='achieved fresh and panel'!C3 -> 7 | D3: ='achieved fresh and panel'!D3 -> 6 | E3: ='achieved fresh and panel'!E3 -> 3 | F3: ='achieved fresh and panel'!F3 -> 6 | G3: ='achieved fresh and panel'!G3 -> 5 | H3: ='achieved fresh and panel'!H3 -> 4 | I3: ='achieved fresh and panel'!I3 -> 5 | J3: ='achieved fresh and panel'!J3 -> 5
A4: ='achieved fresh and panel'!A4 -> Małopolskie (PL21) | B4: =LEFT('achieved fresh and panel'!B4,FIND(")",'achieved fresh and panel'!B4)) -> Large (100 or more) | C4: ='achieved fresh and panel'!C4 -> 6 | D4: ='achieved fresh and panel'!D4 -> 6 | E4: ='achieved fresh and panel'!E4 -> 4 | F4: ='achieved fresh and panel'!F4 -> 2 | G4: ='achieved fresh and panel'!G4 -> 5 | H4: ='achieved fresh and panel'!H4 -> 9 | I4: ='achieved fresh and panel'!I4 -> 7 | J4: ='achieved fresh and panel'!J4 -> 4
A5: ='achieved fresh and panel'!A5 -> Śląskie (PL22) | B5: =LEFT('achieved fresh and panel'!B5,FIND(")",'achieved fresh and panel'!B5)) -> Small (5-19) | C5: ='achieved fresh and panel'!C5 -> 4 | D5: ='achieved fresh and panel'!D5 -> 3 | E5: ='achieved fresh and panel'!E5 -> 5 | F5: ='achieved fresh and panel'!F5 -> 5 | G5: ='achieved fresh and panel'!G5 -> 5 | H5: ='achieved fresh and panel'!H5 -> 5 | I5: ='achieved fresh and panel'!I5 -> 5 | J5: ='achieved fresh and panel'!J5 -> 15 | K5: =SUM(C5:J7) -> 134
A6: ='achieved fresh and panel'!A6 -> Śląskie (PL22) | B6: =LEFT('achieved fresh and panel'!B6,FIND(")",'achieved fresh and panel'!B6)) -> Medium (20-99) | C6: ='achieved fresh and panel'!C6 -> 5 | D6: ='achieved fresh and panel'!D6 -> 5 | E6: ='achieved fresh and panel'!E6 -> 8 | F6: ='achieved fresh and panel'!F6 -> 5 | G6: ='achieved fresh and panel'!G6 -> 4 | H6: ='achieved fresh and panel'!H6 -> 7 | I6: ='achieved fresh and panel'!I6 -> 10 | J6: ='achieved fresh and panel'!J6 -> 7
A7: ='achieved fresh and panel'!A7 -> Śląskie (PL22) | B7: =LEFT('achieved fresh and panel'!B7,FIND(")",'achieved fresh and panel'!B7)) -> Large (100 or more) | C7: ='achieved fresh and panel'!C7 -> 3 | D7: ='achieved fresh and panel'!D7 -> 3 | E7: ='achieved fresh and panel'!E7 -> 3 | F7: ='achieved fresh and panel'!F7 -> 3 | G7: ='achieved fresh and panel'!G7 -> 6 | H7: ='achieved fresh and panel'!H7 -> 4 | I7: ='achieved fresh and panel'!I7 -> 8 | J7: ='achieved fresh and panel'!J7 -> 6
A8: ='achieved fresh and panel'!A8 -> Wielkopolskie (PL41) | B8: =LEFT('achieved fresh and panel'!B8,FIND(")",'achieved fresh and panel'!B8)) -> Small (5-19) | C8: ='achieved fresh and panel'!C8 -> 5 | D8: ='achieved fresh and panel'!D8 -> 2 | E8: ='achieved fresh and panel'!E8 -> 1 | F8: ='achieved fresh and panel'!F8 -> 5 | G8: ='achieved fresh and panel'!G8 -> 5 | H8: ='achieved fresh and panel'!H8 -> 7 | I8: ='achieved fresh and panel'!I8 -> 8 | J8: ='achieved fresh and panel'!J8 -> 11 | K8: =SUM(C8:J10) -> 122
A9: ='achieved fresh and panel'!A9 -> Wielkopolskie (PL41) | B9: =LEFT('achieved fresh and panel'!B9,FIND(")",'achieved fresh and panel'!B9)) -> Medium (20-99) | C9: ='achieved fresh and panel'!C9 -> 7 | D9: ='achieved fresh and panel'!D9 -> 4 | E9: ='achieved fresh and panel'!E9 -> 5 | F9: ='achieved fresh and panel'!F9 -> 6 | G9: ='achieved fresh and panel'!G9 -> 6 | H9: ='achieved fresh and panel'!H9 -> 4 | I9: ='achieved fresh and panel'!I9 -> 3 | J9: ='achieved fresh and panel'!J9 -> 5
A10: ='achieved fresh and panel'!A10 -> Wielkopolskie (PL41) | B10: =LEFT('achieved fresh and panel'!B10,FIND(")",'achieved fresh and panel'!B10)) -> Large (100 or more) | C10: ='achieved fresh and panel'!C10 -> 7 | D10: ='achieved fresh and panel'!D10 -> 2 | E10: ='achieved fresh and panel'!E10 -> 5 | F10: ='achieved fresh and panel'!F10 -> 5 | G10: ='achieved fresh and panel'!G10 -> 6 | H10: ='achieved fresh and panel'!H10 -> 4 | I10: ='achieved fresh and panel'!I10 -> 6 | J10: ='achieved fresh and panel'!J10 -> 3
A11: ='achieved fresh and panel'!A11 -> Zachodniopomorskie (PL42) | B11: =LEFT('achieved fresh and panel'!B11,FIND(")",'achieved fresh and panel'!B11)) -> Small (5-19) | C11: ='achieved fresh and panel'!C11 -> 2 | D11: ='achieved fresh and panel'!D11 -> 4 | E11: ='achieved fresh and panel'!E11 -> 2 | F11: ='achieved fresh and panel'!F11 -> 2 | G11: ='achieved fresh and panel'!G11 -> 2 | H11: ='achieved fresh and panel'!H11 -> 2 | I11: ='achieved fresh and panel'!I11 -> 3 | J11: ='achieved fresh and panel'!J11 -> 3 | K11: =SUM(C11:J13) -> 85
A12: ='achieved fresh and panel'!A12 -> Zachodniopomorskie (PL42) | B12: =LEFT('achieved fresh and panel'!B12,FIND(")",'achieved fresh and panel'!B12)) -> Medium (20-99) | C12: ='achieved fresh and panel'!C12 -> 2 | D12: ='achieved fresh and panel'!D12 -> 5 | E12: ='achieved fresh and panel'!E12 -> 2 | F12: ='achieved fresh and panel'!F12 -> 4 | G12: ='achieved fresh and panel'!G12 -> 2 | H12: ='achieved fresh and panel'!H12 -> 2 | I12: ='achieved fresh and panel'!I12 -> 5 | J12: ='achieved fresh and panel'!J12 -> 3
A13: ='achieved fresh and panel'!A13 -> Zachodniopomorskie (PL42) | B13: =LEFT('achieved fresh and panel'!B13,FIND(")",'achieved fresh and panel'!B13)) -> Large (100 or more) | C13: ='achieved fresh and panel'!C13 -> 4 | D13: ='achieved fresh and panel'!D13 -> 4 | E13: ='achieved fresh and panel'!E13 -> 2 | F13: ='achieved fresh and panel'!F13 -> 14 | G13: ='achieved fresh and panel'!G13 -> 1 | H13: ='achieved fresh and panel'!H13 -> 3 | I13: ='achieved fresh and panel'!I13 -> 1 | J13: ='achieved fresh and panel'!J13 -> 11
A14: ='achieved fresh and panel'!A14 -> Lubuskie (PL43) | B14: =LEFT('achieved fresh and panel'!B14,FIND(")",'achieved fresh and panel'!B14)) -> Small (5-19) | C14: ='achieved fresh and panel'!C14 -> 2 | D14: ='achieved fresh and panel'!D14 -> 3 | E14: ='achieved fresh and panel'!E14 -> 2 | F14: ='achieved fresh and panel'!F14 -> 3 | G14: ='achieved fresh and panel'!G14 -> 4 | H14: ='achieved fresh and panel'!H14 -> 4 | I14: ='achieved fresh and panel'!I14 -> 3 | J14: ='achieved fresh and panel'!J14 -> 3 | K14: =SUM(C14:J16) -> 96
A15: ='achieved fresh and panel'!A15 -> Lubuskie (PL43) | B15: =LEFT('achieved fresh and panel'!B15,FIND(")",'achieved fresh and panel'!B15)) -> Medium (20-99) | C15: ='achieved fresh and panel'!C15 -> 5 | D15: ='achieved fresh and panel'!D15 -> 5 | E15: ='achieved fresh and panel'!E15 -> 1 | F15: ='achieved fresh and panel'!F15 -> 6 | G15: ='achieved fresh and panel'!G15 -> 9 | H15: ='achieved fresh and panel'!H15 -> 7 | I15: ='achieved fresh and panel'!I15 -> 4 | J15: ='achieved fresh and panel'!J15 -> 9
A16: ='achieved fresh and panel'!A16 -> Lubuskie (PL43) | B16: =LEFT('achieved fresh and panel'!B16,FIND(")",'achieved fresh and panel'!B16)) -> Large (100 or more) | C16: ='achieved fresh and panel'!C16 -> 3 | D16: ='achieved fresh and panel'!D16 -> 3 | E16: ='achieved fresh and panel'!E16 -> 1 | F16: ='achieved fresh and panel'!F16 -> 6 | G16: ='achieved fresh and panel'!G16 -> 3 | H16: ='achieved fresh and panel'!H16 -> 3 | I16: ='achieved fresh and panel'!I16 -> 0 | J16: ='achieved fresh and panel'!J16 -> 7
A17: ='achieved fresh and panel'!A17 -> Dolnośląskie (PL51) | B17: =LEFT('achieved fresh and panel'!B17,FIND(")",'achieved fresh and panel'!B17)) -> Small (5-19) | C17: ='achieved fresh and panel'!C17 -> 5 | D17: ='achieved fresh and panel'!D17 -> 3 | E17: ='achieved fresh and panel'!E17 -> 7 | F17: ='achieved fresh and panel'!F17 -> 4 | G17: ='achieved fresh and panel'!G17 -> 6 | H17: ='achieved fresh and panel'!H17 -> 4 | I17: ='achieved fresh and panel'!I17 -> 8 | J17: ='achieved fresh and panel'!J17 -> 15 | K17: =SUM(C17:J19) -> 106
A18: ='achieved fresh and panel'!A18 -> Dolnośląskie (PL51) | B18: =LEFT('achieved fresh and panel'!B18,FIND(")",'achieved fresh and panel'!B18)) -> Medium (20-99) | C18: ='achieved fresh and panel'!C18 -> 3 | D18: ='achieved fresh and panel'!D18 -> 3 | E18: ='achieved fresh and panel'!E18 -> 2 | F18: ='achieved fresh and panel'!F18 -> 3 | G18: ='achieved fresh and panel'!G18 -> 3 | H18: ='achieved fresh and panel'!H18 -> 3 | I18: ='achieved fresh and panel'!I18 -> 5 | J18: ='achieved fresh and panel'!J18 -> 2
A19: ='achieved fresh and panel'!A19 -> Dolnośląskie (PL51) | B19: =LEFT('achieved fresh and panel'!B19,FIND(")",'achieved fresh and panel'!B19)) -> Large (100 or more) | C19: ='achieved fresh and panel'!C19 -> 2 | D19: ='achieved fresh and panel'!D19 -> 2 | E19: ='achieved fresh and panel'!E19 -> 4 | F19: ='achieved fresh and panel'!F19 -> 2 | G19: ='achieved fresh and panel'!G19 -> 2 | H19: ='achieved fresh and panel'!H19 -> 6 | I19: ='achieved fresh and panel'!I19 -> 8 | J19: ='achieved fresh and panel'!J19 -> 4
A20: ='achieved fresh and panel'!A20 -> Opolskie (PL52) | B20: =LEFT('achieved fresh and panel'!B20,FIND(")",'achieved fresh and panel'!B20)) -> Small (5-19) | C20: ='achieved fresh and panel'!C20 -> 4 | D20: ='achieved fresh and panel'!D20 -> 5 | E20: ='achieved fresh and panel'!E20 -> 1 | F20: ='achieved fresh and panel'!F20 -> 4 | G20: ='achieved fresh and panel'!G20 -> 1 | H20: ='achieved fresh and panel'!H20 -> 3 | I20: ='achieved fresh and panel'!I20 -> 2 | J20: ='achieved fresh and panel'!J20 -> 4 | K20: =SUM(C20:J22) -> 72
A21: ='achieved fresh and panel'!A21 -> Opolskie (PL52) | B21: =LEFT('achieved fresh and panel'!B21,FIND(")",'achieved fresh and panel'!B21)) -> Medium (20-99) | C21: ='achieved fresh and panel'!C21 -> 3 | D21: ='achieved fresh and panel'!D21 -> 4 | E21: ='achieved fresh and panel'!E21 -> 3 | F21: ='achieved fresh and panel'!F21 -> 7 | G21: ='achieved fresh and panel'!G21 -> 2 | H21: ='achieved fresh and panel'!H21 -> 3 | I21: ='achieved fresh and panel'!I21 -> 4 | J21: ='achieved fresh and panel'!J21 -> 4
A22: ='achieved fresh and panel'!A22 -> Opolskie (PL52) | B22: =LEFT('achieved fresh and panel'!B22,FIND(")",'achieved fresh and panel'!B22)) -> Large (100 or more) | C22: ='achieved fresh and panel'!C22 -> 1 | D22: ='achieved fresh and panel'!D22 -> 2 | E22: ='achieved fresh and panel'!E22 -> 1 | F22: ='achieved fresh and panel'!F22 -> 3 | G22: ='achieved fresh and panel'!G22 -> 2 | H22: ='achieved fresh and panel'!H22 -> 3 | I22: ='achieved fresh and panel'!I22 -> 1 | J22: ='achieved fresh and panel'!J22 -> 5
A23: ='achieved fresh and panel'!A23 -> Kujawsko-Pomorskie (PL61) | B23: =LEFT('achieved fresh and panel'!B23,FIND(")",'achieved fresh and panel'!B23)) -> Small (5-19) | C23: ='achieved fresh and panel'!C23 -> 4 | D23: ='achieved fresh and panel'!D23 -> 2 | E23: ='achieved fresh and panel'!E23 -> 3 | F23: ='achieved fresh and panel'!F23 -> 4 | G23: ='achieved fresh and panel'!G23 -> 1 | H23: ='achieved fresh and panel'!H23 -> 2 | I23: ='achieved fresh and panel'!I23 -> 2 | J23: ='achieved fresh and panel'!J23 -> 3 | K23: =SUM(C23:J25) -> 99
A24: ='achieved fresh and panel'!A24 -> Kujawsko-Pomorskie (PL61) | B24: =LEFT('achieved fresh and panel'!B24,FIND(")",'achieved fresh and panel'!B24)) -> Medium (20-99) | C24: ='achieved fresh and panel'!C24 -> 4 | D24: ='achieved fresh and panel'!D24 -> 4 | E24: ='achieved fresh and panel'!E24 -> 4 | F24: ='achieved fresh and panel'!F24 -> 7 | G24: ='achieved fresh and panel'!G24 -> 6 | H24: ='achieved fresh and panel'!H24 -> 2 | I24: ='achieved fresh and panel'!I24 -> 3 | J24: ='achieved fresh and panel'!J24 -> 6
A25: ='achieved fresh and panel'!A25 -> Kujawsko-Pomorskie (PL61) | B25: =LEFT('achieved fresh and panel'!B25,FIND(")",'achieved fresh and panel'!B25)) -> Large (100 or more) | C25: ='achieved fresh and panel'!C25 -> 7 | D25: ='achieved fresh and panel'!D25 -> 8 | E25: ='achieved fresh and panel'!E25 -> 1 | F25: ='achieved fresh and panel'!F25 -> 9 | G25: ='achieved fresh and panel'!G25 -> 1 | H25: ='achieved fresh and panel'!H25 -> 6 | I25: ='achieved fresh and panel'!I25 -> 2 | J25: ='achieved fresh and panel'!J25 -> 8
A26: ='achieved fresh and panel'!A26 -> Warmińsko-Mazurskie (PL62) | B26: =LEFT('achieved fresh and panel'!B26,FIND(")",'achieved fresh and panel'!B26)) -> Small (5-19) | C26: ='achieved fresh and panel'!C26 -> 6 | D26: ='achieved fresh and panel'!D26 -> 4 | E26: ='achieved fresh and panel'!E26 -> 2 | F26: ='achieved fresh and panel'!F26 -> 4 | G26: ='achieved fresh and panel'!G26 -> 3 | H26: ='achieved fresh and panel'!H26 -> 3 | I26: ='achieved fresh and panel'!I26 -> 6 | J26: ='achieved fresh and panel'!J26 -> 6 | K26: =SUM(C26:J28) -> 150
A27: ='achieved fresh and panel'!A27 -> Warmińsko-Mazurskie (PL62) | B27: =LEFT('achieved fresh and panel'!B27,FIND(")",'achieved fresh and panel'!B27)) -> Medium (20-99) | C27: ='achieved fresh and panel'!C27 -> 7 | D27: ='achieved fresh and panel'!D27 -> 10 | E27: ='achieved fresh and panel'!E27 -> 1 | F27: ='achieved fresh and panel'!F27 -> 18 | G27: ='achieved fresh and panel'!G27 -> 14 | H27: ='achieved fresh and panel'!H27 -> 11 | I27: ='achieved fresh and panel'!I27 -> 8 | J27: ='achieved fresh and panel'!J27 -> 12
A28: ='achieved fresh and panel'!A28 -> Warmińsko-Mazurskie (PL62) | B28: =LEFT('achieved fresh and panel'!B28,FIND(")",'achieved fresh and panel'!B28)) -> Large (100 or more) | C28: ='achieved fresh and panel'!C28 -> 3 | D28: ='achieved fresh and panel'!D28 -> 3 | E28: ='achieved fresh and panel'!E28 -> 1 | F28: ='achieved fresh and panel'!F28 -> 15 | G28: ='achieved fresh and panel'!G28 -> 1 | H28: ='achieved fresh and panel'!H28 -> 3 | I28: ='achieved fresh and panel'!I28 -> 2 | J28: ='achieved fresh and panel'!J28 -> 7
A29: ='achieved fresh and panel'!A29 -> Pomorskie (PL63) | B29: =LEFT('achieved fresh and panel'!B29,FIND(")",'achieved fresh and panel'!B29)) -> Small (5-19) | C29: ='achieved fresh and panel'!C29 -> 2 | D29: ='achieved fresh and panel'!D29 -> 1 | E29: ='achieved fresh and panel'!E29 -> 2 | F29: ='achieved fresh and panel'!F29 -> 2 | G29: ='achieved fresh and panel'!G29 -> 1 | H29: ='achieved fresh and panel'!H29 -> 3 | I29: ='achieved fresh and panel'!I29 -> 1 | J29: ='achieved fresh and panel'!J29 -> 6 | K29: =SUM(C29:J31) -> 62
A30: ='achieved fresh and panel'!A30 -> Pomorskie (PL63) | B30: =LEFT('achieved fresh and panel'!B30,FIND(")",'achieved fresh and panel'!B30)) -> Medium (20-99) | C30: ='achieved fresh and panel'!C30 -> 3 | D30: ='achieved fresh and panel'!D30 -> 4 | E30: ='achieved fresh and panel'!E30 -> 2 | F30: ='achieved fresh and panel'!F30 -> 3 | G30: ='achieved fresh and panel'!G30 -> 4 | H30: ='achieved fresh and panel'!H30 -> 3 | I30: ='achieved fresh and panel'!I30 -> 2 | J30: ='achieved fresh and panel'!J30 -> 3
A31: ='achieved fresh and panel'!A31 -> Pomorskie (PL63) | B31: =LEFT('achieved fresh and panel'!B31,FIND(")",'achieved fresh and panel'!B31)) -> Large (100 or more) | C31: ='achieved fresh and panel'!C31 -> 2 | D31: ='achieved fresh and panel'!D31 -> 2 | E31: ='achieved fresh and panel'!E31 -> 1 | F31: ='achieved fresh and panel'!F31 -> 4 | G31: ='achieved fresh and panel'!G31 -> 2 | H31: ='achieved fresh and panel'!H31 -> 3 | I31: ='achieved fresh and panel'!I31 -> 2 | J31: ='achieved fresh and panel'!J31 -> 4
A32: ='achieved fresh and panel'!A32 -> Łódzkie (PL71) | B32: =LEFT('achieved fresh and panel'!B32,FIND(")",'achieved fresh and panel'!B32)) -> Small (5-19) | C32: ='achieved fresh and panel'!C32 -> 6 | D32: ='achieved fresh and panel'!D32 -> 2 | E32: ='achieved fresh and panel'!E32 -> 2 | F32: ='achieved fresh and panel'!F32 -> 4 | G32: ='achieved fresh and panel'!G32 -> 4 | H32: ='achieved fresh and panel'!H32 -> 2 | I32: ='achieved fresh and panel'!I32 -> 2 | J32: ='achieved fresh and panel'!J32 -> 6 | K32: =SUM(C32:J34) -> 86
A33: ='achieved fresh and panel'!A33 -> Łódzkie (PL71) | B33: =LEFT('achieved fresh and panel'!B33,FIND(")",'achieved fresh and panel'!B33)) -> Medium (20-99) | C33: ='achieved fresh and panel'!C33 -> 3 | D33: ='achieved fresh and panel'!D33 -> 4 | E33: ='achieved fresh and panel'!E33 -> 3 | F33: ='achieved fresh and panel'!F33 -> 6 | G33: ='achieved fresh and panel'!G33 -> 1 | H33: ='achieved fresh and panel'!H33 -> 1 | I33: ='achieved fresh and panel'!I33 -> 2 | J33: ='achieved fresh and panel'!J33 -> 11
A34: ='achieved fresh and panel'!A34 -> Łódzkie (PL71) | B34: =LEFT('achieved fresh and panel'!B34,FIND(")",'achieved fresh and panel'!B34)) -> Large (100 or more) | C34: ='achieved fresh and panel'!C34 -> 5 | D34: ='achieved fresh and panel'!D34 -> 3 | E34: ='achieved fresh and panel'!E34 -> 2 | F34: ='achieved fresh and panel'!F34 -> 2 | G34: ='achieved fresh and panel'!G34 -> 2 | H34: ='achieved fresh and panel'!H34 -> 7 | I34: ='achieved fresh and panel'!I34 -> 1 | J34: ='achieved fresh and panel'!J34 -> 5
A35: ='achieved fresh and panel'!A35 -> Świętokrzyskie (PL72) | B35: =LEFT('achieved fresh and panel'!B35,FIND(")",'achieved fresh and panel'!B35)) -> Small (5-19) | C35: ='achieved fresh and panel'!C35 -> 2 | D35: ='achieved fresh and panel'!D35 -> 2 | E35: ='achieved fresh and panel'!E35 -> 1 | F35: ='achieved fresh and panel'!F35 -> 3 | G35: ='achieved fresh and panel'!G35 -> 2 | H35: ='achieved fresh and panel'!H35 -> 4 | I35: ='achieved fresh and panel'!I35 -> 2 | J35: ='achieved fresh and panel'!J35 -> 3 | K35: =SUM(C35:J37) -> 61
A36: ='achieved fresh and panel'!A36 -> Świętokrzyskie (PL72) | B36: =LEFT('achieved fresh and panel'!B36,FIND(")",'achieved fresh and panel'!B36)) -> Medium (20-99) | C36: ='achieved fresh and panel'!C36 -> 3 | D36: ='achieved fresh and panel'!D36 -> 3 | E36: ='achieved fresh and panel'!E36 -> 2 | F36: ='achieved fresh and panel'!F36 -> 4 | G36: ='achieved fresh and panel'!G36 -> 3 | H36: ='achieved fresh and panel'!H36 -> 2 | I36: ='achieved fresh and panel'!I36 -> 3 | J36: ='achieved fresh and panel'!J36 -> 3
A37: ='achieved fresh and panel'!A37 -> Świętokrzyskie (PL72) | B37: =LEFT('achieved fresh and panel'!B37,FIND(")",'achieved fresh and panel'!B37)) -> Large (100 or more) | C37: ='achieved fresh and panel'!C37 -> 3 | D37: ='achieved fresh and panel'!D37 -> 3 | E37: ='achieved fresh and panel'!E37 -> 2 | F37: ='achieved fresh and panel'!F37 -> 5 | G37: ='achieved fresh and panel'!G37 -> 2 | H37: ='achieved fresh and panel'!H37 -> 2 | I37: ='achieved fresh and panel'!I37 -> 0 | J37: ='achieved fresh and panel'!J37 -> 2
A38: ='achieved fresh and panel'!A38 -> Lubelskie (PL81) | B38: =LEFT('achieved fresh and panel'!B38,FIND(")",'achieved fresh and panel'!B38)) -> Small (5-19) | C38: ='achieved fresh and panel'!C38 -> 3 | D38: ='achieved fresh and panel'!D38 -> 1 | E38: ='achieved fresh and panel'!E38 -> 2 | F38: ='achieved fresh and panel'!F38 -> 1 | G38: ='achieved fresh and panel'!G38 -> 1 | H38: ='achieved fresh and panel'!H38 -> 3 | I38: ='achieved fresh and panel'!I38 -> 1 | J38: ='achieved fresh and panel'!J38 -> 3 | K38: =SUM(C38:J40) -> 57
A39: ='achieved fresh and panel'!A39 -> Lubelskie (PL81) | B39: =LEFT('achieved fresh and panel'!B39,FIND(")",'achieved fresh and panel'!B39)) -> Medium (20-99) | C39: ='achieved fresh and panel'!C39 -> 1 | D39: ='achieved fresh and panel'!D39 -> 2 | E39: ='achieved fresh and panel'!E39 -> 2 | F39: ='achieved fresh and panel'!F39 -> 2 | G39: ='achieved fresh and panel'!G39 -> 2 | H39: ='achieved fresh and panel'!H39 -> 4 | I39: ='achieved fresh and panel'!I39 -> 6 | J39: ='achieved fresh and panel'!J39 -> 2
A40: ='achieved fresh and panel'!A40 -> Lubelskie (PL81) | B40: =LEFT('achieved fresh and panel'!B40,FIND(")",'achieved fresh and panel'!B40)) -> Large (100 or more) | C40: ='achieved fresh and panel'!C40 -> 3 | D40: ='achieved fresh and panel'!D40 -> 4 | E40: ='achieved fresh and panel'!E40 -> 0 | F40: ='achieved fresh and panel'!F40 -> 4 | G40: ='achieved fresh and panel'!G40 -> 3 | H40: ='achieved fresh and panel'!H40 -> 4 | I40: ='achieved fresh and panel'!I40 -> 1 | J40: ='achieved fresh and panel'!J40 -> 2
A41: ='achieved fresh and panel'!A41 -> Podkarpackie (PL82) | B41: =LEFT('achieved fresh and panel'!B41,FIND(")",'achieved fresh and panel'!B41)) -> Small (5-19) | C41: ='achieved fresh and panel'!C41 -> 2 | D41: ='achieved fresh and panel'!D41 -> 1 | E41: ='achieved fresh and panel'!E41 -> 2 | F41: ='achieved fresh and panel'!F41 -> 3 | G41: ='achieved fresh and panel'!G41 -> 2 | H41: ='achieved fresh and panel'!H41 -> 1 | I41: ='achieved fresh and panel'!I41 -> 1 | J41: ='achieved fresh and panel'!J41 -> 4 | K41: =SUM(C41:J43) -> 118
A42: ='achieved fresh and panel'!A42 -> Podkarpackie (PL82) | B42: =LEFT('achieved fresh and panel'!B42,FIND(")",'achieved fresh and panel'!B42)) -> Medium (20-99) | C42: ='achieved fresh and panel'!C42 -> 3 | D42: ='achieved fresh and panel'!D42 -> 3 | E42: ='achieved fresh and panel'!E42 -> 3 | F42: ='achieved fresh and panel'!F42 -> 6 | G42: ='achieved fresh and panel'!G42 -> 8 | H42: ='achieved fresh and panel'!H42 -> 7 | I42: ='achieved fresh and panel'!I42 -> 3 | J42: ='achieved fresh and panel'!J42 -> 4
A43: ='achieved fresh and panel'!A43 -> Podkarpackie (PL82) | B43: =LEFT('achieved fresh and panel'!B43,FIND(")",'achieved fresh and panel'!B43)) -> Large (100 or more) | C43: ='achieved fresh and panel'!C43 -> 3 | D43: ='achieved fresh and panel'!D43 -> 10 | E43: ='achieved fresh and panel'!E43 -> 3 | F43: ='achieved fresh and panel'!F43 -> 7 | G43: ='achieved fresh and panel'!G43 -> 11 | H43: ='achieved fresh and panel'!H43 -> 5 | I43: ='achieved fresh and panel'!I43 -> 1 | J43: ='achieved fresh and panel'!J43 -> 25
A44: ='achieved fresh and panel'!A44 -> Podlaskie (PL84) | B44: =LEFT('achieved fresh and panel'!B44,FIND(")",'achieved fresh and panel'!B44)) -> Small (5-19) | C44: ='achieved fresh and panel'!C44 -> 1 | D44: ='achieved fresh and panel'!D44 -> 1 | E44: ='achieved fresh and panel'!E44 -> 1 | F44: ='achieved fresh and panel'!F44 -> 3 | G44: ='achieved fresh and panel'!G44 -> 1 | H44: ='achieved fresh and panel'!H44 -> 3 | I44: ='achieved fresh and panel'!I44 -> 3 | J44: ='achieved fresh and panel'!J44 -> 4 | K44: =SUM(C44:J46) -> 77
A45: ='achieved fresh and panel'!A45 -> Podlaskie (PL84) | B45: =LEFT('achieved fresh and panel'!B45,FIND(")",'achieved fresh and panel'!B45)) -> Medium (20-99) | C45: ='achieved fresh and panel'!C45 -> 1 | D45: ='achieved fresh and panel'!D45 -> 5 | E45: ='achieved fresh and panel'!E45 -> 3 | F45: ='achieved fresh and panel'!F45 -> 8 | G45: ='achieved fresh and panel'!G45 -> 4 | H45: ='achieved fresh and panel'!H45 -> 6 | I45: ='achieved fresh and panel'!I45 -> 5 | J45: ='achieved fresh and panel'!J45 -> 4
A46: ='achieved fresh and panel'!A46 -> Podlaskie (PL84) | B46: =LEFT('achieved fresh and panel'!B46,FIND(")",'achieved fresh and panel'!B46)) -> Large (100 or more) | C46: ='achieved fresh and panel'!C46 -> 5 | D46: ='achieved fresh and panel'!D46 -> 2 | E46: ='achieved fresh and panel'!E46 -> 1 | F46: ='achieved fresh and panel'!F46 -> 5 | G46: ='achieved fresh and panel'!G46 -> 4 | H46: ='achieved fresh and panel'!H46 -> 3 | I46: ='achieved fresh and panel'!I46 -> 0 | J46: ='achieved fresh and panel'!J46 -> 4
A47: ='achieved fresh and panel'!A47 -> Region Warszawski Stołeczny (PL91) | B47: =LEFT('achieved fresh and panel'!B47,FIND(")",'achieved fresh and panel'!B47)) -> Small (5-19) | C47: ='achieved fresh and panel'!C47 -> 5 | D47: ='achieved fresh and panel'!D47 -> 2 | E47: ='achieved fresh and panel'!E47 -> 2 | F47: ='achieved fresh and panel'!F47 -> 5 | G47: ='achieved fresh and panel'!G47 -> 12 | H47: ='achieved fresh and panel'!H47 -> 14 | I47: ='achieved fresh and panel'!I47 -> 9 | J47: ='achieved fresh and panel'!J47 -> 18 | K47: =SUM(C47:J49) -> 126
A48: ='achieved fresh and panel'!A48 -> Region Warszawski Stołeczny (PL91) | B48: =LEFT('achieved fresh and panel'!B48,FIND(")",'achieved fresh and panel'!B48)) -> Medium (20-99) | C48: ='achieved fresh and panel'!C48 -> 5 | D48: ='achieved fresh and panel'!D48 -> 6 | E48: ='achieved fresh and panel'!E48 -> 5 | F48: ='achieved fresh and panel'!F48 -> 4 | G48: ='achieved fresh and panel'!G48 -> 6 | H48: ='achieved fresh and panel'!H48 -> 5 | I48: ='achieved fresh and panel'!I48 -> 2 | J48: ='achieved fresh and panel'!J48 -> 5
A49: ='achieved fresh and panel'!A49 -> Region Warszawski Stołeczny (PL91) | B49: =LEFT('achieved fresh and panel'!B49,FIND(")",'achieved fresh and panel'!B49)) -> Large (100 or more) | C49: ='achieved fresh and panel'!C49 -> 3 | D49: ='achieved fresh and panel'!D49 -> 4 | E49: ='achieved fresh and panel'!E49 -> 0 | F49: ='achieved fresh and panel'!F49 -> 3 | G49: ='achieved fresh and panel'!G49 -> 2 | H49: ='achieved fresh and panel'!H49 -> 3 | I49: ='achieved fresh and panel'!I49 -> 1 | J49: ='achieved fresh and panel'!J49 -> 5
A50: ='achieved fresh and panel'!A50 -> Region Mazowiecki Regionalny (PL92) | B50: =LEFT('achieved fresh and panel'!B50,FIND(")",'achieved fresh and panel'!B50)) -> Small (5-19) | C50: ='achieved fresh and panel'!C50 -> 3 | D50: ='achieved fresh and panel'!D50 -> 5 | E50: ='achieved fresh and panel'!E50 -> 5 | F50: ='achieved fresh and panel'!F50 -> 4 | G50: ='achieved fresh and panel'!G50 -> 6 | H50: ='achieved fresh and panel'!H50 -> 10 | I50: ='achieved fresh and panel'!I50 -> 4 | J50: ='achieved fresh and panel'!J50 -> 9 | K50: =SUM(C50:J52) -> 119
A51: ='achieved fresh and panel'!A51 -> Region Mazowiecki Regionalny (PL92) | B51: =LEFT('achieved fresh and panel'!B51,FIND(")",'achieved fresh and panel'!B51)) -> Medium (20-99) | C51: ='achieved fresh and panel'!C51 -> 10 | D51: ='achieved fresh and panel'!D51 -> 4 | E51: ='achieved fresh and panel'!E51 -> 4 | F51: ='achieved fresh and panel'!F51 -> 5 | G51: ='achieved fresh and panel'!G51 -> 5 | H51: ='achieved fresh and panel'!H51 -> 6 | I51: ='achieved fresh and panel'!I51 -> 4 | J51: ='achieved fresh and panel'!J51 -> 6
A52: ='achieved fresh and panel'!A52 -> Region Mazowiecki Regionalny (PL92) | B52: =LEFT('achieved fresh and panel'!B52,FIND(")",'achieved fresh and panel'!B52)) -> Large (100 or more) | C52: ='achieved fresh and panel'!C52 -> 7 | D52: ='achieved fresh and panel'!D52 -> 2 | E52: ='achieved fresh and panel'!E52 -> 0 | F52: ='achieved fresh and panel'!F52 -> 5 | G52: ='achieved fresh and panel'!G52 -> 6 | H52: ='achieved fresh and panel'!H52 -> 4 | I52: ='achieved fresh and panel'!I52 -> 2 | J52: ='achieved fresh and panel'!J52 -> 3
C53: =SUM(C2:C52) -> 199 | D53: =SUM(D2:D52) -> 189 | E53: =SUM(E2:E52) -> 134 | F53: =SUM(F2:F52) -> 257 | G53: =SUM(G2:G52) -> 209 | H53: =SUM(H2:H52) -> 228 | I53: =SUM(I2:I52) -> 184 | J53: =SUM(J2:J52) -> 325 | K53: =SUM(K2:K52) -> 1725

Sheet Table 7 Achieved Panel Sample
C1: =RIGHT(SUBSTITUTE('achieved panel'!C1,"_"," "),LEN(SUBSTITUTE('achieved panel'!C1,"_"," "))-1) -> Food | D1: =RIGHT(SUBSTITUTE('achieved panel'!D1,"_"," "),LEN(SUBSTITUTE('achieved panel'!D1,"_"," "))-1) -> Fabricated Metal Products | E1: =RIGHT(SUBSTITUTE('achieved panel'!E1,"_"," "),LEN(SUBSTITUTE('achieved panel'!E1,"_"," "))-1) -> Motor Vehicles | F1: =RIGHT(SUBSTITUTE('achieved panel'!F1,"_"," "),LEN(SUBSTITUTE('achieved panel'!F1,"_"," "))-1) -> Other Manufacturing | G1: =RIGHT(SUBSTITUTE('achieved panel'!G1,"_"," "),LEN(SUBSTITUTE('achieved panel'!G1,"_"," "))-1) -> Retail | H1: =RIGHT(SUBSTITUTE('achieved panel'!H1,"_"," "),LEN(SUBSTITUTE('achieved panel'!H1,"_"," "))-1) -> Construction | I1: =RIGHT(SUBSTITUTE('achieved panel'!I1,"_"," "),LEN(SUBSTITUTE('achieved panel'!I1,"_"," "))-1) -> Professional Activities | J1: =RIGHT(SUBSTITUTE('achieved panel'!J1,"_"," "),LEN(SUBSTITUTE('achieved panel'!J1,"_"," "))-1) -> Other services | K1: =RIGHT(SUBSTITUTE('achieved panel'!K1,"_"," "),LEN(SUBSTITUTE('achieved panel'!K1,"_"," "))-1) -> Grand Total
A2: ='achieved panel'!A2 -> Małopolskie (PL21) | B2: =LEFT('achieved panel'!B2,FIND(")",'achieved panel'!B2)) -> Small (5-19) | C2: ='achieved panel'!C2 -> 0 | D2: ='achieved panel'!D2 -> 0 | E2: ='achieved panel'!E2 -> 0 | F2: ='achieved panel'!F2 -> 1 | G2: ='achieved panel'!G2 -> 2 | H2: ='achieved panel'!H2 -> 0 | I2: ='achieved panel'!I2 -> 0 | J2: ='achieved panel'!J2 -> 3 | K2: =SUM(C2:J4) -> 18
A3: ='achieved panel'!A3 -> Małopolskie (PL21) | B3: =LEFT('achieved panel'!B3,FIND(")",'achieved panel'!B3)) -> Medium (20-99) | C3: ='achieved panel'!C3 -> 1 | D3: ='achieved panel'!D3 -> 1 | E3: ='achieved panel'!E3 -> 0 | F3: ='achieved panel'!F3 -> 3 | G3: ='achieved panel'!G3 -> 1 | H3: ='achieved panel'!H3 -> 0 | I3: ='achieved panel'!I3 -> 0 | J3: ='achieved panel'!J3 -> 1
A4: ='achieved panel'!A4 -> Małopolskie (PL21) | B4: =LEFT('achieved panel'!B4,FIND(")",'achieved panel'!B4)) -> Large (100 or more) | C4: ='achieved panel'!C4 -> 2 | D4: ='achieved panel'!D4 -> 0 | E4: ='achieved panel'!E4 -> 0 | F4: ='achieved panel'!F4 -> 1 | G4: ='achieved panel'!G4 -> 0 | H4: ='achieved panel'!H4 -> 1 | I4: ='achieved panel'!I4 -> 0 | J4: ='achieved panel'!J4 -> 1
A5: ='achieved panel'!A5 -> Śląskie (PL22) | B5: =LEFT('achieved panel'!B5,FIND(")",'achieved panel'!B5)) -> Small (5-19) | C5: ='achieved panel'!C5 -> 2 | D5: ='achieved panel'!D5 -> 0 | E5: ='achieved panel'!E5 -> 0 | F5: ='achieved panel'!F5 -> 3 | G5: ='achieved panel'!G5 -> 0 | H5: ='achieved panel'!H5 -> 0 | I5: ='achieved panel'!I5 -> 0 | J5: ='achieved panel'!J5 -> 2 | K5: =SUM(C5:J7) -> 15
A6: ='achieved panel'!A6 -> Śląskie (PL22) | B6: =LEFT('achieved panel'!B6,FIND(")",'achieved panel'!B6)) -> Medium (20-99) | C6: ='achieved panel'!C6 -> 0 | D6: ='achieved panel'!D6 -> 0 | E6: ='achieved panel'!E6 -> 0 | F6: ='achieved panel'!F6 -> 2 | G6: ='achieved panel'!G6 -> 0 | H6: ='achieved panel'!H6 -> 0 | I6: ='achieved panel'!I6 -> 0 | J6: ='achieved panel'!J6 -> 1
A7: ='achieved panel'!A7 -> Śląskie (PL22) | B7: =LEFT('achieved panel'!B7,FIND(")",'achieved panel'!B7)) -> Large (100 or more) | C7: ='achieved panel'!C7 -> 1 | D7: ='achieved panel'!D7 -> 1 | E7: ='achieved panel'!E7 -> 1 | F7: ='achieved panel'!F7 -> 1 | G7: ='achieved panel'!G7 -> 1 | H7: ='achieved panel'!H7 -> 0 | I7: ='achieved panel'!I7 -> 0 | J7: ='achieved panel'!J7 -> 0
A8: ='achieved panel'!A8 -> Wielkopolskie (PL41) | B8: =LEFT('achieved panel'!B8,FIND(")",'achieved panel'!B8)) -> Small (5-19) | C8: ='achieved panel'!C8 -> 0 | D8: ='achieved panel'!D8 -> 0 | E8: ='achieved panel'!E8 -> 0 | F8: ='achieved panel'!F8 -> 2 | G8: ='achieved panel'!G8 -> 1 | H8: ='achieved panel'!H8 -> 0 | I8: ='achieved panel'!I8 -> 0 | J8: ='achieved panel'!J8 -> 1 | K8: =SUM(C8:J10) -> 11
A9: ='achieved panel'!A9 -> Wielkopolskie (PL41) | B9: =LEFT('achieved panel'!B9,FIND(")",'achieved panel'!B9)) -> Medium (20-99) | C9: ='achieved panel'!C9 -> 1 | D9: ='achieved panel'!D9 -> 0 | E9: ='achieved panel'!E9 -> 0 | F9: ='achieved panel'!F9 -> 1 | G9: ='achieved panel'!G9 -> 1 | H9: ='achieved panel'!H9 -> 0 | I9: ='achieved panel'!I9 -> 0 | J9: ='achieved panel'!J9 -> 0
A10: ='achieved panel'!A10 -> Wielkopolskie (PL41) | B10: =LEFT('achieved panel'!B10,FIND(")",'achieved panel'!B10)) -> Large (100 or more) | C10: ='achieved panel'!C10 -> 1 | D10: ='achieved panel'!D10 -> 1 | E10: ='achieved panel'!E10 -> 0 | F10: ='achieved panel'!F10 -> 2 | G10: ='achieved panel'!G10 -> 0 | H10: ='achieved panel'!H10 -> 0 | I10: ='achieved panel'!I10 -> 0 | J10: ='achieved panel'!J10 -> 0
A11: ='achieved panel'!A11 -> Zachodniopomorskie (PL42) | B11: =LEFT('achieved panel'!B11,FIND(")",'achieved panel'!B11)) -> Small (5-19) | C11: ='achieved panel'!C11 -> 0 | D11: ='achieved panel'!D11 -> 1 | E11: ='achieved panel'!E11 -> 0 | F11: ='achieved panel'!F11 -> 0 | G11: ='achieved panel'!G11 -> 0 | H11: ='achieved panel'!H11 -> 0 | I11: ='achieved panel'!I11 -> 0 | J11: ='achieved panel'!J11 -> 0 | K11: =SUM(C11:J12) -> 2
A12: ='achieved panel'!A12 -> Zachodniopomorskie (PL42) | B12: =LEFT('achieved panel'!B12,FIND(")",'achieved panel'!B12)) -> Medium (20-99) | C12: ='achieved panel'!C12 -> 0 | D12: ='achieved panel'!D12 -> 0 | E12: ='achieved panel'!E12 -> 0 | F12: ='achieved panel'!F12 -> 1 | G12: ='achieved panel'!G12 -> 0 | H12: ='achieved panel'!H12 -> 0 | I12: ='achieved panel'!I12 -> 0 | J12: ='achieved panel'!J12 -> 0
A13: ='achieved panel'!A13 -> Lubuskie (PL43) | B13: =LEFT('achieved panel'!B13,FIND(")",'achieved panel'!B13)) -> Small (5-19) | C13: ='achieved panel'!C13 -> 0 | D13: ='achieved panel'!D13 -> 0 | E13: ='achieved panel'!E13 -> 0 | F13: ='achieved panel'!F13 -> 1 | G13: ='achieved panel'!G13 -> 0 | H13: ='achieved panel'!H13 -> 0 | I13: ='achieved panel'!I13 -> 0 | J13: ='achieved panel'!J13 -> 0 | K13: =SUM(C13:J14) -> 2
A14: ='achieved panel'!A14 -> Lubuskie (PL43) | B14: =LEFT('achieved panel'!B14,FIND(")",'achieved panel'!B14)) -> Medium (20-99) | C14: ='achieved panel'!C14 -> 0 | D14: ='achieved panel'!D14 -> 0 | E14: ='achieved panel'!E14 -> 0 | F14: ='achieved panel'!F14 -> 0 | G14: ='achieved panel'!G14 -> 0 | H14: ='achieved panel'!H14 -> 0 | I14: ='achieved panel'!I14 -> 0 | J14: ='achieved panel'!J14 -> 1
A15: ='achieved panel'!A15 -> Dolnośląskie (PL51) | B15: =LEFT('achieved panel'!B15,FIND(")",'achieved panel'!B15)) -> Small (5-19) | C15: ='achieved panel'!C15 -> 2 | D15: ='achieved panel'!D15 -> 1 | E15: ='achieved panel'!E15 -> 0 | F15: ='achieved panel'!F15 -> 1 | G15: ='achieved panel'!G15 -> 1 | H15: ='achieved panel'!H15 -> 1 | I15: ='achieved panel'!I15 -> 0 | J15: ='achieved panel'!J15 -> 4 | K15: =SUM(C15:J17) -> 23
A16: ='achieved panel'!A16 -> Dolnośląskie (PL51) | B16: =LEFT('achieved panel'!B16,FIND(")",'achieved panel'!B16)) -> Medium (20-99) | C16: ='achieved panel'!C16 -> 1 | D16: ='achieved panel'!D16 -> 2 | E16: ='achieved panel'!E16 -> 0 | F16: ='achieved panel'!F16 -> 3 | G16: ='achieved panel'!G16 -> 0 | H16: ='achieved panel'!H16 -> 1 | I16: ='achieved panel'!I16 -> 0 | J16: ='achieved panel'!J16 -> 1
A17: ='achieved panel'!A17 -> Dolnośląskie (PL51) | B17: =LEFT('achieved panel'!B17,FIND(")",'achieved panel'!B17)) -> Large (100 or more) | C17: ='achieved panel'!C17 -> 1 | D17: ='achieved panel'!D17 -> 1 | E17: ='achieved panel'!E17 -> 1 | F17: ='achieved panel'!F17 -> 1 | G17: ='achieved panel'!G17 -> 0 | H17: ='achieved panel'!H17 -> 1 | I17: ='achieved panel'!I17 -> 0 | J17: ='achieved panel'!J17 -> 0
A18: ='achieved panel'!A18 -> Opolskie (PL52) | B18: =LEFT('achieved panel'!B18,FIND(")",'achieved panel'!B18)) -> Small (5-19) | C18: ='achieved panel'!C18 -> 0 | D18: ='achieved panel'!D18 -> 1 | E18: ='achieved panel'!E18 -> 0 | F18: ='achieved panel'!F18 -> 1 | G18: ='achieved panel'!G18 -> 0 | H18: ='achieved panel'!H18 -> 0 | I18: ='achieved panel'!I18 -> 0 | J18: ='achieved panel'!J18 -> 1 | K18: =SUM(C18:J20) -> 10
A19: ='achieved panel'!A19 -> Opolskie (PL52) | B19: =LEFT('achieved panel'!B19,FIND(")",'achieved panel'!B19)) -> Medium (20-99) | C19: ='achieved panel'!C19 -> 1 | D19: ='achieved panel'!D19 -> 1 | E19: ='achieved panel'!E19 -> 0 | F19: ='achieved panel'!F19 -> 1 | G19: ='achieved panel'!G19 -> 0 | H19: ='achieved panel'!H19 -> 0 | I19: ='achieved panel'!I19 -> 0 | J19: ='achieved panel'!J19 -> 1
A20: ='achieved panel'!A20 -> Opolskie (PL52) | B20: =LEFT('achieved panel'!B20,FIND(")",'achieved panel'!B20)) -> Large (100 or more) | C20: ='achieved panel'!C20 -> 0 | D20: ='achieved panel'!D20 -> 1 | E20: ='achieved panel'!E20 -> 0 | F20: ='achieved panel'!F20 -> 1 | G20: ='achieved panel'!G20 -> 0 | H20: ='achieved panel'!H20 -> 1 | I20: ='achieved panel'!I20 -> 0 | J20: ='achieved panel'!J20 -> 0
A21: ='achieved panel'!A21 -> Kujawsko-Pomorskie (PL61) | B21: =LEFT('achieved panel'!B21,FIND(")",'achieved panel'!B21)) -> Small (5-19) | C21: ='achieved panel'!C21 -> 0 | D21: ='achieved panel'!D21 -> 0 | E21: ='achieved panel'!E21 -> 0 | F21: ='achieved panel'!F21 -> 2 | G21: ='achieved panel'!G21 -> 0 | H21: ='achieved panel'!H21 -> 1 | I21: ='achieved panel'!I21 -> 0 | J21: ='achieved panel'!J21 -> 0 | K21: =SUM(C21:J23) -> 14
A22: ='achieved panel'!A22 -> Kujawsko-Pomorskie (PL61) | B22: =LEFT('achieved panel'!B22,FIND(")",'achieved panel'!B22)) -> Medium (20-99) | C22: ='achieved panel'!C22 -> 0 | D22: ='achieved panel'!D22 -> 1 | E22: ='achieved panel'!E22 -> 0 | F22: ='achieved panel'!F22 -> 4 | G22: ='achieved panel'!G22 -> 0 | H22: ='achieved panel'!H22 -> 0 | I22: ='achieved panel'!I22 -> 0 | J22: ='achieved panel'!J22 -> 0
A23: ='achieved panel'!A23 -> Kujawsko-Pomorskie (PL61) | B23: =LEFT('achieved panel'!B23,FIND(")",'achieved panel'!B23)) -> Large (100 or more) | C23: ='achieved panel'!C23 -> 2 | D23: ='achieved panel'!D23 -> 2 | E23: ='achieved panel'!E23 -> 0 | F23: ='achieved panel'!F23 -> 2 | G23: ='achieved panel'!G23 -> 0 | H23: ='achieved panel'!H23 -> 0 | I23: ='achieved panel'!I23 -> 0 | J23: ='achieved panel'!J23 -> 0
A24: ='achieved panel'!A24 -> Warmińsko-Mazurskie (PL62) | B24: =LEFT('achieved panel'!B24,FIND(")",'achieved panel'!B24)) -> Small (5-19) | C24: ='achieved panel'!C24 -> 2 | D24: ='achieved panel'!D24 -> 1 | E24: ='achieved panel'!E24 -> 0 | F24: ='achieved panel'!F24 -> 1 | G24: ='achieved panel'!G24 -> 0 | H24: ='achieved panel'!H24 -> 0 | I24: ='achieved panel'!I24 -> 0 | J24: ='achieved panel'!J24 -> 0 | K24: =SUM(C24:J26) -> 11
A25: ='achieved panel'!A25 -> Warmińsko-Mazurskie (PL62) | B25: =LEFT('achieved panel'!B25,FIND(")",'achieved panel'!B25)) -> Medium (20-99) | C25: ='achieved panel'!C25 -> 0 | D25: ='achieved panel'!D25 -> 0 | E25: ='achieved panel'!E25 -> 0 | F25: ='achieved panel'!F25 -> 0 | G25: ='achieved panel'!G25 -> 0 | H25: ='achieved panel'!H25 -> 0 | I25: ='achieved panel'!I25 -> 0 | J25: ='achieved panel'!J25 -> 1
A26: ='achieved panel'!A26 -> Warmińsko-Mazurskie (PL62) | B26: =LEFT('achieved panel'!B26,FIND(")",'achieved panel'!B26)) -> Large (100 or more) | C26: ='achieved panel'!C26 -> 1 | D26: ='achieved panel'!D26 -> 0 | E26: ='achieved panel'!E26 -> 1 | F26: ='achieved panel'!F26 -> 3 | G26: ='achieved panel'!G26 -> 0 | H26: ='achieved panel'!H26 -> 1 | I26: ='achieved panel'!I26 -> 0 | J26: ='achieved panel'!J26 -> 0
A27: ='achieved panel'!A27 -> Pomorskie (PL63) | B27: =LEFT('achieved panel'!B27,FIND(")",'achieved panel'!B27)) -> Small (5-19) | C27: ='achieved panel'!C27 -> 0 | D27: ='achieved panel'!D27 -> 0 | E27: ='achieved panel'!E27 -> 1 | F27: ='achieved panel'!F27 -> 1 | G27: ='achieved panel'!G27 -> 0 | H27: ='achieved panel'!H27 -> 0 | I27: ='achieved panel'!I27 -> 0 | J27: ='achieved panel'!J27 -> 3 | K27: =SUM(C27:J29) -> 12
A28: ='achieved panel'!A28 -> Pomorskie (PL63) | B28: =LEFT('achieved panel'!B28,FIND(")",'achieved panel'!B28)) -> Medium (20-99) | C28: ='achieved panel'!C28 -> 1 | D28: ='achieved panel'!D28 -> 1 | E28: ='achieved panel'!E28 -> 0 | F28: ='achieved panel'!F28 -> 0 | G28: ='achieved panel'!G28 -> 0 | H28: ='achieved panel'!H28 -> 0 | I28: ='achieved panel'!I28 -> 0 | J28: ='achieved panel'!J28 -> 0
A29: ='achieved panel'!A29 -> Pomorskie (PL63) | B29: =LEFT('achieved panel'!B29,FIND(")",'achieved panel'!B29)) -> Large (100 or more) | C29: ='achieved panel'!C29 -> 1 | D29: ='achieved panel'!D29 -> 1 | E29: ='achieved panel'!E29 -> 0 | F29: ='achieved panel'!F29 -> 1 | G29: ='achieved panel'!G29 -> 1 | H29: ='achieved panel'!H29 -> 1 | I29: ='achieved panel'!I29 -> 0 | J29: ='achieved panel'!J29 -> 0
A30: ='achieved panel'!A30 -> Łódzkie (PL71) | B30: =LEFT('achieved panel'!B30,FIND(")",'achieved panel'!B30)) -> Small (5-19) | C30: ='achieved panel'!C30 -> 2 | D30: ='achieved panel'!D30 -> 0 | E30: ='achieved panel'!E30 -> 0 | F30: ='achieved panel'!F30 -> 2 | G30: ='achieved panel'!G30 -> 1 | H30: ='achieved panel'!H30 -> 0 | I30: ='achieved panel'!I30 -> 0 | J30: ='achieved panel'!J30 -> 1 | K30: =SUM(C30:J32) -> 12
A31: ='achieved panel'!A31 -> Łódzkie (PL71) | B31: =LEFT('achieved panel'!B31,FIND(")",'achieved panel'!B31)) -> Medium (20-99) | C31: ='achieved panel'!C31 -> 1 | D31: ='achieved panel'!D31 -> 1 | E31: ='achieved panel'!E31 -> 0 | F31: ='achieved panel'!F31 -> 2 | G31: ='achieved panel'!G31 -> 0 | H31: ='achieved panel'!H31 -> 0 | I31: ='achieved panel'!I31 -> 0 | J31: ='achieved panel'!J31 -> 1
A32: ='achieved panel'!A32 -> Łódzkie (PL71) | B32: =LEFT('achieved panel'!B32,FIND(")",'achieved panel'!B32)) -> Large (100 or more) | C32: ='achieved panel'!C32 -> 1 | D32: ='achieved panel'!D32 -> 0 | E32: ='achieved panel'!E32 -> 0 | F32: ='achieved panel'!F32 -> 0 | G32: ='achieved panel'!G32 -> 0 | H32: ='achieved panel'!H32 -> 0 | I32: ='achieved panel'!I32 -> 0 | J32: ='achieved panel'!J32 -> 0
A33: ='achieved panel'!A33 -> Świętokrzyskie (PL72) | B33: =LEFT('achieved panel'!B33,FIND(")",'achieved panel'!B33)) -> Small (5-19) | C33: ='achieved panel'!C33 -> 1 | D33: ='achieved panel'!D33 -> 0 | E33: ='achieved panel'!E33 -> 0 | F33: ='achieved panel'!F33 -> 1 | G33: ='achieved panel'!G33 -> 0 | H33: ='achieved panel'!H33 -> 2 | I33: ='achieved panel'!I33 -> 0 | J33: ='achieved panel'!J33 -> 0 | K33: =SUM(C33:J34) -> 5
A34: ='achieved panel'!A34 -> Świętokrzyskie (PL72) | B34: =LEFT('achieved panel'!B34,FIND(")",'achieved panel'!B34)) -> Medium (20-99) | C34: ='achieved panel'!C34 -> 0 | D34: ='achieved panel'!D34 -> 0 | E34: ='achieved panel'!E34 -> 0 | F34: ='achieved panel'!F34 -> 1 | G34: ='achieved panel'!G34 -> 0 | H34: ='achieved panel'!H34 -> 0 | I34: ='achieved panel'!I34 -> 0 | J34: ='achieved panel'!J34 -> 0
A35: ='achieved panel'!A35 -> Lubelskie (PL81) | B35: =LEFT('achieved panel'!B35,FIND(")",'achieved panel'!B35)) -> Medium (20-99) | C35: ='achieved panel'!C35 -> 0 | D35: ='achieved panel'!D35 -> 0 | E35: ='achieved panel'!E35 -> 0 | F35: ='achieved panel'!F35 -> 1 | G35: ='achieved panel'!G35 -> 0 | H35: ='achieved panel'!H35 -> 0 | I35: ='achieved panel'!I35 -> 0 | J35: ='achieved panel'!J35 -> 1 | K35: =SUM(C35:J36) -> 3
A36: ='achieved panel'!A36 -> Lubelskie (PL81) | B36: =LEFT('achieved panel'!B36,FIND(")",'achieved panel'!B36)) -> Large (100 or more) | C36: ='achieved panel'!C36 -> 0 | D36: ='achieved panel'!D36 -> 0 | E36: ='achieved panel'!E36 -> 0 | F36: ='achieved panel'!F36 -> 1 | G36: ='achieved panel'!G36 -> 0 | H36: ='achieved panel'!H36 -> 0 | I36: ='achieved panel'!I36 -> 0 | J36: ='achieved panel'!J36 -> 0
A37: ='achieved panel'!A37 -> Podkarpackie (PL82) | B37: =LEFT('achieved panel'!B37,FIND(")",'achieved panel'!B37)) -> Small (5-19) | C37: ='achieved panel'!C37 -> 1 | D37: ='achieved panel'!D37 -> 0 | E37: ='achieved panel'!E37 -> 0 | F37: ='achieved panel'!F37 -> 3 | G37: ='achieved panel'!G37 -> 1 | H37: ='achieved panel'!H37 -> 0 | I37: ='achieved panel'!I37 -> 0 | J37: ='achieved panel'!J37 -> 1 | K37: =SUM(C37:J39) -> 13
A38: ='achieved panel'!A38 -> Podkarpackie (PL82) | B38: =LEFT('achieved panel'!B38,FIND(")",'achieved panel'!B38)) -> Medium (20-99) | C38: ='achieved panel'!C38 -> 2 | D38: ='achieved panel'!D38 -> 0 | E38: ='achieved panel'!E38 -> 0 | F38: ='achieved panel'!F38 -> 2 | G38: ='achieved panel'!G38 -> 0 | H38: ='achieved panel'!H38 -> 0 | I38: ='achieved panel'!I38 -> 0 | J38: ='achieved panel'!J38 -> 0
A39: ='achieved panel'!A39 -> Podkarpackie (PL82) | B39: =LEFT('achieved panel'!B39,FIND(")",'achieved panel'!B39)) -> Large (100 or more) | C39: ='achieved panel'!C39 -> 0 | D39: ='achieved panel'!D39 -> 0 | E39: ='achieved panel'!E39 -> 0 | F39: ='achieved panel'!F39 -> 2 | G39: ='achieved panel'!G39 -> 0 | H39: ='achieved panel'!H39 -> 1 | I39: ='achieved panel'!I39 -> 0 | J39: ='achieved panel'!J39 -> 0
A40: ='achieved panel'!A40 -> Podlaskie (PL84) | B40: =LEFT('achieved panel'!B40,FIND(")",'achieved panel'!B40)) -> Small (5-19) | C40: ='achieved panel'!C40 -> 0 | D40: ='achieved panel'!D40 -> 1 | E40: ='achieved panel'!E40 -> 0 | F40: ='achieved panel'!F40 -> 1 | G40: ='achieved panel'!G40 -> 0 | H40: ='achieved panel'!H40 -> 0 | I40: ='achieved panel'!I40 -> 0 | J40: ='achieved panel'!J40 -> 2 | K40: =SUM(C40:J42) -> 10
A41: ='achieved panel'!A41 -> Podlaskie (PL84) | B41: =LEFT('achieved panel'!B41,FIND(")",'achieved panel'!B41)) -> Medium (20-99) | C41: ='achieved panel'!C41 -> 0 | D41: ='achieved panel'!D41 -> 0 | E41: ='achieved panel'!E41 -> 0 | F41: ='achieved panel'!F41 -> 1 | G41: ='achieved panel'!G41 -> 0 | H41: ='achieved panel'!H41 -> 0 | I41: ='achieved panel'!I41 -> 0 | J41: ='achieved panel'!J41 -> 0
A42: ='achieved panel'!A42 -> Podlaskie (PL84) | B42: =LEFT('achieved panel'!B42,FIND(")",'achieved panel'!B42)) -> Large (100 or more) | C42: ='achieved panel'!C42 -> 1 | D42: ='achieved panel'!D42 -> 0 | E42: ='achieved panel'!E42 -> 0 | F42: ='achieved panel'!F42 -> 3 | G42: ='achieved panel'!G42 -> 0 | H42: ='achieved panel'!H42 -> 0 | I42: ='achieved panel'!I42 -> 0 | J42: ='achieved panel'!J42 -> 1
A43: ='achieved panel'!A43 -> Region Warszawski Stołeczny (PL91) | B43: =LEFT('achieved panel'!B43,FIND(")",'achieved panel'!B43)) -> Small (5-19) | C43: ='achieved panel'!C43 -> 1 | D43: ='achieved panel'!D43 -> 1 | E43: ='achieved panel'!E43 -> 0 | F43: ='achieved panel'!F43 -> 3 | G43: ='achieved panel'!G43 -> 2 | H43: ='achieved panel'!H43 -> 0 | I43: ='achieved panel'!I43 -> 0 | J43: ='achieved panel'!J43 -> 0 | K43: =SUM(C43:J45) -> 14
A44: ='achieved panel'!A44 -> Region Warszawski Stołeczny (PL91) | B44: =LEFT('achieved panel'!B44,FIND(")",'achieved panel'!B44)) -> Medium (20-99) | C44: ='achieved panel'!C44 -> 0 | D44: ='achieved panel'!D44 -> 1 | E44: ='achieved panel'!E44 -> 0 | F44: ='achieved panel'!F44 -> 1 | G44: ='achieved panel'!G44 -> 0 | H44: ='achieved panel'!H44 -> 0 | I44: ='achieved panel'!I44 -> 0 | J44: ='achieved panel'!J44 -> 0
A45: ='achieved panel'!A45 -> Region Warszawski Stołeczny (PL91) | B45: =LEFT('achieved panel'!B45,FIND(")",'achieved panel'!B45)) -> Large (100 or more) | C45: ='achieved panel'!C45 -> 1 | D45: ='achieved panel'!D45 -> 1 | E45: ='achieved panel'!E45 -> 0 | F45: ='achieved panel'!F45 -> 3 | G45: ='achieved panel'!G45 -> 0 | H45: ='achieved panel'!H45 -> 0 | I45: ='achieved panel'!I45 -> 0 | J45: ='achieved panel'!J45 -> 0
A46: ='achieved panel'!A46 -> Region Mazowiecki Regionalny (PL92) | B46: =LEFT('achieved panel'!B46,FIND(")",'achieved panel'!B46)) -> Small (5-19) | C46: ='achieved panel'!C46 -> 0 | D46: ='achieved panel'!D46 -> 1 | E46: ='achieved panel'!E46 -> 0 | F46: ='achieved panel'!F46 -> 1 | G46: ='achieved panel'!G46 -> 2 | H46: ='achieved panel'!H46 -> 0 | I46: ='achieved panel'!I46 -> 0 | J46: ='achieved panel'!J46 -> 1 | K46: =SUM(C46:J48) -> 10
A47: ='achieved panel'!A47 -> Region Mazowiecki Regionalny (PL92) | B47: =LEFT('achieved panel'!B47,FIND(")",'achieved panel'!B47)) -> Medium (20-99) | C47: ='achieved panel'!C47 -> 1 | D47: ='achieved panel'!D47 -> 0 | E47: ='achieved panel'!E47 -> 0 | F47: ='achieved panel'!F47 -> 0 | G47: ='achieved panel'!G47 -> 0 | H47: ='achieved panel'!H47 -> 0 | I47: ='achieved panel'!I47 -> 0 | J47: ='achieved panel'!J47 -> 0
A48: ='achieved panel'!A48 -> Region Mazowiecki Regionalny (PL92) | B48: =LEFT('achieved panel'!B48,FIND(")",'achieved panel'!B48)) -> Large (100 or more) | C48: ='achieved panel'!C48 -> 1 | D48: ='achieved panel'!D48 -> 0 | E48: ='achieved panel'!E48 -> 0 | F48: ='achieved panel'!F48 -> 3 | G48: ='achieved panel'!G48 -> 0 | H48: ='achieved panel'!H48 -> 0 | I48: ='achieved panel'!I48 -> 0 | J48: ='achieved panel'!J48 -> 0
C49: =SUM(C2:C48) -> 33 | D49: =SUM(D2:D48) -> 23 | E49: =SUM(E2:E48) -> 4 | F49: =SUM(F2:F48) -> 71 | G49: =SUM(G2:G48) -> 14 | H49: =SUM(H2:H48) -> 11 | I49: =SUM(I2:I48) -> 0 | J49: =SUM(J2:J48) -> 29 | K49: =SUM(K2:K48) -> 185

Sheet Table 8 Weak Universe Estimates
C1: =RIGHT(SUBSTITUTE(universe_weak!C1,"_"," "),LEN(SUBSTITUTE(universe_weak!C1,"_"," "))-1) -> Food | D1: =RIGHT(SUBSTITUTE(universe_weak!D1,"_"," "),LEN(SUBSTITUTE(universe_weak!D1,"_"," "))-1) -> Fabricated Metal Products | E1: =RIGHT(SUBSTITUTE(universe_weak!E1,"_"," "),LEN(SUBSTITUTE(universe_weak!E1,"_"," "))-1) -> Motor Vehicles | F1: =RIGHT(SUBSTITUTE(universe_weak!F1,"_"," "),LEN(SUBSTITUTE(universe_weak!F1,"_"," "))-1) -> Other Manufacturing | G1: =RIGHT(SUBSTITUTE(universe_weak!G1,"_"," "),LEN(SUBSTITUTE(universe_weak!G1,"_"," "))-1) -> Retail | H1: =RIGHT(SUBSTITUTE(universe_weak!H1,"_"," "),LEN(SUBSTITUTE(universe_weak!H1,"_"," "))-1) -> Construction | I1: =RIGHT(SUBSTITUTE(universe_weak!I1,"_"," "),LEN(SUBSTITUTE(universe_weak!I1,"_"," "))-1) -> Professional Activities | J1: =RIGHT(SUBSTITUTE(universe_weak!J1,"_"," "),LEN(SUBSTITUTE(universe_weak!J1,"_"," "))-1) -> Other services | K1: =RIGHT(SUBSTITUTE(universe_weak!K1,"_"," "),LEN(SUBSTITUTE(universe_weak!K1,"_"," "))-1) -> Grand Total
A2: =universe_weak!A2 -> Małopolskie (PL21) | B2: =LEFT(universe_weak!B2,FIND(")",universe_weak!B2)) -> Small (5-19) | C2: =universe_weak!C2 -> 1399.6919 | D2: =universe_weak!D2 -> 3041.3713 | E2: =universe_weak!E2 -> 107.61505 | F2: =universe_weak!F2 -> 16663.17 | G2: =universe_weak!G2 -> 19887.913 | H2: =universe_weak!H2 -> 34173.699 | I2: =universe_weak!I2 -> 0 | J2: =universe_weak!J2 -> 46816.703 | K2: =SUM(C2:J4) -> 128987.5
A3: =universe_weak!A3 -> Małopolskie (PL21) | B3: =LEFT(universe_weak!B3,FIND(")",universe_weak!B3)) -> Medium (20-99) | C3: =universe_weak!C3 -> 434.88694 | D3: =universe_weak!D3 -> 259.44372 | E3: =universe_weak!E3 -> 16.533375 | F3: =universe_weak!F3 -> 1240.9129 | G3: =universe_weak!G3 -> 971.88316 | H3: =universe_weak!H3 -> 1085.4735 | I3: =universe_weak!I3 -> 0 | J3: =universe_weak!J3 -> 1957.4779
A4: =universe_weak!A4 -> Małopolskie (PL21) | B4: =LEFT(universe_weak!B4,FIND(")",universe_weak!B4)) -> Large (100 or more) | C4: =universe_weak!C4 -> 86.392936 | D4: =universe_weak!D4 -> 71.2019 | E4: =universe_weak!E4 -> 11.602561 | F4: =universe_weak!F4 -> 302.34451 | G4: =universe_weak!G4 -> 93.934755 | H4: =universe_weak!H4 -> 107.09177 | I4: =universe_weak!I4 -> 0 | J4: =universe_weak!J4 -> 258.16034
A5: =universe_weak!A5 -> Śląskie (PL22) | B5: =LEFT(universe_weak!B5,FIND(")",universe_weak!B5)) -> Small (5-19) | C5: =universe_weak!C5 -> 1524.5853 | D5: =universe_weak!D5 -> 4918.7651 | E5: =universe_weak!E5 -> 164.30304 | F5: =universe_weak!F5 -> 18322.074 | G5: =universe_weak!G5 -> 25719.492 | H5: =universe_weak!H5 -> 30369.741 | I5: =universe_weak!I5 -> 0 | J5: =universe_weak!J5 -> 54222.202 | K5: =SUM(C5:J7) -> 145028.71
A6: =universe_weak!A6 -> Śląskie (PL22) | B6: =LEFT(universe_weak!B6,FIND(")",universe_weak!B6)) -> Medium (20-99) | C6: =universe_weak!C6 -> 581.50192 | D6: =universe_weak!D6 -> 517.11071 | E6: =universe_weak!E6 -> 58.048218 | F6: =universe_weak!F6 -> 1816.5302 | G6: =universe_weak!G6 -> 1287.6844 | H6: =universe_weak!H6 -> 1492.3155 | I6: =universe_weak!I6 -> 0 | J6: =universe_weak!J6 -> 2754.4171
A7: =universe_weak!A7 -> Śląskie (PL22) | B7: =LEFT(universe_weak!B7,FIND(")",universe_weak!B7)) -> Large (100 or more) | C7: =universe_weak!C7 -> 111.03076 | D7: =universe_weak!D7 -> 103.36695 | E7: =universe_weak!E7 -> 75.20541 | F7: =universe_weak!F7 -> 448.07529 | G7: =universe_weak!G7 -> 69.627708 | H7: =universe_weak!H7 -> 135.81133 | I7: =universe_weak!I7 -> 0 | J7: =universe_weak!J7 -> 336.82159
A8: =universe_weak!A8 -> Wielkopolskie (PL41) | B8: =LEFT(universe_weak!B8,FIND(")",universe_weak!B8)) -> Small (5-19) | C8: =universe_weak!C8 -> 1565.0468 | D8: =universe_weak!D8 -> 3777.1541 | E8: =universe_weak!E8 -> 170.54175 | F8: =universe_weak!F8 -> 19724.431 | G8: =universe_weak!G8 -> 20602.747 | H8: =universe_weak!H8 -> 33779.153 | I8: =universe_weak!I8 -> 0 | J8: =universe_weak!J8 -> 50365.944 | K8: =SUM(C8:J10) -> 139141.5
A9: =universe_weak!A9 -> Wielkopolskie (PL41) | B9: =LEFT(universe_weak!B9,FIND(")",universe_weak!B9)) -> Medium (20-99) | C9: =universe_weak!C9 -> 534.08437 | D9: =universe_weak!D9 -> 492.7962 | E9: =universe_weak!E9 -> 36.151409 | F9: =universe_weak!F9 -> 2025.2761 | G9: =universe_weak!G9 -> 1054.8184 | H9: =universe_weak!H9 -> 1160.6189 | I9: =universe_weak!I9 -> 0 | J9: =universe_weak!J9 -> 2484.1124
A10: =universe_weak!A10 -> Wielkopolskie (PL41) | B10: =LEFT(universe_weak!B10,FIND(")",universe_weak!B10)) -> Large (100 or more) | C10: =universe_weak!C10 -> 159.34107 | D10: =universe_weak!D10 -> 89.573952 | E10: =universe_weak!E10 -> 38.054745 | F10: =universe_weak!F10 -> 579.6333 | G10: =universe_weak!G10 -> 97.613503 | H10: =universe_weak!H10 -> 89.279846 | I10: =universe_weak!I10 -> 0 | J10: =universe_weak!J10 -> 315.12879
A11: =universe_weak!A11 -> Zachodniopomorskie (PL42) | B11: =LEFT(universe_weak!B11,FIND(")",universe_weak!B11)) -> Small (5-19) | C11: =universe_weak!C11 -> 587.16882 | D11: =universe_weak!D11 -> 1841.8696 | E11: =universe_weak!E11 -> 43.787117 | F11: =universe_weak!F11 -> 8702.6299 | G11: =universe_weak!G11 -> 9418.7754 | H11: =universe_weak!H11 -> 17558.189 | I11: =universe_weak!I11 -> 0 | J11: =universe_weak!J11 -> 21223.753 | K11: =SUM(C11:J13) -> 62305.619
A12: =universe_weak!A12 -> Zachodniopomorskie (PL42) | B12: =LEFT(universe_weak!B12,FIND(")",universe_weak!B12)) -> Medium (20-99) | C12: =universe_weak!C12 -> 182.62033 | D12: =universe_weak!D12 -> 122.01055 | E12: =universe_weak!E12 -> 7.2208195 | F12: =universe_weak!F12 -> 609.24689 | G12: =universe_weak!G12 -> 362.91516 | H12: =universe_weak!H12 -> 415.53732 | I12: =universe_weak!I12 -> 0 | J12: =universe_weak!J12 -> 877.16171
A13: =universe_weak!A13 -> Zachodniopomorskie (PL42) | B13: =LEFT(universe_weak!B13,FIND(")",universe_weak!B13)) -> Large (100 or more) | C13: =universe_weak!C13 -> 43.911572 | D13: =universe_weak!D13 -> 36.421665 | E13: =universe_weak!E13 -> 6.6508646 | F13: =universe_weak!F13 -> 146.14859 | G13: =universe_weak!G13 -> 9.1392889 | H13: =universe_weak!H13 -> 27.45282 | I13: =universe_weak!I13 -> 0 | J13: =universe_weak!J13 -> 83.007642
A14: =universe_weak!A14 -> Lubuskie (PL43) | B14: =LEFT(universe_weak!B14,FIND(")",universe_weak!B14)) -> Small (5-19) | C14: =universe_weak!C14 -> 335.79147 | D14: =universe_weak!D14 -> 949.9205 | E14: =universe_weak!E14 -> 32.528336 | F14: =universe_weak!F14 -> 4871.0134 | G14: =universe_weak!G14 -> 6074.9146 | H14: =universe_weak!H14 -> 9814.0312 | I14: =universe_weak!I14 -> 0 | J14: =universe_weak!J14 -> 12319.559 | K14: =SUM(C14:J17) -> 36503.548
A15: =universe_weak!A15 -> Lubuskie (PL43) | B15: =LEFT(universe_weak!B15,FIND(")",universe_weak!B15)) -> Medium (20-99) | C15: =universe_weak!C15 -> 128.21244 | D15: =universe_weak!D15 -> 105.71027 | E15: =universe_weak!E15 -> 10.023419 | F15: =universe_weak!F15 -> 450.92372 | G15: =universe_weak!G15 -> 271.71725 | H15: =universe_weak!H15 -> 283.47279 | I15: =universe_weak!I15 -> 0 | J15: =universe_weak!J15 -> 560.83973
A16: =universe_weak!A16 -> Lubuskie (PL43) | B16: =LEFT(universe_weak!B16,FIND(")",universe_weak!B16)) -> Large (100 or more) | C16: =universe_weak!C16 -> 20.687711 | D16: =universe_weak!D16 -> 28.060856 | E16: =universe_weak!E16 -> 8.6327534 | F16: =universe_weak!F16 -> 128.13026 | G16: =universe_weak!G16 -> 17.530436 | H16: =universe_weak!H16 -> 22.171939 | I16: =universe_weak!I16 -> 0 | J16: =universe_weak!J16 -> 69.676528
A17: =universe_weak!A17 -> Lubuskie (PL43) | B17: =LEFT(universe_weak!B17,FIND(")",universe_weak!B17)) -> Medium and Large (20+) | C17: =universe_weak!C17 -> 0 | D17: =universe_weak!D17 -> 0 | E17: =universe_weak!E17 -> 0 | F17: =universe_weak!F17 -> 0 | G17: =universe_weak!G17 -> 0 | H17: =universe_weak!H17 -> 0 | I17: =universe_weak!I17 -> 0 | J17: =universe_weak!J17 -> 0
A18: =universe_weak!A18 -> Dolnośląskie (PL51) | B18: =LEFT(universe_weak!B18,FIND(")",universe_weak!B18)) -> Small (5-19) | C18: =universe_weak!C18 -> 898.81049 | D18: =universe_weak!D18 -> 2513.4166 | E18: =universe_weak!E18 -> 110.78838 | F18: =universe_weak!F18 -> 12281.07 | G18: =universe_weak!G18 -> 19026.59 | H18: =universe_weak!H18 -> 27135.77 | I18: =universe_weak!I18 -> 0 | J18: =universe_weak!J18 -> 38478.303 | K18: =SUM(C18:J20) -> 105524.23
A19: =universe_weak!A19 -> Dolnośląskie (PL51) | B19: =LEFT(universe_weak!B19,FIND(")",universe_weak!B19)) -> Medium (20-99) | C19: =universe_weak!C19 -> 271.87253 | D19: =universe_weak!D19 -> 252.98454 | E19: =universe_weak!E19 -> 25.252441 | F19: =universe_weak!F19 -> 924.13852 | G19: =universe_weak!G19 -> 569.56934 | H19: =universe_weak!H19 -> 810.15509 | I19: =universe_weak!I19 -> 0 | J19: =universe_weak!J19 -> 1495.0068
A20: =universe_weak!A20 -> Dolnośląskie (PL51) | B20: =LEFT(universe_weak!B20,FIND(")",universe_weak!B20)) -> Large (100 or more) | C20: =universe_weak!C20 -> 30.124878 | D20: =universe_weak!D20 -> 73.973312 | E20: =universe_weak!E20 -> 46.747581 | F20: =universe_weak!F20 -> 287.55548 | G20: =universe_weak!G20 -> 49.375248 | H20: =universe_weak!H20 -> 58.266444 | I20: =universe_weak!I20 -> 0 | J20: =universe_weak!J20 -> 184.45515
A21: =universe_weak!A21 -> Opolskie (PL52) | B21: =LEFT(universe_weak!B21,FIND(")",universe_weak!B21)) -> Small (5-19) | C21: =universe_weak!C21 -> 370.68695 | D21: =universe_weak!D21 -> 979.29527 | E21: =universe_weak!E21 -> 17.424124 | F21: =universe_weak!F21 -> 4590.4126 | G21: =universe_weak!G21 -> 4158.1646 | H21: =universe_weak!H21 -> 7638.082 | I21: =universe_weak!I21 -> 0 | J21: =universe_weak!J21 -> 8963.3359 | K21: =SUM(C21:J23) -> 28523.922
A22: =universe_weak!A22 -> Opolskie (PL52) | B22: =LEFT(universe_weak!B22,FIND(")",universe_weak!B22)) -> Medium (20-99) | C22: =universe_weak!C22 -> 116.37349 | D22: =universe_weak!D22 -> 108.818 | E22: =universe_weak!E22 -> 9.9712672 | F22: =universe_weak!F22 -> 378.85999 | G22: =universe_weak!G22 -> 237.16951 | H22: =universe_weak!H22 -> 276.7595 | I22: =universe_weak!I22 -> 0 | J22: =universe_weak!J22 -> 445.80341
A23: =universe_weak!A23 -> Opolskie (PL52) | B23: =LEFT(universe_weak!B23,FIND(")",universe_weak!B23)) -> Large (100 or more) | C23: =universe_weak!C23 -> 16.660059 | D23: =universe_weak!D23 -> 25.027108 | E23: =universe_weak!E23 -> 8.5878363 | F23: =universe_weak!F23 -> 106.21967 | G23: =universe_weak!G23 -> 5.5071235 | H23: =universe_weak!H23 -> 22.056579 | I23: =universe_weak!I23 -> 0 | J23: =universe_weak!J23 -> 48.707128
A24: =universe_weak!A24 -> Kujawsko-Pomorskie (PL61) | B24: =LEFT(universe_weak!B24,FIND(")",universe_weak!B24)) -> Small (5-19) | C24: =universe_weak!C24 -> 647.39056 | D24: =universe_weak!D24 -> 1905.9641 | E24: =universe_weak!E24 -> 55.790331 | F24: =universe_weak!F24 -> 8257.2775 | G24: =universe_weak!G24 -> 10531.158 | H24: =universe_weak!H24 -> 15175.283 | I24: =universe_weak!I24 -> 0 | J24: =universe_weak!J24 -> 21583.323 | K24: =SUM(C24:J26) -> 62175.121
A25: =universe_weak!A25 -> Kujawsko-Pomorskie (PL61) | B25: =LEFT(universe_weak!B25,FIND(")",universe_weak!B25)) -> Medium (20-99) | C25: =universe_weak!C25 -> 233.58046 | D25: =universe_weak!D25 -> 204.6497 | E25: =universe_weak!E25 -> 20.923676 | F25: =universe_weak!F25 -> 894.84412 | G25: =universe_weak!G25 -> 491.78893 | H25: =universe_weak!H25 -> 573.90112 | I25: =universe_weak!I25 -> 0 | J25: =universe_weak!J25 -> 1034.1098
A26: =universe_weak!A26 -> Kujawsko-Pomorskie (PL61) | B26: =LEFT(universe_weak!B26,FIND(")",universe_weak!B26)) -> Large (100 or more) | C26: =universe_weak!C26 -> 70.812934 | D26: =universe_weak!D26 -> 52.165524 | E26: =universe_weak!E26 -> 5.7457266 | F26: =universe_weak!F26 -> 248.08739 | G26: =universe_weak!G26 -> 29.476505 | H26: =universe_weak!H26 -> 49.805019 | I26: =universe_weak!I26 -> 0 | J26: =universe_weak!J26 -> 109.04347
A27: =universe_weak!A27 -> Warmińsko-Mazurskie (PL62) | B27: =LEFT(universe_weak!B27,FIND(")",universe_weak!B27)) -> Small (5-19) | C27: =universe_weak!C27 -> 345.3203 | D27: =universe_weak!D27 -> 1217.9316 | E27: =universe_weak!E27 -> 20.352871 | F27: =universe_weak!F27 -> 6152.6323 | G27: =universe_weak!G27 -> 6494.2588 | H27: =universe_weak!H27 -> 10226.229 | I27: =universe_weak!I27 -> 0 | J27: =universe_weak!J27 -> 12229.542 | K27: =SUM(C27:J29) -> 38986.559
A28: =universe_weak!A28 -> Warmińsko-Mazurskie (PL62) | B28: =LEFT(universe_weak!B28,FIND(")",universe_weak!B28)) -> Medium (20-99) | C28: =universe_weak!C28 -> 122.40603 | D28: =universe_weak!D28 -> 80.751438 | E28: =universe_weak!E28 -> 3.557719 | F28: =universe_weak!F28 -> 549.9508 | G28: =universe_weak!G28 -> 355.90761 | H28: =universe_weak!H28 -> 314.3861 | I28: =universe_weak!I28 -> 0 | J28: =universe_weak!J28 -> 557.0322
A29: =universe_weak!A29 -> Warmińsko-Mazurskie (PL62) | B29: =LEFT(universe_weak!B29,FIND(")",universe_weak!B29)) -> Large (100 or more) | C29: =universe_weak!C29 -> 33.655003 | D29: =universe_weak!D29 -> 29.278782 | E29: =universe_weak!E29 -> 1 | F29: =universe_weak!F29 -> 166.75501 | G29: =universe_weak!G29 -> 14.409453 | H29: =universe_weak!H29 -> 25.248693 | I29: =universe_weak!I29 -> 0 | J29: =universe_weak!J29 -> 45.952931
A30: =universe_weak!A30 -> Pomorskie (PL63) | B30: =LEFT(universe_weak!B30,FIND(")",universe_weak!B30)) -> Small (5-19) | C30: =universe_weak!C30 -> 688.64801 | D30: =universe_weak!D30 -> 4224.1846 | E30: =universe_weak!E30 -> 72.196938 | F30: =universe_weak!F30 -> 13117.515 | G30: =universe_weak!G30 -> 12536.312 | H30: =universe_weak!H30 -> 23177.585 | I30: =universe_weak!I30 -> 0 | J30: =universe_weak!J30 -> 31904.852 | K30: =SUM(C30:J32) -> 90445.673
A31: =universe_weak!A31 -> Pomorskie (PL63) | B31: =LEFT(universe_weak!B31,FIND(")",universe_weak!B31)) -> Medium (20-99) | C31: =universe_weak!C31 -> 244.88809 | D31: =universe_weak!D31 -> 210.35336 | E31: =universe_weak!E31 -> 13.599308 | F31: =universe_weak!F31 -> 939.49933 | G31: =universe_weak!G31 -> 605.22565 | H31: =universe_weak!H31 -> 704.66826 | I31: =universe_weak!I31 -> 0 | J31: =universe_weak!J31 -> 1340.2891
A32: =universe_weak!A32 -> Pomorskie (PL63) | B32: =LEFT(universe_weak!B32,FIND(")",universe_weak!B32)) -> Large (100 or more) | C32: =universe_weak!C32 -> 62.730026 | D32: =universe_weak!D32 -> 69.316673 | E32: =universe_weak!E32 -> 8.5891781 | F32: =universe_weak!F32 -> 243.37761 | G32: =universe_weak!G32 -> 42.227875 | H32: =universe_weak!H32 -> 59.745901 | I32: =universe_weak!I32 -> 0 | J32: =universe_weak!J32 -> 179.86984
A33: =universe_weak!A33 -> Łódzkie (PL71) | B33: =LEFT(universe_weak!B33,FIND(")",universe_weak!B33)) -> Small (5-19) | C33: =universe_weak!C33 -> 1007.7274 | D33: =universe_weak!D33 -> 1900.677 | E33: =universe_weak!E33 -> 85.833786 | F33: =universe_weak!F33 -> 13702.889 | G33: =universe_weak!G33 -> 15682.299 | H33: =universe_weak!H33 -> 16666.768 | I33: =universe_weak!I33 -> 0 | J33: =universe_weak!J33 -> 29507.317 | K33: =SUM(C33:J35) -> 84145.906
A34: =universe_weak!A34 -> Łódzkie (PL71) | B34: =LEFT(universe_weak!B34,FIND(")",universe_weak!B34)) -> Medium (20-99) | C34: =universe_weak!C34 -> 399.40256 | D34: =universe_weak!D34 -> 177.13876 | E34: =universe_weak!E34 -> 22.064565 | F34: =universe_weak!F34 -> 1701.6445 | G34: =universe_weak!G34 -> 573.04858 | H34: =universe_weak!H34 -> 648.1579 | I34: =universe_weak!I34 -> 0 | J34: =universe_weak!J34 -> 1396.119
A35: =universe_weak!A35 -> Łódzkie (PL71) | B35: =LEFT(universe_weak!B35,FIND(")",universe_weak!B35)) -> Large (100 or more) | C35: =universe_weak!C35 -> 87.465496 | D35: =universe_weak!D35 -> 28.31143 | E35: =universe_weak!E35 -> 15.484161 | F35: =universe_weak!F35 -> 319.26865 | G35: =universe_weak!G35 -> 40.959312 | H35: =universe_weak!H35 -> 50.33234 | I35: =universe_weak!I35 -> 0 | J35: =universe_weak!J35 -> 132.99757
A36: =universe_weak!A36 -> Świętokrzyskie (PL72) | B36: =LEFT(universe_weak!B36,FIND(")",universe_weak!B36)) -> Small (5-19) | C36: =universe_weak!C36 -> 337.96339 | D36: =universe_weak!D36 -> 1082.2212 | E36: =universe_weak!E36 -> 38.482681 | F36: =universe_weak!F36 -> 4174.1202 | G36: =universe_weak!G36 -> 8452.6484 | H36: =universe_weak!H36 -> 8174.478 | I36: =universe_weak!I36 -> 0 | J36: =universe_weak!J36 -> 11531.632 | K36: =SUM(C36:J39) -> 35626.378
A37: =universe_weak!A37 -> Świętokrzyskie (PL72) | B37: =LEFT(universe_weak!B37,FIND(")",universe_weak!B37)) -> Medium (20-99) | C37: =universe_weak!C37 -> 150.68766 | D37: =universe_weak!D37 -> 103.8658 | E37: =universe_weak!E37 -> 8.5801573 | F37: =universe_weak!F37 -> 343.84399 | G37: =universe_weak!G37 -> 264.10554 | H37: =universe_weak!H37 -> 292.53925 | I37: =universe_weak!I37 -> 0 | J37: =universe_weak!J37 -> 451.44832
A38: =universe_weak!A38 -> Świętokrzyskie (PL72) | B38: =LEFT(universe_weak!B38,FIND(")",universe_weak!B38)) -> Large (100 or more) | C38: =universe_weak!C38 -> 16.696971 | D38: =universe_weak!D38 -> 28.244677 | E38: =universe_weak!E38 -> 9.0318937 | F38: =universe_weak!F38 -> 83.174696 | G38: =universe_weak!G38 -> 19.981998 | H38: =universe_weak!H38 -> 16.527914 | I38: =universe_weak!I38 -> 0 | J38: =universe_weak!J38 -> 46.103104
A39: =universe_weak!A39 -> Świętokrzyskie (PL72) | B39: =LEFT(universe_weak!B39,FIND(")",universe_weak!B39)) -> Medium and Large (20+) | C39: =universe_weak!C39 -> 0 | D39: =universe_weak!D39 -> 0 | E39: =universe_weak!E39 -> 0 | F39: =universe_weak!F39 -> 0 | G39: =universe_weak!G39 -> 0 | H39: =universe_weak!H39 -> 0 | I39: =universe_weak!I39 -> 0 | J39: =universe_weak!J39 -> 0
A40: =universe_weak!A40 -> Lubelskie (PL81) | B40: =LEFT(universe_weak!B40,FIND(")",universe_weak!B40)) -> Small (5-19) | C40: =universe_weak!C40 -> 645.94048 | D40: =universe_weak!D40 -> 1191.2255 | E40: =universe_weak!E40 -> 38.506256 | F40: =universe_weak!F40 -> 6845.2866 | G40: =universe_weak!G40 -> 9782.252 | H40: =universe_weak!H40 -> 13583.736 | I40: =universe_weak!I40 -> 0 | J40: =universe_weak!J40 -> 19686.932 | K40: =SUM(C40:J43) -> 54374.712
A41: =universe_weak!A41 -> Lubelskie (PL81) | B41: =LEFT(universe_weak!B41,FIND(")",universe_weak!B41)) -> Medium (20-99) | C41: =universe_weak!C41 -> 216.92992 | D41: =universe_weak!D41 -> 92.832802 | E41: =universe_weak!E41 -> 0 | F41: =universe_weak!F41 -> 432.81955 | G41: =universe_weak!G41 -> 433.32272 | H41: =universe_weak!H41 -> 343.55487 | I41: =universe_weak!I41 -> 0 | J41: =universe_weak!J41 -> 745.90436
A42: =universe_weak!A42 -> Lubelskie (PL81) | B42: =LEFT(universe_weak!B42,FIND(")",universe_weak!B42)) -> Large (100 or more) | C42: =universe_weak!C42 -> 48.323256 | D42: =universe_weak!D42 -> 19.544071 | E42: =universe_weak!E42 -> 0 | F42: =universe_weak!F42 -> 109.23365 | G42: =universe_weak!G42 -> 23.073064 | H42: =universe_weak!H42 -> 33.765163 | I42: =universe_weak!I42 -> 0 | J42: =universe_weak!J42 -> 80.600471
A43: =universe_weak!A43 -> Lubelskie (PL81) | B43: =LEFT(universe_weak!B43,FIND(")",universe_weak!B43)) -> Medium and Large (20+) | C43: =universe_weak!C43 -> 0 | D43: =universe_weak!D43 -> 0 | E43: =universe_weak!E43 -> 20.929615 | F43: =universe_weak!F43 -> 0 | G43: =universe_weak!G43 -> 0 | H43: =universe_weak!H43 -> 0 | I43: =universe_weak!I43 -> 0 | J43: =universe_weak!J43 -> 0
A44: =universe_weak!A44 -> Podkarpackie (PL82) | B44: =LEFT(universe_weak!B44,FIND(")",universe_weak!B44)) -> Small (5-19) | C44: =universe_weak!C44 -> 619.20551 | D44: =universe_weak!D44 -> 1869.0111 | E44: =universe_weak!E44 -> 78.750153 | F44: =universe_weak!F44 -> 7323.3925 | G44: =universe_weak!G44 -> 9052.5547 | H44: =universe_weak!H44 -> 14428.012 | I44: =universe_weak!I44 -> 0 | J44: =universe_weak!J44 -> 20435.564 | K44: =SUM(C44:J46) -> 57048.795
A45: =universe_weak!A45 -> Podkarpackie (PL82) | B45: =LEFT(universe_weak!B45,FIND(")",universe_weak!B45)) -> Medium (20-99) | C45: =universe_weak!C45 -> 212.82804 | D45: =universe_weak!D45 -> 166.11564 | E45: =universe_weak!E45 -> 22.202695 | F45: =universe_weak!F45 -> 702.14485 | G45: =universe_weak!G45 -> 473.41104 | H45: =universe_weak!H45 -> 428.57333 | I45: =universe_weak!I45 -> 0 | J45: =universe_weak!J45 -> 780.07361
A46: =universe_weak!A46 -> Podkarpackie (PL82) | B46: =LEFT(universe_weak!B46,FIND(")",universe_weak!B46)) -> Large (100 or more) | C46: =universe_weak!C46 -> 27.004005 | D46: =universe_weak!D46 -> 44.206553 | E46: =universe_weak!E46 -> 9.7381847 | F46: =universe_weak!F46 -> 198.08205 | G46: =universe_weak!G46 -> 47.772779 | H46: =universe_weak!H46 -> 42.206192 | I46: =universe_weak!I46 -> 0 | J46: =universe_weak!J46 -> 87.945545
A47: =universe_weak!A47 -> Podlaskie (PL84) | B47: =LEFT(universe_weak!B47,FIND(")",universe_weak!B47)) -> Small (5-19) | C47: =universe_weak!C47 -> 336.5657 | D47: =universe_weak!D47 -> 614.47101 | E47: =universe_weak!E47 -> 24.245502 | F47: =universe_weak!F47 -> 4284.2867 | G47: =universe_weak!G47 -> 7034.9307 | H47: =universe_weak!H47 -> 7875.5186 | I47: =universe_weak!I47 -> 0 | J47: =universe_weak!J47 -> 11220.604 | K47: =SUM(C47:J50) -> 32981.521
A48: =universe_weak!A48 -> Podlaskie (PL84) | B48: =LEFT(universe_weak!B48,FIND(")",universe_weak!B48)) -> Medium (20-99) | C48: =universe_weak!C48 -> 124.61496 | D48: =universe_weak!D48 -> 55.166011 | E48: =universe_weak!E48 -> 7.6902058 | F48: =universe_weak!F48 -> 306.96921 | G48: =universe_weak!G48 -> 212.8764 | H48: =universe_weak!H48 -> 218.08559 | I48: =universe_weak!I48 -> 0 | J48: =universe_weak!J48 -> 458.8078
A49: =universe_weak!A49 -> Podlaskie (PL84) | B49: =LEFT(universe_weak!B49,FIND(")",universe_weak!B49)) -> Large (100 or more) | C49: =universe_weak!C49 -> 32.332065 | D49: =universe_weak!D49 -> 9.9808569 | E49: =universe_weak!E49 -> 1.7989084 | F49: =universe_weak!F49 -> 65.536395 | G49: =universe_weak!G49 -> 26.820881 | H49: =universe_weak!H49 -> 21.657319 | I49: =universe_weak!I49 -> 0 | J49: =universe_weak!J49 -> 48.561234
A50: =universe_weak!A50 -> Podlaskie (PL84) | B50: =LEFT(universe_weak!B50,FIND(")",universe_weak!B50)) -> Medium and Large (20+) | C50: =universe_weak!C50 -> 0 | D50: =universe_weak!D50 -> 0 | E50: =universe_weak!E50 -> 0 | F50: =universe_weak!F50 -> 0 | G50: =universe_weak!G50 -> 0 | H50: =universe_weak!H50 -> 0 | I50: =universe_weak!I50 -> 0 | J50: =universe_weak!J50 -> 0
A51: =universe_weak!A51 -> Region Warszawski Stołeczny (PL91) | B51: =LEFT(universe_weak!B51,FIND(")",universe_weak!B51)) -> Small (5-19) | C51: =universe_weak!C51 -> 1822.2264 | D51: =universe_weak!D51 -> 2388.1886 | E51: =universe_weak!E51 -> 206.95309 | F51: =universe_weak!F51 -> 18451.917 | G51: =universe_weak!G51 -> 28805.907 | H51: =universe_weak!H51 -> 31825.804 | I51: =universe_weak!I51 -> 0 | J51: =universe_weak!J51 -> 91256.651 | K51: =SUM(C51:J54) -> 184466.21
A52: =universe_weak!A52 -> Region Warszawski Stołeczny (PL91) | B52: =LEFT(universe_weak!B52,FIND(")",universe_weak!B52)) -> Medium (20-99) | C52: =universe_weak!C52 -> 332.28634 | D52: =universe_weak!D52 -> 225.2206 | E52: =universe_weak!E52 -> 0 | F52: =universe_weak!F52 -> 1493.467 | G52: =universe_weak!G52 -> 1032.8285 | H52: =universe_weak!H52 -> 1331.1772 | I52: =universe_weak!I52 -> 0 | J52: =universe_weak!J52 -> 3674.6338
A53: =universe_weak!A53 -> Region Warszawski Stołeczny (PL91) | B53: =LEFT(universe_weak!B53,FIND(")",universe_weak!B53)) -> Large (100 or more) | C53: =universe_weak!C53 -> 110.45712 | D53: =universe_weak!D53 -> 44.201027 | E53: =universe_weak!E53 -> 0 | F53: =universe_weak!F53 -> 298.31838 | G53: =universe_weak!G53 -> 180.08342 | H53: =universe_weak!H53 -> 181.27214 | I53: =universe_weak!I53 -> 0 | J53: =universe_weak!J53 -> 756.61079
A54: =universe_weak!A54 -> Region Warszawski Stołeczny (PL91) | B54: =LEFT(universe_weak!B54,FIND(")",universe_weak!B54)) -> Medium and Large (20+) | C54: =universe_weak!C54 -> 0 | D54: =universe_weak!D54 -> 0 | E54: =universe_weak!E54 -> 48.006949 | F54: =universe_weak!F54 -> 0 | G54: =universe_weak!G54 -> 0 | H54: =universe_weak!H54 -> 0 | I54: =universe_weak!I54 -> 0 | J54: =universe_weak!J54 -> 0
A55: =universe_weak!A55 -> Region Mazowiecki Regionalny (PL92) | B55: =LEFT(universe_weak!B55,FIND(")",universe_weak!B55)) -> Small (5-19) | C55: =universe_weak!C55 -> 754.40346 | D55: =universe_weak!D55 -> 2037.7277 | E55: =universe_weak!E55 -> 39.591203 | F55: =universe_weak!F55 -> 9677.9297 | G55: =universe_weak!G55 -> 11822.742 | H55: =universe_weak!H55 -> 16600.2 | I55: =universe_weak!I55 -> 0 | J55: =universe_weak!J55 -> 23552.367 | K55: =SUM(C55:J58) -> 67996.343
A56: =universe_weak!A56 -> Region Mazowiecki Regionalny (PL92) | B56: =LEFT(universe_weak!B56,FIND(")",universe_weak!B56)) -> Medium (20-99) | C56: =universe_weak!C56 -> 281.66277 | D56: =universe_weak!D56 -> 167.10732 | E56: =universe_weak!E56 -> 0 | F56: =universe_weak!F56 -> 729.22173 | G56: =universe_weak!G56 -> 402.78244 | H56: =universe_weak!H56 -> 496.36423 | I56: =universe_weak!I56 -> 0 | J56: =universe_weak!J56 -> 989.211
A57: =universe_weak!A57 -> Region Mazowiecki Regionalny (PL92) | B57: =LEFT(universe_weak!B57,FIND(")",universe_weak!B57)) -> Large (100 or more) | C57: =universe_weak!C57 -> 71.635658 | D57: =universe_weak!D57 -> 48.862595 | E57: =universe_weak!E57 -> 0 | F57: =universe_weak!F57 -> 144.11153 | G57: =universe_weak!G57 -> 31.682659 | H57: =universe_weak!H57 -> 41.986389 | I57: =universe_weak!I57 -> 0 | J57: =universe_weak!J57 -> 88.438499
A58: =universe_weak!A58 -> Region Mazowiecki Regionalny (PL92) | B58: =LEFT(universe_weak!B58,FIND(")",universe_weak!B58)) -> Medium and Large (20+) | C58: =universe_weak!C58 -> 0 | D58: =universe_weak!D58 -> 0 | E58: =universe_weak!E58 -> 18.31432 | F58: =universe_weak!F58 -> 0 | G58: =universe_weak!G58 -> 0 | H58: =universe_weak!H58 -> 0 | I58: =universe_weak!I58 -> 0 | J58: =universe_weak!J58 -> 0
C59: =SUM(C2:C58) -> 19485.273 | D59: =SUM(D2:D58) -> 40597.208 | E59: =SUM(E2:E58) -> 1903.6306 | F59: =SUM(F2:F58) -> 196556.39 | G59: =SUM(G2:G58) -> 235483.93 | H59: =SUM(H2:H58) -> 330062.7 | I59: =SUM(I2:I58) -> 0 | J59: =SUM(J2:J58) -> 530173.11 | K59: =SUM(K2:K58) -> 1354262.2

Sheet Table 9 Median Universe Est
C1: =RIGHT(SUBSTITUTE(universe_median!C1,"_"," "),LEN(SUBSTITUTE(universe_median!C1,"_"," "))-1) -> Food | D1: =RIGHT(SUBSTITUTE(universe_median!D1,"_"," "),LEN(SUBSTITUTE(universe_median!D1,"_"," "))-1) -> Fabricated Metal Products | E1: =RIGHT(SUBSTITUTE(universe_median!E1,"_"," "),LEN(SUBSTITUTE(universe_median!E1,"_"," "))-1) -> Motor Vehicles | F1: =RIGHT(SUBSTITUTE(universe_median!F1,"_"," "),LEN(SUBSTITUTE(universe_median!F1,"_"," "))-1) -> Other Manufacturing | G1: =RIGHT(SUBSTITUTE(universe_median!G1,"_"," "),LEN(SUBSTITUTE(universe_median!G1,"_"," "))-1) -> Retail | H1: =RIGHT(SUBSTITUTE(universe_median!H1,"_"," "),LEN(SUBSTITUTE(universe_median!H1,"_"," "))-1) -> Construction | I1: =RIGHT(SUBSTITUTE(universe_median!I1,"_"," "),LEN(SUBSTITUTE(universe_median!I1,"_"," "))-1) -> Professional Activities | J1: =RIGHT(SUBSTITUTE(universe_median!J1,"_"," "),LEN(SUBSTITUTE(universe_median!J1,"_"," "))-1) -> Other services | K1: =RIGHT(SUBSTITUTE(universe_median!K1,"_"," "),LEN(SUBSTITUTE(universe_median!K1,"_"," "))-1) -> Grand Total
A2: =universe_median!A2 -> Małopolskie (PL21) | B2: =LEFT(universe_median!B2,FIND(")",universe_median!B2)) -> Small (5-19) | C2: =universe_median!C2 -> 1177.6021 | D2: =universe_median!D2 -> 2530.3914 | E2: =universe_median!E2 -> 79.649253 | F2: =universe_median!F2 -> 13924.723 | G2: =universe_median!G2 -> 15971.029 | H2: =universe_median!H2 -> 27691.605 | I2: =universe_median!I2 -> 0 | J2: =universe_median!J2 -> 37327.144 | K2: =SUM(C2:J4) -> 104709.53
A3: =universe_median!A3 -> Małopolskie (PL21) | B3: =LEFT(universe_median!B3,FIND(")",universe_median!B3)) -> Medium (20-99) | C3: =universe_median!C3 -> 396.61936 | D3: =universe_median!D3 -> 233.98762 | E3: =universe_median!E3 -> 13.26483 | F3: =universe_median!F3 -> 1124.0916 | G3: =universe_median!G3 -> 846.03661 | H3: =universe_median!H3 -> 953.46954 | I3: =universe_median!I3 -> 0 | J3: =universe_median!J3 -> 1691.8126
A4: =universe_median!A4 -> Małopolskie (PL21) | B4: =LEFT(universe_median!B4,FIND(")",universe_median!B4)) -> Large (100 or more) | C4: =universe_median!C4 -> 71.43298 | D4: =universe_median!D4 -> 58.218933 | E4: =universe_median!E4 -> 8.4395046 | F4: =universe_median!F4 -> 248.30499 | G4: =universe_median!G4 -> 74.135194 | H4: =universe_median!H4 -> 85.283818 | I4: =universe_median!I4 -> 0 | J4: =universe_median!J4 -> 202.28693
A5: =universe_median!A5 -> Śląskie (PL22) | B5: =LEFT(universe_median!B5,FIND(")",universe_median!B5)) -> Small (5-19) | C5: =universe_median!C5 -> 1191.9053 | D5: =universe_median!D5 -> 3802.7542 | E5: =universe_median!E5 -> 112.99992 | F5: =universe_median!F5 -> 14227.463 | G5: =universe_median!G5 -> 19192.429 | H5: =universe_median!H5 -> 22867.627 | I5: =universe_median!I5 -> 0 | J5: =universe_median!J5 -> 40172.139 | K5: =SUM(C5:J7) -> 109491.08
A6: =universe_median!A6 -> Śląskie (PL22) | B6: =LEFT(universe_median!B6,FIND(")",universe_median!B6)) -> Medium (20-99) | C6: =universe_median!C6 -> 492.80212 | D6: =universe_median!D6 -> 433.36826 | E6: =universe_median!E6 -> 43.276573 | F6: =universe_median!F6 -> 1529.0682 | G6: =universe_median!G6 -> 1041.618 | H6: =universe_median!H6 -> 1218.0695 | I6: =universe_median!I6 -> 0 | J6: =universe_median!J6 -> 2212.1216
A7: =universe_median!A7 -> Śląskie (PL22) | B7: =LEFT(universe_median!B7,FIND(")",universe_median!B7)) -> Large (100 or more) | C7: =universe_median!C7 -> 85.307596 | D7: =universe_median!D7 -> 78.537712 | E7: =universe_median!E7 -> 50.831863 | F7: =universe_median!F7 -> 341.94653 | G7: =universe_median!G7 -> 51.062732 | H7: =universe_median!H7 -> 100.50101 | I7: =universe_median!I7 -> 0 | J7: =universe_median!J7 -> 245.24611
A8: =universe_median!A8 -> Wielkopolskie (PL41) | B8: =LEFT(universe_median!B8,FIND(")",universe_median!B8)) -> Small (5-19) | C8: =universe_median!C8 -> 1331.5947 | D8: =universe_median!D8 -> 3178.0559 | E8: =universe_median!E8 -> 127.64916 | F8: =universe_median!F8 -> 16669.094 | G8: =universe_median!G8 -> 16731.982 | H8: =universe_median!H8 -> 27681.107 | I8: =universe_median!I8 -> 0 | J8: =universe_median!J8 -> 40610.612 | K8: =SUM(C8:J10) -> 114403.88
A9: =universe_median!A9 -> Wielkopolskie (PL41) | B9: =LEFT(universe_median!B9,FIND(")",universe_median!B9)) -> Medium (20-99) | C9: =universe_median!C9 -> 492.5905 | D9: =universe_median!D9 -> 449.46475 | E9: =universe_median!E9 -> 29.332154 | F9: =universe_median!F9 -> 1855.3389 | G9: =universe_median!G9 -> 928.60576 | H9: =universe_median!H9 -> 1030.9932 | I9: =universe_median!I9 -> 0 | J9: =universe_median!J9 -> 2171.2271
A10: =universe_median!A10 -> Wielkopolskie (PL41) | B10: =LEFT(universe_median!B10,FIND(")",universe_median!B10)) -> Large (100 or more) | C10: =universe_median!C10 -> 133.2376 | D10: =universe_median!D10 -> 74.068398 | E10: =universe_median!E10 -> 27.993066 | F10: =universe_median!F10 -> 481.41018 | G10: =universe_median!G10 -> 77.908802 | H10: =universe_median!H10 -> 71.90226 | I10: =universe_median!I10 -> 0 | J10: =universe_median!J10 -> 249.71523
A11: =universe_median!A11 -> Zachodniopomorskie (PL42) | B11: =LEFT(universe_median!B11,FIND(")",universe_median!B11)) -> Small (5-19) | C11: =universe_median!C11 -> 474.23981 | D11: =universe_median!D11 -> 1471.1132 | E11: =universe_median!E11 -> 31.111717 | F11: =universe_median!F11 -> 6981.4946 | G11: =universe_median!G11 -> 7261.1777 | H11: =universe_median!H11 -> 13658.558 | I11: =universe_median!I11 -> 0 | J11: =universe_median!J11 -> 16244.827 | K11: =SUM(C11:J13) -> 48578.56
A12: =universe_median!A12 -> Zachodniopomorskie (PL42) | B12: =LEFT(universe_median!B12,FIND(")",universe_median!B12)) -> Medium (20-99) | C12: =universe_median!C12 -> 159.88789 | D12: =universe_median!D12 -> 105.63699 | E12: =universe_median!E12 -> 5.5615458 | F12: =universe_median!F12 -> 529.81305 | G12: =universe_median!G12 -> 303.28375 | H12: =universe_median!H12 -> 350.40198 | I12: =universe_median!I12 -> 0 | J12: =universe_median!J12 -> 727.78651
A13: =universe_median!A13 -> Zachodniopomorskie (PL42) | B13: =LEFT(universe_median!B13,FIND(")",universe_median!B13)) -> Large (100 or more) | C13: =universe_median!C13 -> 34.855267 | D13: =universe_median!D13 -> 28.589159 | E13: =universe_median!E13 -> 4.6441913 | F13: =universe_median!F13 -> 115.22505 | G13: =universe_median!G13 -> 6.9243565 | H13: =universe_median!H13 -> 20.987776 | I13: =universe_median!I13 -> 0 | J13: =universe_median!J13 -> 62.440355
A14: =universe_median!A14 -> Lubuskie (PL43) | B14: =LEFT(universe_median!B14,FIND(")",universe_median!B14)) -> Small (5-19) | C14: =universe_median!C14 -> 276.36838 | D14: =universe_median!D14 -> 773.13995 | E14: =universe_median!E14 -> 23.551744 | F14: =universe_median!F14 -> 3981.9961 | G14: =universe_median!G14 -> 4772.395 | H14: =universe_median!H14 -> 7779.5801 | I14: =universe_median!I14 -> 0 | J14: =universe_median!J14 -> 9608.855 | K14: =SUM(C14:J17) -> 29012.636
A15: =universe_median!A15 -> Lubuskie (PL43) | B15: =LEFT(universe_median!B15,FIND(")",universe_median!B15)) -> Medium (20-99) | C15: =universe_median!C15 -> 114.38795 | D15: =universe_median!D15 -> 93.265152 | E15: =universe_median!E15 -> 7.8669896 | F15: =universe_median!F15 -> 399.59129 | G15: =universe_median!G15 -> 231.39016 | H15: =universe_median!H15 -> 243.58555 | I15: =universe_median!I15 -> 0 | J15: =universe_median!J15 -> 474.18379
A16: =universe_median!A16 -> Lubuskie (PL43) | B16: =LEFT(universe_median!B16,FIND(")",universe_median!B16)) -> Large (100 or more) | C16: =universe_median!C16 -> 16.733451 | D16: =universe_median!D16 -> 22.445337 | E16: =universe_median!E16 -> 6.1427794 | F16: =universe_median!F16 -> 102.94082 | G16: =universe_median!G16 -> 13.534537 | H16: =universe_median!H16 -> 17.27296 | I16: =universe_median!I16 -> 0 | J16: =universe_median!J16 -> 53.409363
A17: =universe_median!A17 -> Lubuskie (PL43) | B17: =LEFT(universe_median!B17,FIND(")",universe_median!B17)) -> Medium and Large (20+) | C17: =universe_median!C17 -> 0 | D17: =universe_median!D17 -> 0 | E17: =universe_median!E17 -> 0 | F17: =universe_median!F17 -> 0 | G17: =universe_median!G17 -> 0 | H17: =universe_median!H17 -> 0 | I17: =universe_median!I17 -> 0 | J17: =universe_median!J17 -> 0
A18: =universe_median!A18 -> Dolnośląskie (PL51) | B18: =LEFT(universe_median!B18,FIND(")",universe_median!B18)) -> Small (5-19) | C18: =universe_median!C18 -> 689.91409 | D18: =universe_median!D18 -> 1907.8471 | E18: =universe_median!E18 -> 74.810691 | F18: =universe_median!F18 -> 9363.2363 | G18: =universe_median!G18 -> 13940.086 | H18: =universe_median!H18 -> 20061.301 | I18: =universe_median!I18 -> 0 | J18: =universe_median!J18 -> 27989.856 | K18: =SUM(C18:J20) -> 77986.768
A19: =universe_median!A19 -> Dolnośląskie (PL51) | B19: =LEFT(universe_median!B19,FIND(")",universe_median!B19)) -> Medium (20-99) | C19: =universe_median!C19 -> 226.21621 | D19: =universe_median!D19 -> 208.16345 | E19: =universe_median!E19 -> 18.484354 | F19: =universe_median!F19 -> 692.243 | G19: =universe_median!G19 -> 452.35826 | H19: =universe_median!H19 -> 649.25684 | I19: =universe_median!I19 -> 0 | J19: =universe_median!J19 -> 1178.8522
A20: =universe_median!A20 -> Dolnośląskie (PL51) | B20: =LEFT(universe_median!B20,FIND(")",universe_median!B20)) -> Large (100 or more) | C20: =universe_median!C20 -> 22.725142 | D20: =universe_median!D20 -> 55.183407 | E20: =universe_median!E20 -> 31.022942 | F20: =universe_median!F20 -> 215.45956 | G20: =universe_median!G20 -> 35.552338 | H20: =universe_median!H20 -> 42.334056 | I20: =universe_median!I20 -> 0 | J20: =universe_median!J20 -> 131.86513
A21: =universe_median!A21 -> Opolskie (PL52) | B21: =LEFT(universe_median!B21,FIND(")",universe_median!B21)) -> Small (5-19) | C21: =universe_median!C21 -> 284.87982 | D21: =universe_median!D21 -> 744.25224 | E21: =universe_median!E21 -> 11.780071 | F21: =universe_median!F21 -> 3504.0391 | G21: =universe_median!G21 -> 3050.2375 | H21: =universe_median!H21 -> 5653.6479 | I21: =universe_median!I21 -> 0 | J21: =universe_median!J21 -> 6528.0273 | K21: =SUM(C21:J23) -> 21218.415
A22: =universe_median!A22 -> Opolskie (PL52) | B22: =LEFT(universe_median!B22,FIND(")",universe_median!B22)) -> Medium (20-99) | C22: =universe_median!C22 -> 96.948235 | D22: =universe_median!D22 -> 89.647614 | E22: =universe_median!E22 -> 7.307667 | F22: =universe_median!F22 -> 313.49271 | G22: =universe_median!G22 -> 188.59158 | H22: =universe_median!H22 -> 222.06413 | I22: =universe_median!I22 -> 0 | J22: =universe_median!J22 -> 351.95493
A23: =universe_median!A23 -> Opolskie (PL52) | B23: =LEFT(universe_median!B23,FIND(")",universe_median!B23)) -> Large (100 or more) | C23: =universe_median!C23 -> 12.583032 | D23: =universe_median!D23 -> 18.692682 | E23: =universe_median!E23 -> 5.7060432 | F23: =universe_median!F23 -> 79.684999 | G23: =universe_median!G23 -> 3.9701891 | H23: =universe_median!H23 -> 16.044897 | I23: =universe_median!I23 -> 0 | J23: =universe_median!J23 -> 34.862552
A24: =universe_median!A24 -> Kujawsko-Pomorskie (PL61) | B24: =LEFT(universe_median!B24,FIND(")",universe_median!B24)) -> Small (5-19) | C24: =universe_median!C24 -> 528.18298 | D24: =universe_median!D24 -> 1537.7471 | E24: =universe_median!E24 -> 40.042351 | F24: =universe_median!F24 -> 6691.4126 | G24: =universe_median!G24 -> 8201.0938 | H24: =universe_median!H24 -> 11924.629 | I24: =universe_median!I24 -> 0 | J24: =universe_median!J24 -> 16687.611 | K24: =SUM(C24:J26) -> 49012.991
A25: =universe_median!A25 -> Kujawsko-Pomorskie (PL61) | B25: =LEFT(universe_median!B25,FIND(")",universe_median!B25)) -> Medium (20-99) | C25: =universe_median!C25 -> 206.5789 | D25: =universe_median!D25 -> 178.98338 | E25: =universe_median!E25 -> 16.279085 | F25: =universe_median!F25 -> 786.06728 | G25: =universe_median!G25 -> 415.15073 | H25: =universe_median!H25 -> 488.85107 | I25: =universe_median!I25 -> 0 | J25: =universe_median!J25 -> 866.71042
A26: =universe_median!A26 -> Kujawsko-Pomorskie (PL61) | B26: =LEFT(universe_median!B26,FIND(")",universe_median!B26)) -> Large (100 or more) | C26: =universe_median!C26 -> 56.778643 | D26: =universe_median!D26 -> 41.362629 | E26: =universe_median!E26 -> 4.0528445 | F26: =universe_median!F26 -> 197.57864 | G26: =universe_median!G26 -> 22.55932 | H26: =universe_median!H26 -> 38.462328 | I26: =universe_median!I26 -> 0 | J26: =universe_median!J26 -> 82.857147
A27: =universe_median!A27 -> Warmińsko-Mazurskie (PL62) | B27: =LEFT(universe_median!B27,FIND(")",universe_median!B27)) -> Small (5-19) | C27: =universe_median!C27 -> 281.08736 | D27: =universe_median!D27 -> 980.37964 | E27: =universe_median!E27 -> 14.574291 | F27: =universe_median!F27 -> 4974.4263 | G27: =universe_median!G27 -> 5045.7579 | H27: =universe_median!H27 -> 8017.2378 | I27: =universe_median!I27 -> 0 | J27: =universe_median!J27 -> 9433.8135 | K27: =SUM(C27:J29) -> 30692.098
A28: =universe_median!A28 -> Warmińsko-Mazurskie (PL62) | B28: =LEFT(universe_median!B28,FIND(")",universe_median!B28)) -> Medium (20-99) | C28: =universe_median!C28 -> 108.00739 | D28: =universe_median!D28 -> 70.461688 | E28: =universe_median!E28 -> 2.761626 | F28: =universe_median!F28 -> 481.98923 | G28: =universe_median!G28 -> 299.75436 | H28: =universe_median!H28 -> 267.18007 | I28: =universe_median!I28 -> 0 | J28: =universe_median!J28 -> 465.78859
A29: =universe_median!A29 -> Warmińsko-Mazurskie (PL62) | B29: =LEFT(universe_median!B29,FIND(")",universe_median!B29)) -> Large (100 or more) | C29: =universe_median!C29 -> 26.922987 | D29: =universe_median!D29 -> 23.162145 | E29: =universe_median!E29 -> 1 | F29: =universe_median!F29 -> 132.49985 | G29: =universe_median!G29 -> 11.002686 | H29: =universe_median!H29 -> 19.453714 | I29: =universe_median!I29 -> 0 | J29: =universe_median!J29 -> 34.837313
A30: =universe_median!A30 -> Pomorskie (PL63) | B30: =LEFT(universe_median!B30,FIND(")",universe_median!B30)) -> Small (5-19) | C30: =universe_median!C30 -> 525.30878 | D30: =universe_median!D30 -> 3186.4888 | E30: =universe_median!E30 -> 48.448322 | F30: =universe_median!F30 -> 9938.75 | G30: =universe_median!G30 -> 9127.7715 | H30: =universe_median!H30 -> 17028.469 | I30: =universe_median!I30 -> 0 | J30: =universe_median!J30 -> 23063.859 | K30: =SUM(C30:J32) -> 66650.742
A31: =universe_median!A31 -> Pomorskie (PL63) | B31: =LEFT(universe_median!B31,FIND(")",universe_median!B31)) -> Medium (20-99) | C31: =universe_median!C31 -> 202.49602 | D31: =universe_median!D31 -> 172.0087 | E31: =universe_median!E31 -> 9.8925486 | F31: =universe_median!F31 -> 771.62833 | G31: =universe_median!G31 -> 477.68732 | H31: =universe_median!H31 -> 561.2076 | I31: =universe_median!I31 -> 0 | J31: =universe_median!J31 -> 1050.2802
A32: =universe_median!A32 -> Pomorskie (PL63) | B32: =LEFT(universe_median!B32,FIND(")",universe_median!B32)) -> Large (100 or more) | C32: =universe_median!C32 -> 47.026993 | D32: =universe_median!D32 -> 51.387989 | E32: =universe_median!E32 -> 5.6645575 | F32: =universe_median!F32 -> 181.22382 | G32: =universe_median!G32 -> 30.216809 | H32: =universe_median!H32 -> 43.138985 | I32: =universe_median!I32 -> 0 | J32: =universe_median!J32 -> 127.78737
A33: =universe_median!A33 -> Łódzkie (PL71) | B33: =LEFT(universe_median!B33,FIND(")",universe_median!B33)) -> Small (5-19) | C33: =universe_median!C33 -> 851.21649 | D33: =universe_median!D33 -> 1587.6598 | E33: =universe_median!E33 -> 63.78196 | F33: =universe_median!F33 -> 11496.67 | G33: =universe_median!G33 -> 12643.995 | H33: =universe_median!H33 -> 13559.335 | I33: =universe_median!I33 -> 0 | J33: =universe_median!J33 -> 23620.254 | K33: =SUM(C33:J35) -> 68746.041
A34: =universe_median!A34 -> Łódzkie (PL71) | B34: =LEFT(universe_median!B34,FIND(")",universe_median!B34)) -> Medium (20-99) | C34: =universe_median!C34 -> 365.71207 | D34: =universe_median!D34 -> 160.39624 | E34: =universe_median!E34 -> 17.77323 | F34: =universe_median!F34 -> 1547.605 | G34: =universe_median!G34 -> 500.8382 | H34: =universe_median!H34 -> 571.60931 | I34: =universe_median!I34 -> 0 | J34: =universe_median!J34 -> 1211.4589
A35: =universe_median!A35 -> Łódzkie (PL71) | B35: =LEFT(universe_median!B35,FIND(")",universe_median!B35)) -> Large (100 or more) | C35: =universe_median!C35 -> 72.608614 | D35: =universe_median!D35 -> 23.241564 | E35: =universe_median!E35 -> 11.307892 | F35: =universe_median!F35 -> 263.25131 | G35: =universe_median!G35 -> 32.455002 | H35: =universe_median!H35 -> 40.24283 | I35: =universe_median!I35 -> 0 | J35: =universe_median!J35 -> 104.62921
A36: =universe_median!A36 -> Świętokrzyskie (PL72) | B36: =LEFT(universe_median!B36,FIND(")",universe_median!B36)) -> Small (5-19) | C36: =universe_median!C36 -> 253.19711 | D36: =universe_median!D36 -> 801.78387 | E36: =universe_median!E36 -> 25.362789 | F36: =universe_median!F36 -> 3106.1107 | G36: =universe_median!G36 -> 6044.4878 | H36: =universe_median!H36 -> 5898.4672 | I36: =universe_median!I36 -> 0 | J36: =universe_median!J36 -> 8187.2432 | K36: =SUM(C36:J39) -> 25744.396
A37: =universe_median!A37 -> Świętokrzyskie (PL72) | B37: =LEFT(universe_median!B37,FIND(")",universe_median!B37)) -> Medium (20-99) | C37: =universe_median!C37 -> 122.37656 | D37: =universe_median!D37 -> 83.415213 | E37: =universe_median!E37 -> 6.1299701 | F37: =universe_median!F37 -> 277.3606 | G37: =universe_median!G37 -> 204.72725 | H37: =universe_median!H37 -> 228.82037 | I37: =universe_median!I37 -> 0 | J37: =universe_median!J37 -> 347.44528
A38: =universe_median!A38 -> Świętokrzyskie (PL72) | B38: =LEFT(universe_median!B38,FIND(")",universe_median!B38)) -> Large (100 or more) | C38: =universe_median!C38 -> 12.29366 | D38: =universe_median!D38 -> 20.565166 | E38: =universe_median!E38 -> 5.8501215 | F38: =universe_median!F38 -> 60.827165 | G38: =universe_median!G38 -> 14.043005 | H38: =universe_median!H38 -> 11.720646 | I38: =universe_median!I38 -> 0 | J38: =universe_median!J38 -> 32.168552
A39: =universe_median!A39 -> Świętokrzyskie (PL72) | B39: =LEFT(universe_median!B39,FIND(")",universe_median!B39)) -> Medium and Large (20+) | C39: =universe_median!C39 -> 0 | D39: =universe_median!D39 -> 0 | E39: =universe_median!E39 -> 0 | F39: =universe_median!F39 -> 0 | G39: =universe_median!G39 -> 0 | H39: =universe_median!H39 -> 0 | I39: =universe_median!I39 -> 0 | J39: =universe_median!J39 -> 0
A40: =universe_median!A40 -> Lubelskie (PL81) | B40: =LEFT(universe_median!B40,FIND(")",universe_median!B40)) -> Small (5-19) | C40: =universe_median!C40 -> 498.41428 | D40: =universe_median!D40 -> 908.9585 | E40: =universe_median!E40 -> 26.137968 | F40: =universe_median!F40 -> 5246.292 | G40: =universe_median!G40 -> 7204.6748 | H40: =universe_median!H40 -> 10095.021 | I40: =universe_median!I40 -> 0 | J40: =universe_median!J40 -> 14395.734 | K40: =SUM(C40:J43) -> 40453.776
A41: =universe_median!A41 -> Lubelskie (PL81) | B41: =LEFT(universe_median!B41,FIND(")",universe_median!B41)) -> Medium (20-99) | C41: =universe_median!C41 -> 181.44661 | D41: =universe_median!D41 -> 76.786171 | E41: =universe_median!E41 -> 0 | F41: =universe_median!F41 -> 359.58295 | G41: =universe_median!G41 -> 345.95407 | H41: =universe_median!H41 -> 276.76776 | I41: =universe_median!I41 -> 0 | J41: =universe_median!J41 -> 591.2489
A42: =universe_median!A42 -> Lubelskie (PL81) | B42: =LEFT(universe_median!B42,FIND(")",universe_median!B42)) -> Large (100 or more) | C42: =universe_median!C42 -> 36.644477 | D42: =universe_median!D42 -> 14.656137 | E42: =universe_median!E42 -> 0 | F42: =universe_median!F42 -> 82.275719 | G42: =universe_median!G42 -> 16.700721 | H42: =universe_median!H42 -> 24.66103 | I42: =universe_median!I42 -> 0 | J42: =universe_median!J42 -> 57.922569
A43: =universe_median!A43 -> Lubelskie (PL81) | B43: =LEFT(universe_median!B43,FIND(")",universe_median!B43)) -> Medium and Large (20+) | C43: =universe_median!C43 -> 0 | D43: =universe_median!D43 -> 0 | E43: =universe_median!E43 -> 13.895372 | F43: =universe_median!F43 -> 0 | G43: =universe_median!G43 -> 0 | H43: =universe_median!H43 -> 0 | I43: =universe_median!I43 -> 0 | J43: =universe_median!J43 -> 0
A44: =universe_median!A44 -> Podkarpackie (PL82) | B44: =LEFT(universe_median!B44,FIND(")",universe_median!B44)) -> Small (5-19) | C44: =universe_median!C44 -> 507.13779 | D44: =universe_median!D44 -> 1513.7535 | E44: =universe_median!E44 -> 56.739449 | F44: =universe_median!F44 -> 5485.7216 | G44: =universe_median!G44 -> 7076.8486 | H44: =universe_median!H44 -> 11381.189 | I44: =universe_median!I44 -> 0 | J44: =universe_median!J44 -> 15861.186 | K44: =SUM(C44:J46) -> 44636.543
A45: =universe_median!A45 -> Podkarpackie (PL82) | B45: =LEFT(universe_median!B45,FIND(")",universe_median!B45)) -> Medium (20-99) | C45: =universe_median!C45 -> 188.95197 | D45: =universe_median!D45 -> 145.8429 | E45: =universe_median!E45 -> 17.340868 | F45: =universe_median!F45 -> 619.17324 | G45: =universe_median!G45 -> 401.17935 | H45: =universe_median!H45 -> 366.46946 | I45: =universe_median!I45 -> 0 | J45: =universe_median!J45 -> 656.32062
A46: =universe_median!A46 -> Podkarpackie (PL82) | B46: =LEFT(universe_median!B46,FIND(")",universe_median!B46)) -> Large (100 or more) | C46: =universe_median!C46 -> 21.735703 | D46: =universe_median!D46 -> 35.187171 | E46: =universe_median!E46 -> 6.8955059 | F46: =universe_median!F46 -> 158.36292 | G46: =universe_median!G46 -> 36.703175 | H46: =universe_median!H46 -> 32.719884 | I46: =universe_median!I46 -> 0 | J46: =universe_median!J46 -> 67.083734
A47: =universe_median!A47 -> Podlaskie (PL84) | B47: =LEFT(universe_median!B47,FIND(")",universe_median!B47)) -> Small (5-19) | C47: =universe_median!C47 -> 261.05179 | D47: =universe_median!D47 -> 460.28085 | E47: =universe_median!E47 -> 16.543621 | F47: =universe_median!F47 -> 3300.6401 | G47: =universe_median!G47 -> 5208.2793 | H47: =universe_median!H47 -> 5883.3677 | I47: =universe_median!I47 -> 0 | J47: =universe_median!J47 -> 8247.6641 | K47: =SUM(C47:J50) -> 24657.03
A48: =universe_median!A48 -> Podlaskie (PL84) | B48: =LEFT(universe_median!B48,FIND(")",universe_median!B48)) -> Medium (20-99) | C48: =universe_median!C48 -> 104.77519 | D48: =universe_median!D48 -> 45.86823 | E48: =universe_median!E48 -> 5.688121 | F48: =universe_median!F48 -> 256.35745 | G48: =universe_median!G48 -> 170.84151 | H48: =universe_median!H48 -> 176.60593 | I48: =universe_median!I48 -> 0 | J48: =universe_median!J48 -> 365.57535
A49: =universe_median!A49 -> Podlaskie (PL84) | B49: =LEFT(universe_median!B49,FIND(")",universe_median!B49)) -> Large (100 or more) | C49: =universe_median!C49 -> 24.645898 | D49: =universe_median!D49 -> 7.5236955 | E49: =universe_median!E49 -> 1.2063209 | F49: =universe_median!F49 -> 49.619984 | G49: =universe_median!G49 -> 19.514698 | H49: =universe_median!H49 -> 15.900322 | I49: =universe_median!I49 -> 0 | J49: =universe_median!J49 -> 35.079937
A50: =universe_median!A50 -> Podlaskie (PL84) | B50: =LEFT(universe_median!B50,FIND(")",universe_median!B50)) -> Medium and Large (20+) | C50: =universe_median!C50 -> 0 | D50: =universe_median!D50 -> 0 | E50: =universe_median!E50 -> 0 | F50: =universe_median!F50 -> 0 | G50: =universe_median!G50 -> 0 | H50: =universe_median!H50 -> 0 | I50: =universe_median!I50 -> 0 | J50: =universe_median!J50 -> 0
A51: =universe_median!A51 -> Region Warszawski Stołeczny (PL91) | B51: =LEFT(universe_median!B51,FIND(")",universe_median!B51)) -> Small (5-19) | C51: =universe_median!C51 -> 1226.242 | D51: =universe_median!D51 -> 1589.2588 | E51: =universe_median!E51 -> 122.51472 | F51: =universe_median!F51 -> 12333.269 | G51: =universe_median!G51 -> 18502.607 | H51: =universe_median!H51 -> 20627.341 | I51: =universe_median!I51 -> 0 | J51: =universe_median!J51 -> 58196.408 | K51: =SUM(C51:J54) -> 119335.79
A52: =universe_median!A52 -> Region Warszawski Stołeczny (PL91) | B52: =LEFT(universe_median!B52,FIND(")",universe_median!B52)) -> Medium (20-99) | C52: =universe_median!C52 -> 242.3917 | D52: =universe_median!D52 -> 162.46714 | E52: =universe_median!E52 -> 0 | F52: =universe_median!F52 -> 1082.0908 | G52: =universe_median!G52 -> 719.13602 | H52: =universe_median!H52 -> 935.25749 | I52: =universe_median!I52 -> 0 | J52: =universe_median!J52 -> 2540.2541
A53: =universe_median!A53 -> Region Warszawski Stołeczny (PL91) | B53: =LEFT(universe_median!B53,FIND(")",universe_median!B53)) -> Large (100 or more) | C53: =universe_median!C53 -> 73.050287 | D53: =universe_median!D53 -> 28.907646 | E53: =universe_median!E53 -> 0 | F53: =universe_median!F53 -> 223.46087 | G53: =universe_median!G53 -> 113.67881 | H53: =universe_median!H53 -> 115.46471 | I53: =universe_median!I53 -> 0 | J53: =universe_median!J53 -> 474.19678
A54: =universe_median!A54 -> Region Warszawski Stołeczny (PL91) | B54: =LEFT(universe_median!B54,FIND(")",universe_median!B54)) -> Medium and Large (20+) | C54: =universe_median!C54 -> 0 | D54: =universe_median!D54 -> 0 | E54: =universe_median!E54 -> 27.796423 | F54: =universe_median!F54 -> 0 | G54: =universe_median!G54 -> 0 | H54: =universe_median!H54 -> 0 | I54: =universe_median!I54 -> 0 | J54: =universe_median!J54 -> 0
A55: =universe_median!A55 -> Region Mazowiecki Regionalny (PL92) | B55: =LEFT(universe_median!B55,FIND(")",universe_median!B55)) -> Small (5-19) | C55: =universe_median!C55 -> 593.3812 | D55: =universe_median!D55 -> 1584.9968 | E55: =universe_median!E55 -> 27.395 | F55: =universe_median!F55 -> 7560.9336 | G55: =universe_median!G55 -> 8876.176 | H55: =universe_median!H55 -> 12575.736 | I55: =universe_median!I55 -> 0 | J55: =universe_median!J55 -> 17555.875 | K55: =SUM(C55:J58) -> 51643.022
A56: =universe_median!A56 -> Region Mazowiecki Regionalny (PL92) | B56: =LEFT(universe_median!B56,FIND(")",universe_median!B56)) -> Medium (20-99) | C56: =universe_median!C56 -> 240.15463 | D56: =universe_median!D56 -> 140.89938 | E56: =universe_median!E56 -> 0 | F56: =universe_median!F56 -> 617.56687 | G56: =universe_median!G56 -> 327.80052 | H56: =universe_median!H56 -> 407.61681 | I56: =universe_median!I56 -> 0 | J56: =universe_median!J56 -> 799.29721
A57: =universe_median!A57 -> Region Mazowiecki Regionalny (PL92) | B57: =LEFT(universe_median!B57,FIND(")",universe_median!B57)) -> Large (100 or more) | C57: =universe_median!C57 -> 55.375002 | D57: =universe_median!D57 -> 37.35194 | E57: =universe_median!E57 -> 0 | F57: =universe_median!F57 -> 110.64864 | G57: =universe_median!G57 -> 23.376726 | H57: =universe_median!H57 -> 31.259577 | I57: =universe_median!I57 -> 0 | J57: =universe_median!J57 -> 64.786371
A58: =universe_median!A58 -> Region Mazowiecki Regionalny (PL92) | B58: =LEFT(universe_median!B58,FIND(")",universe_median!B58)) -> Medium and Large (20+) | C58: =universe_median!C58 -> 0 | D58: =universe_median!D58 -> 0 | E58: =universe_median!E58 -> 12.394581 | F58: =universe_median!F58 -> 0 | G58: =universe_median!G58 -> 0 | H58: =universe_median!H58 -> 0 | I58: =universe_median!I58 -> 0 | J58: =universe_median!J58 -> 0
C59: =SUM(C2:C58) -> 15698.025 | D59: =SUM(D2:D58) -> 32028.606 | E59: =SUM(E2:E58) -> 1328.8966 | F59: =SUM(F2:F58) -> 155074.05 | G59: =SUM(G2:G58) -> 177289.32 | H59: =SUM(H2:H58) -> 252059.8 | I59: =SUM(I2:I58) -> 0 | J59: =SUM(J2:J58) -> 393494.6 | K59: =SUM(K2:K58) -> 1026973.3

Sheet Table 10 Strict Universe Est
C1: =RIGHT(SUBSTITUTE(universe_strict!C1,"_"," "),LEN(SUBSTITUTE(universe_strict!C1,"_"," "))-1) -> Food | D1: =RIGHT(SUBSTITUTE(universe_strict!D1,"_"," "),LEN(SUBSTITUTE(universe_strict!D1,"_"," "))-1) -> Fabricated Metal Products | E1: =RIGHT(SUBSTITUTE(universe_strict!E1,"_"," "),LEN(SUBSTITUTE(universe_strict!E1,"_"," "))-1) -> Motor Vehicles | F1: =RIGHT(SUBSTITUTE(universe_strict!F1,"_"," "),LEN(SUBSTITUTE(universe_strict!F1,"_"," "))-1) -> Other Manufacturing | G1: =RIGHT(SUBSTITUTE(universe_strict!G1,"_"," "),LEN(SUBSTITUTE(universe_strict!G1,"_"," "))-1) -> Retail | H1: =RIGHT(SUBSTITUTE(universe_strict!H1,"_"," "),LEN(SUBSTITUTE(universe_strict!H1,"_"," "))-1) -> Construction | I1: =RIGHT(SUBSTITUTE(universe_strict!I1,"_"," "),LEN(SUBSTITUTE(universe_strict!I1,"_"," "))-1) -> Professional Activities | J1: =RIGHT(SUBSTITUTE(universe_strict!J1,"_"," "),LEN(SUBSTITUTE(universe_strict!J1,"_"," "))-1) -> Other services | K1: =RIGHT(SUBSTITUTE(universe_strict!K1,"_"," "),LEN(SUBSTITUTE(universe_strict!K1,"_"," "))-1) -> Grand Total
A2: =universe_strict!A2 -> Małopolskie (PL21) | B2: =LEFT(universe_strict!B2,FIND(")",universe_strict!B2)) -> Small (5-19) | C2: =universe_strict!C2 -> 379.3295 | D2: =universe_strict!D2 -> 786.65692 | E2: =universe_strict!E2 -> 24.131973 | F2: =universe_strict!F2 -> 4824.4108 | G2: =universe_strict!G2 -> 5675.4536 | H2: =universe_strict!H2 -> 9663.9752 | I2: =universe_strict!I2 -> 0 | J2: =universe_strict!J2 -> 14605.622 | K2: =SUM(C2:J4) -> 38354.237
A3: =universe_strict!A3 -> Małopolskie (PL21) | B3: =LEFT(universe_strict!B3,FIND(")",universe_strict!B3)) -> Medium (20-99) | C3: =universe_strict!C3 -> 140.14719 | D3: =universe_strict!D3 -> 79.796328 | E3: =universe_strict!E3 -> 4.4086454 | F3: =universe_strict!F3 -> 427.22016 | G3: =universe_strict!G3 -> 329.79893 | H3: =universe_strict!H3 -> 365.01178 | I3: =universe_strict!I3 -> 0 | J3: =universe_strict!J3 -> 726.17271
A4: =universe_strict!A4 -> Małopolskie (PL21) | B4: =LEFT(universe_strict!B4,FIND(")",universe_strict!B4)) -> Large (100 or more) | C4: =universe_strict!C4 -> 27.89474 | D4: =universe_strict!D4 -> 21.941556 | E4: =universe_strict!E4 -> 4 | F4: =universe_strict!F4 -> 104.29141 | G4: =universe_strict!G4 -> 31.937253 | H4: =universe_strict!H4 -> 36.081101 | I4: =universe_strict!I4 -> 0 | J4: =universe_strict!J4 -> 95.955215
A5: =universe_strict!A5 -> Śląskie (PL22) | B5: =LEFT(universe_strict!B5,FIND(")",universe_strict!B5)) -> Small (5-19) | C5: =universe_strict!C5 -> 402.53607 | D5: =universe_strict!D5 -> 1239.4839 | E5: =universe_strict!E5 -> 35.895023 | F5: =universe_strict!F5 -> 5168.0903 | G5: =universe_strict!G5 -> 7150.6018 | H5: =universe_strict!H5 -> 8367.077 | I5: =universe_strict!I5 -> 0 | J5: =universe_strict!J5 -> 16480.304 | K5: =SUM(C5:J7) -> 42141.707
A6: =universe_strict!A6 -> Śląskie (PL22) | B6: =LEFT(universe_strict!B6,FIND(")",universe_strict!B6)) -> Medium (20-99) | C6: =universe_strict!C6 -> 182.56941 | D6: =universe_strict!D6 -> 154.95019 | E6: =universe_strict!E6 -> 15.080001 | F6: =universe_strict!F6 -> 609.28695 | G6: =universe_strict!G6 -> 425.70966 | H6: =universe_strict!H6 -> 488.89674 | I6: =universe_strict!I6 -> 0 | J6: =universe_strict!J6 -> 995.50092
A7: =universe_strict!A7 -> Śląskie (PL22) | B7: =LEFT(universe_strict!B7,FIND(")",universe_strict!B7)) -> Large (100 or more) | C7: =universe_strict!C7 -> 34.926596 | D7: =universe_strict!D7 -> 31.033184 | E7: =universe_strict!E7 -> 19.574813 | F7: =universe_strict!F7 -> 150.57967 | G7: =universe_strict!G7 -> 23.06334 | H7: =universe_strict!H7 -> 44.578815 | I7: =universe_strict!I7 -> 0 | J7: =universe_strict!J7 -> 121.96856
A8: =universe_strict!A8 -> Wielkopolskie (PL41) | B8: =LEFT(universe_strict!B8,FIND(")",universe_strict!B8)) -> Small (5-19) | C8: =universe_strict!C8 -> 474.07795 | D8: =universe_strict!D8 -> 1091.9904 | E8: =universe_strict!E8 -> 42.745335 | F8: =universe_strict!F8 -> 6383.0655 | G8: =universe_strict!G8 -> 6571.6547 | H8: =universe_strict!H8 -> 10677.038 | I8: =universe_strict!I8 -> 0 | J8: =universe_strict!J8 -> 17562.829 | K8: =SUM(C8:J10) -> 46346.506
A9: =universe_strict!A9 -> Wielkopolskie (PL41) | B9: =LEFT(universe_strict!B9,FIND(")",universe_strict!B9)) -> Medium (20-99) | C9: =universe_strict!C9 -> 192.3783 | D9: =universe_strict!D9 -> 169.41246 | E9: =universe_strict!E9 -> 10.774747 | F9: =universe_strict!F9 -> 779.35063 | G9: =universe_strict!G9 -> 400.08395 | H9: =universe_strict!H9 -> 436.22992 | I9: =universe_strict!I9 -> 0 | J9: =universe_strict!J9 -> 1030.0364
A10: =universe_strict!A10 -> Wielkopolskie (PL41) | B10: =LEFT(universe_strict!B10,FIND(")",universe_strict!B10)) -> Large (100 or more) | C10: =universe_strict!C10 -> 57.505583 | D10: =universe_strict!D10 -> 30.852881 | E10: =universe_strict!E10 -> 11.363882 | F10: =universe_strict!F10 -> 223.47968 | G10: =universe_strict!G10 -> 37.09534 | H10: =universe_strict!H10 -> 33.621365 | I10: =universe_strict!I10 -> 0 | J10: =universe_strict!J10 -> 130.91982
A11: =universe_strict!A11 -> Zachodniopomorskie (PL42) | B11: =LEFT(universe_strict!B11,FIND(")",universe_strict!B11)) -> Small (5-19) | C11: =universe_strict!C11 -> 135.01146 | D11: =universe_strict!D11 -> 404.20178 | E11: =universe_strict!E11 -> 8.3308554 | F11: =universe_strict!F11 -> 2137.7678 | G11: =universe_strict!G11 -> 2280.4956 | H11: =universe_strict!H11 -> 4212.7627 | I11: =universe_strict!I11 -> 0 | J11: =universe_strict!J11 -> 5617.782 | K11: =SUM(C11:J13) -> 15660.201
A12: =universe_strict!A12 -> Zachodniopomorskie (PL42) | B12: =LEFT(universe_strict!B12,FIND(")",universe_strict!B12)) -> Medium (20-99) | C12: =universe_strict!C12 -> 49.932182 | D12: =universe_strict!D12 -> 31.839085 | E12: =universe_strict!E12 -> 2 | F12: =universe_strict!F12 -> 177.96198 | G12: =universe_strict!G12 -> 104.48735 | H12: =universe_strict!H12 -> 118.55534 | I12: =universe_strict!I12 -> 0 | J12: =universe_strict!J12 -> 276.08714
A13: =universe_strict!A13 -> Zachodniopomorskie (PL42) | B13: =LEFT(universe_strict!B13,FIND(")",universe_strict!B13)) -> Large (100 or more) | C13: =universe_strict!C13 -> 12.029469 | D13: =universe_strict!D13 -> 9.5226755 | E13: =universe_strict!E13 -> 2 | F13: =universe_strict!F13 -> 42.772491 | G13: =universe_strict!G13 -> 2.6363742 | H13: =universe_strict!H13 -> 7.8475499 | I13: =universe_strict!I13 -> 0 | J13: =universe_strict!J13 -> 26.177046
A14: =universe_strict!A14 -> Lubuskie (PL43) | B14: =LEFT(universe_strict!B14,FIND(")",universe_strict!B14)) -> Small (5-19) | C14: =universe_strict!C14 -> 112.15999 | D14: =universe_strict!D14 -> 302.82188 | E14: =universe_strict!E14 -> 8.9901237 | F14: =universe_strict!F14 -> 1738.1609 | G14: =universe_strict!G14 -> 2136.6606 | H14: =universe_strict!H14 -> 3420.5449 | I14: =universe_strict!I14 -> 0 | J14: =universe_strict!J14 -> 4736.9462 | K14: =SUM(C14:J17) -> 13354.144
A15: =universe_strict!A15 -> Lubuskie (PL43) | B15: =LEFT(universe_strict!B15,FIND(")",universe_strict!B15)) -> Medium (20-99) | C15: =universe_strict!C15 -> 50.923967 | D15: =universe_strict!D15 -> 40.071993 | E15: =universe_strict!E15 -> 3.2941518 | F15: =universe_strict!F15 -> 191.33638 | G15: =universe_strict!G15 -> 113.64137 | H15: =universe_strict!H15 -> 117.48517 | I15: =universe_strict!I15 -> 0 | J15: =universe_strict!J15 -> 256.42826
A16: =universe_strict!A16 -> Lubuskie (PL43) | B16: =LEFT(universe_strict!B16,FIND(")",universe_strict!B16)) -> Large (100 or more) | C16: =universe_strict!C16 -> 8.2326679 | D16: =universe_strict!D16 -> 10.657633 | E16: =universe_strict!E16 -> 2.842582 | F16: =universe_strict!F16 -> 54.473122 | G16: =universe_strict!G16 -> 7.3459511 | H16: =universe_strict!H16 -> 9.206857 | I16: =universe_strict!I16 -> 0 | J16: =universe_strict!J16 -> 31.919028
A17: =universe_strict!A17 -> Lubuskie (PL43) | B17: =LEFT(universe_strict!B17,FIND(")",universe_strict!B17)) -> Medium and Large (20+) | C17: =universe_strict!C17 -> 0 | D17: =universe_strict!D17 -> 0 | E17: =universe_strict!E17 -> 0 | F17: =universe_strict!F17 -> 0 | G17: =universe_strict!G17 -> 0 | H17: =universe_strict!H17 -> 0 | I17: =universe_strict!I17 -> 0 | J17: =universe_strict!J17 -> 0
A18: =universe_strict!A18 -> Dolnośląskie (PL51) | B18: =LEFT(universe_strict!B18,FIND(")",universe_strict!B18)) -> Small (5-19) | C18: =universe_strict!C18 -> 185.07106 | D18: =universe_strict!D18 -> 493.93138 | E18: =universe_strict!E18 -> 18.875576 | F18: =universe_strict!F18 -> 2701.5254 | G18: =universe_strict!G18 -> 4125.3286 | H18: =universe_strict!H18 -> 5830.3174 | I18: =universe_strict!I18 -> 0 | J18: =universe_strict!J18 -> 9120.5575 | K18: =SUM(C18:J20) -> 23814.775
A19: =universe_strict!A19 -> Dolnośląskie (PL51) | B19: =LEFT(universe_strict!B19,FIND(")",universe_strict!B19)) -> Medium (20-99) | C19: =universe_strict!C19 -> 66.567089 | D19: =universe_strict!D19 -> 59.118027 | E19: =universe_strict!E19 -> 5.1160316 | F19: =universe_strict!F19 -> 243.83267 | G19: =universe_strict!G19 -> 146.84799 | H19: =universe_strict!H19 -> 206.98647 | I19: =universe_strict!I19 -> 0 | J19: =universe_strict!J19 -> 421.37854
A20: =universe_strict!A20 -> Dolnośląskie (PL51) | B20: =LEFT(universe_strict!B20,FIND(")",universe_strict!B20)) -> Large (100 or more) | C20: =universe_strict!C20 -> 7.3901894 | D20: =universe_strict!D20 -> 17.319567 | E20: =universe_strict!E20 -> 9.4890995 | F20: =universe_strict!F20 -> 75.362328 | G20: =universe_strict!G20 -> 12.754597 | H20: =universe_strict!H20 -> 14.915176 | I20: =universe_strict!I20 -> 0 | J20: =universe_strict!J20 -> 52.09021
A21: =universe_strict!A21 -> Opolskie (PL52) | B21: =LEFT(universe_strict!B21,FIND(")",universe_strict!B21)) -> Small (5-19) | C21: =universe_strict!C21 -> 83.031189 | D21: =universe_strict!D21 -> 209.35308 | E21: =universe_strict!E21 -> 3.2293904 | F21: =universe_strict!F21 -> 1098.4698 | G21: =universe_strict!G21 -> 980.76025 | H21: =universe_strict!H21 -> 1785.2454 | I21: =universe_strict!I21 -> 0 | J21: =universe_strict!J21 -> 2311.2063 | K21: =SUM(C21:J23) -> 6986.9929
A22: =universe_strict!A22 -> Opolskie (PL52) | B22: =LEFT(universe_strict!B22,FIND(")",universe_strict!B22)) -> Medium (20-99) | C22: =universe_strict!C22 -> 30.996443 | D22: =universe_strict!D22 -> 27.662426 | E22: =universe_strict!E22 -> 3 | F22: =universe_strict!F22 -> 107.80501 | G22: =universe_strict!G22 -> 66.518715 | H22: =universe_strict!H22 -> 76.920124 | I22: =universe_strict!I22 -> 0 | J22: =universe_strict!J22 -> 136.68983
A23: =universe_strict!A23 -> Opolskie (PL52) | B23: =LEFT(universe_strict!B23,FIND(")",universe_strict!B23)) -> Large (100 or more) | C23: =universe_strict!C23 -> 4.4460096 | D23: =universe_strict!D23 -> 6.3743556 | E23: =universe_strict!E23 -> 1.8963269 | F23: =universe_strict!F23 -> 30.283161 | G23: =universe_strict!G23 -> 2 | H23: =universe_strict!H23 -> 6.1420255 | I23: =universe_strict!I23 -> 0 | J23: =universe_strict!J23 -> 14.963096
A24: =universe_strict!A24 -> Kujawsko-Pomorskie (PL61) | B24: =LEFT(universe_strict!B24,FIND(")",universe_strict!B24)) -> Small (5-19) | C24: =universe_strict!C24 -> 133.53206 | D24: =universe_strict!D24 -> 375.20242 | E24: =universe_strict!E24 -> 9.5216832 | F24: =universe_strict!F24 -> 1819.5269 | G24: =universe_strict!G24 -> 2287.2966 | H24: =universe_strict!H24 -> 3266.1458 | I24: =universe_strict!I24 -> 0 | J24: =universe_strict!J24 -> 5124.7482 | K24: =SUM(C24:J26) -> 14072.936
A25: =universe_strict!A25 -> Kujawsko-Pomorskie (PL61) | B25: =LEFT(universe_strict!B25,FIND(")",universe_strict!B25)) -> Medium (20-99) | C25: =universe_strict!C25 -> 57.290089 | D25: =universe_strict!D25 -> 47.905548 | E25: =universe_strict!E25 -> 4.2463574 | F25: =universe_strict!F25 -> 234.473 | G25: =universe_strict!G25 -> 127.01321 | H25: =universe_strict!H25 -> 146.87898 | I25: =universe_strict!I25 -> 0 | J25: =universe_strict!J25 -> 291.97435
A26: =universe_strict!A26 -> Kujawsko-Pomorskie (PL61) | B26: =LEFT(universe_strict!B26,FIND(")",universe_strict!B26)) -> Large (100 or more) | C26: =universe_strict!C26 -> 17.401697 | D26: =universe_strict!D26 -> 12.234728 | E26: =universe_strict!E26 -> 1.168314 | F26: =universe_strict!F26 -> 65.130754 | G26: =universe_strict!G26 -> 7.6274996 | H26: =universe_strict!H26 -> 12.7712 | I26: =universe_strict!I26 -> 0 | J26: =universe_strict!J26 -> 30.847057
A27: =universe_strict!A27 -> Warmińsko-Mazurskie (PL62) | B27: =LEFT(universe_strict!B27,FIND(")",universe_strict!B27)) -> Small (5-19) | C27: =universe_strict!C27 -> 109.45438 | D27: =universe_strict!D27 -> 368.43909 | E27: =universe_strict!E27 -> 5.337923 | F27: =universe_strict!F27 -> 2083.4084 | G27: =universe_strict!G27 -> 2167.5436 | H27: =universe_strict!H27 -> 3382.2535 | I27: =universe_strict!I27 -> 0 | J27: =universe_strict!J27 -> 4462.2748 | K27: =SUM(C27:J29) -> 13510.224
A28: =universe_strict!A28 -> Warmińsko-Mazurskie (PL62) | B28: =LEFT(universe_strict!B28,FIND(")",universe_strict!B28)) -> Medium (20-99) | C28: =universe_strict!C28 -> 46.135759 | D28: =universe_strict!D28 -> 29.048042 | E28: =universe_strict!E28 -> 1.1095378 | F28: =universe_strict!F28 -> 221.44258 | G28: =universe_strict!G28 -> 141.25354 | H28: =universe_strict!H28 -> 123.64536 | I28: =universe_strict!I28 -> 0 | J28: =universe_strict!J28 -> 241.6853
A29: =universe_strict!A29 -> Warmińsko-Mazurskie (PL62) | B29: =LEFT(universe_strict!B29,FIND(")",universe_strict!B29)) -> Large (100 or more) | C29: =universe_strict!C29 -> 12.709269 | D29: =universe_strict!D29 -> 10.552507 | E29: =universe_strict!E29 -> 1 | F29: =universe_strict!F29 -> 67.274772 | G29: =universe_strict!G29 -> 5.7298813 | H29: =universe_strict!H29 -> 9.9492295 | I29: =universe_strict!I29 -> 0 | J29: =universe_strict!J29 -> 19.976489
A30: =universe_strict!A30 -> Pomorskie (PL63) | B30: =LEFT(universe_strict!B30,FIND(")",universe_strict!B30)) -> Small (5-19) | C30: =universe_strict!C30 -> 127.53537 | D30: =universe_strict!D30 -> 746.6344 | E30: =universe_strict!E30 -> 11.063377 | F30: =universe_strict!F30 -> 2595.2986 | G30: =universe_strict!G30 -> 2444.7268 | H30: =universe_strict!H30 -> 4479.0007 | I30: =universe_strict!I30 -> 0 | J30: =universe_strict!J30 -> 6801.8194 | K30: =SUM(C30:J32) -> 18326.407
A31: =universe_strict!A31 -> Pomorskie (PL63) | B31: =LEFT(universe_strict!B31,FIND(")",universe_strict!B31)) -> Medium (20-99) | C31: =universe_strict!C31 -> 53.929308 | D31: =universe_strict!D31 -> 44.211815 | E31: =universe_strict!E31 -> 2.4780471 | F31: =universe_strict!F31 -> 221.03247 | G31: =universe_strict!G31 -> 140.34653 | H31: =universe_strict!H31 -> 161.92782 | I31: =universe_strict!I31 -> 0 | J31: =universe_strict!J31 -> 339.77444
A32: =universe_strict!A32 -> Pomorskie (PL63) | B32: =LEFT(universe_strict!B32,FIND(")",universe_strict!B32)) -> Large (100 or more) | C32: =universe_strict!C32 -> 13.841039 | D32: =universe_strict!D32 -> 14.596968 | E32: =universe_strict!E32 -> 1.5681242 | F32: =universe_strict!F32 -> 57.368865 | G32: =universe_strict!G32 -> 9.8111439 | H32: =universe_strict!H32 -> 13.755644 | I32: =universe_strict!I32 -> 0 | J32: =universe_strict!J32 -> 45.686363
A33: =universe_strict!A33 -> Łódzkie (PL71) | B33: =LEFT(universe_strict!B33,FIND(")",universe_strict!B33)) -> Small (5-19) | C33: =universe_strict!C33 -> 357.18711 | D33: =universe_strict!D33 -> 642.97302 | E33: =universe_strict!E33 -> 25.173674 | F33: =universe_strict!F33 -> 5188.8043 | G33: =universe_strict!G33 -> 5853.1494 | H33: =universe_strict!H33 -> 6164.2988 | I33: =universe_strict!I33 -> 0 | J33: =universe_strict!J33 -> 12039.75 | K33: =SUM(C33:J35) -> 32804.447
A34: =universe_strict!A34 -> Łódzkie (PL71) | B34: =LEFT(universe_strict!B34,FIND(")",universe_strict!B34)) -> Medium (20-99) | C34: =universe_strict!C34 -> 168.34003 | D34: =universe_strict!D34 -> 71.256073 | E34: =universe_strict!E34 -> 7.6949801 | F34: =universe_strict!F34 -> 766.20992 | G34: =universe_strict!G34 -> 254.32855 | H34: =universe_strict!H34 -> 285.06046 | I34: =universe_strict!I34 -> 0 | J34: =universe_strict!J34 -> 677.38254
A35: =universe_strict!A35 -> Łódzkie (PL71) | B35: =LEFT(universe_strict!B35,FIND(")",universe_strict!B35)) -> Large (100 or more) | C35: =universe_strict!C35 -> 36.935952 | D35: =universe_strict!D35 -> 11.410538 | E35: =universe_strict!E35 -> 5.4104805 | F35: =universe_strict!F35 -> 144.03607 | G35: =universe_strict!G35 -> 18.213459 | H35: =universe_strict!H35 -> 22.178862 | I35: =universe_strict!I35 -> 0 | J35: =universe_strict!J35 -> 64.653397
