Workbook

Sheet Table 1 Universe
C1: =RIGHT(SUBSTITUTE(universe!C1,"_"," "),LEN(SUBSTITUTE(universe!C1,"_"," "))-1) -> Food | D1: =RIGHT(SUBSTITUTE(universe!D1,"_"," "),LEN(SUBSTITUTE(universe!D1,"_"," "))-1) -> Fabricated Metal Products | E1: =RIGHT(SUBSTITUTE(universe!E1,"_"," "),LEN(SUBSTITUTE(universe!E1,"_"," "))-1) -> Motor Vehicles | F1: =RIGHT(SUBSTITUTE(universe!F1,"_"," "),LEN(SUBSTITUTE(universe!F1,"_"," "))-1) -> Other Manufacturing | G1: =RIGHT(SUBSTITUTE(universe!G1,"_"," "),LEN(SUBSTITUTE(universe!G1,"_"," "))-1) -> Retail | H1: =RIGHT(SUBSTITUTE(universe!H1,"_"," "),LEN(SUBSTITUTE(universe!H1,"_"," "))-1) -> Construction | I1: =RIGHT(SUBSTITUTE(universe!I1,"_"," "),LEN(SUBSTITUTE(universe!I1,"_"," "))-1) -> Professional Activities | J1: =RIGHT(SUBSTITUTE(universe!J1,"_"," "),LEN(SUBSTITUTE(universe!J1,"_"," "))-1) -> Other services | K1: =RIGHT(SUBSTITUTE(universe!K1,"_"," "),LEN(SUBSTITUTE(universe!K1,"_"," "))-1) -> Grand Total
A2: =universe!A2 -> Małopolskie (PL21) | B2: =LEFT(universe!B2,FIND(")",universe!B2)) -> Small (5-19) | C2: =universe!C2 -> 1621 | D2: =universe!D2 -> 3586 | E2: =universe!E2 -> 128 | F2: =universe!F2 -> 19585 | G2: =universe!G2 -> 24592 | H2: =universe!H2 -> 42203 | I2: =universe!I2 -> 25737 | J2: =universe!J2 -> 56727 | K2: =SUM(C2:J4) -> 182262
A3: =universe!A3 -> Małopolskie (PL21) | B3: =LEFT(universe!B3,FIND(")",universe!B3)) -> Medium (20-99) | C3: =universe!C3 -> 461 | D3: =universe!D3 -> 280 | E3: =universe!E3 -> 18 | F3: =universe!F3 -> 1335 | G3: =universe!G3 -> 1100 | H3: =universe!H3 -> 1227 | I3: =universe!I3 -> 449 | J3: =universe!J3 -> 2171
A4: =universe!A4 -> Małopolskie (PL21) | B4: =LEFT(universe!B4,FIND(")",universe!B4)) -> Large (100-199) | C4: =universe!C4 -> 87 | D4: =universe!D4 -> 73 | E4: =universe!E4 -> 12 | F4: =universe!F4 -> 309 | G4: =universe!G4 -> 101 | H4: =universe!H4 -> 115 | I4: =universe!I4 -> 73 | J4: =universe!J4 -> 272
A5: =universe!A5 -> Śląskie (PL22) | B5: =LEFT(universe!B5,FIND(")",universe!B5)) -> Small (5-19) | C5: =universe!C5 -> 1816 | D5: =universe!D5 -> 5965 | E5: =universe!E5 -> 201 | F5: =universe!F5 -> 22149 | G5: =universe!G5 -> 32710 | H5: =universe!H5 -> 38575 | I5: =universe!I5 -> 28592 | J5: =universe!J5 -> 67574 | K5: =SUM(C5:J7) -> 209301
A6: =universe!A6 -> Śląskie (PL22) | B6: =LEFT(universe!B6,FIND(")",universe!B6)) -> Medium (20-99) | C6: =universe!C6 -> 634 | D6: =universe!D6 -> 574 | E6: =universe!E6 -> 65 | F6: =universe!F6 -> 2010 | G6: =universe!G6 -> 1499 | H6: =universe!H6 -> 1735 | I6: =universe!I6 -> 613 | J6: =universe!J6 -> 3142
A7: =universe!A7 -> Śląskie (PL22) | B7: =LEFT(universe!B7,FIND(")",universe!B7)) -> Large (100-199) | C7: =universe!C7 -> 115 | D7: =universe!D7 -> 109 | E7: =universe!E7 -> 80 | F7: =universe!F7 -> 471 | G7: =universe!G7 -> 77 | H7: =universe!H7 -> 150 | I7: =universe!I7 -> 80 | J7: =universe!J7 -> 365
A8: =universe!A8 -> Wielkopolskie (PL41) | B8: =LEFT(universe!B8,FIND(")",universe!B8)) -> Small (5-19) | C8: =universe!C8 -> 1796 | D8: =universe!D8 -> 4413 | E8: =universe!E8 -> 201 | F8: =universe!F8 -> 22972 | G8: =universe!G8 -> 25244 | H8: =universe!H8 -> 41336 | I8: =universe!I8 -> 26472 | J8: =universe!J8 -> 60472 | K8: =SUM(C8:J10) -> 193344
A9: =universe!A9 -> Wielkopolskie (PL41) | B9: =LEFT(universe!B9,FIND(")",universe!B9)) -> Medium (20-99) | C9: =universe!C9 -> 561 | D9: =universe!D9 -> 527 | E9: =universe!E9 -> 39 | F9: =universe!F9 -> 2159 | G9: =universe!G9 -> 1183 | H9: =universe!H9 -> 1300 | I9: =universe!I9 -> 480 | J9: =universe!J9 -> 2730
A10: =universe!A10 -> Wielkopolskie (PL41) | B10: =LEFT(universe!B10,FIND(")",universe!B10)) -> Large (100-199) | C10: =universe!C10 -> 159 | D10: =universe!D10 -> 91 | E10: =universe!E10 -> 39 | F10: =universe!F10 -> 587 | G10: =universe!G10 -> 104 | H10: =universe!H10 -> 95 | I10: =universe!I10 -> 55 | J10: =universe!J10 -> 329
A11: =universe!A11 -> Zachodniopomorskie (PL42) | B11: =LEFT(universe!B11,FIND(")",universe!B11)) -> Small (5-19) | C11: =universe!C11 -> 692 | D11: =universe!D11 -> 2210 | E11: =universe!E11 -> 53 | F11: =universe!F11 -> 10409 | G11: =universe!G11 -> 11852 | H11: =universe!H11 -> 22066 | I11: =universe!I11 -> 10158 | J11: =universe!J11 -> 26170 | K11: =SUM(C11:J13) -> 87013
A12: =universe!A12 -> Zachodniopomorskie (PL42) | B12: =LEFT(universe!B12,FIND(")",universe!B12)) -> Medium (20-99) | C12: =universe!C12 -> 197 | D12: =universe!D12 -> 134 | E12: =universe!E12 -> 8 | F12: =universe!F12 -> 667 | G12: =universe!G12 -> 418 | H12: =universe!H12 -> 478 | I12: =universe!I12 -> 133 | J12: =universe!J12 -> 990
A13: =universe!A13 -> Zachodniopomorskie (PL42) | B13: =LEFT(universe!B13,FIND(")",universe!B13)) -> Large (100-199) | C13: =universe!C13 -> 45 | D13: =universe!D13 -> 38 | E13: =universe!E13 -> 7 | F13: =universe!F13 -> 152 | G13: =universe!G13 -> 10 | H13: =universe!H13 -> 30 | I13: =universe!I13 -> 7 | J13: =universe!J13 -> 89
A14: =universe!A14 -> Lubuskie (PL43) | B14: =LEFT(universe!B14,FIND(")",universe!B14)) -> Small (5-19) | C14: =universe!C14 -> 392 | D14: =universe!D14 -> 1129 | E14: =universe!E14 -> 39 | F14: =universe!F14 -> 5771 | G14: =universe!G14 -> 7572 | H14: =universe!H14 -> 12217 | I14: =universe!I14 -> 4931 | J14: =universe!J14 -> 15047 | K14: =SUM(C14:J16) -> 49501
A15: =universe!A15 -> Lubuskie (PL43) | B15: =LEFT(universe!B15,FIND(")",universe!B15)) -> Medium (20-99) | C15: =universe!C15 -> 137 | D15: =universe!D15 -> 115 | E15: =universe!E15 -> 11 | F15: =universe!F15 -> 489 | G15: =universe!G15 -> 310 | H15: =universe!H15 -> 323 | I15: =universe!I15 -> 78 | J15: =universe!J15 -> 627
A16: =universe!A16 -> Lubuskie (PL43) | B16: =LEFT(universe!B16,FIND(")",universe!B16)) -> Large (100-199) | C16: =universe!C16 -> 21 | D16: =universe!D16 -> 29 | E16: =universe!E16 -> 9 | F16: =universe!F16 -> 132 | G16: =universe!G16 -> 19 | H16: =universe!H16 -> 24 | I16: =universe!I16 -> 5 | J16: =universe!J16 -> 74
A17: =universe!A17 -> Dolnośląskie (PL51) | B17: =LEFT(universe!B17,FIND(")",universe!B17)) -> Small (5-19) | C17: =universe!C17 -> 1098 | D17: =universe!D17 -> 3126 | E17: =universe!E17 -> 139 | F17: =universe!F17 -> 15226 | G17: =universe!G17 -> 24817 | H17: =universe!H17 -> 35349 | I17: =universe!I17 -> 23658 | J17: =universe!J17 -> 49180 | K17: =SUM(C17:J19) -> 158975
A18: =universe!A18 -> Dolnośląskie (PL51) | B18: =LEFT(universe!B18,FIND(")",universe!B18)) -> Medium (20-99) | C18: =universe!C18 -> 304 | D18: =universe!D18 -> 288 | E18: =universe!E18 -> 29 | F18: =universe!F18 -> 1140 | G18: =universe!G18 -> 680 | H18: =universe!H18 -> 966 | I18: =universe!I18 -> 364 | J18: =universe!J18 -> 1749
A19: =universe!A19 -> Dolnośląskie (PL51) | B19: =LEFT(universe!B19,FIND(")",universe!B19)) -> Large (100-199) | C19: =universe!C19 -> 32 | D19: =universe!D19 -> 80 | E19: =universe!E19 -> 51 | F19: =universe!F19 -> 310 | G19: =universe!G19 -> 56 | H19: =universe!H19 -> 66 | I19: =universe!I19 -> 62 | J19: =universe!J19 -> 205
A20: =universe!A20 -> Opolskie (PL52) | B20: =LEFT(universe!B20,FIND(")",universe!B20)) -> Small (5-19) | C20: =universe!C20 -> 435 | D20: =universe!D20 -> 1170 | E20: =universe!E20 -> 21 | F20: =universe!F20 -> 5467 | G20: =universe!G20 -> 5210 | H20: =universe!H20 -> 9558 | I20: =universe!I20 -> 4549 | J20: =universe!J20 -> 11005 | K20: =SUM(C20:J22) -> 39500
A21: =universe!A21 -> Opolskie (PL52) | B21: =LEFT(universe!B21,FIND(")",universe!B21)) -> Medium (20-99) | C21: =universe!C21 -> 125 | D21: =universe!D21 -> 119 | E21: =universe!E21 -> 11 | F21: =universe!F21 -> 413 | G21: =universe!G21 -> 272 | H21: =universe!H21 -> 317 | I21: =universe!I21 -> 73 | J21: =universe!J21 -> 501
A22: =universe!A22 -> Opolskie (PL52) | B22: =LEFT(universe!B22,FIND(")",universe!B22)) -> Large (100-199) | C22: =universe!C22 -> 17 | D22: =universe!D22 -> 26 | E22: =universe!E22 -> 9 | F22: =universe!F22 -> 110 | G22: =universe!G22 -> 6 | H22: =universe!H22 -> 24 | I22: =universe!I22 -> 10 | J22: =universe!J22 -> 52
A23: =universe!A23 -> Kujawsko-Pomorskie (PL61) | B23: =LEFT(universe!B23,FIND(")",universe!B23)) -> Small (5-19) | C23: =universe!C23 -> 757 | D23: =universe!D23 -> 2269 | E23: =universe!E23 -> 67 | F23: =universe!F23 -> 9799 | G23: =universe!G23 -> 13148 | H23: =universe!H23 -> 18922 | I23: =universe!I23 -> 10216 | J23: =universe!J23 -> 26405 | K23: =SUM(C23:J25) -> 86210
A24: =universe!A24 -> Kujawsko-Pomorskie (PL61) | B24: =LEFT(universe!B24,FIND(")",universe!B24)) -> Medium (20-99) | C24: =universe!C24 -> 250 | D24: =universe!D24 -> 223 | E24: =universe!E24 -> 23 | F24: =universe!F24 -> 972 | G24: =universe!G24 -> 562 | H24: =universe!H24 -> 655 | I24: =universe!I24 -> 178 | J24: =universe!J24 -> 1158
A25: =universe!A25 -> Kujawsko-Pomorskie (PL61) | B25: =LEFT(universe!B25,FIND(")",universe!B25)) -> Large (100-199) | C25: =universe!C25 -> 72 | D25: =universe!D25 -> 54 | E25: =universe!E25 -> 6 | F25: =universe!F25 -> 256 | G25: =universe!G25 -> 32 | H25: =universe!H25 -> 54 | I25: =universe!I25 -> 16 | J25: =universe!J25 -> 116
A26: =universe!A26 -> Warmińsko-Mazurskie (PL62) | B26: =LEFT(universe!B26,FIND(")",universe!B26)) -> Small (5-19) | C26: =universe!C26 -> 413 | D26: =universe!D26 -> 1483 | E26: =universe!E26 -> 25 | F26: =universe!F26 -> 7468 | G26: =universe!G26 -> 8293 | H26: =universe!H26 -> 13042 | I26: =universe!I26 -> 6566 | J26: =universe!J26 -> 15303 | K26: =SUM(C26:J28) -> 55288
A27: =universe!A27 -> Warmińsko-Mazurskie (PL62) | B27: =LEFT(universe!B27,FIND(")",universe!B27)) -> Medium (20-99) | C27: =universe!C27 -> 134 | D27: =universe!D27 -> 90 | E27: =universe!E27 -> 4 | F27: =universe!F27 -> 611 | G27: =universe!G27 -> 416 | H27: =universe!H27 -> 367 | I27: =universe!I27 -> 92 | J27: =universe!J27 -> 638
A28: =universe!A28 -> Warmińsko-Mazurskie (PL62) | B28: =LEFT(universe!B28,FIND(")",universe!B28)) -> Large (100-199) | C28: =universe!C28 -> 35 | D28: =universe!D28 -> 31 | E28: =universe!E28 -> 1 | F28: =universe!F28 -> 176 | G28: =universe!G28 -> 16 | H28: =universe!H28 -> 28 | I28: =universe!I28 -> 6 | J28: =universe!J28 -> 50
A29: =universe!A29 -> Pomorskie (PL63) | B29: =LEFT(universe!B29,FIND(")",universe!B29)) -> Small (5-19) | C29: =universe!C29 -> 808 | D29: =universe!D29 -> 5046 | E29: =universe!E29 -> 87 | F29: =universe!F29 -> 15620 | G29: =universe!G29 -> 15705 | H29: =universe!H29 -> 28999 | I29: =universe!I29 -> 18342 | J29: =universe!J29 -> 39166 | K29: =SUM(C29:J31) -> 129295
A30: =universe!A30 -> Pomorskie (PL63) | B30: =LEFT(universe!B30,FIND(")",universe!B30)) -> Medium (20-99) | C30: =universe!C30 -> 263 | D30: =universe!D30 -> 230 | E30: =universe!E30 -> 15 | F30: =universe!F30 -> 1024 | G30: =universe!G30 -> 694 | H30: =universe!H30 -> 807 | I30: =universe!I30 -> 243 | J30: =universe!J30 -> 1506
A31: =universe!A31 -> Pomorskie (PL63) | B31: =LEFT(universe!B31,FIND(")",universe!B31)) -> Large (100-199) | C31: =universe!C31 -> 64 | D31: =universe!D31 -> 72 | E31: =universe!E31 -> 9 | F31: =universe!F31 -> 252 | G31: =universe!G31 -> 46 | H31: =universe!H31 -> 65 | I31: =universe!I31 -> 40 | J31: =universe!J31 -> 192
A32: =universe!A32 -> Łódzkie (PL71) | B32: =LEFT(universe!B32,FIND(")",universe!B32)) -> Small (5-19) | C32: =universe!C32 -> 1166 | D32: =universe!D32 -> 2239 | E32: =universe!E32 -> 102 | F32: =universe!F32 -> 16091 | G32: =universe!G32 -> 19374 | H32: =universe!H32 -> 20564 | I32: =universe!I32 -> 14609 | J32: =universe!J32 -> 35721 | K32: =SUM(C32:J34) -> 116237
A33: =universe!A33 -> Łódzkie (PL71) | B33: =LEFT(universe!B33,FIND(")",universe!B33)) -> Medium (20-99) | C33: =universe!C33 -> 423 | D33: =universe!D33 -> 191 | E33: =universe!E33 -> 24 | F33: =universe!F33 -> 1829 | G33: =universe!G33 -> 648 | H33: =universe!H33 -> 732 | I33: =universe!I33 -> 258 | J33: =universe!J33 -> 1547
A34: =universe!A34 -> Łódzkie (PL71) | B34: =LEFT(universe!B34,FIND(")",universe!B34)) -> Large (100-199) | C34: =universe!C34 -> 88 | D34: =universe!D34 -> 29 | E34: =universe!E34 -> 16 | F34: =universe!F34 -> 326 | G34: =universe!G34 -> 44 | H34: =universe!H34 -> 54 | I34: =universe!I34 -> 22 | J34: =universe!J34 -> 140
A35: =universe!A35 -> Świętokrzyskie (PL72) | B35: =LEFT(universe!B35,FIND(")",universe!B35)) -> Small (5-19) | C35: =universe!C35 -> 419 | D35: =universe!D35 -> 1366 | E35: =universe!E35 -> 49 | F35: =universe!F35 -> 5252 | G35: =universe!G35 -> 11189 | H35: =universe!H35 -> 10807 | I35: =universe!I35 -> 5886 | J35: =universe!J35 -> 14958 | K35: =SUM(C35:J37) -> 52169
A36: =universe!A36 -> Świętokrzyskie (PL72) | B36: =LEFT(universe!B36,FIND(")",universe!B36)) -> Medium (20-99) | C36: =universe!C36 -> 171 | D36: =universe!D36 -> 120 | E36: =universe!E36 -> 10 | F36: =universe!F36 -> 396 | G36: =universe!G36 -> 320 | H36: =universe!H36 -> 354 | I36: =universe!I36 -> 87 | J36: =universe!J36 -> 536
A37: =universe!A37 -> Świętokrzyskie (PL72) | B37: =LEFT(universe!B37,FIND(")",universe!B37)) -> Large (100-199) | C37: =universe!C37 -> 18 | D37: =universe!D37 -> 31 | E37: =universe!E37 -> 10 | F37: =universe!F37 -> 91 | G37: =universe!G37 -> 23 | H37: =universe!H37 -> 19 | I37: =universe!I37 -> 5 | J37: =universe!J37 -> 52
A38: =universe!A38 -> Lubelskie (PL81) | B38: =LEFT(universe!B38,FIND(")",universe!B38)) -> Small (5-19) | C38: =universe!C38 -> 784 | D38: =universe!D38 -> 1472 | E38: =universe!E38 -> 48 | F38: =universe!F38 -> 8432 | G38: =universe!G38 -> 12677 | H38: =universe!H38 -> 17581 | I38: =universe!I38 -> 9459 | J38: =universe!J38 -> 25000 | K38: =SUM(C38:J40) -> 78573
A39: =universe!A39 -> Lubelskie (PL81) | B39: =LEFT(universe!B39,FIND(")",universe!B39)) -> Medium (20-99) | C39: =universe!C39 -> 241 | D39: =universe!D39 -> 105 | E39: =universe!E39 -> 16 | F39: =universe!F39 -> 488 | G39: =universe!G39 -> 514 | H39: =universe!H39 -> 407 | I39: =universe!I39 -> 115 | J39: =universe!J39 -> 867
A40: =universe!A40 -> Lubelskie (PL81) | B40: =LEFT(universe!B40,FIND(")",universe!B40)) -> Large (100-199) | C40: =universe!C40 -> 51 | D40: =universe!D40 -> 21 | E40: =universe!E40 -> 8 | F40: =universe!F40 -> 117 | G40: =universe!G40 -> 26 | H40: =universe!H40 -> 38 | I40: =universe!I40 -> 17 | J40: =universe!J40 -> 89
...

Sheet Table 2 Frame
C1: =RIGHT(SUBSTITUTE('frame fresh and panel'!C1,"_"," "),LEN(SUBSTITUTE('frame fresh and panel'!C1,"_"," "))-1) -> Food | D1: =RIGHT(SUBSTITUTE('frame fresh and panel'!D1,"_"," "),LEN(SUBSTITUTE('frame fresh and panel'!D1,"_"," "))-1) -> Fabricated Metal Products | E1: =RIGHT(SUBSTITUTE('frame fresh and panel'!E1,"_"," "),LEN(SUBSTITUTE('frame fresh and panel'!E1,"_"," "))-1) -> Motor Vehicles | F1: =RIGHT(SUBSTITUTE('frame fresh and panel'!F1,"_"," "),LEN(SUBSTITUTE('frame fresh and panel'!F1,"_"," "))-1) -> Other Manufacturing | G1: =RIGHT(SUBSTITUTE('frame fresh and panel'!G1,"_"," "),LEN(SUBSTITUTE('frame fresh and panel'!G1,"_"," "))-1) -> Retail | H1: =RIGHT(SUBSTITUTE('frame fresh and panel'!H1,"_"," "),LEN(SUBSTITUTE('frame fresh and panel'!H1,"_"," "))-1) -> Construction | I1: =RIGHT(SUBSTITUTE('frame fresh and panel'!I1,"_"," "),LEN(SUBSTITUTE('frame fresh and panel'!I1,"_"," "))-1) -> Professional Activities | J1: =RIGHT(SUBSTITUTE('frame fresh and panel'!J1,"_"," "),LEN(SUBSTITUTE('frame fresh and panel'!J1,"_"," "))-1) -> Other services | K1: =RIGHT(SUBSTITUTE('frame fresh and panel'!K1,"_"," "),LEN(SUBSTITUTE('frame fresh and panel'!K1,"_"," "))-1) -> Grand Total
A2: ='frame fresh and panel'!A2 -> Małopolskie (PL21) | B2: =LEFT('frame fresh and panel'!B2,FIND(")",'frame fresh and panel'!B2)) -> Small (5-19) | C2: ='frame fresh and panel'!C2 -> 1623 | D2: ='frame fresh and panel'!D2 -> 3589 | E2: ='frame fresh and panel'!E2 -> 128 | F2: ='frame fresh and panel'!F2 -> 19607 | G2: ='frame fresh and panel'!G2 -> 24596 | H2: ='frame fresh and panel'!H2 -> 42205 | I2: ='frame fresh and panel'!I2 -> 25737 | J2: ='frame fresh and panel'!J2 -> 56740 | K2: =SUM(C2:J4) -> 182358
A3: ='frame fresh and panel'!A3 -> Małopolskie (PL21) | B3: =LEFT('frame fresh and panel'!B3,FIND(")",'frame fresh and panel'!B3)) -> Medium (20-99) | C3: ='frame fresh and panel'!C3 -> 464 | D3: ='frame fresh and panel'!D3 -> 282 | E3: ='frame fresh and panel'!E3 -> 18 | F3: ='frame fresh and panel'!F3 -> 1349 | G3: ='frame fresh and panel'!G3 -> 1102 | H3: ='frame fresh and panel'!H3 -> 1228 | I3: ='frame fresh and panel'!I3 -> 449 | J3: ='frame fresh and panel'!J3 -> 2176
A4: ='frame fresh and panel'!A4 -> Małopolskie (PL21) | B4: =LEFT('frame fresh and panel'!B4,FIND(")",'frame fresh and panel'!B4)) -> Large (100 or more) | C4: ='frame fresh and panel'!C4 -> 92 | D4: ='frame fresh and panel'!D4 -> 73 | E4: ='frame fresh and panel'!E4 -> 12 | F4: ='frame fresh and panel'!F4 -> 322 | G4: ='frame fresh and panel'!G4 -> 103 | H4: ='frame fresh and panel'!H4 -> 116 | I4: ='frame fresh and panel'!I4 -> 73 | J4: ='frame fresh and panel'!J4 -> 274
A5: ='frame fresh and panel'!A5 -> Śląskie (PL22) | B5: =LEFT('frame fresh and panel'!B5,FIND(")",'frame fresh and panel'!B5)) -> Small (5-19) | C5: ='frame fresh and panel'!C5 -> 1821 | D5: ='frame fresh and panel'!D5 -> 5967 | E5: ='frame fresh and panel'!E5 -> 201 | F5: ='frame fresh and panel'!F5 -> 22191 | G5: ='frame fresh and panel'!G5 -> 32722 | H5: ='frame fresh and panel'!H5 -> 38584 | I5: ='frame fresh and panel'!I5 -> 28592 | J5: ='frame fresh and panel'!J5 -> 67590 | K5: =SUM(C5:J7) -> 209434
A6: ='frame fresh and panel'!A6 -> Śląskie (PL22) | B6: =LEFT('frame fresh and panel'!B6,FIND(")",'frame fresh and panel'!B6)) -> Medium (20-99) | C6: ='frame fresh and panel'!C6 -> 636 | D6: ='frame fresh and panel'!D6 -> 581 | E6: ='frame fresh and panel'!E6 -> 65 | F6: ='frame fresh and panel'!F6 -> 2029 | G6: ='frame fresh and panel'!G6 -> 1500 | H6: ='frame fresh and panel'!H6 -> 1735 | I6: ='frame fresh and panel'!I6 -> 613 | J6: ='frame fresh and panel'!J6 -> 3145
A7: ='frame fresh and panel'!A7 -> Śląskie (PL22) | B7: =LEFT('frame fresh and panel'!B7,FIND(")",'frame fresh and panel'!B7)) -> Large (100 or more) | C7: ='frame fresh and panel'!C7 -> 118 | D7: ='frame fresh and panel'!D7 -> 111 | E7: ='frame fresh and panel'!E7 -> 81 | F7: ='frame fresh and panel'!F7 -> 478 | G7: ='frame fresh and panel'!G7 -> 78 | H7: ='frame fresh and panel'!H7 -> 150 | I7: ='frame fresh and panel'!I7 -> 80 | J7: ='frame fresh and panel'!J7 -> 366
A8: ='frame fresh and panel'!A8 -> Wielkopolskie (PL41) | B8: =LEFT('frame fresh and panel'!B8,FIND(")",'frame fresh and panel'!B8)) -> Small (5-19) | C8: ='frame fresh and panel'!C8 -> 1799 | D8: ='frame fresh and panel'!D8 -> 4417 | E8: ='frame fresh and panel'!E8 -> 202 | F8: ='frame fresh and panel'!F8 -> 23002 | G8: ='frame fresh and panel'!G8 -> 25255 | H8: ='frame fresh and panel'!H8 -> 41342 | I8: ='frame fresh and panel'!I8 -> 26472 | J8: ='frame fresh and panel'!J8 -> 60482 | K8: =SUM(C8:J10) -> 193475
A9: ='frame fresh and panel'!A9 -> Wielkopolskie (PL41) | B9: =LEFT('frame fresh and panel'!B9,FIND(")",'frame fresh and panel'!B9)) -> Medium (20-99) | C9: ='frame fresh and panel'!C9 -> 566 | D9: ='frame fresh and panel'!D9 -> 529 | E9: ='frame fresh and panel'!E9 -> 39 | F9: ='frame fresh and panel'!F9 -> 2183 | G9: ='frame fresh and panel'!G9 -> 1186 | H9: ='frame fresh and panel'!H9 -> 1301 | I9: ='frame fresh and panel'!I9 -> 480 | J9: ='frame fresh and panel'!J9 -> 2731
A10: ='frame fresh and panel'!A10 -> Wielkopolskie (PL41) | B10: =LEFT('frame fresh and panel'!B10,FIND(")",'frame fresh and panel'!B10)) -> Large (100 or more) | C10: ='frame fresh and panel'!C10 -> 163 | D10: ='frame fresh and panel'!D10 -> 97 | E10: ='frame fresh and panel'!E10 -> 39 | F10: ='frame fresh and panel'!F10 -> 604 | G10: ='frame fresh and panel'!G10 -> 105 | H10: ='frame fresh and panel'!H10 -> 95 | I10: ='frame fresh and panel'!I10 -> 55 | J10: ='frame fresh and panel'!J10 -> 331
A11: ='frame fresh and panel'!A11 -> Zachodniopomorskie (PL42) | B11: =LEFT('frame fresh and panel'!B11,FIND(")",'frame fresh and panel'!B11)) -> Small (5-19) | C11: ='frame fresh and panel'!C11 -> 694 | D11: ='frame fresh and panel'!D11 -> 2211 | E11: ='frame fresh and panel'!E11 -> 53 | F11: ='frame fresh and panel'!F11 -> 10414 | G11: ='frame fresh and panel'!G11 -> 11856 | H11: ='frame fresh and panel'!H11 -> 22073 | I11: ='frame fresh and panel'!I11 -> 10158 | J11: ='frame fresh and panel'!J11 -> 26173 | K11: =SUM(C11:J13) -> 87049
A12: ='frame fresh and panel'!A12 -> Zachodniopomorskie (PL42) | B12: =LEFT('frame fresh and panel'!B12,FIND(")",'frame fresh and panel'!B12)) -> Medium (20-99) | C12: ='frame fresh and panel'!C12 -> 198 | D12: ='frame fresh and panel'!D12 -> 134 | E12: ='frame fresh and panel'!E12 -> 8 | F12: ='frame fresh and panel'!F12 -> 674 | G12: ='frame fresh and panel'!G12 -> 418 | H12: ='frame fresh and panel'!H12 -> 479 | I12: ='frame fresh and panel'!I12 -> 133 | J12: ='frame fresh and panel'!J12 -> 990
A13: ='frame fresh and panel'!A13 -> Zachodniopomorskie (PL42) | B13: =LEFT('frame fresh and panel'!B13,FIND(")",'frame fresh and panel'!B13)) -> Large (100 or more) | C13: ='frame fresh and panel'!C13 -> 46 | D13: ='frame fresh and panel'!D13 -> 38 | E13: ='frame fresh and panel'!E13 -> 7 | F13: ='frame fresh and panel'!F13 -> 155 | G13: ='frame fresh and panel'!G13 -> 11 | H13: ='frame fresh and panel'!H13 -> 30 | I13: ='frame fresh and panel'!I13 -> 7 | J13: ='frame fresh and panel'!J13 -> 89
A14: ='frame fresh and panel'!A14 -> Lubuskie (PL43) | B14: =LEFT('frame fresh and panel'!B14,FIND(")",'frame fresh and panel'!B14)) -> Small (5-19) | C14: ='frame fresh and panel'!C14 -> 394 | D14: ='frame fresh and panel'!D14 -> 1131 | E14: ='frame fresh and panel'!E14 -> 39 | F14: ='frame fresh and panel'!F14 -> 5774 | G14: ='frame fresh and panel'!G14 -> 7573 | H14: ='frame fresh and panel'!H14 -> 12219 | I14: ='frame fresh and panel'!I14 -> 4931 | J14: ='frame fresh and panel'!J14 -> 15050 | K14: =SUM(C14:J16) -> 49530
A15: ='frame fresh and panel'!A15 -> Lubuskie (PL43) | B15: =LEFT('frame fresh and panel'!B15,FIND(")",'frame fresh and panel'!B15)) -> Medium (20-99) | C15: ='frame fresh and panel'!C15 -> 139 | D15: ='frame fresh and panel'!D15 -> 118 | E15: ='frame fresh and panel'!E15 -> 11 | F15: ='frame fresh and panel'!F15 -> 496 | G15: ='frame fresh and panel'!G15 -> 310 | H15: ='frame fresh and panel'!H15 -> 323 | I15: ='frame fresh and panel'!I15 -> 78 | J15: ='frame fresh and panel'!J15 -> 628
A16: ='frame fresh and panel'!A16 -> Lubuskie (PL43) | B16: =LEFT('frame fresh and panel'!B16,FIND(")",'frame fresh and panel'!B16)) -> Large (100 or more) | C16: ='frame fresh and panel'!C16 -> 22 | D16: ='frame fresh and panel'!D16 -> 29 | E16: ='frame fresh and panel'!E16 -> 9 | F16: ='frame fresh and panel'!F16 -> 134 | G16: ='frame fresh and panel'!G16 -> 19 | H16: ='frame fresh and panel'!H16 -> 24 | I16: ='frame fresh and panel'!I16 -> 5 | J16: ='frame fresh and panel'!J16 -> 74
A17: ='frame fresh and panel'!A17 -> Dolnośląskie (PL51) | B17: =LEFT('frame fresh and panel'!B17,FIND(")",'frame fresh and panel'!B17)) -> Small (5-19) | C17: ='frame fresh and panel'!C17 -> 1108 | D17: ='frame fresh and panel'!D17 -> 3139 | E17: ='frame fresh and panel'!E17 -> 139 | F17: ='frame fresh and panel'!F17 -> 15264 | G17: ='frame fresh and panel'!G17 -> 24823 | H17: ='frame fresh and panel'!H17 -> 35356 | I17: ='frame fresh and panel'!I17 -> 23658 | J17: ='frame fresh and panel'!J17 -> 49191 | K17: =SUM(C17:J19) -> 159165
A18: ='frame fresh and panel'!A18 -> Dolnośląskie (PL51) | B18: =LEFT('frame fresh and panel'!B18,FIND(")",'frame fresh and panel'!B18)) -> Medium (20-99) | C18: ='frame fresh and panel'!C18 -> 312 | D18: ='frame fresh and panel'!D18 -> 296 | E18: ='frame fresh and panel'!E18 -> 29 | F18: ='frame fresh and panel'!F18 -> 1180 | G18: ='frame fresh and panel'!G18 -> 682 | H18: ='frame fresh and panel'!H18 -> 967 | I18: ='frame fresh and panel'!I18 -> 364 | J18: ='frame fresh and panel'!J18 -> 1752
A19: ='frame fresh and panel'!A19 -> Dolnośląskie (PL51) | B19: =LEFT('frame fresh and panel'!B19,FIND(")",'frame fresh and panel'!B19)) -> Large (100 or more) | C19: ='frame fresh and panel'!C19 -> 39 | D19: ='frame fresh and panel'!D19 -> 87 | E19: ='frame fresh and panel'!E19 -> 54 | F19: ='frame fresh and panel'!F19 -> 334 | G19: ='frame fresh and panel'!G19 -> 56 | H19: ='frame fresh and panel'!H19 -> 67 | I19: ='frame fresh and panel'!I19 -> 62 | J19: ='frame fresh and panel'!J19 -> 206
A20: ='frame fresh and panel'!A20 -> Opolskie (PL52) | B20: =LEFT('frame fresh and panel'!B20,FIND(")",'frame fresh and panel'!B20)) -> Small (5-19) | C20: ='frame fresh and panel'!C20 -> 436 | D20: ='frame fresh and panel'!D20 -> 1172 | E20: ='frame fresh and panel'!E20 -> 21 | F20: ='frame fresh and panel'!F20 -> 5472 | G20: ='frame fresh and panel'!G20 -> 5210 | H20: ='frame fresh and panel'!H20 -> 9558 | I20: ='frame fresh and panel'!I20 -> 4549 | J20: ='frame fresh and panel'!J20 -> 11007 | K20: =SUM(C20:J22) -> 39529
A21: ='frame fresh and panel'!A21 -> Opolskie (PL52) | B21: =LEFT('frame fresh and panel'!B21,FIND(")",'frame fresh and panel'!B21)) -> Medium (20-99) | C21: ='frame fresh and panel'!C21 -> 128 | D21: ='frame fresh and panel'!D21 -> 120 | E21: ='frame fresh and panel'!E21 -> 11 | F21: ='frame fresh and panel'!F21 -> 418 | G21: ='frame fresh and panel'!G21 -> 273 | H21: ='frame fresh and panel'!H21 -> 317 | I21: ='frame fresh and panel'!I21 -> 73 | J21: ='frame fresh and panel'!J21 -> 502
A22: ='frame fresh and panel'!A22 -> Opolskie (PL52) | B22: =LEFT('frame fresh and panel'!B22,FIND(")",'frame fresh and panel'!B22)) -> Large (100 or more) | C22: ='frame fresh and panel'!C22 -> 17 | D22: ='frame fresh and panel'!D22 -> 28 | E22: ='frame fresh and panel'!E22 -> 9 | F22: ='frame fresh and panel'!F22 -> 114 | G22: ='frame fresh and panel'!G22 -> 6 | H22: ='frame fresh and panel'!H22 -> 25 | I22: ='frame fresh and panel'!I22 -> 10 | J22: ='frame fresh and panel'!J22 -> 53
A23: ='frame fresh and panel'!A23 -> Kujawsko-Pomorskie (PL61) | B23: =LEFT('frame fresh and panel'!B23,FIND(")",'frame fresh and panel'!B23)) -> Small (5-19) | C23: ='frame fresh and panel'!C23 -> 758 | D23: ='frame fresh and panel'!D23 -> 2273 | E23: ='frame fresh and panel'!E23 -> 67 | F23: ='frame fresh and panel'!F23 -> 9809 | G23: ='frame fresh and panel'!G23 -> 13151 | H23: ='frame fresh and panel'!H23 -> 18924 | I23: ='frame fresh and panel'!I23 -> 10216 | J23: ='frame fresh and panel'!J23 -> 26407 | K23: =SUM(C23:J25) -> 86277
A24: ='frame fresh and panel'!A24 -> Kujawsko-Pomorskie (PL61) | B24: =LEFT('frame fresh and panel'!B24,FIND(")",'frame fresh and panel'!B24)) -> Medium (20-99) | C24: ='frame fresh and panel'!C24 -> 252 | D24: ='frame fresh and panel'!D24 -> 226 | E24: ='frame fresh and panel'!E24 -> 23 | F24: ='frame fresh and panel'!F24 -> 990 | G24: ='frame fresh and panel'!G24 -> 564 | H24: ='frame fresh and panel'!H24 -> 658 | I24: ='frame fresh and panel'!I24 -> 178 | J24: ='frame fresh and panel'!J24 -> 1158
A25: ='frame fresh and panel'!A25 -> Kujawsko-Pomorskie (PL61) | B25: =LEFT('frame fresh and panel'!B25,FIND(")",'frame fresh and panel'!B25)) -> Large (100 or more) | C25: ='frame fresh and panel'!C25 -> 75 | D25: ='frame fresh and panel'!D25 -> 57 | E25: ='frame fresh and panel'!E25 -> 6 | F25: ='frame fresh and panel'!F25 -> 266 | G25: ='frame fresh and panel'!G25 -> 33 | H25: ='frame fresh and panel'!H25 -> 54 | I25: ='frame fresh and panel'!I25 -> 16 | J25: ='frame fresh and panel'!J25 -> 116
A26: ='frame fresh and panel'!A26 -> Warmińsko-Mazurskie (PL62) | B26: =LEFT('frame fresh and panel'!B26,FIND(")",'frame fresh and panel'!B26)) -> Small (5-19) | C26: ='frame fresh and panel'!C26 -> 417 | D26: ='frame fresh and panel'!D26 -> 1484 | E26: ='frame fresh and panel'!E26 -> 25 | F26: ='frame fresh and panel'!F26 -> 7475 | G26: ='frame fresh and panel'!G26 -> 8294 | H26: ='frame fresh and panel'!H26 -> 13045 | I26: ='frame fresh and panel'!I26 -> 6566 | J26: ='frame fresh and panel'!J26 -> 15305 | K26: =SUM(C26:J28) -> 55331
A27: ='frame fresh and panel'!A27 -> Warmińsko-Mazurskie (PL62) | B27: =LEFT('frame fresh and panel'!B27,FIND(")",'frame fresh and panel'!B27)) -> Medium (20-99) | C27: ='frame fresh and panel'!C27 -> 135 | D27: ='frame fresh and panel'!D27 -> 90 | E27: ='frame fresh and panel'!E27 -> 4 | F27: ='frame fresh and panel'!F27 -> 618 | G27: ='frame fresh and panel'!G27 -> 417 | H27: ='frame fresh and panel'!H27 -> 367 | I27: ='frame fresh and panel'!I27 -> 92 | J27: ='frame fresh and panel'!J27 -> 641
A28: ='frame fresh and panel'!A28 -> Warmińsko-Mazurskie (PL62) | B28: =LEFT('frame fresh and panel'!B28,FIND(")",'frame fresh and panel'!B28)) -> Large (100 or more) | C28: ='frame fresh and panel'!C28 -> 36 | D28: ='frame fresh and panel'!D28 -> 31 | E28: ='frame fresh and panel'!E28 -> 2 | F28: ='frame fresh and panel'!F28 -> 185 | G28: ='frame fresh and panel'!G28 -> 16 | H28: ='frame fresh and panel'!H28 -> 30 | I28: ='frame fresh and panel'!I28 -> 6 | J28: ='frame fresh and panel'!J28 -> 50
A29: ='frame fresh and panel'!A29 -> Pomorskie (PL63) | B29: =LEFT('frame fresh and panel'!B29,FIND(")",'frame fresh and panel'!B29)) -> Small (5-19) | C29: ='frame fresh and panel'!C29 -> 814 | D29: ='frame fresh and panel'!D29 -> 5050 | E29: ='frame fresh and panel'!E29 -> 88 | F29: ='frame fresh and panel'!F29 -> 15634 | G29: ='frame fresh and panel'!G29 -> 15710 | H29: ='frame fresh and panel'!H29 -> 29003 | I29: ='frame fresh and panel'!I29 -> 18342 | J29: ='frame fresh and panel'!J29 -> 39178 | K29: =SUM(C29:J31) -> 129389
A30: ='frame fresh and panel'!A30 -> Pomorskie (PL63) | B30: =LEFT('frame fresh and panel'!B30,FIND(")",'frame fresh and panel'!B30)) -> Medium (20-99) | C30: ='frame fresh and panel'!C30 -> 266 | D30: ='frame fresh and panel'!D30 -> 233 | E30: ='frame fresh and panel'!E30 -> 15 | F30: ='frame fresh and panel'!F30 -> 1045 | G30: ='frame fresh and panel'!G30 -> 695 | H30: ='frame fresh and panel'!H30 -> 807 | I30: ='frame fresh and panel'!I30 -> 243 | J30: ='frame fresh and panel'!J30 -> 1508
A31: ='frame fresh and panel'!A31 -> Pomorskie (PL63) | B31: =LEFT('frame fresh and panel'!B31,FIND(")",'frame fresh and panel'!B31)) -> Large (100 or more) | C31: ='frame fresh and panel'!C31 -> 67 | D31: ='frame fresh and panel'!D31 -> 74 | E31: ='frame fresh and panel'!E31 -> 9 | F31: ='frame fresh and panel'!F31 -> 261 | G31: ='frame fresh and panel'!G31 -> 48 | H31: ='frame fresh and panel'!H31 -> 66 | I31: ='frame fresh and panel'!I31 -> 40 | J31: ='frame fresh and panel'!J31 -> 193
A32: ='frame fresh and panel'!A32 -> Łódzkie (PL71) | B32: =LEFT('frame fresh and panel'!B32,FIND(")",'frame fresh and panel'!B32)) -> Small (5-19) | C32: ='frame fresh and panel'!C32 -> 1171 | D32: ='frame fresh and panel'!D32 -> 2240 | E32: ='frame fresh and panel'!E32 -> 102 | F32: ='frame fresh and panel'!F32 -> 16114 | G32: ='frame fresh and panel'!G32 -> 19379 | H32: ='frame fresh and panel'!H32 -> 20569 | I32: ='frame fresh and panel'!I32 -> 14609 | J32: ='frame fresh and panel'!J32 -> 35730 | K32: =SUM(C32:J34) -> 116325
A33: ='frame fresh and panel'!A33 -> Łódzkie (PL71) | B33: =LEFT('frame fresh and panel'!B33,FIND(")",'frame fresh and panel'!B33)) -> Medium (20-99) | C33: ='frame fresh and panel'!C33 -> 425 | D33: ='frame fresh and panel'!D33 -> 193 | E33: ='frame fresh and panel'!E33 -> 24 | F33: ='frame fresh and panel'!F33 -> 1846 | G33: ='frame fresh and panel'!G33 -> 648 | H33: ='frame fresh and panel'!H33 -> 733 | I33: ='frame fresh and panel'!I33 -> 258 | J33: ='frame fresh and panel'!J33 -> 1550
A34: ='frame fresh and panel'!A34 -> Łódzkie (PL71) | B34: =LEFT('frame fresh and panel'!B34,FIND(")",'frame fresh and panel'!B34)) -> Large (100 or more) | C34: ='frame fresh and panel'!C34 -> 90 | D34: ='frame fresh and panel'!D34 -> 29 | E34: ='frame fresh and panel'!E34 -> 16 | F34: ='frame fresh and panel'!F34 -> 336 | G34: ='frame fresh and panel'!G34 -> 45 | H34: ='frame fresh and panel'!H34 -> 56 | I34: ='frame fresh and panel'!I34 -> 22 | J34: ='frame fresh and panel'!J34 -> 140
A35: ='frame fresh and panel'!A35 -> Świętokrzyskie (PL72) | B35: =LEFT('frame fresh and panel'!B35,FIND(")",'frame fresh and panel'!B35)) -> Small (5-19) | C35: ='frame fresh and panel'!C35 -> 420 | D35: ='frame fresh and panel'!D35 -> 1366 | E35: ='frame fresh and panel'!E35 -> 49 | F35: ='frame fresh and panel'!F35 -> 5266 | G35: ='frame fresh and panel'!G35 -> 11191 | H35: ='frame fresh and panel'!H35 -> 10810 | I35: ='frame fresh and panel'!I35 -> 5886 | J35: ='frame fresh and panel'!J35 -> 14961 | K35: =SUM(C35:J37) -> 52218
A36: ='frame fresh and panel'!A36 -> Świętokrzyskie (PL72) | B36: =LEFT('frame fresh and panel'!B36,FIND(")",'frame fresh and panel'!B36)) -> Medium (20-99) | C36: ='frame fresh and panel'!C36 -> 176 | D36: ='frame fresh and panel'!D36 -> 123 | E36: ='frame fresh and panel'!E36 -> 10 | F36: ='frame fresh and panel'!F36 -> 407 | G36: ='frame fresh and panel'!G36 -> 320 | H36: ='frame fresh and panel'!H36 -> 355 | I36: ='frame fresh and panel'!I36 -> 87 | J36: ='frame fresh and panel'!J36 -> 537
A37: ='frame fresh and panel'!A37 -> Świętokrzyskie (PL72) | B37: =LEFT('frame fresh and panel'!B37,FIND(")",'frame fresh and panel'!B37)) -> Large (100 or more) | C37: ='frame fresh and panel'!C37 -> 18 | D37: ='frame fresh and panel'!D37 -> 35 | E37: ='frame fresh and panel'!E37 -> 10 | F37: ='frame fresh and panel'!F37 -> 92 | G37: ='frame fresh and panel'!G37 -> 23 | H37: ='frame fresh and panel'!H37 -> 19 | I37: ='frame fresh and panel'!I37 -> 5 | J37: ='frame fresh and panel'!J37 -> 52
A38: ='frame fresh and panel'!A38 -> Lubelskie (PL81) | B38: =LEFT('frame fresh and panel'!B38,FIND(")",'frame fresh and panel'!B38)) -> Small (5-19) | C38: ='frame fresh and panel'!C38 -> 789 | D38: ='frame fresh and panel'!D38 -> 1474 | E38: ='frame fresh and panel'!E38 -> 48 | F38: ='frame fresh and panel'!F38 -> 8447 | G38: ='frame fresh and panel'!G38 -> 12681 | H38: ='frame fresh and panel'!H38 -> 17581 | I38: ='frame fresh and panel'!I38 -> 9459 | J38: ='frame fresh and panel'!J38 -> 25006 | K38: =SUM(C38:J40) -> 78647
A39: ='frame fresh and panel'!A39 -> Lubelskie (PL81) | B39: =LEFT('frame fresh and panel'!B39,FIND(")",'frame fresh and panel'!B39)) -> Medium (20-99) | C39: ='frame fresh and panel'!C39 -> 245 | D39: ='frame fresh and panel'!D39 -> 107 | E39: ='frame fresh and panel'!E39 -> 16 | F39: ='frame fresh and panel'!F39 -> 506 | G39: ='frame fresh and panel'!G39 -> 514 | H39: ='frame fresh and panel'!H39 -> 407 | I39: ='frame fresh and panel'!I39 -> 115 | J39: ='frame fresh and panel'!J39 -> 870
A40: ='frame fresh and panel'!A40 -> Lubelskie (PL81) | B40: =LEFT('frame fresh and panel'!B40,FIND(")",'frame fresh and panel'!B40)) -> Large (100 or more) | C40: ='frame fresh and panel'!C40 -> 54 | D40: ='frame fresh and panel'!D40 -> 21 | E40: ='frame fresh and panel'!E40 -> 8 | F40: ='frame fresh and panel'!F40 -> 127 | G40: ='frame fresh and panel'!G40 -> 27 | H40: ='frame fresh and panel'!H40 -> 39 | I40: ='frame fresh and panel'!I40 -> 17 | J40: ='frame fresh and panel'!J40 -> 89
...

Sheet Table 3 Original Survey Design
C1: =RIGHT(SUBSTITUTE('original survey design'!C1,"_"," "),LEN(SUBSTITUTE('original survey design'!C1,"_"," "))-1) -> Food | D1: =RIGHT(SUBSTITUTE('original survey design'!D1,"_"," "),LEN(SUBSTITUTE('original survey design'!D1,"_"," "))-1) -> Fabricated Metal Products | E1: =RIGHT(SUBSTITUTE('original survey design'!E1,"_"," "),LEN(SUBSTITUTE('original survey design'!E1,"_"," "))-1) -> Motor Vehicles | F1: =RIGHT(SUBSTITUTE('original survey design'!F1,"_"," "),LEN(SUBSTITUTE('original survey design'!F1,"_"," "))-1) -> Other Manufacturing | G1: =RIGHT(SUBSTITUTE('original survey design'!G1,"_"," "),LEN(SUBSTITUTE('original survey design'!G1,"_"," "))-1) -> Retail | H1: =RIGHT(SUBSTITUTE('original survey design'!H1,"_"," "),LEN(SUBSTITUTE('original survey design'!H1,"_"," "))-1) -> Construction | I1: =RIGHT(SUBSTITUTE('original survey design'!I1,"_"," "),LEN(SUBSTITUTE('original survey design'!I1,"_"," "))-1) -> Professional Activities | J1: =RIGHT(SUBSTITUTE('original survey design'!J1,"_"," "),LEN(SUBSTITUTE('original survey design'!J1,"_"," "))-1) -> Other services | K1: =RIGHT(SUBSTITUTE('original survey design'!K1,"_"," "),LEN(SUBSTITUTE('original survey design'!K1,"_"," "))-1) -> Grand Total
A2: ='original survey design'!A2 -> Małopolskie (PL21) | B2: =LEFT('original survey design'!B2,FIND(")",'original survey design'!B2)) -> Small (5-19) | C2: ='original survey design'!C2 -> 2 | D2: ='original survey design'!D2 -> 2 | E2: ='original survey design'!E2 -> 2 | F2: ='original survey design'!F2 -> 3 | G2: ='original survey design'!G2 -> 4 | H2: ='original survey design'!H2 -> 6 | I2: ='original survey design'!I2 -> 4 | J2: ='original survey design'!J2 -> 8 | K2: =SUM(C2:J4) -> 68
A3: ='original survey design'!A3 -> Małopolskie (PL21) | B3: =LEFT('original survey design'!B3,FIND(")",'original survey design'!B3)) -> Medium (20-99) | C3: ='original survey design'!C3 -> 2 | D3: ='original survey design'!D3 -> 2 | E3: ='original survey design'!E3 -> 2 | F3: ='original survey design'!F3 -> 2 | G3: ='original survey design'!G3 -> 2 | H3: ='original survey design'!H3 -> 2 | I3: ='original survey design'!I3 -> 2 | J3: ='original survey design'!J3 -> 3
A4: ='original survey design'!A4 -> Małopolskie (PL21) | B4: =LEFT('original survey design'!B4,FIND(")",'original survey design'!B4)) -> Large (100-199) | C4: ='original survey design'!C4 -> 2 | D4: ='original survey design'!D4 -> 2 | E4: ='original survey design'!E4 -> 2 | F4: ='original survey design'!F4 -> 3 | G4: ='original survey design'!G4 -> 3 | H4: ='original survey design'!H4 -> 3 | I4: ='original survey design'!I4 -> 2 | J4: ='original survey design'!J4 -> 3
A5: ='original survey design'!A5 -> Śląskie (PL22) | B5: =LEFT('original survey design'!B5,FIND(")",'original survey design'!B5)) -> Small (5-19) | C5: ='original survey design'!C5 -> 2 | D5: ='original survey design'!D5 -> 2 | E5: ='original survey design'!E5 -> 2 | F5: ='original survey design'!F5 -> 3 | G5: ='original survey design'!G5 -> 5 | H5: ='original survey design'!H5 -> 5 | I5: ='original survey design'!I5 -> 4 | J5: ='original survey design'!J5 -> 14 | K5: =SUM(C5:J7) -> 87
A6: ='original survey design'!A6 -> Śląskie (PL22) | B6: =LEFT('original survey design'!B6,FIND(")",'original survey design'!B6)) -> Medium (20-99) | C6: ='original survey design'!C6 -> 2 | D6: ='original survey design'!D6 -> 2 | E6: ='original survey design'!E6 -> 7 | F6: ='original survey design'!F6 -> 3 | G6: ='original survey design'!G6 -> 2 | H6: ='original survey design'!H6 -> 2 | I6: ='original survey design'!I6 -> 2 | J6: ='original survey design'!J6 -> 3
A7: ='original survey design'!A7 -> Śląskie (PL22) | B7: =LEFT('original survey design'!B7,FIND(")",'original survey design'!B7)) -> Large (100-199) | C7: ='original survey design'!C7 -> 3 | D7: ='original survey design'!D7 -> 2 | E7: ='original survey design'!E7 -> 9 | F7: ='original survey design'!F7 -> 3 | G7: ='original survey design'!G7 -> 2 | H7: ='original survey design'!H7 -> 3 | I7: ='original survey design'!I7 -> 2 | J7: ='original survey design'!J7 -> 3
A8: ='original survey design'!A8 -> Wielkopolskie (PL41) | B8: =LEFT('original survey design'!B8,FIND(")",'original survey design'!B8)) -> Small (5-19) | C8: ='original survey design'!C8 -> 2 | D8: ='original survey design'!D8 -> 2 | E8: ='original survey design'!E8 -> 2 | F8: ='original survey design'!F8 -> 3 | G8: ='original survey design'!G8 -> 4 | H8: ='original survey design'!H8 -> 6 | I8: ='original survey design'!I8 -> 4 | J8: ='original survey design'!J8 -> 9 | K8: =SUM(C8:J10) -> 73
A9: ='original survey design'!A9 -> Wielkopolskie (PL41) | B9: =LEFT('original survey design'!B9,FIND(")",'original survey design'!B9)) -> Medium (20-99) | C9: ='original survey design'!C9 -> 2 | D9: ='original survey design'!D9 -> 2 | E9: ='original survey design'!E9 -> 4 | F9: ='original survey design'!F9 -> 3 | G9: ='original survey design'!G9 -> 2 | H9: ='original survey design'!H9 -> 2 | I9: ='original survey design'!I9 -> 2 | J9: ='original survey design'!J9 -> 3
A10: ='original survey design'!A10 -> Wielkopolskie (PL41) | B10: =LEFT('original survey design'!B10,FIND(")",'original survey design'!B10)) -> Large (100-199) | C10: ='original survey design'!C10 -> 3 | D10: ='original survey design'!D10 -> 2 | E10: ='original survey design'!E10 -> 4 | F10: ='original survey design'!F10 -> 3 | G10: ='original survey design'!G10 -> 2 | H10: ='original survey design'!H10 -> 2 | I10: ='original survey design'!I10 -> 2 | J10: ='original survey design'!J10 -> 3
A11: ='original survey design'!A11 -> Zachodniopomorskie (PL42) | B11: =LEFT('original survey design'!B11,FIND(")",'original survey design'!B11)) -> Small (5-19) | C11: ='original survey design'!C11 -> 2 | D11: ='original survey design'!D11 -> 2 | E11: ='original survey design'!E11 -> 3 | F11: ='original survey design'!F11 -> 2 | G11: ='original survey design'!G11 -> 2 | H11: ='original survey design'!H11 -> 3 | I11: ='original survey design'!I11 -> 2 | J11: ='original survey design'!J11 -> 4 | K11: =SUM(C11:J13) -> 68
A12: ='original survey design'!A12 -> Zachodniopomorskie (PL42) | B12: =LEFT('original survey design'!B12,FIND(")",'original survey design'!B12)) -> Medium (20-99) | C12: ='original survey design'!C12 -> 3 | D12: ='original survey design'!D12 -> 3 | E12: ='original survey design'!E12 -> 1 | F12: ='original survey design'!F12 -> 4 | G12: ='original survey design'!G12 -> 3 | H12: ='original survey design'!H12 -> 4 | I12: ='original survey design'!I12 -> 3 | J12: ='original survey design'!J12 -> 4
A13: ='original survey design'!A13 -> Zachodniopomorskie (PL42) | B13: =LEFT('original survey design'!B13,FIND(")",'original survey design'!B13)) -> Large (100-199) | C13: ='original survey design'!C13 -> 4 | D13: ='original survey design'!D13 -> 4 | E13: ='original survey design'!E13 -> 1 | F13: ='original survey design'!F13 -> 4 | G13: ='original survey design'!G13 -> 2 | H13: ='original survey design'!H13 -> 3 | I13: ='original survey design'!I13 -> 1 | J13: ='original survey design'!J13 -> 4
A14: ='original survey design'!A14 -> Lubuskie (PL43) | B14: =LEFT('original survey design'!B14,FIND(")",'original survey design'!B14)) -> Small (5-19) | C14: ='original survey design'!C14 -> 2 | D14: ='original survey design'!D14 -> 2 | E14: ='original survey design'!E14 -> 3 | F14: ='original survey design'!F14 -> 2 | G14: ='original survey design'!G14 -> 2 | H14: ='original survey design'!H14 -> 2 | I14: ='original survey design'!I14 -> 2 | J14: ='original survey design'!J14 -> 2 | K14: =SUM(C14:J16) -> 68
A15: ='original survey design'!A15 -> Lubuskie (PL43) | B15: =LEFT('original survey design'!B15,FIND(")",'original survey design'!B15)) -> Medium (20-99) | C15: ='original survey design'!C15 -> 4 | D15: ='original survey design'!D15 -> 3 | E15: ='original survey design'!E15 -> 2 | F15: ='original survey design'!F15 -> 4 | G15: ='original survey design'!G15 -> 4 | H15: ='original survey design'!H15 -> 4 | I15: ='original survey design'!I15 -> 3 | J15: ='original survey design'!J15 -> 4
A16: ='original survey design'!A16 -> Lubuskie (PL43) | B16: =LEFT('original survey design'!B16,FIND(")",'original survey design'!B16)) -> Large (100-199) | C16: ='original survey design'!C16 -> 3 | D16: ='original survey design'!D16 -> 3 | E16: ='original survey design'!E16 -> 1 | F16: ='original survey design'!F16 -> 5 | G16: ='original survey design'!G16 -> 2 | H16: ='original survey design'!H16 -> 3 | I16: ='original survey design'!I16 -> 1 | J16: ='original survey design'!J16 -> 5
A17: ='original survey design'!A17 -> Dolnośląskie (PL51) | B17: =LEFT('original survey design'!B17,FIND(")",'original survey design'!B17)) -> Small (5-19) | C17: ='original survey design'!C17 -> 2 | D17: ='original survey design'!D17 -> 2 | E17: ='original survey design'!E17 -> 2 | F17: ='original survey design'!F17 -> 2 | G17: ='original survey design'!G17 -> 4 | H17: ='original survey design'!H17 -> 5 | I17: ='original survey design'!I17 -> 3 | J17: ='original survey design'!J17 -> 7 | K17: =SUM(C17:J19) -> 68
A18: ='original survey design'!A18 -> Dolnośląskie (PL51) | B18: =LEFT('original survey design'!B18,FIND(")",'original survey design'!B18)) -> Medium (20-99) | C18: ='original survey design'!C18 -> 2 | D18: ='original survey design'!D18 -> 2 | E18: ='original survey design'!E18 -> 3 | F18: ='original survey design'!F18 -> 2 | G18: ='original survey design'!G18 -> 2 | H18: ='original survey design'!H18 -> 2 | I18: ='original survey design'!I18 -> 2 | J18: ='original survey design'!J18 -> 2
A19: ='original survey design'!A19 -> Dolnośląskie (PL51) | B19: =LEFT('original survey design'!B19,FIND(")",'original survey design'!B19)) -> Large (100-199) | C19: ='original survey design'!C19 -> 2 | D19: ='original survey design'!D19 -> 3 | E19: ='original survey design'!E19 -> 6 | F19: ='original survey design'!F19 -> 3 | G19: ='original survey design'!G19 -> 2 | H19: ='original survey design'!H19 -> 3 | I19: ='original survey design'!I19 -> 2 | J19: ='original survey design'!J19 -> 3
A20: ='original survey design'!A20 -> Opolskie (PL52) | B20: =LEFT('original survey design'!B20,FIND(")",'original survey design'!B20)) -> Small (5-19) | C20: ='original survey design'!C20 -> 2 | D20: ='original survey design'!D20 -> 2 | E20: ='original survey design'!E20 -> 3 | F20: ='original survey design'!F20 -> 2 | G20: ='original survey design'!G20 -> 2 | H20: ='original survey design'!H20 -> 2 | I20: ='original survey design'!I20 -> 2 | J20: ='original survey design'!J20 -> 2 | K20: =SUM(C20:J22) -> 68
A21: ='original survey design'!A21 -> Opolskie (PL52) | B21: =LEFT('original survey design'!B21,FIND(")",'original survey design'!B21)) -> Medium (20-99) | C21: ='original survey design'!C21 -> 4 | D21: ='original survey design'!D21 -> 4 | E21: ='original survey design'!E21 -> 2 | F21: ='original survey design'!F21 -> 4 | G21: ='original survey design'!G21 -> 4 | H21: ='original survey design'!H21 -> 4 | I21: ='original survey design'!I21 -> 4 | J21: ='original survey design'!J21 -> 4
A22: ='original survey design'!A22 -> Opolskie (PL52) | B22: =LEFT('original survey design'!B22,FIND(")",'original survey design'!B22)) -> Large (100-199) | C22: ='original survey design'!C22 -> 2 | D22: ='original survey design'!D22 -> 3 | E22: ='original survey design'!E22 -> 1 | F22: ='original survey design'!F22 -> 5 | G22: ='original survey design'!G22 -> 1 | H22: ='original survey design'!H22 -> 3 | I22: ='original survey design'!I22 -> 1 | J22: ='original survey design'!J22 -> 5
A23: ='original survey design'!A23 -> Kujawsko-Pomorskie (PL61) | B23: =LEFT('original survey design'!B23,FIND(")",'original survey design'!B23)) -> Small (5-19) | C23: ='original survey design'!C23 -> 2 | D23: ='original survey design'!D23 -> 2 | E23: ='original survey design'!E23 -> 2 | F23: ='original survey design'!F23 -> 2 | G23: ='original survey design'!G23 -> 2 | H23: ='original survey design'!H23 -> 3 | I23: ='original survey design'!I23 -> 2 | J23: ='original survey design'!J23 -> 4 | K23: =SUM(C23:J25) -> 68
A24: ='original survey design'!A24 -> Kujawsko-Pomorskie (PL61) | B24: =LEFT('original survey design'!B24,FIND(")",'original survey design'!B24)) -> Medium (20-99) | C24: ='original survey design'!C24 -> 3 | D24: ='original survey design'!D24 -> 3 | E24: ='original survey design'!E24 -> 3 | F24: ='original survey design'!F24 -> 3 | G24: ='original survey design'!G24 -> 3 | H24: ='original survey design'!H24 -> 3 | I24: ='original survey design'!I24 -> 3 | J24: ='original survey design'!J24 -> 3
A25: ='original survey design'!A25 -> Kujawsko-Pomorskie (PL61) | B25: =LEFT('original survey design'!B25,FIND(")",'original survey design'!B25)) -> Large (100-199) | C25: ='original survey design'!C25 -> 4 | D25: ='original survey design'!D25 -> 4 | E25: ='original survey design'!E25 -> 1 | F25: ='original survey design'!F25 -> 4 | G25: ='original survey design'!G25 -> 3 | H25: ='original survey design'!H25 -> 3 | I25: ='original survey design'!I25 -> 2 | J25: ='original survey design'!J25 -> 4
A26: ='original survey design'!A26 -> Warmińsko-Mazurskie (PL62) | B26: =LEFT('original survey design'!B26,FIND(")",'original survey design'!B26)) -> Small (5-19) | C26: ='original survey design'!C26 -> 2 | D26: ='original survey design'!D26 -> 2 | E26: ='original survey design'!E26 -> 3 | F26: ='original survey design'!F26 -> 2 | G26: ='original survey design'!G26 -> 2 | H26: ='original survey design'!H26 -> 2 | I26: ='original survey design'!I26 -> 2 | J26: ='original survey design'!J26 -> 2 | K26: =SUM(C26:J28) -> 68
A27: ='original survey design'!A27 -> Warmińsko-Mazurskie (PL62) | B27: =LEFT('original survey design'!B27,FIND(")",'original survey design'!B27)) -> Medium (20-99) | C27: ='original survey design'!C27 -> 4 | D27: ='original survey design'!D27 -> 3 | E27: ='original survey design'!E27 -> 1 | F27: ='original survey design'!F27 -> 4 | G27: ='original survey design'!G27 -> 4 | H27: ='original survey design'!H27 -> 4 | I27: ='original survey design'!I27 -> 3 | J27: ='original survey design'!J27 -> 4
A28: ='original survey design'!A28 -> Warmińsko-Mazurskie (PL62) | B28: =LEFT('original survey design'!B28,FIND(")",'original survey design'!B28)) -> Large (100-199) | C28: ='original survey design'!C28 -> 4 | D28: ='original survey design'!D28 -> 4 | E28: ='original survey design'!E28 -> 1 | F28: ='original survey design'!F28 -> 5 | G28: ='original survey design'!G28 -> 2 | H28: ='original survey design'!H28 -> 3 | I28: ='original survey design'!I28 -> 1 | J28: ='original survey design'!J28 -> 4
A29: ='original survey design'!A29 -> Pomorskie (PL63) | B29: =LEFT('original survey design'!B29,FIND(")",'original survey design'!B29)) -> Small (5-19) | C29: ='original survey design'!C29 -> 2 | D29: ='original survey design'!D29 -> 2 | E29: ='original survey design'!E29 -> 2 | F29: ='original survey design'!F29 -> 2 | G29: ='original survey design'!G29 -> 2 | H29: ='original survey design'!H29 -> 4 | I29: ='original survey design'!I29 -> 3 | J29: ='original survey design'!J29 -> 5 | K29: =SUM(C29:J31) -> 68
A30: ='original survey design'!A30 -> Pomorskie (PL63) | B30: =LEFT('original survey design'!B30,FIND(")",'original survey design'!B30)) -> Medium (20-99) | C30: ='original survey design'!C30 -> 3 | D30: ='original survey design'!D30 -> 2 | E30: ='original survey design'!E30 -> 2 | F30: ='original survey design'!F30 -> 3 | G30: ='original survey design'!G30 -> 3 | H30: ='original survey design'!H30 -> 3 | I30: ='original survey design'!I30 -> 3 | J30: ='original survey design'!J30 -> 3
A31: ='original survey design'!A31 -> Pomorskie (PL63) | B31: =LEFT('original survey design'!B31,FIND(")",'original survey design'!B31)) -> Large (100-199) | C31: ='original survey design'!C31 -> 3 | D31: ='original survey design'!D31 -> 3 | E31: ='original survey design'!E31 -> 1 | F31: ='original survey design'!F31 -> 4 | G31: ='original survey design'!G31 -> 3 | H31: ='original survey design'!H31 -> 3 | I31: ='original survey design'!I31 -> 3 | J31: ='original survey design'!J31 -> 4
A32: ='original survey design'!A32 -> Łódzkie (PL71) | B32: =LEFT('original survey design'!B32,FIND(")",'original survey design'!B32)) -> Small (5-19) | C32: ='original survey design'!C32 -> 2 | D32: ='original survey design'!D32 -> 2 | E32: ='original survey design'!E32 -> 2 | F32: ='original survey design'!F32 -> 3 | G32: ='original survey design'!G32 -> 3 | H32: ='original survey design'!H32 -> 3 | I32: ='original survey design'!I32 -> 2 | J32: ='original survey design'!J32 -> 5 | K32: =SUM(C32:J34) -> 68
A33: ='original survey design'!A33 -> Łódzkie (PL71) | B33: =LEFT('original survey design'!B33,FIND(")",'original survey design'!B33)) -> Medium (20-99) | C33: ='original survey design'!C33 -> 3 | D33: ='original survey design'!D33 -> 2 | E33: ='original survey design'!E33 -> 3 | F33: ='original survey design'!F33 -> 3 | G33: ='original survey design'!G33 -> 3 | H33: ='original survey design'!H33 -> 3 | I33: ='original survey design'!I33 -> 2 | J33: ='original survey design'!J33 -> 3
A34: ='original survey design'!A34 -> Łódzkie (PL71) | B34: =LEFT('original survey design'!B34,FIND(")",'original survey design'!B34)) -> Large (100-199) | C34: ='original survey design'!C34 -> 3 | D34: ='original survey design'!D34 -> 3 | E34: ='original survey design'!E34 -> 2 | F34: ='original survey design'!F34 -> 4 | G34: ='original survey design'!G34 -> 3 | H34: ='original survey design'!H34 -> 3 | I34: ='original survey design'!I34 -> 3 | J34: ='original survey design'!J34 -> 3
A35: ='original survey design'!A35 -> Świętokrzyskie (PL72) | B35: =LEFT('original survey design'!B35,FIND(")",'original survey design'!B35)) -> Small (5-19) | C35: ='original survey design'!C35 -> 2 | D35: ='original survey design'!D35 -> 2 | E35: ='original survey design'!E35 -> 3 | F35: ='original survey design'!F35 -> 2 | G35: ='original survey design'!G35 -> 2 | H35: ='original survey design'!H35 -> 2 | I35: ='original survey design'!I35 -> 2 | J35: ='original survey design'!J35 -> 2 | K35: =SUM(C35:J37) -> 68
A36: ='original survey design'!A36 -> Świętokrzyskie (PL72) | B36: =LEFT('original survey design'!B36,FIND(")",'original survey design'!B36)) -> Medium (20-99) | C36: ='original survey design'!C36 -> 4 | D36: ='original survey design'!D36 -> 4 | E36: ='original survey design'!E36 -> 1 | F36: ='original survey design'!F36 -> 4 | G36: ='original survey design'!G36 -> 4 | H36: ='original survey design'!H36 -> 4 | I36: ='original survey design'!I36 -> 3 | J36: ='original survey design'!J36 -> 4
A37: ='original survey design'!A37 -> Świętokrzyskie (PL72) | B37: =LEFT('original survey design'!B37,FIND(")",'original survey design'!B37)) -> Large (100-199) | C37: ='original survey design'!C37 -> 2 | D37: ='original survey design'!D37 -> 4 | E37: ='original survey design'!E37 -> 1 | F37: ='original survey design'!F37 -> 5 | G37: ='original survey design'!G37 -> 3 | H37: ='original survey design'!H37 -> 2 | I37: ='original survey design'!I37 -> 1 | J37: ='original survey design'!J37 -> 5
A38: ='original survey design'!A38 -> Lubelskie (PL81) | B38: =LEFT('original survey design'!B38,FIND(")",'original survey design'!B38)) -> Small (5-19) | C38: ='original survey design'!C38 -> 2 | D38: ='original survey design'!D38 -> 2 | E38: ='original survey design'!E38 -> 3 | F38: ='original survey design'!F38 -> 2 | G38: ='original survey design'!G38 -> 2 | H38: ='original survey design'!H38 -> 3 | I38: ='original survey design'!I38 -> 2 | J38: ='original survey design'!J38 -> 4 | K38: =SUM(C38:J40) -> 68
A39: ='original survey design'!A39 -> Lubelskie (PL81) | B39: =LEFT('original survey design'!B39,FIND(")",'original survey design'!B39)) -> Medium (20-99) | C39: ='original survey design'!C39 -> 3 | D39: ='original survey design'!D39 -> 3 | E39: ='original survey design'!E39 -> 2 | F39: ='original survey design'!F39 -> 3 | G39: ='original survey design'!G39 -> 3 | H39: ='original survey design'!H39 -> 3 | I39: ='original survey design'!I39 -> 3 | J39: ='original survey design'!J39 -> 3
A40: ='original survey design'!A40 -> Lubelskie (PL81) | B40: =LEFT('original survey design'!B40,FIND(")",'original survey design'!B40)) -> Large (100-199) | C40: ='original survey design'!C40 -> 4 | D40: ='original survey design'!D40 -> 3 | E40: ='original survey design'!E40 -> 1 | F40: ='original survey design'!F40 -> 4 | G40: ='original survey design'!G40 -> 3 | H40: ='original survey design'!H40 -> 4 | I40: ='original survey design'!I40 -> 2 | J40: ='original survey design'!J40 -> 4
...

Sheet Table 4 Response Outcomes
D2: Totals | E2: Rates relative to total contacted
B3: Overall | C3: Contacts available in frame | D3: 1946538
C4: Issued | D4: 19100
C5: Contacted | D5: 12320
B6: Screening phase | C6: Eligibles | D6: 3111 | E6: =D6/D$5 -> 0.25251623
C7: Screener refusals | D7: 4654 | E7: =D7/D$5 -> 0.37775974
C8: Assumed eligibles | D8: 8382 | E8: =D8/D$5 -> 0.68035714
C9: Ineligible + out of target | D9: 1527 | E9: =D9/D$5 -> 0.12394481
C10: Unobtainables | D10: 3025 | E10: =D10/D$5 -> 0.24553571
B11: Interview phase | C11: Interview refusals | D11: 1386 | E11: =D11/D$5 -> 0.1125
B12: (only if eligible) | C12: Complete interviews | D12: 1725 | E12: =D12/D$5 -> 0.14001623

Sheet Table 5 Survey Yield Rates
C2: Stratification | D2: Yield | E2: Survey response rate | F2: Frame quality
B3: Panel | C3: Fresh | D3: =VLOOKUP($C3,'yield calculation'!$C:$F,2,FALSE) -> 0.13936652 | E3: =VLOOKUP($C3,'yield calculation'!$C:$F,3,FALSE) -> 0.20613037 | F3: =VLOOKUP($C3,'yield calculation'!$C:$F,4,FALSE) -> 0.6761086
C4: Panel | D4: =VLOOKUP($C4,'yield calculation'!$C:$F,2,FALSE) -> 0.14566929 | E4: =VLOOKUP($C4,'yield calculation'!$C:$F,3,FALSE) -> 0.20307355 | F4: =VLOOKUP($C4,'yield calculation'!$C:$F,4,FALSE) -> 0.71732283
B5: Size | C5: Small (5-19) | D5: =VLOOKUP($C5,'yield calculation'!$C:$F,2,FALSE) -> 0.12862691 | E5: =VLOOKUP($C5,'yield calculation'!$C:$F,3,FALSE) -> 0.2071376 | F5: =VLOOKUP($C5,'yield calculation'!$C:$F,4,FALSE) -> 0.62097327
C6: Medium (20-99) | D6: =VLOOKUP($C6,'yield calculation'!$C:$F,2,FALSE) -> 0.14786908 | E6: =VLOOKUP($C6,'yield calculation'!$C:$F,3,FALSE) -> 0.20422764 | F6: =VLOOKUP($C6,'yield calculation'!$C:$F,4,FALSE) -> 0.7240405
C7: Large (100+) | D7: =VLOOKUP($C7,'yield calculation'!$C:$F,2,FALSE) -> 0.14448052 | E7: =VLOOKUP($C7,'yield calculation'!$C:$F,3,FALSE) -> 0.20625724 | F7: =VLOOKUP($C7,'yield calculation'!$C:$F,4,FALSE) -> 0.70048701
B8: Region | C8: Małopolskie (PL21) | D8: =VLOOKUP($C8,'yield calculation'!$C:$F,2,FALSE) -> 0.21059783 | E8: =VLOOKUP($C8,'yield calculation'!$C:$F,3,FALSE) -> 0.29080675 | F8: =VLOOKUP($C8,'yield calculation'!$C:$F,4,FALSE) -> 0.72418478
C9: Śląskie (PL22) | D9: =VLOOKUP($C9,'yield calculation'!$C:$F,2,FALSE) -> 0.15895611 | E9: =VLOOKUP($C9,'yield calculation'!$C:$F,3,FALSE) -> 0.24144144 | F9: =VLOOKUP($C9,'yield calculation'!$C:$F,4,FALSE) -> 0.65836299
C10: Wielkopolskie (PL41) | D10: =VLOOKUP($C10,'yield calculation'!$C:$F,2,FALSE) -> 0.14489311 | E10: =VLOOKUP($C10,'yield calculation'!$C:$F,3,FALSE) -> 0.19805195 | F10: =VLOOKUP($C10,'yield calculation'!$C:$F,4,FALSE) -> 0.73159145
C11: Zachodniopomorskie (PL42) | D11: =VLOOKUP($C11,'yield calculation'!$C:$F,2,FALSE) -> 0.11707989 | E11: =VLOOKUP($C11,'yield calculation'!$C:$F,3,FALSE) -> 0.16898608 | F11: =VLOOKUP($C11,'yield calculation'!$C:$F,4,FALSE) -> 0.69283747
C12: Lubuskie (PL43) | D12: =VLOOKUP($C12,'yield calculation'!$C:$F,2,FALSE) -> 0.14264487 | E12: =VLOOKUP($C12,'yield calculation'!$C:$F,3,FALSE) -> 0.1995842 | F12: =VLOOKUP($C12,'yield calculation'!$C:$F,4,FALSE) -> 0.71471025
C13: Dolnośląskie (PL51) | D13: =VLOOKUP($C13,'yield calculation'!$C:$F,2,FALSE) -> 0.13802083 | E13: =VLOOKUP($C13,'yield calculation'!$C:$F,3,FALSE) -> 0.21031746 | F13: =VLOOKUP($C13,'yield calculation'!$C:$F,4,FALSE) -> 0.65625
C14: Opolskie (PL52) | D14: =VLOOKUP($C14,'yield calculation'!$C:$F,2,FALSE) -> 0.12456747 | E14: =VLOOKUP($C14,'yield calculation'!$C:$F,3,FALSE) -> 0.18604651 | F14: =VLOOKUP($C14,'yield calculation'!$C:$F,4,FALSE) -> 0.66955017
C15: Kujawsko-Pomorskie (PL61) | D15: =VLOOKUP($C15,'yield calculation'!$C:$F,2,FALSE) -> 0.14820359 | E15: =VLOOKUP($C15,'yield calculation'!$C:$F,3,FALSE) -> 0.20798319 | F15: =VLOOKUP($C15,'yield calculation'!$C:$F,4,FALSE) -> 0.71257485
C16: Warmińsko-Mazurskie (PL62) | D16: =VLOOKUP($C16,'yield calculation'!$C:$F,2,FALSE) -> 0.21520803 | E16: =VLOOKUP($C16,'yield calculation'!$C:$F,3,FALSE) -> 0.31055901 | F16: =VLOOKUP($C16,'yield calculation'!$C:$F,4,FALSE) -> 0.69296987
