Workbook

Sheet Table 1 Universe
C1: =RIGHT(SUBSTITUTE(universe!C1,"_"," "),LEN(SUBSTITUTE(universe!C1,"_"," "))-1) -> Food | D1: =RIGHT(SUBSTITUTE(universe!D1,"_"," "),LEN(SUBSTITUTE(universe!D1,"_"," "))-1) -> Textiles | E1: =RIGHT(SUBSTITUTE(universe!E1,"_"," "),LEN(SUBSTITUTE(universe!E1,"_"," "))-1) -> Garments | F1: =RIGHT(SUBSTITUTE(universe!F1,"_"," "),LEN(SUBSTITUTE(universe!F1,"_"," "))-1) -> Fabricated Metal Products | G1: =RIGHT(SUBSTITUTE(universe!G1,"_"," "),LEN(SUBSTITUTE(universe!G1,"_"," "))-1) -> Other Manufacturing | H1: =RIGHT(SUBSTITUTE(universe!H1,"_"," "),LEN(SUBSTITUTE(universe!H1,"_"," "))-1) -> Hotels | I1: =RIGHT(SUBSTITUTE(universe!I1,"_"," "),LEN(SUBSTITUTE(universe!I1,"_"," "))-1) -> Retail | J1: =RIGHT(SUBSTITUTE(universe!J1,"_"," "),LEN(SUBSTITUTE(universe!J1,"_"," "))-1) -> Construction | ... L1: =RIGHT(SUBSTITUTE(universe!L1,"_"," "),LEN(SUBSTITUTE(universe!L1,"_"," "))-1) -> Other Services | M1: Grand Total
A2: =universe!A2 -> Marmara Region | B2: =LEFT(universe!B2,FIND(")",universe!B2)) -> Small (5-19) | C2: =universe!C2 -> 3372 | D2: =universe!D2 -> 2823 | E2: =universe!E2 -> 7928 | F2: =universe!F2 -> 4338 | G2: =universe!G2 -> 16447 | H2: =universe!H2 -> 1494 | I2: =universe!I2 -> 15233 | J2: =universe!J2 -> 17853 | ... L2: =universe!L2 -> 51808 | M2: =SUM(C2:L4) -> 168912
A3: =universe!A3 -> Marmara Region | B3: =LEFT(universe!B3,FIND(")",universe!B3)) -> Medium (20-99) | C3: =universe!C3 -> 682 | D3: =universe!D3 -> 1341 | E3: =universe!E3 -> 2849 | F3: =universe!F3 -> 1410 | G3: =universe!G3 -> 6945 | H3: =universe!H3 -> 518 | I3: =universe!I3 -> 2290 | J3: =universe!J3 -> 4430 | ... L3: =universe!L3 -> 9833
A4: =universe!A4 -> Marmara Region | B4: =LEFT(universe!B4,FIND(")",universe!B4)) -> Large (100-199) | C4: =universe!C4 -> 274 | D4: =universe!D4 -> 498 | E4: =universe!E4 -> 709 | F4: =universe!F4 -> 321 | G4: =universe!G4 -> 2004 | H4: =universe!H4 -> 201 | I4: =universe!I4 -> 363 | J4: =universe!J4 -> 611 | ... L4: =universe!L4 -> 1264
A5: =universe!A5 -> Aegean Region | B5: =LEFT(universe!B5,FIND(")",universe!B5)) -> Small (5-19) | C5: =universe!C5 -> 1652 | D5: =universe!D5 -> 814 | E5: =universe!E5 -> 839 | F5: =universe!F5 -> 1080 | G5: =universe!G5 -> 4393 | H5: =universe!H5 -> 872 | I5: =universe!I5 -> 6191 | J5: =universe!J5 -> 6437 | ... L5: =universe!L5 -> 13829 | M5: =SUM(C5:L7) -> 48677
A6: =universe!A6 -> Aegean Region | B6: =LEFT(universe!B6,FIND(")",universe!B6)) -> Medium (20-99) | C6: =universe!C6 -> 536 | D6: =universe!D6 -> 433 | E6: =universe!E6 -> 361 | F6: =universe!F6 -> 334 | G6: =universe!G6 -> 1843 | H6: =universe!H6 -> 256 | I6: =universe!I6 -> 784 | J6: =universe!J6 -> 1463 | ... L6: =universe!L6 -> 2037
A7: =universe!A7 -> Aegean Region | B7: =LEFT(universe!B7,FIND(")",universe!B7)) -> Large (100-199) | C7: =universe!C7 -> 137 | D7: =universe!D7 -> 148 | E7: =universe!E7 -> 117 | F7: =universe!F7 -> 76 | G7: =universe!G7 -> 506 | H7: =universe!H7 -> 57 | I7: =universe!I7 -> 70 | J7: =universe!J7 -> 89 | ... L7: =universe!L7 -> 163
A8: =universe!A8 -> Mediterranean Region | B8: =LEFT(universe!B8,FIND(")",universe!B8)) -> Small (5-19) | C8: =universe!C8 -> 1115 | D8: =universe!D8 -> 129 | E8: =universe!E8 -> 317 | F8: =universe!F8 -> 639 | G8: =universe!G8 -> 2728 | H8: =universe!H8 -> 657 | I8: =universe!I8 -> 5292 | J8: =universe!J8 -> 4746 | ... L8: =universe!L8 -> 11283 | M8: =SUM(C8:L10) -> 37167
A9: =universe!A9 -> Mediterranean Region | B9: =LEFT(universe!B9,FIND(")",universe!B9)) -> Medium (20-99) | C9: =universe!C9 -> 276 | D9: =universe!D9 -> 100 | E9: =universe!E9 -> 145 | F9: =universe!F9 -> 192 | G9: =universe!G9 -> 864 | H9: =universe!H9 -> 265 | I9: =universe!I9 -> 698 | J9: =universe!J9 -> 1416 | ... L9: =universe!L9 -> 1785
A10: =universe!A10 -> Mediterranean Region | B10: =LEFT(universe!B10,FIND(")",universe!B10)) -> Large (100-199) | C10: =universe!C10 -> 45 | D10: =universe!D10 -> 112 | E10: =universe!E10 -> 94 | F10: =universe!F10 -> 51 | G10: =universe!G10 -> 192 | H10: =universe!H10 -> 203 | I10: =universe!I10 -> 62 | J10: =universe!J10 -> 133 | ... L10: =universe!L10 -> 159
A11: =universe!A11 -> Central Anatolia Region | B11: =LEFT(universe!B11,FIND(")",universe!B11)) -> Small (5-19) | C11: =universe!C11 -> 1242 | D11: =universe!D11 -> 153 | E11: =universe!E11 -> 287 | F11: =universe!F11 -> 1615 | G11: =universe!G11 -> 5250 | H11: =universe!H11 -> 463 | I11: =universe!I11 -> 5261 | J11: =universe!J11 -> 7369 | ... L11: =universe!L11 -> 14903 | M11: =SUM(C11:L13) -> 50479
A12: =universe!A12 -> Central Anatolia Region | B12: =LEFT(universe!B12,FIND(")",universe!B12)) -> Medium (20-99) | C12: =universe!C12 -> 427 | D12: =universe!D12 -> 55 | E12: =universe!E12 -> 73 | F12: =universe!F12 -> 507 | G12: =universe!G12 -> 2019 | H12: =universe!H12 -> 96 | I12: =universe!I12 -> 845 | J12: =universe!J12 -> 2542 | ... L12: =universe!L12 -> 2753
A13: =universe!A13 -> Central Anatolia Region | B13: =LEFT(universe!B13,FIND(")",universe!B13)) -> Large (100-199) | C13: =universe!C13 -> 116 | D13: =universe!D13 -> 29 | E13: =universe!E13 -> 34 | F13: =universe!F13 -> 108 | G13: =universe!G13 -> 460 | H13: =universe!H13 -> 70 | I13: =universe!I13 -> 126 | J13: =universe!J13 -> 463 | ... L13: =universe!L13 -> 275
A14: =universe!A14 -> Eastern Anatolia Region | B14: =LEFT(universe!B14,FIND(")",universe!B14)) -> Small (5-19) | C14: =universe!C14 -> 495 | D14: =universe!D14 -> 30 | E14: =universe!E14 -> 107 | F14: =universe!F14 -> 114 | G14: =universe!G14 -> 276 | H14: =universe!H14 -> 137 | I14: =universe!I14 -> 2021 | J14: =universe!J14 -> 2435 | ... L14: =universe!L14 -> 2945 | M14: =SUM(C14:L16) -> 11117
A15: =universe!A15 -> Eastern Anatolia Region | B15: =LEFT(universe!B15,FIND(")",universe!B15)) -> Medium (20-99) | C15: =universe!C15 -> 80 | D15: =universe!D15 -> 12 | E15: =universe!E15 -> 91 | F15: =universe!F15 -> 4 | G15: =universe!G15 -> 184 | H15: =universe!H15 -> 30 | I15: =universe!I15 -> 0 | J15: =universe!J15 -> 936 | ... L15: =universe!L15 -> 156
A16: =universe!A16 -> Eastern Anatolia Region | B16: =LEFT(universe!B16,FIND(")",universe!B16)) -> Large (100-199) | C16: =universe!C16 -> 10 | D16: =universe!D16 -> 8 | E16: =universe!E16 -> 51 | F16: =universe!F16 -> 0 | G16: =universe!G16 -> 11 | H16: =universe!H16 -> 0 | I16: =universe!I16 -> 0 | J16: =universe!J16 -> 72 | ... L16: =universe!L16 -> 3
A17: =universe!A17 -> Southeastern Anatolia Region | B17: =LEFT(universe!B17,FIND(")",universe!B17)) -> Small (5-19) | C17: =universe!C17 -> 678 | D17: =universe!D17 -> 314 | E17: =universe!E17 -> 519 | F17: =universe!F17 -> 276 | G17: =universe!G17 -> 1397 | H17: =universe!H17 -> 99 | I17: =universe!I17 -> 2503 | J17: =universe!J17 -> 2988 | ... L17: =universe!L17 -> 5070 | M17: =SUM(C17:L19) -> 20024
A18: =universe!A18 -> Southeastern Anatolia Region | B18: =LEFT(universe!B18,FIND(")",universe!B18)) -> Medium (20-99) | C18: =universe!C18 -> 198 | D18: =universe!D18 -> 0 | E18: =universe!E18 -> 365 | F18: =universe!F18 -> 0 | G18: =universe!G18 -> 424 | H18: =universe!H18 -> 60 | I18: =universe!I18 -> 325 | J18: =universe!J18 -> 1276 | ... L18: =universe!L18 -> 880
A19: =universe!A19 -> Southeastern Anatolia Region | B19: =LEFT(universe!B19,FIND(")",universe!B19)) -> Large (100-199) | C19: =universe!C19 -> 44 | D19: =universe!D19 -> 0 | E19: =universe!E19 -> 205 | F19: =universe!F19 -> 0 | G19: =universe!G19 -> 70 | H19: =universe!H19 -> 3 | I19: =universe!I19 -> 31 | J19: =universe!J19 -> 129 | ... L19: =universe!L19 -> 79
A20: =universe!A20 -> Black Sea Region | B20: =LEFT(universe!B20,FIND(")",universe!B20)) -> Small (5-19) | C20: =universe!C20 -> 1227 | D20: =universe!D20 -> 32 | E20: =universe!E20 -> 173 | F20: =universe!F20 -> 314 | G20: =universe!G20 -> 1252 | H20: =universe!H20 -> 307 | I20: =universe!I20 -> 3954 | J20: =universe!J20 -> 3581 | ... L20: =universe!L20 -> 5621 | M20: =SUM(C20:L22) -> 22010
A21: =universe!A21 -> Black Sea Region | B21: =LEFT(universe!B21,FIND(")",universe!B21)) -> Medium (20-99) | C21: =universe!C21 -> 277 | D21: =universe!D21 -> 14 | E21: =universe!E21 -> 184 | F21: =universe!F21 -> 66 | G21: =universe!G21 -> 615 | H21: =universe!H21 -> 0 | I21: =universe!I21 -> 551 | J21: =universe!J21 -> 804 | ... L21: =universe!L21 -> 825
A22: =universe!A22 -> Black Sea Region | B22: =LEFT(universe!B22,FIND(")",universe!B22)) -> Large (100-199) | C22: =universe!C22 -> 49 | D22: =universe!D22 -> 4 | E22: =universe!E22 -> 95 | F22: =universe!F22 -> 15 | G22: =universe!G22 -> 109 | H22: =universe!H22 -> 0 | I22: =universe!I22 -> 39 | J22: =universe!J22 -> 52 | ... L22: =universe!L22 -> 48
C23: =SUM(C2:C22) -> 12932 | D23: =SUM(D2:D22) -> 7049 | E23: =SUM(E2:E22) -> 15543 | F23: =SUM(F2:F22) -> 11460 | G23: =SUM(G2:G22) -> 47989 | H23: =SUM(H2:H22) -> 5788 | I23: =SUM(I2:I22) -> 46639 | J23: =SUM(J2:J22) -> 59825 | ... M23: =SUM(M2:M22) -> 358386
A24: Source:

Sheet Table 2 Frame
C1: =RIGHT(SUBSTITUTE('frame fresh and panel'!C1,"_"," "),LEN(SUBSTITUTE('frame fresh and panel'!C1,"_"," "))-1) -> Food | D1: =RIGHT(SUBSTITUTE('frame fresh and panel'!D1,"_"," "),LEN(SUBSTITUTE('frame fresh and panel'!D1,"_"," "))-1) -> Textiles | E1: =RIGHT(SUBSTITUTE('frame fresh and panel'!E1,"_"," "),LEN(SUBSTITUTE('frame fresh and panel'!E1,"_"," "))-1) -> Garments | F1: =RIGHT(SUBSTITUTE('frame fresh and panel'!F1,"_"," "),LEN(SUBSTITUTE('frame fresh and panel'!F1,"_"," "))-1) -> Fabricated Metal Products | G1: =RIGHT(SUBSTITUTE('frame fresh and panel'!G1,"_"," "),LEN(SUBSTITUTE('frame fresh and panel'!G1,"_"," "))-1) -> Other Manufacturing | H1: =RIGHT(SUBSTITUTE('frame fresh and panel'!H1,"_"," "),LEN(SUBSTITUTE('frame fresh and panel'!H1,"_"," "))-1) -> Hotels | I1: =RIGHT(SUBSTITUTE('frame fresh and panel'!I1,"_"," "),LEN(SUBSTITUTE('frame fresh and panel'!I1,"_"," "))-1) -> Retail | J1: =RIGHT(SUBSTITUTE('frame fresh and panel'!J1,"_"," "),LEN(SUBSTITUTE('frame fresh and panel'!J1,"_"," "))-1) -> Construction | ... L1: =RIGHT(SUBSTITUTE('frame fresh and panel'!L1,"_"," "),LEN(SUBSTITUTE('frame fresh and panel'!L1,"_"," "))-1) -> Other Services | M1: Grand Total
A2: ='frame fresh and panel'!A2 -> Marmara Region | B2: =LEFT('frame fresh and panel'!B2,FIND(")",'frame fresh and panel'!B2)) -> Small (5-19) | C2: ='frame fresh and panel'!C2 -> 106 | D2: ='frame fresh and panel'!D2 -> 107 | E2: ='frame fresh and panel'!E2 -> 182 | F2: ='frame fresh and panel'!F2 -> 124 | G2: ='frame fresh and panel'!G2 -> 537 | H2: ='frame fresh and panel'!H2 -> 46 | I2: ='frame fresh and panel'!I2 -> 431 | J2: ='frame fresh and panel'!J2 -> 372 | ... L2: ='frame fresh and panel'!L2 -> 1022 | M2: =SUM(C2:L4) -> 6345
A3: ='frame fresh and panel'!A3 -> Marmara Region | B3: =LEFT('frame fresh and panel'!B3,FIND(")",'frame fresh and panel'!B3)) -> Medium (20-99) | C3: ='frame fresh and panel'!C3 -> 119 | D3: ='frame fresh and panel'!D3 -> 187 | E3: ='frame fresh and panel'!E3 -> 255 | F3: ='frame fresh and panel'!F3 -> 211 | G3: ='frame fresh and panel'!G3 -> 330 | H3: ='frame fresh and panel'!H3 -> 150 | I3: ='frame fresh and panel'!I3 -> 87 | J3: ='frame fresh and panel'!J3 -> 116 | ... L3: ='frame fresh and panel'!L3 -> 296
A4: ='frame fresh and panel'!A4 -> Marmara Region | B4: =LEFT('frame fresh and panel'!B4,FIND(")",'frame fresh and panel'!B4)) -> Large (100 or more) | C4: ='frame fresh and panel'!C4 -> 143 | D4: ='frame fresh and panel'!D4 -> 190 | E4: ='frame fresh and panel'!E4 -> 145 | F4: ='frame fresh and panel'!F4 -> 206 | G4: ='frame fresh and panel'!G4 -> 110 | H4: ='frame fresh and panel'!H4 -> 180 | I4: ='frame fresh and panel'!I4 -> 63 | J4: ='frame fresh and panel'!J4 -> 64 | ... L4: ='frame fresh and panel'!L4 -> 66
A5: ='frame fresh and panel'!A5 -> Aegean Region | B5: =LEFT('frame fresh and panel'!B5,FIND(")",'frame fresh and panel'!B5)) -> Small (5-19) | C5: ='frame fresh and panel'!C5 -> 64 | D5: ='frame fresh and panel'!D5 -> 63 | E5: ='frame fresh and panel'!E5 -> 66 | F5: ='frame fresh and panel'!F5 -> 46 | G5: ='frame fresh and panel'!G5 -> 113 | H5: ='frame fresh and panel'!H5 -> 30 | I5: ='frame fresh and panel'!I5 -> 151 | J5: ='frame fresh and panel'!J5 -> 157 | ... L5: ='frame fresh and panel'!L5 -> 282 | M5: =SUM(C5:L7) -> 2701
A6: ='frame fresh and panel'!A6 -> Aegean Region | B6: =LEFT('frame fresh and panel'!B6,FIND(")",'frame fresh and panel'!B6)) -> Medium (20-99) | C6: ='frame fresh and panel'!C6 -> 110 | D6: ='frame fresh and panel'!D6 -> 98 | E6: ='frame fresh and panel'!E6 -> 71 | F6: ='frame fresh and panel'!F6 -> 110 | G6: ='frame fresh and panel'!G6 -> 82 | H6: ='frame fresh and panel'!H6 -> 135 | I6: ='frame fresh and panel'!I6 -> 62 | J6: ='frame fresh and panel'!J6 -> 65 | ... L6: ='frame fresh and panel'!L6 -> 78
A7: ='frame fresh and panel'!A7 -> Aegean Region | B7: =LEFT('frame fresh and panel'!B7,FIND(")",'frame fresh and panel'!B7)) -> Large (100 or more) | C7: ='frame fresh and panel'!C7 -> 62 | D7: ='frame fresh and panel'!D7 -> 130 | E7: ='frame fresh and panel'!E7 -> 110 | F7: ='frame fresh and panel'!F7 -> 80 | G7: ='frame fresh and panel'!G7 -> 71 | H7: ='frame fresh and panel'!H7 -> 57 | I7: ='frame fresh and panel'!I7 -> 63 | J7: ='frame fresh and panel'!J7 -> 62 | ... L7: ='frame fresh and panel'!L7 -> 63
A8: ='frame fresh and panel'!A8 -> Mediterranean Region | B8: =LEFT('frame fresh and panel'!B8,FIND(")",'frame fresh and panel'!B8)) -> Small (5-19) | C8: ='frame fresh and panel'!C8 -> 62 | D8: ='frame fresh and panel'!D8 -> 63 | E8: ='frame fresh and panel'!E8 -> 67 | F8: ='frame fresh and panel'!F8 -> 63 | G8: ='frame fresh and panel'!G8 -> 101 | H8: ='frame fresh and panel'!H8 -> 30 | I8: ='frame fresh and panel'!I8 -> 132 | J8: ='frame fresh and panel'!J8 -> 122 | ... L8: ='frame fresh and panel'!L8 -> 233 | M8: =SUM(C8:L10) -> 2557
A9: ='frame fresh and panel'!A9 -> Mediterranean Region | B9: =LEFT('frame fresh and panel'!B9,FIND(")",'frame fresh and panel'!B9)) -> Medium (20-99) | C9: ='frame fresh and panel'!C9 -> 95 | D9: ='frame fresh and panel'!D9 -> 81 | E9: ='frame fresh and panel'!E9 -> 67 | F9: ='frame fresh and panel'!F9 -> 94 | G9: ='frame fresh and panel'!G9 -> 68 | H9: ='frame fresh and panel'!H9 -> 135 | I9: ='frame fresh and panel'!I9 -> 64 | J9: ='frame fresh and panel'!J9 -> 62 | ... L9: ='frame fresh and panel'!L9 -> 30
A10: ='frame fresh and panel'!A10 -> Mediterranean Region | B10: =LEFT('frame fresh and panel'!B10,FIND(")",'frame fresh and panel'!B10)) -> Large (100 or more) | C10: ='frame fresh and panel'!C10 -> 49 | D10: ='frame fresh and panel'!D10 -> 122 | E10: ='frame fresh and panel'!E10 -> 107 | F10: ='frame fresh and panel'!F10 -> 59 | G10: ='frame fresh and panel'!G10 -> 69 | H10: ='frame fresh and panel'!H10 -> 180 | I10: ='frame fresh and panel'!I10 -> 65 | J10: ='frame fresh and panel'!J10 -> 46 | ... L10: ='frame fresh and panel'!L10 -> 46
A11: ='frame fresh and panel'!A11 -> Central Anatolia Region | B11: =LEFT('frame fresh and panel'!B11,FIND(")",'frame fresh and panel'!B11)) -> Small (5-19) | C11: ='frame fresh and panel'!C11 -> 69 | D11: ='frame fresh and panel'!D11 -> 71 | E11: ='frame fresh and panel'!E11 -> 63 | F11: ='frame fresh and panel'!F11 -> 68 | G11: ='frame fresh and panel'!G11 -> 147 | H11: ='frame fresh and panel'!H11 -> 30 | I11: ='frame fresh and panel'!I11 -> 137 | J11: ='frame fresh and panel'!J11 -> 172 | ... L11: ='frame fresh and panel'!L11 -> 300 | M11: =SUM(C11:L13) -> 2729
A12: ='frame fresh and panel'!A12 -> Central Anatolia Region | B12: =LEFT('frame fresh and panel'!B12,FIND(")",'frame fresh and panel'!B12)) -> Medium (20-99) | C12: ='frame fresh and panel'!C12 -> 115 | D12: ='frame fresh and panel'!D12 -> 66 | E12: ='frame fresh and panel'!E12 -> 68 | F12: ='frame fresh and panel'!F12 -> 140 | G12: ='frame fresh and panel'!G12 -> 101 | H12: ='frame fresh and panel'!H12 -> 97 | I12: ='frame fresh and panel'!I12 -> 46 | J12: ='frame fresh and panel'!J12 -> 84 | ... L12: ='frame fresh and panel'!L12 -> 100
A13: ='frame fresh and panel'!A13 -> Central Anatolia Region | B13: =LEFT('frame fresh and panel'!B13,FIND(")",'frame fresh and panel'!B13)) -> Large (100 or more) | C13: ='frame fresh and panel'!C13 -> 125 | D13: ='frame fresh and panel'!D13 -> 35 | E13: ='frame fresh and panel'!E13 -> 38 | F13: ='frame fresh and panel'!F13 -> 118 | G13: ='frame fresh and panel'!G13 -> 86 | H13: ='frame fresh and panel'!H13 -> 70 | I13: ='frame fresh and panel'!I13 -> 67 | J13: ='frame fresh and panel'!J13 -> 69 | ... L13: ='frame fresh and panel'!L13 -> 62
A14: ='frame fresh and panel'!A14 -> Eastern Anatolia Region | B14: =LEFT('frame fresh and panel'!B14,FIND(")",'frame fresh and panel'!B14)) -> Small (5-19) | C14: ='frame fresh and panel'!C14 -> 91 | D14: ='frame fresh and panel'!D14 -> 30 | E14: ='frame fresh and panel'!E14 -> 65 | F14: ='frame fresh and panel'!F14 -> 71 | G14: ='frame fresh and panel'!G14 -> 75 | H14: ='frame fresh and panel'!H14 -> 46 | I14: ='frame fresh and panel'!I14 -> 114 | J14: ='frame fresh and panel'!J14 -> 104 | ... L14: ='frame fresh and panel'!L14 -> 116 | M14: =SUM(C14:L16) -> 1495
A15: ='frame fresh and panel'!A15 -> Eastern Anatolia Region | B15: =LEFT('frame fresh and panel'!B15,FIND(")",'frame fresh and panel'!B15)) -> Medium (20-99) | C15: ='frame fresh and panel'!C15 -> 90 | D15: ='frame fresh and panel'!D15 -> 13 | E15: ='frame fresh and panel'!E15 -> 62 | F15: ='frame fresh and panel'!F15 -> 4 | G15: ='frame fresh and panel'!G15 -> 76 | H15: ='frame fresh and panel'!H15 -> 32 | I15: ='frame fresh and panel'!I15 -> 18 | J15: ='frame fresh and panel'!J15 -> 84 | ... L15: ='frame fresh and panel'!L15 -> 78
A16: ='frame fresh and panel'!A16 -> Eastern Anatolia Region | B16: =LEFT('frame fresh and panel'!B16,FIND(")",'frame fresh and panel'!B16)) -> Large (100 or more) | C16: ='frame fresh and panel'!C16 -> 11 | D16: ='frame fresh and panel'!D16 -> 13 | E16: ='frame fresh and panel'!E16 -> 52 | F16: ='frame fresh and panel'!F16 -> 0 | G16: ='frame fresh and panel'!G16 -> 13 | H16: ='frame fresh and panel'!H16 -> 0 | I16: ='frame fresh and panel'!I16 -> 3 | J16: ='frame fresh and panel'!J16 -> 65 | ... L16: ='frame fresh and panel'!L16 -> 5
A17: ='frame fresh and panel'!A17 -> Southeastern Anatolia Region | B17: =LEFT('frame fresh and panel'!B17,FIND(")",'frame fresh and panel'!B17)) -> Small (5-19) | C17: ='frame fresh and panel'!C17 -> 67 | D17: ='frame fresh and panel'!D17 -> 67 | E17: ='frame fresh and panel'!E17 -> 66 | F17: ='frame fresh and panel'!F17 -> 65 | G17: ='frame fresh and panel'!G17 -> 69 | H17: ='frame fresh and panel'!H17 -> 30 | I17: ='frame fresh and panel'!I17 -> 83 | J17: ='frame fresh and panel'!J17 -> 92 | ... L17: ='frame fresh and panel'!L17 -> 122 | M17: =SUM(C17:L19) -> 1594
A18: ='frame fresh and panel'!A18 -> Southeastern Anatolia Region | B18: =LEFT('frame fresh and panel'!B18,FIND(")",'frame fresh and panel'!B18)) -> Medium (20-99) | C18: ='frame fresh and panel'!C18 -> 95 | D18: ='frame fresh and panel'!D18 -> 9 | E18: ='frame fresh and panel'!E18 -> 66 | F18: ='frame fresh and panel'!F18 -> 3 | G18: ='frame fresh and panel'!G18 -> 76 | H18: ='frame fresh and panel'!H18 -> 60 | I18: ='frame fresh and panel'!I18 -> 63 | J18: ='frame fresh and panel'!J18 -> 65 | ... L18: ='frame fresh and panel'!L18 -> 65
A19: ='frame fresh and panel'!A19 -> Southeastern Anatolia Region | B19: =LEFT('frame fresh and panel'!B19,FIND(")",'frame fresh and panel'!B19)) -> Large (100 or more) | C19: ='frame fresh and panel'!C19 -> 46 | D19: ='frame fresh and panel'!D19 -> 22 | E19: ='frame fresh and panel'!E19 -> 78 | F19: ='frame fresh and panel'!F19 -> 1 | G19: ='frame fresh and panel'!G19 -> 62 | H19: ='frame fresh and panel'!H19 -> 3 | I19: ='frame fresh and panel'!I19 -> 30 | J19: ='frame fresh and panel'!J19 -> 63 | ... L19: ='frame fresh and panel'!L19 -> 63
A20: ='frame fresh and panel'!A20 -> Black Sea Region | B20: =LEFT('frame fresh and panel'!B20,FIND(")",'frame fresh and panel'!B20)) -> Small (5-19) | C20: ='frame fresh and panel'!C20 -> 71 | D20: ='frame fresh and panel'!D20 -> 41 | E20: ='frame fresh and panel'!E20 -> 65 | F20: ='frame fresh and panel'!F20 -> 73 | G20: ='frame fresh and panel'!G20 -> 89 | H20: ='frame fresh and panel'!H20 -> 30 | I20: ='frame fresh and panel'!I20 -> 132 | J20: ='frame fresh and panel'!J20 -> 102 | ... L20: ='frame fresh and panel'!L20 -> 145 | M20: =SUM(C20:L22) -> 1863
A21: ='frame fresh and panel'!A21 -> Black Sea Region | B21: =LEFT('frame fresh and panel'!B21,FIND(")",'frame fresh and panel'!B21)) -> Medium (20-99) | C21: ='frame fresh and panel'!C21 -> 105 | D21: ='frame fresh and panel'!D21 -> 21 | E21: ='frame fresh and panel'!E21 -> 69 | F21: ='frame fresh and panel'!F21 -> 70 | G21: ='frame fresh and panel'!G21 -> 94 | H21: ='frame fresh and panel'!H21 -> 0 | I21: ='frame fresh and panel'!I21 -> 84 | J21: ='frame fresh and panel'!J21 -> 79 | ... L21: ='frame fresh and panel'!L21 -> 66
A22: ='frame fresh and panel'!A22 -> Black Sea Region | B22: =LEFT('frame fresh and panel'!B22,FIND(")",'frame fresh and panel'!B22)) -> Large (100 or more) | C22: ='frame fresh and panel'!C22 -> 54 | D22: ='frame fresh and panel'!D22 -> 5 | E22: ='frame fresh and panel'!E22 -> 110 | F22: ='frame fresh and panel'!F22 -> 17 | G22: ='frame fresh and panel'!G22 -> 66 | H22: ='frame fresh and panel'!H22 -> 2 | I22: ='frame fresh and panel'!I22 -> 40 | J22: ='frame fresh and panel'!J22 -> 55 | ... L22: ='frame fresh and panel'!L22 -> 46
C23: =SUM(C2:C22) -> 1749 | D23: =SUM(D2:D22) -> 1434 | E23: =SUM(E2:E22) -> 1872 | F23: =SUM(F2:F22) -> 1623 | G23: =SUM(G2:G22) -> 2435 | H23: =SUM(H2:H22) -> 1343 | I23: =SUM(I2:I22) -> 1935 | J23: =SUM(J2:J22) -> 2100 | ... M23: =SUM(M2:M22) -> 19284
A24: Source:

Sheet Table 3 Original Survey Design
C1: =RIGHT(SUBSTITUTE('original survey design'!C1,"_"," "),LEN(SUBSTITUTE('original survey design'!C1,"_"," "))-1) -> Food | D1: =RIGHT(SUBSTITUTE('original survey design'!D1,"_"," "),LEN(SUBSTITUTE('original survey design'!D1,"_"," "))-1) -> Textiles | E1: =RIGHT(SUBSTITUTE('original survey design'!E1,"_"," "),LEN(SUBSTITUTE('original survey design'!E1,"_"," "))-1) -> Garments | F1: =RIGHT(SUBSTITUTE('original survey design'!F1,"_"," "),LEN(SUBSTITUTE('original survey design'!F1,"_"," "))-1) -> Fabricated Metal Products | G1: =RIGHT(SUBSTITUTE('original survey design'!G1,"_"," "),LEN(SUBSTITUTE('original survey design'!G1,"_"," "))-1) -> Other Manufacturing | H1: =RIGHT(SUBSTITUTE('original survey design'!H1,"_"," "),LEN(SUBSTITUTE('original survey design'!H1,"_"," "))-1) -> Hotels | I1: =RIGHT(SUBSTITUTE('original survey design'!I1,"_"," "),LEN(SUBSTITUTE('original survey design'!I1,"_"," "))-1) -> Retail | J1: =RIGHT(SUBSTITUTE('original survey design'!J1,"_"," "),LEN(SUBSTITUTE('original survey design'!J1,"_"," "))-1) -> Construction | ... L1: =RIGHT(SUBSTITUTE('original survey design'!L1,"_"," "),LEN(SUBSTITUTE('original survey design'!L1,"_"," "))-1) -> Other Services | M1: Grand Total
A2: ='original survey design'!A2 -> Marmara Region | B2: =LEFT('original survey design'!B2,FIND(")",'original survey design'!B2)) -> Small (5-19) | C2: ='original survey design'!C2 -> 6 | D2: ='original survey design'!D2 -> 6 | E2: ='original survey design'!E2 -> 11 | F2: ='original survey design'!F2 -> 7 | G2: ='original survey design'!G2 -> 32 | H2: ='original survey design'!H2 -> 3 | I2: ='original survey design'!I2 -> 27 | J2: ='original survey design'!J2 -> 24 | ... L2: ='original survey design'!L2 -> 67 | M2: =SUM(C2:L4) -> 395
A3: ='original survey design'!A3 -> Marmara Region | B3: =LEFT('original survey design'!B3,FIND(")",'original survey design'!B3)) -> Medium (20-99) | C3: ='original survey design'!C3 -> 7 | D3: ='original survey design'!D3 -> 11 | E3: ='original survey design'!E3 -> 16 | F3: ='original survey design'!F3 -> 13 | G3: ='original survey design'!G3 -> 20 | H3: ='original survey design'!H3 -> 10 | I3: ='original survey design'!I3 -> 5 | J3: ='original survey design'!J3 -> 7 | ... L3: ='original survey design'!L3 -> 19
A4: ='original survey design'!A4 -> Marmara Region | B4: =LEFT('original survey design'!B4,FIND(")",'original survey design'!B4)) -> Large (100-199) | C4: ='original survey design'!C4 -> 9 | D4: ='original survey design'!D4 -> 11 | E4: ='original survey design'!E4 -> 9 | F4: ='original survey design'!F4 -> 13 | G4: ='original survey design'!G4 -> 5 | H4: ='original survey design'!H4 -> 12 | I4: ='original survey design'!I4 -> 4 | J4: ='original survey design'!J4 -> 4 | ... L4: ='original survey design'!L4 -> 4
A5: ='original survey design'!A5 -> Aegean Region | B5: =LEFT('original survey design'!B5,FIND(")",'original survey design'!B5)) -> Small (5-19) | C5: ='original survey design'!C5 -> 4 | D5: ='original survey design'!D5 -> 4 | E5: ='original survey design'!E5 -> 4 | F5: ='original survey design'!F5 -> 3 | G5: ='original survey design'!G5 -> 7 | H5: ='original survey design'!H5 -> 2 | I5: ='original survey design'!I5 -> 9 | J5: ='original survey design'!J5 -> 10 | ... L5: ='original survey design'!L5 -> 18 | M5: =SUM(C5:L7) -> 182
A6: ='original survey design'!A6 -> Aegean Region | B6: =LEFT('original survey design'!B6,FIND(")",'original survey design'!B6)) -> Medium (20-99) | C6: ='original survey design'!C6 -> 7 | D6: ='original survey design'!D6 -> 6 | E6: ='original survey design'!E6 -> 4 | F6: ='original survey design'!F6 -> 7 | G6: ='original survey design'!G6 -> 5 | H6: ='original survey design'!H6 -> 9 | I6: ='original survey design'!I6 -> 4 | J6: ='original survey design'!J6 -> 4 | ... L6: ='original survey design'!L6 -> 5
A7: ='original survey design'!A7 -> Aegean Region | B7: =LEFT('original survey design'!B7,FIND(")",'original survey design'!B7)) -> Large (100-199) | C7: ='original survey design'!C7 -> 4 | D7: ='original survey design'!D7 -> 8 | E7: ='original survey design'!E7 -> 7 | F7: ='original survey design'!F7 -> 7 | G7: ='original survey design'!G7 -> 4 | H7: ='original survey design'!H7 -> 11 | I7: ='original survey design'!I7 -> 4 | J7: ='original survey design'!J7 -> 4 | ... L7: ='original survey design'!L7 -> 4
A8: ='original survey design'!A8 -> Mediterranean Region | B8: =LEFT('original survey design'!B8,FIND(")",'original survey design'!B8)) -> Small (5-19) | C8: ='original survey design'!C8 -> 4 | D8: ='original survey design'!D8 -> 4 | E8: ='original survey design'!E8 -> 4 | F8: ='original survey design'!F8 -> 4 | G8: ='original survey design'!G8 -> 6 | H8: ='original survey design'!H8 -> 2 | I8: ='original survey design'!I8 -> 8 | J8: ='original survey design'!J8 -> 8 | ... L8: ='original survey design'!L8 -> 15 | M8: =SUM(C8:L10) -> 177
A9: ='original survey design'!A9 -> Mediterranean Region | B9: =LEFT('original survey design'!B9,FIND(")",'original survey design'!B9)) -> Medium (20-99) | C9: ='original survey design'!C9 -> 6 | D9: ='original survey design'!D9 -> 5 | E9: ='original survey design'!E9 -> 4 | F9: ='original survey design'!F9 -> 6 | G9: ='original survey design'!G9 -> 4 | H9: ='original survey design'!H9 -> 9 | I9: ='original survey design'!I9 -> 4 | J9: ='original survey design'!J9 -> 4 | ... L9: ='original survey design'!L9 -> 2
A10: ='original survey design'!A10 -> Mediterranean Region | B10: =LEFT('original survey design'!B10,FIND(")",'original survey design'!B10)) -> Large (100-199) | C10: ='original survey design'!C10 -> 6 | D10: ='original survey design'!D10 -> 8 | E10: ='original survey design'!E10 -> 7 | F10: ='original survey design'!F10 -> 10 | G10: ='original survey design'!G10 -> 4 | H10: ='original survey design'!H10 -> 12 | I10: ='original survey design'!I10 -> 4 | J10: ='original survey design'!J10 -> 3 | ... L10: ='original survey design'!L10 -> 3
A11: ='original survey design'!A11 -> Central Anatolia Region | B11: =LEFT('original survey design'!B11,FIND(")",'original survey design'!B11)) -> Small (5-19) | C11: ='original survey design'!C11 -> 4 | D11: ='original survey design'!D11 -> 4 | E11: ='original survey design'!E11 -> 4 | F11: ='original survey design'!F11 -> 4 | G11: ='original survey design'!G11 -> 8 | H11: ='original survey design'!H11 -> 2 | I11: ='original survey design'!I11 -> 8 | J11: ='original survey design'!J11 -> 11 | ... L11: ='original survey design'!L11 -> 19 | M11: =SUM(C11:L13) -> 194
A12: ='original survey design'!A12 -> Central Anatolia Region | B12: =LEFT('original survey design'!B12,FIND(")",'original survey design'!B12)) -> Medium (20-99) | C12: ='original survey design'!C12 -> 7 | D12: ='original survey design'!D12 -> 5 | E12: ='original survey design'!E12 -> 4 | F12: ='original survey design'!F12 -> 8 | G12: ='original survey design'!G12 -> 5 | H12: ='original survey design'!H12 -> 8 | I12: ='original survey design'!I12 -> 3 | J12: ='original survey design'!J12 -> 5 | ... L12: ='original survey design'!L12 -> 6
A13: ='original survey design'!A13 -> Central Anatolia Region | B13: =LEFT('original survey design'!B13,FIND(")",'original survey design'!B13)) -> Large (100-199) | C13: ='original survey design'!C13 -> 9 | D13: ='original survey design'!D13 -> 8 | E13: ='original survey design'!E13 -> 6 | F13: ='original survey design'!F13 -> 11 | G13: ='original survey design'!G13 -> 4 | H13: ='original survey design'!H13 -> 12 | I13: ='original survey design'!I13 -> 4 | J13: ='original survey design'!J13 -> 4 | ... L13: ='original survey design'!L13 -> 4
A14: ='original survey design'!A14 -> Eastern Anatolia Region | B14: =LEFT('original survey design'!B14,FIND(")",'original survey design'!B14)) -> Small (5-19) | C14: ='original survey design'!C14 -> 4 | D14: ='original survey design'!D14 -> 2 | E14: ='original survey design'!E14 -> 4 | F14: ='original survey design'!F14 -> 4 | G14: ='original survey design'!G14 -> 4 | H14: ='original survey design'!H14 -> 3 | I14: ='original survey design'!I14 -> 5 | J14: ='original survey design'!J14 -> 5 | ... L14: ='original survey design'!L14 -> 6 | M14: =SUM(C14:L16) -> 120
A15: ='original survey design'!A15 -> Eastern Anatolia Region | B15: =LEFT('original survey design'!B15,FIND(")",'original survey design'!B15)) -> Medium (20-99) | C15: ='original survey design'!C15 -> 8 | D15: ='original survey design'!D15 -> 3 | E15: ='original survey design'!E15 -> 4 | F15: ='original survey design'!F15 -> 1 | G15: ='original survey design'!G15 -> 4 | H15: ='original survey design'!H15 -> 10 | I15: ='original survey design'!I15 -> 2 | J15: ='original survey design'!J15 -> 4 | ... L15: ='original survey design'!L15 -> 4
A16: ='original survey design'!A16 -> Eastern Anatolia Region | B16: =LEFT('original survey design'!B16,FIND(")",'original survey design'!B16)) -> Large (100-199) | C16: ='original survey design'!C16 -> 4 | D16: ='original survey design'!D16 -> 7 | E16: ='original survey design'!E16 -> 4 | F16: ='original survey design'!F16 -> 0 | G16: ='original survey design'!G16 -> 4 | H16: ='original survey design'!H16 -> 0 | I16: ='original survey design'!I16 -> 2 | J16: ='original survey design'!J16 -> 4 | ... L16: ='original survey design'!L16 -> 3
A17: ='original survey design'!A17 -> Southeastern Anatolia Region | B17: =LEFT('original survey design'!B17,FIND(")",'original survey design'!B17)) -> Small (5-19) | C17: ='original survey design'!C17 -> 4 | D17: ='original survey design'!D17 -> 4 | E17: ='original survey design'!E17 -> 4 | F17: ='original survey design'!F17 -> 4 | G17: ='original survey design'!G17 -> 4 | H17: ='original survey design'!H17 -> 2 | I17: ='original survey design'!I17 -> 5 | J17: ='original survey design'!J17 -> 6 | ... L17: ='original survey design'!L17 -> 8 | M17: =SUM(C17:L19) -> 123
A18: ='original survey design'!A18 -> Southeastern Anatolia Region | B18: =LEFT('original survey design'!B18,FIND(")",'original survey design'!B18)) -> Medium (20-99) | C18: ='original survey design'!C18 -> 6 | D18: ='original survey design'!D18 -> 5 | E18: ='original survey design'!E18 -> 4 | F18: ='original survey design'!F18 -> 3 | G18: ='original survey design'!G18 -> 4 | H18: ='original survey design'!H18 -> 8 | I18: ='original survey design'!I18 -> 4 | J18: ='original survey design'!J18 -> 4 | ... L18: ='original survey design'!L18 -> 4
A19: ='original survey design'!A19 -> Southeastern Anatolia Region | B19: =LEFT('original survey design'!B19,FIND(")",'original survey design'!B19)) -> Large (100-199) | C19: ='original survey design'!C19 -> 4 | D19: ='original survey design'!D19 -> 8 | E19: ='original survey design'!E19 -> 5 | F19: ='original survey design'!F19 -> 1 | G19: ='original survey design'!G19 -> 4 | H19: ='original survey design'!H19 -> 1 | I19: ='original survey design'!I19 -> 3 | J19: ='original survey design'!J19 -> 4 | ... L19: ='original survey design'!L19 -> 4
A20: ='original survey design'!A20 -> Black Sea Region | B20: =LEFT('original survey design'!B20,FIND(")",'original survey design'!B20)) -> Small (5-19) | C20: ='original survey design'!C20 -> 4 | D20: ='original survey design'!D20 -> 4 | E20: ='original survey design'!E20 -> 4 | F20: ='original survey design'!F20 -> 4 | G20: ='original survey design'!G20 -> 4 | H20: ='original survey design'!H20 -> 2 | I20: ='original survey design'!I20 -> 7 | J20: ='original survey design'!J20 -> 6 | ... L20: ='original survey design'!L20 -> 9 | M20: =SUM(C20:L22) -> 129
A21: ='original survey design'!A21 -> Black Sea Region | B21: =LEFT('original survey design'!B21,FIND(")",'original survey design'!B21)) -> Medium (20-99) | C21: ='original survey design'!C21 -> 6 | D21: ='original survey design'!D21 -> 5 | E21: ='original survey design'!E21 -> 4 | F21: ='original survey design'!F21 -> 6 | G21: ='original survey design'!G21 -> 4 | H21: ='original survey design'!H21 -> 0 | I21: ='original survey design'!I21 -> 4 | J21: ='original survey design'!J21 -> 4 | ... L21: ='original survey design'!L21 -> 4
A22: ='original survey design'!A22 -> Black Sea Region | B22: =LEFT('original survey design'!B22,FIND(")",'original survey design'!B22)) -> Large (100-199) | C22: ='original survey design'!C22 -> 7 | D22: ='original survey design'!D22 -> 2 | E22: ='original survey design'!E22 -> 7 | F22: ='original survey design'!F22 -> 4 | G22: ='original survey design'!G22 -> 4 | H22: ='original survey design'!H22 -> 2 | I22: ='original survey design'!I22 -> 4 | J22: ='original survey design'!J22 -> 4 | ... L22: ='original survey design'!L22 -> 3
C23: =SUM(C2:C22) -> 120 | D23: =SUM(D2:D22) -> 120 | E23: =SUM(E2:E22) -> 120 | F23: =SUM(F2:F22) -> 120 | G23: =SUM(G2:G22) -> 140 | H23: =SUM(H2:H22) -> 120 | I23: =SUM(I2:I22) -> 120 | J23: =SUM(J2:J22) -> 129 | ... M23: =SUM(M2:M22) -> 1320

Sheet Table 4 Response Outcomes
D2: Totals | E2: Rates relative to total contacted
B3: Overall | C3: Contacts available in frame | D3: 19284
C4: Issued | D4: 8985
C5: Contacted | D5: 8827
B6: Screening phase | C6: Eligibles | D6: 1463 | E6: =D6/D$5 -> 0.16574148
C7: Screener refusals | D7: 4742 | E7: =D7/D$5 -> 0.53721536
C8: Assumed eligibles | D8: 6233 | E8: =D8/D$5 -> 0.70612892
C9: Ineligible + out of target | D9: 173 | E9: =D9/D$5 -> 0.019598958
C10: Unobtainables | D10: 1624 | E10: =D10/D$5 -> 0.18398097
B11: Interview phase | C11: Interview refusals | D11: 29 | E11: =D11/D$5 -> 0.0032853744
B12: (only if eligible) | C12: Complete interviews | D12: 1416 | E12: =D12/D$5 -> 0.1604169

Sheet Table 5 Survey Yield Rates
C2: Stratification | D2: Yield | E2: Survey response rate | F2: Frame quality
B3: Panel | C3: Fresh | D3: =VLOOKUP($C3,'yield calculation'!$C:$F,2,FALSE) -> 0.15687369 | E3: =VLOOKUP($C3,'yield calculation'!$C:$F,3,FALSE) -> 0.22359259 | F3: =VLOOKUP($C3,'yield calculation'!$C:$F,4,FALSE) -> 0.70160502
C4: Panel | D4: =VLOOKUP($C4,'yield calculation'!$C:$F,2,FALSE) -> 0.17569193 | E4: =VLOOKUP($C4,'yield calculation'!$C:$F,3,FALSE) -> 0.24212272 | F4: =VLOOKUP($C4,'yield calculation'!$C:$F,4,FALSE) -> 0.72563177
B5: Size | C5: Small (5-19) | D5: =VLOOKUP($C5,'yield calculation'!$C:$F,2,FALSE) -> 0.16625857 | E5: =VLOOKUP($C5,'yield calculation'!$C:$F,3,FALSE) -> 0.23576389 | F5: =VLOOKUP($C5,'yield calculation'!$C:$F,4,FALSE) -> 0.70519102
C6: Medium (20-99) | D6: =VLOOKUP($C6,'yield calculation'!$C:$F,2,FALSE) -> 0.15877128 | E6: =VLOOKUP($C6,'yield calculation'!$C:$F,3,FALSE) -> 0.21590337 | F6: =VLOOKUP($C6,'yield calculation'!$C:$F,4,FALSE) -> 0.73538119
C7: Large (100+) | D7: =VLOOKUP($C7,'yield calculation'!$C:$F,2,FALSE) -> 0.15090641 | E7: =VLOOKUP($C7,'yield calculation'!$C:$F,3,FALSE) -> 0.22547585 | F7: =VLOOKUP($C7,'yield calculation'!$C:$F,4,FALSE) -> 0.66927975
B8: Region | C8: Marmara Region | D8: =VLOOKUP($C8,'yield calculation'!$C:$F,2,FALSE) -> 0.17151411 | E8: =VLOOKUP($C8,'yield calculation'!$C:$F,3,FALSE) -> 0.46845794 | F8: =VLOOKUP($C8,'yield calculation'!$C:$F,4,FALSE) -> 0.3661249
C9: Aegean Region | D9: =VLOOKUP($C9,'yield calculation'!$C:$F,2,FALSE) -> 0.15619968 | E9: =VLOOKUP($C9,'yield calculation'!$C:$F,3,FALSE) -> 0.41991341 | F9: =VLOOKUP($C9,'yield calculation'!$C:$F,4,FALSE) -> 0.37198067
C10: Mediterranean Region | D10: =VLOOKUP($C10,'yield calculation'!$C:$F,2,FALSE) -> 0.14925373 | E10: =VLOOKUP($C10,'yield calculation'!$C:$F,3,FALSE) -> 0.15965167 | F10: =VLOOKUP($C10,'yield calculation'!$C:$F,4,FALSE) -> 0.93487108
C11: Central Anatolia Region | D11: =VLOOKUP($C11,'yield calculation'!$C:$F,2,FALSE) -> 0.12386917 | E11: =VLOOKUP($C11,'yield calculation'!$C:$F,3,FALSE) -> 0.1274159 | F11: =VLOOKUP($C11,'yield calculation'!$C:$F,4,FALSE) -> 0.97216421
C12: Eastern Anatolia Region | D12: =VLOOKUP($C12,'yield calculation'!$C:$F,2,FALSE) -> 0.15945612 | E12: =VLOOKUP($C12,'yield calculation'!$C:$F,3,FALSE) -> 0.1755102 | F12: =VLOOKUP($C12,'yield calculation'!$C:$F,4,FALSE) -> 0.90852904
C13: Southeastern Anatolia Region | D13: =VLOOKUP($C13,'yield calculation'!$C:$F,2,FALSE) -> 0.23353294 | E13: =VLOOKUP($C13,'yield calculation'!$C:$F,3,FALSE) -> 0.24186046 | F13: =VLOOKUP($C13,'yield calculation'!$C:$F,4,FALSE) -> 0.96556884
C14: Black Sea Region | D14: =VLOOKUP($C14,'yield calculation'!$C:$F,2,FALSE) -> 0.16065192 | E14: =VLOOKUP($C14,'yield calculation'!$C:$F,3,FALSE) -> 0.18157895 | F14: =VLOOKUP($C14,'yield calculation'!$C:$F,4,FALSE) -> 0.88474971
B15: Sector | C15: Food | D15: =VLOOKUP($C15,'yield calculation'!$C:$F,2,FALSE) -> 0.18304172 | E15: =VLOOKUP($C15,'yield calculation'!$C:$F,3,FALSE) -> 0.23943663 | F15: =VLOOKUP($C15,'yield calculation'!$C:$F,4,FALSE) -> 0.76446837
C16: Textiles | D16: =VLOOKUP($C16,'yield calculation'!$C:$F,2,FALSE) -> 0.19637883 | E16: =VLOOKUP($C16,'yield calculation'!$C:$F,3,FALSE) -> 0.27592954 | F16: =VLOOKUP($C16,'yield calculation'!$C:$F,4,FALSE) -> 0.71169919
C17: Garments | D17: =VLOOKUP($C17,'yield calculation'!$C:$F,2,FALSE) -> 0.16182049 | E17: =VLOOKUP($C17,'yield calculation'!$C:$F,3,FALSE) -> 0.24380952 | F17: =VLOOKUP($C17,'yield calculation'!$C:$F,4,FALSE) -> 0.66371679
C18: Fabricated Metal Products | D18: =VLOOKUP($C18,'yield calculation'!$C:$F,2,FALSE) -> 0.18588874 | E18: =VLOOKUP($C18,'yield calculation'!$C:$F,3,FALSE) -> 0.25417441 | F18: =VLOOKUP($C18,'yield calculation'!$C:$F,4,FALSE) -> 0.73134327
C19: Other Manufacturing | D19: =VLOOKUP($C19,'yield calculation'!$C:$F,2,FALSE) -> 0.1544186 | E19: =VLOOKUP($C19,'yield calculation'!$C:$F,3,FALSE) -> 0.23714286 | F19: =VLOOKUP($C19,'yield calculation'!$C:$F,4,FALSE) -> 0.6511628
C20: Hotels | D20: =VLOOKUP($C20,'yield calculation'!$C:$F,2,FALSE) -> 0.13020833 | E20: =VLOOKUP($C20,'yield calculation'!$C:$F,3,FALSE) -> 0.18355359 | F20: =VLOOKUP($C20,'yield calculation'!$C:$F,4,FALSE) -> 0.70937502
C21: Retail | D21: =VLOOKUP($C21,'yield calculation'!$C:$F,2,FALSE) -> 0.16094421 | E21: =VLOOKUP($C21,'yield calculation'!$C:$F,3,FALSE) -> 0.23041475 | F21: =VLOOKUP($C21,'yield calculation'!$C:$F,4,FALSE) -> 0.69849783
C22: Construction | D22: =VLOOKUP($C22,'yield calculation'!$C:$F,2,FALSE) -> 0.1709054 | E22: =VLOOKUP($C22,'yield calculation'!$C:$F,3,FALSE) -> 0.25112107 | F22: =VLOOKUP($C22,'yield calculation'!$C:$F,4,FALSE) -> 0.68056971
C23: Transport | D23: =VLOOKUP($C23,'yield calculation'!$C:$F,2,FALSE) -> 0.15688775 | E23: =VLOOKUP($C23,'yield calculation'!$C:$F,3,FALSE) -> 0.20672269 | F23: =VLOOKUP($C23,'yield calculation'!$C:$F,4,FALSE) -> 0.7589286
C24: Other Services | D24: =VLOOKUP($C24,'yield calculation'!$C:$F,2,FALSE) -> 0.12862319 | E24: =VLOOKUP($C24,'yield calculation'!$C:$F,3,FALSE) -> 0.17884131 | F24: =VLOOKUP($C24,'yield calculation'!$C:$F,4,FALSE) -> 0.71920288
C25: Construction | D25: =VLOOKUP($C25,'yield calculation'!$C:$F,2,FALSE) -> 0.1709054 | E25: =VLOOKUP($C25,'yield calculation'!$C:$F,3,FALSE) -> 0.25112107 | F25: =VLOOKUP($C25,'yield calculation'!$C:$F,4,FALSE) -> 0.68056971
B26: Overall | C26: Turkiye 2024 | D26: =VLOOKUP($C26,'yield calculation'!$C:$F,2,FALSE) -> 0.1604169 | E26: =VLOOKUP($C26,'yield calculation'!$C:$F,3,FALSE) -> 0.22717792 | F26: =VLOOKUP($C26,'yield calculation'!$C:$F,4,FALSE) -> 0.7061289
B27: Notes: the rates are calculated as defined in Section III.4

Sheet Table 6 Achieved Total Sample 
C1: =RIGHT(SUBSTITUTE('achieved fresh and panel'!C1,"_"," "),LEN(SUBSTITUTE('achieved fresh and panel'!C1,"_"," "))-1) -> Food | D1: =RIGHT(SUBSTITUTE('achieved fresh and panel'!D1,"_"," "),LEN(SUBSTITUTE('achieved fresh and panel'!D1,"_"," "))-1) -> Textiles | E1: =RIGHT(SUBSTITUTE('achieved fresh and panel'!E1,"_"," "),LEN(SUBSTITUTE('achieved fresh and panel'!E1,"_"," "))-1) -> Garments | F1: =RIGHT(SUBSTITUTE('achieved fresh and panel'!F1,"_"," "),LEN(SUBSTITUTE('achieved fresh and panel'!F1,"_"," "))-1) -> Fabricated Metal Products | G1: =RIGHT(SUBSTITUTE('achieved fresh and panel'!G1,"_"," "),LEN(SUBSTITUTE('achieved fresh and panel'!G1,"_"," "))-1) -> Other Manufacturing | H1: =RIGHT(SUBSTITUTE('achieved fresh and panel'!H1,"_"," "),LEN(SUBSTITUTE('achieved fresh and panel'!H1,"_"," "))-1) -> Hotels | I1: =RIGHT(SUBSTITUTE('achieved fresh and panel'!I1,"_"," "),LEN(SUBSTITUTE('achieved fresh and panel'!I1,"_"," "))-1) -> Retail | J1: =RIGHT(SUBSTITUTE('achieved fresh and panel'!J1,"_"," "),LEN(SUBSTITUTE('achieved fresh and panel'!J1,"_"," "))-1) -> Construction | ... L1: =RIGHT(SUBSTITUTE('achieved fresh and panel'!L1,"_"," "),LEN(SUBSTITUTE('achieved fresh and panel'!L1,"_"," "))-1) -> Other Services | M1: Grand Total
A2: ='achieved fresh and panel'!A2 -> Marmara Region | B2: =LEFT('achieved fresh and panel'!B2,FIND(")",'achieved fresh and panel'!B2)) -> Small (5-19) | C2: ='achieved fresh and panel'!C2 -> 13 | D2: ='achieved fresh and panel'!D2 -> 11 | E2: ='achieved fresh and panel'!E2 -> 23 | F2: ='achieved fresh and panel'!F2 -> 15 | G2: ='achieved fresh and panel'!G2 -> 42 | H2: ='achieved fresh and panel'!H2 -> 8 | I2: ='achieved fresh and panel'!I2 -> 42 | J2: ='achieved fresh and panel'!J2 -> 47 | ... L2: ='achieved fresh and panel'!L2 -> 23 | M2: =SUM(C2:L4) -> 401
A3: ='achieved fresh and panel'!A3 -> Marmara Region | B3: =LEFT('achieved fresh and panel'!B3,FIND(")",'achieved fresh and panel'!B3)) -> Medium (20-99) | C3: ='achieved fresh and panel'!C3 -> 4 | D3: ='achieved fresh and panel'!D3 -> 9 | E3: ='achieved fresh and panel'!E3 -> 9 | F3: ='achieved fresh and panel'!F3 -> 9 | G3: ='achieved fresh and panel'!G3 -> 18 | H3: ='achieved fresh and panel'!H3 -> 7 | I3: ='achieved fresh and panel'!I3 -> 6 | J3: ='achieved fresh and panel'!J3 -> 12 | ... L3: ='achieved fresh and panel'!L3 -> 9
A4: ='achieved fresh and panel'!A4 -> Marmara Region | B4: =LEFT('achieved fresh and panel'!B4,FIND(")",'achieved fresh and panel'!B4)) -> Large (100 or more) | C4: ='achieved fresh and panel'!C4 -> 4 | D4: ='achieved fresh and panel'!D4 -> 6 | E4: ='achieved fresh and panel'!E4 -> 6 | F4: ='achieved fresh and panel'!F4 -> 7 | G4: ='achieved fresh and panel'!G4 -> 7 | H4: ='achieved fresh and panel'!H4 -> 20 | I4: ='achieved fresh and panel'!I4 -> 2 | J4: ='achieved fresh and panel'!J4 -> 4 | ... L4: ='achieved fresh and panel'!L4 -> 3
A5: ='achieved fresh and panel'!A5 -> Aegean Region | B5: =LEFT('achieved fresh and panel'!B5,FIND(")",'achieved fresh and panel'!B5)) -> Small (5-19) | C5: ='achieved fresh and panel'!C5 -> 8 | D5: ='achieved fresh and panel'!D5 -> 8 | E5: ='achieved fresh and panel'!E5 -> 9 | F5: ='achieved fresh and panel'!F5 -> 9 | G5: ='achieved fresh and panel'!G5 -> 14 | H5: ='achieved fresh and panel'!H5 -> 3 | I5: ='achieved fresh and panel'!I5 -> 17 | J5: ='achieved fresh and panel'!J5 -> 16 | ... L5: ='achieved fresh and panel'!L5 -> 14 | M5: =SUM(C5:L7) -> 194
A6: ='achieved fresh and panel'!A6 -> Aegean Region | B6: =LEFT('achieved fresh and panel'!B6,FIND(")",'achieved fresh and panel'!B6)) -> Medium (20-99) | C6: ='achieved fresh and panel'!C6 -> 4 | D6: ='achieved fresh and panel'!D6 -> 6 | E6: ='achieved fresh and panel'!E6 -> 6 | F6: ='achieved fresh and panel'!F6 -> 4 | G6: ='achieved fresh and panel'!G6 -> 4 | H6: ='achieved fresh and panel'!H6 -> 4 | I6: ='achieved fresh and panel'!I6 -> 3 | J6: ='achieved fresh and panel'!J6 -> 4 | ... L6: ='achieved fresh and panel'!L6 -> 4
A7: ='achieved fresh and panel'!A7 -> Aegean Region | B7: =LEFT('achieved fresh and panel'!B7,FIND(")",'achieved fresh and panel'!B7)) -> Large (100 or more) | C7: ='achieved fresh and panel'!C7 -> 7 | D7: ='achieved fresh and panel'!D7 -> 7 | E7: ='achieved fresh and panel'!E7 -> 2 | F7: ='achieved fresh and panel'!F7 -> 7 | G7: ='achieved fresh and panel'!G7 -> 1 | H7: ='achieved fresh and panel'!H7 -> 3 | I7: ='achieved fresh and panel'!I7 -> 5 | J7: ='achieved fresh and panel'!J7 -> 4 | ... L7: ='achieved fresh and panel'!L7 -> 3
A8: ='achieved fresh and panel'!A8 -> Mediterranean Region | B8: =LEFT('achieved fresh and panel'!B8,FIND(")",'achieved fresh and panel'!B8)) -> Small (5-19) | C8: ='achieved fresh and panel'!C8 -> 9 | D8: ='achieved fresh and panel'!D8 -> 4 | E8: ='achieved fresh and panel'!E8 -> 5 | F8: ='achieved fresh and panel'!F8 -> 5 | G8: ='achieved fresh and panel'!G8 -> 5 | H8: ='achieved fresh and panel'!H8 -> 8 | I8: ='achieved fresh and panel'!I8 -> 7 | J8: ='achieved fresh and panel'!J8 -> 6 | ... L8: ='achieved fresh and panel'!L8 -> 18 | M8: =SUM(C8:L10) -> 220
A9: ='achieved fresh and panel'!A9 -> Mediterranean Region | B9: =LEFT('achieved fresh and panel'!B9,FIND(")",'achieved fresh and panel'!B9)) -> Medium (20-99) | C9: ='achieved fresh and panel'!C9 -> 8 | D9: ='achieved fresh and panel'!D9 -> 16 | E9: ='achieved fresh and panel'!E9 -> 7 | F9: ='achieved fresh and panel'!F9 -> 17 | G9: ='achieved fresh and panel'!G9 -> 5 | H9: ='achieved fresh and panel'!H9 -> 19 | I9: ='achieved fresh and panel'!I9 -> 6 | J9: ='achieved fresh and panel'!J9 -> 7 | ... L9: ='achieved fresh and panel'!L9 -> 4
A10: ='achieved fresh and panel'!A10 -> Mediterranean Region | B10: =LEFT('achieved fresh and panel'!B10,FIND(")",'achieved fresh and panel'!B10)) -> Large (100 or more) | C10: ='achieved fresh and panel'!C10 -> 5 | D10: ='achieved fresh and panel'!D10 -> 5 | E10: ='achieved fresh and panel'!E10 -> 11 | F10: ='achieved fresh and panel'!F10 -> 7 | G10: ='achieved fresh and panel'!G10 -> 3 | H10: ='achieved fresh and panel'!H10 -> 0 | I10: ='achieved fresh and panel'!I10 -> 2 | J10: ='achieved fresh and panel'!J10 -> 4 | ... L10: ='achieved fresh and panel'!L10 -> 4
A11: ='achieved fresh and panel'!A11 -> Central Anatolia Region | B11: =LEFT('achieved fresh and panel'!B11,FIND(")",'achieved fresh and panel'!B11)) -> Small (5-19) | C11: ='achieved fresh and panel'!C11 -> 5 | D11: ='achieved fresh and panel'!D11 -> 6 | E11: ='achieved fresh and panel'!E11 -> 5 | F11: ='achieved fresh and panel'!F11 -> 5 | G11: ='achieved fresh and panel'!G11 -> 6 | H11: ='achieved fresh and panel'!H11 -> 5 | I11: ='achieved fresh and panel'!I11 -> 5 | J11: ='achieved fresh and panel'!J11 -> 12 | ... L11: ='achieved fresh and panel'!L11 -> 14 | M11: =SUM(C11:L13) -> 178
A12: ='achieved fresh and panel'!A12 -> Central Anatolia Region | B12: =LEFT('achieved fresh and panel'!B12,FIND(")",'achieved fresh and panel'!B12)) -> Medium (20-99) | C12: ='achieved fresh and panel'!C12 -> 4 | D12: ='achieved fresh and panel'!D12 -> 9 | E12: ='achieved fresh and panel'!E12 -> 5 | F12: ='achieved fresh and panel'!F12 -> 8 | G12: ='achieved fresh and panel'!G12 -> 5 | H12: ='achieved fresh and panel'!H12 -> 6 | I12: ='achieved fresh and panel'!I12 -> 3 | J12: ='achieved fresh and panel'!J12 -> 5 | ... L12: ='achieved fresh and panel'!L12 -> 7
A13: ='achieved fresh and panel'!A13 -> Central Anatolia Region | B13: =LEFT('achieved fresh and panel'!B13,FIND(")",'achieved fresh and panel'!B13)) -> Large (100 or more) | C13: ='achieved fresh and panel'!C13 -> 5 | D13: ='achieved fresh and panel'!D13 -> 6 | E13: ='achieved fresh and panel'!E13 -> 5 | F13: ='achieved fresh and panel'!F13 -> 7 | G13: ='achieved fresh and panel'!G13 -> 6 | H13: ='achieved fresh and panel'!H13 -> 9 | I13: ='achieved fresh and panel'!I13 -> 3 | J13: ='achieved fresh and panel'!J13 -> 5 | ... L13: ='achieved fresh and panel'!L13 -> 2
A14: ='achieved fresh and panel'!A14 -> Eastern Anatolia Region | B14: =LEFT('achieved fresh and panel'!B14,FIND(")",'achieved fresh and panel'!B14)) -> Small (5-19) | C14: ='achieved fresh and panel'!C14 -> 12 | D14: ='achieved fresh and panel'!D14 -> 6 | E14: ='achieved fresh and panel'!E14 -> 5 | F14: ='achieved fresh and panel'!F14 -> 6 | G14: ='achieved fresh and panel'!G14 -> 6 | H14: ='achieved fresh and panel'!H14 -> 7 | I14: ='achieved fresh and panel'!I14 -> 5 | J14: ='achieved fresh and panel'!J14 -> 5 | ... L14: ='achieved fresh and panel'!L14 -> 4 | M14: =SUM(C14:L16) -> 129
A15: ='achieved fresh and panel'!A15 -> Eastern Anatolia Region | B15: =LEFT('achieved fresh and panel'!B15,FIND(")",'achieved fresh and panel'!B15)) -> Medium (20-99) | C15: ='achieved fresh and panel'!C15 -> 6 | D15: ='achieved fresh and panel'!D15 -> 4 | E15: ='achieved fresh and panel'!E15 -> 3 | F15: ='achieved fresh and panel'!F15 -> 3 | G15: ='achieved fresh and panel'!G15 -> 6 | H15: ='achieved fresh and panel'!H15 -> 5 | I15: ='achieved fresh and panel'!I15 -> 4 | J15: ='achieved fresh and panel'!J15 -> 4 | ... L15: ='achieved fresh and panel'!L15 -> 4
A16: ='achieved fresh and panel'!A16 -> Eastern Anatolia Region | B16: =LEFT('achieved fresh and panel'!B16,FIND(")",'achieved fresh and panel'!B16)) -> Large (100 or more) | C16: ='achieved fresh and panel'!C16 -> 4 | D16: ='achieved fresh and panel'!D16 -> 4 | E16: ='achieved fresh and panel'!E16 -> 3 | F16: ='achieved fresh and panel'!F16 -> 0 | G16: ='achieved fresh and panel'!G16 -> 6 | H16: ='achieved fresh and panel'!H16 -> 0 | I16: ='achieved fresh and panel'!I16 -> 2 | J16: ='achieved fresh and panel'!J16 -> 3 | ... L16: ='achieved fresh and panel'!L16 -> 0
A17: ='achieved fresh and panel'!A17 -> Southeastern Anatolia Region | B17: =LEFT('achieved fresh and panel'!B17,FIND(")",'achieved fresh and panel'!B17)) -> Small (5-19) | C17: ='achieved fresh and panel'!C17 -> 7 | D17: ='achieved fresh and panel'!D17 -> 6 | E17: ='achieved fresh and panel'!E17 -> 4 | F17: ='achieved fresh and panel'!F17 -> 8 | G17: ='achieved fresh and panel'!G17 -> 4 | H17: ='achieved fresh and panel'!H17 -> 6 | I17: ='achieved fresh and panel'!I17 -> 9 | J17: ='achieved fresh and panel'!J17 -> 4 | ... L17: ='achieved fresh and panel'!L17 -> 7 | M17: =SUM(C17:L19) -> 156
A18: ='achieved fresh and panel'!A18 -> Southeastern Anatolia Region | B18: =LEFT('achieved fresh and panel'!B18,FIND(")",'achieved fresh and panel'!B18)) -> Medium (20-99) | C18: ='achieved fresh and panel'!C18 -> 9 | D18: ='achieved fresh and panel'!D18 -> 2 | E18: ='achieved fresh and panel'!E18 -> 4 | F18: ='achieved fresh and panel'!F18 -> 2 | G18: ='achieved fresh and panel'!G18 -> 9 | H18: ='achieved fresh and panel'!H18 -> 6 | I18: ='achieved fresh and panel'!I18 -> 7 | J18: ='achieved fresh and panel'!J18 -> 7 | ... L18: ='achieved fresh and panel'!L18 -> 4
A19: ='achieved fresh and panel'!A19 -> Southeastern Anatolia Region | B19: =LEFT('achieved fresh and panel'!B19,FIND(")",'achieved fresh and panel'!B19)) -> Large (100 or more) | C19: ='achieved fresh and panel'!C19 -> 4 | D19: ='achieved fresh and panel'!D19 -> 12 | E19: ='achieved fresh and panel'!E19 -> 4 | F19: ='achieved fresh and panel'!F19 -> 0 | G19: ='achieved fresh and panel'!G19 -> 4 | H19: ='achieved fresh and panel'!H19 -> 2 | I19: ='achieved fresh and panel'!I19 -> 4 | J19: ='achieved fresh and panel'!J19 -> 7 | ... L19: ='achieved fresh and panel'!L19 -> 5
A20: ='achieved fresh and panel'!A20 -> Black Sea Region | B20: =LEFT('achieved fresh and panel'!B20,FIND(")",'achieved fresh and panel'!B20)) -> Small (5-19) | C20: ='achieved fresh and panel'!C20 -> 6 | D20: ='achieved fresh and panel'!D20 -> 6 | E20: ='achieved fresh and panel'!E20 -> 4 | F20: ='achieved fresh and panel'!F20 -> 9 | G20: ='achieved fresh and panel'!G20 -> 5 | H20: ='achieved fresh and panel'!H20 -> 6 | I20: ='achieved fresh and panel'!I20 -> 8 | J20: ='achieved fresh and panel'!J20 -> 5 | ... L20: ='achieved fresh and panel'!L20 -> 4 | M20: =SUM(C20:L22) -> 138
A21: ='achieved fresh and panel'!A21 -> Black Sea Region | B21: =LEFT('achieved fresh and panel'!B21,FIND(")",'achieved fresh and panel'!B21)) -> Medium (20-99) | C21: ='achieved fresh and panel'!C21 -> 8 | D21: ='achieved fresh and panel'!D21 -> 5 | E21: ='achieved fresh and panel'!E21 -> 4 | F21: ='achieved fresh and panel'!F21 -> 5 | G21: ='achieved fresh and panel'!G21 -> 6 | H21: ='achieved fresh and panel'!H21 -> 0 | I21: ='achieved fresh and panel'!I21 -> 5 | J21: ='achieved fresh and panel'!J21 -> 4 | ... L21: ='achieved fresh and panel'!L21 -> 5
A22: ='achieved fresh and panel'!A22 -> Black Sea Region | B22: =LEFT('achieved fresh and panel'!B22,FIND(")",'achieved fresh and panel'!B22)) -> Large (100 or more) | C22: ='achieved fresh and panel'!C22 -> 4 | D22: ='achieved fresh and panel'!D22 -> 3 | E22: ='achieved fresh and panel'!E22 -> 4 | F22: ='achieved fresh and panel'!F22 -> 4 | G22: ='achieved fresh and panel'!G22 -> 4 | H22: ='achieved fresh and panel'!H22 -> 1 | I22: ='achieved fresh and panel'!I22 -> 5 | J22: ='achieved fresh and panel'!J22 -> 3 | ... L22: ='achieved fresh and panel'!L22 -> 4
C23: =SUM(C2:C22) -> 136 | D23: =SUM(D2:D22) -> 141 | E23: =SUM(E2:E22) -> 128 | F23: =SUM(F2:F22) -> 137 | G23: =SUM(G2:G22) -> 166 | H23: =SUM(H2:H22) -> 125 | I23: =SUM(I2:I22) -> 150 | J23: =SUM(J2:J22) -> 168 | ... M23: =SUM(M2:M22) -> 1416

Sheet Table 7 Achieved Panel Sample
C1: =RIGHT(SUBSTITUTE('achieved panel'!C1,"_"," "),LEN(SUBSTITUTE('achieved panel'!C1,"_"," "))-1) -> Food | D1: =RIGHT(SUBSTITUTE('achieved panel'!D1,"_"," "),LEN(SUBSTITUTE('achieved panel'!D1,"_"," "))-1) -> Textiles | E1: =RIGHT(SUBSTITUTE('achieved panel'!E1,"_"," "),LEN(SUBSTITUTE('achieved panel'!E1,"_"," "))-1) -> Garments | F1: =RIGHT(SUBSTITUTE('achieved panel'!F1,"_"," "),LEN(SUBSTITUTE('achieved panel'!F1,"_"," "))-1) -> Fabricated Metal Products | G1: =RIGHT(SUBSTITUTE('achieved panel'!G1,"_"," "),LEN(SUBSTITUTE('achieved panel'!G1,"_"," "))-1) -> Other Manufacturing | H1: =RIGHT(SUBSTITUTE('achieved panel'!H1,"_"," "),LEN(SUBSTITUTE('achieved panel'!H1,"_"," "))-1) -> Hotels | I1: =RIGHT(SUBSTITUTE('achieved panel'!I1,"_"," "),LEN(SUBSTITUTE('achieved panel'!I1,"_"," "))-1) -> Retail | J1: =RIGHT(SUBSTITUTE('achieved panel'!J1,"_"," "),LEN(SUBSTITUTE('achieved panel'!J1,"_"," "))-1) -> Construction | ... L1: =RIGHT(SUBSTITUTE('achieved panel'!L1,"_"," "),LEN(SUBSTITUTE('achieved panel'!L1,"_"," "))-1) -> Other Services | M1: Grand Total
A2: ='achieved panel'!A2 -> Marmara Region | B2: =LEFT('achieved panel'!B2,FIND(")",'achieved panel'!B2)) -> Small (5-19) | C2: ='achieved panel'!C2 -> 3 | D2: ='achieved panel'!D2 -> 1 | E2: ='achieved panel'!E2 -> 1 | F2: ='achieved panel'!F2 -> 1 | G2: ='achieved panel'!G2 -> 3 | H2: ='achieved panel'!H2 -> 0 | I2: ='achieved panel'!I2 -> 3 | J2: ='achieved panel'!J2 -> 1 | ... L2: ='achieved panel'!L2 -> 1 | M2: =SUM(C2:L4) -> 29
A3: ='achieved panel'!A3 -> Marmara Region | B3: =LEFT('achieved panel'!B3,FIND(")",'achieved panel'!B3)) -> Medium (20-99) | C3: ='achieved panel'!C3 -> 2 | D3: ='achieved panel'!D3 -> 0 | E3: ='achieved panel'!E3 -> 0 | F3: ='achieved panel'!F3 -> 1 | G3: ='achieved panel'!G3 -> 1 | H3: ='achieved panel'!H3 -> 0 | I3: ='achieved panel'!I3 -> 0 | J3: ='achieved panel'!J3 -> 1 | ... L3: ='achieved panel'!L3 -> 0
A4: ='achieved panel'!A4 -> Marmara Region | B4: =LEFT('achieved panel'!B4,FIND(")",'achieved panel'!B4)) -> Large (100 or more) | C4: ='achieved panel'!C4 -> 1 | D4: ='achieved panel'!D4 -> 3 | E4: ='achieved panel'!E4 -> 2 | F4: ='achieved panel'!F4 -> 0 | G4: ='achieved panel'!G4 -> 2 | H4: ='achieved panel'!H4 -> 0 | I4: ='achieved panel'!I4 -> 0 | J4: ='achieved panel'!J4 -> 0 | ... L4: ='achieved panel'!L4 -> 1
A5: ='achieved panel'!A5 -> Aegean Region | B5: =LEFT('achieved panel'!B5,FIND(")",'achieved panel'!B5)) -> Small (5-19) | C5: ='achieved panel'!C5 -> 0 | D5: ='achieved panel'!D5 -> 1 | E5: ='achieved panel'!E5 -> 0 | F5: ='achieved panel'!F5 -> 0 | G5: ='achieved panel'!G5 -> 0 | H5: ='achieved panel'!H5 -> 0 | I5: ='achieved panel'!I5 -> 2 | J5: ='achieved panel'!J5 -> 1 | ... L5: ='achieved panel'!L5 -> 3 | M5: =SUM(C5:L7) -> 12
A6: ='achieved panel'!A6 -> Aegean Region | B6: =LEFT('achieved panel'!B6,FIND(")",'achieved panel'!B6)) -> Medium (20-99) | C6: ='achieved panel'!C6 -> 0 | D6: ='achieved panel'!D6 -> 1 | E6: ='achieved panel'!E6 -> 0 | F6: ='achieved panel'!F6 -> 1 | G6: ='achieved panel'!G6 -> 0 | H6: ='achieved panel'!H6 -> 0 | I6: ='achieved panel'!I6 -> 0 | J6: ='achieved panel'!J6 -> 0 | ... L6: ='achieved panel'!L6 -> 0
A7: ='achieved panel'!A7 -> Aegean Region | B7: =LEFT('achieved panel'!B7,FIND(")",'achieved panel'!B7)) -> Large (100 or more) | C7: ='achieved panel'!C7 -> 0 | D7: ='achieved panel'!D7 -> 2 | E7: ='achieved panel'!E7 -> 0 | F7: ='achieved panel'!F7 -> 0 | G7: ='achieved panel'!G7 -> 0 | H7: ='achieved panel'!H7 -> 0 | I7: ='achieved panel'!I7 -> 0 | J7: ='achieved panel'!J7 -> 0 | ... L7: ='achieved panel'!L7 -> 0
A8: ='achieved panel'!A8 -> Mediterranean Region | B8: =LEFT('achieved panel'!B8,FIND(")",'achieved panel'!B8)) -> Small (5-19) | C8: ='achieved panel'!C8 -> 1 | D8: ='achieved panel'!D8 -> 0 | E8: ='achieved panel'!E8 -> 2 | F8: ='achieved panel'!F8 -> 1 | G8: ='achieved panel'!G8 -> 1 | H8: ='achieved panel'!H8 -> 0 | I8: ='achieved panel'!I8 -> 1 | J8: ='achieved panel'!J8 -> 1 | ... L8: ='achieved panel'!L8 -> 1 | M8: =SUM(C8:L10) -> 46
A9: ='achieved panel'!A9 -> Mediterranean Region | B9: =LEFT('achieved panel'!B9,FIND(")",'achieved panel'!B9)) -> Medium (20-99) | C9: ='achieved panel'!C9 -> 4 | D9: ='achieved panel'!D9 -> 5 | E9: ='achieved panel'!E9 -> 0 | F9: ='achieved panel'!F9 -> 1 | G9: ='achieved panel'!G9 -> 3 | H9: ='achieved panel'!H9 -> 0 | I9: ='achieved panel'!I9 -> 2 | J9: ='achieved panel'!J9 -> 1 | ... L9: ='achieved panel'!L9 -> 0
A10: ='achieved panel'!A10 -> Mediterranean Region | B10: =LEFT('achieved panel'!B10,FIND(")",'achieved panel'!B10)) -> Large (100 or more) | C10: ='achieved panel'!C10 -> 3 | D10: ='achieved panel'!D10 -> 3 | E10: ='achieved panel'!E10 -> 7 | F10: ='achieved panel'!F10 -> 5 | G10: ='achieved panel'!G10 -> 1 | H10: ='achieved panel'!H10 -> 0 | I10: ='achieved panel'!I10 -> 0 | J10: ='achieved panel'!J10 -> 0 | ... L10: ='achieved panel'!L10 -> 1
A11: ='achieved panel'!A11 -> Central Anatolia Region | B11: =LEFT('achieved panel'!B11,FIND(")",'achieved panel'!B11)) -> Small (5-19) | C11: ='achieved panel'!C11 -> 2 | D11: ='achieved panel'!D11 -> 3 | E11: ='achieved panel'!E11 -> 0 | F11: ='achieved panel'!F11 -> 2 | G11: ='achieved panel'!G11 -> 3 | H11: ='achieved panel'!H11 -> 0 | I11: ='achieved panel'!I11 -> 2 | J11: ='achieved panel'!J11 -> 4 | ... L11: ='achieved panel'!L11 -> 2 | M11: =SUM(C11:L13) -> 48
