Workbook

Sheet Table 1 Universe
C1: =RIGHT(SUBSTITUTE(universe!C1,"_"," "),LEN(SUBSTITUTE(universe!C1,"_"," "))-1) -> Food | D1: =RIGHT(SUBSTITUTE(universe!D1,"_"," "),LEN(SUBSTITUTE(universe!D1,"_"," "))-1) -> Textiles | E1: =RIGHT(SUBSTITUTE(universe!E1,"_"," "),LEN(SUBSTITUTE(universe!E1,"_"," "))-1) -> Garments | F1: =RIGHT(SUBSTITUTE(universe!F1,"_"," "),LEN(SUBSTITUTE(universe!F1,"_"," "))-1) -> Fabricated Metal Products | G1: =RIGHT(SUBSTITUTE(universe!G1,"_"," "),LEN(SUBSTITUTE(universe!G1,"_"," "))-1) -> Other Manufacturing | H1: =RIGHT(SUBSTITUTE(universe!H1,"_"," "),LEN(SUBSTITUTE(universe!H1,"_"," "))-1) -> Hotels | I1: =RIGHT(SUBSTITUTE(universe!I1,"_"," "),LEN(SUBSTITUTE(universe!I1,"_"," "))-1) -> Retail | J1: =RIGHT(SUBSTITUTE(universe!J1,"_"," "),LEN(SUBSTITUTE(universe!J1,"_"," "))-1) -> Construction | ... L1: =RIGHT(SUBSTITUTE(universe!L1,"_"," "),LEN(SUBSTITUTE(universe!L1,"_"," "))-1) -> Other Services | M1: Grand Total
A2: =universe!A2 -> Marmara Region | B2: =LEFT(universe!B2,FIND(")",universe!B2)) -> Small (5-19) | C2: =universe!C2 -> 3372 | D2: =universe!D2 -> 2823 | E2: =universe!E2 -> 7928 | F2: =universe!F2 -> 4338 | G2: =universe!G2 -> 16447 | H2: =universe!H2 -> 1494 | I2: =universe!I2 -> 15233 | J2: =universe!J2 -> 17853 | ... L2: =universe!L2 -> 51808 | M2: =SUM(C2:L4) -> 168912
A3: =universe!A3 -> Marmara Region | B3: =LEFT(universe!B3,FIND(")",universe!B3)) -> Medium (20-99) | C3: =universe!C3 -> 682 | D3: =universe!D3 -> 1341 | E3: =universe!E3 -> 2849 | F3: =universe!F3 -> 1410 | G3: =universe!G3 -> 6945 | H3: =universe!H3 -> 518 | I3: =universe!I3 -> 2290 | J3: =universe!J3 -> 4430 | ... L3: =universe!L3 -> 9833
A4: =universe!A4 -> Marmara Region | B4: =LEFT(universe!B4,FIND(")",universe!B4)) -> Large (100-199) | C4: =universe!C4 -> 274 | D4: =universe!D4 -> 498 | E4: =universe!E4 -> 709 | F4: =universe!F4 -> 321 | G4: =universe!G4 -> 2004 | H4: =universe!H4 -> 201 | I4: =universe!I4 -> 363 | J4: =universe!J4 -> 611 | ... L4: =universe!L4 -> 1264
A5: =universe!A5 -> Aegean Region | B5: =LEFT(universe!B5,FIND(")",universe!B5)) -> Small (5-19) | C5: =universe!C5 -> 1652 | D5: =universe!D5 -> 814 | E5: =universe!E5 -> 839 | F5: =universe!F5 -> 1080 | G5: =universe!G5 -> 4393 | H5: =universe!H5 -> 872 | I5: =universe!I5 -> 6191 | J5: =universe!J5 -> 6437 | ... L5: =universe!L5 -> 13829 | M5: =SUM(C5:L7) -> 48677
A6: =universe!A6 -> Aegean Region | B6: =LEFT(universe!B6,FIND(")",universe!B6)) -> Medium (20-99) | C6: =universe!C6 -> 536 | D6: =universe!D6 -> 433 | E6: =universe!E6 -> 361 | F6: =universe!F6 -> 334 | G6: =universe!G6 -> 1843 | H6: =universe!H6 -> 256 | I6: =universe!I6 -> 784 | J6: =universe!J6 -> 1463 | ... L6: =universe!L6 -> 2037
A7: =universe!A7 -> Aegean Region | B7: =LEFT(universe!B7,FIND(")",universe!B7)) -> Large (100-199) | C7: =universe!C7 -> 137 | D7: =universe!D7 -> 148 | E7: =universe!E7 -> 117 | F7: =universe!F7 -> 76 | G7: =universe!G7 -> 506 | H7: =universe!H7 -> 57 | I7: =universe!I7 -> 70 | J7: =universe!J7 -> 89 | ... L7: =universe!L7 -> 163
A8: =universe!A8 -> Mediterranean Region | B8: =LEFT(universe!B8,FIND(")",universe!B8)) -> Small (5-19) | C8: =universe!C8 -> 1115 | D8: =universe!D8 -> 129 | E8: =universe!E8 -> 317 | F8: =universe!F8 -> 639 | G8: =universe!G8 -> 2728 | H8: =universe!H8 -> 657 | I8: =universe!I8 -> 5292 | J8: =universe!J8 -> 4746 | ... L8: =universe!L8 -> 11283 | M8: =SUM(C8:L10) -> 37167
A9: =universe!A9 -> Mediterranean Region | B9: =LEFT(universe!B9,FIND(")",universe!B9)) -> Medium (20-99) | C9: =universe!C9 -> 276 | D9: =universe!D9 -> 100 | E9: =universe!E9 -> 145 | F9: =universe!F9 -> 192 | G9: =universe!G9 -> 864 | H9: =universe!H9 -> 265 | I9: =universe!I9 -> 698 | J9: =universe!J9 -> 1416 | ... L9: =universe!L9 -> 1785
A10: =universe!A10 -> Mediterranean Region | B10: =LEFT(universe!B10,FIND(")",universe!B10)) -> Large (100-199) | C10: =universe!C10 -> 45 | D10: =universe!D10 -> 112 | E10: =universe!E10 -> 94 | F10: =universe!F10 -> 51 | G10: =universe!G10 -> 192 | H10: =universe!H10 -> 203 | I10: =universe!I10 -> 62 | J10: =universe!J10 -> 133 | ... L10: =universe!L10 -> 159
A11: =universe!A11 -> Central Anatolia Region | B11: =LEFT(universe!B11,FIND(")",universe!B11)) -> Small (5-19) | C11: =universe!C11 -> 1242 | D11: =universe!D11 -> 153 | E11: =universe!E11 -> 287 | F11: =universe!F11 -> 1615 | G11: =universe!G11 -> 5250 | H11: =universe!H11 -> 463 | I11: =universe!I11 -> 5261 | J11: =universe!J11 -> 7369 | ... L11: =universe!L11 -> 14903 | M11: =SUM(C11:L13) -> 50479
A12: =universe!A12 -> Central Anatolia Region | B12: =LEFT(universe!B12,FIND(")",universe!B12)) -> Medium (20-99) | C12: =universe!C12 -> 427 | D12: =universe!D12 -> 55 | E12: =universe!E12 -> 73 | F12: =universe!F12 -> 507 | G12: =universe!G12 -> 2019 | H12: =universe!H12 -> 96 | I12: =universe!I12 -> 845 | J12: =universe!J12 -> 2542 | ... L12: =universe!L12 -> 2753
A13: =universe!A13 -> Central Anatolia Region | B13: =LEFT(universe!B13,FIND(")",universe!B13)) -> Large (100-199) | C13: =universe!C13 -> 116 | D13: =universe!D13 -> 29 | E13: =universe!E13 -> 34 | F13: =universe!F13 -> 108 | G13: =universe!G13 -> 460 | H13: =universe!H13 -> 70 | I13: =universe!I13 -> 126 | J13: =universe!J13 -> 463 | ... L13: =universe!L13 -> 275
A14: =universe!A14 -> Eastern Anatolia Region | B14: =LEFT(universe!B14,FIND(")",universe!B14)) -> Small (5-19) | C14: =universe!C14 -> 495 | D14: =universe!D14 -> 30 | E14: =universe!E14 -> 107 | F14: =universe!F14 -> 114 | G14: =universe!G14 -> 276 | H14: =universe!H14 -> 137 | I14: =universe!I14 -> 2021 | J14: =universe!J14 -> 2435 | ... L14: =universe!L14 -> 2945 | M14: =SUM(C14:L16) -> 11117
A15: =universe!A15 -> Eastern Anatolia Region | B15: =LEFT(universe!B15,FIND(")",universe!B15)) -> Medium (20-99) | C15: =universe!C15 -> 80 | D15: =universe!D15 -> 12 | E15: =universe!E15 -> 91 | F15: =universe!F15 -> 4 | G15: =universe!G15 -> 184 | H15: =universe!H15 -> 30 | I15: =universe!I15 -> 0 | J15: =universe!J15 -> 936 | ... L15: =universe!L15 -> 156
A16: =universe!A16 -> Eastern Anatolia Region | B16: =LEFT(universe!B16,FIND(")",universe!B16)) -> Large (100-199) | C16: =universe!C16 -> 10 | D16: =universe!D16 -> 8 | E16: =universe!E16 -> 51 | F16: =universe!F16 -> 0 | G16: =universe!G16 -> 11 | H16: =universe!H16 -> 0 | I16: =universe!I16 -> 0 | J16: =universe!J16 -> 72 | ... L16: =universe!L16 -> 3
A17: =universe!A17 -> Southeastern Anatolia Region | B17: =LEFT(universe!B17,FIND(")",universe!B17)) -> Small (5-19) | C17: =universe!C17 -> 678 | D17: =universe!D17 -> 314 | E17: =universe!E17 -> 519 | F17: =universe!F17 -> 276 | G17: =universe!G17 -> 1397 | H17: =universe!H17 -> 99 | I17: =universe!I17 -> 2503 | J17: =universe!J17 -> 2988 | ... L17: =universe!L17 -> 5070 | M17: =SUM(C17:L19) -> 20024
A18: =universe!A18 -> Southeastern Anatolia Region | B18: =LEFT(universe!B18,FIND(")",universe!B18)) -> Medium (20-99) | C18: =universe!C18 -> 198 | D18: =universe!D18 -> 0 | E18: =universe!E18 -> 365 | F18: =universe!F18 -> 0 | G18: =universe!G18 -> 424 | H18: =universe!H18 -> 60 | I18: =universe!I18 -> 325 | J18: =universe!J18 -> 1276 | ... L18: =universe!L18 -> 880
A19: =universe!A19 -> Southeastern Anatolia Region | B19: =LEFT(universe!B19,FIND(")",universe!B19)) -> Large (100-199) | C19: =universe!C19 -> 44 | D19: =universe!D19 -> 0 | E19: =universe!E19 -> 205 | F19: =universe!F19 -> 0 | G19: =universe!G19 -> 70 | H19: =universe!H19 -> 3 | I19: =universe!I19 -> 31 | J19: =universe!J19 -> 129 | ... L19: =universe!L19 -> 79
A20: =universe!A20 -> Black Sea Region | B20: =LEFT(universe!B20,FIND(")",universe!B20)) -> Small (5-19) | C20: =universe!C20 -> 1227 | D20: =universe!D20 -> 32 | E20: =universe!E20 -> 173 | F20: =universe!F20 -> 314 | G20: =universe!G20 -> 1252 | H20: =universe!H20 -> 307 | I20: =universe!I20 -> 3954 | J20: =universe!J20 -> 3581 | ... L20: =universe!L20 -> 5621 | M20: =SUM(C20:L22) -> 22010
A21: =universe!A21 -> Black Sea Region | B21: =LEFT(universe!B21,FIND(")",universe!B21)) -> Medium (20-99) | C21: =universe!C21 -> 277 | D21: =universe!D21 -> 14 | E21: =universe!E21 -> 184 | F21: =universe!F21 -> 66 | G21: =universe!G21 -> 615 | H21: =universe!H21 -> 0 | I21: =universe!I21 -> 551 | J21: =universe!J21 -> 804 | ... L21: =universe!L21 -> 825
A22: =universe!A22 -> Black Sea Region | B22: =LEFT(universe!B22,FIND(")",universe!B22)) -> Large (100-199) | C22: =universe!C22 -> 49 | D22: =universe!D22 -> 4 | E22: =universe!E22 -> 95 | F22: =universe!F22 -> 15 | G22: =universe!G22 -> 109 | H22: =universe!H22 -> 0 | I22: =universe!I22 -> 39 | J22: =universe!J22 -> 52 | ... L22: =universe!L22 -> 48
C23: =SUM(C2:C22) -> 12932 | D23: =SUM(D2:D22) -> 7049 | E23: =SUM(E2:E22) -> 15543 | F23: =SUM(F2:F22) -> 11460 | G23: =SUM(G2:G22) -> 47989 | H23: =SUM(H2:H22) -> 5788 | I23: =SUM(I2:I22) -> 46639 | J23: =SUM(J2:J22) -> 59825 | ... M23: =SUM(M2:M22) -> 358386
A24: Source:

Sheet Table 2 Frame
C1: =RIGHT(SUBSTITUTE('frame fresh and panel'!C1,"_"," "),LEN(SUBSTITUTE('frame fresh and panel'!C1,"_"," "))-1) -> Food | D1: =RIGHT(SUBSTITUTE('frame fresh and panel'!D1,"_"," "),LEN(SUBSTITUTE('frame fresh and panel'!D1,"_"," "))-1) -> Textiles | E1: =RIGHT(SUBSTITUTE('frame fresh and panel'!E1,"_"," "),LEN(SUBSTITUTE('frame fresh and panel'!E1,"_"," "))-1) -> Garments | F1: =RIGHT(SUBSTITUTE('frame fresh and panel'!F1,"_"," "),LEN(SUBSTITUTE('frame fresh and panel'!F1,"_"," "))-1) -> Fabricated Metal Products | G1: =RIGHT(SUBSTITUTE('frame fresh and panel'!G1,"_"," "),LEN(SUBSTITUTE('frame fresh and panel'!G1,"_"," "))-1) -> Other Manufacturing | H1: =RIGHT(SUBSTITUTE('frame fresh and panel'!H1,"_"," "),LEN(SUBSTITUTE('frame fresh and panel'!H1,"_"," "))-1) -> Hotels | I1: =RIGHT(SUBSTITUTE('frame fresh and panel'!I1,"_"," "),LEN(SUBSTITUTE('frame fresh and panel'!I1,"_"," "))-1) -> Retail | J1: =RIGHT(SUBSTITUTE('frame fresh and panel'!J1,"_"," "),LEN(SUBSTITUTE('frame fresh and panel'!J1,"_"," "))-1) -> Construction | ... L1: =RIGHT(SUBSTITUTE('frame fresh and panel'!L1,"_"," "),LEN(SUBSTITUTE('frame fresh and panel'!L1,"_"," "))-1) -> Other Services | M1: Grand Total
A2: ='frame fresh and panel'!A2 -> Marmara Region | B2: =LEFT('frame fresh and panel'!B2,FIND(")",'frame fresh and panel'!B2)) -> Small (5-19) | C2: ='frame fresh and panel'!C2 -> 106 | D2: ='frame fresh and panel'!D2 -> 107 | E2: ='frame fresh and panel'!E2 -> 182 | F2: ='frame fresh and panel'!F2 -> 124 | G2: ='frame fresh and panel'!G2 -> 537 | H2: ='frame fresh and panel'!H2 -> 46 | I2: ='frame fresh and panel'!I2 -> 431 | J2: ='frame fresh and panel'!J2 -> 372 | ... L2: ='frame fresh and panel'!L2 -> 1022 | M2: =SUM(C2:L4) -> 6345
A3: ='frame fresh and panel'!A3 -> Marmara Region | B3: =LEFT('frame fresh and panel'!B3,FIND(")",'frame fresh and panel'!B3)) -> Medium (20-99) | C3: ='frame fresh and panel'!C3 -> 119 | D3: ='frame fresh and panel'!D3 -> 187 | E3: ='frame fresh and panel'!E3 -> 255 | F3: ='frame fresh and panel'!F3 -> 211 | G3: ='frame fresh and panel'!G3 -> 330 | H3: ='frame fresh and panel'!H3 -> 150 | I3: ='frame fresh and panel'!I3 -> 87 | J3: ='frame fresh and panel'!J3 -> 116 | ... L3: ='frame fresh and panel'!L3 -> 296
A4: ='frame fresh and panel'!A4 -> Marmara Region | B4: =LEFT('frame fresh and panel'!B4,FIND(")",'frame fresh and panel'!B4)) -> Large (100 or more) | C4: ='frame fresh and panel'!C4 -> 143 | D4: ='frame fresh and panel'!D4 -> 190 | E4: ='frame fresh and panel'!E4 -> 145 | F4: ='frame fresh and panel'!F4 -> 206 | G4: ='frame fresh and panel'!G4 -> 110 | H4: ='frame fresh and panel'!H4 -> 180 | I4: ='frame fresh and panel'!I4 -> 63 | J4: ='frame fresh and panel'!J4 -> 64 | ... L4: ='frame fresh and panel'!L4 -> 66
A5: ='frame fresh and panel'!A5 -> Aegean Region | B5: =LEFT('frame fresh and panel'!B5,FIND(")",'frame fresh and panel'!B5)) -> Small (5-19) | C5: ='frame fresh and panel'!C5 -> 64 | D5: ='frame fresh and panel'!D5 -> 63 | E5: ='frame fresh and panel'!E5 -> 66 | F5: ='frame fresh and panel'!F5 -> 46 | G5: ='frame fresh and panel'!G5 -> 113 | H5: ='frame fresh and panel'!H5 -> 30 | I5: ='frame fresh and panel'!I5 -> 151 | J5: ='frame fresh and panel'!J5 -> 157 | ... L5: ='frame fresh and panel'!L5 -> 282 | M5: =SUM(C5:L7) -> 2701
A6: ='frame fresh and panel'!A6 -> Aegean Region | B6: =LEFT('frame fresh and panel'!B6,FIND(")",'frame fresh and panel'!B6)) -> Medium (20-99) | C6: ='frame fresh and panel'!C6 -> 110 | D6: ='frame fresh and panel'!D6 -> 98 | E6: ='frame fresh and panel'!E6 -> 71 | F6: ='frame fresh and panel'!F6 -> 110 | G6: ='frame fresh and panel'!G6 -> 82 | H6: ='frame fresh and panel'!H6 -> 135 | I6: ='frame fresh and panel'!I6 -> 62 | J6: ='frame fresh and panel'!J6 -> 65 | ... L6: ='frame fresh and panel'!L6 -> 78
A7: ='frame fresh and panel'!A7 -> Aegean Region | B7: =LEFT('frame fresh and panel'!B7,FIND(")",'frame fresh and panel'!B7)) -> Large (100 or more) | C7: ='frame fresh and panel'!C7 -> 62 | D7: ='frame fresh and panel'!D7 -> 130 | E7: ='frame fresh and panel'!E7 -> 110 | F7: ='frame fresh and panel'!F7 -> 80 | G7: ='frame fresh and panel'!G7 -> 71 | H7: ='frame fresh and panel'!H7 -> 57 | I7: ='frame fresh and panel'!I7 -> 63 | J7: ='frame fresh and panel'!J7 -> 62 | ... L7: ='frame fresh and panel'!L7 -> 63
A8: ='frame fresh and panel'!A8 -> Mediterranean Region | B8: =LEFT('frame fresh and panel'!B8,FIND(")",'frame fresh and panel'!B8)) -> Small (5-19) | C8: ='frame fresh and panel'!C8 -> 62 | D8: ='frame fresh and panel'!D8 -> 63 | E8: ='frame fresh and panel'!E8 -> 67 | F8: ='frame fresh and panel'!F8 -> 63 | G8: ='frame fresh and panel'!G8 -> 101 | H8: ='frame fresh and panel'!H8 -> 30 | I8: ='frame fresh and panel'!I8 -> 132 | J8: ='frame fresh and panel'!J8 -> 122 | ... L8: ='frame fresh and panel'!L8 -> 233 | M8: =SUM(C8:L10) -> 2557
A9: ='frame fresh and panel'!A9 -> Mediterranean Region | B9: =LEFT('frame fresh and panel'!B9,FIND(")",'frame fresh and panel'!B9)) -> Medium (20-99) | C9: ='frame fresh and panel'!C9 -> 95 | D9: ='frame fresh and panel'!D9 -> 81 | E9: ='frame fresh and panel'!E9 -> 67 | F9: ='frame fresh and panel'!F9 -> 94 | G9: ='frame fresh and panel'!G9 -> 68 | H9: ='frame fresh and panel'!H9 -> 135 | I9: ='frame fresh and panel'!I9 -> 64 | J9: ='frame fresh and panel'!J9 -> 62 | ... L9: ='frame fresh and panel'!L9 -> 30
A10: ='frame fresh and panel'!A10 -> Mediterranean Region | B10: =LEFT('frame fresh and panel'!B10,FIND(")",'frame fresh and panel'!B10)) -> Large (100 or more) | C10: ='frame fresh and panel'!C10 -> 49 | D10: ='frame fresh and panel'!D10 -> 122 | E10: ='frame fresh and panel'!E10 -> 107 | F10: ='frame fresh and panel'!F10 -> 59 | G10: ='frame fresh and panel'!G10 -> 69 | H10: ='frame fresh and panel'!H10 -> 180 | I10: ='frame fresh and panel'!I10 -> 65 | J10: ='frame fresh and panel'!J10 -> 46 | ... L10: ='frame fresh and panel'!L10 -> 46
A11: ='frame fresh and panel'!A11 -> Central Anatolia Region | B11: =LEFT('frame fresh and panel'!B11,FIND(")",'frame fresh and panel'!B11)) -> Small (5-19) | C11: ='frame fresh and panel'!C11 -> 69 | D11: ='frame fresh and panel'!D11 -> 71 | E11: ='frame fresh and panel'!E11 -> 63 | F11: ='frame fresh and panel'!F11 -> 68 | G11: ='frame fresh and panel'!G11 -> 147 | H11: ='frame fresh and panel'!H11 -> 30 | I11: ='frame fresh and panel'!I11 -> 137 | J11: ='frame fresh and panel'!J11 -> 172 | ... L11: ='frame fresh and panel'!L11 -> 300 | M11: =SUM(C11:L13) -> 2729
A12: ='frame fresh and panel'!A12 -> Central Anatolia Region | B12: =LEFT('frame fresh and panel'!B12,FIND(")",'frame fresh and panel'!B12)) -> Medium (20-99) | C12: ='frame fresh and panel'!C12 -> 115 | D12: ='frame fresh and panel'!D12 -> 66 | E12: ='frame fresh and panel'!E12 -> 68 | F12: ='frame fresh and panel'!F12 -> 140 | G12: ='frame fresh and panel'!G12 -> 101 | H12: ='frame fresh and panel'!H12 -> 97 | I12: ='frame fresh and panel'!I12 -> 46 | J12: ='frame fresh and panel'!J12 -> 84 | ... L12: ='frame fresh and panel'!L12 -> 100
A13: ='frame fresh and panel'!A13 -> Central Anatolia Region | B13: =LEFT('frame fresh and panel'!B13,FIND(")",'frame fresh and panel'!B13)) -> Large (100 or more) | C13: ='frame fresh and panel'!C13 -> 125 | D13: ='frame fresh and panel'!D13 -> 35 | E13: ='frame fresh and panel'!E13 -> 38 | F13: ='frame fresh and panel'!F13 -> 118 | G13: ='frame fresh and panel'!G13 -> 86 | H13: ='frame fresh and panel'!H13 -> 70 | I13: ='frame fresh and panel'!I13 -> 67 | J13: ='frame fresh and panel'!J13 -> 69 | ... L13: ='frame fresh and panel'!L13 -> 62
A14: ='frame fresh and panel'!A14 -> Eastern Anatolia Region | B14: =LEFT('frame fresh and panel'!B14,FIND(")",'frame fresh and panel'!B14)) -> Small (5-19) | C14: ='frame fresh and panel'!C14 -> 91 | D14: ='frame fresh and panel'!D14 -> 30 | E14: ='frame fresh and panel'!E14 -> 65 | F14: ='frame fresh and panel'!F14 -> 71 | G14: ='frame fresh and panel'!G14 -> 75 | H14: ='frame fresh and panel'!H14 -> 46 | I14: ='frame fresh and panel'!I14 -> 114 | J14: ='frame fresh and panel'!J14 -> 104 | ... L14: ='frame fresh and panel'!L14 -> 116 | M14: =SUM(C14:L16) -> 1495
A15: ='frame fresh and panel'!A15 -> Eastern Anatolia Region | B15: =LEFT('frame fresh and panel'!B15,FIND(")",'frame fresh and panel'!B15)) -> Medium (20-99) | C15: ='frame fresh and panel'!C15 -> 90 | D15: ='frame fresh and panel'!D15 -> 13 | E15: ='frame fresh and panel'!E15 -> 62 | F15: ='frame fresh and panel'!F15 -> 4 | G15: ='frame fresh and panel'!G15 -> 76 | H15: ='frame fresh and panel'!H15 -> 32 | I15: ='frame fresh and panel'!I15 -> 18 | J15: ='frame fresh and panel'!J15 -> 84 | ... L15: ='frame fresh and panel'!L15 -> 78
A16: ='frame fresh and panel'!A16 -> Eastern Anatolia Region | B16: =LEFT('frame fresh and panel'!B16,FIND(")",'frame fresh and panel'!B16)) -> Large (100 or more) | C16: ='frame fresh and panel'!C16 -> 11 | D16: ='frame fresh and panel'!D16 -> 13 | E16: ='frame fresh and panel'!E16 -> 52 | F16: ='frame fresh and panel'!F16 -> 0 | G16: ='frame fresh and panel'!G16 -> 13 | H16: ='frame fresh and panel'!H16 -> 0 | I16: ='frame fresh and panel'!I16 -> 3 | J16: ='frame fresh and panel'!J16 -> 65 | ... L16: ='frame fresh and panel'!L16 -> 5
A17: ='frame fresh and panel'!A17 -> Southeastern Anatolia Region | B17: =LEFT('frame fresh and panel'!B17,FIND(")",'frame fresh and panel'!B17)) -> Small (5-19) | C17: ='frame fresh and panel'!C17 -> 67 | D17: ='frame fresh and panel'!D17 -> 67 | E17: ='frame fresh and panel'!E17 -> 66 | F17: ='frame fresh and panel'!F17 -> 65 | G17: ='frame fresh and panel'!G17 -> 69 | H17: ='frame fresh and panel'!H17 -> 30 | I17: ='frame fresh and panel'!I17 -> 83 | J17: ='frame fresh and panel'!J17 -> 92 | ... L17: ='frame fresh and panel'!L17 -> 122 | M17: =SUM(C17:L19) -> 1594
A18: ='frame fresh and panel'!A18 -> Southeastern Anatolia Region | B18: =LEFT('frame fresh and panel'!B18,FIND(")",'frame fresh and panel'!B18)) -> Medium (20-99) | C18: ='frame fresh and panel'!C18 -> 95 | D18: ='frame fresh and panel'!D18 -> 9 | E18: ='frame fresh and panel'!E18 -> 66 | F18: ='frame fresh and panel'!F18 -> 3 | G18: ='frame fresh and panel'!G18 -> 76 | H18: ='frame fresh and panel'!H18 -> 60 | I18: ='frame fresh and panel'!I18 -> 63 | J18: ='frame fresh and panel'!J18 -> 65 | ... L18: ='frame fresh and panel'!L18 -> 65
A19: ='frame fresh and panel'!A19 -> Southeastern Anatolia Region | B19: =LEFT('frame fresh and panel'!B19,FIND(")",'frame fresh and panel'!B19)) -> Large (100 or more) | C19: ='frame fresh and panel'!C19 -> 46 | D19: ='frame fresh and panel'!D19 -> 22 | E19: ='frame fresh and panel'!E19 -> 78 | F19: ='frame fresh and panel'!F19 -> 1 | G19: ='frame fresh and panel'!G19 -> 62 | H19: ='frame fresh and panel'!H19 -> 3 | I19: ='frame fresh and panel'!I19 -> 30 | J19: ='frame fresh and panel'!J19 -> 63 | ... L19: ='frame fresh and panel'!L19 -> 63
A20: ='frame fresh and panel'!A20 -> Black Sea Region | B20: =LEFT('frame fresh and panel'!B20,FIND(")",'frame fresh and panel'!B20)) -> Small (5-19) | C20: ='frame fresh and panel'!C20 -> 71 | D20: ='frame fresh and panel'!D20 -> 41 | E20: ='frame fresh and panel'!E20 -> 65 | F20: ='frame fresh and panel'!F20 -> 73 | G20: ='frame fresh and panel'!G20 -> 89 | H20: ='frame fresh and panel'!H20 -> 30 | I20: ='frame fresh and panel'!I20 -> 132 | J20: ='frame fresh and panel'!J20 -> 102 | ... L20: ='frame fresh and panel'!L20 -> 145 | M20: =SUM(C20:L22) -> 1863
A21: ='frame fresh and panel'!A21 -> Black Sea Region | B21: =LEFT('frame fresh and panel'!B21,FIND(")",'frame fresh and panel'!B21)) -> Medium (20-99) | C21: ='frame fresh and panel'!C21 -> 105 | D21: ='frame fresh and panel'!D21 -> 21 | E21: ='frame fresh and panel'!E21 -> 69 | F21: ='frame fresh and panel'!F21 -> 70 | G21: ='frame fresh and panel'!G21 -> 94 | H21: ='frame fresh and panel'!H21 -> 0 | I21: ='frame fresh and panel'!I21 -> 84 | J21: ='frame fresh and panel'!J21 -> 79 | ... L21: ='frame fresh and panel'!L21 -> 66
A22: ='frame fresh and panel'!A22 -> Black Sea Region | B22: =LEFT('frame fresh and panel'!B22,FIND(")",'frame fresh and panel'!B22)) -> Large (100 or more) | C22: ='frame fresh and panel'!C22 -> 54 | D22: ='frame fresh and panel'!D22 -> 5 | E22: ='frame fresh and panel'!E22 -> 110 | F22: ='frame fresh and panel'!F22 -> 17 | G22: ='frame fresh and panel'!G22 -> 66 | H22: ='frame fresh and panel'!H22 -> 2 | I22: ='frame fresh and panel'!I22 -> 40 | J22: ='frame fresh and panel'!J22 -> 55 | ... L22: ='frame fresh and panel'!L22 -> 46
C23: =SUM(C2:C22) -> 1749 | D23: =SUM(D2:D22) -> 1434 | E23: =SUM(E2:E22) -> 1872 | F23: =SUM(F2:F22) -> 1623 | G23: =SUM(G2:G22) -> 2435 | H23: =SUM(H2:H22) -> 1343 | I23: =SUM(I2:I22) -> 1935 | J23: =SUM(J2:J22) -> 2100 | ... M23: =SUM(M2:M22) -> 19284
A24: Source:

Sheet Table 3 Original Survey Design
C1: =RIGHT(SUBSTITUTE('original survey design'!C1,"_"," "),LEN(SUBSTITUTE('original survey design'!C1,"_"," "))-1) -> Food | D1: =RIGHT(SUBSTITUTE('original survey design'!D1,"_"," "),LEN(SUBSTITUTE('original survey design'!D1,"_"," "))-1) -> Textiles | E1: =RIGHT(SUBSTITUTE('original survey design'!E1,"_"," "),LEN(SUBSTITUTE('original survey design'!E1,"_"," "))-1) -> Garments | F1: =RIGHT(SUBSTITUTE('original survey design'!F1,"_"," "),LEN(SUBSTITUTE('original survey design'!F1,"_"," "))-1) -> Fabricated Metal Products | G1: =RIGHT(SUBSTITUTE('original survey design'!G1,"_"," "),LEN(SUBSTITUTE('original survey design'!G1,"_"," "))-1) -> Other Manufacturing | H1: =RIGHT(SUBSTITUTE('original survey design'!H1,"_"," "),LEN(SUBSTITUTE('original survey design'!H1,"_"," "))-1) -> Hotels | I1: =RIGHT(SUBSTITUTE('original survey design'!I1,"_"," "),LEN(SUBSTITUTE('original survey design'!I1,"_"," "))-1) -> Retail | J1: =RIGHT(SUBSTITUTE('original survey design'!J1,"_"," "),LEN(SUBSTITUTE('original survey design'!J1,"_"," "))-1) -> Construction | ... L1: =RIGHT(SUBSTITUTE('original survey design'!L1,"_"," "),LEN(SUBSTITUTE('original survey design'!L1,"_"," "))-1) -> Other Services | M1: Grand Total
A2: ='original survey design'!A2 -> Marmara Region | B2: =LEFT('original survey design'!B2,FIND(")",'original survey design'!B2)) -> Small (5-19) | C2: ='original survey design'!C2 -> 6 | D2: ='original survey design'!D2 -> 6 | E2: ='original survey design'!E2 -> 11 | F2: ='original survey design'!F2 -> 7 | G2: ='original survey design'!G2 -> 32 | H2: ='original survey design'!H2 -> 3 | I2: ='original survey design'!I2 -> 27 | J2: ='original survey design'!J2 -> 24 | ... L2: ='original survey design'!L2 -> 67 | M2: =SUM(C2:L4) -> 395
A3: ='original survey design'!A3 -> Marmara Region | B3: =LEFT('original survey design'!B3,FIND(")",'original survey design'!B3)) -> Medium (20-99) | C3: ='original survey design'!C3 -> 7 | D3: ='original survey design'!D3 -> 11 | E3: ='original survey design'!E3 -> 16 | F3: ='original survey design'!F3 -> 13 | G3: ='original survey design'!G3 -> 20 | H3: ='original survey design'!H3 -> 10 | I3: ='original survey design'!I3 -> 5 | J3: ='original survey design'!J3 -> 7 | ... L3: ='original survey design'!L3 -> 19
A4: ='original survey design'!A4 -> Marmara Region | B4: =LEFT('original survey design'!B4,FIND(")",'original survey design'!B4)) -> Large (100-199) | C4: ='original survey design'!C4 -> 9 | D4: ='original survey design'!D4 -> 11 | E4: ='original survey design'!E4 -> 9 | F4: ='original survey design'!F4 -> 13 | G4: ='original survey design'!G4 -> 5 | H4: ='original survey design'!H4 -> 12 | I4: ='original survey design'!I4 -> 4 | J4: ='original survey design'!J4 -> 4 | ... L4: ='original survey design'!L4 -> 4
A5: ='original survey design'!A5 -> Aegean Region | B5: =LEFT('original survey design'!B5,FIND(")",'original survey design'!B5)) -> Small (5-19) | C5: ='original survey design'!C5 -> 4 | D5: ='original survey design'!D5 -> 4 | E5: ='original survey design'!E5 -> 4 | F5: ='original survey design'!F5 -> 3 | G5: ='original survey design'!G5 -> 7 | H5: ='original survey design'!H5 -> 2 | I5: ='original survey design'!I5 -> 9 | J5: ='original survey design'!J5 -> 10 | ... L5: ='original survey design'!L5 -> 18 | M5: =SUM(C5:L7) -> 182
A6: ='original survey design'!A6 -> Aegean Region | B6: =LEFT('original survey design'!B6,FIND(")",'original survey design'!B6)) -> Medium (20-99) | C6: ='original survey design'!C6 -> 7 | D6: ='original survey design'!D6 -> 6 | E6: ='original survey design'!E6 -> 4 | F6: ='original survey design'!F6 -> 7 | G6: ='original survey design'!G6 -> 5 | H6: ='original survey design'!H6 -> 9 | I6: ='original survey design'!I6 -> 4 | J6: ='original survey design'!J6 -> 4 | ... L6: ='original survey design'!L6 -> 5
A7: ='original survey design'!A7 -> Aegean Region | B7: =LEFT('original survey design'!B7,FIND(")",'original survey design'!B7)) -> Large (100-199) | C7: ='original survey design'!C7 -> 4 | D7: ='original survey design'!D7 -> 8 | E7: ='original survey design'!E7 -> 7 | F7: ='original survey design'!F7 -> 7 | G7: ='original survey design'!G7 -> 4 | H7: ='original survey design'!H7 -> 11 | I7: ='original survey design'!I7 -> 4 | J7: ='original survey design'!J7 -> 4 | ... L7: ='original survey design'!L7 -> 4
A8: ='original survey design'!A8 -> Mediterranean Region | B8: =LEFT('original survey design'!B8,FIND(")",'original survey design'!B8)) -> Small (5-19) | C8: ='original survey design'!C8 -> 4 | D8: ='original survey design'!D8 -> 4 | E8: ='original survey design'!E8 -> 4 | F8: ='original survey design'!F8 -> 4 | G8: ='original survey design'!G8 -> 6 | H8: ='original survey design'!H8 -> 2 | I8: ='original survey design'!I8 -> 8 | J8: ='original survey design'!J8 -> 8 | ... L8: ='original survey design'!L8 -> 15 | M8: =SUM(C8:L10) -> 177
A9: ='original survey design'!A9 -> Mediterranean Region | B9: =LEFT('original survey design'!B9,FIND(")",'original survey design'!B9)) -> Medium (20-99) | C9: ='original survey design'!C9 -> 6 | D9: ='original survey design'!D9 -> 5 | E9: ='original survey design'!E9 -> 4 | F9: ='original survey design'!F9 -> 6 | G9: ='original survey design'!G9 -> 4 | H9: ='original survey design'!H9 -> 9 | I9: ='original survey design'!I9 -> 4 | J9: ='original survey design'!J9 -> 4 | ... L9: ='original survey design'!L9 -> 2
A10: ='original survey design'!A10 -> Mediterranean Region | B10: =LEFT('original survey design'!B10,FIND(")",'original survey design'!B10)) -> Large (100-199) | C10: ='original survey design'!C10 -> 6 | D10: ='original survey design'!D10 -> 8 | E10: ='original survey design'!E10 -> 7 | F10: ='original survey design'!F10 -> 10 | G10: ='original survey design'!G10 -> 4 | H10: ='original survey design'!H10 -> 12 | I10: ='original survey design'!I10 -> 4 | J10: ='original survey design'!J10 -> 3 | ... L10: ='original survey design'!L10 -> 3
A11: ='original survey design'!A11 -> Central Anatolia Region | B11: =LEFT('original survey design'!B11,FIND(")",'original survey design'!B11)) -> Small (5-19) | C11: ='original survey design'!C11 -> 4 | D11: ='original survey design'!D11 -> 4 | E11: ='original survey design'!E11 -> 4 | F11: ='original survey design'!F11 -> 4 | G11: ='original survey design'!G11 -> 8 | H11: ='original survey design'!H11 -> 2 | I11: ='original survey design'!I11 -> 8 | J11: ='original survey design'!J11 -> 11 | ... L11: ='original survey design'!L11 -> 19 | M11: =SUM(C11:L13) -> 194
A12: ='original survey design'!A12 -> Central Anatolia Region | B12: =LEFT('original survey design'!B12,FIND(")",'original survey design'!B12)) -> Medium (20-99) | C12: ='original survey design'!C12 -> 7 | D12: ='original survey design'!D12 -> 5 | E12: ='original survey design'!E12 -> 4 | F12: ='original survey design'!F12 -> 8 | G12: ='original survey design'!G12 -> 5 | H12: ='original survey design'!H12 -> 8 | I12: ='original survey design'!I12 -> 3 | J12: ='original survey design'!J12 -> 5 | ... L12: ='original survey design'!L12 -> 6
A13: ='original survey design'!A13 -> Central Anatolia Region | B13: =LEFT('original survey design'!B13,FIND(")",'original survey design'!B13)) -> Large (100-199) | C13: ='original survey design'!C13 -> 9 | D13: ='original survey design'!D13 -> 8 | E13: ='original survey design'!E13 -> 6 | F13: ='original survey design'!F13 -> 11 | G13: ='original survey design'!G13 -> 4 | H13: ='original survey design'!H13 -> 12 | I13: ='original survey design'!I13 -> 4 | J13: ='original survey design'!J13 -> 4 | ... L13: ='original survey design'!L13 -> 4
A14: ='original survey design'!A14 -> Eastern Anatolia Region | B14: =LEFT('original survey design'!B14,FIND(")",'original survey design'!B14)) -> Small (5-19) | C14: ='original survey design'!C14 -> 4 | D14: ='original survey design'!D14 -> 2 | E14: ='original survey design'!E14 -> 4 | F14: ='original survey design'!F14 -> 4 | G14: ='original survey design'!G14 -> 4 | H14: ='original survey design'!H14 -> 3 | I14: ='original survey design'!I14 -> 5 | J14: ='original survey design'!J14 -> 5 | ... L14: ='original survey design'!L14 -> 6 | M14: =SUM(C14:L16) -> 120
A15: ='original survey design'!A15 -> Eastern Anatolia Region | B15: =LEFT('original survey design'!B15,FIND(")",'original survey design'!B15)) -> Medium (20-99) | C15: ='original survey design'!C15 -> 8 | D15: ='original survey design'!D15 -> 3 | E15: ='original survey design'!E15 -> 4 | F15: ='original survey design'!F15 -> 1 | G15: ='original survey design'!G15 -> 4 | H15: ='original survey design'!H15 -> 10 | I15: ='original survey design'!I15 -> 2 | J15: ='original survey design'!J15 -> 4 | ... L15: ='original survey design'!L15 -> 4
A16: ='original survey design'!A16 -> Eastern Anatolia Region | B16: =LEFT('original survey design'!B16,FIND(")",'original survey design'!B16)) -> Large (100-199) | C16: ='original survey design'!C16 -> 4 | D16: ='original survey design'!D16 -> 7 | E16: ='original survey design'!E16 -> 4 | F16: ='original survey design'!F16 -> 0 | G16: ='original survey design'!G16 -> 4 | H16: ='original survey design'!H16 -> 0 | I16: ='original survey design'!I16 -> 2 | J16: ='original survey design'!J16 -> 4 | ... L16: ='original survey design'!L16 -> 3
A17: ='original survey design'!A17 -> Southeastern Anatolia Region | B17: =LEFT('original survey design'!B17,FIND(")",'original survey design'!B17)) -> Small (5-19) | C17: ='original survey design'!C17 -> 4 | D17: ='original survey design'!D17 -> 4 | E17: ='original survey design'!E17 -> 4 | F17: ='original survey design'!F17 -> 4 | G17: ='original survey design'!G17 -> 4 | H17: ='original survey design'!H17 -> 2 | I17: ='original survey design'!I17 -> 5 | J17: ='original survey design'!J17 -> 6 | ... L17: ='original survey design'!L17 -> 8 | M17: =SUM(C17:L19) -> 123
A18: ='original survey design'!A18 -> Southeastern Anatolia Region | B18: =LEFT('original survey design'!B18,FIND(")",'original survey design'!B18)) -> Medium (20-99) | C18: ='original survey design'!C18 -> 6 | D18: ='original survey design'!D18 -> 5 | E18: ='original survey design'!E18 -> 4 | F18: ='original survey design'!F18 -> 3 | G18: ='original survey design'!G18 -> 4 | H18: ='original survey design'!H18 -> 8 | I18: ='original survey design'!I18 -> 4 | J18: ='original survey design'!J18 -> 4 | ... L18: ='original survey design'!L18 -> 4
A19: ='original survey design'!A19 -> Southeastern Anatolia Region | B19: =LEFT('original survey design'!B19,FIND(")",'original survey design'!B19)) -> Large (100-199) | C19: ='original survey design'!C19 -> 4 | D19: ='original survey design'!D19 -> 8 | E19: ='original survey design'!E19 -> 5 | F19: ='original survey design'!F19 -> 1 | G19: ='original survey design'!G19 -> 4 | H19: ='original survey design'!H19 -> 1 | I19: ='original survey design'!I19 -> 3 | J19: ='original survey design'!J19 -> 4 | ... L19: ='original survey design'!L19 -> 4
A20: ='original survey design'!A20 -> Black Sea Region | B20: =LEFT('original survey design'!B20,FIND(")",'original survey design'!B20)) -> Small (5-19) | C20: ='original survey design'!C20 -> 4 | D20: ='original survey design'!D20 -> 4 | E20: ='original survey design'!E20 -> 4 | F20: ='original survey design'!F20 -> 4 | G20: ='original survey design'!G20 -> 4 | H20: ='original survey design'!H20 -> 2 | I20: ='original survey design'!I20 -> 7 | J20: ='original survey design'!J20 -> 6 | ... L20: ='original survey design'!L20 -> 9 | M20: =SUM(C20:L22) -> 129
A21: ='original survey design'!A21 -> Black Sea Region | B21: =LEFT('original survey design'!B21,FIND(")",'original survey design'!B21)) -> Medium (20-99) | C21: ='original survey design'!C21 -> 6 | D21: ='original survey design'!D21 -> 5 | E21: ='original survey design'!E21 -> 4 | F21: ='original survey design'!F21 -> 6 | G21: ='original survey design'!G21 -> 4 | H21: ='original survey design'!H21 -> 0 | I21: ='original survey design'!I21 -> 4 | J21: ='original survey design'!J21 -> 4 | ... L21: ='original survey design'!L21 -> 4
A22: ='original survey design'!A22 -> Black Sea Region | B22: =LEFT('original survey design'!B22,FIND(")",'original survey design'!B22)) -> Large (100-199) | C22: ='original survey design'!C22 -> 7 | D22: ='original survey design'!D22 -> 2 | E22: ='original survey design'!E22 -> 7 | F22: ='original survey design'!F22 -> 4 | G22: ='original survey design'!G22 -> 4 | H22: ='original survey design'!H22 -> 2 | I22: ='original survey design'!I22 -> 4 | J22: ='original survey design'!J22 -> 4 | ... L22: ='original survey design'!L22 -> 3
C23: =SUM(C2:C22) -> 120 | D23: =SUM(D2:D22) -> 120 | E23: =SUM(E2:E22) -> 120 | F23: =SUM(F2:F22) -> 120 | G23: =SUM(G2:G22) -> 140 | H23: =SUM(H2:H22) -> 120 | I23: =SUM(I2:I22) -> 120 | J23: =SUM(J2:J22) -> 129 | ... M23: =SUM(M2:M22) -> 1320

Sheet Table 4 Response Outcomes
D2: Totals | E2: Rates relative to total contacted
B3: Overall | C3: Contacts available in frame | D3: 19284
C4: Issued | D4: 8985
C5: Contacted | D5: 8827
B6: Screening phase | C6: Eligibles | D6: 1463 | E6: =D6/D$5 -> 0.16574148
C7: Screener refusals | D7: 4742 | E7: =D7/D$5 -> 0.53721536
C8: Assumed eligibles | D8: 6233 | E8: =D8/D$5 -> 0.70612892
C9: Ineligible + out of target | D9: 173 | E9: =D9/D$5 -> 0.019598958
C10: Unobtainables | D10: 1624 | E10: =D10/D$5 -> 0.18398097
B11: Interview phase | C11: Interview refusals | D11: 29 | E11: =D11/D$5 -> 0.0032853744
B12: (only if eligible) | C12: Complete interviews | D12: 1416 | E12: =D12/D$5 -> 0.1604169

Sheet Table 5 Survey Yield Rates
C2: Stratification | D2: Yield | E2: Survey response rate | F2: Frame quality
B3: Panel | C3: Fresh | D3: =VLOOKUP($C3,'yield calculation'!$C:$F,2,FALSE) -> 0.15687369 | E3: =VLOOKUP($C3,'yield calculation'!$C:$F,3,FALSE) -> 0.22359259 | F3: =VLOOKUP($C3,'yield calculation'!$C:$F,4,FALSE) -> 0.70160502
C4: Panel | D4: =VLOOKUP($C4,'yield calculation'!$C:$F,2,FALSE) -> 0.17569193 | E4: =VLOOKUP($C4,'yield calculation'!$C:$F,3,FALSE) -> 0.24212272 | F4: =VLOOKUP($C4,'yield calculation'!$C:$F,4,FALSE) -> 0.72563177
B5: Size | C5: Small (5-19) | D5: =VLOOKUP($C5,'yield calculation'!$C:$F,2,FALSE) -> 0.16625857 | E5: =VLOOKUP($C5,'yield calculation'!$C:$F,3,FALSE) -> 0.23576389 | F5: =VLOOKUP($C5,'yield calculation'!$C:$F,4,FALSE) -> 0.70519102
C6: Medium (20-99) | D6: =VLOOKUP($C6,'yield calculation'!$C:$F,2,FALSE) -> 0.15877128 | E6: =VLOOKUP($C6,'yield calculation'!$C:$F,3,FALSE) -> 0.21590337 | F6: =VLOOKUP($C6,'yield calculation'!$C:$F,4,FALSE) -> 0.73538119
C7: Large (100+) | D7: =VLOOKUP($C7,'yield calculation'!$C:$F,2,FALSE) -> 0.15090641 | E7: =VLOOKUP($C7,'yield calculation'!$C:$F,3,FALSE) -> 0.22547585 | F7: =VLOOKUP($C7,'yield calculation'!$C:$F,4,FALSE) -> 0.66927975
B8: Region | C8: Marmara Region | D8: =VLOOKUP($C8,'yield calculation'!$C:$F,2,FALSE) -> 0.17151411 | E8: =VLOOKUP($C8,'yield calculation'!$C:$F,3,FALSE) -> 0.46845794 | F8: =VLOOKUP($C8,'yield calculation'!$C:$F,4,FALSE) -> 0.3661249
C9: Aegean Region | D9: =VLOOKUP($C9,'yield calculation'!$C:$F,2,FALSE) -> 0.15619968 | E9: =VLOOKUP($C9,'yield calculation'!$C:$F,3,FALSE) -> 0.41991341 | F9: =VLOOKUP($C9,'yield calculation'!$C:$F,4,FALSE) -> 0.37198067
C10: Mediterranean Region | D10: =VLOOKUP($C10,'yield calculation'!$C:$F,2,FALSE) -> 0.14925373 | E10: =VLOOKUP($C10,'yield calculation'!$C:$F,3,FALSE) -> 0.15965167 | F10: =VLOOKUP($C10,'yield calculation'!$C:$F,4,FALSE) -> 0.93487108
C11: Central Anatolia Region | D11: =VLOOKUP($C11,'yield calculation'!$C:$F,2,FALSE) -> 0.12386917 | E11: =VLOOKUP($C11,'yield calculation'!$C:$F,3,FALSE) -> 0.1274159 | F11: =VLOOKUP($C11,'yield calculation'!$C:$F,4,FALSE) -> 0.97216421
C12: Eastern Anatolia Region | D12: =VLOOKUP($C12,'yield calculation'!$C:$F,2,FALSE) -> 0.15945612 | E12: =VLOOKUP($C12,'yield calculation'!$C:$F,3,FALSE) -> 0.1755102 | F12: =VLOOKUP($C12,'yield calculation'!$C:$F,4,FALSE) -> 0.90852904
C13: Southeastern Anatolia Region | D13: =VLOOKUP($C13,'yield calculation'!$C:$F,2,FALSE) -> 0.23353294 | E13: =VLOOKUP($C13,'yield calculation'!$C:$F,3,FALSE) -> 0.24186046 | F13: =VLOOKUP($C13,'yield calculation'!$C:$F,4,FALSE) -> 0.96556884
C14: Black Sea Region | D14: =VLOOKUP($C14,'yield calculation'!$C:$F,2,FALSE) -> 0.16065192 | E14: =VLOOKUP($C14,'yield calculation'!$C:$F,3,FALSE) -> 0.18157895 | F14: =VLOOKUP($C14,'yield calculation'!$C:$F,4,FALSE) -> 0.88474971
B15: Sector | C15: Food | D15: =VLOOKUP($C15,'yield calculation'!$C:$F,2,FALSE) -> 0.18304172 | E15: =VLOOKUP($C15,'yield calculation'!$C:$F,3,FALSE) -> 0.23943663 | F15: =VLOOKUP($C15,'yield calculation'!$C:$F,4,FALSE) -> 0.76446837
C16: Textiles | D16: =VLOOKUP($C16,'yield calculation'!$C:$F,2,FALSE) -> 0.19637883 | E16: =VLOOKUP($C16,'yield calculation'!$C:$F,3,FALSE) -> 0.27592954 | F16: =VLOOKUP($C16,'yield calculation'!$C:$F,4,FALSE) -> 0.71169919
C17: Garments | D17: =VLOOKUP($C17,'yield calculation'!$C:$F,2,FALSE) -> 0.16182049 | E17: =VLOOKUP($C17,'yield calculation'!$C:$F,3,FALSE) -> 0.24380952 | F17: =VLOOKUP($C17,'yield calculation'!$C:$F,4,FALSE) -> 0.66371679
C18: Fabricated Metal Products | D18: =VLOOKUP($C18,'yield calculation'!$C:$F,2,FALSE) -> 0.18588874 | E18: =VLOOKUP($C18,'yield calculation'!$C:$F,3,FALSE) -> 0.25417441 | F18: =VLOOKUP($C18,'yield calculation'!$C:$F,4,FALSE) -> 0.73134327
C19: Other Manufacturing | D19: =VLOOKUP($C19,'yield calculation'!$C:$F,2,FALSE) -> 0.1544186 | E19: =VLOOKUP($C19,'yield calculation'!$C:$F,3,FALSE) -> 0.23714286 | F19: =VLOOKUP($C19,'yield calculation'!$C:$F,4,FALSE) -> 0.6511628
C20: Hotels | D20: =VLOOKUP($C20,'yield calculation'!$C:$F,2,FALSE) -> 0.13020833 | E20: =VLOOKUP($C20,'yield calculation'!$C:$F,3,FALSE) -> 0.18355359 | F20: =VLOOKUP($C20,'yield calculation'!$C:$F,4,FALSE) -> 0.70937502
C21: Retail | D21: =VLOOKUP($C21,'yield calculation'!$C:$F,2,FALSE) -> 0.16094421 | E21: =VLOOKUP($C21,'yield calculation'!$C:$F,3,FALSE) -> 0.23041475 | F21: =VLOOKUP($C21,'yield calculation'!$C:$F,4,FALSE) -> 0.69849783
C22: Construction | D22: =VLOOKUP($C22,'yield calculation'!$C:$F,2,FALSE) -> 0.1709054 | E22: =VLOOKUP($C22,'yield calculation'!$C:$F,3,FALSE) -> 0.25112107 | F22: =VLOOKUP($C22,'yield calculation'!$C:$F,4,FALSE) -> 0.68056971
C23: Transport | D23: =VLOOKUP($C23,'yield calculation'!$C:$F,2,FALSE) -> 0.15688775 | E23: =VLOOKUP($C23,'yield calculation'!$C:$F,3,FALSE) -> 0.20672269 | F23: =VLOOKUP($C23,'yield calculation'!$C:$F,4,FALSE) -> 0.7589286
C24: Other Services | D24: =VLOOKUP($C24,'yield calculation'!$C:$F,2,FALSE) -> 0.12862319 | E24: =VLOOKUP($C24,'yield calculation'!$C:$F,3,FALSE) -> 0.17884131 | F24: =VLOOKUP($C24,'yield calculation'!$C:$F,4,FALSE) -> 0.71920288
C25: Construction | D25: =VLOOKUP($C25,'yield calculation'!$C:$F,2,FALSE) -> 0.1709054 | E25: =VLOOKUP($C25,'yield calculation'!$C:$F,3,FALSE) -> 0.25112107 | F25: =VLOOKUP($C25,'yield calculation'!$C:$F,4,FALSE) -> 0.68056971
B26: Overall | C26: Turkiye 2024 | D26: =VLOOKUP($C26,'yield calculation'!$C:$F,2,FALSE) -> 0.1604169 | E26: =VLOOKUP($C26,'yield calculation'!$C:$F,3,FALSE) -> 0.22717792 | F26: =VLOOKUP($C26,'yield calculation'!$C:$F,4,FALSE) -> 0.7061289
B27: Notes: the rates are calculated as defined in Section III.4

Sheet Table 6 Achieved Total Sample 
C1: =RIGHT(SUBSTITUTE('achieved fresh and panel'!C1,"_"," "),LEN(SUBSTITUTE('achieved fresh and panel'!C1,"_"," "))-1) -> Food | D1: =RIGHT(SUBSTITUTE('achieved fresh and panel'!D1,"_"," "),LEN(SUBSTITUTE('achieved fresh and panel'!D1,"_"," "))-1) -> Textiles | E1: =RIGHT(SUBSTITUTE('achieved fresh and panel'!E1,"_"," "),LEN(SUBSTITUTE('achieved fresh and panel'!E1,"_"," "))-1) -> Garments | F1: =RIGHT(SUBSTITUTE('achieved fresh and panel'!F1,"_"," "),LEN(SUBSTITUTE('achieved fresh and panel'!F1,"_"," "))-1) -> Fabricated Metal Products | G1: =RIGHT(SUBSTITUTE('achieved fresh and panel'!G1,"_"," "),LEN(SUBSTITUTE('achieved fresh and panel'!G1,"_"," "))-1) -> Other Manufacturing | H1: =RIGHT(SUBSTITUTE('achieved fresh and panel'!H1,"_"," "),LEN(SUBSTITUTE('achieved fresh and panel'!H1,"_"," "))-1) -> Hotels | I1: =RIGHT(SUBSTITUTE('achieved fresh and panel'!I1,"_"," "),LEN(SUBSTITUTE('achieved fresh and panel'!I1,"_"," "))-1) -> Retail | J1: =RIGHT(SUBSTITUTE('achieved fresh and panel'!J1,"_"," "),LEN(SUBSTITUTE('achieved fresh and panel'!J1,"_"," "))-1) -> Construction | ... L1: =RIGHT(SUBSTITUTE('achieved fresh and panel'!L1,"_"," "),LEN(SUBSTITUTE('achieved fresh and panel'!L1,"_"," "))-1) -> Other Services | M1: Grand Total
A2: ='achieved fresh and panel'!A2 -> Marmara Region | B2: =LEFT('achieved fresh and panel'!B2,FIND(")",'achieved fresh and panel'!B2)) -> Small (5-19) | C2: ='achieved fresh and panel'!C2 -> 13 | D2: ='achieved fresh and panel'!D2 -> 11 | E2: ='achieved fresh and panel'!E2 -> 23 | F2: ='achieved fresh and panel'!F2 -> 15 | G2: ='achieved fresh and panel'!G2 -> 42 | H2: ='achieved fresh and panel'!H2 -> 8 | I2: ='achieved fresh and panel'!I2 -> 42 | J2: ='achieved fresh and panel'!J2 -> 47 | ... L2: ='achieved fresh and panel'!L2 -> 23 | M2: =SUM(C2:L4) -> 401
A3: ='achieved fresh and panel'!A3 -> Marmara Region | B3: =LEFT('achieved fresh and panel'!B3,FIND(")",'achieved fresh and panel'!B3)) -> Medium (20-99) | C3: ='achieved fresh and panel'!C3 -> 4 | D3: ='achieved fresh and panel'!D3 -> 9 | E3: ='achieved fresh and panel'!E3 -> 9 | F3: ='achieved fresh and panel'!F3 -> 9 | G3: ='achieved fresh and panel'!G3 -> 18 | H3: ='achieved fresh and panel'!H3 -> 7 | I3: ='achieved fresh and panel'!I3 -> 6 | J3: ='achieved fresh and panel'!J3 -> 12 | ... L3: ='achieved fresh and panel'!L3 -> 9
A4: ='achieved fresh and panel'!A4 -> Marmara Region | B4: =LEFT('achieved fresh and panel'!B4,FIND(")",'achieved fresh and panel'!B4)) -> Large (100 or more) | C4: ='achieved fresh and panel'!C4 -> 4 | D4: ='achieved fresh and panel'!D4 -> 6 | E4: ='achieved fresh and panel'!E4 -> 6 | F4: ='achieved fresh and panel'!F4 -> 7 | G4: ='achieved fresh and panel'!G4 -> 7 | H4: ='achieved fresh and panel'!H4 -> 20 | I4: ='achieved fresh and panel'!I4 -> 2 | J4: ='achieved fresh and panel'!J4 -> 4 | ... L4: ='achieved fresh and panel'!L4 -> 3
A5: ='achieved fresh and panel'!A5 -> Aegean Region | B5: =LEFT('achieved fresh and panel'!B5,FIND(")",'achieved fresh and panel'!B5)) -> Small (5-19) | C5: ='achieved fresh and panel'!C5 -> 8 | D5: ='achieved fresh and panel'!D5 -> 8 | E5: ='achieved fresh and panel'!E5 -> 9 | F5: ='achieved fresh and panel'!F5 -> 9 | G5: ='achieved fresh and panel'!G5 -> 14 | H5: ='achieved fresh and panel'!H5 -> 3 | I5: ='achieved fresh and panel'!I5 -> 17 | J5: ='achieved fresh and panel'!J5 -> 16 | ... L5: ='achieved fresh and panel'!L5 -> 14 | M5: =SUM(C5:L7) -> 194
A6: ='achieved fresh and panel'!A6 -> Aegean Region | B6: =LEFT('achieved fresh and panel'!B6,FIND(")",'achieved fresh and panel'!B6)) -> Medium (20-99) | C6: ='achieved fresh and panel'!C6 -> 4 | D6: ='achieved fresh and panel'!D6 -> 6 | E6: ='achieved fresh and panel'!E6 -> 6 | F6: ='achieved fresh and panel'!F6 -> 4 | G6: ='achieved fresh and panel'!G6 -> 4 | H6: ='achieved fresh and panel'!H6 -> 4 | I6: ='achieved fresh and panel'!I6 -> 3 | J6: ='achieved fresh and panel'!J6 -> 4 | ... L6: ='achieved fresh and panel'!L6 -> 4
A7: ='achieved fresh and panel'!A7 -> Aegean Region | B7: =LEFT('achieved fresh and panel'!B7,FIND(")",'achieved fresh and panel'!B7)) -> Large (100 or more) | C7: ='achieved fresh and panel'!C7 -> 7 | D7: ='achieved fresh and panel'!D7 -> 7 | E7: ='achieved fresh and panel'!E7 -> 2 | F7: ='achieved fresh and panel'!F7 -> 7 | G7: ='achieved fresh and panel'!G7 -> 1 | H7: ='achieved fresh and panel'!H7 -> 3 | I7: ='achieved fresh and panel'!I7 -> 5 | J7: ='achieved fresh and panel'!J7 -> 4 | ... L7: ='achieved fresh and panel'!L7 -> 3
A8: ='achieved fresh and panel'!A8 -> Mediterranean Region | B8: =LEFT('achieved fresh and panel'!B8,FIND(")",'achieved fresh and panel'!B8)) -> Small (5-19) | C8: ='achieved fresh and panel'!C8 -> 9 | D8: ='achieved fresh and panel'!D8 -> 4 | E8: ='achieved fresh and panel'!E8 -> 5 | F8: ='achieved fresh and panel'!F8 -> 5 | G8: ='achieved fresh and panel'!G8 -> 5 | H8: ='achieved fresh and panel'!H8 -> 8 | I8: ='achieved fresh and panel'!I8 -> 7 | J8: ='achieved fresh and panel'!J8 -> 6 | ... L8: ='achieved fresh and panel'!L8 -> 18 | M8: =SUM(C8:L10) -> 220
A9: ='achieved fresh and panel'!A9 -> Mediterranean Region | B9: =LEFT('achieved fresh and panel'!B9,FIND(")",'achieved fresh and panel'!B9)) -> Medium (20-99) | C9: ='achieved fresh and panel'!C9 -> 8 | D9: ='achieved fresh and panel'!D9 -> 16 | E9: ='achieved fresh and panel'!E9 -> 7 | F9: ='achieved fresh and panel'!F9 -> 17 | G9: ='achieved fresh and panel'!G9 -> 5 | H9: ='achieved fresh and panel'!H9 -> 19 | I9: ='achieved fresh and panel'!I9 -> 6 | J9: ='achieved fresh and panel'!J9 -> 7 | ... L9: ='achieved fresh and panel'!L9 -> 4
A10: ='achieved fresh and panel'!A10 -> Mediterranean Region | B10: =LEFT('achieved fresh and panel'!B10,FIND(")",'achieved fresh and panel'!B10)) -> Large (100 or more) | C10: ='achieved fresh and panel'!C10 -> 5 | D10: ='achieved fresh and panel'!D10 -> 5 | E10: ='achieved fresh and panel'!E10 -> 11 | F10: ='achieved fresh and panel'!F10 -> 7 | G10: ='achieved fresh and panel'!G10 -> 3 | H10: ='achieved fresh and panel'!H10 -> 0 | I10: ='achieved fresh and panel'!I10 -> 2 | J10: ='achieved fresh and panel'!J10 -> 4 | ... L10: ='achieved fresh and panel'!L10 -> 4
A11: ='achieved fresh and panel'!A11 -> Central Anatolia Region | B11: =LEFT('achieved fresh and panel'!B11,FIND(")",'achieved fresh and panel'!B11)) -> Small (5-19) | C11: ='achieved fresh and panel'!C11 -> 5 | D11: ='achieved fresh and panel'!D11 -> 6 | E11: ='achieved fresh and panel'!E11 -> 5 | F11: ='achieved fresh and panel'!F11 -> 5 | G11: ='achieved fresh and panel'!G11 -> 6 | H11: ='achieved fresh and panel'!H11 -> 5 | I11: ='achieved fresh and panel'!I11 -> 5 | J11: ='achieved fresh and panel'!J11 -> 12 | ... L11: ='achieved fresh and panel'!L11 -> 14 | M11: =SUM(C11:L13) -> 178
A12: ='achieved fresh and panel'!A12 -> Central Anatolia Region | B12: =LEFT('achieved fresh and panel'!B12,FIND(")",'achieved fresh and panel'!B12)) -> Medium (20-99) | C12: ='achieved fresh and panel'!C12 -> 4 | D12: ='achieved fresh and panel'!D12 -> 9 | E12: ='achieved fresh and panel'!E12 -> 5 | F12: ='achieved fresh and panel'!F12 -> 8 | G12: ='achieved fresh and panel'!G12 -> 5 | H12: ='achieved fresh and panel'!H12 -> 6 | I12: ='achieved fresh and panel'!I12 -> 3 | J12: ='achieved fresh and panel'!J12 -> 5 | ... L12: ='achieved fresh and panel'!L12 -> 7
A13: ='achieved fresh and panel'!A13 -> Central Anatolia Region | B13: =LEFT('achieved fresh and panel'!B13,FIND(")",'achieved fresh and panel'!B13)) -> Large (100 or more) | C13: ='achieved fresh and panel'!C13 -> 5 | D13: ='achieved fresh and panel'!D13 -> 6 | E13: ='achieved fresh and panel'!E13 -> 5 | F13: ='achieved fresh and panel'!F13 -> 7 | G13: ='achieved fresh and panel'!G13 -> 6 | H13: ='achieved fresh and panel'!H13 -> 9 | I13: ='achieved fresh and panel'!I13 -> 3 | J13: ='achieved fresh and panel'!J13 -> 5 | ... L13: ='achieved fresh and panel'!L13 -> 2
A14: ='achieved fresh and panel'!A14 -> Eastern Anatolia Region | B14: =LEFT('achieved fresh and panel'!B14,FIND(")",'achieved fresh and panel'!B14)) -> Small (5-19) | C14: ='achieved fresh and panel'!C14 -> 12 | D14: ='achieved fresh and panel'!D14 -> 6 | E14: ='achieved fresh and panel'!E14 -> 5 | F14: ='achieved fresh and panel'!F14 -> 6 | G14: ='achieved fresh and panel'!G14 -> 6 | H14: ='achieved fresh and panel'!H14 -> 7 | I14: ='achieved fresh and panel'!I14 -> 5 | J14: ='achieved fresh and panel'!J14 -> 5 | ... L14: ='achieved fresh and panel'!L14 -> 4 | M14: =SUM(C14:L16) -> 129
A15: ='achieved fresh and panel'!A15 -> Eastern Anatolia Region | B15: =LEFT('achieved fresh and panel'!B15,FIND(")",'achieved fresh and panel'!B15)) -> Medium (20-99) | C15: ='achieved fresh and panel'!C15 -> 6 | D15: ='achieved fresh and panel'!D15 -> 4 | E15: ='achieved fresh and panel'!E15 -> 3 | F15: ='achieved fresh and panel'!F15 -> 3 | G15: ='achieved fresh and panel'!G15 -> 6 | H15: ='achieved fresh and panel'!H15 -> 5 | I15: ='achieved fresh and panel'!I15 -> 4 | J15: ='achieved fresh and panel'!J15 -> 4 | ... L15: ='achieved fresh and panel'!L15 -> 4
A16: ='achieved fresh and panel'!A16 -> Eastern Anatolia Region | B16: =LEFT('achieved fresh and panel'!B16,FIND(")",'achieved fresh and panel'!B16)) -> Large (100 or more) | C16: ='achieved fresh and panel'!C16 -> 4 | D16: ='achieved fresh and panel'!D16 -> 4 | E16: ='achieved fresh and panel'!E16 -> 3 | F16: ='achieved fresh and panel'!F16 -> 0 | G16: ='achieved fresh and panel'!G16 -> 6 | H16: ='achieved fresh and panel'!H16 -> 0 | I16: ='achieved fresh and panel'!I16 -> 2 | J16: ='achieved fresh and panel'!J16 -> 3 | ... L16: ='achieved fresh and panel'!L16 -> 0
A17: ='achieved fresh and panel'!A17 -> Southeastern Anatolia Region | B17: =LEFT('achieved fresh and panel'!B17,FIND(")",'achieved fresh and panel'!B17)) -> Small (5-19) | C17: ='achieved fresh and panel'!C17 -> 7 | D17: ='achieved fresh and panel'!D17 -> 6 | E17: ='achieved fresh and panel'!E17 -> 4 | F17: ='achieved fresh and panel'!F17 -> 8 | G17: ='achieved fresh and panel'!G17 -> 4 | H17: ='achieved fresh and panel'!H17 -> 6 | I17: ='achieved fresh and panel'!I17 -> 9 | J17: ='achieved fresh and panel'!J17 -> 4 | ... L17: ='achieved fresh and panel'!L17 -> 7 | M17: =SUM(C17:L19) -> 156
A18: ='achieved fresh and panel'!A18 -> Southeastern Anatolia Region | B18: =LEFT('achieved fresh and panel'!B18,FIND(")",'achieved fresh and panel'!B18)) -> Medium (20-99) | C18: ='achieved fresh and panel'!C18 -> 9 | D18: ='achieved fresh and panel'!D18 -> 2 | E18: ='achieved fresh and panel'!E18 -> 4 | F18: ='achieved fresh and panel'!F18 -> 2 | G18: ='achieved fresh and panel'!G18 -> 9 | H18: ='achieved fresh and panel'!H18 -> 6 | I18: ='achieved fresh and panel'!I18 -> 7 | J18: ='achieved fresh and panel'!J18 -> 7 | ... L18: ='achieved fresh and panel'!L18 -> 4
A19: ='achieved fresh and panel'!A19 -> Southeastern Anatolia Region | B19: =LEFT('achieved fresh and panel'!B19,FIND(")",'achieved fresh and panel'!B19)) -> Large (100 or more) | C19: ='achieved fresh and panel'!C19 -> 4 | D19: ='achieved fresh and panel'!D19 -> 12 | E19: ='achieved fresh and panel'!E19 -> 4 | F19: ='achieved fresh and panel'!F19 -> 0 | G19: ='achieved fresh and panel'!G19 -> 4 | H19: ='achieved fresh and panel'!H19 -> 2 | I19: ='achieved fresh and panel'!I19 -> 4 | J19: ='achieved fresh and panel'!J19 -> 7 | ... L19: ='achieved fresh and panel'!L19 -> 5
A20: ='achieved fresh and panel'!A20 -> Black Sea Region | B20: =LEFT('achieved fresh and panel'!B20,FIND(")",'achieved fresh and panel'!B20)) -> Small (5-19) | C20: ='achieved fresh and panel'!C20 -> 6 | D20: ='achieved fresh and panel'!D20 -> 6 | E20: ='achieved fresh and panel'!E20 -> 4 | F20: ='achieved fresh and panel'!F20 -> 9 | G20: ='achieved fresh and panel'!G20 -> 5 | H20: ='achieved fresh and panel'!H20 -> 6 | I20: ='achieved fresh and panel'!I20 -> 8 | J20: ='achieved fresh and panel'!J20 -> 5 | ... L20: ='achieved fresh and panel'!L20 -> 4 | M20: =SUM(C20:L22) -> 138
A21: ='achieved fresh and panel'!A21 -> Black Sea Region | B21: =LEFT('achieved fresh and panel'!B21,FIND(")",'achieved fresh and panel'!B21)) -> Medium (20-99) | C21: ='achieved fresh and panel'!C21 -> 8 | D21: ='achieved fresh and panel'!D21 -> 5 | E21: ='achieved fresh and panel'!E21 -> 4 | F21: ='achieved fresh and panel'!F21 -> 5 | G21: ='achieved fresh and panel'!G21 -> 6 | H21: ='achieved fresh and panel'!H21 -> 0 | I21: ='achieved fresh and panel'!I21 -> 5 | J21: ='achieved fresh and panel'!J21 -> 4 | ... L21: ='achieved fresh and panel'!L21 -> 5
A22: ='achieved fresh and panel'!A22 -> Black Sea Region | B22: =LEFT('achieved fresh and panel'!B22,FIND(")",'achieved fresh and panel'!B22)) -> Large (100 or more) | C22: ='achieved fresh and panel'!C22 -> 4 | D22: ='achieved fresh and panel'!D22 -> 3 | E22: ='achieved fresh and panel'!E22 -> 4 | F22: ='achieved fresh and panel'!F22 -> 4 | G22: ='achieved fresh and panel'!G22 -> 4 | H22: ='achieved fresh and panel'!H22 -> 1 | I22: ='achieved fresh and panel'!I22 -> 5 | J22: ='achieved fresh and panel'!J22 -> 3 | ... L22: ='achieved fresh and panel'!L22 -> 4
C23: =SUM(C2:C22) -> 136 | D23: =SUM(D2:D22) -> 141 | E23: =SUM(E2:E22) -> 128 | F23: =SUM(F2:F22) -> 137 | G23: =SUM(G2:G22) -> 166 | H23: =SUM(H2:H22) -> 125 | I23: =SUM(I2:I22) -> 150 | J23: =SUM(J2:J22) -> 168 | ... M23: =SUM(M2:M22) -> 1416

Sheet Table 7 Achieved Panel Sample
C1: =RIGHT(SUBSTITUTE('achieved panel'!C1,"_"," "),LEN(SUBSTITUTE('achieved panel'!C1,"_"," "))-1) -> Food | D1: =RIGHT(SUBSTITUTE('achieved panel'!D1,"_"," "),LEN(SUBSTITUTE('achieved panel'!D1,"_"," "))-1) -> Textiles | E1: =RIGHT(SUBSTITUTE('achieved panel'!E1,"_"," "),LEN(SUBSTITUTE('achieved panel'!E1,"_"," "))-1) -> Garments | F1: =RIGHT(SUBSTITUTE('achieved panel'!F1,"_"," "),LEN(SUBSTITUTE('achieved panel'!F1,"_"," "))-1) -> Fabricated Metal Products | G1: =RIGHT(SUBSTITUTE('achieved panel'!G1,"_"," "),LEN(SUBSTITUTE('achieved panel'!G1,"_"," "))-1) -> Other Manufacturing | H1: =RIGHT(SUBSTITUTE('achieved panel'!H1,"_"," "),LEN(SUBSTITUTE('achieved panel'!H1,"_"," "))-1) -> Hotels | I1: =RIGHT(SUBSTITUTE('achieved panel'!I1,"_"," "),LEN(SUBSTITUTE('achieved panel'!I1,"_"," "))-1) -> Retail | J1: =RIGHT(SUBSTITUTE('achieved panel'!J1,"_"," "),LEN(SUBSTITUTE('achieved panel'!J1,"_"," "))-1) -> Construction | ... L1: =RIGHT(SUBSTITUTE('achieved panel'!L1,"_"," "),LEN(SUBSTITUTE('achieved panel'!L1,"_"," "))-1) -> Other Services | M1: Grand Total
A2: ='achieved panel'!A2 -> Marmara Region | B2: =LEFT('achieved panel'!B2,FIND(")",'achieved panel'!B2)) -> Small (5-19) | C2: ='achieved panel'!C2 -> 3 | D2: ='achieved panel'!D2 -> 1 | E2: ='achieved panel'!E2 -> 1 | F2: ='achieved panel'!F2 -> 1 | G2: ='achieved panel'!G2 -> 3 | H2: ='achieved panel'!H2 -> 0 | I2: ='achieved panel'!I2 -> 3 | J2: ='achieved panel'!J2 -> 1 | ... L2: ='achieved panel'!L2 -> 1 | M2: =SUM(C2:L4) -> 29
A3: ='achieved panel'!A3 -> Marmara Region | B3: =LEFT('achieved panel'!B3,FIND(")",'achieved panel'!B3)) -> Medium (20-99) | C3: ='achieved panel'!C3 -> 2 | D3: ='achieved panel'!D3 -> 0 | E3: ='achieved panel'!E3 -> 0 | F3: ='achieved panel'!F3 -> 1 | G3: ='achieved panel'!G3 -> 1 | H3: ='achieved panel'!H3 -> 0 | I3: ='achieved panel'!I3 -> 0 | J3: ='achieved panel'!J3 -> 1 | ... L3: ='achieved panel'!L3 -> 0
A4: ='achieved panel'!A4 -> Marmara Region | B4: =LEFT('achieved panel'!B4,FIND(")",'achieved panel'!B4)) -> Large (100 or more) | C4: ='achieved panel'!C4 -> 1 | D4: ='achieved panel'!D4 -> 3 | E4: ='achieved panel'!E4 -> 2 | F4: ='achieved panel'!F4 -> 0 | G4: ='achieved panel'!G4 -> 2 | H4: ='achieved panel'!H4 -> 0 | I4: ='achieved panel'!I4 -> 0 | J4: ='achieved panel'!J4 -> 0 | ... L4: ='achieved panel'!L4 -> 1
A5: ='achieved panel'!A5 -> Aegean Region | B5: =LEFT('achieved panel'!B5,FIND(")",'achieved panel'!B5)) -> Small (5-19) | C5: ='achieved panel'!C5 -> 0 | D5: ='achieved panel'!D5 -> 1 | E5: ='achieved panel'!E5 -> 0 | F5: ='achieved panel'!F5 -> 0 | G5: ='achieved panel'!G5 -> 0 | H5: ='achieved panel'!H5 -> 0 | I5: ='achieved panel'!I5 -> 2 | J5: ='achieved panel'!J5 -> 1 | ... L5: ='achieved panel'!L5 -> 3 | M5: =SUM(C5:L7) -> 12
A6: ='achieved panel'!A6 -> Aegean Region | B6: =LEFT('achieved panel'!B6,FIND(")",'achieved panel'!B6)) -> Medium (20-99) | C6: ='achieved panel'!C6 -> 0 | D6: ='achieved panel'!D6 -> 1 | E6: ='achieved panel'!E6 -> 0 | F6: ='achieved panel'!F6 -> 1 | G6: ='achieved panel'!G6 -> 0 | H6: ='achieved panel'!H6 -> 0 | I6: ='achieved panel'!I6 -> 0 | J6: ='achieved panel'!J6 -> 0 | ... L6: ='achieved panel'!L6 -> 0
A7: ='achieved panel'!A7 -> Aegean Region | B7: =LEFT('achieved panel'!B7,FIND(")",'achieved panel'!B7)) -> Large (100 or more) | C7: ='achieved panel'!C7 -> 0 | D7: ='achieved panel'!D7 -> 2 | E7: ='achieved panel'!E7 -> 0 | F7: ='achieved panel'!F7 -> 0 | G7: ='achieved panel'!G7 -> 0 | H7: ='achieved panel'!H7 -> 0 | I7: ='achieved panel'!I7 -> 0 | J7: ='achieved panel'!J7 -> 0 | ... L7: ='achieved panel'!L7 -> 0
A8: ='achieved panel'!A8 -> Mediterranean Region | B8: =LEFT('achieved panel'!B8,FIND(")",'achieved panel'!B8)) -> Small (5-19) | C8: ='achieved panel'!C8 -> 1 | D8: ='achieved panel'!D8 -> 0 | E8: ='achieved panel'!E8 -> 2 | F8: ='achieved panel'!F8 -> 1 | G8: ='achieved panel'!G8 -> 1 | H8: ='achieved panel'!H8 -> 0 | I8: ='achieved panel'!I8 -> 1 | J8: ='achieved panel'!J8 -> 1 | ... L8: ='achieved panel'!L8 -> 1 | M8: =SUM(C8:L10) -> 46
A9: ='achieved panel'!A9 -> Mediterranean Region | B9: =LEFT('achieved panel'!B9,FIND(")",'achieved panel'!B9)) -> Medium (20-99) | C9: ='achieved panel'!C9 -> 4 | D9: ='achieved panel'!D9 -> 5 | E9: ='achieved panel'!E9 -> 0 | F9: ='achieved panel'!F9 -> 1 | G9: ='achieved panel'!G9 -> 3 | H9: ='achieved panel'!H9 -> 0 | I9: ='achieved panel'!I9 -> 2 | J9: ='achieved panel'!J9 -> 1 | ... L9: ='achieved panel'!L9 -> 0
A10: ='achieved panel'!A10 -> Mediterranean Region | B10: =LEFT('achieved panel'!B10,FIND(")",'achieved panel'!B10)) -> Large (100 or more) | C10: ='achieved panel'!C10 -> 3 | D10: ='achieved panel'!D10 -> 3 | E10: ='achieved panel'!E10 -> 7 | F10: ='achieved panel'!F10 -> 5 | G10: ='achieved panel'!G10 -> 1 | H10: ='achieved panel'!H10 -> 0 | I10: ='achieved panel'!I10 -> 0 | J10: ='achieved panel'!J10 -> 0 | ... L10: ='achieved panel'!L10 -> 1
A11: ='achieved panel'!A11 -> Central Anatolia Region | B11: =LEFT('achieved panel'!B11,FIND(")",'achieved panel'!B11)) -> Small (5-19) | C11: ='achieved panel'!C11 -> 2 | D11: ='achieved panel'!D11 -> 3 | E11: ='achieved panel'!E11 -> 0 | F11: ='achieved panel'!F11 -> 2 | G11: ='achieved panel'!G11 -> 3 | H11: ='achieved panel'!H11 -> 0 | I11: ='achieved panel'!I11 -> 2 | J11: ='achieved panel'!J11 -> 4 | ... L11: ='achieved panel'!L11 -> 2 | M11: =SUM(C11:L13) -> 48
A12: ='achieved panel'!A12 -> Central Anatolia Region | B12: =LEFT('achieved panel'!B12,FIND(")",'achieved panel'!B12)) -> Medium (20-99) | C12: ='achieved panel'!C12 -> 2 | D12: ='achieved panel'!D12 -> 4 | E12: ='achieved panel'!E12 -> 1 | F12: ='achieved panel'!F12 -> 3 | G12: ='achieved panel'!G12 -> 2 | H12: ='achieved panel'!H12 -> 1 | I12: ='achieved panel'!I12 -> 0 | J12: ='achieved panel'!J12 -> 1 | ... L12: ='achieved panel'!L12 -> 1
A13: ='achieved panel'!A13 -> Central Anatolia Region | B13: =LEFT('achieved panel'!B13,FIND(")",'achieved panel'!B13)) -> Large (100 or more) | C13: ='achieved panel'!C13 -> 2 | D13: ='achieved panel'!D13 -> 2 | E13: ='achieved panel'!E13 -> 2 | F13: ='achieved panel'!F13 -> 3 | G13: ='achieved panel'!G13 -> 3 | H13: ='achieved panel'!H13 -> 0 | I13: ='achieved panel'!I13 -> 2 | J13: ='achieved panel'!J13 -> 1 | ... L13: ='achieved panel'!L13 -> 0
A14: ='achieved panel'!A14 -> Eastern Anatolia Region | B14: =LEFT('achieved panel'!B14,FIND(")",'achieved panel'!B14)) -> Small (5-19) | C14: ='achieved panel'!C14 -> 5 | D14: ='achieved panel'!D14 -> 0 | E14: ='achieved panel'!E14 -> 1 | F14: ='achieved panel'!F14 -> 2 | G14: ='achieved panel'!G14 -> 4 | H14: ='achieved panel'!H14 -> 1 | I14: ='achieved panel'!I14 -> 4 | J14: ='achieved panel'!J14 -> 1 | ... L14: ='achieved panel'!L14 -> 0 | M14: =SUM(C14:L16) -> 40
A15: ='achieved panel'!A15 -> Eastern Anatolia Region | B15: =LEFT('achieved panel'!B15,FIND(")",'achieved panel'!B15)) -> Medium (20-99) | C15: ='achieved panel'!C15 -> 3 | D15: ='achieved panel'!D15 -> 1 | E15: ='achieved panel'!E15 -> 1 | F15: ='achieved panel'!F15 -> 0 | G15: ='achieved panel'!G15 -> 3 | H15: ='achieved panel'!H15 -> 0 | I15: ='achieved panel'!I15 -> 4 | J15: ='achieved panel'!J15 -> 2 | ... L15: ='achieved panel'!L15 -> 2
A16: ='achieved panel'!A16 -> Eastern Anatolia Region | B16: =LEFT('achieved panel'!B16,FIND(")",'achieved panel'!B16)) -> Large (100 or more) | C16: ='achieved panel'!C16 -> 1 | D16: ='achieved panel'!D16 -> 1 | E16: ='achieved panel'!E16 -> 0 | F16: ='achieved panel'!F16 -> 0 | G16: ='achieved panel'!G16 -> 0 | H16: ='achieved panel'!H16 -> 0 | I16: ='achieved panel'!I16 -> 2 | J16: ='achieved panel'!J16 -> 1 | ... L16: ='achieved panel'!L16 -> 0
A17: ='achieved panel'!A17 -> Southeastern Anatolia Region | B17: =LEFT('achieved panel'!B17,FIND(")",'achieved panel'!B17)) -> Small (5-19) | C17: ='achieved panel'!C17 -> 3 | D17: ='achieved panel'!D17 -> 1 | E17: ='achieved panel'!E17 -> 2 | F17: ='achieved panel'!F17 -> 4 | G17: ='achieved panel'!G17 -> 2 | H17: ='achieved panel'!H17 -> 0 | I17: ='achieved panel'!I17 -> 5 | J17: ='achieved panel'!J17 -> 0 | ... L17: ='achieved panel'!L17 -> 1 | M17: =SUM(C17:L19) -> 68
A18: ='achieved panel'!A18 -> Southeastern Anatolia Region | B18: =LEFT('achieved panel'!B18,FIND(")",'achieved panel'!B18)) -> Medium (20-99) | C18: ='achieved panel'!C18 -> 4 | D18: ='achieved panel'!D18 -> 2 | E18: ='achieved panel'!E18 -> 2 | F18: ='achieved panel'!F18 -> 2 | G18: ='achieved panel'!G18 -> 7 | H18: ='achieved panel'!H18 -> 0 | I18: ='achieved panel'!I18 -> 3 | J18: ='achieved panel'!J18 -> 4 | ... L18: ='achieved panel'!L18 -> 3
A19: ='achieved panel'!A19 -> Southeastern Anatolia Region | B19: =LEFT('achieved panel'!B19,FIND(")",'achieved panel'!B19)) -> Large (100 or more) | C19: ='achieved panel'!C19 -> 2 | D19: ='achieved panel'!D19 -> 12 | E19: ='achieved panel'!E19 -> 1 | F19: ='achieved panel'!F19 -> 0 | G19: ='achieved panel'!G19 -> 1 | H19: ='achieved panel'!H19 -> 0 | I19: ='achieved panel'!I19 -> 1 | J19: ='achieved panel'!J19 -> 2 | ... L19: ='achieved panel'!L19 -> 2
A20: ='achieved panel'!A20 -> Black Sea Region | B20: =LEFT('achieved panel'!B20,FIND(")",'achieved panel'!B20)) -> Small (5-19) | C20: ='achieved panel'!C20 -> 2 | D20: ='achieved panel'!D20 -> 2 | E20: ='achieved panel'!E20 -> 2 | F20: ='achieved panel'!F20 -> 5 | G20: ='achieved panel'!G20 -> 3 | H20: ='achieved panel'!H20 -> 0 | I20: ='achieved panel'!I20 -> 4 | J20: ='achieved panel'!J20 -> 0 | ... L20: ='achieved panel'!L20 -> 1 | M20: =SUM(C20:L22) -> 49
A21: ='achieved panel'!A21 -> Black Sea Region | B21: =LEFT('achieved panel'!B21,FIND(")",'achieved panel'!B21)) -> Medium (20-99) | C21: ='achieved panel'!C21 -> 5 | D21: ='achieved panel'!D21 -> 0 | E21: ='achieved panel'!E21 -> 2 | F21: ='achieved panel'!F21 -> 2 | G21: ='achieved panel'!G21 -> 3 | H21: ='achieved panel'!H21 -> 0 | I21: ='achieved panel'!I21 -> 3 | J21: ='achieved panel'!J21 -> 2 | ... L21: ='achieved panel'!L21 -> 3
A22: ='achieved panel'!A22 -> Black Sea Region | B22: =LEFT('achieved panel'!B22,FIND(")",'achieved panel'!B22)) -> Large (100 or more) | C22: ='achieved panel'!C22 -> 1 | D22: ='achieved panel'!D22 -> 0 | E22: ='achieved panel'!E22 -> 1 | F22: ='achieved panel'!F22 -> 1 | G22: ='achieved panel'!G22 -> 2 | H22: ='achieved panel'!H22 -> 1 | I22: ='achieved panel'!I22 -> 2 | J22: ='achieved panel'!J22 -> 1 | ... L22: ='achieved panel'!L22 -> 0
C23: =SUM(C2:C22) -> 46 | D23: =SUM(D2:D22) -> 44 | E23: =SUM(E2:E22) -> 27 | F23: =SUM(F2:F22) -> 34 | G23: =SUM(G2:G22) -> 44 | H23: =SUM(H2:H22) -> 3 | I23: =SUM(I2:I22) -> 40 | J23: =SUM(J2:J22) -> 24 | ... M23: =SUM(M2:M22) -> 292

Sheet Table 8 Weak Universe Estimates
C1: =RIGHT(SUBSTITUTE(universe_weak!C1,"_"," "),LEN(SUBSTITUTE(universe_weak!C1,"_"," "))-1) -> Food | D1: =RIGHT(SUBSTITUTE(universe_weak!D1,"_"," "),LEN(SUBSTITUTE(universe_weak!D1,"_"," "))-1) -> Textiles | E1: =RIGHT(SUBSTITUTE(universe_weak!E1,"_"," "),LEN(SUBSTITUTE(universe_weak!E1,"_"," "))-1) -> Garments | F1: =RIGHT(SUBSTITUTE(universe_weak!F1,"_"," "),LEN(SUBSTITUTE(universe_weak!F1,"_"," "))-1) -> Fabricated Metal Products | G1: =RIGHT(SUBSTITUTE(universe_weak!G1,"_"," "),LEN(SUBSTITUTE(universe_weak!G1,"_"," "))-1) -> Other Manufacturing | H1: =RIGHT(SUBSTITUTE(universe_weak!H1,"_"," "),LEN(SUBSTITUTE(universe_weak!H1,"_"," "))-1) -> Hotels | I1: =RIGHT(SUBSTITUTE(universe_weak!I1,"_"," "),LEN(SUBSTITUTE(universe_weak!I1,"_"," "))-1) -> Retail | J1: =RIGHT(SUBSTITUTE(universe_weak!J1,"_"," "),LEN(SUBSTITUTE(universe_weak!J1,"_"," "))-1) -> Construction | ... L1: =RIGHT(SUBSTITUTE(universe_weak!L1,"_"," "),LEN(SUBSTITUTE(universe_weak!L1,"_"," "))-1) -> Other Services | M1: Grand Total
A2: =universe_weak!A2 -> Marmara Region | B2: =LEFT(universe_weak!B2,FIND(")",universe_weak!B2)) -> Small (5-19) | C2: =universe_weak!C2 -> 2378.9688 | D2: =universe_weak!D2 -> 1910.9598 | E2: =universe_weak!E2 -> 5252.3477 | F2: =universe_weak!F2 -> 2836.0715 | G2: =universe_weak!G2 -> 10351.336 | H2: =universe_weak!H2 -> 970.32178 | I2: =universe_weak!I2 -> 10319.438 | J2: =universe_weak!J2 -> 11913.385 | ... L2: =universe_weak!L2 -> 36949.008 | M2: =SUM(C2:L4) -> 114808.29
A3: =universe_weak!A3 -> Marmara Region | B3: =LEFT(universe_weak!B3,FIND(")",universe_weak!B3)) -> Medium (20-99) | C3: =universe_weak!C3 -> 480.7876 | D3: =universe_weak!D3 -> 907.0625 | E3: =universe_weak!E3 -> 1886.036 | F3: =universe_weak!F3 -> 921.11633 | G3: =universe_weak!G3 -> 4367.6689 | H3: =universe_weak!H3 -> 336.17288 | I3: =universe_weak!I3 -> 1550.1501 | J3: =universe_weak!J3 -> 2953.8979 | ... L3: =universe_weak!L3 -> 7007.4458
A4: =universe_weak!A4 -> Marmara Region | B4: =LEFT(universe_weak!B4,FIND(")",universe_weak!B4)) -> Large (100 or more) | C4: =universe_weak!C4 -> 179.26413 | D4: =universe_weak!D4 -> 312.61633 | E4: =universe_weak!E4 -> 435.58984 | F4: =universe_weak!F4 -> 194.61414 | G4: =universe_weak!G4 -> 1169.6317 | H4: =universe_weak!H4 -> 121.06062 | I4: =universe_weak!I4 -> 228.04413 | J4: =universe_weak!J4 -> 378.10016 | ... L4: =universe_weak!L4 -> 835.97772
A5: =universe_weak!A5 -> Aegean Region | B5: =LEFT(universe_weak!B5,FIND(")",universe_weak!B5)) -> Small (5-19) | C5: =universe_weak!C5 -> 1287.0111 | D5: =universe_weak!D5 -> 608.46588 | E5: =universe_weak!E5 -> 613.79443 | F5: =universe_weak!F5 -> 779.69104 | G5: =universe_weak!G5 -> 3053.1074 | H5: =universe_weak!H5 -> 625.3927 | I5: =universe_weak!I5 -> 4631.2959 | J5: =universe_weak!J5 -> 4743.2783 | ... L5: =universe_weak!L5 -> 10891.002 | M5: =SUM(C5:L7) -> 36548.604
A6: =universe_weak!A6 -> Aegean Region | B6: =LEFT(universe_weak!B6,FIND(")",universe_weak!B6)) -> Medium (20-99) | C6: =universe_weak!C6 -> 417.25815 | D6: =universe_weak!D6 -> 323.42041 | E6: =universe_weak!E6 -> 263.89789 | F6: =universe_weak!F6 -> 240.94229 | G6: =universe_weak!G6 -> 1279.8939 | H6: =universe_weak!H6 -> 183.46112 | I6: =universe_weak!I6 -> 586.03772 | J6: =universe_weak!J6 -> 1077.2269 | ... L6: =universe_weak!L6 -> 1603.0087
A7: =universe_weak!A7 -> Aegean Region | B7: =LEFT(universe_weak!B7,FIND(")",universe_weak!B7)) -> Large (100 or more) | C7: =universe_weak!C7 -> 98.977058 | D7: =universe_weak!D7 -> 102.59241 | E7: =universe_weak!E7 -> 79.37587 | F7: =universe_weak!F7 -> 50.880814 | G7: =universe_weak!G7 -> 326.11673 | H7: =universe_weak!H7 -> 37.90992 | I7: =universe_weak!I7 -> 48.560303 | J7: =universe_weak!J7 -> 60.817257 | ... L7: =universe_weak!L7 -> 119.04369
A8: =universe_weak!A8 -> Mediterranean Region | B8: =LEFT(universe_weak!B8,FIND(")",universe_weak!B8)) -> Small (5-19) | C8: =universe_weak!C8 -> 1175.3756 | D8: =universe_weak!D8 -> 130.47614 | E8: =universe_weak!E8 -> 313.79773 | F8: =universe_weak!F8 -> 624.20776 | G8: =universe_weak!G8 -> 2565.3982 | H8: =universe_weak!H8 -> 637.57495 | I8: =universe_weak!I8 -> 5356.623 | J8: =universe_weak!J8 -> 4732.0835 | ... L8: =universe_weak!L8 -> 12023.508 | M8: =SUM(C8:L11) -> 37997.086
A9: =universe_weak!A9 -> Mediterranean Region | B9: =LEFT(universe_weak!B9,FIND(")",universe_weak!B9)) -> Medium (20-99) | C9: =universe_weak!C9 -> 291.56189 | D9: =universe_weak!D9 -> 101.06694 | E9: =universe_weak!E9 -> 143.42546 | F9: =universe_weak!F9 -> 187.41196 | G9: =universe_weak!G9 -> 811.88019 | H9: =universe_weak!H9 -> 0 | I9: =universe_weak!I9 -> 705.9834 | J9: =universe_weak!J9 -> 1410.7682 | ... L9: =universe_weak!L9 -> 1900.6957
A10: =universe_weak!A10 -> Mediterranean Region | B10: =LEFT(universe_weak!B10,FIND(")",universe_weak!B10)) -> Large (100 or more) | C10: =universe_weak!C10 -> 44.822166 | D10: =universe_weak!D10 -> 105.05121 | E10: =universe_weak!E10 -> 86.289917 | F10: =universe_weak!F10 -> 46.925819 | G10: =universe_weak!G10 -> 167.43773 | H10: =universe_weak!H10 -> 0 | I10: =universe_weak!I10 -> 58.19754 | J10: =universe_weak!J10 -> 122.97533 | ... L10: =universe_weak!L10 -> 157.12506
A11: =universe_weak!A11 -> Mediterranean Region | B11: =LEFT(universe_weak!B11,FIND(")",universe_weak!B11)) -> Medium and Large (20+) | C11: =universe_weak!C11 -> 0 | D11: =universe_weak!D11 -> 0 | E11: =universe_weak!E11 -> 0 | F11: =universe_weak!F11 -> 0 | G11: =universe_weak!G11 -> 0 | H11: =universe_weak!H11 -> 504.03287 | I11: =universe_weak!I11 -> 0 | J11: =universe_weak!J11 -> 0 | ... L11: =universe_weak!L11 -> 0
A12: =universe_weak!A12 -> Central Anatolia Region | B12: =LEFT(universe_weak!B12,FIND(")",universe_weak!B12)) -> Small (5-19) | C12: =universe_weak!C12 -> 1315.8779 | D12: =universe_weak!D12 -> 155.53386 | E12: =universe_weak!E12 -> 285.53845 | F12: =universe_weak!F12 -> 1585.5979 | G12: =universe_weak!G12 -> 4962.0591 | H12: =universe_weak!H12 -> 451.5845 | I12: =universe_weak!I12 -> 5352.1924 | J12: =universe_weak!J12 -> 7384.5732 | ... L12: =universe_weak!L12 -> 15961.458 | M12: =SUM(C12:L14) -> 51500.441
A13: =universe_weak!A13 -> Central Anatolia Region | B13: =LEFT(universe_weak!B13,FIND(")",universe_weak!B13)) -> Medium (20-99) | C13: =universe_weak!C13 -> 452.05328 | D13: =universe_weak!D13 -> 55.868111 | E13: =universe_weak!E13 -> 72.572701 | F13: =universe_weak!F13 -> 497.38907 | G13: =universe_weak!G13 -> 1906.8068 | H13: =universe_weak!H13 -> 93.561478 | I13: =universe_weak!I13 -> 858.98962 | J13: =universe_weak!J13 -> 2545.4238 | ... L13: =universe_weak!L13 -> 2946.2717
A14: =universe_weak!A14 -> Central Anatolia Region | B14: =LEFT(universe_weak!B14,FIND(")",universe_weak!B14)) -> Large (100 or more) | C14: =universe_weak!C14 -> 113.97082 | D14: =universe_weak!D14 -> 27.338408 | E14: =universe_weak!E14 -> 31.369188 | F14: =universe_weak!F14 -> 98.329979 | G14: =universe_weak!G14 -> 403.18292 | H14: =universe_weak!H14 -> 63.313713 | I14: =universe_weak!I14 -> 118.87093 | J14: =universe_weak!J14 -> 430.26849 | ... L14: =universe_weak!L14 -> 273.13239
A15: =universe_weak!A15 -> Eastern Anatolia Region | B15: =LEFT(universe_weak!B15,FIND(")",universe_weak!B15)) -> Small (5-19) | C15: =universe_weak!C15 -> 521.41736 | D15: =universe_weak!D15 -> 30.320831 | E15: =universe_weak!E15 -> 105.84071 | F15: =universe_weak!F15 -> 111.27861 | G15: =universe_weak!G15 -> 259.35703 | H15: =universe_weak!H15 -> 132.85103 | I15: =universe_weak!I15 -> 2044.1658 | J15: =universe_weak!J15 -> 2426.0632 | ... L15: =universe_weak!L15 -> 3135.9592 | M15: =SUM(C15:L18) -> 11707.064
A16: =universe_weak!A16 -> Eastern Anatolia Region | B16: =LEFT(universe_weak!B16,FIND(")",universe_weak!B16)) -> Medium (20-99) | C16: =universe_weak!C16 -> 84.205032 | D16: =universe_weak!D16 -> 12.119057 | E16: =universe_weak!E16 -> 89.945229 | F16: =universe_weak!F16 -> 3.9015265 | G16: =universe_weak!G16 -> 172.77245 | H16: =universe_weak!H16 -> 29.069218 | I16: =universe_weak!I16 -> 339.0535 | J16: =universe_weak!J16 -> 931.85156 | ... L16: =universe_weak!L16 -> 0
A17: =universe_weak!A17 -> Eastern Anatolia Region | B17: =LEFT(universe_weak!B17,FIND(")",universe_weak!B17)) -> Large (100 or more) | C17: =universe_weak!C17 -> 9.7683668 | D17: =universe_weak!D17 -> 7.4981046 | E17: =universe_weak!E17 -> 46.782219 | F17: =universe_weak!F17 -> 0 | G17: =universe_weak!G17 -> 9.5856876 | H17: =universe_weak!H17 -> 0 | I17: =universe_weak!I17 -> 7.6864643 | J17: =universe_weak!J17 -> 66.523842 | ... L17: =universe_weak!L17 -> 0
A18: =universe_weak!A18 -> Eastern Anatolia Region | B18: =LEFT(universe_weak!B18,FIND(")",universe_weak!B18)) -> Medium and Large (20+) | C18: =universe_weak!C18 -> 0 | D18: =universe_weak!D18 -> 0 | E18: =universe_weak!E18 -> 0 | F18: =universe_weak!F18 -> 0 | G18: =universe_weak!G18 -> 0 | H18: =universe_weak!H18 -> 0 | I18: =universe_weak!I18 -> 0 | J18: =universe_weak!J18 -> 0 | ... L18: =universe_weak!L18 -> 187.90114
A19: =universe_weak!A19 -> Southeastern Anatolia Region | B19: =LEFT(universe_weak!B19,FIND(")",universe_weak!B19)) -> Small (5-19) | C19: =universe_weak!C19 -> 718.20612 | D19: =universe_weak!D19 -> 319.14536 | E19: =universe_weak!E19 -> 516.26825 | F19: =universe_weak!F19 -> 270.92868 | G19: =universe_weak!G19 -> 1320.1533 | H19: =universe_weak!H19 -> 96.542519 | I19: =universe_weak!I19 -> 2545.949 | J19: =universe_weak!J19 -> 2993.8003 | ... L19: =universe_weak!L19 -> 5429.1543 | M19: =SUM(C19:L21) -> 21098.058
A20: =universe_weak!A20 -> Southeastern Anatolia Region | B20: =LEFT(universe_weak!B20,FIND(")",universe_weak!B20)) -> Medium (20-99) | C20: =universe_weak!C20 -> 209.58118 | D20: =universe_weak!D20 -> 228.51186 | E20: =universe_weak!E20 -> 362.80115 | F20: =universe_weak!F20 -> 39.121059 | G20: =universe_weak!G20 -> 400.37006 | H20: =universe_weak!H20 -> 58.465866 | I20: =universe_weak!I20 -> 330.32382 | J20: =universe_weak!J20 -> 1277.4993 | ... L20: =universe_weak!L20 -> 941.61761
A21: =universe_weak!A21 -> Southeastern Anatolia Region | B21: =LEFT(universe_weak!B21,FIND(")",universe_weak!B21)) -> Large (100 or more) | C21: =universe_weak!C21 -> 43.222881 | D21: =universe_weak!D21 -> 208.53979 | E21: =universe_weak!E21 -> 189.10526 | F21: =universe_weak!F21 -> 0 | G21: =universe_weak!G21 -> 61.343384 | H21: =universe_weak!H21 -> 2.7129784 | I21: =universe_weak!I21 -> 29.240997 | J21: =universe_weak!J21 -> 119.8598 | ... L21: =universe_weak!L21 -> 78.450005
A22: =universe_weak!A22 -> Black Sea Region | B22: =LEFT(universe_weak!B22,FIND(")",universe_weak!B22)) -> Small (5-19) | C22: =universe_weak!C22 -> 1297.7521 | D22: =universe_weak!D22 -> 32.474064 | E22: =universe_weak!E22 -> 171.82326 | F22: =universe_weak!F22 -> 307.75372 | G22: =universe_weak!G22 -> 1181.2998 | H22: =universe_weak!H22 -> 298.91626 | I22: =universe_weak!I22 -> 4015.6257 | J22: =universe_weak!J22 -> 3582.4021 | ... L22: =universe_weak!L22 -> 6009.876 | M22: =SUM(C22:L24) -> 22551.406
A23: =universe_weak!A23 -> Black Sea Region | B23: =LEFT(universe_weak!B23,FIND(")",universe_weak!B23)) -> Medium (20-99) | C23: =universe_weak!C23 -> 292.7485 | D23: =universe_weak!D23 -> 14.196538 | E23: =universe_weak!E23 -> 182.60867 | F23: =universe_weak!F23 -> 64.637619 | G23: =universe_weak!G23 -> 579.82721 | H23: =universe_weak!H23 -> 0 | I23: =universe_weak!I23 -> 559.15979 | J23: =universe_weak!J23 -> 803.69965 | ... L23: =universe_weak!L23 -> 881.40125
A24: =universe_weak!A24 -> Black Sea Region | B24: =LEFT(universe_weak!B24,FIND(")",universe_weak!B24)) -> Large (100 or more) | C24: =universe_weak!C24 -> 48.060127 | D24: =universe_weak!D24 -> 3.7643359 | E24: =universe_weak!E24 -> 87.498596 | F24: =universe_weak!F24 -> 13.633475 | G24: =universe_weak!G24 -> 95.372665 | H24: =universe_weak!H24 -> 20.693506 | I24: =universe_weak!I24 -> 36.730164 | J24: =universe_weak!J24 -> 48.24086 | ... L24: =universe_weak!L24 -> 47.592102
C25: =SUM(C2:C24) -> 11460.89 | D25: =SUM(D2:D24) -> 5597.022 | E25: =SUM(E2:E24) -> 11216.708 | F25: =SUM(F2:F24) -> 8874.4333 | G25: =SUM(G2:G24) -> 35444.601 | H25: =SUM(H2:H24) -> 4663.6379 | I25: =SUM(I2:I24) -> 39722.318 | J25: =SUM(J2:J24) -> 50002.739 | ... M25: =SUM(M2:M24) -> 296210.95

Sheet Table 9 Median Universe Est
C1: =RIGHT(SUBSTITUTE(universe_median!C1,"_"," "),LEN(SUBSTITUTE(universe_median!C1,"_"," "))-1) -> Food | D1: =RIGHT(SUBSTITUTE(universe_median!D1,"_"," "),LEN(SUBSTITUTE(universe_median!D1,"_"," "))-1) -> Textiles | E1: =RIGHT(SUBSTITUTE(universe_median!E1,"_"," "),LEN(SUBSTITUTE(universe_median!E1,"_"," "))-1) -> Garments | F1: =RIGHT(SUBSTITUTE(universe_median!F1,"_"," "),LEN(SUBSTITUTE(universe_median!F1,"_"," "))-1) -> Fabricated Metal Products | G1: =RIGHT(SUBSTITUTE(universe_median!G1,"_"," "),LEN(SUBSTITUTE(universe_median!G1,"_"," "))-1) -> Other Manufacturing | H1: =RIGHT(SUBSTITUTE(universe_median!H1,"_"," "),LEN(SUBSTITUTE(universe_median!H1,"_"," "))-1) -> Hotels | I1: =RIGHT(SUBSTITUTE(universe_median!I1,"_"," "),LEN(SUBSTITUTE(universe_median!I1,"_"," "))-1) -> Retail | J1: =RIGHT(SUBSTITUTE(universe_median!J1,"_"," "),LEN(SUBSTITUTE(universe_median!J1,"_"," "))-1) -> Construction | ... L1: =RIGHT(SUBSTITUTE(universe_median!L1,"_"," "),LEN(SUBSTITUTE(universe_median!L1,"_"," "))-1) -> Other Services | M1: Grand Total
A2: =universe_median!A2 -> Marmara Region | B2: =LEFT(universe_median!B2,FIND(")",universe_median!B2)) -> Small (5-19) | C2: =universe_median!C2 -> 1328.9436 | D2: =universe_median!D2 -> 1064.219 | E2: =universe_median!E2 -> 2764.5513 | F2: =universe_median!F2 -> 1624.6188 | G2: =universe_median!G2 -> 5352.9263 | H2: =universe_median!H2 -> 550.06812 | I2: =universe_median!I2 -> 5301.9722 | J2: =universe_median!J2 -> 6230.5288 | ... L2: =universe_median!L2 -> 19448.805 | M2: =SUM(C2:L4) -> 61148.592
A3: =universe_median!A3 -> Marmara Region | B3: =LEFT(universe_median!B3,FIND(")",universe_median!B3)) -> Medium (20-99) | C3: =universe_median!C3 -> 275.76593 | D3: =universe_median!D3 -> 518.66412 | E3: =universe_median!E3 -> 1019.2734 | F3: =universe_median!F3 -> 541.77417 | G3: =universe_median!G3 -> 2319.071 | H3: =universe_median!H3 -> 195.67389 | I3: =universe_median!I3 -> 817.75793 | J3: =universe_median!J3 -> 1586.1881 | ... L3: =universe_median!L3 -> 3787.2097
A4: =universe_median!A4 -> Marmara Region | B4: =LEFT(universe_median!B4,FIND(")",universe_median!B4)) -> Large (100 or more) | C4: =universe_median!C4 -> 99.734688 | D4: =universe_median!D4 -> 173.39084 | E4: =universe_median!E4 -> 228.34102 | F4: =universe_median!F4 -> 111.03084 | G4: =universe_median!G4 -> 602.39166 | H4: =universe_median!H4 -> 68.350006 | I4: =universe_median!I4 -> 116.69044 | J4: =universe_median!J4 -> 196.93893 | ... L4: =universe_median!L4 -> 438.24786
A5: =universe_median!A5 -> Aegean Region | B5: =LEFT(universe_median!B5,FIND(")",universe_median!B5)) -> Small (5-19) | C5: =universe_median!C5 -> 642.46936 | D5: =universe_median!D5 -> 302.80841 | E5: =universe_median!E5 -> 288.69974 | F5: =universe_median!F5 -> 399.12512 | G5: =universe_median!G5 -> 1410.8771 | H5: =universe_median!H5 -> 316.815 | I5: =universe_median!I5 -> 2126.3572 | J5: =universe_median!J5 -> 2216.7698 | ... L5: =universe_median!L5 -> 5122.833 | M5: =SUM(C5:L7) -> 17403.665
A6: =universe_median!A6 -> Aegean Region | B6: =LEFT(universe_median!B6,FIND(")",universe_median!B6)) -> Medium (20-99) | C6: =universe_median!C6 -> 213.86731 | D6: =universe_median!D6 -> 165.26035 | E6: =universe_median!E6 -> 127.44678 | F6: =universe_median!F6 -> 126.63947 | G6: =universe_median!G6 -> 607.28223 | H6: =universe_median!H6 -> 95.425949 | I6: =universe_median!I6 -> 276.26685 | J6: =universe_median!J6 -> 516.91443 | ... L6: =universe_median!L6 -> 774.19031
A7: =universe_median!A7 -> Aegean Region | B7: =LEFT(universe_median!B7,FIND(")",universe_median!B7)) -> Large (100 or more) | C7: =universe_median!C7 -> 49.208439 | D7: =universe_median!D7 -> 50.848946 | E7: =universe_median!E7 -> 37.183216 | F7: =universe_median!F7 -> 25.940334 | G7: =universe_median!G7 -> 150.09117 | H7: =universe_median!H7 -> 19.126732 | I7: =universe_median!I7 -> 22.204967 | J7: =universe_median!J7 -> 28.307646 | ... L7: =universe_median!L7 -> 55.76783
A8: =universe_median!A8 -> Mediterranean Region | B8: =LEFT(universe_median!B8,FIND(")",universe_median!B8)) -> Small (5-19) | C8: =universe_median!C8 -> 1132.0834 | D8: =universe_median!D8 -> 125.28366 | E8: =universe_median!E8 -> 284.77698 | F8: =universe_median!F8 -> 616.52026 | G8: =universe_median!G8 -> 2287.3547 | H8: =universe_median!H8 -> 623.18329 | I8: =universe_median!I8 -> 4745.2207 | J8: =universe_median!J8 -> 4267.0332 | ... L8: =universe_median!L8 -> 10912.022 | M8: =SUM(C8:L11) -> 35016.619
A9: =universe_median!A9 -> Mediterranean Region | B9: =LEFT(universe_median!B9,FIND(")",universe_median!B9)) -> Medium (20-99) | C9: =universe_median!C9 -> 288.22971 | D9: =universe_median!D9 -> 99.641899 | E9: =universe_median!E9 -> 133.64442 | F9: =universe_median!F9 -> 190.0575 | G9: =universe_median!G9 -> 743.25891 | H9: =universe_median!H9 -> 0 | I9: =universe_median!I9 -> 642.13934 | J9: =universe_median!J9 -> 1306.1674 | ... L9: =universe_median!L9 -> 1771.1532
A10: =universe_median!A10 -> Mediterranean Region | B10: =LEFT(universe_median!B10,FIND(")",universe_median!B10)) -> Large (100 or more) | C10: =universe_median!C10 -> 42.401245 | D10: =universe_median!D10 -> 100.46144 | E10: =universe_median!E10 -> 77.992004 | F10: =universe_median!F10 -> 45.776516 | G10: =universe_median!G10 -> 148.68497 | H10: =universe_median!H10 -> 0 | I10: =universe_median!I10 -> 51.345806 | J10: =universe_median!J10 -> 110.44004 | ... L10: =universe_median!L10 -> 142.02161
A11: =universe_median!A11 -> Mediterranean Region | B11: =LEFT(universe_median!B11,FIND(")",universe_median!B11)) -> Medium and Large (20+) | C11: =universe_median!C11 -> 0 | D11: =universe_median!D11 -> 0 | E11: =universe_median!E11 -> 0 | F11: =universe_median!F11 -> 0 | G11: =universe_median!G11 -> 0 | H11: =universe_median!H11 -> 584.82501 | I11: =universe_median!I11 -> 0 | J11: =universe_median!J11 -> 0 | ... L11: =universe_median!L11 -> 0
A12: =universe_median!A12 -> Central Anatolia Region | B12: =LEFT(universe_median!B12,FIND(")",universe_median!B12)) -> Small (5-19) | C12: =universe_median!C12 -> 1304.821 | D12: =universe_median!D12 -> 153.75241 | E12: =universe_median!E12 -> 266.78 | F12: =universe_median!F12 -> 1612.2961 | G12: =universe_median!G12 -> 4554.8516 | H12: =universe_median!H12 -> 454.41974 | I12: =universe_median!I12 -> 4881.2456 | J12: =universe_median!J12 -> 6855.397 | ... L12: =universe_median!L12 -> 14913.519 | M12: =SUM(C12:L14) -> 48613.961
A13: =universe_median!A13 -> Central Anatolia Region | B13: =LEFT(universe_median!B13,FIND(")",universe_median!B13)) -> Medium (20-99) | C13: =universe_median!C13 -> 460.2507 | D13: =universe_median!D13 -> 56.706192 | E13: =universe_median!E13 -> 69.619591 | F13: =universe_median!F13 -> 519.29901 | G13: =universe_median!G13 -> 1797.1672 | H13: =universe_median!H13 -> 96.668442 | I13: =universe_median!I13 -> 804.37085 | J13: =universe_median!J13 -> 2426.2573 | ... L13: =universe_median!L13 -> 2826.5059
A14: =universe_median!A14 -> Central Anatolia Region | B14: =LEFT(universe_median!B14,FIND(")",universe_median!B14)) -> Large (100 or more) | C14: =universe_median!C14 -> 112.5548 | D14: =universe_median!D14 -> 26.915668 | E14: =universe_median!E14 -> 29.189518 | F14: =universe_median!F14 -> 99.580132 | G14: =universe_median!G14 -> 368.59497 | H14: =universe_median!H14 -> 63.452816 | I14: =universe_median!I14 -> 107.9716 | J14: =universe_median!J14 -> 397.81552 | ... L14: =universe_median!L14 -> 254.16501
A15: =universe_median!A15 -> Eastern Anatolia Region | B15: =LEFT(universe_median!B15,FIND(")",universe_median!B15)) -> Small (5-19) | C15: =universe_median!C15 -> 494.86032 | D15: =universe_median!D15 -> 28.687973 | E15: =universe_median!E15 -> 94.646217 | F15: =universe_median!F15 -> 108.29919 | G15: =universe_median!G15 -> 227.86212 | H15: =universe_median!H15 -> 127.95135 | I15: =universe_median!I15 -> 1784.3365 | J15: =universe_median!J15 -> 2155.6145 | ... L15: =universe_median!L15 -> 2804.3992 | M15: =SUM(C15:L18) -> 10400.209
A16: =universe_median!A16 -> Eastern Anatolia Region | B16: =LEFT(universe_median!B16,FIND(")",universe_median!B16)) -> Medium (20-99) | C16: =universe_median!C16 -> 82.054932 | D16: =universe_median!D16 -> 11.773271 | E16: =universe_median!E16 -> 82.584427 | F16: =universe_median!F16 -> 3.8986807 | G16: =universe_median!G16 -> 155.85405 | H16: =universe_median!H16 -> 28.746359 | I16: =universe_median!I16 -> 117.2839 | J16: =universe_median!J16 -> 850.12982 | ... L16: =universe_median!L16 -> 0
A17: =universe_median!A17 -> Eastern Anatolia Region | B17: =LEFT(universe_median!B17,FIND(")",universe_median!B17)) -> Large (100 or more) | C17: =universe_median!C17 -> 9.2332401 | D17: =universe_median!D17 -> 7.0655384 | E17: =universe_median!E17 -> 41.664513 | F17: =universe_median!F17 -> 0 | G17: =universe_median!G17 -> 8.3874969 | H17: =universe_median!H17 -> 0 | I17: =universe_median!I17 -> 3.2791646 | J17: =universe_median!J17 -> 58.868282 | ... L17: =universe_median!L17 -> 0
A18: =universe_median!A18 -> Eastern Anatolia Region | B18: =LEFT(universe_median!B18,FIND(")",universe_median!B18)) -> Medium and Large (20+) | C18: =universe_median!C18 -> 0 | D18: =universe_median!D18 -> 0 | E18: =universe_median!E18 -> 0 | F18: =universe_median!F18 -> 0 | G18: =universe_median!G18 -> 0 | H18: =universe_median!H18 -> 0 | I18: =universe_median!I18 -> 0 | J18: =universe_median!J18 -> 0 | ... L18: =universe_median!L18 -> 199.47174
A19: =universe_median!A19 -> Southeastern Anatolia Region | B19: =LEFT(universe_median!B19,FIND(")",universe_median!B19)) -> Small (5-19) | C19: =universe_median!C19 -> 703.51532 | D19: =universe_median!D19 -> 311.65543 | E19: =universe_median!E19 -> 476.48938 | F19: =universe_median!F19 -> 272.14221 | G19: =universe_median!G19 -> 1197.0874 | H19: =universe_median!H19 -> 95.967888 | I19: =universe_median!I19 -> 2293.7061 | J19: =universe_median!J19 -> 2745.4856 | ... L19: =universe_median!L19 -> 5011.0518 | M19: =SUM(C19:L21) -> 19383.738
A20: =universe_median!A20 -> Southeastern Anatolia Region | B20: =LEFT(universe_median!B20,FIND(")",universe_median!B20)) -> Medium (20-99) | C20: =universe_median!C20 -> 210.78821 | D20: =universe_median!D20 -> 84.936035 | E20: =universe_median!E20 -> 343.80804 | F20: =universe_median!F20 -> 14.975287 | G20: =universe_median!G20 -> 372.76279 | H20: =universe_median!H20 -> 59.673191 | I20: =universe_median!I20 -> 305.5607 | J20: =universe_median!J20 -> 1202.8918 | ... L20: =universe_median!L20 -> 892.36151
A21: =universe_median!A21 -> Southeastern Anatolia Region | B21: =LEFT(universe_median!B21,FIND(")",universe_median!B21)) -> Large (100 or more) | C21: =universe_median!C21 -> 42.167049 | D21: =universe_median!D21 -> 78.451248 | E21: =universe_median!E21 -> 173.82669 | F21: =universe_median!F21 -> 0 | G21: =universe_median!G21 -> 55.399284 | H21: =universe_median!H21 -> 2.6858928 | I21: =universe_median!I21 -> 26.237064 | J21: =universe_median!J21 -> 109.47248 | ... L21: =universe_median!L21 -> 72.114853
A22: =universe_median!A22 -> Black Sea Region | B22: =LEFT(universe_median!B22,FIND(")",universe_median!B22)) -> Small (5-19) | C22: =universe_median!C22 -> 1205.0917 | D22: =universe_median!D22 -> 30.062611 | E22: =universe_median!E22 -> 150.33623 | F22: =universe_median!F22 -> 293.05429 | G22: =universe_median!G22 -> 1015.4661 | H22: =universe_median!H22 -> 281.68311 | I22: =universe_median!I22 -> 3429.6138 | J22: =universe_median!J22 -> 3114.4014 | ... L22: =universe_median!L22 -> 5258.5522 | M22: =SUM(C22:L24) -> 19925.714
A23: =universe_median!A23 -> Black Sea Region | B23: =LEFT(universe_median!B23,FIND(")",universe_median!B23)) -> Medium (20-99) | C23: =universe_median!C23 -> 279.121 | D23: =universe_median!D23 -> 13.49404 | E23: =universe_median!E23 -> 164.04863 | F23: =universe_median!F23 -> 63.197472 | G23: =universe_median!G23 -> 511.76843 | H23: =universe_median!H23 -> 0 | I23: =universe_median!I23 -> 490.34015 | J23: =universe_median!J23 -> 717.40363 | ... L23: =universe_median!L23 -> 791.85168
A24: =universe_median!A24 -> Black Sea Region | B24: =LEFT(universe_median!B24,FIND(")",universe_median!B24)) -> Large (100 or more) | C24: =universe_median!C24 -> 44.447598 | D24: =universe_median!D24 -> 3.4706705 | E24: =universe_median!E24 -> 76.246132 | F24: =universe_median!F24 -> 12.929638 | G24: =universe_median!G24 -> 81.65152 | H24: =universe_median!H24 -> 6.2735095 | I24: =universe_median!I24 -> 31.242792 | J24: =universe_median!J24 -> 41.768631 | ... L24: =universe_median!L24 -> 41.473484
C25: =SUM(C2:C24) -> 9021.6095 | D25: =SUM(D2:D24) -> 3407.5497 | E25: =SUM(E2:E24) -> 6931.1482 | F25: =SUM(F2:F24) -> 6681.155 | G25: =SUM(G2:G24) -> 23968.791 | H25: =SUM(H2:H24) -> 3670.9903 | I25: =SUM(I2:I24) -> 28375.144 | J25: =SUM(J2:J24) -> 37134.794 | ... M25: =SUM(M2:M24) -> 211892.5

Sheet Table 10 Strict Universe Est
C1: =RIGHT(SUBSTITUTE(universe_strict!C1,"_"," "),LEN(SUBSTITUTE(universe_strict!C1,"_"," "))-1) -> Food | D1: =RIGHT(SUBSTITUTE(universe_strict!D1,"_"," "),LEN(SUBSTITUTE(universe_strict!D1,"_"," "))-1) -> Textiles | E1: =RIGHT(SUBSTITUTE(universe_strict!E1,"_"," "),LEN(SUBSTITUTE(universe_strict!E1,"_"," "))-1) -> Garments | F1: =RIGHT(SUBSTITUTE(universe_strict!F1,"_"," "),LEN(SUBSTITUTE(universe_strict!F1,"_"," "))-1) -> Fabricated Metal Products | G1: =RIGHT(SUBSTITUTE(universe_strict!G1,"_"," "),LEN(SUBSTITUTE(universe_strict!G1,"_"," "))-1) -> Other Manufacturing | H1: =RIGHT(SUBSTITUTE(universe_strict!H1,"_"," "),LEN(SUBSTITUTE(universe_strict!H1,"_"," "))-1) -> Hotels | I1: =RIGHT(SUBSTITUTE(universe_strict!I1,"_"," "),LEN(SUBSTITUTE(universe_strict!I1,"_"," "))-1) -> Retail | J1: =RIGHT(SUBSTITUTE(universe_strict!J1,"_"," "),LEN(SUBSTITUTE(universe_strict!J1,"_"," "))-1) -> Construction | ... L1: =RIGHT(SUBSTITUTE(universe_strict!L1,"_"," "),LEN(SUBSTITUTE(universe_strict!L1,"_"," "))-1) -> Other Services | M1: Grand Total
A2: =universe_strict!A2 -> Marmara Region | B2: =LEFT(universe_strict!B2,FIND(")",universe_strict!B2)) -> Small (5-19) | C2: =universe_strict!C2 -> 740.44586 | D2: =universe_strict!D2 -> 733.17328 | E2: =universe_strict!E2 -> 1765.8733 | F2: =universe_strict!F2 -> 1070.1934 | G2: =universe_strict!G2 -> 4162.5991 | H2: =universe_strict!H2 -> 263.53943 | I2: =universe_strict!I2 -> 3318.4626 | J2: =universe_strict!J2 -> 4571.7646 | ... L2: =universe_strict!L2 -> 9012.3242 | M2: =SUM(C2:L4) -> 35102.146
A3: =universe_strict!A3 -> Marmara Region | B3: =LEFT(universe_strict!B3,FIND(")",universe_strict!B3)) -> Medium (20-99) | C3: =universe_strict!C3 -> 135.1145 | D3: =universe_strict!D3 -> 314.22183 | E3: =universe_strict!E3 -> 572.53253 | F3: =universe_strict!F3 -> 313.83667 | G3: =universe_strict!G3 -> 1585.8497 | H3: =universe_strict!H3 -> 82.439743 | I3: =universe_strict!I3 -> 450.08945 | J3: =universe_strict!J3 -> 1023.501 | ... L3: =universe_strict!L3 -> 1543.2554
A4: =universe_strict!A4 -> Marmara Region | B4: =LEFT(universe_strict!B4,FIND(")",universe_strict!B4)) -> Large (100 or more) | C4: =universe_strict!C4 -> 50.182236 | D4: =universe_strict!D4 -> 107.87448 | E4: =universe_strict!E4 -> 131.71516 | F4: =universe_strict!F4 -> 66.049774 | G4: =universe_strict!G4 -> 423.02817 | H4: =universe_strict!H4 -> 29.572273 | I4: =universe_strict!I4 -> 65.955612 | J4: =universe_strict!J4 -> 130.4991 | ... L4: =universe_strict!L4 -> 183.39212
A5: =universe_strict!A5 -> Aegean Region | B5: =LEFT(universe_strict!B5,FIND(")",universe_strict!B5)) -> Small (5-19) | C5: =universe_strict!C5 -> 327.47723 | D5: =universe_strict!D5 -> 190.84705 | E5: =universe_strict!E5 -> 168.70312 | F5: =universe_strict!F5 -> 240.52585 | G5: =universe_strict!G5 -> 1003.7012 | H5: =universe_strict!H5 -> 138.85988 | I5: =universe_strict!I5 -> 1217.5242 | J5: =universe_strict!J5 -> 1488.0636 | ... L5: =universe_strict!L5 -> 2171.6807 | M5: =SUM(C5:L7) -> 9239.9822
A6: =universe_strict!A6 -> Aegean Region | B6: =LEFT(universe_strict!B6,FIND(")",universe_strict!B6)) -> Medium (20-99) | C6: =universe_strict!C6 -> 95.862274 | D6: =universe_strict!D6 -> 91.592682 | E6: =universe_strict!E6 -> 65.490791 | F6: =universe_strict!F6 -> 67.111412 | G6: =universe_strict!G6 -> 379.90973 | H6: =universe_strict!H6 -> 36.780037 | I6: =universe_strict!I6 -> 139.10565 | J6: =universe_strict!J6 -> 305.13651 | ... L6: =universe_strict!L6 -> 288.60785
A7: =universe_strict!A7 -> Aegean Region | B7: =LEFT(universe_strict!B7,FIND(")",universe_strict!B7)) -> Large (100 or more) | C7: =universe_strict!C7 -> 22.65089 | D7: =universe_strict!D7 -> 28.941193 | E7: =universe_strict!E7 -> 19.621883 | F7: =universe_strict!F7 -> 14.117092 | G7: =universe_strict!G7 -> 96.4245 | H7: =universe_strict!H7 -> 7.5705743 | I7: =universe_strict!I7 -> 11.481761 | J7: =universe_strict!J7 -> 17.160172 | ... L7: =universe_strict!L7 -> 21.349442
A8: =universe_strict!A8 -> Mediterranean Region | B8: =LEFT(universe_strict!B8,FIND(")",universe_strict!B8)) -> Small (5-19) | C8: =universe_strict!C8 -> 158.1562 | D8: =universe_strict!D8 -> 21.641684 | E8: =universe_strict!E8 -> 45.610069 | F8: =universe_strict!F8 -> 101.8308 | G8: =universe_strict!G8 -> 445.99286 | H8: =universe_strict!H8 -> 74.862785 | I8: =universe_strict!I8 -> 744.69238 | J8: =universe_strict!J8 -> 785.06567 | ... L8: =universe_strict!L8 -> 1267.8566 | M8: =SUM(C8:L11) -> 4951.1994
A9: =universe_strict!A9 -> Mediterranean Region | B9: =LEFT(universe_strict!B9,FIND(")",universe_strict!B9)) -> Medium (20-99) | C9: =universe_strict!C9 -> 36.385784 | D9: =universe_strict!D9 -> 16.262114 | E9: =universe_strict!E9 -> 18.822676 | F9: =universe_strict!F9 -> 27.605232 | G9: =universe_strict!G9 -> 127.44098 | H9: =universe_strict!H9 -> 0 | I9: =universe_strict!I9 -> 88.6185 | J9: =universe_strict!J9 -> 211.32623 | ... L9: =universe_strict!L9 -> 180.96544
A10: =universe_strict!A10 -> Mediterranean Region | B10: =LEFT(universe_strict!B10,FIND(")",universe_strict!B10)) -> Large (100 or more) | C10: =universe_strict!C10 -> 7.0555468 | D10: =universe_strict!D10 -> 15.671589 | E10: =universe_strict!E10 -> 13.176025 | F10: =universe_strict!F10 -> 9.0769873 | G10: =universe_strict!G10 -> 26.180529 | H10: =universe_strict!H10 -> 0 | I10: =universe_strict!I10 -> 7.276834 | J10: =universe_strict!J10 -> 18.349472 | ... L10: =universe_strict!L10 -> 14.901718
A11: =universe_strict!A11 -> Mediterranean Region | B11: =LEFT(universe_strict!B11,FIND(")",universe_strict!B11)) -> Medium and Large (20+) | C11: =universe_strict!C11 -> 0 | D11: =universe_strict!D11 -> 0 | E11: =universe_strict!E11 -> 0 | F11: =universe_strict!F11 -> 0 | G11: =universe_strict!G11 -> 0 | H11: =universe_strict!H11 -> 26.990776 | I11: =universe_strict!I11 -> 0 | J11: =universe_strict!J11 -> 0 | ... L11: =universe_strict!L11 -> 0
A12: =universe_strict!A12 -> Central Anatolia Region | B12: =LEFT(universe_strict!B12,FIND(")",universe_strict!B12)) -> Small (5-19) | C12: =universe_strict!C12 -> 151.85802 | D12: =universe_strict!D12 -> 22.125727 | E12: =universe_strict!E12 -> 35.594933 | F12: =universe_strict!F12 -> 221.84804 | G12: =universe_strict!G12 -> 739.85669 | H12: =universe_strict!H12 -> 45.476433 | I12: =universe_strict!I12 -> 638.16089 | J12: =universe_strict!J12 -> 1050.7312 | ... L12: =universe_strict!L12 -> 1443.524 | M12: =SUM(C12:L14) -> 5927.4256
A13: =universe_strict!A13 -> Central Anatolia Region | B13: =LEFT(universe_strict!B13,FIND(")",universe_strict!B13)) -> Medium (20-99) | C13: =universe_strict!C13 -> 47.103794 | D13: =universe_strict!D13 -> 9.2605228 | E13: =universe_strict!E13 -> 8.1684752 | F13: =universe_strict!F13 -> 62.835182 | G13: =universe_strict!G13 -> 256.7063 | H13: =universe_strict!H13 -> 8.5072365 | I13: =universe_strict!I13 -> 92.476303 | J13: =universe_strict!J13 -> 327.01715 | ... L13: =universe_strict!L13 -> 240.58492
A14: =universe_strict!A14 -> Central Anatolia Region | B14: =LEFT(universe_strict!B14,FIND(")",universe_strict!B14)) -> Large (100 or more) | C14: =universe_strict!C14 -> 11.829538 | D14: =universe_strict!D14 -> 6 | E14: =universe_strict!E14 -> 5 | F14: =universe_strict!F14 -> 12.373726 | G14: =universe_strict!G14 -> 54.067932 | H14: =universe_strict!H14 -> 9 | I14: =universe_strict!I14 -> 12.747531 | J14: =universe_strict!J14 -> 55.062729 | ... L14: =universe_strict!L14 -> 22.216553
A15: =universe_strict!A15 -> Eastern Anatolia Region | B15: =LEFT(universe_strict!B15,FIND(")",universe_strict!B15)) -> Small (5-19) | C15: =universe_strict!C15 -> 90.466927 | D15: =universe_strict!D15 -> 6.4237823 | E15: =universe_strict!E15 -> 19.64959 | F15: =universe_strict!F15 -> 23.187365 | G15: =universe_strict!G15 -> 57.591824 | H15: =universe_strict!H15 -> 19.924591 | I15: =universe_strict!I15 -> 362.98749 | J15: =universe_strict!J15 -> 514.09747 | ... L15: =universe_strict!L15 -> 422.37589 | M15: =SUM(C15:L18) -> 2076.3161
A16: =universe_strict!A16 -> Eastern Anatolia Region | B16: =LEFT(universe_strict!B16,FIND(")",universe_strict!B16)) -> Medium (20-99) | C16: =universe_strict!C16 -> 13.067165 | D16: =universe_strict!D16 -> 4 | E16: =universe_strict!E16 -> 15.077279 | F16: =universe_strict!F16 -> 3 | G16: =universe_strict!G16 -> 34.899231 | H16: =universe_strict!H16 -> 5 | I16: =universe_strict!I16 -> 101.35597 | J16: =universe_strict!J16 -> 178.29297 | ... L16: =universe_strict!L16 -> 0
A17: =universe_strict!A17 -> Eastern Anatolia Region | B17: =LEFT(universe_strict!B17,FIND(")",universe_strict!B17)) -> Large (100 or more) | C17: =universe_strict!C17 -> 4 | D17: =universe_strict!D17 -> 4 | E17: =universe_strict!E17 -> 7.8114839 | F17: =universe_strict!F17 -> 0 | G17: =universe_strict!G17 -> 6 | H17: =universe_strict!H17 -> 0 | I17: =universe_strict!I17 -> 3.0357933 | J17: =universe_strict!J17 -> 12.67864 | ... L17: =universe_strict!L17 -> 0
A18: =universe_strict!A18 -> Eastern Anatolia Region | B18: =LEFT(universe_strict!B18,FIND(")",universe_strict!B18)) -> Medium and Large (20+) | C18: =universe_strict!C18 -> 0 | D18: =universe_strict!D18 -> 0 | E18: =universe_strict!E18 -> 0 | F18: =universe_strict!F18 -> 0 | G18: =universe_strict!G18 -> 0 | H18: =universe_strict!H18 -> 0 | I18: =universe_strict!I18 -> 0 | J18: =universe_strict!J18 -> 0 | ... L18: =universe_strict!L18 -> 11.541967
A19: =universe_strict!A19 -> Southeastern Anatolia Region | B19: =LEFT(universe_strict!B19,FIND(")",universe_strict!B19)) -> Small (5-19) | C19: =universe_strict!C19 -> 123.90454 | D19: =universe_strict!D19 -> 67.869888 | E19: =universe_strict!E19 -> 96.208847 | F19: =universe_strict!F19 -> 56.667431 | G19: =universe_strict!G19 -> 294.25653 | H19: =universe_strict!H19 -> 14.533894 | I19: =universe_strict!I19 -> 454.07605 | J19: =universe_strict!J19 -> 636.80286 | ... L19: =universe_strict!L19 -> 734.0061 | M19: =SUM(C19:L21) -> 3751.0369
A20: =universe_strict!A20 -> Southeastern Anatolia Region | B20: =LEFT(universe_strict!B20,FIND(")",universe_strict!B20)) -> Medium (20-99) | C20: =universe_strict!C20 -> 32.646347 | D20: =universe_strict!D20 -> 84.356445 | E20: =universe_strict!E20 -> 61.045319 | F20: =universe_strict!F20 -> 14.608226 | G20: =universe_strict!G20 -> 80.74176 | H20: =universe_strict!H20 -> 7.9471221 | I20: =universe_strict!I20 -> 53.366199 | J20: =universe_strict!J20 -> 245.35052 | ... L20: =universe_strict!L20 -> 114.94399
A21: =universe_strict!A21 -> Southeastern Anatolia Region | B21: =LEFT(universe_strict!B21,FIND(")",universe_strict!B21)) -> Large (100 or more) | C21: =universe_strict!C21 -> 7.1375852 | D21: =universe_strict!D21 -> 77.875328 | E21: =universe_strict!E21 -> 31.695322 | F21: =universe_strict!F21 -> 0 | G21: =universe_strict!G21 -> 12.297629 | H21: =universe_strict!H21 -> 2 | I21: =universe_strict!I21 -> 4.6876869 | J21: =universe_strict!J21 -> 23.589144 | ... L21: =universe_strict!L21 -> 9.5392113
A22: =universe_strict!A22 -> Black Sea Region | B22: =LEFT(universe_strict!B22,FIND(")",universe_strict!B22)) -> Small (5-19) | C22: =universe_strict!C22 -> 203.8494 | D22: =universe_strict!D22 -> 6.5839434 | E22: =universe_strict!E22 -> 29.154196 | F22: =universe_strict!F22 -> 58.608608 | G22: =universe_strict!G22 -> 239.74045 | H22: =universe_strict!H22 -> 40.9725 | I22: =universe_strict!I22 -> 651.69928 | J22: =universe_strict!J22 -> 693.80286 | ... L22: =universe_strict!L22 -> 739.79712 | M22: =SUM(C22:L24) -> 3529.8655
A23: =universe_strict!A23 -> Black Sea Region | B23: =LEFT(universe_strict!B23,FIND(")",universe_strict!B23)) -> Medium (20-99) | C23: =universe_strict!C23 -> 41.519917 | D23: =universe_strict!D23 -> 5 | E23: =universe_strict!E23 -> 27.975937 | F23: =universe_strict!F23 -> 11.11444 | G23: =universe_strict!G23 -> 106.24878 | H23: =universe_strict!H23 -> 0 | I23: =universe_strict!I23 -> 81.935867 | J23: =universe_strict!J23 -> 140.5399 | ... L23: =universe_strict!L23 -> 97.963623
A24: =universe_strict!A24 -> Black Sea Region | B24: =LEFT(universe_strict!B24,FIND(")",universe_strict!B24)) -> Large (100 or more) | C24: =universe_strict!C24 -> 6.7897625 | D24: =universe_strict!D24 -> 3 | E24: =universe_strict!E24 -> 13.352797 | F24: =universe_strict!F24 -> 4 | G24: =universe_strict!G24 -> 17.408333 | H24: =universe_strict!H24 -> 5.1629601 | I24: =universe_strict!I24 -> 5.3612847 | J24: =universe_strict!J24 -> 8.4028912 | ... L24: =universe_strict!L24 -> 5.2690697
C25: =SUM(C2:C24) -> 2307.5035 | D25: =SUM(D2:D24) -> 1816.7215 | E25: =SUM(E2:E24) -> 3152.2797 | F25: =SUM(F2:F24) -> 2378.5902 | G25: =SUM(G2:G24) -> 10150.942 | H25: =SUM(H2:H24) -> 819.14023 | I25: =SUM(I2:I24) -> 8505.0973 | J25: =SUM(J2:J24) -> 12437.235 | ... M25: =SUM(M2:M24) -> 64577.971

Sheet Table 11 Item Response Rates
C2: Screener/Interview | D2: d2 | E2: l1 | F2: n2a | G2: all TFP variables
B3: Panel | C3: Fresh | D3: =VLOOKUP($C3,'item response'!$C:$G,2,FALSE) -> 0.94395018 | E3: =VLOOKUP($C3,'item response'!$C:$G,3,FALSE) -> 0.99555159 | F3: =VLOOKUP($C3,'item response'!$C:$G,4,FALSE) -> 0.96263343 | G3: =IF(VLOOKUP($C3,'item response'!$C:$G,5,FALSE)="",NA(),VLOOKUP($C3,'item response'!$C:$G,5,FALSE)) -> 0.64270616
C4: Panel | D4: =VLOOKUP($C4,'item response'!$C:$G,2,FALSE) -> 0.94178081 | E4: =VLOOKUP($C4,'item response'!$C:$G,3,FALSE) -> 0.99315071 | F4: =VLOOKUP($C4,'item response'!$C:$G,4,FALSE) -> 0.94520545 | G4: =IF(VLOOKUP($C4,'item response'!$C:$G,5,FALSE)="",NA(),VLOOKUP($C4,'item response'!$C:$G,5,FALSE)) -> 0.49411765
B5: Size | C5: Small (5-19) | D5: =VLOOKUP($C5,'item response'!$C:$G,2,FALSE) -> 0.9642325 | E5: =VLOOKUP($C5,'item response'!$C:$G,3,FALSE) -> 0.99552906 | F5: =VLOOKUP($C5,'item response'!$C:$G,4,FALSE) -> 0.97168404 | G5: =IF(VLOOKUP($C5,'item response'!$C:$G,5,FALSE)="",NA(),VLOOKUP($C5,'item response'!$C:$G,5,FALSE)) -> 0.68400002
C6: Medium (20-99) | D6: =VLOOKUP($C6,'item response'!$C:$G,2,FALSE) -> 0.92152464 | E6: =VLOOKUP($C6,'item response'!$C:$G,3,FALSE) -> 0.9955157 | F6: =VLOOKUP($C6,'item response'!$C:$G,4,FALSE) -> 0.95067263 | G6: =IF(VLOOKUP($C6,'item response'!$C:$G,5,FALSE)="",NA(),VLOOKUP($C6,'item response'!$C:$G,5,FALSE)) -> 0.54464287
C7: Large (100+) | D7: =VLOOKUP($C7,'item response'!$C:$G,2,FALSE) -> 0.92976588 | E7: =VLOOKUP($C7,'item response'!$C:$G,3,FALSE) -> 0.99331105 | F7: =VLOOKUP($C7,'item response'!$C:$G,4,FALSE) -> 0.94314378 | G7: =IF(VLOOKUP($C7,'item response'!$C:$G,5,FALSE)="",NA(),VLOOKUP($C7,'item response'!$C:$G,5,FALSE)) -> 0.56213015
B8: Region | C8: Marmara Region | D8: =VLOOKUP($C8,'item response'!$C:$G,2,FALSE) -> 0.96758103 | E8: =VLOOKUP($C8,'item response'!$C:$G,3,FALSE) -> 1 | F8: =VLOOKUP($C8,'item response'!$C:$G,4,FALSE) -> 0.98004985 | G8: =IF(VLOOKUP($C8,'item response'!$C:$G,5,FALSE)="",NA(),VLOOKUP($C8,'item response'!$C:$G,5,FALSE)) -> 0.83240223
C9: Aegean Region | D9: =VLOOKUP($C9,'item response'!$C:$G,2,FALSE) -> 0.95360827 | E9: =VLOOKUP($C9,'item response'!$C:$G,3,FALSE) -> 0.99484539 | F9: =VLOOKUP($C9,'item response'!$C:$G,4,FALSE) -> 0.97938144 | G9: =IF(VLOOKUP($C9,'item response'!$C:$G,5,FALSE)="",NA(),VLOOKUP($C9,'item response'!$C:$G,5,FALSE)) -> 0.80000001
C10: Mediterranean Region | D10: =VLOOKUP($C10,'item response'!$C:$G,2,FALSE) -> 0.95454544 | E10: =VLOOKUP($C10,'item response'!$C:$G,3,FALSE) -> 0.99545455 | F10: =VLOOKUP($C10,'item response'!$C:$G,4,FALSE) -> 0.9818182 | G10: =IF(VLOOKUP($C10,'item response'!$C:$G,5,FALSE)="",NA(),VLOOKUP($C10,'item response'!$C:$G,5,FALSE)) -> 0.30275229
C11: Central Anatolia Region | D11: =VLOOKUP($C11,'item response'!$C:$G,2,FALSE) -> 0.86033517 | E11: =VLOOKUP($C11,'item response'!$C:$G,3,FALSE) -> 0.97765362 | F11: =VLOOKUP($C11,'item response'!$C:$G,4,FALSE) -> 0.87150836 | G11: =IF(VLOOKUP($C11,'item response'!$C:$G,5,FALSE)="",NA(),VLOOKUP($C11,'item response'!$C:$G,5,FALSE)) -> 0.5138889
C12: Eastern Anatolia Region | D12: =VLOOKUP($C12,'item response'!$C:$G,2,FALSE) -> 0.93798447 | E12: =VLOOKUP($C12,'item response'!$C:$G,3,FALSE) -> 1 | F12: =VLOOKUP($C12,'item response'!$C:$G,4,FALSE) -> 0.96124029 | G12: =IF(VLOOKUP($C12,'item response'!$C:$G,5,FALSE)="",NA(),VLOOKUP($C12,'item response'!$C:$G,5,FALSE)) -> 0.29850745
C13: Southeastern Anatolia Region | D13: =VLOOKUP($C13,'item response'!$C:$G,2,FALSE) -> 0.98717946 | E13: =VLOOKUP($C13,'item response'!$C:$G,3,FALSE) -> 0.99358976 | F13: =VLOOKUP($C13,'item response'!$C:$G,4,FALSE) -> 0.98076922 | G13: =IF(VLOOKUP($C13,'item response'!$C:$G,5,FALSE)="",NA(),VLOOKUP($C13,'item response'!$C:$G,5,FALSE)) -> 0.58730161
C14: Black Sea Region | D14: =VLOOKUP($C14,'item response'!$C:$G,2,FALSE) -> 0.90510947 | E14: =VLOOKUP($C14,'item response'!$C:$G,3,FALSE) -> 1 | F14: =VLOOKUP($C14,'item response'!$C:$G,4,FALSE) -> 0.91970801 | G14: =IF(VLOOKUP($C14,'item response'!$C:$G,5,FALSE)="",NA(),VLOOKUP($C14,'item response'!$C:$G,5,FALSE)) -> 0.62068963
B15: Sector | C15: Food | D15: =VLOOKUP($C15,'item response'!$C:$G,2,FALSE) -> 0.94915253 | E15: =VLOOKUP($C15,'item response'!$C:$G,3,FALSE) -> 1 | F15: =VLOOKUP($C15,'item response'!$C:$G,4,FALSE) -> 0.96610171 | G15: =IF(VLOOKUP($C15,'item response'!$C:$G,5,FALSE)="",NA(),VLOOKUP($C15,'item response'!$C:$G,5,FALSE)) -> 0.55932206
C16: Textiles | D16: =VLOOKUP($C16,'item response'!$C:$G,2,FALSE) -> 0.94949496 | E16: =VLOOKUP($C16,'item response'!$C:$G,3,FALSE) -> 0.98989898 | F16: =VLOOKUP($C16,'item response'!$C:$G,4,FALSE) -> 0.92929292 | G16: =IF(VLOOKUP($C16,'item response'!$C:$G,5,FALSE)="",NA(),VLOOKUP($C16,'item response'!$C:$G,5,FALSE)) -> 0.54545456
C17: Garments | D17: =VLOOKUP($C17,'item response'!$C:$G,2,FALSE) -> 0.90163934 | E17: =VLOOKUP($C17,'item response'!$C:$G,3,FALSE) -> 1 | F17: =VLOOKUP($C17,'item response'!$C:$G,4,FALSE) -> 0.93442625 | G17: =IF(VLOOKUP($C17,'item response'!$C:$G,5,FALSE)="",NA(),VLOOKUP($C17,'item response'!$C:$G,5,FALSE)) -> 0.55737704
C18: Fabricated Metal Products | D18: =VLOOKUP($C18,'item response'!$C:$G,2,FALSE) -> 0.94805193 | E18: =VLOOKUP($C18,'item response'!$C:$G,3,FALSE) -> 1 | F18: =VLOOKUP($C18,'item response'!$C:$G,4,FALSE) -> 0.97402596 | G18: =IF(VLOOKUP($C18,'item response'!$C:$G,5,FALSE)="",NA(),VLOOKUP($C18,'item response'!$C:$G,5,FALSE)) -> 0.70129871
C19: Other Manufacturing | D19: =VLOOKUP($C19,'item response'!$C:$G,2,FALSE) -> 0.94273126 | E19: =VLOOKUP($C19,'item response'!$C:$G,3,FALSE) -> 0.99559474 | F19: =VLOOKUP($C19,'item response'!$C:$G,4,FALSE) -> 0.94713658 | G19: =IF(VLOOKUP($C19,'item response'!$C:$G,5,FALSE)="",NA(),VLOOKUP($C19,'item response'!$C:$G,5,FALSE)) -> 0.64317179
C20: Hotels | D20: =VLOOKUP($C20,'item response'!$C:$G,2,FALSE) -> #N/A | E20: =VLOOKUP($C20,'item response'!$C:$G,3,FALSE) -> #N/A | F20: =VLOOKUP($C20,'item response'!$C:$G,4,FALSE) -> #N/A | G20: =IF(VLOOKUP($C20,'item response'!$C:$G,5,FALSE)="",NA(),VLOOKUP($C20,'item response'!$C:$G,5,FALSE)) -> #N/A
C21: Retail | D21: =VLOOKUP($C21,'item response'!$C:$G,2,FALSE) -> 0.95698923 | E21: =VLOOKUP($C21,'item response'!$C:$G,3,FALSE) -> 1 | F21: =VLOOKUP($C21,'item response'!$C:$G,4,FALSE) -> 0.97311831 | G21: =IF(VLOOKUP($C21,'item response'!$C:$G,5,FALSE)="",NA(),VLOOKUP($C21,'item response'!$C:$G,5,FALSE)) -> #N/A
C22: Construction | D22: =VLOOKUP($C22,'item response'!$C:$G,2,FALSE) -> 0.92715234 | E22: =VLOOKUP($C22,'item response'!$C:$G,3,FALSE) -> 0.98013246 | F22: =VLOOKUP($C22,'item response'!$C:$G,4,FALSE) -> 0.97350991 | G22: =IF(VLOOKUP($C22,'item response'!$C:$G,5,FALSE)="",NA(),VLOOKUP($C22,'item response'!$C:$G,5,FALSE)) -> #N/A
C23: Transport | D23: =VLOOKUP($C23,'item response'!$C:$G,2,FALSE) -> 0.9818182 | E23: =VLOOKUP($C23,'item response'!$C:$G,3,FALSE) -> 1 | F23: =VLOOKUP($C23,'item response'!$C:$G,4,FALSE) -> 0.9909091 | G23: =IF(VLOOKUP($C23,'item response'!$C:$G,5,FALSE)="",NA(),VLOOKUP($C23,'item response'!$C:$G,5,FALSE)) -> #N/A
C24: Other Services | D24: =VLOOKUP($C24,'item response'!$C:$G,2,FALSE) -> 0.9417178 | E24: =VLOOKUP($C24,'item response'!$C:$G,3,FALSE) -> 0.99386501 | F24: =VLOOKUP($C24,'item response'!$C:$G,4,FALSE) -> 0.95398772 | G24: =IF(VLOOKUP($C24,'item response'!$C:$G,5,FALSE)="",NA(),VLOOKUP($C24,'item response'!$C:$G,5,FALSE)) -> #N/A
C25: Construction | D25: =VLOOKUP($C25,'item response'!$C:$G,2,FALSE) -> 0.92715234 | E25: =VLOOKUP($C25,'item response'!$C:$G,3,FALSE) -> 0.98013246 | F25: =VLOOKUP($C25,'item response'!$C:$G,4,FALSE) -> 0.97350991 | G25: =IF(VLOOKUP($C25,'item response'!$C:$G,5,FALSE)="",NA(),VLOOKUP($C25,'item response'!$C:$G,5,FALSE)) -> #N/A
B26: Overall | C26: Turkiye 2024 | D26: =VLOOKUP($C26,'item response'!$C:$G,2,FALSE) -> 0.94350284 | E26: =VLOOKUP($C26,'item response'!$C:$G,3,FALSE) -> 0.99505651 | F26: =VLOOKUP($C26,'item response'!$C:$G,4,FALSE) -> 0.95903957 | G26: =VLOOKUP($C26,'item response'!$C:$G,5,FALSE) -> 0.60342145
B27: Notes: the rates are calculated as follows. The number of responses with informative content in the respective variable (or combination of variables in the case of TFP) is divided by the same number plus the number of responses that are "don't know" (code -9) or refusal (code -8).

Sheet universe
A1: stratificationregionname | B1: stratificationsizename | C1: _Food | D1: _Textiles | E1: _Garments | F1: _Fabricated_Metal_Products | G1: _Other_Manufacturing | H1: _Hotels | I1: _Retail | J1: _Construction | K1: _Transport | L1: _Other_Services
A2: Marmara Region | B2: Small (5-19) | C2: 3372 | D2: 2823 | E2: 7928 | F2: 4338 | G2: 16447 | H2: 1494 | I2: 15233 | J2: 17853 | K2: 8595 | L2: 51808
A3: Marmara Region | B3: Medium (20-99) | C3: 682 | D3: 1341 | E3: 2849 | F3: 1410 | G3: 6945 | H3: 518 | I3: 2290 | J3: 4430 | K3: 2071 | L3: 9833
A4: Marmara Region | B4: Large (100-199) | C4: 274 | D4: 498 | E4: 709 | F4: 321 | G4: 2004 | H4: 201 | I4: 363 | J4: 611 | K4: 407 | L4: 1264
A5: Aegean Region | B5: Small (5-19) | C5: 1652 | D5: 814 | E5: 839 | F5: 1080 | G5: 4393 | H5: 872 | I5: 6191 | J5: 6437 | K5: 2584 | L5: 13829
A6: Aegean Region | B6: Medium (20-99) | C6: 536 | D6: 433 | E6: 361 | F6: 334 | G6: 1843 | H6: 256 | I6: 784 | J6: 1463 | K6: 492 | L6: 2037
A7: Aegean Region | B7: Large (100-199) | C7: 137 | D7: 148 | E7: 117 | F7: 76 | G7: 506 | H7: 57 | I7: 70 | J7: 89 | K7: 84 | L7: 163
A8: Mediterranean Region | B8: Small (5-19) | C8: 1115 | D8: 129 | E8: 317 | F8: 639 | G8: 2728 | H8: 657 | I8: 5292 | J8: 4746 | K8: 2809 | L8: 11283
A9: Mediterranean Region | B9: Medium (20-99) | C9: 276 | D9: 100 | E9: 145 | F9: 192 | G9: 864 | H9: 265 | I9: 698 | J9: 1416 | K9: 614 | L9: 1785
A10: Mediterranean Region | B10: Large (100-199) | C10: 45 | D10: 112 | E10: 94 | F10: 51 | G10: 192 | H10: 203 | I10: 62 | J10: 133 | K10: 46 | L10: 159
A11: Central Anatolia Region | B11: Small (5-19) | C11: 1242 | D11: 153 | E11: 287 | F11: 1615 | G11: 5250 | H11: 463 | I11: 5261 | J11: 7369 | K11: 2586 | L11: 14903
A12: Central Anatolia Region | B12: Medium (20-99) | C12: 427 | D12: 55 | E12: 73 | F12: 507 | G12: 2019 | H12: 96 | I12: 845 | J12: 2542 | K12: 303 | L12: 2753
A13: Central Anatolia Region | B13: Large (100-199) | C13: 116 | D13: 29 | E13: 34 | F13: 108 | G13: 460 | H13: 70 | I13: 126 | J13: 463 | K13: 49 | L13: 275
... A22: Black Sea Region | B22: Large (100-199) | C22: 49 | D22: 4 | E22: 95 | F22: 15 | G22: 109 | H22: 0 | I22: 39 | J22: 52 | K22: 9 | L22: 48

Sheet frame fresh and panel
A1: stratificationregionname | B1: stratificationsizename | C1: _Food | D1: _Textiles | E1: _Garments | F1: _Fabricated_Metal_Products | G1: _Other_Manufacturing | H1: _Hotels | I1: _Retail | J1: _Construction | K1: _Transport | L1: _Other_Services
A2: Marmara Region | B2: Small (5-19) | C2: 106 | D2: 107 | E2: 182 | F2: 124 | G2: 537 | H2: 46 | I2: 431 | J2: 372 | K2: 182 | L2: 1022
A3: Marmara Region | B3: Medium (20-99) | C3: 119 | D3: 187 | E3: 255 | F3: 211 | G3: 330 | H3: 150 | I3: 87 | J3: 116 | K3: 182 | L3: 296
A4: Marmara Region | B4: Large (100 or more) | C4: 143 | D4: 190 | E4: 145 | F4: 206 | G4: 110 | H4: 180 | I4: 63 | J4: 64 | K4: 136 | L4: 66
A5: Aegean Region | B5: Small (5-19) | C5: 64 | D5: 63 | E5: 66 | F5: 46 | G5: 113 | H5: 30 | I5: 151 | J5: 157 | K5: 45 | L5: 282
A6: Aegean Region | B6: Medium (20-99) | C6: 110 | D6: 98 | E6: 71 | F6: 110 | G6: 82 | H6: 135 | I6: 62 | J6: 65 | K6: 90 | L6: 78
A7: Aegean Region | B7: Large (100 or more) | C7: 62 | D7: 130 | E7: 110 | F7: 80 | G7: 71 | H7: 57 | I7: 63 | J7: 62 | K7: 85 | L7: 63
A8: Mediterranean Region | B8: Small (5-19) | C8: 62 | D8: 63 | E8: 67 | F8: 63 | G8: 101 | H8: 30 | I8: 132 | J8: 122 | K8: 92 | L8: 233
A9: Mediterranean Region | B9: Medium (20-99) | C9: 95 | D9: 81 | E9: 67 | F9: 94 | G9: 68 | H9: 135 | I9: 64 | J9: 62 | K9: 107 | L9: 30
A10: Mediterranean Region | B10: Large (100 or more) | C10: 49 | D10: 122 | E10: 107 | F10: 59 | G10: 69 | H10: 180 | I10: 65 | J10: 46 | K10: 46 | L10: 46
A11: Central Anatolia Region | B11: Small (5-19) | C11: 69 | D11: 71 | E11: 63 | F11: 68 | G11: 147 | H11: 30 | I11: 137 | J11: 172 | K11: 45 | L11: 300
A12: Central Anatolia Region | B12: Medium (20-99) | C12: 115 | D12: 66 | E12: 68 | F12: 140 | G12: 101 | H12: 97 | I12: 46 | J12: 84 | K12: 91 | L12: 100
A13: Central Anatolia Region | B13: Large (100 or more) | C13: 125 | D13: 35 | E13: 38 | F13: 118 | G13: 86 | H13: 70 | I13: 67 | J13: 69 | K13: 49 | L13: 62
... A15: Eastern Anatolia Region | B15: Medium (20-99) | C15: 90 | D15: 13 | E15: 62 | F15: 4 | G15: 76 | H15: 32 | I15: 18 | J15: 84 | K15: 96 | L15: 78
A16: Eastern Anatolia Region | B16: Large (100 or more) | C16: 11 | D16: 13 | E16: 52 | G16: 13 | I16: 3 | J16: 65 | K16: 6 | L16: 5
A17: Southeastern Anatolia Region | B17: Small (5-19) | C17: 67 | D17: 67 | E17: 66 | F17: 65 | G17: 69 | H17: 30 | I17: 83 | J17: 92 | K17: 61 | L17: 122
A18: Southeastern Anatolia Region | B18: Medium (20-99) | C18: 95 | D18: 9 | E18: 66 | F18: 3 | G18: 76 | H18: 60 | I18: 63 | J18: 65 | K18: 2 | L18: 65
A19: Southeastern Anatolia Region | B19: Large (100 or more) | C19: 46 | D19: 22 | E19: 78 | F19: 1 | G19: 62 | H19: 3 | I19: 30 | J19: 63 | L19: 63
A20: Black Sea Region | B20: Small (5-19) | C20: 71 | D20: 41 | E20: 65 | F20: 73 | G20: 89 | H20: 30 | I20: 132 | J20: 102 | K20: 46 | L20: 145
A21: Black Sea Region | B21: Medium (20-99) | C21: 105 | D21: 21 | E21: 69 | F21: 70 | G21: 94 | I21: 84 | J21: 79 | K21: 77 | L21: 66
A22: Black Sea Region | B22: Large (100 or more) | C22: 54 | D22: 5 | E22: 110 | F22: 17 | G22: 66 | H22: 2 | I22: 40 | J22: 55 | K22: 9 | L22: 46

Sheet original survey design
A1: stratificationregionname | B1: stratificationsizename | C1: _Food | D1: _Textiles | E1: _Garments | F1: _Fabricated_Metal_Products | G1: _Other_Manufacturing | H1: _Hotels | I1: _Retail | J1: _Construction | K1: _Transport | L1: _Other_Services
A2: Marmara Region | B2: Small (5-19) | C2: 6 | D2: 6 | E2: 11 | F2: 7 | G2: 32 | H2: 3 | I2: 27 | J2: 24 | K2: 12 | L2: 67
A3: Marmara Region | B3: Medium (20-99) | C3: 7 | D3: 11 | E3: 16 | F3: 13 | G3: 20 | H3: 10 | I3: 5 | J3: 7 | K3: 12 | L3: 19
A4: Marmara Region | B4: Large (100-199) | C4: 9 | D4: 11 | E4: 9 | F4: 13 | G4: 5 | H4: 12 | I4: 4 | J4: 4 | K4: 9 | L4: 4
A5: Aegean Region | B5: Small (5-19) | C5: 4 | D5: 4 | E5: 4 | F5: 3 | G5: 7 | H5: 2 | I5: 9 | J5: 10 | K5: 3 | L5: 18
A6: Aegean Region | B6: Medium (20-99) | C6: 7 | D6: 6 | E6: 4 | F6: 7 | G6: 5 | H6: 9 | I6: 4 | J6: 4 | K6: 6 | L6: 5
A7: Aegean Region | B7: Large (100-199) | C7: 4 | D7: 8 | E7: 7 | F7: 7 | G7: 4 | H7: 11 | I7: 4 | J7: 4 | K7: 8 | L7: 4
A8: Mediterranean Region | B8: Small (5-19) | C8: 4 | D8: 4 | E8: 4 | F8: 4 | G8: 6 | H8: 2 | I8: 8 | J8: 8 | K8: 6 | L8: 15
A9: Mediterranean Region | B9: Medium (20-99) | C9: 6 | D9: 5 | E9: 4 | F9: 6 | G9: 4 | H9: 9 | I9: 4 | J9: 4 | K9: 7 | L9: 2
A10: Mediterranean Region | B10: Large (100-199) | C10: 6 | D10: 8 | E10: 7 | F10: 10 | G10: 4 | H10: 12 | I10: 4 | J10: 3 | K10: 8 | L10: 3
A11: Central Anatolia Region | B11: Small (5-19) | C11: 4 | D11: 4 | E11: 4 | F11: 4 | G11: 8 | H11: 2 | I11: 8 | J11: 11 | K11: 3 | L11: 19
A12: Central Anatolia Region | B12: Medium (20-99) | C12: 7 | D12: 5 | E12: 4 | F12: 8 | G12: 5 | H12: 8 | I12: 3 | J12: 5 | K12: 6 | L12: 6
A13: Central Anatolia Region | B13: Large (100-199) | C13: 9 | D13: 8 | E13: 6 | F13: 11 | G13: 4 | H13: 12 | I13: 4 | J13: 4 | K13: 8 | L13: 4
... A22: Black Sea Region | B22: Large (100-199) | C22: 7 | D22: 2 | E22: 7 | F22: 4 | G22: 4 | H22: 2 | I22: 4 | J22: 4 | K22: 3 | L22: 3

Sheet yield calculation
A1: Survey | B1: Cell | C1: Name | D1: Yield | E1: Survey_response_rate | F1: Frame_quality
A2: Turkiye 2024 | B2: Fresh/Panel | C2: Fresh | D2: 0.15687369 | E2: 0.22359259 | F2: 0.70160502
A3: Turkiye 2024 | B3: Fresh/Panel | C3: Panel | D3: 0.17569193 | E3: 0.24212272 | F3: 0.72563177
A4: Turkiye 2024 | B4: Size | C4: Small (5-19) | D4: 0.16625857 | E4: 0.23576389 | F4: 0.70519102
A5: Turkiye 2024 | B5: Size | C5: Medium (20-99) | D5: 0.15877128 | E5: 0.21590337 | F5: 0.73538119
A6: Turkiye 2024 | B6: Size | C6: Large (100+) | D6: 0.15090641 | E6: 0.22547585 | F6: 0.66927975
A7: Turkiye 2024 | B7: Region | C7: Marmara Region | D7: 0.17151411 | E7: 0.46845794 | F7: 0.3661249
A8: Turkiye 2024 | B8: Region | C8: Aegean Region | D8: 0.15619968 | E8: 0.41991341 | F8: 0.37198067
A9: Turkiye 2024 | B9: Region | C9: Mediterranean Region | D9: 0.14925373 | E9: 0.15965167 | F9: 0.93487108
A10: Turkiye 2024 | B10: Region | C10: Central Anatolia Region | D10: 0.12386917 | E10: 0.1274159 | F10: 0.97216421
A11: Turkiye 2024 | B11: Region | C11: Eastern Anatolia Region | D11: 0.15945612 | E11: 0.1755102 | F11: 0.90852904
A12: Turkiye 2024 | B12: Region | C12: Southeastern Anatolia Region | D12: 0.23353294 | E12: 0.24186046 | F12: 0.96556884
A13: Turkiye 2024 | B13: Region | C13: Black Sea Region | D13: 0.16065192 | E13: 0.18157895 | F13: 0.88474971
... A24: Turkiye 2024 | B24: Turkiye 2024 | C24: Turkiye 2024 | D24: 0.1604169 | E24: 0.22717792 | F24: 0.7061289

Sheet achieved fresh and panel
A1: stratificationregionname | B1: stratificationsizename | C1: _Food | D1: _Textiles | E1: _Garments | F1: _Fabricated_Metal_Products | G1: _Other_Manufacturing | H1: _Hotels | I1: _Retail | J1: _Construction | K1: _Transport | L1: _Other_Services
A2: Marmara Region | B2: Small (5-19) | C2: 13 | D2: 11 | E2: 23 | F2: 15 | G2: 42 | H2: 8 | I2: 42 | J2: 47 | K2: 24 | L2: 23
A3: Marmara Region | B3: Medium (20-99) | C3: 4 | D3: 9 | E3: 9 | F3: 9 | G3: 18 | H3: 7 | I3: 6 | J3: 12 | K3: 6 | L3: 9
A4: Marmara Region | B4: Large (100 or more) | C4: 4 | D4: 6 | E4: 6 | F4: 7 | G4: 7 | H4: 20 | I4: 2 | J4: 4 | K4: 5 | L4: 3
A5: Aegean Region | B5: Small (5-19) | C5: 8 | D5: 8 | E5: 9 | F5: 9 | G5: 14 | H5: 3 | I5: 17 | J5: 16 | K5: 9 | L5: 14
A6: Aegean Region | B6: Medium (20-99) | C6: 4 | D6: 6 | E6: 6 | F6: 4 | G6: 4 | H6: 4 | I6: 3 | J6: 4 | K6: 5 | L6: 4
A7: Aegean Region | B7: Large (100 or more) | C7: 7 | D7: 7 | E7: 2 | F7: 7 | G7: 1 | H7: 3 | I7: 5 | J7: 4 | K7: 4 | L7: 3
A8: Mediterranean Region | B8: Small (5-19) | C8: 9 | D8: 4 | E8: 5 | F8: 5 | G8: 5 | H8: 8 | I8: 7 | J8: 6 | K8: 9 | L8: 18
A9: Mediterranean Region | B9: Medium (20-99) | C9: 8 | D9: 16 | E9: 7 | F9: 17 | G9: 5 | H9: 19 | I9: 6 | J9: 7 | K9: 8 | L9: 4
A10: Mediterranean Region | B10: Large (100 or more) | C10: 5 | D10: 5 | E10: 11 | F10: 7 | G10: 3 | I10: 2 | J10: 4 | K10: 6 | L10: 4
A11: Central Anatolia Region | B11: Small (5-19) | C11: 5 | D11: 6 | E11: 5 | F11: 5 | G11: 6 | H11: 5 | I11: 5 | J11: 12 | K11: 5 | L11: 14
A12: Central Anatolia Region | B12: Medium (20-99) | C12: 4 | D12: 9 | E12: 5 | F12: 8 | G12: 5 | H12: 6 | I12: 3 | J12: 5 | K12: 5 | L12: 7
A13: Central Anatolia Region | B13: Large (100 or more) | C13: 5 | D13: 6 | E13: 5 | F13: 7 | G13: 6 | H13: 9 | I13: 3 | J13: 5 | K13: 5 | L13: 2
A14: Eastern Anatolia Region | B14: Small (5-19) | C14: 12 | D14: 6 | E14: 5 | F14: 6 | G14: 6 | H14: 7 | I14: 5 | J14: 5 | K14: 5 | L14: 4
A15: Eastern Anatolia Region | B15: Medium (20-99) | C15: 6 | D15: 4 | E15: 3 | F15: 3 | G15: 6 | H15: 5 | I15: 4 | J15: 4 | K15: 5 | L15: 4
A16: Eastern Anatolia Region | B16: Large (100 or more) | C16: 4 | D16: 4 | E16: 3 | G16: 6 | I16: 2 | J16: 3 | K16: 2
A17: Southeastern Anatolia Region | B17: Small (5-19) | C17: 7 | D17: 6 | E17: 4 | F17: 8 | G17: 4 | H17: 6 | I17: 9 | J17: 4 | K17: 7 | L17: 7
A18: Southeastern Anatolia Region | B18: Medium (20-99) | C18: 9 | D18: 2 | E18: 4 | F18: 2 | G18: 9 | H18: 6 | I18: 7 | J18: 7 | K18: 2 | L18: 4
A19: Southeastern Anatolia Region | B19: Large (100 or more) | C19: 4 | D19: 12 | E19: 4 | G19: 4 | H19: 2 | I19: 4 | J19: 7 | L19: 5
A20: Black Sea Region | B20: Small (5-19) | C20: 6 | D20: 6 | E20: 4 | F20: 9 | G20: 5 | H20: 6 | I20: 8 | J20: 5 | K20: 4 | L20: 4
A21: Black Sea Region | B21: Medium (20-99) | C21: 8 | D21: 5 | E21: 4 | F21: 5 | G21: 6 | I21: 5 | J21: 4 | K21: 4 | L21: 5
A22: Black Sea Region | B22: Large (100 or more) | C22: 4 | D22: 3 | E22: 4 | F22: 4 | G22: 4 | H22: 1 | I22: 5 | J22: 3 | K22: 3 | L22: 4

Sheet achieved panel
A1: stratificationregionname | B1: stratificationsizename | C1: _Food | D1: _Textiles | E1: _Garments | F1: _Fabricated_Metal_Products | G1: _Other_Manufacturing | H1: _Hotels | I1: _Retail | J1: _Construction | K1: _Transport | L1: _Other_Services
A2: Marmara Region | B2: Small (5-19) | C2: 3 | D2: 1 | E2: 1 | F2: 1 | G2: 3 | I2: 3 | J2: 1 | L2: 1
A3: Marmara Region | B3: Medium (20-99) | C3: 2 | F3: 1 | G3: 1 | J3: 1 | K3: 1
A4: Marmara Region | B4: Large (100 or more) | C4: 1 | D4: 3 | E4: 2 | G4: 2 | L4: 1
A5: Aegean Region | B5: Small (5-19) | D5: 1 | I5: 2 | J5: 1 | L5: 3
A6: Aegean Region | B6: Medium (20-99) | D6: 1 | F6: 1
A7: Aegean Region | B7: Large (100 or more) | D7: 2 | K7: 1
A8: Mediterranean Region | B8: Small (5-19) | C8: 1 | E8: 2 | F8: 1 | G8: 1 | I8: 1 | J8: 1 | K8: 1 | L8: 1
A9: Mediterranean Region | B9: Medium (20-99) | C9: 4 | D9: 5 | F9: 1 | G9: 3 | I9: 2 | J9: 1 | K9: 1
A10: Mediterranean Region | B10: Large (100 or more) | C10: 3 | D10: 3 | E10: 7 | F10: 5 | G10: 1 | L10: 1
A11: Central Anatolia Region | B11: Small (5-19) | C11: 2 | D11: 3 | F11: 2 | G11: 3 | I11: 2 | J11: 4 | L11: 2
A12: Central Anatolia Region | B12: Medium (20-99) | C12: 2 | D12: 4 | E12: 1 | F12: 3 | G12: 2 | H12: 1 | J12: 1 | L12: 1
A13: Central Anatolia Region | B13: Large (100 or more) | C13: 2 | D13: 2 | E13: 2 | F13: 3 | G13: 3 | I13: 2 | J13: 1
A14: Eastern Anatolia Region | B14: Small (5-19) | C14: 5 | E14: 1 | F14: 2 | G14: 4 | H14: 1 | I14: 4 | J14: 1 | K14: 1
A15: Eastern Anatolia Region | B15: Medium (20-99) | C15: 3 | D15: 1 | E15: 1 | G15: 3 | I15: 4 | J15: 2 | L15: 2
A16: Eastern Anatolia Region | B16: Large (100 or more) | C16: 1 | D16: 1 | I16: 2 | J16: 1
A17: Southeastern Anatolia Region | B17: Small (5-19) | C17: 3 | D17: 1 | E17: 2 | F17: 4 | G17: 2 | I17: 5 | L17: 1
A18: Southeastern Anatolia Region | B18: Medium (20-99) | C18: 4 | D18: 2 | E18: 2 | F18: 2 | G18: 7 | I18: 3 | J18: 4 | K18: 2 | L18: 3
A19: Southeastern Anatolia Region | B19: Large (100 or more) | C19: 2 | D19: 12 | E19: 1 | G19: 1 | I19: 1 | J19: 2 | L19: 2
A20: Black Sea Region | B20: Small (5-19) | C20: 2 | D20: 2 | E20: 2 | F20: 5 | G20: 3 | I20: 4 | L20: 1
A21: Black Sea Region | B21: Medium (20-99) | C21: 5 | E21: 2 | F21: 2 | G21: 3 | I21: 3 | J21: 2 | K21: 1 | L21: 3
A22: Black Sea Region | B22: Large (100 or more) | C22: 1 | E22: 1 | F22: 1 | G22: 2 | H22: 1 | I22: 2 | J22: 1

Sheet universe_strict
A1: stratificationregionname | B1: stratificationsizename | C1: _Food | D1: _Textiles | E1: _Garments | F1: _Fabricated_Metal_Products | G1: _Other_Manufacturing | H1: _Hotels | I1: _Retail | J1: _Construction | K1: _Transport | L1: _Other_Services
A2: Marmara Region | B2: Small (5-19) | C2: 740.44586 | D2: 733.17328 | E2: 1765.8733 | F2: 1070.1934 | G2: 4162.5991 | H2: 263.53943 | I2: 3318.4626 | J2: 4571.7646 | K2: 1793.8429 | L2: 9012.3242
A3: Marmara Region | B3: Medium (20-99) | C3: 135.1145 | D3: 314.22183 | E3: 572.53253 | F3: 313.83667 | G3: 1585.8497 | H3: 82.439743 | I3: 450.08945 | J3: 1023.501 | K3: 389.96936 | L3: 1543.2554
A4: Marmara Region | B4: Large (100 or more) | C4: 50.182236 | D4: 107.87448 | E4: 131.71516 | F4: 66.049774 | G4: 423.02817 | H4: 29.572273 | I4: 65.955612 | J4: 130.4991 | K4: 70.847832 | L4: 183.39212
A5: Aegean Region | B5: Small (5-19) | C5: 327.47723 | D5: 190.84705 | E5: 168.70312 | F5: 240.52585 | G5: 1003.7012 | H5: 138.85988 | I5: 1217.5242 | J5: 1488.0636 | K5: 486.85132 | L5: 2171.6807
A6: Aegean Region | B6: Medium (20-99) | C6: 95.862274 | D6: 91.592682 | E6: 65.490791 | F6: 67.111412 | G6: 379.90973 | H6: 36.780037 | I6: 139.10565 | J6: 305.13651 | K6: 83.633606 | L6: 288.60785
A7: Aegean Region | B7: Large (100 or more) | C7: 22.65089 | D7: 28.941193 | E7: 19.621883 | F7: 14.117092 | G7: 96.4245 | H7: 7.5705743 | I7: 11.481761 | J7: 17.160172 | K7: 13.200087 | L7: 21.349442
A8: Mediterranean Region | B8: Small (5-19) | C8: 158.1562 | D8: 21.641684 | E8: 45.610069 | F8: 101.8308 | G8: 445.99286 | H8: 74.862785 | I8: 744.69238 | J8: 785.06567 | K8: 378.7005 | L8: 1267.8566
A9: Mediterranean Region | B9: Medium (20-99) | C9: 36.385784 | D9: 16.262114 | E9: 18.822676 | F9: 27.605232 | G9: 127.44098 | I9: 88.6185 | J9: 211.32623 | K9: 74.683449 | L9: 180.96544
A10: Mediterranean Region | B10: Large (100 or more) | C10: 7.0555468 | D10: 15.671589 | E10: 13.176025 | F10: 9.0769873 | G10: 26.180529 | I10: 7.276834 | J10: 18.349472 | K10: 6 | L10: 14.901718
A11: Mediterranean Region | B11: Medium and Large (20+) | H11: 26.990776
A12: Central Anatolia Region | B12: Small (5-19) | C12: 151.85802 | D12: 22.125727 | E12: 35.594933 | F12: 221.84804 | G12: 739.85669 | H12: 45.476433 | I12: 638.16089 | J12: 1050.7312 | K12: 300.5228 | L12: 1443.524
A13: Central Anatolia Region | B13: Medium (20-99) | C13: 47.103794 | D13: 9.2605228 | E13: 8.1684752 | F13: 62.835182 | G13: 256.7063 | H13: 8.5072365 | I13: 92.476303 | J13: 327.01715 | K13: 31.768988 | L13: 240.58492
A14: Central Anatolia Region | B14: Large (100 or more) | C14: 11.829538 | D14: 6 | E14: 5 | F14: 12.373726 | G14: 54.067932 | H14: 9 | I14: 12.747531 | J14: 55.062729 | K14: 5 | L14: 22.216553
A15: Eastern Anatolia Region | B15: Small (5-19) | C15: 90.466927 | D15: 6.4237823 | E15: 19.64959 | F15: 23.187365 | G15: 57.591824 | H15: 19.924591 | I15: 362.98749 | J15: 514.09747 | K15: 139.72316 | L15: 422.37589
A16: Eastern Anatolia Region | B16: Medium (20-99) | C16: 13.067165 | D16: 4 | E16: 15.077279 | F16: 3 | G16: 34.899231 | H16: 5 | I16: 101.35597 | J16: 178.29297 | K16: 14.127511
A17: Eastern Anatolia Region | B17: Large (100 or more) | C17: 4 | D17: 4 | E17: 7.8114839 | G17: 6 | I17: 3.0357933 | J17: 12.67864 | K17: 2
A18: Eastern Anatolia Region | B18: Medium and Large (20+) | L18: 11.541967
A19: Southeastern Anatolia Region | B19: Small (5-19) | C19: 123.90454 | D19: 67.869888 | E19: 96.208847 | F19: 56.667431 | G19: 294.25653 | H19: 14.533894 | I19: 454.07605 | J19: 636.80286 | K19: 363.19876 | L19: 734.0061
A20: Southeastern Anatolia Region | B20: Medium (20-99) | C20: 32.646347 | D20: 84.356445 | E20: 61.045319 | F20: 14.608226 | G20: 80.74176 | H20: 7.9471221 | I20: 53.366199 | J20: 245.35052 | K20: 45.684128 | L20: 114.94399
A21: Southeastern Anatolia Region | B21: Large (100 or more) | C21: 7.1375852 | D21: 77.875328 | E21: 31.695322 | G21: 12.297629 | H21: 2 | I21: 4.6876869 | J21: 23.589144 | L21: 9.5392113
A22: Black Sea Region | B22: Small (5-19) | C22: 203.8494 | D22: 6.5839434 | E22: 29.154196 | F22: 58.608608 | G22: 239.74045 | H22: 40.9725 | I22: 651.69928 | J22: 693.80286 | K22: 267.65002 | L22: 739.79712
A23: Black Sea Region | B23: Medium (20-99) | C23: 41.519917 | D23: 5 | E23: 27.975937 | F23: 11.11444 | G23: 106.24878 | I23: 81.935867 | J23: 140.5399 | K23: 13.961611 | L23: 97.963623
A24: Black Sea Region | B24: Large (100 or more) | C24: 6.7897625 | D24: 3 | E24: 13.352797 | F24: 4 | G24: 17.408333 | H24: 5.1629601 | I24: 5.3612847 | J24: 8.4028912 | K24: 3 | L24: 5.2690697

Sheet universe_median
A1: stratificationregionname | B1: stratificationsizename | C1: _Food | D1: _Textiles | E1: _Garments | F1: _Fabricated_Metal_Products | G1: _Other_Manufacturing | H1: _Hotels | I1: _Retail | J1: _Construction | K1: _Transport | L1: _Other_Services
A2: Marmara Region | B2: Small (5-19) | C2: 1328.9436 | D2: 1064.219 | E2: 2764.5513 | F2: 1624.6188 | G2: 5352.9263 | H2: 550.06812 | I2: 5301.9722 | J2: 6230.5288 | K2: 3397.0894 | L2: 19448.805
A3: Marmara Region | B3: Medium (20-99) | C3: 275.76593 | D3: 518.66412 | E3: 1019.2734 | F3: 541.77417 | G3: 2319.071 | H3: 195.67389 | I3: 817.75793 | J3: 1586.1881 | K3: 839.80499 | L3: 3787.2097
A4: Marmara Region | B4: Large (100 or more) | C4: 99.734688 | D4: 173.39084 | E4: 228.34102 | F4: 111.03084 | G4: 602.39166 | H4: 68.350006 | I4: 116.69044 | J4: 196.93893 | K4: 148.57037 | L4: 438.24786
A5: Aegean Region | B5: Small (5-19) | C5: 642.46936 | D5: 302.80841 | E5: 288.69974 | F5: 399.12512 | G5: 1410.8771 | H5: 316.815 | I5: 2126.3572 | J5: 2216.7698 | K5: 1007.8061 | L5: 5122.833
A6: Aegean Region | B6: Medium (20-99) | C6: 213.86731 | D6: 165.26035 | E6: 127.44678 | F6: 126.63947 | G6: 607.28223 | H6: 95.425949 | I6: 276.26685 | J6: 516.91443 | K6: 196.87332 | L6: 774.19031
A7: Aegean Region | B7: Large (100 or more) | C7: 49.208439 | D7: 50.848946 | E7: 37.183216 | F7: 25.940334 | G7: 150.09117 | H7: 19.126732 | I7: 22.204967 | J7: 28.307646 | K7: 30.258015 | L7: 55.76783
A8: Mediterranean Region | B8: Small (5-19) | C8: 1132.0834 | D8: 125.28366 | E8: 284.77698 | F8: 616.52026 | G8: 2287.3547 | H8: 623.18329 | I8: 4745.2207 | J8: 4267.0332 | K8: 2860.2065 | L8: 10912.022
A9: Mediterranean Region | B9: Medium (20-99) | C9: 288.22971 | D9: 99.641899 | E9: 133.64442 | F9: 190.0575 | G9: 743.25891 | I9: 642.13934 | J9: 1306.1674 | K9: 641.43298 | L9: 1771.1532
A10: Mediterranean Region | B10: Large (100 or more) | C10: 42.401245 | D10: 100.46144 | E10: 77.992004 | F10: 45.776516 | G10: 148.68497 | I10: 51.345806 | J10: 110.44004 | K10: 43.259369 | L10: 142.02161
A11: Mediterranean Region | B11: Medium and Large (20+) | H11: 584.82501
A12: Central Anatolia Region | B12: Small (5-19) | C12: 1304.821 | D12: 153.75241 | E12: 266.78 | F12: 1612.2961 | G12: 4554.8516 | H12: 454.41974 | I12: 4881.2456 | J12: 6855.397 | K12: 2724.5825 | L12: 14913.519
A13: Central Anatolia Region | B13: Medium (20-99) | C13: 460.2507 | D13: 56.706192 | E13: 69.619591 | F13: 519.29901 | G13: 1797.1672 | H13: 96.668442 | I13: 804.37085 | J13: 2426.2573 | K13: 327.53018 | L13: 2826.5059
A14: Central Anatolia Region | B14: Large (100 or more) | C14: 112.5548 | D14: 26.915668 | E14: 29.189518 | F14: 99.580132 | G14: 368.59497 | H14: 63.452816 | I14: 107.9716 | J14: 397.81552 | K14: 47.680874 | L14: 254.16501
A15: Eastern Anatolia Region | B15: Small (5-19) | C15: 494.86032 | D15: 28.687973 | E15: 94.646217 | F15: 108.29919 | G15: 227.86212 | H15: 127.95135 | I15: 1784.3365 | J15: 2155.6145 | K15: 814.09601 | L15: 2804.3992
A16: Eastern Anatolia Region | B16: Medium (20-99) | C16: 82.054932 | D16: 11.773271 | E16: 82.584427 | F16: 3.8986807 | G16: 155.85405 | H16: 28.746359 | I16: 117.2839 | J16: 850.12982 | K16: 93.60482
A17: Eastern Anatolia Region | B17: Large (100 or more) | C17: 9.2332401 | D17: 7.0655384 | E17: 41.664513 | G17: 8.3874969 | I17: 3.2791646 | J17: 58.868282 | K17: 5.5558109
A18: Eastern Anatolia Region | B18: Medium and Large (20+) | L18: 199.47174
A19: Southeastern Anatolia Region | B19: Small (5-19) | C19: 703.51532 | D19: 311.65543 | E19: 476.48938 | F19: 272.14221 | G19: 1197.0874 | H19: 95.967888 | I19: 2293.7061 | J19: 2745.4856 | K19: 2175.9055 | L19: 5011.0518
A20: Southeastern Anatolia Region | B20: Medium (20-99) | C20: 210.78821 | D20: 84.936035 | E20: 343.80804 | F20: 14.975287 | G20: 372.76279 | H20: 59.673191 | I20: 305.5607 | J20: 1202.8918 | K20: 52.618877 | L20: 892.36151
A21: Southeastern Anatolia Region | B21: Large (100 or more) | C21: 42.167049 | D21: 78.451248 | E21: 173.82669 | G21: 55.399284 | H21: 2.6858928 | I21: 26.237064 | J21: 109.47248 | L21: 72.114853
A22: Black Sea Region | B22: Small (5-19) | C22: 1205.0917 | D22: 30.062611 | E22: 150.33623 | F22: 293.05429 | G22: 1015.4661 | H22: 281.68311 | I22: 3429.6138 | J22: 3114.4014 | K22: 1669.5035 | L22: 5258.5522
A23: Black Sea Region | B23: Medium (20-99) | C23: 279.121 | D23: 13.49404 | E23: 164.04863 | F23: 63.197472 | G23: 511.76843 | I23: 490.34015 | J23: 717.40363 | K23: 99.033249 | L23: 791.85168
A24: Black Sea Region | B24: Large (100 or more) | C24: 44.447598 | D24: 3.4706705 | E24: 76.246132 | F24: 12.929638 | G24: 81.65152 | H24: 6.2735095 | I24: 31.242792 | J24: 41.768631 | K24: 8.1872263 | L24: 41.473484

Sheet universe_weak
A1: stratificationregionname | B1: stratificationsizename | C1: _Food | D1: _Textiles | E1: _Garments | F1: _Fabricated_Metal_Products | G1: _Other_Manufacturing | H1: _Hotels | I1: _Retail | J1: _Construction | K1: _Transport | L1: _Other_Services
A2: Marmara Region | B2: Small (5-19) | C2: 2378.9688 | D2: 1910.9598 | E2: 5252.3477 | F2: 2836.0715 | G2: 10351.336 | H2: 970.32178 | I2: 10319.438 | J2: 11913.385 | K2: 5963.5088 | L2: 36949.008
A3: Marmara Region | B3: Medium (20-99) | C3: 480.7876 | D3: 907.0625 | E3: 1886.036 | F3: 921.11633 | G3: 4367.6689 | H3: 336.17288 | I3: 1550.1501 | J3: 2953.8979 | K3: 1435.8325 | L3: 7007.4458
A4: Marmara Region | B4: Large (100 or more) | C4: 179.26413 | D4: 312.61633 | E4: 435.58984 | F4: 194.61414 | G4: 1169.6317 | H4: 121.06062 | I4: 228.04413 | J4: 378.10016 | K4: 261.87378 | L4: 835.97772
A5: Aegean Region | B5: Small (5-19) | C5: 1287.0111 | D5: 608.46588 | E5: 613.79443 | F5: 779.69104 | G5: 3053.1074 | H5: 625.3927 | I5: 4631.2959 | J5: 4743.2783 | K5: 1979.7921 | L5: 10891.002
A6: Aegean Region | B6: Medium (20-99) | C6: 417.25815 | D6: 323.42041 | E6: 263.89789 | F6: 240.94229 | G6: 1279.8939 | H6: 183.46112 | I6: 586.03772 | J6: 1077.2269 | K6: 376.66904 | L6: 1603.0087
A7: Aegean Region | B7: Large (100 or more) | C7: 98.977058 | D7: 102.59241 | E7: 79.37587 | F7: 50.880814 | G7: 326.11673 | H7: 37.90992 | I7: 48.560303 | J7: 60.817257 | K7: 59.682644 | L7: 119.04369
A8: Mediterranean Region | B8: Small (5-19) | C8: 1175.3756 | D8: 130.47614 | E8: 313.79773 | F8: 624.20776 | G8: 2565.3982 | H8: 637.57495 | I8: 5356.623 | J8: 4732.0835 | K8: 2912.1143 | L8: 12023.508
A9: Mediterranean Region | B9: Medium (20-99) | C9: 291.56189 | D9: 101.06694 | E9: 143.42546 | F9: 187.41196 | G9: 811.88019 | I9: 705.9834 | J9: 1410.7682 | K9: 636.05219 | L9: 1900.6957
A10: Mediterranean Region | B10: Large (100 or more) | C10: 44.822166 | D10: 105.05121 | E10: 86.289917 | F10: 46.925819 | G10: 167.43773 | I10: 58.19754 | J10: 122.97533 | K10: 44.223808 | L10: 157.12506
A11: Mediterranean Region | B11: Medium and Large (20+) | H11: 504.03287
A12: Central Anatolia Region | B12: Small (5-19) | C12: 1315.8779 | D12: 155.53386 | E12: 285.53845 | F12: 1585.5979 | G12: 4962.0591 | H12: 451.5845 | I12: 5352.1924 | J12: 7384.5732 | K12: 2694.4946 | L12: 15961.458
A13: Central Anatolia Region | B13: Medium (20-99) | C13: 452.05328 | D13: 55.868111 | E13: 72.572701 | F13: 497.38907 | G13: 1906.8068 | H13: 93.561478 | I13: 858.98962 | J13: 2545.4238 | K13: 315.47083 | L13: 2946.2717
A14: Central Anatolia Region | B14: Large (100 or more) | C14: 113.97082 | D14: 27.338408 | E14: 31.369188 | F14: 98.329979 | G14: 403.18292 | H14: 63.313713 | I14: 118.87093 | J14: 430.26849 | K14: 47.346359 | L14: 273.13239
A15: Eastern Anatolia Region | B15: Small (5-19) | C15: 521.41736 | D15: 30.320831 | E15: 105.84071 | F15: 111.27861 | G15: 259.35703 | H15: 132.85103 | I15: 2044.1658 | J15: 2426.0632 | K15: 841.18433 | L15: 3135.9592
A16: Eastern Anatolia Region | B16: Medium (20-99) | C16: 84.205032 | D16: 12.119057 | E16: 89.945229 | F16: 3.9015265 | G16: 172.77245 | H16: 29.069218 | I16: 339.0535 | J16: 931.85156 | K16: 94.198563
A17: Eastern Anatolia Region | B17: Large (100 or more) | C17: 9.7683668 | D17: 7.4981046 | E17: 46.782219 | G17: 9.5856876 | I17: 7.6864643 | J17: 66.523842 | K17: 5.7640538
A18: Eastern Anatolia Region | B18: Medium and Large (20+) | L18: 187.90114
A19: Southeastern Anatolia Region | B19: Small (5-19) | C19: 718.20612 | D19: 319.14536 | E19: 516.26825 | F19: 270.92868 | G19: 1320.1533 | H19: 96.542519 | I19: 2545.949 | J19: 2993.8003 | K19: 2178.3528 | L19: 5429.1543
A20: Southeastern Anatolia Region | B20: Medium (20-99) | C20: 209.58118 | D20: 228.51186 | E20: 362.80115 | F20: 39.121059 | G20: 400.37006 | H20: 58.465866 | I20: 330.32382 | J20: 1277.4993 | K20: 128.7903 | L20: 941.61761
A21: Southeastern Anatolia Region | B21: Large (100 or more) | C21: 43.222881 | D21: 208.53979 | E21: 189.10526 | G21: 61.343384 | H21: 2.7129784 | I21: 29.240997 | J21: 119.8598 | L21: 78.450005
A22: Black Sea Region | B22: Small (5-19) | C22: 1297.7521 | D22: 32.474064 | E22: 171.82326 | F22: 307.75372 | G22: 1181.2998 | H22: 298.91626 | I22: 4015.6257 | J22: 3582.4021 | K22: 1763.0786 | L22: 6009.876
A23: Black Sea Region | B23: Medium (20-99) | C23: 292.7485 | D23: 14.196538 | E23: 182.60867 | F23: 64.637619 | G23: 579.82721 | I23: 559.15979 | J23: 803.69965 | K23: 101.85815 | L23: 881.40125
A24: Black Sea Region | B24: Large (100 or more) | C24: 48.060127 | D24: 3.7643359 | E24: 87.498596 | F24: 13.633475 | G24: 95.372665 | H24: 20.693506 | I24: 36.730164 | J24: 48.24086 | K24: 8.6813269 | L24: 47.592102

Sheet item response
A1: Survey | B1: Cell | C1: Name | D1: rr_d2 | E1: rr_l1 | F1: rr_n2a | G1: rr_TFP
A2: Turkiye 2024 | B2: Fresh/Panel | C2: Fresh | D2: 0.94395018 | E2: 0.99555159 | F2: 0.96263343 | G2: 0.64270616
A3: Turkiye 2024 | B3: Fresh/Panel | C3: Panel | D3: 0.94178081 | E3: 0.99315071 | F3: 0.94520545 | G3: 0.49411765
A4: Turkiye 2024 | B4: Size | C4: Small (5-19) | D4: 0.9642325 | E4: 0.99552906 | F4: 0.97168404 | G4: 0.68400002
A5: Turkiye 2024 | B5: Size | C5: Medium (20-99) | D5: 0.92152464 | E5: 0.9955157 | F5: 0.95067263 | G5: 0.54464287
A6: Turkiye 2024 | B6: Size | C6: Large (100+) | D6: 0.92976588 | E6: 0.99331105 | F6: 0.94314378 | G6: 0.56213015
A7: Turkiye 2024 | B7: Region | C7: Marmara Region | D7: 0.96758103 | E7: 1 | F7: 0.98004985 | G7: 0.83240223
A8: Turkiye 2024 | B8: Region | C8: Aegean Region | D8: 0.95360827 | E8: 0.99484539 | F8: 0.97938144 | G8: 0.80000001
A9: Turkiye 2024 | B9: Region | C9: Mediterranean Region | D9: 0.95454544 | E9: 0.99545455 | F9: 0.9818182 | G9: 0.30275229
A10: Turkiye 2024 | B10: Region | C10: Central Anatolia Region | D10: 0.86033517 | E10: 0.97765362 | F10: 0.87150836 | G10: 0.5138889
A11: Turkiye 2024 | B11: Region | C11: Eastern Anatolia Region | D11: 0.93798447 | E11: 1 | F11: 0.96124029 | G11: 0.29850745
A12: Turkiye 2024 | B12: Region | C12: Southeastern Anatolia Region | D12: 0.98717946 | E12: 0.99358976 | F12: 0.98076922 | G12: 0.58730161
A13: Turkiye 2024 | B13: Region | C13: Black Sea Region | D13: 0.90510947 | E13: 1 | F13: 0.91970801 | G13: 0.62068963
A14: Turkiye 2024 | B14: Sector | C14: Construction | D14: 0.92715234 | E14: 0.98013246 | F14: 0.97350991
A15: Turkiye 2024 | B15: Sector | C15: Fabricated Metal Products | D15: 0.94805193 | E15: 1 | F15: 0.97402596 | G15: 0.70129871
A16: Turkiye 2024 | B16: Sector | C16: Food | D16: 0.94915253 | E16: 1 | F16: 0.96610171 | G16: 0.55932206
A17: Turkiye 2024 | B17: Sector | C17: Garments | D17: 0.90163934 | E17: 1 | F17: 0.93442625 | G17: 0.55737704
A18: Turkiye 2024 | B18: Sector | C18: Other Manufacturing | D18: 0.94273126 | E18: 0.99559474 | F18: 0.94713658 | G18: 0.64317179
A19: Turkiye 2024 | B19: Sector | C19: Other Services | D19: 0.9417178 | E19: 0.99386501 | F19: 0.95398772
A20: Turkiye 2024 | B20: Sector | C20: Retail | D20: 0.95698923 | E20: 1 | F20: 0.97311831
A21: Turkiye 2024 | B21: Sector | C21: Textiles | D21: 0.94949496 | E21: 0.98989898 | F21: 0.92929292 | G21: 0.54545456
A22: Turkiye 2024 | B22: Sector | C22: Transport | D22: 0.9818182 | E22: 1 | F22: 0.9909091
A23: Turkiye 2024 | B23: Turkiye 2024 | C23: Turkiye 2024 | D23: 0.94350284 | E23: 0.99505651 | F23: 0.95903957 | G23: 0.60342145
