Workbook

Sheet Intro
A1: 0. Introduction
A3: Q no | B3: Question | C3: Options | D3: Code
B5: Hello, my name is [name enumerator/operator]. I am working on behalf of the World Bank.We have randomly selected your household for this interview. The purpose of this interview is to learn about the welfare of your household and this village. Your participation in this survey is voluntary. All your answers will remain confidential. The interview will take maximum 20-25 minutes of your time. Could you please spare some time for the interview?
B6: Do you have any questions about the survey? ENUMERATOR: ANSWER ANY QUESTIONS THEY MAY HAVE
B7: Do you agree to be interviewed? | C7: Not agreed | D7: 0
C8: Agree | D8: 1
A11: Note | B11: This questionnaire must be implemented with an adult household member

Sheet Household Characteristics
B1: 1. Household characteristics
B3: Q no | C3: Question | D3: Options | E3: Code
C6: Select the round of data collection you are doing the survey for | D6: Round 1 | E6: 1
D7: Round 2 | E7: 2
D8: Round 3 | E8: 3
D9: Round 4 | E9: 4
B10: D1 | C10: Enumerator name
B11: D2 | C11: Enumerator number
B12: D3 | C12: Respondent full names
A13: Add this at the end of the questionnaire | B13: D4 | C13: Respondent number
B14: D5 | C14: Refugee household? | D14: Yes | E14: 1
B15: 101 | C15: What is your year of birth? | E15: Year
B16: =B15+1 -> 102 | C16: Is there another adult in the household that I can speak to? [Ask If respondent at Q101 is below 18 years old. If no adult available at the moment, call back] | D16: Yes | E16: 1
D17: No | E17: 2
B18: =B16+1 -> 103 | C18: What is the name of the adult in the household?
B19: =B18+1 -> 104 | C19: Please provide the phone number of the (Insert the name of the adult that was mentioned)
B21: =B19+1 -> 105 | C21: Gender RECORD WITHOUT ASKING | D21: Male | E21: 1
D22: Female | E22: 2
B23: =B21+1 -> 106 | C23: What is your country of citizenship? | D23: South Sudan | E23: 1
D24: Sudan | E24: 2
D25: Somalia | E25: 3
D26: Eritrea | E26: 4
D27: Yemen | E27: 5
D28: Kenya | E28: 6
D29: Ethiopia | E29: 7
D30: Other country (Specify) | E30: 9
B32: =B23+1 -> 107 | C32: In which state do you currently live? | D32: Codes provided separately
B34: =B32+1 -> 108 | C34: In which locality do you currently live? | D34: Codes provided separately
B35: =B34+1 -> 109 | C35: Would you describe the area that you live in as a city, a semi-urban area, or rural area? | D35: Urban | E35: 1
D36: Semi urban | E36: 2
D37: Rural | E37: 3
D38: Not sure | E38: 4
B39: =B35+1 -> 110 | C39: What is your highest level of completed education? | D39: No school, cannot read or write | E39: 1
D40: No school, can read and write | E40: =E39+1 -> 2
D41: Completed part of first level (part of elementary school) | E41: =E40+1 -> 3
D42: Completed elementary | E42: =E41+1 -> 4
D43: Pre-high school diploma | E43: =E42+1 -> 5
D44: General high school and equivalent | E44: =E43+1 -> 6
D45: Post high school diploma | E45: =E44+1 -> 7
D46: Bachelor degree/license/or higher | E46: =E45+1 -> 8
...

Sheet Displacement
B1: 2. Displacement | D1: =(212-202) -> 10 | E1: =5 -> 5 | F1: =3 -> 3
A3: Relevance | B3: Q no | C3: Questions | D3: Options | E3: Code | F3: Code
A5: ="ASK ONLY IF " & 'Household Characteristics'!B14 & " =1" -> ASK ONLY IF D5 =1 | B5: =201 -> 201 | C5: In what year did you come to Sudan as a refugee? | D5: Year | E5: /_/_/_/_/ | G5: ="IF MONTH/YEAR IS AFTER 04/2023 THEN SKIP TO Q" & B18 -> IF MONTH/YEAR IS AFTER 04/2023 THEN SKIP TO Q206
D6: Month | E6: /_/_/
A7: ="ASK ONLY IF " & 'Household Characteristics'!B14 & " =1" -> ASK ONLY IF D5 =1 | B7: =B5+1 -> 202 | C7: Were you living in the refugee camp before the start of the war (April 2023)? | D7: Yes | E7: 1
D8: No | E8: 2 | G8: ="IF Q" & B7 & "=2 THEN SKIP TO Q" & B13 -> IF Q202=2 THEN SKIP TO Q204
A9: ="ASK ONLY IF q" & B7 & " =1" -> ASK ONLY IF q202 =1 | B9: =B7+1 -> 203 | C9: How has the population of the camp evolved changed since the start of the war (April 2023) | D9: Decreased | E9: 1
D10: Stayed the same | E10: 2
D11: Increased | E11: 3
D12: Not sure/Don't know | E12: 4
A13: If Q 202=2 , Then display this question | B13: =B9+1 -> 204 | C13: Where were you living before the war (state/district locality)? | E13: State
E14: Locality
D15: Abroad (Specify COUNTRY) | E15: 95
A16: ="ASK ONLY IF " & 'Household Characteristics'!B14 & " =1" -> ASK ONLY IF D5 =1 | B16: =B13+1 -> 205 | C16: When did you come to your current camp / shelter? (month/year) | D16: Year | E16: /_/_/_/_/
D17: Month | E17: /_/_/
A18: ="ASK ONLY IF " & 'Household Characteristics'!B14 & " =1" -> ASK ONLY IF D5 =1 | B18: =B16+1 -> 206 | C18: Why did you come to live in this camp / shelter? | D18: I did not have a choice | E18: 1
D19: I had friends and family here/there | E19: 2
D20: There are better livelihood opportunities | E20: 3
D21: Better food aid in camps | E21: 4
D22: Security better in camp | E22: 5
D23: Better education for children | E23: 6
D24: NGO or other organization chose this place | E24: 7
D25: Other (Specify) | E25: 8
B26: =B18+1 -> 207 | C26: Has your household EVER moved from your house since the start of the conflict (since 2023)? | D26: Yes, we have moved at least once | E26: 1
D27: Not all of us, but some have moved | E27: 2
D28: No, we have been living here before the conflict | E28: 3
E30: Reason why you moved for the first time | F30: Reason of your latest move?
A31: =CONCATENATE("If Q",B26,"=1,2") -> If Q207=1,2 | B31: =B26+1 -> 208 | C31: What was the MAIN reason that your household /household members had to move? Select all that apply (ANY MOVE) | D31: 1- For Studying | E31: /__/__/ | F31: /__/__/
D32: 2- For Work
D33: 3- For Marriage
D34: 4- Separation of the household
D35: 5- Because of conflict (bombardment, fighting, destruction of the house…)
D36: 6- Floods
D37: 7- Other natural disasters
D38: 8- Lack of food
D39: 9- Lack of water
D40: 10- Other (Specify)
A42: =CONCATENATE("If Q",B26,"=1,2") -> If Q207=1,2 | B42: =B31+1 -> 209 | C42: When did your household /household members move the first time? | D42: Year | E42: /_/_/_/_/
D43: Month | E43: /_/_/
A45: =CONCATENATE("If Q",B26,"=1,2") -> If Q207=1,2 | B45: =B42+1 -> 210 | C45: When did your household /household members move the last time? | D45: Year | E45: /_/_/_/_/
...

Sheet Labor
B1: 3. Labor and employment income
A4: Relevance | B4: Q no | C4: Question | D4: Options | E4: Code
B6: 301 | C6: Of your household members or people who live with you under the same shelter, how many members that are 15 and above worked in the last 7 days? Even if they worked for one hour. | D6: /__/__/
A8: ASK IF 111_2 > 0 | B8: =B6+1 -> 302 | C8: How many of which are female? | D8: /__/__/
A10: ="ASK IF " & 'Household Characteristics'!B50 & " >0 " -> ASK IF 112 >0 | B10: =B8+1 -> 303 | C10: Did any children (younger than 15) in the household / the shelter in which you live work in the last 7 days? Even if they worked for one hour. | D10: 1 - Yes | E10: /__/
D11: 2 - No
B13: =B10+1 -> 304 | C13: Do you have any type of special skills or have you acquired any technical or vocational training or skills? | D13: 1. Yes 2. No
A14: =CONCATENATE("IF Q", B13,"=1") -> IF Q304=1 | B14: =B13+1 -> 305 | C14: What type of skills or training do you have? (Select all that apply) | E14: 1-Yes; 0-No
D15: 1- Technical skills (e.g., carpentry, plumbing...) | E15: /__/
D16: 2- IT skills (e.g., computer programming) | E16: /__/
D17: 3- Healthcare skills (e.g., nursing, first aid) | E17: /__/
D18: 4- Professional skills (e.g., teaching, management) | E18: /__/
D19: 5- Other (please specify) | E19: /__/
A20: =CONCATENATE("If ", B6,">0") -> If 301>0 | B20: =B14+1 -> 306 | C20: ="During the past 7 days, did you do any paid or unpaid work?"&CHAR(10)&CHAR(10)&"This could be paid in cash or in-kind, or unpaid for a household business or the business of a household member."&CHAR(10)&CHAR(10)&"This includes working on a farm, working selling something, making handcrafts for sale, washing cars, selling qat, selling meals." -> During the past 7 days, did you do any paid or unpaid work? This could be paid in cash or in-kind, or unpaid for a household business or the business of a household member. This includes working on a farm, working selling something, making handcrafts for sale, washing cars, selling qat, selling meals. | D20: 1 - Yes | E20: /__/
D21: 2 - No
A22: ="ASK IF " & 'Household Characteristics'!B14 & " =1 AND " & "Q" &B20 & "=1" -> ASK IF D5 =1 AND Q306=1 | B22: =B20+1 -> 307 | C22: Do you go outside of the camp to work, or work in the camp? | D22: 1 - Work outside camp | E22: /__/ | F22: ="SKIP TO Q" &B33& " IF Q" & B22 &"=1" -> SKIP TO Q310 IF Q307=1
D23: 2 - Work in camp
A25: ="ASK IF " & B22 & "=2" -> ASK IF 307=2 | B25: =B22+1 -> 308 | C25: What is the main reason you do not leave the camp to work? | D25: 1 - No right to leave the camp
D26: 2 - Too dangerous outside the camps | E26: /__/
D27: 3 - No jobs outside the camp
D28: 4 - Other (Specify)
B29: =B25+1 -> 309 | C29: Are you currently employed? | D29: 1 - Yes, full-time | E29: /__/
D30: 2 - Yes, part-time
D31: 3 - No
A33: =CONCATENATE("IF Q",B29, "=1, 2") -> IF Q309=1, 2 | B33: =B29+1 -> 310 | C33: Do you have more than one job or type of work? | D33: 1 - Yes | E33: /__/
D34: 2 - No
A35: =CONCATENATE("IF Q",B29, "=1, 2") -> IF Q309=1, 2 | B35: =B33+1 -> 311 | C35: Were you mainly working as: (READ OPTIONS OUT LOUD) | D35: 1 - Wage worker or employee
D36: 2 - Own-account worker or employer (including household enterprises) | E36: /__/
D37: 3 - Unpaid family member
D38: 4 - Other, specify
A40: =CONCATENATE("IF Q",B29, "=1, 2") -> IF Q309=1, 2 | B40: =B35+1 -> 312 | C40: What type of sector were you working in? (READ OPTIONS OUT LOUD) | D40: 1 - Private sector
D41: 2 - Public sector/government
D42: 3 - Mixed sector (for example Sudan construction bank, Sudan mobile, Social Fund for Development) | E42: /__/
D43: 4 - Non-governmental organization or civil society organization
D44: 5 - International organization
A46: =CONCATENATE("IF Q",B29, "=1, 2") -> IF Q309=1, 2 | B46: =B40+1 -> 313 | C46: What is the main economic activity of the enterprise that you work at over the past 7 days? | D46: 1 - Agriculture, forestry and fishing
D47: 2 - Manufacturing, mining and quarrying and other industrial activities
D48: 3 - Construction
D49: 4 - Wholesale and retail trade, transportation and storage, accommodation and food service activities
D50: 5 - Information and communication | E50: /__/__/
...

Sheet Food Security
B1: 4. Food Security | G1: =COUNT(B42:B67)+4 -> 13
C3: =2+2 -> 4
A4: Relevance | B4: Q no | C4: Question | D4: Options | E4: Code
B5: 401 | C5: Over the last 3 months, has household income been enough to cover food costs so that no family member has to go hungry at the end of the day? | D5: Yes, absolutely | E5: 1
D6: Yes, somewhat | E6: 2
D7: No, not realy | E7: 3
D8: Not at all | E8: 4
B11: =B5+1 -> 402 | C11: Have you received food supplies or assistance from external entities? | D11: Yes | E11: 1
D12: No | E12: 2
B14: =B11+1 -> 403 | C14: When did you last receive food assistance? If never received food assistance, skip to Q405 (Food Sources) | D14: Never received food assistance | E14: 1
A15: =CONCATENATE("If", " ", B11,"=1") -> If 402=1 | D15: Less than a month ago | E15: 2
D16: Between 1 and 3 months ago | E16: 3
D17: More than 3 months ago | E17: 4
A19: =CONCATENATE("If", " ", B11,"=1") -> If 402=1 | B19: =B14+1 -> 404 | C19: In which form did you receive food assistance? (Check all that apply) | D19: In-kind | E19: 1
D20: Cash | E20: 2
D21: Vouchers | E21: 3
A23: ="ASK ONLY IF " & 'Household Characteristics'!B14 & " =1" -> ASK ONLY IF D5 =1 | B23: =B19+1 -> 405 | C23: Compared to the start of the year 2025, how have the food rations that your household receives changed? | D23: Decreased | E23: 1
D24: Stayed the same | E24: 2 | F24: ="IF Q" & B23 & "=" & E24 & " THEN SKIP TO Q" & B32 -> IF Q405=2 THEN SKIP TO Q407
D25: Increased | E25: 3 | F25: ="IF Q" & B23 & "=" & E25 & " THEN SKIP TO Q" & B32 -> IF Q405=3 THEN SKIP TO Q407
D26: Not sure/Don't know | E26: 4 | F26: ="IF Q" & B23 & "=" & E26 & " THEN SKIP TO Q" & B32 -> IF Q405=4 THEN SKIP TO Q407
A28: ="ASK ONLY IF " & 'Household Characteristics'!B14 & " =1" -> ASK ONLY IF D5 =1 | B28: =B23+1 -> 406 | C28: By how much did the food rations decline? | D28: By less than half | E28: 1
D29: By half | E29: 2
D30: By more than half | E30: 3
A32: ="ASK ONLY IF " & 'Household Characteristics'!B14 & " =1" -> ASK ONLY IF D5 =1 | B32: =B28+1 -> 407 | C32: Compared to the start of the war (April 2023), how have the food rations that your household receives changed | D32: Decreased | E32: 1
D33: Stayed the same | E33: 2 | F33: ="IF Q" & B32 & "=" & E33 & " THEN SKIP TO Q" & B43 -> IF Q407=2 THEN SKIP TO Q409
D34: Increased | E34: 3 | F34: ="IF Q" & B32 & "=" & E34 & " THEN SKIP TO Q" & B43 -> IF Q407=3 THEN SKIP TO Q409
D35: Not sure/Don't know | E35: 4 | F35: ="IF Q" & B32 & "=" & E35 & " THEN SKIP TO Q" & B43 -> IF Q407=4 THEN SKIP TO Q409
A37: ="ASK ONLY IF " & 'Household Characteristics'!B14 & " =1" -> ASK ONLY IF D5 =1 | B37: =B32+1 -> 408 | C37: By how much did the food rations decline? | D37: By less than half | E37: 1
D38: By half | E38: 2
D39: By more than half | E39: 3
F42: Food source codes
B43: =B37+1 -> 409 | C43: Main food source: Where do you primarily get your food from? | F43: 1 = Own production (crops, animals)
C44: (Insert code from the list below) | F44: 2 = Fishing / Hunting
F45: 3 = Gathering
F46: 4 = Loan
F47: 5 = Market (purchase on cash)
F48: 6 = Market (purchase on credit)
F49: 7 = Beg for food
F50: 8 = Exchange labor or items for food
F51: 9 = Gift (food) from family/relatives
...

Sheet Education
B1: 5. Household Education module
B3: Q no | C3: Question | D3: Options | E3: Code
B6: 501 | C6: How many boys in the household or live in the same shelter as you are now between 6-13? | D6: /__/__/
B8: =B6+1 -> 502 | C8: How many boys between 6-13 in the household or live in the same shelter as you are currently enrolled in primary school? | D8: /__/__/
B10: =B8+1 -> 503 | C10: How many boysn in the household or live in the same shelter as you are currently enrolled in primary school? | D10: /__/__/
B12: =B10+1 -> 504 | C12: How many girls in the household or live in the same shelter as you are between 6-13? | D12: /__/__/
B14: =B12+1 -> 505 | C14: How many girls between 6-13 in the household or live in the same shelter as you are currently enrolled in primary school? | D14: /__/__/
B16: =B14+1 -> 506 | C16: How many girls in the household or live in the same shelter as you are currently enrolled in primary school? | D16: /__/__/
B18: =B16+1 -> 507 | C18: How many boys in the household or live in the same shelter as you are now between 14-18? | D18: /__/__/
B20: =B18+1 -> 508 | C20: How many boys between 14-18 in the household or live in the same shelter as you are currently enrolled in secondary school? | D20: /__/__/
B22: =B20+1 -> 509 | C22: How many boys in the household or live in the same shelter as you are currently enrolled in secondary school? | D22: /__/__/
B24: =B22+1 -> 510 | C24: How many girls in the household or live in the same shelter as you are now between 14-18? | D24: /__/__/
B26: =B24+1 -> 511 | C26: How many girls between 14-18 in the household or live in the same shelter as you are currently enrolled in secondary school? | D26: /__/__/
B28: =B26+1 -> 512 | C28: How many girls in the household or live in the same shelter as you are currently enrolled in secondary school? | D28: /__/__/
A30: =CONCATENATE("ASK IF Q",B8,"; Q",B10,"; Q",B14,"; Q",B16,"; Q",B20,"; Q",B22,"; Q",B26,"; Q",B28, " ", "> 0") -> ASK IF Q502; Q503; Q505; Q506; Q508; Q509; Q511; Q512 > 0 | B30: =B28+1 -> 513 | C30: Is the school that the children who are enrolled attend owned by the government or a non-governmental entity? | E30: 0- No; 1- Yes
D31: 1- Government/ Public | E31: /__/
D32: 2- Non-Governmental
A33: =CONCATENATE("ASK IF Q",B8,"; Q",B10,"; Q",B14,"; Q",B16,"; Q",B20,"; Q",B22,"; Q",B26,"; Q",B28, " ", "> 0") -> ASK IF Q502; Q503; Q505; Q506; Q508; Q509; Q511; Q512 > 0 | B33: =B30+1 -> 514 | C33: What type of school do the children who are enrolled attend? (Select all that apply) | E33: 0- No; 1- Yes
D34: 1- Day school | E34: /__/
D35: 2- Nomadic | E35: /__/
D36: 3- Qur’anic | E36: /__/
D37: 4- Special needs | E37: /__/
D38: 5- Complementary | E38: /__/
D39: 6- For IDPs | E39: /__/
D40: 9- Other (Specify) | E40: /__/
A41: =CONCATENATE("Ask if Q",B8,">0 or Q",B10,">0 or Q",B14,">0 or Q",B16,">0") -> Ask if Q502>0 or Q503>0 or Q505>0 or Q506>0 | B41: =B33+1 -> 515 | C41: What is the average walking time required for children to reach the nearest primary school?
D42: 1. Less than 15 minutes (i.e., less than 1 km)
D43: 2. 15-30 minutes (i.e., 1-2 km) | E43: /__/
D44: 3. 30-45 minutes (i.e., 2-3 km)
D45: 4. 45-60 minutes (i.e., 3-4 km)
D46: 5. More than 60 minutes (i.e., more than 4 km)
A47: =CONCATENATE("Ask if Q",B20,">0 or Q",B22,">0 or Q",B26,">0 or Q",B28,">0") -> Ask if Q508>0 or Q509>0 or Q511>0 or Q512>0 | B47: =B41+1 -> 516 | C47: What is the average walking time required for children to reach the nearest secondary school?
D48: 1. Less than 15 minutes (i.e., less than 1 km)
D49: 2. 15-30 minutes (i.e., 1-2 km) | E49: /__/
D50: 3. 30-45 minutes (i.e., 2-3 km)
D51: 4. 45-60 minutes (i.e., 3-4 km)
D52: 5. More than 60 minutes (i.e., more than 4 km)
A53: =CONCATENATE("ASK IF Q",B8,"; Q",B10,"; Q",B14,"; Q",B16,"; Q",B20,"; Q",B22,"; Q",B26,"; Q",B28, " ", "> 0") -> ASK IF Q502; Q503; Q505; Q506; Q508; Q509; Q511; Q512 > 0 | B53: =B47+1 -> 517 | C53: Approximately, how many days per week did each child attend classes during the last six months? ? [Specify if multiple answers]
D54: Girls in primary | E54: /__/ | F54: Ask if If 504 > 0
D55: Boys in primary | E55: /__/ | F55: Ask if If q502 > 0
...

Sheet ReproductiveHealth
B1: 6. Reproductive Health
B3: Q no | C3: Question | D3: Options | E3: Code
B6: 601 | C6: Has there been any pregnant woman or a newborn in your household since April 2023? (that is after the war started?) | D6: 1- Yes 2- No | E6: /___/ | F6: =CONCATENATE("END MODULE IF ",B6," =NO") -> END MODULE IF 601 =NO
B7: =B6+1 -> 602 | C7: What type of medical services did you or any member of your household need? [SELECT ALL THAT APPLY] A household is defined by all the people who sleep under the same roof and share meals/expenses together | E7: 1-Yes; 0-No
A8: Ask if Q600=1 | D8: Prenatal care | E8: /__/ | F8: =CONCATENATE("SKIP to ",B64," if NO to ALL") -> SKIP to 609 if NO to ALL
D9: Postnatal care | E9: /__/
D10: Family planning | E10: /__/
D11: Emergency obstetric care | E11: /__/
D12: STI/HIV testing and treatment | E12: /__/
D13: Vaccination | E13: /__/
D14: Other (Specify) | E14: /__/
A15: Ask this for each SERVICE needed in Q600 | B15: =B7+1 -> 603 | C15: Did this person access [SERVICE]? (READOUT ONE AT A TIME) | E15: 0- No; 1- Yes
D16: Prenatal care | E16: /__/ | F16: ="Ask this for each SERVICE with YES at q" & B7 -> Ask this for each SERVICE with YES at q602
D17: Postnatal care | E17: /__/
D18: Family planning | E18: /__/
D19: Emergency obstetric care | E19: /__/
D20: STI/HIV testing and treatment | E20: /__/
D21: Vaccination | E21: /__/
D22: Other (Specify) | E22: /__/
A23: Ask this for each SERVICE with NO at q601 | B23: =B15+1 -> 604 | C23: What was the main reason that this person was unable to access [Service]? [DO NOT PROMPT, SINGLE RESPONSE] | F23: ="Ask this for each SERVICE with NO at q" & B15 -> Ask this for each SERVICE with NO at q603
E24: 1- Distance
E25: 2- Cost of services
E26: 3- Security concerns
E27: 4- Lack of transportation
E28: 5- Lack of information
E29: 6- Cultural or religious restrictions
E30: 7- No medical personel available
E31: 8- Health facility was destroyed
E32: 9- Other (specify)
D33: Prenatal care | E33: /__/
D34: Postnatal care | E34: /__/
D35: Family planning | E35: /__/
D36: Emergency obstetric care | E36: /__/
D37: STI/HIV testing and treatment | E37: /__/
D38: Vaccination | E38: /__/
D39: Other (Specify) | E39: /__/
A40: Ask this for each SERVICE WITH YES at q602 | B40: =B23+1 -> 605 | C40: How would you rate the [SERVICE] you have received? | F40: ="Ask this for each SERVICE WITH YES at q" & B15 -> Ask this for each SERVICE WITH YES at q603
E41: 1. Excellent
E42: 2. Good
E43: 3. Fair
...
