Workbook

Sheet Table 1 Universe
C1: =RIGHT(SUBSTITUTE(universe!C1,"_"," "),LEN(SUBSTITUTE(universe!C1,"_"," "))-1) -> Manufacturing | D1: =RIGHT(SUBSTITUTE(universe!D1,"_"," "),LEN(SUBSTITUTE(universe!D1,"_"," "))-1) -> Services | E1: Unknown | F1: Grand Total
A2: =universe!A2 -> Maldives | B2: =LEFT(universe!B2,FIND(")",universe!B2)) -> Small (5-19) | C2: =universe!C2 -> 302 | D2: =universe!D2 -> 4123 | E2: =universe!E2 -> 1 | F2: =SUM(C2:E5) -> 9084
A3: =universe!A3 -> Maldives | B3: =LEFT(universe!B3,FIND(")",universe!B3)) -> Medium (20-99) | C3: =universe!C3 -> 42 | D3: =universe!D3 -> 1263 | E3: =universe!E3 -> 0
A4: Maldives | B4: Large (100 or more) | C4: =universe!C4 -> 31 | D4: =universe!D4 -> 2241 | E4: =universe!E4 -> 0
A5: =universe!A4 -> Maldives | B5: Unknown | C5: =universe!C5 -> 99 | D5: =universe!D5 -> 982 | E5: =universe!E4 -> 0
C6: =SUM(C2:C5) -> 474 | D6: =SUM(D2:D5) -> 8609 | E6: =SUM(E2:E5) -> 1 | F6: =SUM(F2:F5) -> 9084
A7: Note: The universe table has been adjusted so that, for each cell, the final value corresponds to the greater of the reported universe count and the sample frame count.

Sheet Table 2 Frame
C1: =RIGHT(SUBSTITUTE('frame fresh and panel'!C1,"_"," "),LEN(SUBSTITUTE('frame fresh and panel'!C1,"_"," "))-1) -> Manufacturing | D1: =RIGHT(SUBSTITUTE('frame fresh and panel'!D1,"_"," "),LEN(SUBSTITUTE('frame fresh and panel'!D1,"_"," "))-1) -> Services | E1: Unknown | F1: Grand Total
A2: ='frame fresh and panel'!A2 -> Maldives | B2: =LEFT('frame fresh and panel'!B2,FIND(")",'frame fresh and panel'!B2)) -> Small (5-19) | C2: ='frame fresh and panel'!C2 -> 145 | D2: ='frame fresh and panel'!D2 -> 4123 | E2: ='frame fresh and panel'!E2 -> 1 | F2: =SUM(C2:E5) -> 9123
A3: ='frame fresh and panel'!A3 -> Maldives | B3: =LEFT('frame fresh and panel'!B3,FIND(")",'frame fresh and panel'!B3)) -> Medium (20-99) | C3: ='frame fresh and panel'!C3 -> 28 | D3: ='frame fresh and panel'!D3 -> 1263 | E3: ='frame fresh and panel'!E3 -> 0
A4: ='frame fresh and panel'!A3 -> Maldives | B4: Large (100 or more) | C4: ='frame fresh and panel'!C3 -> 28 | D4: ='frame fresh and panel'!D3 -> 1263 | E4: ='frame fresh and panel'!E3 -> 0
A5: ='frame fresh and panel'!A4 -> Maldives | B5: Unknown | C5: ='frame fresh and panel'!C4 -> 31 | D5: ='frame fresh and panel'!D4 -> 2241 | E5: ='frame fresh and panel'!E4 -> 0
C6: =SUM(C2:C5) -> 232 | D6: =SUM(D2:D5) -> 8890 | E6: =SUM(E2:E5) -> 1 | F6: =SUM(F2:F5) -> 9123
A7: Source: MoEDT, MIRA, MPO

Sheet Table 3 Original Survey Design
C1: =RIGHT(SUBSTITUTE('original survey design'!C1,"_"," "),LEN(SUBSTITUTE('original survey design'!C1,"_"," "))-1) -> Manufacturing | D1: =RIGHT(SUBSTITUTE('original survey design'!D1,"_"," "),LEN(SUBSTITUTE('original survey design'!D1,"_"," "))-1) -> Services | E1: =RIGHT(SUBSTITUTE('original survey design'!E1,"_"," "),LEN(SUBSTITUTE('original survey design'!E1,"_"," "))-1) -> Unknown | F1: Grand Total
A2: ='original survey design'!A2 -> Maldives | B2: =LEFT('original survey design'!B2,FIND(")",'original survey design'!B2)) -> Small (5-19) | C2: ='original survey design'!C2 -> 26 | D2: ='original survey design'!D2 -> 25 | E2: ='original survey design'!E2 -> 1 | F2: =SUM(C2:E5) -> 150
A3: ='original survey design'!A3 -> Maldives | B3: =LEFT('original survey design'!B3,FIND(")",'original survey design'!B3)) -> Medium (20-99) | C3: ='original survey design'!C3 -> 9 | D3: ='original survey design'!D3 -> 21 | E3: ='original survey design'!E3 -> 0
A4: ='original survey design'!A4 -> Maldives | B4: =LEFT('original survey design'!B4,FIND(")",'original survey design'!B4)) -> Large (100+) | C4: ='original survey design'!C4 -> 10 | D4: ='original survey design'!D4 -> 20 | E4: ='original survey design'!E4 -> 0
A5: ='original survey design'!A5 -> Maldives | B5: Unknown | C5: ='original survey design'!C5 -> 25 | D5: ='original survey design'!D5 -> 4 | E5: ='original survey design'!E5 -> 9
C6: =SUM(C2:C5) -> 70 | D6: =SUM(D2:D5) -> 70 | E6: =SUM(E2:E5) -> 10 | F6: =SUM(F2:F4) -> 150

Sheet Table 4 Response Outcomes
D2: Totals | E2: Rates relative to total contacted
B3: Overall | C3: Contacts available in frame | D3: 8957
C4: Issued | D4: 1812
C5: Contacted | D5: 1786
B6: Screening phase | C6: Eligibles | D6: 190 | E6: =D6/D$5 -> 0.10638298
C7: Screener refusals | D7: 414 | E7: =D7/D$5 -> 0.23180291
C8: Assumed eligibles | D8: 604 | E8: =D8/D$5 -> 0.33818589
C9: Ineligible + out of target | D9: 869 | E9: =D9/D$5 -> 0.48656215
C10: Unobtainables | D10: 313 | E10: =D10/D$5 -> 0.17525196
B11: Interview phase | C11: Interview refusals | D11: 30 | E11: =D11/D$5 -> 0.016797312
B12: (only if eligible) | C12: Complete interviews | D12: 154 | E12: =D12/D$5 -> 0.086226204

Sheet Table 5 Survey Yield Rates
C2: Stratification | D2: Yield | E2: Survey response rate | F2: Frame quality
B3: Panel | C3: Fresh | D3: =VLOOKUP($C3,'yield calculation'!$C:$F,2,FALSE) -> 0.086226203 | E3: =VLOOKUP($C3,'yield calculation'!$C:$F,3,FALSE) -> 0.25496688 | F3: =VLOOKUP($C3,'yield calculation'!$C:$F,4,FALSE) -> 0.33818588
B4: Size | C4: Small (5-19) | D4: =VLOOKUP($C4,'yield calculation'!$C:$F,2,FALSE) -> 0.11638955 | E4: =VLOOKUP($C4,'yield calculation'!$C:$F,3,FALSE) -> 0.31012657 | F4: =VLOOKUP($C4,'yield calculation'!$C:$F,4,FALSE) -> 0.37529692
C5: Medium (20-99) | D5: =VLOOKUP($C5,'yield calculation'!$C:$F,2,FALSE) -> 0.13973799 | E5: =VLOOKUP($C5,'yield calculation'!$C:$F,3,FALSE) -> 0.27350429 | F5: =VLOOKUP($C5,'yield calculation'!$C:$F,4,FALSE) -> 0.51091701
C6: Large (100 or more) | D6: =VLOOKUP($C6,'yield calculation'!$C:$F,2,FALSE) -> 0.12251656 | E6: =VLOOKUP($C6,'yield calculation'!$C:$F,3,FALSE) -> 0.17370892 | F6: =VLOOKUP($C6,'yield calculation'!$C:$F,4,FALSE) -> 0.70529801
C7: Unknown | D7: =VLOOKUP($C7,'yield calculation'!$C:$F,2,FALSE) -> 0.043165468 | E7: =VLOOKUP($C7,'yield calculation'!$C:$F,3,FALSE) -> 0.31034482 | F7: =VLOOKUP($C7,'yield calculation'!$C:$F,4,FALSE) -> 0.13908873
B8: Region | C8: Maldives | D8: =VLOOKUP($C8,'yield calculation'!$C:$F,2,FALSE) -> 0.086226203 | E8: =VLOOKUP($C8,'yield calculation'!$C:$F,3,FALSE) -> 0.25496688 | F8: =VLOOKUP($C8,'yield calculation'!$C:$F,4,FALSE) -> 0.33818588
B9: Sector | C9: Manufacturing | D9: =VLOOKUP($C9,'yield calculation'!$C:$F,2,FALSE) -> 0.10231023 | E9: =VLOOKUP($C9,'yield calculation'!$C:$F,3,FALSE) -> 0.29245284 | F9: =VLOOKUP($C9,'yield calculation'!$C:$F,4,FALSE) -> 0.34983498
C10: Services | D10: =VLOOKUP($C10,'yield calculation'!$C:$F,2,FALSE) -> 0.082058415 | E10: =VLOOKUP($C10,'yield calculation'!$C:$F,3,FALSE) -> 0.24532224 | F10: =VLOOKUP($C10,'yield calculation'!$C:$F,4,FALSE) -> 0.33449236
C11: Unknown | D11: =VLOOKUP($C11,'yield calculation'!$C:$F,2,FALSE) -> 0.043165468 | E11: =VLOOKUP($C11,'yield calculation'!$C:$F,3,FALSE) -> 0.31034482 | F11: =VLOOKUP($C11,'yield calculation'!$C:$F,4,FALSE) -> 0.13908873
B12: Overall | C12: Maldives 2025 | D12: =VLOOKUP($C12,'yield calculation'!$C:$F,2,FALSE) -> 0.086226203 | E12: =VLOOKUP($C12,'yield calculation'!$C:$F,3,FALSE) -> 0.25496688 | F12: =VLOOKUP($C12,'yield calculation'!$C:$F,4,FALSE) -> 0.33818588
B13: Notes: the rates are calculated as defined in Section III.4

Sheet Table 6 Achieved Total Sample 
C1: =RIGHT(SUBSTITUTE('achieved fresh and panel'!C1,"_"," "),LEN(SUBSTITUTE('achieved fresh and panel'!C1,"_"," "))-1) -> Manufacturing | D1: =RIGHT(SUBSTITUTE('achieved fresh and panel'!D1,"_"," "),LEN(SUBSTITUTE('achieved fresh and panel'!D1,"_"," "))-1) -> Services | E1: =RIGHT(SUBSTITUTE('achieved fresh and panel'!F1,"_"," "),LEN(SUBSTITUTE('achieved fresh and panel'!F1,"_"," "))-1) -> Grand Total
A2: ='achieved fresh and panel'!A2 -> Maldives | B2: =LEFT('achieved fresh and panel'!B2,FIND(")",'achieved fresh and panel'!B2)) -> Small (5-19) | C2: ='achieved fresh and panel'!C2 -> 16 | D2: ='achieved fresh and panel'!D2 -> 85 | E2: =SUM(C2:D4) -> 154
A3: ='achieved fresh and panel'!A3 -> Maldives | B3: =LEFT('achieved fresh and panel'!B3,FIND(")",'achieved fresh and panel'!B3)) -> Medium (20-99) | C3: ='achieved fresh and panel'!C3 -> 6 | D3: ='achieved fresh and panel'!D3 -> 29
A4: ='achieved fresh and panel'!A4 -> Maldives | B4: =LEFT('achieved fresh and panel'!B4,FIND(")",'achieved fresh and panel'!B4)) -> Large (100 or more) | C4: ='achieved fresh and panel'!C4 -> 5 | D4: ='achieved fresh and panel'!D4 -> 13
C5: =SUM(C2:C4) -> 27 | D5: =SUM(D2:D4) -> 127 | E5: =SUM(E2:E4) -> 154

Sheet Table 7 Achieved Panel Sample
C1: =RIGHT(SUBSTITUTE('achieved panel'!C1,"_"," "),LEN(SUBSTITUTE('achieved panel'!C1,"_"," "))-1) -> Manufacturing | D1: =RIGHT(SUBSTITUTE('achieved panel'!D1,"_"," "),LEN(SUBSTITUTE('achieved panel'!D1,"_"," "))-1) -> Services | E1: =RIGHT(SUBSTITUTE('achieved panel'!F1,"_"," "),LEN(SUBSTITUTE('achieved panel'!F1,"_"," "))-1) -> Grand Total
A2: ='achieved panel'!A2 -> Maldives | B2: =LEFT('achieved panel'!B2,FIND(")",'achieved panel'!B2)) -> Small (5-19) | C2: ='achieved panel'!C2 -> 0 | D2: ='achieved panel'!D2 -> 0 | E2: =SUM(C2:D4) -> 0
A3: ='achieved panel'!A3 -> Maldives | B3: =LEFT('achieved panel'!B3,FIND(")",'achieved panel'!B3)) -> Medium (20-99) | C3: ='achieved panel'!C3 -> 0 | D3: ='achieved panel'!D3 -> 0
A4: ='achieved panel'!A4 -> Maldives | B4: =LEFT('achieved panel'!B4,FIND(")",'achieved panel'!B4)) -> Large (100 or more) | C4: ='achieved panel'!C4 -> 0 | D4: ='achieved panel'!D4 -> 0
C5: =SUM(C2:C4) -> 0 | D5: =SUM(D2:D4) -> 0 | E5: =SUM(E2:E4) -> 0

Sheet Table 7 Universe Estimates
C1: =RIGHT(SUBSTITUTE(universe_weak!C1,"_"," "),LEN(SUBSTITUTE(universe_weak!C1,"_"," "))-1) -> Manufacturing | D1: =RIGHT(SUBSTITUTE(universe_weak!D1,"_"," "),LEN(SUBSTITUTE(universe_weak!D1,"_"," "))-1) -> Services | E1: =RIGHT(SUBSTITUTE(universe_weak!E1,"_"," "),LEN(SUBSTITUTE(universe_weak!E1,"_"," "))-1) -> Grand Total
A2: =universe_weak!A2 -> Maldives | B2: =LEFT(universe_weak!B2,FIND(")",universe_weak!B2)) -> Small (5-19) | C2: =universe_weak!C2 -> 269.26031 | D2: =universe_weak!D2 -> 5512.3403 | E2: =SUM(C2:D4) -> 9127
A3: =universe_weak!A3 -> Maldives | B3: =LEFT(universe_weak!B3,FIND(")",universe_weak!B3)) -> Medium (20-99) | C3: =universe_weak!C3 -> 246.43333 | D3: =universe_weak!D3 -> 2022.7297
A4: =universe_weak!A4 -> Maldives | B4: =LEFT(universe_weak!B4,FIND(")",universe_weak!B4)) -> Large (100 or more) | C4: =universe_weak!C4 -> 219.22726 | D4: =universe_weak!D4 -> 857.00903
C5: =SUM(C2:C4) -> 734.92091 | D5: =SUM(D2:D4) -> 8392.0791 | E5: =SUM(E2:E4) -> 9127

Sheet Table 9 Median Universe Est
C1: =RIGHT(SUBSTITUTE(universe_median!C1,"_"," "),LEN(SUBSTITUTE(universe_median!C1,"_"," "))-1) -> Manufacturing | D1: =RIGHT(SUBSTITUTE(universe_median!D1,"_"," "),LEN(SUBSTITUTE(universe_median!D1,"_"," "))-1) -> Services | E1: =RIGHT(SUBSTITUTE(universe_median!E1,"_"," "),LEN(SUBSTITUTE(universe_median!E1,"_"," "))-1) -> Grand Total
A2: =universe_median!A2 -> Maldives | B2: =LEFT(universe_median!B2,FIND(")",universe_median!B2)) -> Small (5-19) | C2: =universe_median!C2 -> 269.26031 | D2: =universe_median!D2 -> 5512.3403 | E2: =SUM(C2:D4) -> 9127
A3: =universe_median!A3 -> Maldives | B3: =LEFT(universe_median!B3,FIND(")",universe_median!B3)) -> Medium (20-99) | C3: =universe_median!C3 -> 246.43333 | D3: =universe_median!D3 -> 2022.7297
A4: =universe_median!A4 -> Maldives | B4: =LEFT(universe_median!B4,FIND(")",universe_median!B4)) -> Large (100 or more) | C4: =universe_median!C4 -> 219.22726 | D4: =universe_median!D4 -> 857.00903
C5: =SUM(C2:C4) -> 734.92091 | D5: =SUM(D2:D4) -> 8392.0791 | E5: =SUM(E2:E4) -> 9127

Sheet Table 10 Strict Universe Est
C1: =RIGHT(SUBSTITUTE(universe_strict!C1,"_"," "),LEN(SUBSTITUTE(universe_strict!C1,"_"," "))-1) -> Manufacturing | D1: =RIGHT(SUBSTITUTE(universe_strict!D1,"_"," "),LEN(SUBSTITUTE(universe_strict!D1,"_"," "))-1) -> Services | E1: =RIGHT(SUBSTITUTE(universe_strict!E1,"_"," "),LEN(SUBSTITUTE(universe_strict!E1,"_"," "))-1) -> Grand Total
A2: =universe_strict!A2 -> Maldives | B2: =LEFT(universe_strict!B2,FIND(")",universe_strict!B2)) -> Small (5-19) | C2: =universe_strict!C2 -> 269.26031 | D2: =universe_strict!D2 -> 5512.3403 | E2: =SUM(C2:D4) -> 9127
A3: =universe_strict!A3 -> Maldives | B3: =LEFT(universe_strict!B3,FIND(")",universe_strict!B3)) -> Medium (20-99) | C3: =universe_strict!C3 -> 246.43333 | D3: =universe_strict!D3 -> 2022.7297
A4: =universe_strict!A4 -> Maldives | B4: =LEFT(universe_strict!B4,FIND(")",universe_strict!B4)) -> Large (100 or more) | C4: =universe_strict!C4 -> 219.22726 | D4: =universe_strict!D4 -> 857.00903
C5: =SUM(C2:C4) -> 734.92091 | D5: =SUM(D2:D4) -> 8392.0791 | E5: =SUM(E2:E4) -> 9127

Sheet Table 8 Item Response Rates
C2: Screener/Interview | D2: d2 | E2: l1 | F2: n2a | G2: all TFP variables
B3: Panel | C3: Fresh | D3: =VLOOKUP($C3,'item response'!$C:$G,2,FALSE) -> 0.90909094 | E3: =VLOOKUP($C3,'item response'!$C:$G,3,FALSE) -> 1 | F3: =VLOOKUP($C3,'item response'!$C:$G,4,FALSE) -> 0.87662339 | G3: =IF(VLOOKUP($C3,'item response'!$C:$G,5,FALSE)="",NA(),VLOOKUP($C3,'item response'!$C:$G,5,FALSE)) -> 0.71428573
B4: Size | C4: Small (5-19) | D4: =VLOOKUP($C4,'item response'!$C:$G,2,FALSE) -> 0.96039605 | E4: =VLOOKUP($C4,'item response'!$C:$G,3,FALSE) -> 1 | F4: =VLOOKUP($C4,'item response'!$C:$G,4,FALSE) -> 0.9207921 | G4: =IF(VLOOKUP($C4,'item response'!$C:$G,5,FALSE)="",NA(),VLOOKUP($C4,'item response'!$C:$G,5,FALSE)) -> 0.71428573
C5: Medium (20-99) | D5: =VLOOKUP($C5,'item response'!$C:$G,2,FALSE) -> 0.82857144 | E5: =VLOOKUP($C5,'item response'!$C:$G,3,FALSE) -> 1 | F5: =VLOOKUP($C5,'item response'!$C:$G,4,FALSE) -> 0.80000001 | G5: =IF(VLOOKUP($C5,'item response'!$C:$G,5,FALSE)="",NA(),VLOOKUP($C5,'item response'!$C:$G,5,FALSE)) -> 1
C6: Large (100 or more) | D6: =VLOOKUP($C6,'item response'!$C:$G,2,FALSE) -> 0.77777779 | E6: =VLOOKUP($C6,'item response'!$C:$G,3,FALSE) -> 1 | F6: =VLOOKUP($C6,'item response'!$C:$G,4,FALSE) -> 0.77777779 | G6: =IF(VLOOKUP($C6,'item response'!$C:$G,5,FALSE)="",NA(),VLOOKUP($C6,'item response'!$C:$G,5,FALSE)) -> 0.5
B7: Region | C7: Maldives | D7: =VLOOKUP($C7,'item response'!$C:$G,2,FALSE) -> 0.90909094 | E7: =VLOOKUP($C7,'item response'!$C:$G,3,FALSE) -> 1 | F7: =VLOOKUP($C7,'item response'!$C:$G,4,FALSE) -> 0.87662339 | G7: =IF(VLOOKUP($C7,'item response'!$C:$G,5,FALSE)="",NA(),VLOOKUP($C7,'item response'!$C:$G,5,FALSE)) -> 0.71428573
B8: Sector | C8: Manufacturing | D8: =VLOOKUP($C8,'item response'!$C:$G,2,FALSE) -> 1 | E8: =VLOOKUP($C8,'item response'!$C:$G,3,FALSE) -> 1 | F8: =VLOOKUP($C8,'item response'!$C:$G,4,FALSE) -> 0.92592591 | G8: =IF(VLOOKUP($C8,'item response'!$C:$G,5,FALSE)="",NA(),VLOOKUP($C8,'item response'!$C:$G,5,FALSE)) -> 0.71428573
C9: Services | D9: =VLOOKUP($C9,'item response'!$C:$G,2,FALSE) -> 0.88976377 | E9: =VLOOKUP($C9,'item response'!$C:$G,3,FALSE) -> 1 | F9: =VLOOKUP($C9,'item response'!$C:$G,4,FALSE) -> 0.86614174 | G9: =IF(VLOOKUP($C9,'item response'!$C:$G,5,FALSE)=0,"N/A",VLOOKUP($C9,'item response'!$C:$G,5,FALSE)) -> N/A
B10: Overall | C10: Maldives 2025 | D10: =VLOOKUP($C10,'item response'!$C:$G,2,FALSE) -> 0.90909094 | E10: =VLOOKUP($C10,'item response'!$C:$G,3,FALSE) -> 1 | F10: =VLOOKUP($C10,'item response'!$C:$G,4,FALSE) -> 0.87662339 | G10: =VLOOKUP($C10,'item response'!$C:$G,5,FALSE) -> 0.71428573
B11: Notes: the rates are calculated as follows. The number of responses with informative content in the respective variable (or combination of variables in the case of TFP) is divided by the same number plus the number of responses that are "don't know" (code -9) or refusal (code -8).

Sheet universe
A1: stratificationregionname | B1: stratificationsizename | C1: _Manufacturing | D1: _Services | E1: _Unknown
A2: Maldives | B2: Small (5-19) | C2: 302 | D2: 4123 | E2: 1
A3: Maldives | B3: Medium (20-99) | C3: 42 | D3: 1263 | E3: 0
A4: Maldives | B4: Large (100+) | C4: 31 | D4: 2241 | E4: 0
A5: Maldives | B5: Unknown | C5: 99 | D5: 982 | E5: 44

Sheet frame fresh and panel
A1: stratificationregionname | B1: stratificationsizename | C1: _Manufacturing | D1: _Services | E1: _Unknown
A2: Maldives | B2: Small (5-19) | C2: 145 | D2: 4123 | E2: 1
A3: Maldives | B3: Medium (20-99) | C3: 28 | D3: 1263
A4: Maldives | B4: Large (100 or more) | C4: 31 | D4: 2241
A5: Maldives | B5: Unknown | C5: 99 | D5: 982 | E5: 44

Sheet original survey design
A1: stratificationregionname | B1: stratificationsizename | C1: _Manufacturing | D1: _Services | E1: _Unknown
A2: Maldives | B2: Small (5-19) | C2: 26 | D2: 25 | E2: 1
A3: Maldives | B3: Medium (20-99) | C3: 9 | D3: 21 | E3: 0
A4: Maldives | B4: Large (100+) | C4: 10 | D4: 20 | E4: 0
A5: Maldives | B5: Unknown | C5: 25 | D5: 4 | E5: 9

Sheet yield calculation
A1: Survey | B1: Cell | C1: Name | D1: Yield | E1: Survey_response_rate | F1: Frame_quality
A2: Maldives 2025 | B2: Fresh/Panel | C2: Fresh | D2: 0.086226203 | E2: 0.25496688 | F2: 0.33818588
A3: Maldives 2025 | B3: Size | C3: Small (5-19) | D3: 0.11638955 | E3: 0.31012657 | F3: 0.37529692
A4: Maldives 2025 | B4: Size | C4: Medium (20-99) | D4: 0.13973799 | E4: 0.27350429 | F4: 0.51091701
A5: Maldives 2025 | B5: Size | C5: Large (100 or more) | D5: 0.12251656 | E5: 0.17370892 | F5: 0.70529801
A6: Maldives 2025 | B6: Size | C6: Unknown | D6: 0.043165468 | E6: 0.31034482 | F6: 0.13908873
A7: Maldives 2025 | B7: Region | C7: Maldives | D7: 0.086226203 | E7: 0.25496688 | F7: 0.33818588
A8: Maldives 2025 | B8: Sector | C8: Manufacturing | D8: 0.10231023 | E8: 0.29245284 | F8: 0.34983498
A9: Maldives 2025 | B9: Sector | C9: Services | D9: 0.082058415 | E9: 0.24532224 | F9: 0.33449236
A10: Maldives 2025 | B10: Sector | C10: Unknown | D10: 0.11111111 | E10: 0.29411766 | F10: 0.37777779
A11: Maldives 2025 | B11: Maldives 2025 | C11: Maldives 2025 | D11: 0.086226203 | E11: 0.25496688 | F11: 0.33818588

Sheet achieved fresh and panel
A1: a3ax | B1: sizex | C1: _Manufacturing | D1: _Services | E1: stratificationregioncode | F1: _Grand_Total
A2: Maldives | B2: Small (5-19) | C2: 16 | D2: 85 | E2: 1
A3: Maldives | B3: Medium (20-99) | C3: 6 | D3: 29 | E3: 1
A4: Maldives | B4: Large (100 or more) | C4: 5 | D4: 13 | E4: 1

Sheet achieved panel
A1: a3ax | B1: sizex | C1: _Manufacturing | D1: _Services | E1: stratificationregioncode | F1: _Grand_Total
A2: Maldives | B2: Small (5-19) | E2: 1
A3: Maldives | B3: Medium (20-99) | E3: 1
A4: Maldives | B4: Large (100 or more) | E4: 1

Sheet universe_strict
A1: a3ax | B1: sizex | C1: _Manufacturing | D1: _Services | E1: _Grand_Total
A2: Maldives | B2: Small (5-19) | C2: 269.26031 | D2: 5512.3403
A3: Maldives | B3: Medium (20-99) | C3: 246.43333 | D3: 2022.7297
A4: Maldives | B4: Large (100 or more) | C4: 219.22726 | D4: 857.00903

Sheet universe_median
A1: a3ax | B1: sizex | C1: _Manufacturing | D1: _Services | E1: _Grand_Total
A2: Maldives | B2: Small (5-19) | C2: 269.26031 | D2: 5512.3403
A3: Maldives | B3: Medium (20-99) | C3: 246.43333 | D3: 2022.7297
A4: Maldives | B4: Large (100 or more) | C4: 219.22726 | D4: 857.00903

Sheet universe_weak
A1: a3ax | B1: sizex | C1: _Manufacturing | D1: _Services | E1: _Grand_Total
A2: Maldives | B2: Small (5-19) | C2: 269.26031 | D2: 5512.3403
A3: Maldives | B3: Medium (20-99) | C3: 246.43333 | D3: 2022.7297
A4: Maldives | B4: Large (100 or more) | C4: 219.22726 | D4: 857.00903

Sheet item response
A1: Survey | B1: Cell | C1: Name | D1: rr_d2 | E1: rr_l1 | F1: rr_n2a | G1: rr_TFP
A2: Maldives 2025 | B2: Fresh/Panel | C2: Fresh | D2: 0.90909094 | E2: 1 | F2: 0.87662339 | G2: 0.71428573
A3: Maldives 2025 | B3: Size | C3: Small (5-19) | D3: 0.96039605 | E3: 1 | F3: 0.9207921 | G3: 0.71428573
A4: Maldives 2025 | B4: Size | C4: Medium (20-99) | D4: 0.82857144 | E4: 1 | F4: 0.80000001 | G4: 1
A5: Maldives 2025 | B5: Size | C5: Large (100 or more) | D5: 0.77777779 | E5: 1 | F5: 0.77777779 | G5: 0.5
A6: Maldives 2025 | B6: Region | C6: Maldives | D6: 0.90909094 | E6: 1 | F6: 0.87662339 | G6: 0.71428573
A7: Maldives 2025 | B7: Sector | C7: Manufacturing | D7: 1 | E7: 1 | F7: 0.92592591 | G7: 0.71428573
A8: Maldives 2025 | B8: Sector | C8: Services | D8: 0.88976377 | E8: 1 | F8: 0.86614174
A9: Maldives 2025 | B9: Maldives 2025 | C9: Maldives 2025 | D9: 0.90909094 | E9: 1 | F9: 0.87662339 | G9: 0.71428573
