Workbook

Sheet Table 1 Universe
C1: =RIGHT(SUBSTITUTE(universe!C1,"_"," "),LEN(SUBSTITUTE(universe!C1,"_"," "))-1) -> Manufacturing | D1: =RIGHT(SUBSTITUTE(universe!D1,"_"," "),LEN(SUBSTITUTE(universe!D1,"_"," "))-1) -> Retail | E1: =RIGHT(SUBSTITUTE(universe!E1,"_"," "),LEN(SUBSTITUTE(universe!E1,"_"," "))-1) -> Other Services | F1: =RIGHT(SUBSTITUTE(universe!F1,"_"," "),LEN(SUBSTITUTE(universe!F1,"_"," "))-1) -> Grand Total
A2: =universe!A2 -> Greater Guatemala City | B2: =LEFT(universe!B2,FIND(")",universe!B2)) -> Small (5-19) | C2: =universe!C2 -> 249 | D2: =universe!D2 -> 443 | E2: =universe!E2 -> 1695 | F2: =SUM(C2:E4) -> 4597
A3: =universe!A3 -> Greater Guatemala City | B3: =LEFT(universe!B3,FIND(")",universe!B3)) -> Medium (20-99) | C3: =universe!C3 -> 289 | D3: =universe!D3 -> 242 | E3: =universe!E3 -> 1072
A4: =universe!A4 -> Greater Guatemala City | B4: =LEFT(universe!B4,FIND(")",universe!B4)) -> Large (100 or more) | C4: =universe!C4 -> 200 | D4: =universe!D4 -> 62 | E4: =universe!E4 -> 345
A5: =universe!A5 -> Rest of the country | B5: =LEFT(universe!B5,FIND(")",universe!B5)) -> Small (5-19) | C5: =universe!C5 -> 209 | D5: =universe!D5 -> 258 | E5: =universe!E5 -> 800 | F5: =SUM(C5:E7) -> 2509
A6: =universe!A6 -> Rest of the country | B6: =LEFT(universe!B6,FIND(")",universe!B6)) -> Medium (20-99) | C6: =universe!C6 -> 284 | D6: =universe!D6 -> 151 | E6: =universe!E6 -> 472
A7: =universe!A7 -> Rest of the country | B7: =LEFT(universe!B7,FIND(")",universe!B7)) -> Large (100 or more) | C7: =universe!C7 -> 171 | D7: =universe!D7 -> 20 | E7: =universe!E7 -> 144
C8: =SUM(C2:C7) -> 1402 | D8: =SUM(D2:D7) -> 1176 | E8: =SUM(E2:E7) -> 4528 | F8: =SUM(F2:F7) -> 7106
A9: Source:

Sheet Table 2 Frame
C1: =RIGHT(SUBSTITUTE('frame fresh and panel'!C1,"_"," "),LEN(SUBSTITUTE('frame fresh and panel'!C1,"_"," "))-1) -> Manufacturing | D1: =RIGHT(SUBSTITUTE('frame fresh and panel'!D1,"_"," "),LEN(SUBSTITUTE('frame fresh and panel'!D1,"_"," "))-1) -> Retail | E1: =RIGHT(SUBSTITUTE('frame fresh and panel'!E1,"_"," "),LEN(SUBSTITUTE('frame fresh and panel'!E1,"_"," "))-1) -> Other Services | F1: =RIGHT(SUBSTITUTE('frame fresh and panel'!F1,"_"," "),LEN(SUBSTITUTE('frame fresh and panel'!F1,"_"," "))-1) -> Grand Total
A2: ='frame fresh and panel'!A2 -> Greater Guatemala City | B2: =LEFT('frame fresh and panel'!B2,FIND(")",'frame fresh and panel'!B2)) -> Small (5-19) | C2: ='frame fresh and panel'!C2 -> 292 | D2: ='frame fresh and panel'!D2 -> 469 | E2: ='frame fresh and panel'!E2 -> 1725 | F2: =SUM(C2:E4) -> 4864
A3: ='frame fresh and panel'!A3 -> Greater Guatemala City | B3: =LEFT('frame fresh and panel'!B3,FIND(")",'frame fresh and panel'!B3)) -> Medium (20-99) | C3: ='frame fresh and panel'!C3 -> 320 | D3: ='frame fresh and panel'!D3 -> 257 | E3: ='frame fresh and panel'!E3 -> 1106
A4: ='frame fresh and panel'!A4 -> Greater Guatemala City | B4: =LEFT('frame fresh and panel'!B4,FIND(")",'frame fresh and panel'!B4)) -> Large (100 or more) | C4: ='frame fresh and panel'!C4 -> 248 | D4: ='frame fresh and panel'!D4 -> 68 | E4: ='frame fresh and panel'!E4 -> 379
A5: ='frame fresh and panel'!A5 -> Rest of the country | B5: =LEFT('frame fresh and panel'!B5,FIND(")",'frame fresh and panel'!B5)) -> Small (5-19) | C5: ='frame fresh and panel'!C5 -> 219 | D5: ='frame fresh and panel'!D5 -> 271 | E5: ='frame fresh and panel'!E5 -> 822 | F5: =SUM(C5:E7) -> 2587
A6: ='frame fresh and panel'!A6 -> Rest of the country | B6: =LEFT('frame fresh and panel'!B6,FIND(")",'frame fresh and panel'!B6)) -> Medium (20-99) | C6: ='frame fresh and panel'!C6 -> 290 | D6: ='frame fresh and panel'!D6 -> 160 | E6: ='frame fresh and panel'!E6 -> 484
A7: ='frame fresh and panel'!A7 -> Rest of the country | B7: =LEFT('frame fresh and panel'!B7,FIND(")",'frame fresh and panel'!B7)) -> Large (100 or more) | C7: ='frame fresh and panel'!C7 -> 173 | D7: ='frame fresh and panel'!D7 -> 21 | E7: ='frame fresh and panel'!E7 -> 147
C8: =SUM(C2:C7) -> 1542 | D8: =SUM(D2:D7) -> 1246 | E8: =SUM(E2:E7) -> 4663 | F8: =SUM(F2:F7) -> 7451
A9: Source:

Sheet Table 3 Original Survey Design
C1: =RIGHT(SUBSTITUTE('original survey design'!C1,"_"," "),LEN(SUBSTITUTE('original survey design'!C1,"_"," "))-1) -> Manufacturing | D1: =RIGHT(SUBSTITUTE('original survey design'!D1,"_"," "),LEN(SUBSTITUTE('original survey design'!D1,"_"," "))-1) -> Retail | E1: =RIGHT(SUBSTITUTE('original survey design'!E1,"_"," "),LEN(SUBSTITUTE('original survey design'!E1,"_"," "))-1) -> Other Services | F1: =RIGHT(SUBSTITUTE('original survey design'!F1,"_"," "),LEN(SUBSTITUTE('original survey design'!F1,"_"," "))-1) -> Grand Total
A2: ='original survey design'!A2 -> Greater Guatemala City | B2: =LEFT('original survey design'!B2,FIND(")",'original survey design'!B2)) -> Small (5-19) | C2: ='original survey design'!C2 -> 14 | D2: ='original survey design'!D2 -> 30 | E2: ='original survey design'!E2 -> 30 | F2: =SUM(C2:E4) -> 218
A3: ='original survey design'!A3 -> Greater Guatemala City | B3: =LEFT('original survey design'!B3,FIND(")",'original survey design'!B3)) -> Medium (20-99) | C3: ='original survey design'!C3 -> 19 | D3: ='original survey design'!D3 -> 27 | E3: ='original survey design'!E3 -> 27
A4: ='original survey design'!A4 -> Greater Guatemala City | B4: =LEFT('original survey design'!B4,FIND(")",'original survey design'!B4)) -> Large (100 or more) | C4: ='original survey design'!C4 -> 30 | D4: ='original survey design'!D4 -> 11 | E4: ='original survey design'!E4 -> 30
A5: ='original survey design'!A5 -> Rest of the country | B5: =LEFT('original survey design'!B5,FIND(")",'original survey design'!B5)) -> Small (5-19) | C5: ='original survey design'!C5 -> 12 | D5: ='original survey design'!D5 -> 25 | E5: ='original survey design'!E5 -> 9 | F5: =SUM(C5:E7) -> 142
A6: ='original survey design'!A6 -> Rest of the country | B6: =LEFT('original survey design'!B6,FIND(")",'original survey design'!B6)) -> Medium (20-99) | C6: ='original survey design'!C6 -> 19 | D6: ='original survey design'!D6 -> 23 | E6: ='original survey design'!E6 -> 5
A7: ='original survey design'!A7 -> Rest of the country | B7: =LEFT('original survey design'!B7,FIND(")",'original survey design'!B7)) -> Large (100 or more) | C7: ='original survey design'!C7 -> 26 | D7: ='original survey design'!D7 -> 4 | E7: ='original survey design'!E7 -> 19
C8: =SUM(C2:C7) -> 120 | D8: =SUM(D2:D7) -> 120 | E8: =SUM(E2:E7) -> 120 | F8: =SUM(F2:F7) -> 360

Sheet Table 4 Response Outcomes
D2: Totals | E2: Rates relative to total contacted
B3: Overall | C3: Contacts available in frame | D3: 7451
C4: Issued | D4: 4506
C5: Contacted | D5: 3876
B6: Screening phase | C6: Eligibles | D6: 693 | E6: =D6/D$5 -> 0.17879257
C7: Screener refusals | D7: 115 | E7: =D7/D$5 -> 0.029669763
C8: Assumed eligibles | D8: 918 | E8: =D8/D$5 -> 0.23684211
C9: Ineligible + out of target | D9: 30 | E9: =D9/D$5 -> 0.0077399381
C10: Unobtainables | D10: 1998 | E10: =D10/D$5 -> 0.51547988
B11: Interview phase | C11: Interview refusals | D11: 60 | E11: =D11/D$5 -> 0.015479876
B12: (only if eligible) | C12: Complete interviews | D12: 183 | E12: =D12/D$5 -> 0.047213622

Sheet Table 5 Survey Yield Rates
C2: Stratification | D2: Yield | E2: Survey response rate | F2: Frame quality
B3: Panel | C3: Fresh | D3: =VLOOKUP($C3,'yield calculation'!$C:$F,2,FALSE) -> 0.041631266 | E3: =VLOOKUP($C3,'yield calculation'!$C:$F,3,FALSE) -> 0.18283582 | F3: =VLOOKUP($C3,'yield calculation'!$C:$F,4,FALSE) -> 0.22769754
C4: Panel | D4: =VLOOKUP($C4,'yield calculation'!$C:$F,2,FALSE) -> 0.10434783 | E4: =VLOOKUP($C4,'yield calculation'!$C:$F,3,FALSE) -> 0.31578946 | F4: =VLOOKUP($C4,'yield calculation'!$C:$F,4,FALSE) -> 0.33043477
B5: Size | C5: Small (5-19) | D5: =VLOOKUP($C5,'yield calculation'!$C:$F,2,FALSE) -> 0.049934298 | E5: =VLOOKUP($C5,'yield calculation'!$C:$F,3,FALSE) -> 0.23824452 | F5: =VLOOKUP($C5,'yield calculation'!$C:$F,4,FALSE) -> 0.20959264
C6: Medium (20-99) | D6: =VLOOKUP($C6,'yield calculation'!$C:$F,2,FALSE) -> 0.047799695 | E6: =VLOOKUP($C6,'yield calculation'!$C:$F,3,FALSE) -> 0.20999999 | F6: =VLOOKUP($C6,'yield calculation'!$C:$F,4,FALSE) -> 0.22761761
C7: Large (100 or more) | D7: =VLOOKUP($C7,'yield calculation'!$C:$F,2,FALSE) -> 0.042471044 | E7: =VLOOKUP($C7,'yield calculation'!$C:$F,3,FALSE) -> 0.14715719 | F7: =VLOOKUP($C7,'yield calculation'!$C:$F,4,FALSE) -> 0.28861004
B8: Region | C8: Greater Guatemala City | D8: =VLOOKUP($C8,'yield calculation'!$C:$F,2,FALSE) -> 0.054655872 | E8: =VLOOKUP($C8,'yield calculation'!$C:$F,3,FALSE) -> 0.21327014 | F8: =VLOOKUP($C8,'yield calculation'!$C:$F,4,FALSE) -> 0.2562753
C9: Rest of the country | D9: =VLOOKUP($C9,'yield calculation'!$C:$F,2,FALSE) -> 0.034139402 | E9: =VLOOKUP($C9,'yield calculation'!$C:$F,3,FALSE) -> 0.16842106 | F9: =VLOOKUP($C9,'yield calculation'!$C:$F,4,FALSE) -> 0.2027027
B10: Sector | C10: Manufacturing | D10: =VLOOKUP($C10,'yield calculation'!$C:$F,2,FALSE) -> 0.047770701 | E10: =VLOOKUP($C10,'yield calculation'!$C:$F,3,FALSE) -> 0.18575852 | F10: =VLOOKUP($C10,'yield calculation'!$C:$F,4,FALSE) -> 0.25716561
C11: Retail | D11: =VLOOKUP($C11,'yield calculation'!$C:$F,2,FALSE) -> 0.046728972 | E11: =VLOOKUP($C11,'yield calculation'!$C:$F,3,FALSE) -> 0.18835616 | F11: =VLOOKUP($C11,'yield calculation'!$C:$F,4,FALSE) -> 0.24808836
C12: Other Services | D12: =VLOOKUP($C12,'yield calculation'!$C:$F,2,FALSE) -> 0.047124047 | E12: =VLOOKUP($C12,'yield calculation'!$C:$F,3,FALSE) -> 0.22442244 | F12: =VLOOKUP($C12,'yield calculation'!$C:$F,4,FALSE) -> 0.20997921
B13: Overall | C13: Guatemala 2025 | D13: =VLOOKUP($C13,'yield calculation'!$C:$F,2,FALSE) -> 0.047213621 | E13: =VLOOKUP($C13,'yield calculation'!$C:$F,3,FALSE) -> 0.19934641 | F13: =VLOOKUP($C13,'yield calculation'!$C:$F,4,FALSE) -> 0.23684211
B14: Notes: the rates are calculated as defined in Section III.4

Sheet Table 6 Achieved Total Sample 
C1: =RIGHT(SUBSTITUTE('achieved fresh and panel'!C1,"_"," "),LEN(SUBSTITUTE('achieved fresh and panel'!C1,"_"," "))-1) -> Manufacturing | D1: =RIGHT(SUBSTITUTE('achieved fresh and panel'!D1,"_"," "),LEN(SUBSTITUTE('achieved fresh and panel'!D1,"_"," "))-1) -> Retail | E1: =RIGHT(SUBSTITUTE('achieved fresh and panel'!E1,"_"," "),LEN(SUBSTITUTE('achieved fresh and panel'!E1,"_"," "))-1) -> Other Services | F1: =RIGHT(SUBSTITUTE('achieved fresh and panel'!F1,"_"," "),LEN(SUBSTITUTE('achieved fresh and panel'!F1,"_"," "))-1) -> Grand Total
A2: ='achieved fresh and panel'!A2 -> Greater Guatemala City | B2: =LEFT('achieved fresh and panel'!B2,FIND(")",'achieved fresh and panel'!B2)) -> Small (5-19) | C2: ='achieved fresh and panel'!C2 -> 11 | D2: ='achieved fresh and panel'!D2 -> 11 | E2: ='achieved fresh and panel'!E2 -> 23 | F2: =SUM(C2:E4) -> 155
A3: ='achieved fresh and panel'!A3 -> Greater Guatemala City | B3: =LEFT('achieved fresh and panel'!B3,FIND(")",'achieved fresh and panel'!B3)) -> Medium (20-99) | C3: ='achieved fresh and panel'!C3 -> 10 | D3: ='achieved fresh and panel'!D3 -> 16 | E3: ='achieved fresh and panel'!E3 -> 35
A4: ='achieved fresh and panel'!A4 -> Greater Guatemala City | B4: =LEFT('achieved fresh and panel'!B4,FIND(")",'achieved fresh and panel'!B4)) -> Large (100 or more) | C4: ='achieved fresh and panel'!C4 -> 14 | D4: ='achieved fresh and panel'!D4 -> 7 | E4: ='achieved fresh and panel'!E4 -> 28
A5: ='achieved fresh and panel'!A5 -> Rest of the country | B5: =LEFT('achieved fresh and panel'!B5,FIND(")",'achieved fresh and panel'!B5)) -> Small (5-19) | C5: ='achieved fresh and panel'!C5 -> 1 | D5: ='achieved fresh and panel'!D5 -> 4 | E5: ='achieved fresh and panel'!E5 -> 7 | F5: =SUM(C5:E7) -> 28
A6: ='achieved fresh and panel'!A6 -> Rest of the country | B6: =LEFT('achieved fresh and panel'!B6,FIND(")",'achieved fresh and panel'!B6)) -> Medium (20-99) | C6: ='achieved fresh and panel'!C6 -> 3 | D6: ='achieved fresh and panel'!D6 -> 0 | E6: ='achieved fresh and panel'!E6 -> 4
A7: ='achieved fresh and panel'!A7 -> Rest of the country | B7: =LEFT('achieved fresh and panel'!B7,FIND(")",'achieved fresh and panel'!B7)) -> Large (100 or more) | C7: ='achieved fresh and panel'!C7 -> 2 | D7: ='achieved fresh and panel'!D7 -> 1 | E7: ='achieved fresh and panel'!E7 -> 6
C8: =SUM(C2:C7) -> 41 | D8: =SUM(D2:D7) -> 39 | E8: =SUM(E2:E7) -> 103 | F8: =SUM(F2:F7) -> 183

Sheet Table 7 Achieved Panel Sample
C1: =RIGHT(SUBSTITUTE('achieved panel'!C1,"_"," "),LEN(SUBSTITUTE('achieved panel'!C1,"_"," "))-1) -> Manufacturing | D1: =RIGHT(SUBSTITUTE('achieved panel'!D1,"_"," "),LEN(SUBSTITUTE('achieved panel'!D1,"_"," "))-1) -> Retail | E1: =RIGHT(SUBSTITUTE('achieved panel'!E1,"_"," "),LEN(SUBSTITUTE('achieved panel'!E1,"_"," "))-1) -> Other Services | F1: =RIGHT(SUBSTITUTE('achieved panel'!F1,"_"," "),LEN(SUBSTITUTE('achieved panel'!F1,"_"," "))-1) -> Grand Total
A2: ='achieved panel'!A2 -> Greater Guatemala City | B2: =LEFT('achieved panel'!B2,FIND(")",'achieved panel'!B2)) -> Small (5-19) | C2: ='achieved panel'!C2 -> 5 | D2: ='achieved panel'!D2 -> 1 | E2: ='achieved panel'!E2 -> 2 | F2: =SUM(C2:E4) -> 28
A3: ='achieved panel'!A3 -> Greater Guatemala City | B3: =LEFT('achieved panel'!B3,FIND(")",'achieved panel'!B3)) -> Medium (20-99) | C3: ='achieved panel'!C3 -> 3 | D3: ='achieved panel'!D3 -> 3 | E3: ='achieved panel'!E3 -> 3
A4: ='achieved panel'!A4 -> Greater Guatemala City | B4: =LEFT('achieved panel'!B4,FIND(")",'achieved panel'!B4)) -> Large (100 or more) | C4: ='achieved panel'!C4 -> 3 | D4: ='achieved panel'!D4 -> 2 | E4: ='achieved panel'!E4 -> 6
A5: ='achieved panel'!A5 -> Rest of the country | B5: =LEFT('achieved panel'!B5,FIND(")",'achieved panel'!B5)) -> Small (5-19) | C5: ='achieved panel'!C5 -> 0 | D5: ='achieved panel'!D5 -> 1 | E5: ='achieved panel'!E5 -> 2 | F5: =SUM(C5:E7) -> 8
A6: ='achieved panel'!A6 -> Rest of the country | B6: =LEFT('achieved panel'!B6,FIND(")",'achieved panel'!B6)) -> Medium (20-99) | C6: ='achieved panel'!C6 -> 2 | D6: ='achieved panel'!D6 -> 0 | E6: ='achieved panel'!E6 -> 1
A7: ='achieved panel'!A7 -> Rest of the country | B7: =LEFT('achieved panel'!B7,FIND(")",'achieved panel'!B7)) -> Large (100 or more) | C7: ='achieved panel'!C7 -> 0 | D7: ='achieved panel'!D7 -> 0 | E7: ='achieved panel'!E7 -> 2
C8: =SUM(C2:C7) -> 13 | D8: =SUM(D2:D7) -> 7 | E8: =SUM(E2:E7) -> 16 | F8: =SUM(F2:F7) -> 36

Sheet Table 8 Weak Universe Estimates
C1: =RIGHT(SUBSTITUTE(universe_weak!C1,"_"," "),LEN(SUBSTITUTE(universe_weak!C1,"_"," "))-1) -> Manufacturing | D1: =RIGHT(SUBSTITUTE(universe_weak!D1,"_"," "),LEN(SUBSTITUTE(universe_weak!D1,"_"," "))-1) -> Retail | E1: =RIGHT(SUBSTITUTE(universe_weak!E1,"_"," "),LEN(SUBSTITUTE(universe_weak!E1,"_"," "))-1) -> Other Services | F1: =RIGHT(SUBSTITUTE(universe_weak!F1,"_"," "),LEN(SUBSTITUTE(universe_weak!F1,"_"," "))-1) -> Grand Total
A2: =universe_weak!A2 -> Greater Guatemala City | B2: =LEFT(universe_weak!B2,FIND(")",universe_weak!B2)) -> Small (5-19) | C2: =universe_weak!C2 -> 277.89282 | D2: =universe_weak!D2 -> 305.60645 | E2: =universe_weak!E2 -> 665.23932 | F2: =SUM(C2:E4) -> 4324.8842
A3: =universe_weak!A3 -> Greater Guatemala City | B3: =LEFT(universe_weak!B3,FIND(")",universe_weak!B3)) -> Medium (20-99) | C3: =universe_weak!C3 -> 291.04855 | D3: =universe_weak!D3 -> 475.983 | E3: =universe_weak!E3 -> 959.4093
A4: =universe_weak!A4 -> Greater Guatemala City | B4: =LEFT(universe_weak!B4,FIND(")",universe_weak!B4)) -> Large (100 or more) | C4: =universe_weak!C4 -> 348.0502 | D4: =universe_weak!D4 -> 176.0287 | E4: =universe_weak!E4 -> 825.62585
A5: =universe_weak!A5 -> Rest of the country | B5: =LEFT(universe_weak!B5,FIND(")",universe_weak!B5)) -> Small (5-19) | C5: =universe_weak!C5 -> 28.695444 | D5: =universe_weak!D5 -> 77.566162 | E5: =universe_weak!E5 -> 190.82617 | F5: =SUM(C5:E7) -> 767.83676
A6: =universe_weak!A6 -> Rest of the country | B6: =LEFT(universe_weak!B6,FIND(")",universe_weak!B6)) -> Medium (20-99) | C6: =universe_weak!C6 -> 73.054413 | D6: =universe_weak!D6 -> 0 | E6: =universe_weak!E6 -> 133.49213
A7: =universe_weak!A7 -> Rest of the country | B7: =LEFT(universe_weak!B7,FIND(")",universe_weak!B7)) -> Large (100 or more) | C7: =universe_weak!C7 -> 59.636284 | D7: =universe_weak!D7 -> 28.438469 | E7: =universe_weak!E7 -> 176.12769
C8: =SUM(C2:C7) -> 1078.3777 | D8: =SUM(D2:D7) -> 1063.6228 | E8: =SUM(E2:E7) -> 2950.7205 | F8: =SUM(F2:F7) -> 5092.721

Sheet Table 9 Median Universe Est
C1: =RIGHT(SUBSTITUTE(universe_median!C1,"_"," "),LEN(SUBSTITUTE(universe_median!C1,"_"," "))-1) -> Manufacturing | D1: =RIGHT(SUBSTITUTE(universe_median!D1,"_"," "),LEN(SUBSTITUTE(universe_median!D1,"_"," "))-1) -> Retail | E1: =RIGHT(SUBSTITUTE(universe_median!E1,"_"," "),LEN(SUBSTITUTE(universe_median!E1,"_"," "))-1) -> Other Services | F1: =RIGHT(SUBSTITUTE(universe_median!F1,"_"," "),LEN(SUBSTITUTE(universe_median!F1,"_"," "))-1) -> Grand Total
A2: =universe_median!A2 -> Greater Guatemala City | B2: =LEFT(universe_median!B2,FIND(")",universe_median!B2)) -> Small (5-19) | C2: =universe_median!C2 -> 87.594528 | D2: =universe_median!D2 -> 95.156418 | E2: =universe_median!E2 -> 208.64082 | F2: =SUM(C2:E4) -> 1368.624
A3: =universe_median!A3 -> Greater Guatemala City | B3: =LEFT(universe_median!B3,FIND(")",universe_median!B3)) -> Medium (20-99) | C3: =universe_median!C3 -> 87.421532 | D3: =universe_median!D3 -> 149.45091 | E3: =universe_median!E3 -> 305.02264
A4: =universe_median!A4 -> Greater Guatemala City | B4: =LEFT(universe_median!B4,FIND(")",universe_median!B4)) -> Large (100 or more) | C4: =universe_median!C4 -> 108.34503 | D4: =universe_median!D4 -> 58.024178 | E4: =universe_median!E4 -> 268.96796
A5: =universe_median!A5 -> Rest of the country | B5: =LEFT(universe_median!B5,FIND(")",universe_median!B5)) -> Small (5-19) | C5: =universe_median!C5 -> 9.0545187 | D5: =universe_median!D5 -> 24.47452 | E5: =universe_median!E5 -> 62.161755 | F5: =SUM(C5:E7) -> 249.56059
A6: =universe_median!A6 -> Rest of the country | B6: =LEFT(universe_median!B6,FIND(")",universe_median!B6)) -> Medium (20-99) | C6: =universe_median!C6 -> 22.688755 | D6: =universe_median!D6 -> 0 | E6: =universe_median!E6 -> 43.945396
A7: =universe_median!A7 -> Rest of the country | B7: =LEFT(universe_median!B7,FIND(")",universe_median!B7)) -> Large (100 or more) | C7: =universe_median!C7 -> 19.077976 | D7: =universe_median!D7 -> 9.8708687 | E7: =universe_median!E7 -> 58.286797
C8: =SUM(C2:C7) -> 334.18234 | D8: =SUM(D2:D7) -> 336.9769 | E8: =SUM(E2:E7) -> 947.02537 | F8: =SUM(F2:F7) -> 1618.1846

Sheet Table 10 Strict Universe Est
C1: =RIGHT(SUBSTITUTE(universe_strict!C1,"_"," "),LEN(SUBSTITUTE(universe_strict!C1,"_"," "))-1) -> Manufacturing | D1: =RIGHT(SUBSTITUTE(universe_strict!D1,"_"," "),LEN(SUBSTITUTE(universe_strict!D1,"_"," "))-1) -> Retail | E1: =RIGHT(SUBSTITUTE(universe_strict!E1,"_"," "),LEN(SUBSTITUTE(universe_strict!E1,"_"," "))-1) -> Other Services | F1: =RIGHT(SUBSTITUTE(universe_strict!F1,"_"," "),LEN(SUBSTITUTE(universe_strict!F1,"_"," "))-1) -> Grand Total
A2: =universe_strict!A2 -> Greater Guatemala City | B2: =LEFT(universe_strict!B2,FIND(")",universe_strict!B2)) -> Small (5-19) | C2: =universe_strict!C2 -> 64.84404 | D2: =universe_strict!D2 -> 69.134399 | E2: =universe_strict!E2 -> 154.76076 | F2: =SUM(C2:E4) -> 1012.9631
A3: =universe_strict!A3 -> Greater Guatemala City | B3: =LEFT(universe_strict!B3,FIND(")",universe_strict!B3)) -> Medium (20-99) | C3: =universe_strict!C3 -> 65.083748 | D3: =universe_strict!D3 -> 109.41249 | E3: =universe_strict!E3 -> 226.81094
A4: =universe_strict!A4 -> Greater Guatemala City | B4: =LEFT(universe_strict!B4,FIND(")",universe_strict!B4)) -> Large (100 or more) | C4: =universe_strict!C4 -> 80.730759 | D4: =universe_strict!D4 -> 43.681042 | E4: =universe_strict!E4 -> 198.50493
A5: =universe_strict!A5 -> Rest of the country | B5: =LEFT(universe_strict!B5,FIND(")",universe_strict!B5)) -> Small (5-19) | C5: =universe_strict!C5 -> 6.733623 | D5: =universe_strict!D5 -> 17.828419 | E5: =universe_strict!E5 -> 45.848869 | F5: =SUM(C5:E7) -> 181.56162
A6: =universe_strict!A6 -> Rest of the country | B6: =LEFT(universe_strict!B6,FIND(")",universe_strict!B6)) -> Medium (20-99) | C6: =universe_strict!C6 -> 16.829475 | D6: =universe_strict!D6 -> 0 | E6: =universe_strict!E6 -> 30.016617
A7: =universe_strict!A7 -> Rest of the country | B7: =LEFT(universe_strict!B7,FIND(")",universe_strict!B7)) -> Large (100 or more) | C7: =universe_strict!C7 -> 14.233998 | D7: =universe_strict!D7 -> 7.2578239 | E7: =universe_strict!E7 -> 42.81279
C8: =SUM(C2:C7) -> 248.45564 | D8: =SUM(D2:D7) -> 247.31417 | E8: =SUM(E2:E7) -> 698.75491 | F8: =SUM(F2:F7) -> 1194.5247

Sheet Table 11 Item Response Rates
C2: Screener/Interview | D2: d2 | E2: l1 | F2: n2a | G2: all TFP variables
B3: Panel | C3: Fresh | D3: =VLOOKUP($C3,'item response'!$C:$G,2,FALSE) -> 0.82993197 | E3: =VLOOKUP($C3,'item response'!$C:$G,3,FALSE) -> 1 | F3: =VLOOKUP($C3,'item response'!$C:$G,4,FALSE) -> 0.75510204 | G3: =IF(VLOOKUP($C3,'item response'!$C:$G,5,FALSE)="",NA(),VLOOKUP($C3,'item response'!$C:$G,5,FALSE)) -> 0.5
C4: Panel | D4: =VLOOKUP($C4,'item response'!$C:$G,2,FALSE) -> 0.8888889 | E4: =VLOOKUP($C4,'item response'!$C:$G,3,FALSE) -> 1 | F4: =VLOOKUP($C4,'item response'!$C:$G,4,FALSE) -> 0.77777779 | G4: =IF(VLOOKUP($C4,'item response'!$C:$G,5,FALSE)="",NA(),VLOOKUP($C4,'item response'!$C:$G,5,FALSE)) -> 0.61538464
B5: Size | C5: Small (5-19) | D5: =VLOOKUP($C5,'item response'!$C:$G,2,FALSE) -> 0.85964912 | E5: =VLOOKUP($C5,'item response'!$C:$G,3,FALSE) -> 1 | F5: =VLOOKUP($C5,'item response'!$C:$G,4,FALSE) -> 0.75438595 | G5: =IF(VLOOKUP($C5,'item response'!$C:$G,5,FALSE)="",NA(),VLOOKUP($C5,'item response'!$C:$G,5,FALSE)) -> 0.5
C6: Medium (20-99) | D6: =VLOOKUP($C6,'item response'!$C:$G,2,FALSE) -> 0.88235295 | E6: =VLOOKUP($C6,'item response'!$C:$G,3,FALSE) -> 1 | F6: =VLOOKUP($C6,'item response'!$C:$G,4,FALSE) -> 0.85294116 | G6: =IF(VLOOKUP($C6,'item response'!$C:$G,5,FALSE)="",NA(),VLOOKUP($C6,'item response'!$C:$G,5,FALSE)) -> 0.63636363
C7: Large (100 or more) | D7: =VLOOKUP($C7,'item response'!$C:$G,2,FALSE) -> 0.7758621 | E7: =VLOOKUP($C7,'item response'!$C:$G,3,FALSE) -> 1 | F7: =VLOOKUP($C7,'item response'!$C:$G,4,FALSE) -> 0.65517241 | G7: =IF(VLOOKUP($C7,'item response'!$C:$G,5,FALSE)="",NA(),VLOOKUP($C7,'item response'!$C:$G,5,FALSE)) -> 0.5
B8: Region | C8: Greater Guatemala City | D8: =VLOOKUP($C8,'item response'!$C:$G,2,FALSE) -> 0.85161293 | E8: =VLOOKUP($C8,'item response'!$C:$G,3,FALSE) -> 1 | F8: =VLOOKUP($C8,'item response'!$C:$G,4,FALSE) -> 0.75483871 | G8: =IF(VLOOKUP($C8,'item response'!$C:$G,5,FALSE)="",NA(),VLOOKUP($C8,'item response'!$C:$G,5,FALSE)) -> 0.5151515
C9: Rest of the country | D9: =VLOOKUP($C9,'item response'!$C:$G,2,FALSE) -> 0.78571427 | E9: =VLOOKUP($C9,'item response'!$C:$G,3,FALSE) -> 1 | F9: =VLOOKUP($C9,'item response'!$C:$G,4,FALSE) -> 0.78571427 | G9: =IF(VLOOKUP($C9,'item response'!$C:$G,5,FALSE)="",NA(),VLOOKUP($C9,'item response'!$C:$G,5,FALSE)) -> 0.66666669
B10: Sector | C10: Manufacturing | D10: =VLOOKUP($C10,'item response'!$C:$G,2,FALSE) -> 0.85365856 | E10: =VLOOKUP($C10,'item response'!$C:$G,3,FALSE) -> 1 | F10: =VLOOKUP($C10,'item response'!$C:$G,4,FALSE) -> 0.68292683 | G10: =IF(VLOOKUP($C10,'item response'!$C:$G,5,FALSE)="",NA(),VLOOKUP($C10,'item response'!$C:$G,5,FALSE)) -> 0.53846157
C11: Retail | D11: =VLOOKUP($C11,'item response'!$C:$G,2,FALSE) -> 0.84615386 | E11: =VLOOKUP($C11,'item response'!$C:$G,3,FALSE) -> 1 | F11: =VLOOKUP($C11,'item response'!$C:$G,4,FALSE) -> 0.79487181 | G11: =IF(VLOOKUP($C11,'item response'!$C:$G,5,FALSE)=0,"N/A",VLOOKUP($C11,'item response'!$C:$G,5,FALSE)) -> N/A
C12: Other Services | D12: =VLOOKUP($C12,'item response'!$C:$G,2,FALSE) -> 0.83495146 | E12: =VLOOKUP($C12,'item response'!$C:$G,3,FALSE) -> 1 | F12: =VLOOKUP($C12,'item response'!$C:$G,4,FALSE) -> 0.77669901 | G12: =IF(VLOOKUP($C12,'item response'!$C:$G,5,FALSE)=0,"N/A",VLOOKUP($C12,'item response'!$C:$G,5,FALSE)) -> N/A
B13: Overall | C13: Guatemala 2025 | D13: =VLOOKUP($C13,'item response'!$C:$G,2,FALSE) -> 0.84153003 | E13: =VLOOKUP($C13,'item response'!$C:$G,3,FALSE) -> 1 | F13: =VLOOKUP($C13,'item response'!$C:$G,4,FALSE) -> 0.75956285 | G13: =VLOOKUP($C13,'item response'!$C:$G,5,FALSE) -> 0.53846157
B14: Notes: the rates are calculated as follows. The number of responses with informative content in the respective variable (or combination of variables in the case of TFP) is divided by the same number plus the number of responses that are "don't know" (code -9) or refusal (code -8).

Sheet universe
A1: stratificationregionname | B1: stratificationsizename | C1: _Manufacturing | D1: _Retail | E1: _Other_Services | F1: _Grand_Total
A2: Greater Guatemala City | B2: Small (5-19) | C2: 249 | D2: 443 | E2: 1695
A3: Greater Guatemala City | B3: Medium (20-99) | C3: 289 | D3: 242 | E3: 1072
A4: Greater Guatemala City | B4: Large (100 or more) | C4: 200 | D4: 62 | E4: 345
A5: Rest of the country | B5: Small (5-19) | C5: 209 | D5: 258 | E5: 800
A6: Rest of the country | B6: Medium (20-99) | C6: 284 | D6: 151 | E6: 472
A7: Rest of the country | B7: Large (100 or more) | C7: 171 | D7: 20 | E7: 144

Sheet frame fresh and panel
A1: stratificationregionname | B1: stratificationsizename | C1: _Manufacturing | D1: _Retail | E1: _Other_Services | F1: _Grand_Total
A2: Greater Guatemala City | B2: Small (5-19) | C2: 292 | D2: 469 | E2: 1725
A3: Greater Guatemala City | B3: Medium (20-99) | C3: 320 | D3: 257 | E3: 1106
A4: Greater Guatemala City | B4: Large (100 or more) | C4: 248 | D4: 68 | E4: 379
A5: Rest of the country | B5: Small (5-19) | C5: 219 | D5: 271 | E5: 822
A6: Rest of the country | B6: Medium (20-99) | C6: 290 | D6: 160 | E6: 484
A7: Rest of the country | B7: Large (100 or more) | C7: 173 | D7: 21 | E7: 147

Sheet original survey design
A1: stratificationregionname | B1: stratificationsizename | C1: _Manufacturing | D1: _Retail | E1: _Other_Services | F1: _Grand_Total
A2: Greater Guatemala City | B2: Small (5-19) | C2: 14 | D2: 30 | E2: 30
A3: Greater Guatemala City | B3: Medium (20-99) | C3: 19 | D3: 27 | E3: 27
A4: Greater Guatemala City | B4: Large (100 or more) | C4: 30 | D4: 11 | E4: 30
A5: Rest of the country | B5: Small (5-19) | C5: 12 | D5: 25 | E5: 9
A6: Rest of the country | B6: Medium (20-99) | C6: 19 | D6: 23 | E6: 5
A7: Rest of the country | B7: Large (100 or more) | C7: 26 | D7: 4 | E7: 19

Sheet yield calculation
A1: Survey | B1: Cell | C1: Name | D1: Yield | E1: Survey_response_rate | F1: Frame_quality
A2: Guatemala 2025 | B2: Fresh/Panel | C2: Fresh | D2: 0.041631266 | E2: 0.18283582 | F2: 0.22769754
A3: Guatemala 2025 | B3: Fresh/Panel | C3: Panel | D3: 0.10434783 | E3: 0.31578946 | F3: 0.33043477
A4: Guatemala 2025 | B4: Size | C4: Small (5-19) | D4: 0.049934298 | E4: 0.23824452 | F4: 0.20959264
A5: Guatemala 2025 | B5: Size | C5: Medium (20-99) | D5: 0.047799695 | E5: 0.20999999 | F5: 0.22761761
A6: Guatemala 2025 | B6: Size | C6: Large (100 or more) | D6: 0.042471044 | E6: 0.14715719 | F6: 0.28861004
A7: Guatemala 2025 | B7: Region | C7: Greater Guatemala City | D7: 0.054655872 | E7: 0.21327014 | F7: 0.2562753
A8: Guatemala 2025 | B8: Region | C8: Rest of the country | D8: 0.034139402 | E8: 0.16842106 | F8: 0.2027027
A9: Guatemala 2025 | B9: Sector | C9: Manufacturing | D9: 0.047770701 | E9: 0.18575852 | F9: 0.25716561
A10: Guatemala 2025 | B10: Sector | C10: Retail | D10: 0.046728972 | E10: 0.18835616 | F10: 0.24808836
A11: Guatemala 2025 | B11: Sector | C11: Other Services | D11: 0.047124047 | E11: 0.22442244 | F11: 0.20997921
A12: Guatemala 2025 | B12: Guatemala 2025 | C12: Guatemala 2025 | D12: 0.047213621 | E12: 0.19934641 | F12: 0.23684211
A13: Guatemala 2025 | B13: Size
A14: Guatemala 2025 | B14: Fresh/Panel
A15: Guatemala 2025 | B15: Region
A16: Guatemala 2025 | B16: Sector

Sheet achieved fresh and panel
A1: a3ax | B1: sizex | C1: _Manufacturing | D1: _Retail | E1: _Other_Services | F1: _Grand_Total
A2: Greater Guatemala City | B2: Small (5-19) | C2: 11 | D2: 11 | E2: 23
A3: Greater Guatemala City | B3: Medium (20-99) | C3: 10 | D3: 16 | E3: 35
A4: Greater Guatemala City | B4: Large (100 or more) | C4: 14 | D4: 7 | E4: 28
A5: Rest of the country | B5: Small (5-19) | C5: 1 | D5: 4 | E5: 7
A6: Rest of the country | B6: Medium (20-99) | C6: 3 | E6: 4
A7: Rest of the country | B7: Large (100 or more) | C7: 2 | D7: 1 | E7: 6

Sheet achieved panel
A1: a3ax | B1: sizex | C1: _Manufacturing | D1: _Retail | E1: _Other_Services | F1: _Grand_Total
A2: Greater Guatemala City | B2: Small (5-19) | C2: 5 | D2: 1 | E2: 2
A3: Greater Guatemala City | B3: Medium (20-99) | C3: 3 | D3: 3 | E3: 3
A4: Greater Guatemala City | B4: Large (100 or more) | C4: 3 | D4: 2 | E4: 6
A5: Rest of the country | B5: Small (5-19) | D5: 1 | E5: 2
A6: Rest of the country | B6: Medium (20-99) | C6: 2 | E6: 1
A7: Rest of the country | B7: Large (100 or more) | E7: 2

Sheet universe_strict
A1: a3ax | B1: sizex | C1: _Manufacturing | D1: _Retail | E1: _Other_Services | F1: _Grand_Total
A2: Greater Guatemala City | B2: Small (5-19) | C2: 64.84404 | D2: 69.134399 | E2: 154.76076
A3: Greater Guatemala City | B3: Medium (20-99) | C3: 65.083748 | D3: 109.41249 | E3: 226.81094
A4: Greater Guatemala City | B4: Large (100 or more) | C4: 80.730759 | D4: 43.681042 | E4: 198.50493
A5: Rest of the country | B5: Small (5-19) | C5: 6.733623 | D5: 17.828419 | E5: 45.848869
A6: Rest of the country | B6: Medium (20-99) | C6: 16.829475 | E6: 30.016617
A7: Rest of the country | B7: Large (100 or more) | C7: 14.233998 | D7: 7.2578239 | E7: 42.81279

Sheet universe_median
A1: a3ax | B1: sizex | C1: _Manufacturing | D1: _Retail | E1: _Other_Services | F1: _Grand_Total
A2: Greater Guatemala City | B2: Small (5-19) | C2: 87.594528 | D2: 95.156418 | E2: 208.64082
A3: Greater Guatemala City | B3: Medium (20-99) | C3: 87.421532 | D3: 149.45091 | E3: 305.02264
A4: Greater Guatemala City | B4: Large (100 or more) | C4: 108.34503 | D4: 58.024178 | E4: 268.96796
A5: Rest of the country | B5: Small (5-19) | C5: 9.0545187 | D5: 24.47452 | E5: 62.161755
A6: Rest of the country | B6: Medium (20-99) | C6: 22.688755 | E6: 43.945396
A7: Rest of the country | B7: Large (100 or more) | C7: 19.077976 | D7: 9.8708687 | E7: 58.286797

Sheet universe_weak
A1: a3ax | B1: sizex | C1: _Manufacturing | D1: _Retail | E1: _Other_Services | F1: _Grand_Total
A2: Greater Guatemala City | B2: Small (5-19) | C2: 277.89282 | D2: 305.60645 | E2: 665.23932
A3: Greater Guatemala City | B3: Medium (20-99) | C3: 291.04855 | D3: 475.983 | E3: 959.4093
A4: Greater Guatemala City | B4: Large (100 or more) | C4: 348.0502 | D4: 176.0287 | E4: 825.62585
A5: Rest of the country | B5: Small (5-19) | C5: 28.695444 | D5: 77.566162 | E5: 190.82617
A6: Rest of the country | B6: Medium (20-99) | C6: 73.054413 | E6: 133.49213
A7: Rest of the country | B7: Large (100 or more) | C7: 59.636284 | D7: 28.438469 | E7: 176.12769

Sheet item response
A1: Survey | B1: Cell | C1: Name | D1: rr_d2 | E1: rr_l1 | F1: rr_n2a | G1: rr_TFP
A2: Guatemala 2025 | B2: Fresh/Panel | C2: Fresh | D2: 0.82993197 | E2: 1 | F2: 0.75510204 | G2: 0.5
A3: Guatemala 2025 | B3: Fresh/Panel | C3: Panel | D3: 0.8888889 | E3: 1 | F3: 0.77777779 | G3: 0.61538464
A4: Guatemala 2025 | B4: Size | C4: Small (5-19) | D4: 0.85964912 | E4: 1 | F4: 0.75438595 | G4: 0.5
A5: Guatemala 2025 | B5: Size | C5: Medium (20-99) | D5: 0.88235295 | E5: 1 | F5: 0.85294116 | G5: 0.63636363
A6: Guatemala 2025 | B6: Size | C6: Large (100 or more) | D6: 0.7758621 | E6: 1 | F6: 0.65517241 | G6: 0.5
A7: Guatemala 2025 | B7: Region | C7: Greater Guatemala City | D7: 0.85161293 | E7: 1 | F7: 0.75483871 | G7: 0.5151515
A8: Guatemala 2025 | B8: Region | C8: Rest of the country | D8: 0.78571427 | E8: 1 | F8: 0.78571427 | G8: 0.66666669
A9: Guatemala 2025 | B9: Sector | C9: Manufacturing | D9: 0.85365856 | E9: 1 | F9: 0.68292683 | G9: 0.53846157
A10: Guatemala 2025 | B10: Sector | C10: Retail | D10: 0.84615386 | E10: 1 | F10: 0.79487181
A11: Guatemala 2025 | B11: Sector | C11: Other Services | D11: 0.83495146 | E11: 1 | F11: 0.77669901
A12: Guatemala 2025 | B12: Guatemala 2025 | C12: Guatemala 2025 | D12: 0.84153003 | E12: 1 | F12: 0.75956285 | G12: 0.53846157
