Workbook

Sheet Table 1 Universe
C1: =RIGHT(SUBSTITUTE(universe!C1,"_"," "),LEN(SUBSTITUTE(universe!C1,"_"," "))-1) -> Food | D1: =RIGHT(SUBSTITUTE(universe!D1,"_"," "),LEN(SUBSTITUTE(universe!D1,"_"," "))-1) -> Basic Metals and Metal Products | E1: =RIGHT(SUBSTITUTE(universe!E1,"_"," "),LEN(SUBSTITUTE(universe!E1,"_"," "))-1) -> Computer Electronicand Optical | F1: =RIGHT(SUBSTITUTE(universe!F1,"_"," "),LEN(SUBSTITUTE(universe!F1,"_"," "))-1) -> Machinery and Equipment | G1: =RIGHT(SUBSTITUTE(universe!G1,"_"," "),LEN(SUBSTITUTE(universe!G1,"_"," "))-1) -> Motor Vehicles | H1: =RIGHT(SUBSTITUTE(universe!H1,"_"," "),LEN(SUBSTITUTE(universe!H1,"_"," "))-1) -> Other Manufacturing | I1: =RIGHT(SUBSTITUTE(universe!I1,"_"," "),LEN(SUBSTITUTE(universe!I1,"_"," "))-1) -> Wholesale | J1: =RIGHT(SUBSTITUTE(universe!J1,"_"," "),LEN(SUBSTITUTE(universe!J1,"_"," "))-1) -> Retail | ... O1: =RIGHT(SUBSTITUTE(universe!O1,"_"," "),LEN(SUBSTITUTE(universe!O1,"_"," "))-1) -> Other Services | P1: =RIGHT(SUBSTITUTE(universe!T1,"_"," "),LEN(SUBSTITUTE(universe!T1,"_"," "))-1) -> Grand Total
A2: =universe!A2 -> Hokkaido | B2: =LEFT(universe!B2,FIND(")",universe!B2)) -> Small (5-19) | C2: =universe!C2 -> 1074 | D2: =universe!D2 -> 443 | E2: =universe!E2 -> 29 | F2: =universe!F2 -> 223 | G2: =universe!G2 -> 30 | H2: =universe!H2 -> 1684 | I2: =universe!I2 -> 4316 | J2: =universe!J2 -> 10956 | ... O2: =universe!O2 -> 3054 | P2: =SUM(C2:O5) -> 47717
A3: =universe!A3 -> Hokkaido | B3: =LEFT(universe!B3,FIND(")",universe!B3)) -> Medium (20-99) | C3: =universe!C3 -> 829 | D3: =universe!D3 -> 168 | E3: =universe!E3 -> 30 | F3: =universe!F3 -> 101 | G3: =universe!G3 -> 13 | H3: =universe!H3 -> 655 | I3: =universe!I3 -> 1004 | J3: =universe!J3 -> 2455 | ... O3: =universe!O3 -> 1829
A4: =universe!A4 -> Hokkaido | B4: =LEFT(universe!B4,FIND(")",universe!B4)) -> Large (100-299) | C4: =universe!C4 -> 143 | D4: =universe!D4 -> 17 | E4: =universe!E4 -> 13 | F4: =universe!F4 -> 7 | G4: =universe!G4 -> 6 | H4: =universe!H4 -> 57 | I4: =universe!I4 -> 61 | J4: =universe!J4 -> 229 | ... O4: =universe!O4 -> 222
A5: =universe!A5 -> Hokkaido | B5: =LEFT(universe!B5,FIND(")",universe!B5)) -> Very Large (300 or more) | C5: =universe!C5 -> 21 | D5: =universe!D5 -> 3 | E5: =universe!E5 -> 5 | F5: =universe!F5 -> 2 | G5: =universe!G5 -> 7 | H5: =universe!H5 -> 6 | I5: =universe!I5 -> 4 | J5: =universe!J5 -> 21 | ... O5: =universe!O5 -> 24
A6: =universe!A6 -> Tohoku | B6: =LEFT(universe!B6,FIND(")",universe!B6)) -> Small (5-19) | C6: =universe!C6 -> 1688 | D6: =universe!D6 -> 844 | E6: =universe!E6 -> 402 | F6: =universe!F6 -> 854 | G6: =universe!G6 -> 100 | H6: =universe!H6 -> 3916 | I6: =universe!I6 -> 7902 | J6: =universe!J6 -> 18603 | ... O6: =universe!O6 -> 4479 | P6: =SUM(C6:O9) -> 85356
A7: =universe!A7 -> Tohoku | B7: =LEFT(universe!B7,FIND(")",universe!B7)) -> Medium (20-99) | C7: =universe!C7 -> 1024 | D7: =universe!D7 -> 487 | E7: =universe!E7 -> 508 | F7: =universe!F7 -> 647 | G7: =universe!G7 -> 137 | H7: =universe!H7 -> 2095 | I7: =universe!I7 -> 1614 | J7: =universe!J7 -> 3993 | ... O7: =universe!O7 -> 2855
A8: =universe!A8 -> Tohoku | B8: =LEFT(universe!B8,FIND(")",universe!B8)) -> Large (100-299) | C8: =universe!C8 -> 180 | D8: =universe!D8 -> 69 | E8: =universe!E8 -> 185 | F8: =universe!F8 -> 103 | G8: =universe!G8 -> 43 | H8: =universe!H8 -> 315 | I8: =universe!I8 -> 76 | J8: =universe!J8 -> 296 | ... O8: =universe!O8 -> 271
A9: =universe!A9 -> Tohoku | B9: =LEFT(universe!B9,FIND(")",universe!B9)) -> Very Large (300 or more) | C9: =universe!C9 -> 40 | D9: =universe!D9 -> 18 | E9: =universe!E9 -> 76 | F9: =universe!F9 -> 24 | G9: =universe!G9 -> 23 | H9: =universe!H9 -> 46 | I9: =universe!I9 -> 6 | J9: =universe!J9 -> 8 | ... O9: =universe!O9 -> 27
A10: =universe!A10 -> Kanto (excl. Tokyo) | B10: =LEFT(universe!B10,FIND(")",universe!B10)) -> Small (5-19) | C10: =universe!C10 -> 2173 | D10: =universe!D10 -> 3721 | E10: =universe!E10 -> 1260 | F10: =universe!F10 -> 3739 | G10: =universe!G10 -> 857 | H10: =universe!H10 -> 10969 | I10: =universe!I10 -> 16271 | J10: =universe!J10 -> 47626 | ... O10: =universe!O10 -> 12876 | P10: =SUM(C10:O13) -> 226919
A11: =universe!A11 -> Kanto (excl. Tokyo) | B11: =LEFT(universe!B11,FIND(")",universe!B11)) -> Medium (20-99) | C11: =universe!C11 -> 1788 | D11: =universe!D11 -> 1859 | E11: =universe!E11 -> 862 | F11: =universe!F11 -> 1773 | G11: =universe!G11 -> 703 | H11: =universe!H11 -> 5707 | I11: =universe!I11 -> 4048 | J11: =universe!J11 -> 14521 | ... O11: =universe!O11 -> 9612
A12: =universe!A12 -> Kanto (excl. Tokyo) | B12: =LEFT(universe!B12,FIND(")",universe!B12)) -> Large (100-299) | C12: =universe!C12 -> 560 | D12: =universe!D12 -> 232 | E12: =universe!E12 -> 216 | F12: =universe!F12 -> 300 | G12: =universe!G12 -> 199 | H12: =universe!H12 -> 935 | I12: =universe!I12 -> 296 | J12: =universe!J12 -> 1297 | ... O12: =universe!O12 -> 1297
A13: =universe!A13 -> Kanto (excl. Tokyo) | B13: =LEFT(universe!B13,FIND(")",universe!B13)) -> Very Large (300 or more) | C13: =universe!C13 -> 182 | D13: =universe!D13 -> 38 | E13: =universe!E13 -> 86 | F13: =universe!F13 -> 109 | G13: =universe!G13 -> 95 | H13: =universe!H13 -> 239 | I13: =universe!I13 -> 55 | J13: =universe!J13 -> 144 | ... O13: =universe!O13 -> 256
A14: =universe!A14 -> Tokyo | B14: =LEFT(universe!B14,FIND(")",universe!B14)) -> Small (5-19) | C14: =universe!C14 -> 647 | D14: =universe!D14 -> 964 | E14: =universe!E14 -> 768 | F14: =universe!F14 -> 1202 | G14: =universe!G14 -> 124 | H14: =universe!H14 -> 5562 | I14: =universe!I14 -> 15448 | J14: =universe!J14 -> 27115 | ... O14: =universe!O14 -> 9266 | P14: =SUM(C14:O17) -> 149385
A15: =universe!A15 -> Tokyo | B15: =LEFT(universe!B15,FIND(")",universe!B15)) -> Medium (20-99) | C15: =universe!C15 -> 380 | D15: =universe!D15 -> 235 | E15: =universe!E15 -> 389 | F15: =universe!F15 -> 421 | G15: =universe!G15 -> 61 | H15: =universe!H15 -> 2012 | I15: =universe!I15 -> 6278 | J15: =universe!J15 -> 7730 | ... O15: =universe!O15 -> 6805
A16: =universe!A16 -> Tokyo | B16: =LEFT(universe!B16,FIND(")",universe!B16)) -> Large (100-299) | C16: =universe!C16 -> 87 | D16: =universe!D16 -> 16 | E16: =universe!E16 -> 55 | F16: =universe!F16 -> 50 | G16: =universe!G16 -> 12 | H16: =universe!H16 -> 248 | I16: =universe!I16 -> 1130 | J16: =universe!J16 -> 762 | ... O16: =universe!O16 -> 1622
A17: =universe!A17 -> Tokyo | B17: =LEFT(universe!B17,FIND(")",universe!B17)) -> Very Large (300 or more) | C17: =universe!C17 -> 28 | D17: =universe!D17 -> 4 | E17: =universe!E17 -> 25 | F17: =universe!F17 -> 13 | G17: =universe!G17 -> 6 | H17: =universe!H17 -> 76 | I17: =universe!I17 -> 370 | J17: =universe!J17 -> 115 | ... O17: =universe!O17 -> 624
A18: =universe!A18 -> Chubu (excl. Aichi) | B18: =LEFT(universe!B18,FIND(")",universe!B18)) -> Small (5-19) | C18: =universe!C18 -> 2740 | D18: =universe!D18 -> 2614 | E18: =universe!E18 -> 749 | F18: =universe!F18 -> 3191 | G18: =universe!G18 -> 717 | H18: =universe!H18 -> 9284 | I18: =universe!I18 -> 11421 | J18: =universe!J18 -> 27139 | ... O18: =universe!O18 -> 6567 | P18: =SUM(C18:O21) -> 139126
A19: =universe!A19 -> Chubu (excl. Aichi) | B19: =LEFT(universe!B19,FIND(")",universe!B19)) -> Medium (20-99) | C19: =universe!C19 -> 1616 | D19: =universe!D19 -> 1360 | E19: =universe!E19 -> 705 | F19: =universe!F19 -> 1910 | G19: =universe!G19 -> 704 | H19: =universe!H19 -> 4638 | I19: =universe!I19 -> 2624 | J19: =universe!J19 -> 6190 | ... O19: =universe!O19 -> 4543
A20: =universe!A20 -> Chubu (excl. Aichi) | B20: =LEFT(universe!B20,FIND(")",universe!B20)) -> Large (100-299) | C20: =universe!C20 -> 285 | D20: =universe!D20 -> 178 | E20: =universe!E20 -> 214 | F20: =universe!F20 -> 307 | G20: =universe!G20 -> 170 | H20: =universe!H20 -> 772 | I20: =universe!I20 -> 123 | J20: =universe!J20 -> 515 | ... O20: =universe!O20 -> 437
A21: =universe!A21 -> Chubu (excl. Aichi) | B21: =LEFT(universe!B21,FIND(")",universe!B21)) -> Very Large (300 or more) | C21: =universe!C21 -> 69 | D21: =universe!D21 -> 33 | E21: =universe!E21 -> 102 | F21: =universe!F21 -> 87 | G21: =universe!G21 -> 97 | H21: =universe!H21 -> 169 | I21: =universe!I21 -> 21 | J21: =universe!J21 -> 32 | ... O21: =universe!O21 -> 63
A22: =universe!A22 -> Aichi | B22: =LEFT(universe!B22,FIND(")",universe!B22)) -> Small (5-19) | C22: =universe!C22 -> 650 | D22: =universe!D22 -> 1458 | E22: =universe!E22 -> 172 | F22: =universe!F22 -> 1981 | G22: =universe!G22 -> 692 | H22: =universe!H22 -> 4391 | I22: =universe!I22 -> 7269 | J22: =universe!J22 -> 13766 | ... O22: =universe!O22 -> 3701 | P22: =SUM(C22:O25) -> 75540
A23: =universe!A23 -> Aichi | B23: =LEFT(universe!B23,FIND(")",universe!B23)) -> Medium (20-99) | C23: =universe!C23 -> 557 | D23: =universe!D23 -> 651 | E23: =universe!E23 -> 131 | F23: =universe!F23 -> 884 | G23: =universe!G23 -> 610 | H23: =universe!H23 -> 2163 | I23: =universe!I23 -> 2197 | J23: =universe!J23 -> 3710 | ... O23: =universe!O23 -> 2925
A24: =universe!A24 -> Aichi | B24: =LEFT(universe!B24,FIND(")",universe!B24)) -> Large (100-299) | C24: =universe!C24 -> 121 | D24: =universe!D24 -> 78 | E24: =universe!E24 -> 34 | F24: =universe!F24 -> 143 | G24: =universe!G24 -> 200 | H24: =universe!H24 -> 318 | I24: =universe!I24 -> 183 | J24: =universe!J24 -> 284 | ... O24: =universe!O24 -> 456
A25: =universe!A25 -> Aichi | B25: =LEFT(universe!B25,FIND(")",universe!B25)) -> Very Large (300 or more) | C25: =universe!C25 -> 41 | D25: =universe!D25 -> 29 | E25: =universe!E25 -> 11 | F25: =universe!F25 -> 51 | G25: =universe!G25 -> 120 | H25: =universe!H25 -> 91 | I25: =universe!I25 -> 31 | J25: =universe!J25 -> 43 | ... O25: =universe!O25 -> 71
A26: =universe!A26 -> Kinki (excl. Osaka) | B26: =LEFT(universe!B26,FIND(")",universe!B26)) -> Small (5-19) | C26: =universe!C26 -> 1951 | D26: =universe!D26 -> 1833 | E26: =universe!E26 -> 373 | F26: =universe!F26 -> 1877 | G26: =universe!G26 -> 259 | H26: =universe!H26 -> 6848 | I26: =universe!I26 -> 8370 | J26: =universe!J26 -> 23714 | ... O26: =universe!O26 -> 5777 | P26: =SUM(C26:O29) -> 111074
A27: =universe!A27 -> Kinki (excl. Osaka) | B27: =LEFT(universe!B27,FIND(")",universe!B27)) -> Medium (20-99) | C27: =universe!C27 -> 1122 | D27: =universe!D27 -> 963 | E27: =universe!E27 -> 351 | F27: =universe!F27 -> 1136 | G27: =universe!G27 -> 248 | H27: =universe!H27 -> 3441 | I27: =universe!I27 -> 2024 | J27: =universe!J27 -> 6547 | ... O27: =universe!O27 -> 3904
A28: =universe!A28 -> Kinki (excl. Osaka) | B28: =LEFT(universe!B28,FIND(")",universe!B28)) -> Large (100-299) | C28: =universe!C28 -> 277 | D28: =universe!D28 -> 120 | E28: =universe!E28 -> 114 | F28: =universe!F28 -> 223 | G28: =universe!G28 -> 81 | H28: =universe!H28 -> 663 | I28: =universe!I28 -> 139 | J28: =universe!J28 -> 646 | ... O28: =universe!O28 -> 472
A29: =universe!A29 -> Kinki (excl. Osaka) | B29: =LEFT(universe!B29,FIND(")",universe!B29)) -> Very Large (300 or more) | C29: =universe!C29 -> 52 | D29: =universe!D29 -> 27 | E29: =universe!E29 -> 43 | F29: =universe!F29 -> 76 | G29: =universe!G29 -> 32 | H29: =universe!H29 -> 156 | I29: =universe!I29 -> 21 | J29: =universe!J29 -> 67 | ... O29: =universe!O29 -> 60
A30: =universe!A30 -> Osaka | B30: =LEFT(universe!B30,FIND(")",universe!B30)) -> Small (5-19) | C30: =universe!C30 -> 575 | D30: =universe!D30 -> 2506 | E30: =universe!E30 -> 365 | F30: =universe!F30 -> 2108 | G30: =universe!G30 -> 141 | H30: =universe!H30 -> 5853 | I30: =universe!I30 -> 10442 | J30: =universe!J30 -> 14918 | ... O30: =universe!O30 -> 5226 | P30: =SUM(C30:O33) -> 89869
A31: =universe!A31 -> Osaka | B31: =LEFT(universe!B31,FIND(")",universe!B31)) -> Medium (20-99) | C31: =universe!C31 -> 416 | D31: =universe!D31 -> 912 | E31: =universe!E31 -> 211 | F31: =universe!F31 -> 832 | G31: =universe!G31 -> 65 | H31: =universe!H31 -> 2363 | I31: =universe!I31 -> 3740 | J31: =universe!J31 -> 4422 | ... O31: =universe!O31 -> 3655
A32: =universe!A32 -> Osaka | B32: =LEFT(universe!B32,FIND(")",universe!B32)) -> Large (100-299) | C32: =universe!C32 -> 100 | D32: =universe!D32 -> 68 | E32: =universe!E32 -> 33 | F32: =universe!F32 -> 87 | G32: =universe!G32 -> 12 | H32: =universe!H32 -> 263 | I32: =universe!I32 -> 359 | J32: =universe!J32 -> 468 | ... O32: =universe!O32 -> 601
A33: =universe!A33 -> Osaka | B33: =LEFT(universe!B33,FIND(")",universe!B33)) -> Very Large (300 or more) | C33: =universe!C33 -> 30 | D33: =universe!D33 -> 13 | E33: =universe!E33 -> 7 | F33: =universe!F33 -> 31 | G33: =universe!G33 -> 5 | H33: =universe!H33 -> 52 | I33: =universe!I33 -> 83 | J33: =universe!J33 -> 51 | ... O33: =universe!O33 -> 125
A34: =universe!A34 -> Chugoku | B34: =LEFT(universe!B34,FIND(")",universe!B34)) -> Small (5-19) | C34: =universe!C34 -> 1097 | D34: =universe!D34 -> 999 | E34: =universe!E34 -> 129 | F34: =universe!F34 -> 1025 | G34: =universe!G34 -> 167 | H34: =universe!H34 -> 3922 | I34: =universe!I34 -> 6543 | J34: =universe!J34 -> 14419 | ... O34: =universe!O34 -> 3850 | P34: =SUM(C34:O37) -> 69718
A35: =universe!A35 -> Chugoku | B35: =LEFT(universe!B35,FIND(")",universe!B35)) -> Medium (20-99) | C35: =universe!C35 -> 647 | D35: =universe!D35 -> 468 | E35: =universe!E35 -> 132 | F35: =universe!F35 -> 578 | G35: =universe!G35 -> 193 | H35: =universe!H35 -> 1991 | I35: =universe!I35 -> 1456 | J35: =universe!J35 -> 3590 | ... O35: =universe!O35 -> 2540
A36: =universe!A36 -> Chugoku | B36: =LEFT(universe!B36,FIND(")",universe!B36)) -> Large (100-299) | C36: =universe!C36 -> 142 | D36: =universe!D36 -> 94 | E36: =universe!E36 -> 37 | F36: =universe!F36 -> 90 | G36: =universe!G36 -> 76 | H36: =universe!H36 -> 321 | I36: =universe!I36 -> 89 | J36: =universe!J36 -> 269 | ... O36: =universe!O36 -> 260
A37: =universe!A37 -> Chugoku | B37: =LEFT(universe!B37,FIND(")",universe!B37)) -> Very Large (300 or more) | C37: =universe!C37 -> 28 | D37: =universe!D37 -> 25 | E37: =universe!E37 -> 23 | F37: =universe!F37 -> 32 | G37: =universe!G37 -> 24 | H37: =universe!H37 -> 84 | I37: =universe!I37 -> 4 | J37: =universe!J37 -> 23 | ... O37: =universe!O37 -> 44
A38: =universe!A38 -> Shikoku | B38: =LEFT(universe!B38,FIND(")",universe!B38)) -> Small (5-19) | C38: =universe!C38 -> 808 | D38: =universe!D38 -> 446 | E38: =universe!E38 -> 42 | F38: =universe!F38 -> 454 | G38: =universe!G38 -> 17 | H38: =universe!H38 -> 2156 | I38: =universe!I38 -> 3225 | J38: =universe!J38 -> 7643 | ... O38: =universe!O38 -> 2006 | P38: =SUM(C38:O41) -> 35151
A39: =universe!A39 -> Shikoku | B39: =LEFT(universe!B39,FIND(")",universe!B39)) -> Medium (20-99) | C39: =universe!C39 -> 438 | D39: =universe!D39 -> 194 | E39: =universe!E39 -> 43 | F39: =universe!F39 -> 252 | G39: =universe!G39 -> 10 | H39: =universe!H39 -> 1074 | I39: =universe!I39 -> 696 | J39: =universe!J39 -> 1755 | ... O39: =universe!O39 -> 1159
A40: =universe!A40 -> Shikoku | B40: =LEFT(universe!B40,FIND(")",universe!B40)) -> Large (100-299) | C40: =universe!C40 -> 80 | D40: =universe!D40 -> 20 | E40: =universe!E40 -> 8 | F40: =universe!F40 -> 35 | G40: =universe!G40 -> 3 | H40: =universe!H40 -> 173 | I40: =universe!I40 -> 30 | J40: =universe!J40 -> 100 | ... O40: =universe!O40 -> 108
A41: =universe!A41 -> Shikoku | B41: =LEFT(universe!B41,FIND(")",universe!B41)) -> Very Large (300 or more) | C41: =universe!C41 -> 8 | D41: =universe!D41 -> 5 | E41: =universe!E41 -> 10 | F41: =universe!F41 -> 12 | G41: =universe!G41 -> 0 | H41: =universe!H41 -> 42 | I41: =universe!I41 -> 2 | J41: =universe!J41 -> 6 | ... O41: =universe!O41 -> 13
A42: =universe!A42 -> Kyushu-Okinawa | B42: =LEFT(universe!B42,FIND(")",universe!B42)) -> Small (5-19) | C42: =universe!C42 -> 2774 | D42: =universe!D42 -> 1203 | E42: =universe!E42 -> 154 | F42: =universe!F42 -> 888 | G42: =universe!G42 -> 109 | H42: =universe!H42 -> 5344 | I42: =universe!I42 -> 12402 | J42: =universe!J42 -> 29391 | ... O42: =universe!O42 -> 6867 | P42: =SUM(C42:O45) -> 130305
A43: =universe!A43 -> Kyushu-Okinawa | B43: =LEFT(universe!B43,FIND(")",universe!B43)) -> Medium (20-99) | C43: =universe!C43 -> 1552 | D43: =universe!D43 -> 574 | E43: =universe!E43 -> 199 | F43: =universe!F43 -> 598 | G43: =universe!G43 -> 145 | H43: =universe!H43 -> 2424 | I43: =universe!I43 -> 2831 | J43: =universe!J43 -> 7016 | ... O43: =universe!O43 -> 4612
A44: =universe!A44 -> Kyushu-Okinawa | B44: =LEFT(universe!B44,FIND(")",universe!B44)) -> Large (100-299) | C44: =universe!C44 -> 285 | D44: =universe!D44 -> 63 | E44: =universe!E44 -> 88 | F44: =universe!F44 -> 107 | G44: =universe!G44 -> 52 | H44: =universe!H44 -> 347 | I44: =universe!I44 -> 177 | J44: =universe!J44 -> 348 | ... O44: =universe!O44 -> 477
A45: =universe!A45 -> Kyushu-Okinawa | B45: =LEFT(universe!B45,FIND(")",universe!B45)) -> Very Large (300 or more) | C45: =universe!C45 -> 66 | D45: =universe!D45 -> 12 | E45: =universe!E45 -> 46 | F45: =universe!F45 -> 27 | G45: =universe!G45 -> 24 | H45: =universe!H45 -> 84 | I45: =universe!I45 -> 16 | J45: =universe!J45 -> 51 | ... O45: =universe!O45 -> 65
C46: =SUM(C2:C45) -> 29371 | D46: =SUM(D2:D45) -> 26064 | E46: =SUM(E2:E45) -> 9435 | F46: =SUM(F2:F45) -> 28590 | G46: =SUM(G2:G45) -> 7389 | H46: =SUM(H2:H45) -> 93949 | I46: =SUM(I2:I45) -> 135397 | J46: =SUM(J2:J45) -> 302994 | ... P46: =SUM(P2:P45) -> 1160160
A47: Source: The Ministry of Internal Affairs and Communications (Establishment-level)

Sheet Table 2 Frame
C1: =RIGHT(SUBSTITUTE('frame fresh and panel'!C1,"_"," "),LEN(SUBSTITUTE('frame fresh and panel'!C1,"_"," "))-1) -> Food | D1: =RIGHT(SUBSTITUTE('frame fresh and panel'!D1,"_"," "),LEN(SUBSTITUTE('frame fresh and panel'!D1,"_"," "))-1) -> Basic Metals and Metal Products | E1: =RIGHT(SUBSTITUTE('frame fresh and panel'!E1,"_"," "),LEN(SUBSTITUTE('frame fresh and panel'!E1,"_"," "))-1) -> Comp Elec and Optical Prod | F1: =RIGHT(SUBSTITUTE('frame fresh and panel'!F1,"_"," "),LEN(SUBSTITUTE('frame fresh and panel'!F1,"_"," "))-1) -> Machinery and Equipment | G1: =RIGHT(SUBSTITUTE('frame fresh and panel'!G1,"_"," "),LEN(SUBSTITUTE('frame fresh and panel'!G1,"_"," "))-1) -> Motor Vehicles | H1: =RIGHT(SUBSTITUTE('frame fresh and panel'!H1,"_"," "),LEN(SUBSTITUTE('frame fresh and panel'!H1,"_"," "))-1) -> Other Manufacturing | I1: =RIGHT(SUBSTITUTE('frame fresh and panel'!I1,"_"," "),LEN(SUBSTITUTE('frame fresh and panel'!I1,"_"," "))-1) -> Wholesale | J1: =RIGHT(SUBSTITUTE('frame fresh and panel'!J1,"_"," "),LEN(SUBSTITUTE('frame fresh and panel'!J1,"_"," "))-1) -> Retail | ... O1: =RIGHT(SUBSTITUTE('frame fresh and panel'!O1,"_"," "),LEN(SUBSTITUTE('frame fresh and panel'!O1,"_"," "))-1) -> Other Services | P1: =RIGHT(SUBSTITUTE('frame fresh and panel'!T1,"_"," "),LEN(SUBSTITUTE('frame fresh and panel'!T1,"_"," "))-1) -> Grand Total
A2: ='frame fresh and panel'!A2 -> Hokkaido | B2: =LEFT('frame fresh and panel'!B2,FIND(")",'frame fresh and panel'!B2)) -> Small (5-19) | C2: ='frame fresh and panel'!C2 -> 478 | D2: ='frame fresh and panel'!D2 -> 217 | E2: ='frame fresh and panel'!E2 -> 20 | F2: ='frame fresh and panel'!F2 -> 102 | G2: ='frame fresh and panel'!G2 -> 19 | H2: ='frame fresh and panel'!H2 -> 1375 | I2: ='frame fresh and panel'!I2 -> 3919 | J2: ='frame fresh and panel'!J2 -> 5238 | ... O2: ='frame fresh and panel'!O2 -> 5202 | P2: =SUM(C2:O5) -> 44884
A3: ='frame fresh and panel'!A3 -> Hokkaido | B3: =LEFT('frame fresh and panel'!B3,FIND(")",'frame fresh and panel'!B3)) -> Medium (20-99) | C3: ='frame fresh and panel'!C3 -> 841 | D3: ='frame fresh and panel'!D3 -> 314 | E3: ='frame fresh and panel'!E3 -> 39 | F3: ='frame fresh and panel'!F3 -> 144 | G3: ='frame fresh and panel'!G3 -> 29 | H3: ='frame fresh and panel'!H3 -> 3358 | I3: ='frame fresh and panel'!I3 -> 1557 | J3: ='frame fresh and panel'!J3 -> 1209 | ... O3: ='frame fresh and panel'!O3 -> 1543
A4: ='frame fresh and panel'!A4 -> Hokkaido | B4: =LEFT('frame fresh and panel'!B4,FIND(")",'frame fresh and panel'!B4)) -> Large (100-299) | C4: ='frame fresh and panel'!C4 -> 29 | D4: ='frame fresh and panel'!D4 -> 14 | E4: ='frame fresh and panel'!E4 -> 3 | F4: ='frame fresh and panel'!F4 -> 5 | G4: ='frame fresh and panel'!G4 -> 3 | H4: ='frame fresh and panel'!H4 -> 48 | I4: ='frame fresh and panel'!I4 -> 59 | J4: ='frame fresh and panel'!J4 -> 65 | ... O4: ='frame fresh and panel'!O4 -> 206
A5: ='frame fresh and panel'!A5 -> Hokkaido | B5: =LEFT('frame fresh and panel'!B5,FIND(")",'frame fresh and panel'!B5)) -> Very Large (300 or more) | C5: ='frame fresh and panel'!C5 -> 11 | D5: ='frame fresh and panel'!D5 -> 4 | E5: ='frame fresh and panel'!E5 -> 0 | F5: ='frame fresh and panel'!F5 -> 3 | G5: ='frame fresh and panel'!G5 -> 4 | H5: ='frame fresh and panel'!H5 -> 14 | I5: ='frame fresh and panel'!I5 -> 18 | J5: ='frame fresh and panel'!J5 -> 28 | ... O5: ='frame fresh and panel'!O5 -> 69
A6: ='frame fresh and panel'!A6 -> Tohoku | B6: =LEFT('frame fresh and panel'!B6,FIND(")",'frame fresh and panel'!B6)) -> Small (5-19) | C6: ='frame fresh and panel'!C6 -> 642 | D6: ='frame fresh and panel'!D6 -> 481 | E6: ='frame fresh and panel'!E6 -> 163 | F6: ='frame fresh and panel'!F6 -> 248 | G6: ='frame fresh and panel'!G6 -> 45 | H6: ='frame fresh and panel'!H6 -> 3008 | I6: ='frame fresh and panel'!I6 -> 6223 | J6: ='frame fresh and panel'!J6 -> 9172 | ... O6: ='frame fresh and panel'!O6 -> 7806 | P6: =SUM(C6:O9) -> 75653
A7: ='frame fresh and panel'!A7 -> Tohoku | B7: =LEFT('frame fresh and panel'!B7,FIND(")",'frame fresh and panel'!B7)) -> Medium (20-99) | C7: ='frame fresh and panel'!C7 -> 1141 | D7: ='frame fresh and panel'!D7 -> 734 | E7: ='frame fresh and panel'!E7 -> 316 | F7: ='frame fresh and panel'!F7 -> 398 | G7: ='frame fresh and panel'!G7 -> 95 | H7: ='frame fresh and panel'!H7 -> 7445 | I7: ='frame fresh and panel'!I7 -> 1980 | J7: ='frame fresh and panel'!J7 -> 1597 | ... O7: ='frame fresh and panel'!O7 -> 2041
A8: ='frame fresh and panel'!A8 -> Tohoku | B8: =LEFT('frame fresh and panel'!B8,FIND(")",'frame fresh and panel'!B8)) -> Large (100-299) | C8: ='frame fresh and panel'!C8 -> 57 | D8: ='frame fresh and panel'!D8 -> 55 | E8: ='frame fresh and panel'!E8 -> 72 | F8: ='frame fresh and panel'!F8 -> 48 | G8: ='frame fresh and panel'!G8 -> 20 | H8: ='frame fresh and panel'!H8 -> 171 | I8: ='frame fresh and panel'!I8 -> 111 | J8: ='frame fresh and panel'!J8 -> 104 | ... O8: ='frame fresh and panel'!O8 -> 317
A9: ='frame fresh and panel'!A9 -> Tohoku | B9: =LEFT('frame fresh and panel'!B9,FIND(")",'frame fresh and panel'!B9)) -> Very Large (300 or more) | C9: ='frame fresh and panel'!C9 -> 13 | D9: ='frame fresh and panel'!D9 -> 8 | E9: ='frame fresh and panel'!E9 -> 36 | F9: ='frame fresh and panel'!F9 -> 7 | G9: ='frame fresh and panel'!G9 -> 14 | H9: ='frame fresh and panel'!H9 -> 40 | I9: ='frame fresh and panel'!I9 -> 20 | J9: ='frame fresh and panel'!J9 -> 41 | ... O9: ='frame fresh and panel'!O9 -> 61
A10: ='frame fresh and panel'!A10 -> Kanto (excl. Tokyo) | B10: =LEFT('frame fresh and panel'!B10,FIND(")",'frame fresh and panel'!B10)) -> Small (5-19) | C10: ='frame fresh and panel'!C10 -> 842 | D10: ='frame fresh and panel'!D10 -> 2648 | E10: ='frame fresh and panel'!E10 -> 643 | F10: ='frame fresh and panel'!F10 -> 1113 | G10: ='frame fresh and panel'!G10 -> 279 | H10: ='frame fresh and panel'!H10 -> 6332 | I10: ='frame fresh and panel'!I10 -> 16000 | J10: ='frame fresh and panel'!J10 -> 14239 | ... O10: ='frame fresh and panel'!O10 -> 17511 | P10: =SUM(C10:O13) -> 189824
A11: ='frame fresh and panel'!A11 -> Kanto (excl. Tokyo) | B11: =LEFT('frame fresh and panel'!B11,FIND(")",'frame fresh and panel'!B11)) -> Medium (20-99) | C11: ='frame fresh and panel'!C11 -> 1475 | D11: ='frame fresh and panel'!D11 -> 3675 | E11: ='frame fresh and panel'!E11 -> 1036 | F11: ='frame fresh and panel'!F11 -> 1917 | G11: ='frame fresh and panel'!G11 -> 554 | H11: ='frame fresh and panel'!H11 -> 16947 | I11: ='frame fresh and panel'!I11 -> 6055 | J11: ='frame fresh and panel'!J11 -> 2894 | ... O11: ='frame fresh and panel'!O11 -> 5933
A12: ='frame fresh and panel'!A12 -> Kanto (excl. Tokyo) | B12: =LEFT('frame fresh and panel'!B12,FIND(")",'frame fresh and panel'!B12)) -> Large (100-299) | C12: ='frame fresh and panel'!C12 -> 106 | D12: ='frame fresh and panel'!D12 -> 216 | E12: ='frame fresh and panel'!E12 -> 115 | F12: ='frame fresh and panel'!F12 -> 134 | G12: ='frame fresh and panel'!G12 -> 100 | H12: ='frame fresh and panel'!H12 -> 419 | I12: ='frame fresh and panel'!I12 -> 238 | J12: ='frame fresh and panel'!J12 -> 251 | ... O12: ='frame fresh and panel'!O12 -> 834
A13: ='frame fresh and panel'!A13 -> Kanto (excl. Tokyo) | B13: =LEFT('frame fresh and panel'!B13,FIND(")",'frame fresh and panel'!B13)) -> Very Large (300 or more) | C13: ='frame fresh and panel'!C13 -> 33 | D13: ='frame fresh and panel'!D13 -> 47 | E13: ='frame fresh and panel'!E13 -> 69 | F13: ='frame fresh and panel'!F13 -> 49 | G13: ='frame fresh and panel'!G13 -> 60 | H13: ='frame fresh and panel'!H13 -> 142 | I13: ='frame fresh and panel'!I13 -> 71 | J13: ='frame fresh and panel'!J13 -> 130 | ... O13: ='frame fresh and panel'!O13 -> 295
A14: ='frame fresh and panel'!A14 -> Tokyo | B14: =LEFT('frame fresh and panel'!B14,FIND(")",'frame fresh and panel'!B14)) -> Small (5-19) | C14: ='frame fresh and panel'!C14 -> 284 | D14: ='frame fresh and panel'!D14 -> 747 | E14: ='frame fresh and panel'!E14 -> 453 | F14: ='frame fresh and panel'!F14 -> 464 | G14: ='frame fresh and panel'!G14 -> 60 | H14: ='frame fresh and panel'!H14 -> 3216 | I14: ='frame fresh and panel'!I14 -> 17893 | J14: ='frame fresh and panel'!J14 -> 7691 | ... O14: ='frame fresh and panel'!O14 -> 12330 | P14: =SUM(C14:O17) -> 126950
A15: ='frame fresh and panel'!A15 -> Tokyo | B15: =LEFT('frame fresh and panel'!B15,FIND(")",'frame fresh and panel'!B15)) -> Medium (20-99) | C15: ='frame fresh and panel'!C15 -> 466 | D15: ='frame fresh and panel'!D15 -> 1221 | E15: ='frame fresh and panel'!E15 -> 749 | F15: ='frame fresh and panel'!F15 -> 743 | G15: ='frame fresh and panel'!G15 -> 106 | H15: ='frame fresh and panel'!H15 -> 6546 | I15: ='frame fresh and panel'!I15 -> 9109 | J15: ='frame fresh and panel'!J15 -> 2123 | ... O15: ='frame fresh and panel'!O15 -> 6310
A16: ='frame fresh and panel'!A16 -> Tokyo | B16: =LEFT('frame fresh and panel'!B16,FIND(")",'frame fresh and panel'!B16)) -> Large (100-299) | C16: ='frame fresh and panel'!C16 -> 102 | D16: ='frame fresh and panel'!D16 -> 127 | E16: ='frame fresh and panel'!E16 -> 124 | F16: ='frame fresh and panel'!F16 -> 120 | G16: ='frame fresh and panel'!G16 -> 23 | H16: ='frame fresh and panel'!H16 -> 651 | I16: ='frame fresh and panel'!I16 -> 1013 | J16: ='frame fresh and panel'!J16 -> 304 | ... O16: ='frame fresh and panel'!O16 -> 1519
A17: ='frame fresh and panel'!A17 -> Tokyo | B17: =LEFT('frame fresh and panel'!B17,FIND(")",'frame fresh and panel'!B17)) -> Very Large (300 or more) | C17: ='frame fresh and panel'!C17 -> 100 | D17: ='frame fresh and panel'!D17 -> 109 | E17: ='frame fresh and panel'!E17 -> 133 | F17: ='frame fresh and panel'!F17 -> 105 | G17: ='frame fresh and panel'!G17 -> 32 | H17: ='frame fresh and panel'!H17 -> 563 | I17: ='frame fresh and panel'!I17 -> 497 | J17: ='frame fresh and panel'!J17 -> 313 | ... O17: ='frame fresh and panel'!O17 -> 844
A18: ='frame fresh and panel'!A18 -> Chubu (excl. Aichi) | B18: =LEFT('frame fresh and panel'!B18,FIND(")",'frame fresh and panel'!B18)) -> Small (5-19) | C18: ='frame fresh and panel'!C18 -> 1003 | D18: ='frame fresh and panel'!D18 -> 1953 | E18: ='frame fresh and panel'!E18 -> 387 | F18: ='frame fresh and panel'!F18 -> 1125 | G18: ='frame fresh and panel'!G18 -> 280 | H18: ='frame fresh and panel'!H18 -> 5999 | I18: ='frame fresh and panel'!I18 -> 12123 | J18: ='frame fresh and panel'!J18 -> 13521 | ... O18: ='frame fresh and panel'!O18 -> 12770 | P18: =SUM(C18:O21) -> 136062
A19: ='frame fresh and panel'!A19 -> Chubu (excl. Aichi) | B19: =LEFT('frame fresh and panel'!B19,FIND(")",'frame fresh and panel'!B19)) -> Medium (20-99) | C19: ='frame fresh and panel'!C19 -> 1853 | D19: ='frame fresh and panel'!D19 -> 3018 | E19: ='frame fresh and panel'!E19 -> 786 | F19: ='frame fresh and panel'!F19 -> 1793 | G19: ='frame fresh and panel'!G19 -> 472 | H19: ='frame fresh and panel'!H19 -> 14804 | I19: ='frame fresh and panel'!I19 -> 4266 | J19: ='frame fresh and panel'!J19 -> 2379 | ... O19: ='frame fresh and panel'!O19 -> 3485
A20: ='frame fresh and panel'!A20 -> Chubu (excl. Aichi) | B20: =LEFT('frame fresh and panel'!B20,FIND(")",'frame fresh and panel'!B20)) -> Large (100-299) | C20: ='frame fresh and panel'!C20 -> 95 | D20: ='frame fresh and panel'!D20 -> 207 | E20: ='frame fresh and panel'!E20 -> 101 | F20: ='frame fresh and panel'!F20 -> 164 | G20: ='frame fresh and panel'!G20 -> 79 | H20: ='frame fresh and panel'!H20 -> 487 | I20: ='frame fresh and panel'!I20 -> 217 | J20: ='frame fresh and panel'!J20 -> 151 | ... O20: ='frame fresh and panel'!O20 -> 476
A21: ='frame fresh and panel'!A21 -> Chubu (excl. Aichi) | B21: =LEFT('frame fresh and panel'!B21,FIND(")",'frame fresh and panel'!B21)) -> Very Large (300 or more) | C21: ='frame fresh and panel'!C21 -> 31 | D21: ='frame fresh and panel'!D21 -> 40 | E21: ='frame fresh and panel'!E21 -> 59 | F21: ='frame fresh and panel'!F21 -> 55 | G21: ='frame fresh and panel'!G21 -> 46 | H21: ='frame fresh and panel'!H21 -> 128 | I21: ='frame fresh and panel'!I21 -> 43 | J21: ='frame fresh and panel'!J21 -> 70 | ... O21: ='frame fresh and panel'!O21 -> 129
A22: ='frame fresh and panel'!A22 -> Aichi | B22: =LEFT('frame fresh and panel'!B22,FIND(")",'frame fresh and panel'!B22)) -> Small (5-19) | C22: ='frame fresh and panel'!C22 -> 241 | D22: ='frame fresh and panel'!D22 -> 970 | E22: ='frame fresh and panel'!E22 -> 88 | F22: ='frame fresh and panel'!F22 -> 762 | G22: ='frame fresh and panel'!G22 -> 213 | H22: ='frame fresh and panel'!H22 -> 2241 | I22: ='frame fresh and panel'!I22 -> 5671 | J22: ='frame fresh and panel'!J22 -> 3212 | ... O22: ='frame fresh and panel'!O22 -> 4673 | P22: =SUM(C22:O25) -> 54570
A23: ='frame fresh and panel'!A23 -> Aichi | B23: =LEFT('frame fresh and panel'!B23,FIND(")",'frame fresh and panel'!B23)) -> Medium (20-99) | C23: ='frame fresh and panel'!C23 -> 438 | D23: ='frame fresh and panel'!D23 -> 1493 | E23: ='frame fresh and panel'!E23 -> 155 | F23: ='frame fresh and panel'!F23 -> 1067 | G23: ='frame fresh and panel'!G23 -> 444 | H23: ='frame fresh and panel'!H23 -> 4473 | I23: ='frame fresh and panel'!I23 -> 2851 | J23: ='frame fresh and panel'!J23 -> 878 | ... O23: ='frame fresh and panel'!O23 -> 2251
A24: ='frame fresh and panel'!A24 -> Aichi | B24: =LEFT('frame fresh and panel'!B24,FIND(")",'frame fresh and panel'!B24)) -> Large (100-299) | C24: ='frame fresh and panel'!C24 -> 47 | D24: ='frame fresh and panel'!D24 -> 120 | E24: ='frame fresh and panel'!E24 -> 21 | F24: ='frame fresh and panel'!F24 -> 96 | G24: ='frame fresh and panel'!G24 -> 111 | H24: ='frame fresh and panel'!H24 -> 227 | I24: ='frame fresh and panel'!I24 -> 175 | J24: ='frame fresh and panel'!J24 -> 95 | ... O24: ='frame fresh and panel'!O24 -> 319
A25: ='frame fresh and panel'!A25 -> Aichi | B25: =LEFT('frame fresh and panel'!B25,FIND(")",'frame fresh and panel'!B25)) -> Very Large (300 or more) | C25: ='frame fresh and panel'!C25 -> 18 | D25: ='frame fresh and panel'!D25 -> 43 | E25: ='frame fresh and panel'!E25 -> 14 | F25: ='frame fresh and panel'!F25 -> 40 | G25: ='frame fresh and panel'!G25 -> 75 | H25: ='frame fresh and panel'!H25 -> 86 | I25: ='frame fresh and panel'!I25 -> 61 | J25: ='frame fresh and panel'!J25 -> 49 | ... O25: ='frame fresh and panel'!O25 -> 152
A26: ='frame fresh and panel'!A26 -> Kinki (excl. Osaka) | B26: =LEFT('frame fresh and panel'!B26,FIND(")",'frame fresh and panel'!B26)) -> Small (5-19) | C26: ='frame fresh and panel'!C26 -> 663 | D26: ='frame fresh and panel'!D26 -> 1034 | E26: ='frame fresh and panel'!E26 -> 198 | F26: ='frame fresh and panel'!F26 -> 582 | G26: ='frame fresh and panel'!G26 -> 107 | H26: ='frame fresh and panel'!H26 -> 4102 | I26: ='frame fresh and panel'!I26 -> 9974 | J26: ='frame fresh and panel'!J26 -> 8851 | ... O26: ='frame fresh and panel'!O26 -> 8500 | P26: =SUM(C26:O29) -> 102611
A27: ='frame fresh and panel'!A27 -> Kinki (excl. Osaka) | B27: =LEFT('frame fresh and panel'!B27,FIND(")",'frame fresh and panel'!B27)) -> Medium (20-99) | C27: ='frame fresh and panel'!C27 -> 1151 | D27: ='frame fresh and panel'!D27 -> 1485 | E27: ='frame fresh and panel'!E27 -> 356 | F27: ='frame fresh and panel'!F27 -> 1002 | G27: ='frame fresh and panel'!G27 -> 202 | H27: ='frame fresh and panel'!H27 -> 10435 | I27: ='frame fresh and panel'!I27 -> 3793 | J27: ='frame fresh and panel'!J27 -> 1852 | ... O27: ='frame fresh and panel'!O27 -> 2913
A28: ='frame fresh and panel'!A28 -> Kinki (excl. Osaka) | B28: =LEFT('frame fresh and panel'!B28,FIND(")",'frame fresh and panel'!B28)) -> Large (100-299) | C28: ='frame fresh and panel'!C28 -> 62 | D28: ='frame fresh and panel'!D28 -> 96 | E28: ='frame fresh and panel'!E28 -> 60 | F28: ='frame fresh and panel'!F28 -> 123 | G28: ='frame fresh and panel'!G28 -> 36 | H28: ='frame fresh and panel'!H28 -> 369 | I28: ='frame fresh and panel'!I28 -> 158 | J28: ='frame fresh and panel'!J28 -> 120 | ... O28: ='frame fresh and panel'!O28 -> 368
A29: ='frame fresh and panel'!A29 -> Kinki (excl. Osaka) | B29: =LEFT('frame fresh and panel'!B29,FIND(")",'frame fresh and panel'!B29)) -> Very Large (300 or more) | C29: ='frame fresh and panel'!C29 -> 23 | D29: ='frame fresh and panel'!D29 -> 27 | E29: ='frame fresh and panel'!E29 -> 35 | F29: ='frame fresh and panel'!F29 -> 56 | G29: ='frame fresh and panel'!G29 -> 13 | H29: ='frame fresh and panel'!H29 -> 118 | I29: ='frame fresh and panel'!I29 -> 34 | J29: ='frame fresh and panel'!J29 -> 52 | ... O29: ='frame fresh and panel'!O29 -> 106
A30: ='frame fresh and panel'!A30 -> Osaka | B30: =LEFT('frame fresh and panel'!B30,FIND(")",'frame fresh and panel'!B30)) -> Small (5-19) | C30: ='frame fresh and panel'!C30 -> 232 | D30: ='frame fresh and panel'!D30 -> 1580 | E30: ='frame fresh and panel'!E30 -> 180 | F30: ='frame fresh and panel'!F30 -> 763 | G30: ='frame fresh and panel'!G30 -> 56 | H30: ='frame fresh and panel'!H30 -> 2912 | I30: ='frame fresh and panel'!I30 -> 9973 | J30: ='frame fresh and panel'!J30 -> 3762 | ... O30: ='frame fresh and panel'!O30 -> 5554 | P30: =SUM(C30:O33) -> 73568
A31: ='frame fresh and panel'!A31 -> Osaka | B31: =LEFT('frame fresh and panel'!B31,FIND(")",'frame fresh and panel'!B31)) -> Medium (20-99) | C31: ='frame fresh and panel'!C31 -> 344 | D31: ='frame fresh and panel'!D31 -> 1891 | E31: ='frame fresh and panel'!E31 -> 258 | F31: ='frame fresh and panel'!F31 -> 981 | G31: ='frame fresh and panel'!G31 -> 109 | H31: ='frame fresh and panel'!H31 -> 4861 | I31: ='frame fresh and panel'!I31 -> 5142 | J31: ='frame fresh and panel'!J31 -> 1209 | ... O31: ='frame fresh and panel'!O31 -> 2633
A32: ='frame fresh and panel'!A32 -> Osaka | B32: =LEFT('frame fresh and panel'!B32,FIND(")",'frame fresh and panel'!B32)) -> Large (100-299) | C32: ='frame fresh and panel'!C32 -> 51 | D32: ='frame fresh and panel'!D32 -> 146 | E32: ='frame fresh and panel'!E32 -> 36 | F32: ='frame fresh and panel'!F32 -> 120 | G32: ='frame fresh and panel'!G32 -> 6 | H32: ='frame fresh and panel'!H32 -> 345 | I32: ='frame fresh and panel'!I32 -> 379 | J32: ='frame fresh and panel'!J32 -> 136 | ... O32: ='frame fresh and panel'!O32 -> 414
A33: ='frame fresh and panel'!A33 -> Osaka | B33: =LEFT('frame fresh and panel'!B33,FIND(")",'frame fresh and panel'!B33)) -> Very Large (300 or more) | C33: ='frame fresh and panel'!C33 -> 15 | D33: ='frame fresh and panel'!D33 -> 49 | E33: ='frame fresh and panel'!E33 -> 26 | F33: ='frame fresh and panel'!F33 -> 42 | G33: ='frame fresh and panel'!G33 -> 8 | H33: ='frame fresh and panel'!H33 -> 223 | I33: ='frame fresh and panel'!I33 -> 112 | J33: ='frame fresh and panel'!J33 -> 82 | ... O33: ='frame fresh and panel'!O33 -> 177
A34: ='frame fresh and panel'!A34 -> Chugoku | B34: =LEFT('frame fresh and panel'!B34,FIND(")",'frame fresh and panel'!B34)) -> Small (5-19) | C34: ='frame fresh and panel'!C34 -> 426 | D34: ='frame fresh and panel'!D34 -> 668 | E34: ='frame fresh and panel'!E34 -> 63 | F34: ='frame fresh and panel'!F34 -> 355 | G34: ='frame fresh and panel'!G34 -> 86 | H34: ='frame fresh and panel'!H34 -> 2607 | I34: ='frame fresh and panel'!I34 -> 5886 | J34: ='frame fresh and panel'!J34 -> 7629 | ... O34: ='frame fresh and panel'!O34 -> 6487 | P34: =SUM(C34:O37) -> 65036
A35: ='frame fresh and panel'!A35 -> Chugoku | B35: =LEFT('frame fresh and panel'!B35,FIND(")",'frame fresh and panel'!B35)) -> Medium (20-99) | C35: ='frame fresh and panel'!C35 -> 803 | D35: ='frame fresh and panel'!D35 -> 981 | E35: ='frame fresh and panel'!E35 -> 117 | F35: ='frame fresh and panel'!F35 -> 479 | G35: ='frame fresh and panel'!G35 -> 118 | H35: ='frame fresh and panel'!H35 -> 5605 | I35: ='frame fresh and panel'!I35 -> 2118 | J35: ='frame fresh and panel'!J35 -> 1412 | ... O35: ='frame fresh and panel'!O35 -> 1977
A36: ='frame fresh and panel'!A36 -> Chugoku | B36: =LEFT('frame fresh and panel'!B36,FIND(")",'frame fresh and panel'!B36)) -> Large (100-299) | C36: ='frame fresh and panel'!C36 -> 61 | D36: ='frame fresh and panel'!D36 -> 59 | E36: ='frame fresh and panel'!E36 -> 15 | F36: ='frame fresh and panel'!F36 -> 47 | G36: ='frame fresh and panel'!G36 -> 34 | H36: ='frame fresh and panel'!H36 -> 189 | I36: ='frame fresh and panel'!I36 -> 103 | J36: ='frame fresh and panel'!J36 -> 82 | ... O36: ='frame fresh and panel'!O36 -> 269
A37: ='frame fresh and panel'!A37 -> Chugoku | B37: =LEFT('frame fresh and panel'!B37,FIND(")",'frame fresh and panel'!B37)) -> Very Large (300 or more) | C37: ='frame fresh and panel'!C37 -> 16 | D37: ='frame fresh and panel'!D37 -> 23 | E37: ='frame fresh and panel'!E37 -> 15 | F37: ='frame fresh and panel'!F37 -> 24 | G37: ='frame fresh and panel'!G37 -> 25 | H37: ='frame fresh and panel'!H37 -> 57 | I37: ='frame fresh and panel'!I37 -> 23 | J37: ='frame fresh and panel'!J37 -> 39 | ... O37: ='frame fresh and panel'!O37 -> 81
A38: ='frame fresh and panel'!A38 -> Shikoku | B38: =LEFT('frame fresh and panel'!B38,FIND(")",'frame fresh and panel'!B38)) -> Small (5-19) | C38: ='frame fresh and panel'!C38 -> 314 | D38: ='frame fresh and panel'!D38 -> 263 | E38: ='frame fresh and panel'!E38 -> 21 | F38: ='frame fresh and panel'!F38 -> 173 | G38: ='frame fresh and panel'!G38 -> 12 | H38: ='frame fresh and panel'!H38 -> 1398 | I38: ='frame fresh and panel'!I38 -> 3504 | J38: ='frame fresh and panel'!J38 -> 4472 | ... O38: ='frame fresh and panel'!O38 -> 3877 | P38: =SUM(C38:O41) -> 37942
A39: ='frame fresh and panel'!A39 -> Shikoku | B39: =LEFT('frame fresh and panel'!B39,FIND(")",'frame fresh and panel'!B39)) -> Medium (20-99) | C39: ='frame fresh and panel'!C39 -> 666 | D39: ='frame fresh and panel'!D39 -> 363 | E39: ='frame fresh and panel'!E39 -> 51 | F39: ='frame fresh and panel'!F39 -> 250 | G39: ='frame fresh and panel'!G39 -> 23 | H39: ='frame fresh and panel'!H39 -> 3673 | I39: ='frame fresh and panel'!I39 -> 1177 | J39: ='frame fresh and panel'!J39 -> 845 | ... O39: ='frame fresh and panel'!O39 -> 932
A40: ='frame fresh and panel'!A40 -> Shikoku | B40: =LEFT('frame fresh and panel'!B40,FIND(")",'frame fresh and panel'!B40)) -> Large (100-299) | C40: ='frame fresh and panel'!C40 -> 46 | D40: ='frame fresh and panel'!D40 -> 17 | E40: ='frame fresh and panel'!E40 -> 5 | F40: ='frame fresh and panel'!F40 -> 29 | G40: ='frame fresh and panel'!G40 -> 2 | H40: ='frame fresh and panel'!H40 -> 120 | I40: ='frame fresh and panel'!I40 -> 69 | J40: ='frame fresh and panel'!J40 -> 52 | ... O40: ='frame fresh and panel'!O40 -> 125
A41: ='frame fresh and panel'!A41 -> Shikoku | B41: =LEFT('frame fresh and panel'!B41,FIND(")",'frame fresh and panel'!B41)) -> Very Large (300 or more) | C41: ='frame fresh and panel'!C41 -> 4 | D41: ='frame fresh and panel'!D41 -> 8 | E41: ='frame fresh and panel'!E41 -> 2 | F41: ='frame fresh and panel'!F41 -> 6 | G41: ='frame fresh and panel'!G41 -> 0 | H41: ='frame fresh and panel'!H41 -> 37 | I41: ='frame fresh and panel'!I41 -> 11 | J41: ='frame fresh and panel'!J41 -> 15 | ... O41: ='frame fresh and panel'!O41 -> 22
A42: ='frame fresh and panel'!A42 -> Kyushu-Okinawa | B42: =LEFT('frame fresh and panel'!B42,FIND(")",'frame fresh and panel'!B42)) -> Small (5-19) | C42: ='frame fresh and panel'!C42 -> 1035 | D42: ='frame fresh and panel'!D42 -> 598 | E42: ='frame fresh and panel'!E42 -> 69 | F42: ='frame fresh and panel'!F42 -> 289 | G42: ='frame fresh and panel'!G42 -> 42 | H42: ='frame fresh and panel'!H42 -> 3501 | I42: ='frame fresh and panel'!I42 -> 11047 | J42: ='frame fresh and panel'!J42 -> 12736 | ... O42: ='frame fresh and panel'!O42 -> 10734 | P42: =SUM(C42:O45) -> 116335
A43: ='frame fresh and panel'!A43 -> Kyushu-Okinawa | B43: =LEFT('frame fresh and panel'!B43,FIND(")",'frame fresh and panel'!B43)) -> Medium (20-99) | C43: ='frame fresh and panel'!C43 -> 1700 | D43: ='frame fresh and panel'!D43 -> 868 | E43: ='frame fresh and panel'!E43 -> 148 | F43: ='frame fresh and panel'!F43 -> 442 | G43: ='frame fresh and panel'!G43 -> 96 | H43: ='frame fresh and panel'!H43 -> 8665 | I43: ='frame fresh and panel'!I43 -> 3955 | J43: ='frame fresh and panel'!J43 -> 2457 | ... O43: ='frame fresh and panel'!O43 -> 3362
A44: ='frame fresh and panel'!A44 -> Kyushu-Okinawa | B44: =LEFT('frame fresh and panel'!B44,FIND(")",'frame fresh and panel'!B44)) -> Large (100-299) | C44: ='frame fresh and panel'!C44 -> 91 | D44: ='frame fresh and panel'!D44 -> 70 | E44: ='frame fresh and panel'!E44 -> 40 | F44: ='frame fresh and panel'!F44 -> 49 | G44: ='frame fresh and panel'!G44 -> 23 | H44: ='frame fresh and panel'!H44 -> 212 | I44: ='frame fresh and panel'!I44 -> 223 | J44: ='frame fresh and panel'!J44 -> 194 | ... O44: ='frame fresh and panel'!O44 -> 505
A45: ='frame fresh and panel'!A45 -> Kyushu-Okinawa | B45: =LEFT('frame fresh and panel'!B45,FIND(")",'frame fresh and panel'!B45)) -> Very Large (300 or more) | C45: ='frame fresh and panel'!C45 -> 21 | D45: ='frame fresh and panel'!D45 -> 15 | E45: ='frame fresh and panel'!E45 -> 23 | F45: ='frame fresh and panel'!F45 -> 16 | G45: ='frame fresh and panel'!G45 -> 20 | H45: ='frame fresh and panel'!H45 -> 58 | I45: ='frame fresh and panel'!I45 -> 60 | J45: ='frame fresh and panel'!J45 -> 70 | ... O45: ='frame fresh and panel'!O45 -> 136
C46: =SUM(C2:C45) -> 18070 | D46: =SUM(D2:D45) -> 28702 | E46: =SUM(E2:E45) -> 7300 | F46: =SUM(F2:F45) -> 16530 | G46: =SUM(G2:G45) -> 4181 | H46: =SUM(H2:H45) -> 128207 | I46: =SUM(I2:I45) -> 147911 | J46: =SUM(J2:J45) -> 111821 | ... P46: =SUM(P2:P45) -> 1023435
A47: Source: Orbis, BvD (Firm-level)

Sheet Table 3 Original Survey Design
C1: =RIGHT(SUBSTITUTE('original survey design'!C1,"_"," "),LEN(SUBSTITUTE('original survey design'!C1,"_"," "))-1) -> Food | D1: =RIGHT(SUBSTITUTE('original survey design'!D1,"_"," "),LEN(SUBSTITUTE('original survey design'!D1,"_"," "))-1) -> Basic Metals and Metal Products | E1: =RIGHT(SUBSTITUTE('original survey design'!E1,"_"," "),LEN(SUBSTITUTE('original survey design'!E1,"_"," "))-1) -> Computer Electronicand Optical | F1: =RIGHT(SUBSTITUTE('original survey design'!F1,"_"," "),LEN(SUBSTITUTE('original survey design'!F1,"_"," "))-1) -> Machinery and Equipment | G1: =RIGHT(SUBSTITUTE('original survey design'!G1,"_"," "),LEN(SUBSTITUTE('original survey design'!G1,"_"," "))-1) -> Motor Vehicles | H1: =RIGHT(SUBSTITUTE('original survey design'!H1,"_"," "),LEN(SUBSTITUTE('original survey design'!H1,"_"," "))-1) -> Other Manufacturing | I1: =RIGHT(SUBSTITUTE('original survey design'!I1,"_"," "),LEN(SUBSTITUTE('original survey design'!I1,"_"," "))-1) -> Wholesale | J1: =RIGHT(SUBSTITUTE('original survey design'!J1,"_"," "),LEN(SUBSTITUTE('original survey design'!J1,"_"," "))-1) -> Retail | ... O1: =RIGHT(SUBSTITUTE('original survey design'!O1,"_"," "),LEN(SUBSTITUTE('original survey design'!O1,"_"," "))-1) -> Other Services | P1: =RIGHT(SUBSTITUTE('original survey design'!T1,"_"," "),LEN(SUBSTITUTE('original survey design'!T1,"_"," "))-1) -> Grand Total
A2: ='original survey design'!A2 -> Hokkaido | B2: =LEFT('original survey design'!B2,FIND(")",'original survey design'!B2)) -> Small (5-19) | C2: ='original survey design'!C2 -> 1 | D2: ='original survey design'!D2 -> 1 | E2: ='original survey design'!E2 -> 1 | F2: ='original survey design'!F2 -> 1 | G2: ='original survey design'!G2 -> 1 | H2: ='original survey design'!H2 -> 1 | I2: ='original survey design'!I2 -> 3 | J2: ='original survey design'!J2 -> 6 | ... O2: ='original survey design'!O2 -> 3 | P2: =SUM(C2:O5) -> 180
A3: ='original survey design'!A3 -> Hokkaido | B3: =LEFT('original survey design'!B3,FIND(")",'original survey design'!B3)) -> Medium (20-99) | C3: ='original survey design'!C3 -> 6 | D3: ='original survey design'!D3 -> 5 | E3: ='original survey design'!E3 -> 6 | F3: ='original survey design'!F3 -> 6 | G3: ='original survey design'!G3 -> 6 | H3: ='original survey design'!H3 -> 8 | I3: ='original survey design'!I3 -> 5 | J3: ='original survey design'!J3 -> 6 | ... O3: ='original survey design'!O3 -> 5
A4: ='original survey design'!A4 -> Hokkaido | B4: =LEFT('original survey design'!B4,FIND(")",'original survey design'!B4)) -> Large (100-299) | C4: ='original survey design'!C4 -> 6 | D4: ='original survey design'!D4 -> 3 | E4: ='original survey design'!E4 -> 1 | F4: ='original survey design'!F4 -> 1 | G4: ='original survey design'!G4 -> 1 | H4: ='original survey design'!H4 -> 6 | I4: ='original survey design'!I4 -> 6 | J4: ='original survey design'!J4 -> 6 | ... O4: ='original survey design'!O4 -> 6
A5: ='original survey design'!A5 -> Hokkaido | B5: =LEFT('original survey design'!B5,FIND(")",'original survey design'!B5)) -> Very Large (300 or more) | C5: ='original survey design'!C5 -> 3 | D5: ='original survey design'!D5 -> 1 | E5: ='original survey design'!E5 -> 0 | F5: ='original survey design'!F5 -> 1 | G5: ='original survey design'!G5 -> 1 | H5: ='original survey design'!H5 -> 2 | I5: ='original survey design'!I5 -> 2 | J5: ='original survey design'!J5 -> 2 | ... O5: ='original survey design'!O5 -> 2
A6: ='original survey design'!A6 -> Tohoku | B6: =LEFT('original survey design'!B6,FIND(")",'original survey design'!B6)) -> Small (5-19) | C6: ='original survey design'!C6 -> 1 | D6: ='original survey design'!D6 -> 1 | E6: ='original survey design'!E6 -> 1 | F6: ='original survey design'!F6 -> 1 | G6: ='original survey design'!G6 -> 1 | H6: ='original survey design'!H6 -> 2 | I6: ='original survey design'!I6 -> 4 | J6: ='original survey design'!J6 -> 14 | ... O6: ='original survey design'!O6 -> 4 | P6: =SUM(C6:O9) -> 180
A7: ='original survey design'!A7 -> Tohoku | B7: =LEFT('original survey design'!B7,FIND(")",'original survey design'!B7)) -> Medium (20-99) | C7: ='original survey design'!C7 -> 4 | D7: ='original survey design'!D7 -> 3 | E7: ='original survey design'!E7 -> 4 | F7: ='original survey design'!F7 -> 3 | G7: ='original survey design'!G7 -> 4 | H7: ='original survey design'!H7 -> 11 | I7: ='original survey design'!I7 -> 3 | J7: ='original survey design'!J7 -> 6 | ... O7: ='original survey design'!O7 -> 4
A8: ='original survey design'!A8 -> Tohoku | B8: =LEFT('original survey design'!B8,FIND(")",'original survey design'!B8)) -> Large (100-299) | C8: ='original survey design'!C8 -> 5 | D8: ='original survey design'!D8 -> 5 | E8: ='original survey design'!E8 -> 7 | F8: ='original survey design'!F8 -> 6 | G8: ='original survey design'!G8 -> 4 | H8: ='original survey design'!H8 -> 4 | I8: ='original survey design'!I8 -> 3 | J8: ='original survey design'!J8 -> 4 | ... O8: ='original survey design'!O8 -> 4
A9: ='original survey design'!A9 -> Tohoku | B9: =LEFT('original survey design'!B9,FIND(")",'original survey design'!B9)) -> Very Large (300 or more) | C9: ='original survey design'!C9 -> 1 | D9: ='original survey design'!D9 -> 1 | E9: ='original survey design'!E9 -> 3 | F9: ='original survey design'!F9 -> 2 | G9: ='original survey design'!G9 -> 3 | H9: ='original survey design'!H9 -> 1 | I9: ='original survey design'!I9 -> 1 | J9: ='original survey design'!J9 -> 1 | ... O9: ='original survey design'!O9 -> 1
A10: ='original survey design'!A10 -> Kanto (excl. Tokyo) | B10: =LEFT('original survey design'!B10,FIND(")",'original survey design'!B10)) -> Small (5-19) | C10: ='original survey design'!C10 -> 2 | D10: ='original survey design'!D10 -> 2 | E10: ='original survey design'!E10 -> 1 | F10: ='original survey design'!F10 -> 2 | G10: ='original survey design'!G10 -> 1 | H10: ='original survey design'!H10 -> 6 | I10: ='original survey design'!I10 -> 9 | J10: ='original survey design'!J10 -> 28 | ... O10: ='original survey design'!O10 -> 11 | P10: =SUM(C10:O13) -> 281
A11: ='original survey design'!A11 -> Kanto (excl. Tokyo) | B11: =LEFT('original survey design'!B11,FIND(")",'original survey design'!B11)) -> Medium (20-99) | C11: ='original survey design'!C11 -> 3 | D11: ='original survey design'!D11 -> 6 | E11: ='original survey design'!E11 -> 3 | F11: ='original survey design'!F11 -> 3 | G11: ='original survey design'!G11 -> 3 | H11: ='original survey design'!H11 -> 23 | I11: ='original survey design'!I11 -> 7 | J11: ='original survey design'!J11 -> 19 | ... O11: ='original survey design'!O11 -> 12
A12: ='original survey design'!A12 -> Kanto (excl. Tokyo) | B12: =LEFT('original survey design'!B12,FIND(")",'original survey design'!B12)) -> Large (100-299) | C12: ='original survey design'!C12 -> 4 | D12: ='original survey design'!D12 -> 4 | E12: ='original survey design'!E12 -> 5 | F12: ='original survey design'!F12 -> 4 | G12: ='original survey design'!G12 -> 5 | H12: ='original survey design'!H12 -> 2 | I12: ='original survey design'!I12 -> 2 | J12: ='original survey design'!J12 -> 3 | ... O12: ='original survey design'!O12 -> 3
A13: ='original survey design'!A13 -> Kanto (excl. Tokyo) | B13: =LEFT('original survey design'!B13,FIND(")",'original survey design'!B13)) -> Very Large (300 or more) | C13: ='original survey design'!C13 -> 1 | D13: ='original survey design'!D13 -> 1 | E13: ='original survey design'!E13 -> 1 | F13: ='original survey design'!F13 -> 1 | G13: ='original survey design'!G13 -> 1 | H13: ='original survey design'!H13 -> 1 | I13: ='original survey design'!I13 -> 1 | J13: ='original survey design'!J13 -> 1 | ... O13: ='original survey design'!O13 -> 1
A14: ='original survey design'!A14 -> Tokyo | B14: =LEFT('original survey design'!B14,FIND(")",'original survey design'!B14)) -> Small (5-19) | C14: ='original survey design'!C14 -> 1 | D14: ='original survey design'!D14 -> 1 | E14: ='original survey design'!E14 -> 1 | F14: ='original survey design'!F14 -> 1 | G14: ='original survey design'!G14 -> 1 | H14: ='original survey design'!H14 -> 3 | I14: ='original survey design'!I14 -> 11 | J14: ='original survey design'!J14 -> 25 | ... O14: ='original survey design'!O14 -> 7 | P14: =SUM(C14:O17) -> 217
A15: ='original survey design'!A15 -> Tokyo | B15: =LEFT('original survey design'!B15,FIND(")",'original survey design'!B15)) -> Medium (20-99) | C15: ='original survey design'!C15 -> 1 | D15: ='original survey design'!D15 -> 2 | E15: ='original survey design'!E15 -> 3 | F15: ='original survey design'!F15 -> 2 | G15: ='original survey design'!G15 -> 2 | H15: ='original survey design'!H15 -> 8 | I15: ='original survey design'!I15 -> 11 | J15: ='original survey design'!J15 -> 9 | ... O15: ='original survey design'!O15 -> 8
A16: ='original survey design'!A16 -> Tokyo | B16: =LEFT('original survey design'!B16,FIND(")",'original survey design'!B16)) -> Large (100-299) | C16: ='original survey design'!C16 -> 3 | D16: ='original survey design'!D16 -> 4 | E16: ='original survey design'!E16 -> 5 | F16: ='original survey design'!F16 -> 4 | G16: ='original survey design'!G16 -> 5 | H16: ='original survey design'!H16 -> 2 | I16: ='original survey design'!I16 -> 3 | J16: ='original survey design'!J16 -> 2 | ... O16: ='original survey design'!O16 -> 3
A17: ='original survey design'!A17 -> Tokyo | B17: =LEFT('original survey design'!B17,FIND(")",'original survey design'!B17)) -> Very Large (300 or more) | C17: ='original survey design'!C17 -> 1 | D17: ='original survey design'!D17 -> 1 | E17: ='original survey design'!E17 -> 1 | F17: ='original survey design'!F17 -> 1 | G17: ='original survey design'!G17 -> 1 | H17: ='original survey design'!H17 -> 1 | I17: ='original survey design'!I17 -> 1 | J17: ='original survey design'!J17 -> 1 | ... O17: ='original survey design'!O17 -> 1
A18: ='original survey design'!A18 -> Chubu (excl. Aichi) | B18: =LEFT('original survey design'!B18,FIND(")",'original survey design'!B18)) -> Small (5-19) | C18: ='original survey design'!C18 -> 2 | D18: ='original survey design'!D18 -> 2 | E18: ='original survey design'!E18 -> 1 | F18: ='original survey design'!F18 -> 2 | G18: ='original survey design'!G18 -> 1 | H18: ='original survey design'!H18 -> 5 | I18: ='original survey design'!I18 -> 7 | J18: ='original survey design'!J18 -> 25 | ... O18: ='original survey design'!O18 -> 7 | P18: =SUM(C18:O21) -> 210
A19: ='original survey design'!A19 -> Chubu (excl. Aichi) | B19: =LEFT('original survey design'!B19,FIND(")",'original survey design'!B19)) -> Medium (20-99) | C19: ='original survey design'!C19 -> 3 | D19: ='original survey design'!D19 -> 5 | E19: ='original survey design'!E19 -> 3 | F19: ='original survey design'!F19 -> 3 | G19: ='original survey design'!G19 -> 3 | H19: ='original survey design'!H19 -> 20 | I19: ='original survey design'!I19 -> 4 | J19: ='original survey design'!J19 -> 7 | ... O19: ='original survey design'!O19 -> 5
A20: ='original survey design'!A20 -> Chubu (excl. Aichi) | B20: =LEFT('original survey design'!B20,FIND(")",'original survey design'!B20)) -> Large (100-299) | C20: ='original survey design'!C20 -> 4 | D20: ='original survey design'!D20 -> 4 | E20: ='original survey design'!E20 -> 5 | F20: ='original survey design'!F20 -> 4 | G20: ='original survey design'!G20 -> 5 | H20: ='original survey design'!H20 -> 2 | I20: ='original survey design'!I20 -> 1 | J20: ='original survey design'!J20 -> 2 | ... O20: ='original survey design'!O20 -> 2
A21: ='original survey design'!A21 -> Chubu (excl. Aichi) | B21: =LEFT('original survey design'!B21,FIND(")",'original survey design'!B21)) -> Very Large (300 or more) | C21: ='original survey design'!C21 -> 1 | D21: ='original survey design'!D21 -> 1 | E21: ='original survey design'!E21 -> 1 | F21: ='original survey design'!F21 -> 1 | G21: ='original survey design'!G21 -> 1 | H21: ='original survey design'!H21 -> 1 | I21: ='original survey design'!I21 -> 1 | J21: ='original survey design'!J21 -> 1 | ... O21: ='original survey design'!O21 -> 1
A22: ='original survey design'!A22 -> Aichi | B22: =LEFT('original survey design'!B22,FIND(")",'original survey design'!B22)) -> Small (5-19) | C22: ='original survey design'!C22 -> 1 | D22: ='original survey design'!D22 -> 1 | E22: ='original survey design'!E22 -> 1 | F22: ='original survey design'!F22 -> 1 | G22: ='original survey design'!G22 -> 1 | H22: ='original survey design'!H22 -> 3 | I22: ='original survey design'!I22 -> 4 | J22: ='original survey design'!J22 -> 7 | ... O22: ='original survey design'!O22 -> 3 | P22: =SUM(C22:O25) -> 180
A23: ='original survey design'!A23 -> Aichi | B23: =LEFT('original survey design'!B23,FIND(")",'original survey design'!B23)) -> Medium (20-99) | C23: ='original survey design'!C23 -> 3 | D23: ='original survey design'!D23 -> 5 | E23: ='original survey design'!E23 -> 4 | F23: ='original survey design'!F23 -> 5 | G23: ='original survey design'!G23 -> 5 | H23: ='original survey design'!H23 -> 7 | I23: ='original survey design'!I23 -> 5 | J23: ='original survey design'!J23 -> 6 | ... O23: ='original survey design'!O23 -> 5
A24: ='original survey design'!A24 -> Aichi | B24: =LEFT('original survey design'!B24,FIND(")",'original survey design'!B24)) -> Large (100-299) | C24: ='original survey design'!C24 -> 6 | D24: ='original survey design'!D24 -> 6 | E24: ='original survey design'!E24 -> 5 | F24: ='original survey design'!F24 -> 6 | G24: ='original survey design'!G24 -> 8 | H24: ='original survey design'!H24 -> 4 | I24: ='original survey design'!I24 -> 4 | J24: ='original survey design'!J24 -> 4 | ... O24: ='original survey design'!O24 -> 4
A25: ='original survey design'!A25 -> Aichi | B25: =LEFT('original survey design'!B25,FIND(")",'original survey design'!B25)) -> Very Large (300 or more) | C25: ='original survey design'!C25 -> 2 | D25: ='original survey design'!D25 -> 2 | E25: ='original survey design'!E25 -> 3 | F25: ='original survey design'!F25 -> 2 | G25: ='original survey design'!G25 -> 4 | H25: ='original survey design'!H25 -> 1 | I25: ='original survey design'!I25 -> 1 | J25: ='original survey design'!J25 -> 1 | ... O25: ='original survey design'!O25 -> 1
A26: ='original survey design'!A26 -> Kinki (excl. Osaka) | B26: =LEFT('original survey design'!B26,FIND(")",'original survey design'!B26)) -> Small (5-19) | C26: ='original survey design'!C26 -> 1 | D26: ='original survey design'!D26 -> 1 | E26: ='original survey design'!E26 -> 1 | F26: ='original survey design'!F26 -> 1 | G26: ='original survey design'!G26 -> 1 | H26: ='original survey design'!H26 -> 4 | I26: ='original survey design'!I26 -> 5 | J26: ='original survey design'!J26 -> 20 | ... O26: ='original survey design'!O26 -> 5 | P26: =SUM(C26:O29) -> 180
A27: ='original survey design'!A27 -> Kinki (excl. Osaka) | B27: =LEFT('original survey design'!B27,FIND(")",'original survey design'!B27)) -> Medium (20-99) | C27: ='original survey design'!C27 -> 2 | D27: ='original survey design'!D27 -> 2 | E27: ='original survey design'!E27 -> 2 | F27: ='original survey design'!F27 -> 2 | G27: ='original survey design'!G27 -> 3 | H27: ='original survey design'!H27 -> 13 | I27: ='original survey design'!I27 -> 4 | J27: ='original survey design'!J27 -> 8 | ... O27: ='original survey design'!O27 -> 4
A28: ='original survey design'!A28 -> Kinki (excl. Osaka) | B28: =LEFT('original survey design'!B28,FIND(")",'original survey design'!B28)) -> Large (100-299) | C28: ='original survey design'!C28 -> 4 | D28: ='original survey design'!D28 -> 4 | E28: ='original survey design'!E28 -> 5 | F28: ='original survey design'!F28 -> 4 | G28: ='original survey design'!G28 -> 5 | H28: ='original survey design'!H28 -> 2 | I28: ='original survey design'!I28 -> 2 | J28: ='original survey design'!J28 -> 2 | ... O28: ='original survey design'!O28 -> 2
A29: ='original survey design'!A29 -> Kinki (excl. Osaka) | B29: =LEFT('original survey design'!B29,FIND(")",'original survey design'!B29)) -> Very Large (300 or more) | C29: ='original survey design'!C29 -> 1 | D29: ='original survey design'!D29 -> 1 | E29: ='original survey design'!E29 -> 1 | F29: ='original survey design'!F29 -> 1 | G29: ='original survey design'!G29 -> 1 | H29: ='original survey design'!H29 -> 1 | I29: ='original survey design'!I29 -> 1 | J29: ='original survey design'!J29 -> 1 | ... O29: ='original survey design'!O29 -> 1
A30: ='original survey design'!A30 -> Osaka | B30: =LEFT('original survey design'!B30,FIND(")",'original survey design'!B30)) -> Small (5-19) | C30: ='original survey design'!C30 -> 1 | D30: ='original survey design'!D30 -> 2 | E30: ='original survey design'!E30 -> 1 | F30: ='original survey design'!F30 -> 2 | G30: ='original survey design'!G30 -> 1 | H30: ='original survey design'!H30 -> 3 | I30: ='original survey design'!I30 -> 6 | J30: ='original survey design'!J30 -> 9 | ... O30: ='original survey design'!O30 -> 3 | P30: =SUM(C30:O33) -> 180
A31: ='original survey design'!A31 -> Osaka | B31: =LEFT('original survey design'!B31,FIND(")",'original survey design'!B31)) -> Medium (20-99) | C31: ='original survey design'!C31 -> 2 | D31: ='original survey design'!D31 -> 5 | E31: ='original survey design'!E31 -> 4 | F31: ='original survey design'!F31 -> 4 | G31: ='original survey design'!G31 -> 4 | H31: ='original survey design'!H31 -> 7 | I31: ='original survey design'!I31 -> 7 | J31: ='original survey design'!J31 -> 6 | ... O31: ='original survey design'!O31 -> 5
A32: ='original survey design'!A32 -> Osaka | B32: =LEFT('original survey design'!B32,FIND(")",'original survey design'!B32)) -> Large (100-299) | C32: ='original survey design'!C32 -> 5 | D32: ='original survey design'!D32 -> 5 | E32: ='original survey design'!E32 -> 7 | F32: ='original survey design'!F32 -> 6 | G32: ='original survey design'!G32 -> 2 | H32: ='original survey design'!H32 -> 3 | I32: ='original survey design'!I32 -> 3 | J32: ='original survey design'!J32 -> 4 | ... O32: ='original survey design'!O32 -> 4
A33: ='original survey design'!A33 -> Osaka | B33: =LEFT('original survey design'!B33,FIND(")",'original survey design'!B33)) -> Very Large (300 or more) | C33: ='original survey design'!C33 -> 1 | D33: ='original survey design'!D33 -> 1 | E33: ='original survey design'!E33 -> 3 | F33: ='original survey design'!F33 -> 2 | G33: ='original survey design'!G33 -> 2 | H33: ='original survey design'!H33 -> 1 | I33: ='original survey design'!I33 -> 1 | J33: ='original survey design'!J33 -> 1 | ... O33: ='original survey design'!O33 -> 1
A34: ='original survey design'!A34 -> Chugoku | B34: =LEFT('original survey design'!B34,FIND(")",'original survey design'!B34)) -> Small (5-19) | C34: ='original survey design'!C34 -> 1 | D34: ='original survey design'!D34 -> 1 | E34: ='original survey design'!E34 -> 1 | F34: ='original survey design'!F34 -> 1 | G34: ='original survey design'!G34 -> 1 | H34: ='original survey design'!H34 -> 2 | I34: ='original survey design'!I34 -> 4 | J34: ='original survey design'!J34 -> 9 | ... O34: ='original survey design'!O34 -> 4 | P34: =SUM(C34:O37) -> 180
A35: ='original survey design'!A35 -> Chugoku | B35: =LEFT('original survey design'!B35,FIND(")",'original survey design'!B35)) -> Medium (20-99) | C35: ='original survey design'!C35 -> 4 | D35: ='original survey design'!D35 -> 4 | E35: ='original survey design'!E35 -> 4 | F35: ='original survey design'!F35 -> 4 | G35: ='original survey design'!G35 -> 5 | H35: ='original survey design'!H35 -> 9 | I35: ='original survey design'!I35 -> 4 | J35: ='original survey design'!J35 -> 6 | ... O35: ='original survey design'!O35 -> 4
A36: ='original survey design'!A36 -> Chugoku | B36: =LEFT('original survey design'!B36,FIND(")",'original survey design'!B36)) -> Large (100-299) | C36: ='original survey design'!C36 -> 6 | D36: ='original survey design'!D36 -> 6 | E36: ='original survey design'!E36 -> 3 | F36: ='original survey design'!F36 -> 7 | G36: ='original survey design'!G36 -> 7 | H36: ='original survey design'!H36 -> 4 | I36: ='original survey design'!I36 -> 4 | J36: ='original survey design'!J36 -> 4 | ... O36: ='original survey design'!O36 -> 4
A37: ='original survey design'!A37 -> Chugoku | B37: =LEFT('original survey design'!B37,FIND(")",'original survey design'!B37)) -> Very Large (300 or more) | C37: ='original survey design'!C37 -> 2 | D37: ='original survey design'!D37 -> 2 | E37: ='original survey design'!E37 -> 3 | F37: ='original survey design'!F37 -> 2 | G37: ='original survey design'!G37 -> 4 | H37: ='original survey design'!H37 -> 1 | I37: ='original survey design'!I37 -> 1 | J37: ='original survey design'!J37 -> 1 | ... O37: ='original survey design'!O37 -> 1
A38: ='original survey design'!A38 -> Shikoku | B38: =LEFT('original survey design'!B38,FIND(")",'original survey design'!B38)) -> Small (5-19) | C38: ='original survey design'!C38 -> 1 | D38: ='original survey design'!D38 -> 1 | E38: ='original survey design'!E38 -> 1 | F38: ='original survey design'!F38 -> 1 | G38: ='original survey design'!G38 -> 1 | H38: ='original survey design'!H38 -> 2 | I38: ='original survey design'!I38 -> 2 | J38: ='original survey design'!J38 -> 4 | ... O38: ='original survey design'!O38 -> 2 | P38: =SUM(C38:O41) -> 180
A39: ='original survey design'!A39 -> Shikoku | B39: =LEFT('original survey design'!B39,FIND(")",'original survey design'!B39)) -> Medium (20-99) | C39: ='original survey design'!C39 -> 6 | D39: ='original survey design'!D39 -> 6 | E39: ='original survey design'!E39 -> 7 | F39: ='original survey design'!F39 -> 6 | G39: ='original survey design'!G39 -> 5 | H39: ='original survey design'!H39 -> 9 | I39: ='original survey design'!I39 -> 5 | J39: ='original survey design'!J39 -> 6 | ... O39: ='original survey design'!O39 -> 5
A40: ='original survey design'!A40 -> Shikoku | B40: =LEFT('original survey design'!B40,FIND(")",'original survey design'!B40)) -> Large (100-299) | C40: ='original survey design'!C40 -> 8 | D40: ='original survey design'!D40 -> 4 | E40: ='original survey design'!E40 -> 1 | F40: ='original survey design'!F40 -> 6 | G40: ='original survey design'!G40 -> 1 | H40: ='original survey design'!H40 -> 7 | I40: ='original survey design'!I40 -> 6 | J40: ='original survey design'!J40 -> 6 | ... O40: ='original survey design'!O40 -> 6
A41: ='original survey design'!A41 -> Shikoku | B41: =LEFT('original survey design'!B41,FIND(")",'original survey design'!B41)) -> Very Large (300 or more) | C41: ='original survey design'!C41 -> 1 | D41: ='original survey design'!D41 -> 2 | E41: ='original survey design'!E41 -> 1 | F41: ='original survey design'!F41 -> 2 | G41: ='original survey design'!G41 -> 0 | H41: ='original survey design'!H41 -> 2 | I41: ='original survey design'!I41 -> 2 | J41: ='original survey design'!J41 -> 2 | ... O41: ='original survey design'!O41 -> 2
A42: ='original survey design'!A42 -> Kyushu-Okinawa | B42: =LEFT('original survey design'!B42,FIND(")",'original survey design'!B42)) -> Small (5-19) | C42: ='original survey design'!C42 -> 2 | D42: ='original survey design'!D42 -> 1 | E42: ='original survey design'!E42 -> 1 | F42: ='original survey design'!F42 -> 1 | G42: ='original survey design'!G42 -> 1 | H42: ='original survey design'!H42 -> 3 | I42: ='original survey design'!I42 -> 7 | J42: ='original survey design'!J42 -> 28 | ... O42: ='original survey design'!O42 -> 6 | P42: =SUM(C42:O45) -> 192
A43: ='original survey design'!A43 -> Kyushu-Okinawa | B43: =LEFT('original survey design'!B43,FIND(")",'original survey design'!B43)) -> Medium (20-99) | C43: ='original survey design'!C43 -> 2 | D43: ='original survey design'!D43 -> 1 | E43: ='original survey design'!E43 -> 2 | F43: ='original survey design'!F43 -> 1 | G43: ='original survey design'!G43 -> 2 | H43: ='original survey design'!H43 -> 11 | I43: ='original survey design'!I43 -> 4 | J43: ='original survey design'!J43 -> 8 | ... O43: ='original survey design'!O43 -> 5
A44: ='original survey design'!A44 -> Kyushu-Okinawa | B44: =LEFT('original survey design'!B44,FIND(")",'original survey design'!B44)) -> Large (100-299) | C44: ='original survey design'!C44 -> 4 | D44: ='original survey design'!D44 -> 3 | E44: ='original survey design'!E44 -> 5 | F44: ='original survey design'!F44 -> 4 | G44: ='original survey design'!G44 -> 5 | H44: ='original survey design'!H44 -> 2 | I44: ='original survey design'!I44 -> 1 | J44: ='original survey design'!J44 -> 2 | ... O44: ='original survey design'!O44 -> 2
A45: ='original survey design'!A45 -> Kyushu-Okinawa | B45: =LEFT('original survey design'!B45,FIND(")",'original survey design'!B45)) -> Very Large (300 or more) | C45: ='original survey design'!C45 -> 1 | D45: ='original survey design'!D45 -> 1 | E45: ='original survey design'!E45 -> 1 | F45: ='original survey design'!F45 -> 1 | G45: ='original survey design'!G45 -> 1 | H45: ='original survey design'!H45 -> 1 | I45: ='original survey design'!I45 -> 1 | J45: ='original survey design'!J45 -> 1 | ... O45: ='original survey design'!O45 -> 1
C46: =SUM(C2:C45) -> 120 | D46: =SUM(D2:D45) -> 120 | E46: =SUM(E2:E45) -> 120 | F46: =SUM(F2:F45) -> 121 | G46: =SUM(G2:G45) -> 120 | H46: =SUM(H2:H45) -> 211 | I46: =SUM(I2:I45) -> 169 | J46: =SUM(J2:J45) -> 314 | ... P46: =SUM(P2:P45) -> 2160

Sheet Table 4 Response Outcomes
D2: Totals | E2: Rates relative to total contacted
B3: Overall | C3: Contacts available in frame | D3: 1023435
C4: Issued | D4: 163867
C5: Contacted | D5: 153682
B6: Screening phase | C6: Eligibles | D6: 5530 | E6: =D6/D$5 -> 0.035983394
C7: Screener refusals | D7: 92286 | E7: =D7/D$5 -> 0.60049973
C8: Assumed eligibles | D8: 100039 | E8: =D8/D$5 -> 0.65094806
C9: Ineligible + out of target | D9: 6153 | E9: =D9/D$5 -> 0.04003722
C10: Unobtainables | D10: 30937 | E10: =D10/D$5 -> 0.20130529
B11: Interview phase | C11: Interview refusals | D11: 3362 | E11: =D11/D$5 -> 0.021876342
B12: (only if eligible) | C12: Complete interviews | D12: 2168 | E12: =D12/D$5 -> 0.014107052

Sheet Table 5 Survey Yield Rates
C2: Stratification | D2: Yield | E2: Survey response rate | F2: Frame quality
B3: Panel | C3: Fresh | D3: =VLOOKUP($C3,'yield calculation'!$C:$F,2,FALSE) -> 0.014107052 | E3: =VLOOKUP($C3,'yield calculation'!$C:$F,3,FALSE) -> 0.021671548 | F3: =VLOOKUP($C3,'yield calculation'!$C:$F,4,FALSE) -> 0.65094805
B4: Size | C4: Small (5-19) | D4: =VLOOKUP($C4,'yield calculation'!$C:$F,2,FALSE) -> 0.009142871 | E4: =VLOOKUP($C4,'yield calculation'!$C:$F,3,FALSE) -> 0.015543615 | F4: =VLOOKUP($C4,'yield calculation'!$C:$F,4,FALSE) -> 0.58820748
C5: Medium (20-99) | D5: =VLOOKUP($C5,'yield calculation'!$C:$F,2,FALSE) -> 0.015451824 | E5: =VLOOKUP($C5,'yield calculation'!$C:$F,3,FALSE) -> 0.022614256 | F5: =VLOOKUP($C5,'yield calculation'!$C:$F,4,FALSE) -> 0.68327802
C6: Large (100-299) | D6: =VLOOKUP($C6,'yield calculation'!$C:$F,2,FALSE) -> 0.03079446 | E6: =VLOOKUP($C6,'yield calculation'!$C:$F,3,FALSE) -> 0.037830174 | F6: =VLOOKUP($C6,'yield calculation'!$C:$F,4,FALSE) -> 0.81401849
C7: Very Large (300+) | D7: =VLOOKUP($C7,'yield calculation'!$C:$F,2,FALSE) -> 0.027328715 | E7: =VLOOKUP($C7,'yield calculation'!$C:$F,3,FALSE) -> 0.03317757 | F7: =VLOOKUP($C7,'yield calculation'!$C:$F,4,FALSE) -> 0.82371056
B8: Region | C8: Hokkaido | D8: =VLOOKUP($C8,'yield calculation'!$C:$F,2,FALSE) -> 0.017208794 | E8: =VLOOKUP($C8,'yield calculation'!$C:$F,3,FALSE) -> 0.033365477 | F8: =VLOOKUP($C8,'yield calculation'!$C:$F,4,FALSE) -> 0.51576644
C9: Tohoku | D9: =VLOOKUP($C9,'yield calculation'!$C:$F,2,FALSE) -> 0.016219188 | E9: =VLOOKUP($C9,'yield calculation'!$C:$F,3,FALSE) -> 0.0320304 | F9: =VLOOKUP($C9,'yield calculation'!$C:$F,4,FALSE) -> 0.50636858
C10: Kanto (excl. Tokyo) | D10: =VLOOKUP($C10,'yield calculation'!$C:$F,2,FALSE) -> 0.013746343 | E10: =VLOOKUP($C10,'yield calculation'!$C:$F,3,FALSE) -> 0.030427631 | F10: =VLOOKUP($C10,'yield calculation'!$C:$F,4,FALSE) -> 0.45177171
C11: Tokyo | D11: =VLOOKUP($C11,'yield calculation'!$C:$F,2,FALSE) -> 0.017987443 | E11: =VLOOKUP($C11,'yield calculation'!$C:$F,3,FALSE) -> 0.034265395 | F11: =VLOOKUP($C11,'yield calculation'!$C:$F,4,FALSE) -> 0.52494484
C12: Chubu (excl. Aichi) | D12: =VLOOKUP($C12,'yield calculation'!$C:$F,2,FALSE) -> 0.014295972 | E12: =VLOOKUP($C12,'yield calculation'!$C:$F,3,FALSE) -> 0.016755929 | F12: =VLOOKUP($C12,'yield calculation'!$C:$F,4,FALSE) -> 0.85318887
C13: Aichi | D13: =VLOOKUP($C13,'yield calculation'!$C:$F,2,FALSE) -> 0.010014616 | E13: =VLOOKUP($C13,'yield calculation'!$C:$F,3,FALSE) -> 0.015001622 | F13: =VLOOKUP($C13,'yield calculation'!$C:$F,4,FALSE) -> 0.66756886
C14: Kinki (excl. Osaka) | D14: =VLOOKUP($C14,'yield calculation'!$C:$F,2,FALSE) -> 0.011026034 | E14: =VLOOKUP($C14,'yield calculation'!$C:$F,3,FALSE) -> 0.016609764 | F14: =VLOOKUP($C14,'yield calculation'!$C:$F,4,FALSE) -> 0.66382849
C15: Osaka | D15: =VLOOKUP($C15,'yield calculation'!$C:$F,2,FALSE) -> 0.014318071 | E15: =VLOOKUP($C15,'yield calculation'!$C:$F,3,FALSE) -> 0.021781934 | F15: =VLOOKUP($C15,'yield calculation'!$C:$F,4,FALSE) -> 0.65733701
C16: Chugoku | D16: =VLOOKUP($C16,'yield calculation'!$C:$F,2,FALSE) -> 0.016577639 | E16: =VLOOKUP($C16,'yield calculation'!$C:$F,3,FALSE) -> 0.021186441 | F16: =VLOOKUP($C16,'yield calculation'!$C:$F,4,FALSE) -> 0.78246456
C17: Shikoku | D17: =VLOOKUP($C17,'yield calculation'!$C:$F,2,FALSE) -> 0.016472777 | E17: =VLOOKUP($C17,'yield calculation'!$C:$F,3,FALSE) -> 0.020235509 | F17: =VLOOKUP($C17,'yield calculation'!$C:$F,4,FALSE) -> 0.81405306
C18: Kyushu-Okinawa | D18: =VLOOKUP($C18,'yield calculation'!$C:$F,2,FALSE) -> 0.012536729 | E18: =VLOOKUP($C18,'yield calculation'!$C:$F,3,FALSE) -> 0.016264295 | F18: =VLOOKUP($C18,'yield calculation'!$C:$F,4,FALSE) -> 0.77081293
B19: Sector | C19: Food | D19: =VLOOKUP($C19,'yield calculation'!$C:$F,2,FALSE) -> 0.02038111 | E19: =VLOOKUP($C19,'yield calculation'!$C:$F,3,FALSE) -> 0.027044855 | F19: =VLOOKUP($C19,'yield calculation'!$C:$F,4,FALSE) -> 0.75360399
C20: Basic Metals and Metal Products | D20: =VLOOKUP($C20,'yield calculation'!$C:$F,2,FALSE) -> 0.019112114 | E20: =VLOOKUP($C20,'yield calculation'!$C:$F,3,FALSE) -> 0.025118671 | F20: =VLOOKUP($C20,'yield calculation'!$C:$F,4,FALSE) -> 0.76087284
C21: Computer, Electronic and Optical Products | D21: =VLOOKUP($C21,'yield calculation'!$C:$F,2,FALSE) -> 0.023545707 | E21: =VLOOKUP($C21,'yield calculation'!$C:$F,3,FALSE) -> 0.034146342 | F21: =VLOOKUP($C21,'yield calculation'!$C:$F,4,FALSE) -> 0.68955284
C22: Machinery and Equipment | D22: =VLOOKUP($C22,'yield calculation'!$C:$F,2,FALSE) -> 0.017723745 | E22: =VLOOKUP($C22,'yield calculation'!$C:$F,3,FALSE) -> 0.023628198 | F22: =VLOOKUP($C22,'yield calculation'!$C:$F,4,FALSE) -> 0.75010985
C23: Motor Vehicles | D23: =VLOOKUP($C23,'yield calculation'!$C:$F,2,FALSE) -> 0.023439368 | E23: =VLOOKUP($C23,'yield calculation'!$C:$F,3,FALSE) -> 0.029184038 | F23: =VLOOKUP($C23,'yield calculation'!$C:$F,4,FALSE) -> 0.80315715
C24: Other Manufacturing | D24: =VLOOKUP($C24,'yield calculation'!$C:$F,2,FALSE) -> 0.016813846 | E24: =VLOOKUP($C24,'yield calculation'!$C:$F,3,FALSE) -> 0.02476587 | F24: =VLOOKUP($C24,'yield calculation'!$C:$F,4,FALSE) -> 0.67891204
C25: Wholesale | D25: =VLOOKUP($C25,'yield calculation'!$C:$F,2,FALSE) -> 0.014652876 | E25: =VLOOKUP($C25,'yield calculation'!$C:$F,3,FALSE) -> 0.019993585 | F25: =VLOOKUP($C25,'yield calculation'!$C:$F,4,FALSE) -> 0.73287886
C26: Retail | D26: =VLOOKUP($C26,'yield calculation'!$C:$F,2,FALSE) -> 0.0099829473 | E26: =VLOOKUP($C26,'yield calculation'!$C:$F,3,FALSE) -> 0.015694818 | F26: =VLOOKUP($C26,'yield calculation'!$C:$F,4,FALSE) -> 0.6360665
C27: Hotels | D27: =VLOOKUP($C27,'yield calculation'!$C:$F,2,FALSE) -> 0.027695801 | E27: =VLOOKUP($C27,'yield calculation'!$C:$F,3,FALSE) -> 0.03612674 | F27: =VLOOKUP($C27,'yield calculation'!$C:$F,4,FALSE) -> 0.7666288
C28: Restaurant | D28: =VLOOKUP($C28,'yield calculation'!$C:$F,2,FALSE) -> 0.017840805 | E28: =VLOOKUP($C28,'yield calculation'!$C:$F,3,FALSE) -> 0.025683241 | F28: =VLOOKUP($C28,'yield calculation'!$C:$F,4,FALSE) -> 0.69464773
C29: Construction | D29: =VLOOKUP($C29,'yield calculation'!$C:$F,2,FALSE) -> 0.0071052709 | E29: =VLOOKUP($C29,'yield calculation'!$C:$F,3,FALSE) -> 0.014615055 | F29: =VLOOKUP($C29,'yield calculation'!$C:$F,4,FALSE) -> 0.48616108
C30: Professional Activities | D30: =VLOOKUP($C30,'yield calculation'!$C:$F,2,FALSE) -> 0.014036677 | E30: =VLOOKUP($C30,'yield calculation'!$C:$F,3,FALSE) -> 0.022020955 | F30: =VLOOKUP($C30,'yield calculation'!$C:$F,4,FALSE) -> 0.63742357
C31: Other Services | D31: =VLOOKUP($C31,'yield calculation'!$C:$F,2,FALSE) -> 0.016345141 | E31: =VLOOKUP($C31,'yield calculation'!$C:$F,3,FALSE) -> 0.022912774 | F31: =VLOOKUP($C31,'yield calculation'!$C:$F,4,FALSE) -> 0.71336371
B32: Overall | C32: Japan 2025 | D32: =VLOOKUP($C32,'yield calculation'!$C:$F,2,FALSE) -> 0.014107052 | E32: =VLOOKUP($C32,'yield calculation'!$C:$F,3,FALSE) -> 0.021671548 | F32: =VLOOKUP($C32,'yield calculation'!$C:$F,4,FALSE) -> 0.65094805
B33: Notes: the rates are calculated as defined in Section III.4

Sheet Table 6 Achieved Total Sample 
C1: =RIGHT(SUBSTITUTE('achieved fresh and panel'!C1,"_"," "),LEN(SUBSTITUTE('achieved fresh and panel'!C1,"_"," "))-1) -> Food | D1: =RIGHT(SUBSTITUTE('achieved fresh and panel'!D1,"_"," "),LEN(SUBSTITUTE('achieved fresh and panel'!D1,"_"," "))-1) -> Basic Metals and Metal Products | E1: =RIGHT(SUBSTITUTE('achieved fresh and panel'!E1,"_"," "),LEN(SUBSTITUTE('achieved fresh and panel'!E1,"_"," "))-1) -> Comp Elec and Optical Prod | F1: =RIGHT(SUBSTITUTE('achieved fresh and panel'!F1,"_"," "),LEN(SUBSTITUTE('achieved fresh and panel'!F1,"_"," "))-1) -> Machinery and Equipment | G1: =RIGHT(SUBSTITUTE('achieved fresh and panel'!G1,"_"," "),LEN(SUBSTITUTE('achieved fresh and panel'!G1,"_"," "))-1) -> Motor Vehicles | H1: =RIGHT(SUBSTITUTE('achieved fresh and panel'!H1,"_"," "),LEN(SUBSTITUTE('achieved fresh and panel'!H1,"_"," "))-1) -> Other Manufacturing | I1: =RIGHT(SUBSTITUTE('achieved fresh and panel'!I1,"_"," "),LEN(SUBSTITUTE('achieved fresh and panel'!I1,"_"," "))-1) -> Wholesale | J1: =RIGHT(SUBSTITUTE('achieved fresh and panel'!J1,"_"," "),LEN(SUBSTITUTE('achieved fresh and panel'!J1,"_"," "))-1) -> Retail | ... O1: =RIGHT(SUBSTITUTE('achieved fresh and panel'!O1,"_"," "),LEN(SUBSTITUTE('achieved fresh and panel'!O1,"_"," "))-1) -> Other Services | P1: =RIGHT(SUBSTITUTE('achieved fresh and panel'!T1,"_"," "),LEN(SUBSTITUTE('achieved fresh and panel'!T1,"_"," "))-1) -> Grand Total
A2: ='achieved fresh and panel'!A2 -> Hokkaido | B2: =LEFT('achieved fresh and panel'!B2,FIND(")",'achieved fresh and panel'!B2)) -> Small (5-19) | C2: ='achieved fresh and panel'!C2 -> 11 | D2: ='achieved fresh and panel'!D2 -> 4 | E2: ='achieved fresh and panel'!E2 -> 1 | F2: ='achieved fresh and panel'!F2 -> 1 | G2: ='achieved fresh and panel'!G2 -> 0 | H2: ='achieved fresh and panel'!H2 -> 4 | I2: ='achieved fresh and panel'!I2 -> 2 | J2: ='achieved fresh and panel'!J2 -> 12 | ... O2: ='achieved fresh and panel'!O2 -> 3 | P2: =SUM(C2:O4) -> 174
A3: ='achieved fresh and panel'!A3 -> Hokkaido | B3: =LEFT('achieved fresh and panel'!B3,FIND(")",'achieved fresh and panel'!B3)) -> Medium (20-99) | C3: ='achieved fresh and panel'!C3 -> 4 | D3: ='achieved fresh and panel'!D3 -> 4 | E3: ='achieved fresh and panel'!E3 -> 0 | F3: ='achieved fresh and panel'!F3 -> 2 | G3: ='achieved fresh and panel'!G3 -> 1 | H3: ='achieved fresh and panel'!H3 -> 5 | I3: ='achieved fresh and panel'!I3 -> 9 | J3: ='achieved fresh and panel'!J3 -> 4 | ... O3: ='achieved fresh and panel'!O3 -> 8
A4: ='achieved fresh and panel'!A4 -> Hokkaido | B4: =LEFT('achieved fresh and panel'!B4,FIND(")",'achieved fresh and panel'!B4)) -> Large (100 or more) | C4: ='achieved fresh and panel'!C4 -> 4 | D4: ='achieved fresh and panel'!D4 -> 0 | E4: ='achieved fresh and panel'!E4 -> 0 | F4: ='achieved fresh and panel'!F4 -> 0 | G4: ='achieved fresh and panel'!G4 -> 1 | H4: ='achieved fresh and panel'!H4 -> 1 | I4: ='achieved fresh and panel'!I4 -> 1 | J4: ='achieved fresh and panel'!J4 -> 6 | ... O4: ='achieved fresh and panel'!O4 -> 13
A5: ='achieved fresh and panel'!A5 -> Tohoku | B5: =LEFT('achieved fresh and panel'!B5,FIND(")",'achieved fresh and panel'!B5)) -> Small (5-19) | C5: ='achieved fresh and panel'!C5 -> 3 | D5: ='achieved fresh and panel'!D5 -> 3 | E5: ='achieved fresh and panel'!E5 -> 3 | F5: ='achieved fresh and panel'!F5 -> 3 | G5: ='achieved fresh and panel'!G5 -> 2 | H5: ='achieved fresh and panel'!H5 -> 6 | I5: ='achieved fresh and panel'!I5 -> 5 | J5: ='achieved fresh and panel'!J5 -> 13 | ... O5: ='achieved fresh and panel'!O5 -> 3 | P5: =SUM(C5:O7) -> 177
A6: ='achieved fresh and panel'!A6 -> Tohoku | B6: =LEFT('achieved fresh and panel'!B6,FIND(")",'achieved fresh and panel'!B6)) -> Medium (20-99) | C6: ='achieved fresh and panel'!C6 -> 3 | D6: ='achieved fresh and panel'!D6 -> 5 | E6: ='achieved fresh and panel'!E6 -> 8 | F6: ='achieved fresh and panel'!F6 -> 4 | G6: ='achieved fresh and panel'!G6 -> 5 | H6: ='achieved fresh and panel'!H6 -> 11 | I6: ='achieved fresh and panel'!I6 -> 4 | J6: ='achieved fresh and panel'!J6 -> 5 | ... O6: ='achieved fresh and panel'!O6 -> 5
A7: ='achieved fresh and panel'!A7 -> Tohoku | B7: =LEFT('achieved fresh and panel'!B7,FIND(")",'achieved fresh and panel'!B7)) -> Large (100 or more) | C7: ='achieved fresh and panel'!C7 -> 3 | D7: ='achieved fresh and panel'!D7 -> 4 | E7: ='achieved fresh and panel'!E7 -> 7 | F7: ='achieved fresh and panel'!F7 -> 5 | G7: ='achieved fresh and panel'!G7 -> 3 | H7: ='achieved fresh and panel'!H7 -> 6 | I7: ='achieved fresh and panel'!I7 -> 1 | J7: ='achieved fresh and panel'!J7 -> 7 | ... O7: ='achieved fresh and panel'!O7 -> 9
A8: ='achieved fresh and panel'!A8 -> Kanto (excl. Tokyo) | B8: =LEFT('achieved fresh and panel'!B8,FIND(")",'achieved fresh and panel'!B8)) -> Small (5-19) | C8: ='achieved fresh and panel'!C8 -> 3 | D8: ='achieved fresh and panel'!D8 -> 6 | E8: ='achieved fresh and panel'!E8 -> 2 | F8: ='achieved fresh and panel'!F8 -> 3 | G8: ='achieved fresh and panel'!G8 -> 7 | H8: ='achieved fresh and panel'!H8 -> 10 | I8: ='achieved fresh and panel'!I8 -> 12 | J8: ='achieved fresh and panel'!J8 -> 28 | ... O8: ='achieved fresh and panel'!O8 -> 8 | P8: =SUM(C8:O10) -> 296
A9: ='achieved fresh and panel'!A9 -> Kanto (excl. Tokyo) | B9: =LEFT('achieved fresh and panel'!B9,FIND(")",'achieved fresh and panel'!B9)) -> Medium (20-99) | C9: ='achieved fresh and panel'!C9 -> 3 | D9: ='achieved fresh and panel'!D9 -> 10 | E9: ='achieved fresh and panel'!E9 -> 1 | F9: ='achieved fresh and panel'!F9 -> 3 | G9: ='achieved fresh and panel'!G9 -> 9 | H9: ='achieved fresh and panel'!H9 -> 8 | I9: ='achieved fresh and panel'!I9 -> 3 | J9: ='achieved fresh and panel'!J9 -> 9 | ... O9: ='achieved fresh and panel'!O9 -> 12
A10: ='achieved fresh and panel'!A10 -> Kanto (excl. Tokyo) | B10: =LEFT('achieved fresh and panel'!B10,FIND(")",'achieved fresh and panel'!B10)) -> Large (100 or more) | C10: ='achieved fresh and panel'!C10 -> 6 | D10: ='achieved fresh and panel'!D10 -> 8 | E10: ='achieved fresh and panel'!E10 -> 7 | F10: ='achieved fresh and panel'!F10 -> 6 | G10: ='achieved fresh and panel'!G10 -> 7 | H10: ='achieved fresh and panel'!H10 -> 10 | I10: ='achieved fresh and panel'!I10 -> 8 | J10: ='achieved fresh and panel'!J10 -> 7 | ... O10: ='achieved fresh and panel'!O10 -> 10
A11: ='achieved fresh and panel'!A11 -> Tokyo | B11: =LEFT('achieved fresh and panel'!B11,FIND(")",'achieved fresh and panel'!B11)) -> Small (5-19) | C11: ='achieved fresh and panel'!C11 -> 1 | D11: ='achieved fresh and panel'!D11 -> 0 | E11: ='achieved fresh and panel'!E11 -> 1 | F11: ='achieved fresh and panel'!F11 -> 3 | G11: ='achieved fresh and panel'!G11 -> 1 | H11: ='achieved fresh and panel'!H11 -> 9 | I11: ='achieved fresh and panel'!I11 -> 11 | J11: ='achieved fresh and panel'!J11 -> 13 | ... O11: ='achieved fresh and panel'!O11 -> 9 | P11: =SUM(C11:O13) -> 211
A12: ='achieved fresh and panel'!A12 -> Tokyo | B12: =LEFT('achieved fresh and panel'!B12,FIND(")",'achieved fresh and panel'!B12)) -> Medium (20-99) | C12: ='achieved fresh and panel'!C12 -> 3 | D12: ='achieved fresh and panel'!D12 -> 1 | E12: ='achieved fresh and panel'!E12 -> 4 | F12: ='achieved fresh and panel'!F12 -> 0 | G12: ='achieved fresh and panel'!G12 -> 1 | H12: ='achieved fresh and panel'!H12 -> 5 | I12: ='achieved fresh and panel'!I12 -> 4 | J12: ='achieved fresh and panel'!J12 -> 6 | ... O12: ='achieved fresh and panel'!O12 -> 2
A13: ='achieved fresh and panel'!A13 -> Tokyo | B13: =LEFT('achieved fresh and panel'!B13,FIND(")",'achieved fresh and panel'!B13)) -> Large (100 or more) | C13: ='achieved fresh and panel'!C13 -> 4 | D13: ='achieved fresh and panel'!D13 -> 8 | E13: ='achieved fresh and panel'!E13 -> 10 | F13: ='achieved fresh and panel'!F13 -> 3 | G13: ='achieved fresh and panel'!G13 -> 4 | H13: ='achieved fresh and panel'!H13 -> 10 | I13: ='achieved fresh and panel'!I13 -> 8 | J13: ='achieved fresh and panel'!J13 -> 7 | ... O13: ='achieved fresh and panel'!O13 -> 11
A14: ='achieved fresh and panel'!A14 -> Chubu (excl. Aichi) | B14: =LEFT('achieved fresh and panel'!B14,FIND(")",'achieved fresh and panel'!B14)) -> Small (5-19) | C14: ='achieved fresh and panel'!C14 -> 5 | D14: ='achieved fresh and panel'!D14 -> 6 | E14: ='achieved fresh and panel'!E14 -> 4 | F14: ='achieved fresh and panel'!F14 -> 3 | G14: ='achieved fresh and panel'!G14 -> 4 | H14: ='achieved fresh and panel'!H14 -> 5 | I14: ='achieved fresh and panel'!I14 -> 5 | J14: ='achieved fresh and panel'!J14 -> 12 | ... O14: ='achieved fresh and panel'!O14 -> 9 | P14: =SUM(C14:O16) -> 219
A15: ='achieved fresh and panel'!A15 -> Chubu (excl. Aichi) | B15: =LEFT('achieved fresh and panel'!B15,FIND(")",'achieved fresh and panel'!B15)) -> Medium (20-99) | C15: ='achieved fresh and panel'!C15 -> 2 | D15: ='achieved fresh and panel'!D15 -> 1 | E15: ='achieved fresh and panel'!E15 -> 5 | F15: ='achieved fresh and panel'!F15 -> 1 | G15: ='achieved fresh and panel'!G15 -> 7 | H15: ='achieved fresh and panel'!H15 -> 10 | I15: ='achieved fresh and panel'!I15 -> 2 | J15: ='achieved fresh and panel'!J15 -> 3 | ... O15: ='achieved fresh and panel'!O15 -> 3
A16: ='achieved fresh and panel'!A16 -> Chubu (excl. Aichi) | B16: =LEFT('achieved fresh and panel'!B16,FIND(")",'achieved fresh and panel'!B16)) -> Large (100 or more) | C16: ='achieved fresh and panel'!C16 -> 8 | D16: ='achieved fresh and panel'!D16 -> 3 | E16: ='achieved fresh and panel'!E16 -> 7 | F16: ='achieved fresh and panel'!F16 -> 9 | G16: ='achieved fresh and panel'!G16 -> 10 | H16: ='achieved fresh and panel'!H16 -> 16 | I16: ='achieved fresh and panel'!I16 -> 2 | J16: ='achieved fresh and panel'!J16 -> 3 | ... O16: ='achieved fresh and panel'!O16 -> 9
A17: ='achieved fresh and panel'!A17 -> Aichi | B17: =LEFT('achieved fresh and panel'!B17,FIND(")",'achieved fresh and panel'!B17)) -> Small (5-19) | C17: ='achieved fresh and panel'!C17 -> 3 | D17: ='achieved fresh and panel'!D17 -> 4 | E17: ='achieved fresh and panel'!E17 -> 2 | F17: ='achieved fresh and panel'!F17 -> 12 | G17: ='achieved fresh and panel'!G17 -> 6 | H17: ='achieved fresh and panel'!H17 -> 9 | I17: ='achieved fresh and panel'!I17 -> 6 | J17: ='achieved fresh and panel'!J17 -> 12 | ... O17: ='achieved fresh and panel'!O17 -> 3 | P17: =SUM(C17:O19) -> 185
A18: ='achieved fresh and panel'!A18 -> Aichi | B18: =LEFT('achieved fresh and panel'!B18,FIND(")",'achieved fresh and panel'!B18)) -> Medium (20-99) | C18: ='achieved fresh and panel'!C18 -> 8 | D18: ='achieved fresh and panel'!D18 -> 5 | E18: ='achieved fresh and panel'!E18 -> 0 | F18: ='achieved fresh and panel'!F18 -> 10 | G18: ='achieved fresh and panel'!G18 -> 6 | H18: ='achieved fresh and panel'!H18 -> 4 | I18: ='achieved fresh and panel'!I18 -> 2 | J18: ='achieved fresh and panel'!J18 -> 3 | ... O18: ='achieved fresh and panel'!O18 -> 7
A19: ='achieved fresh and panel'!A19 -> Aichi | B19: =LEFT('achieved fresh and panel'!B19,FIND(")",'achieved fresh and panel'!B19)) -> Large (100 or more) | C19: ='achieved fresh and panel'!C19 -> 4 | D19: ='achieved fresh and panel'!D19 -> 2 | E19: ='achieved fresh and panel'!E19 -> 1 | F19: ='achieved fresh and panel'!F19 -> 0 | G19: ='achieved fresh and panel'!G19 -> 8 | H19: ='achieved fresh and panel'!H19 -> 8 | I19: ='achieved fresh and panel'!I19 -> 3 | J19: ='achieved fresh and panel'!J19 -> 2 | ... O19: ='achieved fresh and panel'!O19 -> 10
A20: ='achieved fresh and panel'!A20 -> Kinki (excl. Osaka) | B20: =LEFT('achieved fresh and panel'!B20,FIND(")",'achieved fresh and panel'!B20)) -> Small (5-19) | C20: ='achieved fresh and panel'!C20 -> 5 | D20: ='achieved fresh and panel'!D20 -> 6 | E20: ='achieved fresh and panel'!E20 -> 6 | F20: ='achieved fresh and panel'!F20 -> 3 | G20: ='achieved fresh and panel'!G20 -> 1 | H20: ='achieved fresh and panel'!H20 -> 4 | I20: ='achieved fresh and panel'!I20 -> 4 | J20: ='achieved fresh and panel'!J20 -> 15 | ... O20: ='achieved fresh and panel'!O20 -> 3 | P20: =SUM(C20:O22) -> 181
A21: ='achieved fresh and panel'!A21 -> Kinki (excl. Osaka) | B21: =LEFT('achieved fresh and panel'!B21,FIND(")",'achieved fresh and panel'!B21)) -> Medium (20-99) | C21: ='achieved fresh and panel'!C21 -> 1 | D21: ='achieved fresh and panel'!D21 -> 2 | E21: ='achieved fresh and panel'!E21 -> 2 | F21: ='achieved fresh and panel'!F21 -> 1 | G21: ='achieved fresh and panel'!G21 -> 3 | H21: ='achieved fresh and panel'!H21 -> 10 | I21: ='achieved fresh and panel'!I21 -> 5 | J21: ='achieved fresh and panel'!J21 -> 7 | ... O21: ='achieved fresh and panel'!O21 -> 5
A22: ='achieved fresh and panel'!A22 -> Kinki (excl. Osaka) | B22: =LEFT('achieved fresh and panel'!B22,FIND(")",'achieved fresh and panel'!B22)) -> Large (100 or more) | C22: ='achieved fresh and panel'!C22 -> 4 | D22: ='achieved fresh and panel'!D22 -> 3 | E22: ='achieved fresh and panel'!E22 -> 3 | F22: ='achieved fresh and panel'!F22 -> 2 | G22: ='achieved fresh and panel'!G22 -> 0 | H22: ='achieved fresh and panel'!H22 -> 12 | I22: ='achieved fresh and panel'!I22 -> 5 | J22: ='achieved fresh and panel'!J22 -> 4 | ... O22: ='achieved fresh and panel'!O22 -> 11
A23: ='achieved fresh and panel'!A23 -> Osaka | B23: =LEFT('achieved fresh and panel'!B23,FIND(")",'achieved fresh and panel'!B23)) -> Small (5-19) | C23: ='achieved fresh and panel'!C23 -> 1 | D23: ='achieved fresh and panel'!D23 -> 9 | E23: ='achieved fresh and panel'!E23 -> 3 | F23: ='achieved fresh and panel'!F23 -> 4 | G23: ='achieved fresh and panel'!G23 -> 1 | H23: ='achieved fresh and panel'!H23 -> 4 | I23: ='achieved fresh and panel'!I23 -> 7 | J23: ='achieved fresh and panel'!J23 -> 5 | ... O23: ='achieved fresh and panel'!O23 -> 2 | P23: =SUM(C23:O25) -> 175
A24: ='achieved fresh and panel'!A24 -> Osaka | B24: =LEFT('achieved fresh and panel'!B24,FIND(")",'achieved fresh and panel'!B24)) -> Medium (20-99) | C24: ='achieved fresh and panel'!C24 -> 1 | D24: ='achieved fresh and panel'!D24 -> 5 | E24: ='achieved fresh and panel'!E24 -> 3 | F24: ='achieved fresh and panel'!F24 -> 5 | G24: ='achieved fresh and panel'!G24 -> 1 | H24: ='achieved fresh and panel'!H24 -> 3 | I24: ='achieved fresh and panel'!I24 -> 5 | J24: ='achieved fresh and panel'!J24 -> 2 | ... O24: ='achieved fresh and panel'!O24 -> 4
A25: ='achieved fresh and panel'!A25 -> Osaka | B25: =LEFT('achieved fresh and panel'!B25,FIND(")",'achieved fresh and panel'!B25)) -> Large (100 or more) | C25: ='achieved fresh and panel'!C25 -> 2 | D25: ='achieved fresh and panel'!D25 -> 7 | E25: ='achieved fresh and panel'!E25 -> 1 | F25: ='achieved fresh and panel'!F25 -> 1 | G25: ='achieved fresh and panel'!G25 -> 1 | H25: ='achieved fresh and panel'!H25 -> 19 | I25: ='achieved fresh and panel'!I25 -> 18 | J25: ='achieved fresh and panel'!J25 -> 4 | ... O25: ='achieved fresh and panel'!O25 -> 21
A26: ='achieved fresh and panel'!A26 -> Chugoku | B26: =LEFT('achieved fresh and panel'!B26,FIND(")",'achieved fresh and panel'!B26)) -> Small (5-19) | C26: ='achieved fresh and panel'!C26 -> 7 | D26: ='achieved fresh and panel'!D26 -> 4 | E26: ='achieved fresh and panel'!E26 -> 2 | F26: ='achieved fresh and panel'!F26 -> 5 | G26: ='achieved fresh and panel'!G26 -> 4 | H26: ='achieved fresh and panel'!H26 -> 5 | I26: ='achieved fresh and panel'!I26 -> 9 | J26: ='achieved fresh and panel'!J26 -> 10 | ... O26: ='achieved fresh and panel'!O26 -> 10 | P26: =SUM(C26:O28) -> 179
A27: ='achieved fresh and panel'!A27 -> Chugoku | B27: =LEFT('achieved fresh and panel'!B27,FIND(")",'achieved fresh and panel'!B27)) -> Medium (20-99) | C27: ='achieved fresh and panel'!C27 -> 3 | D27: ='achieved fresh and panel'!D27 -> 6 | E27: ='achieved fresh and panel'!E27 -> 2 | F27: ='achieved fresh and panel'!F27 -> 5 | G27: ='achieved fresh and panel'!G27 -> 4 | H27: ='achieved fresh and panel'!H27 -> 5 | I27: ='achieved fresh and panel'!I27 -> 1 | J27: ='achieved fresh and panel'!J27 -> 1 | ... O27: ='achieved fresh and panel'!O27 -> 5
A28: ='achieved fresh and panel'!A28 -> Chugoku | B28: =LEFT('achieved fresh and panel'!B28,FIND(")",'achieved fresh and panel'!B28)) -> Large (100 or more) | C28: ='achieved fresh and panel'!C28 -> 4 | D28: ='achieved fresh and panel'!D28 -> 3 | E28: ='achieved fresh and panel'!E28 -> 0 | F28: ='achieved fresh and panel'!F28 -> 3 | G28: ='achieved fresh and panel'!G28 -> 0 | H28: ='achieved fresh and panel'!H28 -> 9 | I28: ='achieved fresh and panel'!I28 -> 3 | J28: ='achieved fresh and panel'!J28 -> 4 | ... O28: ='achieved fresh and panel'!O28 -> 4
A29: ='achieved fresh and panel'!A29 -> Shikoku | B29: =LEFT('achieved fresh and panel'!B29,FIND(")",'achieved fresh and panel'!B29)) -> Small (5-19) | C29: ='achieved fresh and panel'!C29 -> 8 | D29: ='achieved fresh and panel'!D29 -> 4 | E29: ='achieved fresh and panel'!E29 -> 0 | F29: ='achieved fresh and panel'!F29 -> 4 | G29: ='achieved fresh and panel'!G29 -> 0 | H29: ='achieved fresh and panel'!H29 -> 6 | I29: ='achieved fresh and panel'!I29 -> 11 | J29: ='achieved fresh and panel'!J29 -> 10 | ... O29: ='achieved fresh and panel'!O29 -> 3 | P29: =SUM(C29:O31) -> 178
A30: ='achieved fresh and panel'!A30 -> Shikoku | B30: =LEFT('achieved fresh and panel'!B30,FIND(")",'achieved fresh and panel'!B30)) -> Medium (20-99) | C30: ='achieved fresh and panel'!C30 -> 8 | D30: ='achieved fresh and panel'!D30 -> 5 | E30: ='achieved fresh and panel'!E30 -> 0 | F30: ='achieved fresh and panel'!F30 -> 7 | G30: ='achieved fresh and panel'!G30 -> 1 | H30: ='achieved fresh and panel'!H30 -> 7 | I30: ='achieved fresh and panel'!I30 -> 8 | J30: ='achieved fresh and panel'!J30 -> 5 | ... O30: ='achieved fresh and panel'!O30 -> 9
A31: ='achieved fresh and panel'!A31 -> Shikoku | B31: =LEFT('achieved fresh and panel'!B31,FIND(")",'achieved fresh and panel'!B31)) -> Large (100 or more) | C31: ='achieved fresh and panel'!C31 -> 2 | D31: ='achieved fresh and panel'!D31 -> 2 | E31: ='achieved fresh and panel'!E31 -> 1 | F31: ='achieved fresh and panel'!F31 -> 0 | G31: ='achieved fresh and panel'!G31 -> 0 | H31: ='achieved fresh and panel'!H31 -> 2 | I31: ='achieved fresh and panel'!I31 -> 3 | J31: ='achieved fresh and panel'!J31 -> 3 | ... O31: ='achieved fresh and panel'!O31 -> 7
A32: ='achieved fresh and panel'!A32 -> Kyushu-Okinawa | B32: =LEFT('achieved fresh and panel'!B32,FIND(")",'achieved fresh and panel'!B32)) -> Small (5-19) | C32: ='achieved fresh and panel'!C32 -> 4 | D32: ='achieved fresh and panel'!D32 -> 5 | E32: ='achieved fresh and panel'!E32 -> 2 | F32: ='achieved fresh and panel'!F32 -> 3 | G32: ='achieved fresh and panel'!G32 -> 2 | H32: ='achieved fresh and panel'!H32 -> 6 | I32: ='achieved fresh and panel'!I32 -> 3 | J32: ='achieved fresh and panel'!J32 -> 18 | ... O32: ='achieved fresh and panel'!O32 -> 5 | P32: =SUM(C32:O34) -> 193
A33: ='achieved fresh and panel'!A33 -> Kyushu-Okinawa | B33: =LEFT('achieved fresh and panel'!B33,FIND(")",'achieved fresh and panel'!B33)) -> Medium (20-99) | C33: ='achieved fresh and panel'!C33 -> 4 | D33: ='achieved fresh and panel'!D33 -> 3 | E33: ='achieved fresh and panel'!E33 -> 2 | F33: ='achieved fresh and panel'!F33 -> 1 | G33: ='achieved fresh and panel'!G33 -> 1 | H33: ='achieved fresh and panel'!H33 -> 8 | I33: ='achieved fresh and panel'!I33 -> 2 | J33: ='achieved fresh and panel'!J33 -> 8 | ... O33: ='achieved fresh and panel'!O33 -> 6
A34: ='achieved fresh and panel'!A34 -> Kyushu-Okinawa | B34: =LEFT('achieved fresh and panel'!B34,FIND(")",'achieved fresh and panel'!B34)) -> Large (100 or more) | C34: ='achieved fresh and panel'!C34 -> 7 | D34: ='achieved fresh and panel'!D34 -> 4 | E34: ='achieved fresh and panel'!E34 -> 2 | F34: ='achieved fresh and panel'!F34 -> 1 | G34: ='achieved fresh and panel'!G34 -> 2 | H34: ='achieved fresh and panel'!H34 -> 6 | I34: ='achieved fresh and panel'!I34 -> 1 | J34: ='achieved fresh and panel'!J34 -> 4 | ... O34: ='achieved fresh and panel'!O34 -> 11
C35: =SUM(C2:C34) -> 139 | D35: =SUM(D2:D34) -> 142 | E35: =SUM(E2:E34) -> 92 | F35: =SUM(F2:F34) -> 113 | G35: =SUM(G2:G34) -> 103 | H35: =SUM(H2:H34) -> 243 | I35: =SUM(I2:I34) -> 173 | J35: =SUM(J2:J34) -> 252 | ... P35: =SUM(P2:P34) -> 2168

Sheet Table 8 Weak Universe Estimates
C1: =RIGHT(SUBSTITUTE(universe_weak!C1,"_"," "),LEN(SUBSTITUTE(universe_weak!C1,"_"," "))-1) -> Food | D1: =RIGHT(SUBSTITUTE(universe_weak!D1,"_"," "),LEN(SUBSTITUTE(universe_weak!D1,"_"," "))-1) -> Basic Metals and Metal Products | E1: =RIGHT(SUBSTITUTE(universe_weak!E1,"_"," "),LEN(SUBSTITUTE(universe_weak!E1,"_"," "))-1) -> Comp Elec and Optical Prod | F1: =RIGHT(SUBSTITUTE(universe_weak!F1,"_"," "),LEN(SUBSTITUTE(universe_weak!F1,"_"," "))-1) -> Machinery and Equipment | G1: =RIGHT(SUBSTITUTE(universe_weak!G1,"_"," "),LEN(SUBSTITUTE(universe_weak!G1,"_"," "))-1) -> Motor Vehicles | H1: =RIGHT(SUBSTITUTE(universe_weak!H1,"_"," "),LEN(SUBSTITUTE(universe_weak!H1,"_"," "))-1) -> Other Manufacturing | I1: =RIGHT(SUBSTITUTE(universe_weak!I1,"_"," "),LEN(SUBSTITUTE(universe_weak!I1,"_"," "))-1) -> Wholesale | J1: =RIGHT(SUBSTITUTE(universe_weak!J1,"_"," "),LEN(SUBSTITUTE(universe_weak!J1,"_"," "))-1) -> Retail | ... O1: =RIGHT(SUBSTITUTE(universe_weak!O1,"_"," "),LEN(SUBSTITUTE(universe_weak!O1,"_"," "))-1) -> Other Services | P1: =RIGHT(SUBSTITUTE(universe_weak!T1,"_"," "),LEN(SUBSTITUTE(universe_weak!T1,"_"," "))-1) -> Grand Total
A2: =universe_weak!A2 -> Hokkaido | B2: =LEFT(universe_weak!B2,FIND(")",universe_weak!B2)) -> Small (5-19) | C2: =universe_weak!C2 -> 3571.1667 | D2: =universe_weak!D2 -> 878.43939 | E2: =universe_weak!E2 -> 55.833332 | F2: =universe_weak!F2 -> 74.333336 | G2: =universe_weak!G2 -> 0 | H2: =universe_weak!H2 -> 1512.6169 | I2: =universe_weak!I2 -> 134.40477 | J2: =universe_weak!J2 -> 8947.459 | ... O2: =universe_weak!O2 -> 3671.2222 | P2: =SUM(C2:O4) -> 61188.89
A3: =universe_weak!A3 -> Hokkaido | B3: =LEFT(universe_weak!B3,FIND(")",universe_weak!B3)) -> Medium (20-99) | C3: =universe_weak!C3 -> 538.21429 | D3: =universe_weak!D3 -> 239.5 | E3: =universe_weak!E3 -> 0 | F3: =universe_weak!F3 -> 127.83333 | G3: =universe_weak!G3 -> 86 | H3: =universe_weak!H3 -> 1196.8182 | I3: =universe_weak!I3 -> 2951.1895 | J3: =universe_weak!J3 -> 1902.9584 | ... O3: =universe_weak!O3 -> 3156.5557
A4: =universe_weak!A4 -> Hokkaido | B4: =LEFT(universe_weak!B4,FIND(")",universe_weak!B4)) -> Large (100 or more) | C4: =universe_weak!C4 -> 224.07143 | D4: =universe_weak!D4 -> 0 | E4: =universe_weak!E4 -> 0 | F4: =universe_weak!F4 -> 0 | G4: =universe_weak!G4 -> 10 | H4: =universe_weak!H4 -> 35.5 | I4: =universe_weak!I4 -> 39.5 | J4: =universe_weak!J4 -> 509.75 | ... O4: =universe_weak!O4 -> 474.04041
A5: =universe_weak!A5 -> Tohoku | B5: =LEFT(universe_weak!B5,FIND(")",universe_weak!B5)) -> Small (5-19) | C5: =universe_weak!C5 -> 3891.7 | D5: =universe_weak!D5 -> 360.60001 | E5: =universe_weak!E5 -> 201 | F5: =universe_weak!F5 -> 1015.75 | G5: =universe_weak!G5 -> 41.5 | H5: =universe_weak!H5 -> 4288.2222 | I5: =universe_weak!I5 -> 6888.543 | J5: =universe_weak!J5 -> 18618.857 | ... O5: =universe_weak!O5 -> 7806 | P5: =SUM(C5:O7) -> 104573
A6: =universe_weak!A6 -> Tohoku | B6: =LEFT(universe_weak!B6,FIND(")",universe_weak!B6)) -> Medium (20-99) | C6: =universe_weak!C6 -> 546.40002 | D6: =universe_weak!D6 -> 1239.225 | E6: =universe_weak!E6 -> 1065.5 | F6: =universe_weak!F6 -> 323.5 | G6: =universe_weak!G6 -> 185.45833 | H6: =universe_weak!H6 -> 4742.2168 | I6: =universe_weak!I6 -> 2208.2 | J6: =universe_weak!J6 -> 3831.9644 | ... O6: =universe_weak!O6 -> 2890.2222
A7: =universe_weak!A7 -> Tohoku | B7: =LEFT(universe_weak!B7,FIND(")",universe_weak!B7)) -> Large (100 or more) | C7: =universe_weak!C7 -> 156.2 | D7: =universe_weak!D7 -> 140.91667 | E7: =universe_weak!E7 -> 364.25 | F7: =universe_weak!F7 -> 124.16666 | G7: =universe_weak!G7 -> 122.66667 | H7: =universe_weak!H7 -> 270.91666 | I7: =universe_weak!I7 -> 26.200001 | J7: =universe_weak!J7 -> 1010.3008 | ... O7: =universe_weak!O7 -> 277.05554
A8: =universe_weak!A8 -> Kanto (excl. Tokyo) | B8: =LEFT(universe_weak!B8,FIND(")",universe_weak!B8)) -> Small (5-19) | C8: =universe_weak!C8 -> 4575.4287 | D8: =universe_weak!D8 -> 5367.3071 | E8: =universe_weak!E8 -> 1467.2 | F8: =universe_weak!F8 -> 3763.0889 | G8: =universe_weak!G8 -> 505.03076 | H8: =universe_weak!H8 -> 17184.742 | I8: =universe_weak!I8 -> 18947.65 | J8: =universe_weak!J8 -> 42007.844 | ... O8: =universe_weak!O8 -> 12880.617 | P8: =SUM(C8:O10) -> 291143.25
A9: =universe_weak!A9 -> Kanto (excl. Tokyo) | B9: =LEFT(universe_weak!B9,FIND(")",universe_weak!B9)) -> Medium (20-99) | C9: =universe_weak!C9 -> 3364.1917 | D9: =universe_weak!D9 -> 7416.084 | E9: =universe_weak!E9 -> 207.2 | F9: =universe_weak!F9 -> 1219.777 | G9: =universe_weak!G9 -> 2539.4116 | H9: =universe_weak!H9 -> 8362.7002 | I9: =universe_weak!I9 -> 5435.0068 | J9: =universe_weak!J9 -> 11252.744 | ... O9: =universe_weak!O9 -> 15390.16
A10: =universe_weak!A10 -> Kanto (excl. Tokyo) | B10: =LEFT(universe_weak!B10,FIND(")",universe_weak!B10)) -> Large (100 or more) | C10: =universe_weak!C10 -> 742 | D10: =universe_weak!D10 -> 320.57361 | E10: =universe_weak!E10 -> 178.16234 | F10: =universe_weak!F10 -> 212.79221 | G10: =universe_weak!G10 -> 229.80519 | H10: =universe_weak!H10 -> 1230.6523 | I10: =universe_weak!I10 -> 2315.689 | J10: =universe_weak!J10 -> 1441 | ... O10: =universe_weak!O10 -> 1644.3572
A11: =universe_weak!A11 -> Tokyo | B11: =LEFT(universe_weak!B11,FIND(")",universe_weak!B11)) -> Small (5-19) | C11: =universe_weak!C11 -> 647 | D11: =universe_weak!D11 -> 0 | E11: =universe_weak!E11 -> 149.8 | F11: =universe_weak!F11 -> 2007 | G11: =universe_weak!G11 -> 62 | H11: =universe_weak!H11 -> 10577.542 | I11: =universe_weak!I11 -> 18090.605 | J11: =universe_weak!J11 -> 21648.443 | ... O11: =universe_weak!O11 -> 15838.917 | P11: =SUM(C11:O13) -> 183200
A12: =universe_weak!A12 -> Tokyo | B12: =LEFT(universe_weak!B12,FIND(")",universe_weak!B12)) -> Medium (20-99) | C12: =universe_weak!C12 -> 1396.0908 | D12: =universe_weak!D12 -> 53 | E12: =universe_weak!E12 -> 2455.7429 | F12: =universe_weak!F12 -> 0 | G12: =universe_weak!G12 -> 53 | H12: =universe_weak!H12 -> 5862.1968 | I12: =universe_weak!I12 -> 3312.3635 | J12: =universe_weak!J12 -> 7050.8887 | ... O12: =universe_weak!O12 -> 2119.1072
A13: =universe_weak!A13 -> Tokyo | B13: =LEFT(universe_weak!B13,FIND(")",universe_weak!B13)) -> Large (100 or more) | C13: =universe_weak!C13 -> 227.39999 | D13: =universe_weak!D13 -> 423.62857 | E13: =universe_weak!E13 -> 265.76666 | F13: =universe_weak!F13 -> 112.5 | G13: =universe_weak!G13 -> 47.333332 | H13: =universe_weak!H13 -> 1577.3762 | I13: =universe_weak!I13 -> 2823.896 | J13: =universe_weak!J13 -> 1951.946 | ... O13: =universe_weak!O13 -> 4297.6216
A14: =universe_weak!A14 -> Chubu (excl. Aichi) | B14: =LEFT(universe_weak!B14,FIND(")",universe_weak!B14)) -> Small (5-19) | C14: =universe_weak!C14 -> 8395.4492 | D14: =universe_weak!D14 -> 6600.5088 | E14: =universe_weak!E14 -> 2315.25 | F14: =universe_weak!F14 -> 4700 | G14: =universe_weak!G14 -> 478 | H14: =universe_weak!H14 -> 6782 | I14: =universe_weak!I14 -> 8481.25 | J14: =universe_weak!J14 -> 23971.154 | ... O14: =universe_weak!O14 -> 14235.417 | P14: =SUM(C14:O16) -> 181904
A15: =universe_weak!A15 -> Chubu (excl. Aichi) | B15: =LEFT(universe_weak!B15,FIND(")",universe_weak!B15)) -> Medium (20-99) | C15: =universe_weak!C15 -> 1582 | D15: =universe_weak!D15 -> 29.571428 | E15: =universe_weak!E15 -> 1163.25 | F15: =universe_weak!F15 -> 98.25 | G15: =universe_weak!G15 -> 3862.3572 | H15: =universe_weak!H15 -> 11516 | I15: =universe_weak!I15 -> 1465.4 | J15: =universe_weak!J15 -> 3830.1155 | ... O15: =universe_weak!O15 -> 1633.3334
A16: =universe_weak!A16 -> Chubu (excl. Aichi) | B16: =LEFT(universe_weak!B16,FIND(")",universe_weak!B16)) -> Large (100 or more) | C16: =universe_weak!C16 -> 2172.5 | D16: =universe_weak!D16 -> 88.714287 | E16: =universe_weak!E16 -> 233 | F16: =universe_weak!F16 -> 436.67145 | G16: =universe_weak!G16 -> 480.14285 | H16: =universe_weak!H16 -> 2691.8 | I16: =universe_weak!I16 -> 86.800003 | J16: =universe_weak!J16 -> 433.39999 | ... O16: =universe_weak!O16 -> 2048.5835
A17: =universe_weak!A17 -> Aichi | B17: =LEFT(universe_weak!B17,FIND(")",universe_weak!B17)) -> Small (5-19) | C17: =universe_weak!C17 -> 1562.2666 | D17: =universe_weak!D17 -> 906.69446 | E17: =universe_weak!E17 -> 2532 | F17: =universe_weak!F17 -> 3253.6257 | G17: =universe_weak!G17 -> 1981.9797 | H17: =universe_weak!H17 -> 6178.1787 | I17: =universe_weak!I17 -> 8099.0498 | J17: =universe_weak!J17 -> 12446.533 | ... O17: =universe_weak!O17 -> 3504.75 | P17: =SUM(C17:O19) -> 89677.142
A18: =universe_weak!A18 -> Aichi | B18: =LEFT(universe_weak!B18,FIND(")",universe_weak!B18)) -> Medium (20-99) | C18: =universe_weak!C18 -> 1567.5 | D18: =universe_weak!D18 -> 1469.6666 | E18: =universe_weak!E18 -> 0 | F18: =universe_weak!F18 -> 1439.25 | G18: =universe_weak!G18 -> 891.58331 | H18: =universe_weak!H18 -> 1432.4286 | I18: =universe_weak!I18 -> 761.54999 | J18: =universe_weak!J18 -> 2304.1001 | ... O18: =universe_weak!O18 -> 2518.4287
A19: =universe_weak!A19 -> Aichi | B19: =LEFT(universe_weak!B19,FIND(")",universe_weak!B19)) -> Large (100 or more) | C19: =universe_weak!C19 -> 295.5 | D19: =universe_weak!D19 -> 80 | E19: =universe_weak!E19 -> 109 | F19: =universe_weak!F19 -> 0 | G19: =universe_weak!G19 -> 548 | H19: =universe_weak!H19 -> 461.71429 | I19: =universe_weak!I19 -> 146.39999 | J19: =universe_weak!J19 -> 189.33333 | ... O19: =universe_weak!O19 -> 998.65717
A20: =universe_weak!A20 -> Kinki (excl. Osaka) | B20: =LEFT(universe_weak!B20,FIND(")",universe_weak!B20)) -> Small (5-19) | C20: =universe_weak!C20 -> 6489.7144 | D20: =universe_weak!D20 -> 3791.6667 | E20: =universe_weak!E20 -> 484.46667 | F20: =universe_weak!F20 -> 2278.8 | G20: =universe_weak!G20 -> 86.333336 | H20: =universe_weak!H20 -> 5831.2144 | I20: =universe_weak!I20 -> 6059 | J20: =universe_weak!J20 -> 20345.623 | ... O20: =universe_weak!O20 -> 6202 | P20: =SUM(C20:O22) -> 151491.33
A21: =universe_weak!A21 -> Kinki (excl. Osaka) | B21: =LEFT(universe_weak!B21,FIND(")",universe_weak!B21)) -> Medium (20-99) | C21: =universe_weak!C21 -> 1896.5 | D21: =universe_weak!D21 -> 284 | E21: =universe_weak!E21 -> 133.93333 | F21: =universe_weak!F21 -> 59.333332 | G21: =universe_weak!G21 -> 248 | H21: =universe_weak!H21 -> 10191.539 | I21: =universe_weak!I21 -> 2141.9668 | J21: =universe_weak!J21 -> 5983.7749 | ... O21: =universe_weak!O21 -> 4234.3335
A22: =universe_weak!A22 -> Kinki (excl. Osaka) | B22: =LEFT(universe_weak!B22,FIND(")",universe_weak!B22)) -> Large (100 or more) | C22: =universe_weak!C22 -> 2292.5 | D22: =universe_weak!D22 -> 88.199997 | E22: =universe_weak!E22 -> 159.33333 | F22: =universe_weak!F22 -> 328.39999 | G22: =universe_weak!G22 -> 0 | H22: =universe_weak!H22 -> 853.56665 | I22: =universe_weak!I22 -> 136 | J22: =universe_weak!J22 -> 2203.8484 | ... O22: =universe_weak!O22 -> 497.16666
A23: =universe_weak!A23 -> Osaka | B23: =LEFT(universe_weak!B23,FIND(")",universe_weak!B23)) -> Small (5-19) | C23: =universe_weak!C23 -> 575 | D23: =universe_weak!D23 -> 9049.3672 | E23: =universe_weak!E23 -> 2024.6001 | F23: =universe_weak!F23 -> 5099.9331 | G23: =universe_weak!G23 -> 135 | H23: =universe_weak!H23 -> 6145.6499 | I23: =universe_weak!I23 -> 13029.886 | J23: =universe_weak!J23 -> 10612.971 | ... O23: =universe_weak!O23 -> 2765.0835 | P23: =SUM(C23:O25) -> 105161.05
A24: =universe_weak!A24 -> Osaka | B24: =LEFT(universe_weak!B24,FIND(")",universe_weak!B24)) -> Medium (20-99) | C24: =universe_weak!C24 -> 208 | D24: =universe_weak!D24 -> 1790.3 | E24: =universe_weak!E24 -> 224.86667 | F24: =universe_weak!F24 -> 862.70001 | G24: =universe_weak!G24 -> 51.599998 | H24: =universe_weak!H24 -> 2565.5 | I24: =universe_weak!I24 -> 3132.5752 | J24: =universe_weak!J24 -> 3605.1428 | ... O24: =universe_weak!O24 -> 2784.1785
A25: =universe_weak!A25 -> Osaka | B25: =LEFT(universe_weak!B25,FIND(")",universe_weak!B25)) -> Large (100 or more) | C25: =universe_weak!C25 -> 338 | D25: =universe_weak!D25 -> 208.99048 | E25: =universe_weak!E25 -> 62 | F25: =universe_weak!F25 -> 31.857143 | G25: =universe_weak!G25 -> 196.2 | H25: =universe_weak!H25 -> 1659.363 | I25: =universe_weak!I25 -> 520.0863 | J25: =universe_weak!J25 -> 550 | ... O25: =universe_weak!O25 -> 2593.8779
A26: =universe_weak!A26 -> Chugoku | B26: =LEFT(universe_weak!B26,FIND(")",universe_weak!B26)) -> Small (5-19) | C26: =universe_weak!C26 -> 2552.1111 | D26: =universe_weak!D26 -> 638.28571 | E26: =universe_weak!E26 -> 122.78571 | F26: =universe_weak!F26 -> 892 | G26: =universe_weak!G26 -> 421 | H26: =universe_weak!H26 -> 6479.8887 | I26: =universe_weak!I26 -> 7620.7856 | J26: =universe_weak!J26 -> 12781.756 | ... O26: =universe_weak!O26 -> 10199.278 | P26: =SUM(C26:O28) -> 87375.546
A27: =universe_weak!A27 -> Chugoku | B27: =LEFT(universe_weak!B27,FIND(")",universe_weak!B27)) -> Medium (20-99) | C27: =universe_weak!C27 -> 709.09998 | D27: =universe_weak!D27 -> 930.85712 | E27: =universe_weak!E27 -> 122.78571 | F27: =universe_weak!F27 -> 367.57141 | G27: =universe_weak!G27 -> 218.57143 | H27: =universe_weak!H27 -> 1667.8413 | I27: =universe_weak!I27 -> 529.5 | J27: =universe_weak!J27 -> 718 | ... O27: =universe_weak!O27 -> 1460.1714
A28: =universe_weak!A28 -> Chugoku | B28: =LEFT(universe_weak!B28,FIND(")",universe_weak!B28)) -> Large (100 or more) | C28: =universe_weak!C28 -> 313.79999 | D28: =universe_weak!D28 -> 144 | E28: =universe_weak!E28 -> 0 | F28: =universe_weak!F28 -> 186.33333 | G28: =universe_weak!G28 -> 0 | H28: =universe_weak!H28 -> 428 | I28: =universe_weak!I28 -> 103 | J28: =universe_weak!J28 -> 244.5 | ... O28: =universe_weak!O28 -> 242.39999
A29: =universe_weak!A29 -> Shikoku | B29: =LEFT(universe_weak!B29,FIND(")",universe_weak!B29)) -> Small (5-19) | C29: =universe_weak!C29 -> 608.6286 | D29: =universe_weak!D29 -> 365.88095 | E29: =universe_weak!E29 -> 0 | F29: =universe_weak!F29 -> 489.16669 | G29: =universe_weak!G29 -> 0 | H29: =universe_weak!H29 -> 3929.1938 | I29: =universe_weak!I29 -> 5542.2432 | J29: =universe_weak!J29 -> 6022.8335 | ... O29: =universe_weak!O29 -> 2149.2273 | P29: =SUM(C29:O31) -> 48256.455
A30: =universe_weak!A30 -> Shikoku | B30: =LEFT(universe_weak!B30,FIND(")",universe_weak!B30)) -> Medium (20-99) | C30: =universe_weak!C30 -> 736.55719 | D30: =universe_weak!D30 -> 354.63809 | E30: =universe_weak!E30 -> 0 | F30: =universe_weak!F30 -> 727.79047 | G30: =universe_weak!G30 -> 50.400002 | H30: =universe_weak!H30 -> 1560.2909 | I30: =universe_weak!I30 -> 996.3667 | J30: =universe_weak!J30 -> 1885.9167 | ... O30: =universe_weak!O30 -> 948.27277
A31: =universe_weak!A31 -> Shikoku | B31: =LEFT(universe_weak!B31,FIND(")",universe_weak!B31)) -> Large (100 or more) | C31: =universe_weak!C31 -> 105.25 | D31: =universe_weak!D31 -> 40 | E31: =universe_weak!E31 -> 42 | F31: =universe_weak!F31 -> 0 | G31: =universe_weak!G31 -> 0 | H31: =universe_weak!H31 -> 173 | I31: =universe_weak!I31 -> 45.5 | J31: =universe_weak!J31 -> 240.5 | ... O31: =universe_weak!O31 -> 2085.5
A32: =universe_weak!A32 -> Kyushu-Okinawa | B32: =LEFT(universe_weak!B32,FIND(")",universe_weak!B32)) -> Small (5-19) | C32: =universe_weak!C32 -> 4643.3223 | D32: =universe_weak!D32 -> 3264.7896 | E32: =universe_weak!E32 -> 276 | F32: =universe_weak!F32 -> 1443 | G32: =universe_weak!G32 -> 109 | H32: =universe_weak!H32 -> 8470.1895 | I32: =universe_weak!I32 -> 4578.2891 | J32: =universe_weak!J32 -> 25392.768 | ... O32: =universe_weak!O32 -> 11502.667 | P32: =SUM(C32:O34) -> 164901.33
A33: =universe_weak!A33 -> Kyushu-Okinawa | B33: =LEFT(universe_weak!B33,FIND(")",universe_weak!B33)) -> Medium (20-99) | C33: =universe_weak!C33 -> 4110.7168 | D33: =universe_weak!D33 -> 622.375 | E33: =universe_weak!E33 -> 120.375 | F33: =universe_weak!F33 -> 866.5 | G33: =universe_weak!G33 -> 52 | H33: =universe_weak!H33 -> 7030.2085 | I33: =universe_weak!I33 -> 3798.7334 | J33: =universe_weak!J33 -> 7613.8721 | ... O33: =universe_weak!O33 -> 3888.6667
A34: =universe_weak!A34 -> Kyushu-Okinawa | B34: =LEFT(universe_weak!B34,FIND(")",universe_weak!B34)) -> Large (100 or more) | C34: =universe_weak!C34 -> 1362.6666 | D34: =universe_weak!D34 -> 248.5 | E34: =universe_weak!E34 -> 89.375 | F34: =universe_weak!F34 -> 134 | G34: =universe_weak!G34 -> 67.375 | H34: =universe_weak!H34 -> 369.625 | I34: =universe_weak!I34 -> 60 | J34: =universe_weak!J34 -> 244 | ... O34: =universe_weak!O34 -> 595.66669
C35: =SUM(C2:C34) -> 62396.946 | D35: =SUM(D2:D34) -> 47436.281 | E35: =SUM(E2:E34) -> 16625.477 | F35: =SUM(F2:F34) -> 32675.924 | G35: =SUM(G2:G34) -> 13759.749 | H35: =SUM(H2:H34) -> 143258.69 | I35: =SUM(I2:I34) -> 130507.63 | J35: =SUM(J2:J34) -> 261794.3 | ... P35: =SUM(P2:P34) -> 1468872

Sheet Table 9 Median Universe Est
C1: =RIGHT(SUBSTITUTE(universe_median!C1,"_"," "),LEN(SUBSTITUTE(universe_median!C1,"_"," "))-1) -> Food | D1: =RIGHT(SUBSTITUTE(universe_median!D1,"_"," "),LEN(SUBSTITUTE(universe_median!D1,"_"," "))-1) -> Basic Metals and Metal Products | E1: =RIGHT(SUBSTITUTE(universe_median!E1,"_"," "),LEN(SUBSTITUTE(universe_median!E1,"_"," "))-1) -> Comp Elec and Optical Prod | F1: =RIGHT(SUBSTITUTE(universe_median!F1,"_"," "),LEN(SUBSTITUTE(universe_median!F1,"_"," "))-1) -> Machinery and Equipment | G1: =RIGHT(SUBSTITUTE(universe_median!G1,"_"," "),LEN(SUBSTITUTE(universe_median!G1,"_"," "))-1) -> Motor Vehicles | H1: =RIGHT(SUBSTITUTE(universe_median!H1,"_"," "),LEN(SUBSTITUTE(universe_median!H1,"_"," "))-1) -> Other Manufacturing | I1: =RIGHT(SUBSTITUTE(universe_median!I1,"_"," "),LEN(SUBSTITUTE(universe_median!I1,"_"," "))-1) -> Wholesale | J1: =RIGHT(SUBSTITUTE(universe_median!J1,"_"," "),LEN(SUBSTITUTE(universe_median!J1,"_"," "))-1) -> Retail | ... O1: =RIGHT(SUBSTITUTE(universe_median!O1,"_"," "),LEN(SUBSTITUTE(universe_median!O1,"_"," "))-1) -> Other Services | P1: =RIGHT(SUBSTITUTE(universe_median!T1,"_"," "),LEN(SUBSTITUTE(universe_median!T1,"_"," "))-1) -> Grand Total
A2: =universe_median!A2 -> Hokkaido | B2: =LEFT(universe_median!B2,FIND(")",universe_median!B2)) -> Small (5-19) | C2: =universe_median!C2 -> 3571.1667 | D2: =universe_median!D2 -> 878.43939 | E2: =universe_median!E2 -> 55.833332 | F2: =universe_median!F2 -> 74.333336 | G2: =universe_median!G2 -> 0 | H2: =universe_median!H2 -> 1512.6169 | I2: =universe_median!I2 -> 134.40477 | J2: =universe_median!J2 -> 8947.459 | ... O2: =universe_median!O2 -> 3671.2222 | P2: =SUM(C2:O4) -> 61188.89
A3: =universe_median!A3 -> Hokkaido | B3: =LEFT(universe_median!B3,FIND(")",universe_median!B3)) -> Medium (20-99) | C3: =universe_median!C3 -> 538.21429 | D3: =universe_median!D3 -> 239.5 | E3: =universe_median!E3 -> 0 | F3: =universe_median!F3 -> 127.83333 | G3: =universe_median!G3 -> 86 | H3: =universe_median!H3 -> 1196.8182 | I3: =universe_median!I3 -> 2951.1895 | J3: =universe_median!J3 -> 1902.9584 | ... O3: =universe_median!O3 -> 3156.5557
A4: =universe_median!A4 -> Hokkaido | B4: =LEFT(universe_median!B4,FIND(")",universe_median!B4)) -> Large (100 or more) | C4: =universe_median!C4 -> 224.07143 | D4: =universe_median!D4 -> 0 | E4: =universe_median!E4 -> 0 | F4: =universe_median!F4 -> 0 | G4: =universe_median!G4 -> 10 | H4: =universe_median!H4 -> 35.5 | I4: =universe_median!I4 -> 39.5 | J4: =universe_median!J4 -> 509.75 | ... O4: =universe_median!O4 -> 474.04041
A5: =universe_median!A5 -> Tohoku | B5: =LEFT(universe_median!B5,FIND(")",universe_median!B5)) -> Small (5-19) | C5: =universe_median!C5 -> 3891.7 | D5: =universe_median!D5 -> 360.60001 | E5: =universe_median!E5 -> 201 | F5: =universe_median!F5 -> 1015.75 | G5: =universe_median!G5 -> 41.5 | H5: =universe_median!H5 -> 4288.2222 | I5: =universe_median!I5 -> 6888.543 | J5: =universe_median!J5 -> 18618.857 | ... O5: =universe_median!O5 -> 7806 | P5: =SUM(C5:O7) -> 104573
A6: =universe_median!A6 -> Tohoku | B6: =LEFT(universe_median!B6,FIND(")",universe_median!B6)) -> Medium (20-99) | C6: =universe_median!C6 -> 546.40002 | D6: =universe_median!D6 -> 1239.225 | E6: =universe_median!E6 -> 1065.5 | F6: =universe_median!F6 -> 323.5 | G6: =universe_median!G6 -> 185.45833 | H6: =universe_median!H6 -> 4742.2168 | I6: =universe_median!I6 -> 2208.2 | J6: =universe_median!J6 -> 3831.9644 | ... O6: =universe_median!O6 -> 2890.2222
A7: =universe_median!A7 -> Tohoku | B7: =LEFT(universe_median!B7,FIND(")",universe_median!B7)) -> Large (100 or more) | C7: =universe_median!C7 -> 156.2 | D7: =universe_median!D7 -> 140.91667 | E7: =universe_median!E7 -> 364.25 | F7: =universe_median!F7 -> 124.16666 | G7: =universe_median!G7 -> 122.66667 | H7: =universe_median!H7 -> 270.91666 | I7: =universe_median!I7 -> 26.200001 | J7: =universe_median!J7 -> 1010.3008 | ... O7: =universe_median!O7 -> 277.05554
A8: =universe_median!A8 -> Kanto (excl. Tokyo) | B8: =LEFT(universe_median!B8,FIND(")",universe_median!B8)) -> Small (5-19) | C8: =universe_median!C8 -> 4575.4287 | D8: =universe_median!D8 -> 5367.3071 | E8: =universe_median!E8 -> 1467.2 | F8: =universe_median!F8 -> 3763.0889 | G8: =universe_median!G8 -> 505.03076 | H8: =universe_median!H8 -> 17184.742 | I8: =universe_median!I8 -> 18947.65 | J8: =universe_median!J8 -> 42007.844 | ... O8: =universe_median!O8 -> 12880.617 | P8: =SUM(C8:O10) -> 291143.25
A9: =universe_median!A9 -> Kanto (excl. Tokyo) | B9: =LEFT(universe_median!B9,FIND(")",universe_median!B9)) -> Medium (20-99) | C9: =universe_median!C9 -> 3364.1917 | D9: =universe_median!D9 -> 7416.084 | E9: =universe_median!E9 -> 207.2 | F9: =universe_median!F9 -> 1219.777 | G9: =universe_median!G9 -> 2539.4116 | H9: =universe_median!H9 -> 8362.7002 | I9: =universe_median!I9 -> 5435.0068 | J9: =universe_median!J9 -> 11252.744 | ... O9: =universe_median!O9 -> 15390.16
A10: =universe_median!A10 -> Kanto (excl. Tokyo) | B10: =LEFT(universe_median!B10,FIND(")",universe_median!B10)) -> Large (100 or more) | C10: =universe_median!C10 -> 742 | D10: =universe_median!D10 -> 320.57361 | E10: =universe_median!E10 -> 178.16234 | F10: =universe_median!F10 -> 212.79221 | G10: =universe_median!G10 -> 229.80519 | H10: =universe_median!H10 -> 1230.6523 | I10: =universe_median!I10 -> 2315.689 | J10: =universe_median!J10 -> 1441 | ... O10: =universe_median!O10 -> 1644.3572
A11: =universe_median!A11 -> Tokyo | B11: =LEFT(universe_median!B11,FIND(")",universe_median!B11)) -> Small (5-19) | C11: =universe_median!C11 -> 647 | D11: =universe_median!D11 -> 0 | E11: =universe_median!E11 -> 149.8 | F11: =universe_median!F11 -> 2007 | G11: =universe_median!G11 -> 62 | H11: =universe_median!H11 -> 10577.542 | I11: =universe_median!I11 -> 18090.605 | J11: =universe_median!J11 -> 21648.443 | ... O11: =universe_median!O11 -> 15838.917 | P11: =SUM(C11:O13) -> 183200
A12: =universe_median!A12 -> Tokyo | B12: =LEFT(universe_median!B12,FIND(")",universe_median!B12)) -> Medium (20-99) | C12: =universe_median!C12 -> 1396.0908 | D12: =universe_median!D12 -> 53 | E12: =universe_median!E12 -> 2455.7429 | F12: =universe_median!F12 -> 0 | G12: =universe_median!G12 -> 53 | H12: =universe_median!H12 -> 5862.1968 | I12: =universe_median!I12 -> 3312.3635 | J12: =universe_median!J12 -> 7050.8887 | ... O12: =universe_median!O12 -> 2119.1072
A13: =universe_median!A13 -> Tokyo | B13: =LEFT(universe_median!B13,FIND(")",universe_median!B13)) -> Large (100 or more) | C13: =universe_median!C13 -> 227.39999 | D13: =universe_median!D13 -> 423.62857 | E13: =universe_median!E13 -> 265.76666 | F13: =universe_median!F13 -> 112.5 | G13: =universe_median!G13 -> 47.333332 | H13: =universe_median!H13 -> 1577.3762 | I13: =universe_median!I13 -> 2823.896 | J13: =universe_median!J13 -> 1951.946 | ... O13: =universe_median!O13 -> 4297.6216
A14: =universe_median!A14 -> Chubu (excl. Aichi) | B14: =LEFT(universe_median!B14,FIND(")",universe_median!B14)) -> Small (5-19) | C14: =universe_median!C14 -> 8395.4492 | D14: =universe_median!D14 -> 6600.5088 | E14: =universe_median!E14 -> 2315.25 | F14: =universe_median!F14 -> 4700 | G14: =universe_median!G14 -> 478 | H14: =universe_median!H14 -> 6782 | I14: =universe_median!I14 -> 8481.25 | J14: =universe_median!J14 -> 23971.154 | ... O14: =universe_median!O14 -> 14235.417 | P14: =SUM(C14:O16) -> 181904
A15: =universe_median!A15 -> Chubu (excl. Aichi) | B15: =LEFT(universe_median!B15,FIND(")",universe_median!B15)) -> Medium (20-99) | C15: =universe_median!C15 -> 1582 | D15: =universe_median!D15 -> 29.571428 | E15: =universe_median!E15 -> 1163.25 | F15: =universe_median!F15 -> 98.25 | G15: =universe_median!G15 -> 3862.3572 | H15: =universe_median!H15 -> 11516 | I15: =universe_median!I15 -> 1465.4 | J15: =universe_median!J15 -> 3830.1155 | ... O15: =universe_median!O15 -> 1633.3334
A16: =universe_median!A16 -> Chubu (excl. Aichi) | B16: =LEFT(universe_median!B16,FIND(")",universe_median!B16)) -> Large (100 or more) | C16: =universe_median!C16 -> 2172.5 | D16: =universe_median!D16 -> 88.714287 | E16: =universe_median!E16 -> 233 | F16: =universe_median!F16 -> 436.67145 | G16: =universe_median!G16 -> 480.14285 | H16: =universe_median!H16 -> 2691.8 | I16: =universe_median!I16 -> 86.800003 | J16: =universe_median!J16 -> 433.39999 | ... O16: =universe_median!O16 -> 2048.5835
A17: =universe_median!A17 -> Aichi | B17: =LEFT(universe_median!B17,FIND(")",universe_median!B17)) -> Small (5-19) | C17: =universe_median!C17 -> 1562.2666 | D17: =universe_median!D17 -> 906.69446 | E17: =universe_median!E17 -> 2532 | F17: =universe_median!F17 -> 3253.6257 | G17: =universe_median!G17 -> 1981.9797 | H17: =universe_median!H17 -> 6178.1787 | I17: =universe_median!I17 -> 8099.0498 | J17: =universe_median!J17 -> 12446.533 | ... O17: =universe_median!O17 -> 3504.75 | P17: =SUM(C17:O19) -> 89677.142
A18: =universe_median!A18 -> Aichi | B18: =LEFT(universe_median!B18,FIND(")",universe_median!B18)) -> Medium (20-99) | C18: =universe_median!C18 -> 1567.5 | D18: =universe_median!D18 -> 1469.6666 | E18: =universe_median!E18 -> 0 | F18: =universe_median!F18 -> 1439.25 | G18: =universe_median!G18 -> 891.58331 | H18: =universe_median!H18 -> 1432.4286 | I18: =universe_median!I18 -> 761.54999 | J18: =universe_median!J18 -> 2304.1001 | ... O18: =universe_median!O18 -> 2518.4287
A19: =universe_median!A19 -> Aichi | B19: =LEFT(universe_median!B19,FIND(")",universe_median!B19)) -> Large (100 or more) | C19: =universe_median!C19 -> 295.5 | D19: =universe_median!D19 -> 80 | E19: =universe_median!E19 -> 109 | F19: =universe_median!F19 -> 0 | G19: =universe_median!G19 -> 548 | H19: =universe_median!H19 -> 461.71429 | I19: =universe_median!I19 -> 146.39999 | J19: =universe_median!J19 -> 189.33333 | ... O19: =universe_median!O19 -> 998.65717
A20: =universe_median!A20 -> Kinki (excl. Osaka) | B20: =LEFT(universe_median!B20,FIND(")",universe_median!B20)) -> Small (5-19) | C20: =universe_median!C20 -> 6489.7144 | D20: =universe_median!D20 -> 3791.6667 | E20: =universe_median!E20 -> 484.46667 | F20: =universe_median!F20 -> 2278.8 | G20: =universe_median!G20 -> 86.333336 | H20: =universe_median!H20 -> 5831.2144 | I20: =universe_median!I20 -> 6059 | J20: =universe_median!J20 -> 20345.623 | ... O20: =universe_median!O20 -> 6202 | P20: =SUM(C20:O22) -> 151491.33
A21: =universe_median!A21 -> Kinki (excl. Osaka) | B21: =LEFT(universe_median!B21,FIND(")",universe_median!B21)) -> Medium (20-99) | C21: =universe_median!C21 -> 1896.5 | D21: =universe_median!D21 -> 284 | E21: =universe_median!E21 -> 133.93333 | F21: =universe_median!F21 -> 59.333332 | G21: =universe_median!G21 -> 248 | H21: =universe_median!H21 -> 10191.539 | I21: =universe_median!I21 -> 2141.9668 | J21: =universe_median!J21 -> 5983.7749 | ... O21: =universe_median!O21 -> 4234.3335
A22: =universe_median!A22 -> Kinki (excl. Osaka) | B22: =LEFT(universe_median!B22,FIND(")",universe_median!B22)) -> Large (100 or more) | C22: =universe_median!C22 -> 2292.5 | D22: =universe_median!D22 -> 88.199997 | E22: =universe_median!E22 -> 159.33333 | F22: =universe_median!F22 -> 328.39999 | G22: =universe_median!G22 -> 0 | H22: =universe_median!H22 -> 853.56665 | I22: =universe_median!I22 -> 136 | J22: =universe_median!J22 -> 2203.8484 | ... O22: =universe_median!O22 -> 497.16666
A23: =universe_median!A23 -> Osaka | B23: =LEFT(universe_median!B23,FIND(")",universe_median!B23)) -> Small (5-19) | C23: =universe_median!C23 -> 575 | D23: =universe_median!D23 -> 9049.3672 | E23: =universe_median!E23 -> 2024.6001 | F23: =universe_median!F23 -> 5099.9331 | G23: =universe_median!G23 -> 135 | H23: =universe_median!H23 -> 6145.6499 | I23: =universe_median!I23 -> 13029.886 | J23: =universe_median!J23 -> 10612.971 | ... O23: =universe_median!O23 -> 2765.0835 | P23: =SUM(C23:O25) -> 105161.05
A24: =universe_median!A24 -> Osaka | B24: =LEFT(universe_median!B24,FIND(")",universe_median!B24)) -> Medium (20-99) | C24: =universe_median!C24 -> 208 | D24: =universe_median!D24 -> 1790.3 | E24: =universe_median!E24 -> 224.86667 | F24: =universe_median!F24 -> 862.70001 | G24: =universe_median!G24 -> 51.599998 | H24: =universe_median!H24 -> 2565.5 | I24: =universe_median!I24 -> 3132.5752 | J24: =universe_median!J24 -> 3605.1428 | ... O24: =universe_median!O24 -> 2784.1785
A25: =universe_median!A25 -> Osaka | B25: =LEFT(universe_median!B25,FIND(")",universe_median!B25)) -> Large (100 or more) | C25: =universe_median!C25 -> 338 | D25: =universe_median!D25 -> 208.99048 | E25: =universe_median!E25 -> 62 | F25: =universe_median!F25 -> 31.857143 | G25: =universe_median!G25 -> 196.2 | H25: =universe_median!H25 -> 1659.363 | I25: =universe_median!I25 -> 520.0863 | J25: =universe_median!J25 -> 550 | ... O25: =universe_median!O25 -> 2593.8779
A26: =universe_median!A26 -> Chugoku | B26: =LEFT(universe_median!B26,FIND(")",universe_median!B26)) -> Small (5-19) | C26: =universe_median!C26 -> 2552.1111 | D26: =universe_median!D26 -> 638.28571 | E26: =universe_median!E26 -> 122.78571 | F26: =universe_median!F26 -> 892 | G26: =universe_median!G26 -> 421 | H26: =universe_median!H26 -> 6479.8887 | I26: =universe_median!I26 -> 7620.7856 | J26: =universe_median!J26 -> 12781.756 | ... O26: =universe_median!O26 -> 10199.278 | P26: =SUM(C26:O28) -> 87375.546
A27: =universe_median!A27 -> Chugoku | B27: =LEFT(universe_median!B27,FIND(")",universe_median!B27)) -> Medium (20-99) | C27: =universe_median!C27 -> 709.09998 | D27: =universe_median!D27 -> 930.85712 | E27: =universe_median!E27 -> 122.78571 | F27: =universe_median!F27 -> 367.57141 | G27: =universe_median!G27 -> 218.57143 | H27: =universe_median!H27 -> 1667.8413 | I27: =universe_median!I27 -> 529.5 | J27: =universe_median!J27 -> 718 | ... O27: =universe_median!O27 -> 1460.1714
A28: =universe_median!A28 -> Chugoku | B28: =LEFT(universe_median!B28,FIND(")",universe_median!B28)) -> Large (100 or more) | C28: =universe_median!C28 -> 313.79999 | D28: =universe_median!D28 -> 144 | E28: =universe_median!E28 -> 0 | F28: =universe_median!F28 -> 186.33333 | G28: =universe_median!G28 -> 0 | H28: =universe_median!H28 -> 428 | I28: =universe_median!I28 -> 103 | J28: =universe_median!J28 -> 244.5 | ... O28: =universe_median!O28 -> 242.39999
A29: =universe_median!A29 -> Shikoku | B29: =LEFT(universe_median!B29,FIND(")",universe_median!B29)) -> Small (5-19) | C29: =universe_median!C29 -> 608.6286 | D29: =universe_median!D29 -> 365.88095 | E29: =universe_median!E29 -> 0 | F29: =universe_median!F29 -> 489.16669 | G29: =universe_median!G29 -> 0 | H29: =universe_median!H29 -> 3929.1938 | I29: =universe_median!I29 -> 5542.2432 | J29: =universe_median!J29 -> 6022.8335 | ... O29: =universe_median!O29 -> 2149.2273 | P29: =SUM(C29:O31) -> 48256.455
A30: =universe_median!A30 -> Shikoku | B30: =LEFT(universe_median!B30,FIND(")",universe_median!B30)) -> Medium (20-99) | C30: =universe_median!C30 -> 736.55719 | D30: =universe_median!D30 -> 354.63809 | E30: =universe_median!E30 -> 0 | F30: =universe_median!F30 -> 727.79047 | G30: =universe_median!G30 -> 50.400002 | H30: =universe_median!H30 -> 1560.2909 | I30: =universe_median!I30 -> 996.3667 | J30: =universe_median!J30 -> 1885.9167 | ... O30: =universe_median!O30 -> 948.27277
A31: =universe_median!A31 -> Shikoku | B31: =LEFT(universe_median!B31,FIND(")",universe_median!B31)) -> Large (100 or more) | C31: =universe_median!C31 -> 105.25 | D31: =universe_median!D31 -> 40 | E31: =universe_median!E31 -> 42 | F31: =universe_median!F31 -> 0 | G31: =universe_median!G31 -> 0 | H31: =universe_median!H31 -> 173 | I31: =universe_median!I31 -> 45.5 | J31: =universe_median!J31 -> 240.5 | ... O31: =universe_median!O31 -> 2085.5
A32: =universe_median!A32 -> Kyushu-Okinawa | B32: =LEFT(universe_median!B32,FIND(")",universe_median!B32)) -> Small (5-19) | C32: =universe_median!C32 -> 4643.3223 | D32: =universe_median!D32 -> 3264.7896 | E32: =universe_median!E32 -> 276 | F32: =universe_median!F32 -> 1443 | G32: =universe_median!G32 -> 109 | H32: =universe_median!H32 -> 8470.1895 | I32: =universe_median!I32 -> 4578.2891 | J32: =universe_median!J32 -> 25392.768 | ... O32: =universe_median!O32 -> 11502.667 | P32: =SUM(C32:O34) -> 164901.33
A33: =universe_median!A33 -> Kyushu-Okinawa | B33: =LEFT(universe_median!B33,FIND(")",universe_median!B33)) -> Medium (20-99) | C33: =universe_median!C33 -> 4110.7168 | D33: =universe_median!D33 -> 622.375 | E33: =universe_median!E33 -> 120.375 | F33: =universe_median!F33 -> 866.5 | G33: =universe_median!G33 -> 52 | H33: =universe_median!H33 -> 7030.2085 | I33: =universe_median!I33 -> 3798.7334 | J33: =universe_median!J33 -> 7613.8721 | ... O33: =universe_median!O33 -> 3888.6667
A34: =universe_median!A34 -> Kyushu-Okinawa | B34: =LEFT(universe_median!B34,FIND(")",universe_median!B34)) -> Large (100 or more) | C34: =universe_median!C34 -> 1362.6666 | D34: =universe_median!D34 -> 248.5 | E34: =universe_median!E34 -> 89.375 | F34: =universe_median!F34 -> 134 | G34: =universe_median!G34 -> 67.375 | H34: =universe_median!H34 -> 369.625 | I34: =universe_median!I34 -> 60 | J34: =universe_median!J34 -> 244 | ... O34: =universe_median!O34 -> 595.66669
C35: =SUM(C2:C34) -> 62396.946 | D35: =SUM(D2:D34) -> 47436.281 | E35: =SUM(E2:E34) -> 16625.477 | F35: =SUM(F2:F34) -> 32675.924 | G35: =SUM(G2:G34) -> 13759.749 | H35: =SUM(H2:H34) -> 143258.69 | I35: =SUM(I2:I34) -> 130507.63 | J35: =SUM(J2:J34) -> 261794.3 | ... P35: =SUM(P2:P34) -> 1468872

Sheet Table 10 Strict Universe Est
C1: =RIGHT(SUBSTITUTE(universe_strict!C1,"_"," "),LEN(SUBSTITUTE(universe_strict!C1,"_"," "))-1) -> Food | D1: =RIGHT(SUBSTITUTE(universe_strict!D1,"_"," "),LEN(SUBSTITUTE(universe_strict!D1,"_"," "))-1) -> Basic Metals and Metal Products | E1: =RIGHT(SUBSTITUTE(universe_strict!E1,"_"," "),LEN(SUBSTITUTE(universe_strict!E1,"_"," "))-1) -> Comp Elec and Optical Prod | F1: =RIGHT(SUBSTITUTE(universe_strict!F1,"_"," "),LEN(SUBSTITUTE(universe_strict!F1,"_"," "))-1) -> Machinery and Equipment | G1: =RIGHT(SUBSTITUTE(universe_strict!G1,"_"," "),LEN(SUBSTITUTE(universe_strict!G1,"_"," "))-1) -> Motor Vehicles | H1: =RIGHT(SUBSTITUTE(universe_strict!H1,"_"," "),LEN(SUBSTITUTE(universe_strict!H1,"_"," "))-1) -> Other Manufacturing | I1: =RIGHT(SUBSTITUTE(universe_strict!I1,"_"," "),LEN(SUBSTITUTE(universe_strict!I1,"_"," "))-1) -> Wholesale | J1: =RIGHT(SUBSTITUTE(universe_strict!J1,"_"," "),LEN(SUBSTITUTE(universe_strict!J1,"_"," "))-1) -> Retail | ... O1: =RIGHT(SUBSTITUTE(universe_strict!O1,"_"," "),LEN(SUBSTITUTE(universe_strict!O1,"_"," "))-1) -> Other Services | P1: =RIGHT(SUBSTITUTE(universe_strict!T1,"_"," "),LEN(SUBSTITUTE(universe_strict!T1,"_"," "))-1) -> Grand Total
A2: =universe_strict!A2 -> Hokkaido | B2: =LEFT(universe_strict!B2,FIND(")",universe_strict!B2)) -> Small (5-19) | C2: =universe_strict!C2 -> 3571.1667 | D2: =universe_strict!D2 -> 878.43939 | E2: =universe_strict!E2 -> 55.833332 | F2: =universe_strict!F2 -> 74.333336 | G2: =universe_strict!G2 -> 0 | H2: =universe_strict!H2 -> 1512.6169 | I2: =universe_strict!I2 -> 134.40477 | J2: =universe_strict!J2 -> 8947.459 | ... O2: =universe_strict!O2 -> 3671.2222 | P2: =SUM(C2:O4) -> 61188.89
A3: =universe_strict!A3 -> Hokkaido | B3: =LEFT(universe_strict!B3,FIND(")",universe_strict!B3)) -> Medium (20-99) | C3: =universe_strict!C3 -> 538.21429 | D3: =universe_strict!D3 -> 239.5 | E3: =universe_strict!E3 -> 0 | F3: =universe_strict!F3 -> 127.83333 | G3: =universe_strict!G3 -> 86 | H3: =universe_strict!H3 -> 1196.8182 | I3: =universe_strict!I3 -> 2951.1895 | J3: =universe_strict!J3 -> 1902.9584 | ... O3: =universe_strict!O3 -> 3156.5557
A4: =universe_strict!A4 -> Hokkaido | B4: =LEFT(universe_strict!B4,FIND(")",universe_strict!B4)) -> Large (100 or more) | C4: =universe_strict!C4 -> 224.07143 | D4: =universe_strict!D4 -> 0 | E4: =universe_strict!E4 -> 0 | F4: =universe_strict!F4 -> 0 | G4: =universe_strict!G4 -> 10 | H4: =universe_strict!H4 -> 35.5 | I4: =universe_strict!I4 -> 39.5 | J4: =universe_strict!J4 -> 509.75 | ... O4: =universe_strict!O4 -> 474.04041
A5: =universe_strict!A5 -> Tohoku | B5: =LEFT(universe_strict!B5,FIND(")",universe_strict!B5)) -> Small (5-19) | C5: =universe_strict!C5 -> 3891.7 | D5: =universe_strict!D5 -> 360.60001 | E5: =universe_strict!E5 -> 201 | F5: =universe_strict!F5 -> 1015.75 | G5: =universe_strict!G5 -> 41.5 | H5: =universe_strict!H5 -> 4288.2222 | I5: =universe_strict!I5 -> 6888.543 | J5: =universe_strict!J5 -> 18618.857 | ... O5: =universe_strict!O5 -> 7806 | P5: =SUM(C5:O7) -> 104573
A6: =universe_strict!A6 -> Tohoku | B6: =LEFT(universe_strict!B6,FIND(")",universe_strict!B6)) -> Medium (20-99) | C6: =universe_strict!C6 -> 546.40002 | D6: =universe_strict!D6 -> 1239.225 | E6: =universe_strict!E6 -> 1065.5 | F6: =universe_strict!F6 -> 323.5 | G6: =universe_strict!G6 -> 185.45833 | H6: =universe_strict!H6 -> 4742.2168 | I6: =universe_strict!I6 -> 2208.2 | J6: =universe_strict!J6 -> 3831.9644 | ... O6: =universe_strict!O6 -> 2890.2222
A7: =universe_strict!A7 -> Tohoku | B7: =LEFT(universe_strict!B7,FIND(")",universe_strict!B7)) -> Large (100 or more) | C7: =universe_strict!C7 -> 156.2 | D7: =universe_strict!D7 -> 140.91667 | E7: =universe_strict!E7 -> 364.25 | F7: =universe_strict!F7 -> 124.16666 | G7: =universe_strict!G7 -> 122.66667 | H7: =universe_strict!H7 -> 270.91666 | I7: =universe_strict!I7 -> 26.200001 | J7: =universe_strict!J7 -> 1010.3008 | ... O7: =universe_strict!O7 -> 277.05554
A8: =universe_strict!A8 -> Kanto (excl. Tokyo) | B8: =LEFT(universe_strict!B8,FIND(")",universe_strict!B8)) -> Small (5-19) | C8: =universe_strict!C8 -> 4575.4287 | D8: =universe_strict!D8 -> 5367.3071 | E8: =universe_strict!E8 -> 1467.2 | F8: =universe_strict!F8 -> 3763.0889 | G8: =universe_strict!G8 -> 505.03076 | H8: =universe_strict!H8 -> 17184.742 | I8: =universe_strict!I8 -> 18947.65 | J8: =universe_strict!J8 -> 42007.844 | ... O8: =universe_strict!O8 -> 12880.617 | P8: =SUM(C8:O10) -> 291143.25
A9: =universe_strict!A9 -> Kanto (excl. Tokyo) | B9: =LEFT(universe_strict!B9,FIND(")",universe_strict!B9)) -> Medium (20-99) | C9: =universe_strict!C9 -> 3364.1917 | D9: =universe_strict!D9 -> 7416.084 | E9: =universe_strict!E9 -> 207.2 | F9: =universe_strict!F9 -> 1219.777 | G9: =universe_strict!G9 -> 2539.4116 | H9: =universe_strict!H9 -> 8362.7002 | I9: =universe_strict!I9 -> 5435.0068 | J9: =universe_strict!J9 -> 11252.744 | ... O9: =universe_strict!O9 -> 15390.16
A10: =universe_strict!A10 -> Kanto (excl. Tokyo) | B10: =LEFT(universe_strict!B10,FIND(")",universe_strict!B10)) -> Large (100 or more) | C10: =universe_strict!C10 -> 742 | D10: =universe_strict!D10 -> 320.57361 | E10: =universe_strict!E10 -> 178.16234 | F10: =universe_strict!F10 -> 212.79221 | G10: =universe_strict!G10 -> 229.80519 | H10: =universe_strict!H10 -> 1230.6523 | I10: =universe_strict!I10 -> 2315.689 | J10: =universe_strict!J10 -> 1441 | ... O10: =universe_strict!O10 -> 1644.3572
A11: =universe_strict!A11 -> Tokyo | B11: =LEFT(universe_strict!B11,FIND(")",universe_strict!B11)) -> Small (5-19) | C11: =universe_strict!C11 -> 647 | D11: =universe_strict!D11 -> 0 | E11: =universe_strict!E11 -> 149.8 | F11: =universe_strict!F11 -> 2007 | G11: =universe_strict!G11 -> 62 | H11: =universe_strict!H11 -> 10577.542 | I11: =universe_strict!I11 -> 18090.605 | J11: =universe_strict!J11 -> 21648.443 | ... O11: =universe_strict!O11 -> 15838.917 | P11: =SUM(C11:O13) -> 183200
A12: =universe_strict!A12 -> Tokyo | B12: =LEFT(universe_strict!B12,FIND(")",universe_strict!B12)) -> Medium (20-99) | C12: =universe_strict!C12 -> 1396.0908 | D12: =universe_strict!D12 -> 53 | E12: =universe_strict!E12 -> 2455.7429 | F12: =universe_strict!F12 -> 0 | G12: =universe_strict!G12 -> 53 | H12: =universe_strict!H12 -> 5862.1968 | I12: =universe_strict!I12 -> 3312.3635 | J12: =universe_strict!J12 -> 7050.8887 | ... O12: =universe_strict!O12 -> 2119.1072
A13: =universe_strict!A13 -> Tokyo | B13: =LEFT(universe_strict!B13,FIND(")",universe_strict!B13)) -> Large (100 or more) | C13: =universe_strict!C13 -> 227.39999 | D13: =universe_strict!D13 -> 423.62857 | E13: =universe_strict!E13 -> 265.76666 | F13: =universe_strict!F13 -> 112.5 | G13: =universe_strict!G13 -> 47.333332 | H13: =universe_strict!H13 -> 1577.3762 | I13: =universe_strict!I13 -> 2823.896 | J13: =universe_strict!J13 -> 1951.946 | ... O13: =universe_strict!O13 -> 4297.6216
A14: =universe_strict!A14 -> Chubu (excl. Aichi) | B14: =LEFT(universe_strict!B14,FIND(")",universe_strict!B14)) -> Small (5-19) | C14: =universe_strict!C14 -> 8395.4492 | D14: =universe_strict!D14 -> 6600.5088 | E14: =universe_strict!E14 -> 2315.25 | F14: =universe_strict!F14 -> 4700 | G14: =universe_strict!G14 -> 478 | H14: =universe_strict!H14 -> 6782 | I14: =universe_strict!I14 -> 8481.25 | J14: =universe_strict!J14 -> 23971.154 | ... O14: =universe_strict!O14 -> 14235.417 | P14: =SUM(C14:O16) -> 181904
A15: =universe_strict!A15 -> Chubu (excl. Aichi) | B15: =LEFT(universe_strict!B15,FIND(")",universe_strict!B15)) -> Medium (20-99) | C15: =universe_strict!C15 -> 1582 | D15: =universe_strict!D15 -> 29.571428 | E15: =universe_strict!E15 -> 1163.25 | F15: =universe_strict!F15 -> 98.25 | G15: =universe_strict!G15 -> 3862.3572 | H15: =universe_strict!H15 -> 11516 | I15: =universe_strict!I15 -> 1465.4 | J15: =universe_strict!J15 -> 3830.1155 | ... O15: =universe_strict!O15 -> 1633.3334
A16: =universe_strict!A16 -> Chubu (excl. Aichi) | B16: =LEFT(universe_strict!B16,FIND(")",universe_strict!B16)) -> Large (100 or more) | C16: =universe_strict!C16 -> 2172.5 | D16: =universe_strict!D16 -> 88.714287 | E16: =universe_strict!E16 -> 233 | F16: =universe_strict!F16 -> 436.67145 | G16: =universe_strict!G16 -> 480.14285 | H16: =universe_strict!H16 -> 2691.8 | I16: =universe_strict!I16 -> 86.800003 | J16: =universe_strict!J16 -> 433.39999 | ... O16: =universe_strict!O16 -> 2048.5835
A17: =universe_strict!A17 -> Aichi | B17: =LEFT(universe_strict!B17,FIND(")",universe_strict!B17)) -> Small (5-19) | C17: =universe_strict!C17 -> 1562.2666 | D17: =universe_strict!D17 -> 906.69446 | E17: =universe_strict!E17 -> 2532 | F17: =universe_strict!F17 -> 3253.6257 | G17: =universe_strict!G17 -> 1981.9797 | H17: =universe_strict!H17 -> 6178.1787 | I17: =universe_strict!I17 -> 8099.0498 | J17: =universe_strict!J17 -> 12446.533 | ... O17: =universe_strict!O17 -> 3504.75 | P17: =SUM(C17:O19) -> 89677.142
A18: =universe_strict!A18 -> Aichi | B18: =LEFT(universe_strict!B18,FIND(")",universe_strict!B18)) -> Medium (20-99) | C18: =universe_strict!C18 -> 1567.5 | D18: =universe_strict!D18 -> 1469.6666 | E18: =universe_strict!E18 -> 0 | F18: =universe_strict!F18 -> 1439.25 | G18: =universe_strict!G18 -> 891.58331 | H18: =universe_strict!H18 -> 1432.4286 | I18: =universe_strict!I18 -> 761.54999 | J18: =universe_strict!J18 -> 2304.1001 | ... O18: =universe_strict!O18 -> 2518.4287
A19: =universe_strict!A19 -> Aichi | B19: =LEFT(universe_strict!B19,FIND(")",universe_strict!B19)) -> Large (100 or more) | C19: =universe_strict!C19 -> 295.5 | D19: =universe_strict!D19 -> 80 | E19: =universe_strict!E19 -> 109 | F19: =universe_strict!F19 -> 0 | G19: =universe_strict!G19 -> 548 | H19: =universe_strict!H19 -> 461.71429 | I19: =universe_strict!I19 -> 146.39999 | J19: =universe_strict!J19 -> 189.33333 | ... O19: =universe_strict!O19 -> 998.65717
A20: =universe_strict!A20 -> Kinki (excl. Osaka) | B20: =LEFT(universe_strict!B20,FIND(")",universe_strict!B20)) -> Small (5-19) | C20: =universe_strict!C20 -> 6489.7144 | D20: =universe_strict!D20 -> 3791.6667 | E20: =universe_strict!E20 -> 484.46667 | F20: =universe_strict!F20 -> 2278.8 | G20: =universe_strict!G20 -> 86.333336 | H20: =universe_strict!H20 -> 5831.2144 | I20: =universe_strict!I20 -> 6059 | J20: =universe_strict!J20 -> 20345.623 | ... O20: =universe_strict!O20 -> 6202 | P20: =SUM(C20:O22) -> 151491.33
A21: =universe_strict!A21 -> Kinki (excl. Osaka) | B21: =LEFT(universe_strict!B21,FIND(")",universe_strict!B21)) -> Medium (20-99) | C21: =universe_strict!C21 -> 1896.5 | D21: =universe_strict!D21 -> 284 | E21: =universe_strict!E21 -> 133.93333 | F21: =universe_strict!F21 -> 59.333332 | G21: =universe_strict!G21 -> 248 | H21: =universe_strict!H21 -> 10191.539 | I21: =universe_strict!I21 -> 2141.9668 | J21: =universe_strict!J21 -> 5983.7749 | ... O21: =universe_strict!O21 -> 4234.3335
A22: =universe_strict!A22 -> Kinki (excl. Osaka) | B22: =LEFT(universe_strict!B22,FIND(")",universe_strict!B22)) -> Large (100 or more) | C22: =universe_strict!C22 -> 2292.5 | D22: =universe_strict!D22 -> 88.199997 | E22: =universe_strict!E22 -> 159.33333 | F22: =universe_strict!F22 -> 328.39999 | G22: =universe_strict!G22 -> 0 | H22: =universe_strict!H22 -> 853.56665 | I22: =universe_strict!I22 -> 136 | J22: =universe_strict!J22 -> 2203.8484 | ... O22: =universe_strict!O22 -> 497.16666
A23: =universe_strict!A23 -> Osaka | B23: =LEFT(universe_strict!B23,FIND(")",universe_strict!B23)) -> Small (5-19) | C23: =universe_strict!C23 -> 575 | D23: =universe_strict!D23 -> 9049.3672 | E23: =universe_strict!E23 -> 2024.6001 | F23: =universe_strict!F23 -> 5099.9331 | G23: =universe_strict!G23 -> 135 | H23: =universe_strict!H23 -> 6145.6499 | I23: =universe_strict!I23 -> 13029.886 | J23: =universe_strict!J23 -> 10612.971 | ... O23: =universe_strict!O23 -> 2765.0835 | P23: =SUM(C23:O25) -> 105161.05
A24: =universe_strict!A24 -> Osaka | B24: =LEFT(universe_strict!B24,FIND(")",universe_strict!B24)) -> Medium (20-99) | C24: =universe_strict!C24 -> 208 | D24: =universe_strict!D24 -> 1790.3 | E24: =universe_strict!E24 -> 224.86667 | F24: =universe_strict!F24 -> 862.70001 | G24: =universe_strict!G24 -> 51.599998 | H24: =universe_strict!H24 -> 2565.5 | I24: =universe_strict!I24 -> 3132.5752 | J24: =universe_strict!J24 -> 3605.1428 | ... O24: =universe_strict!O24 -> 2784.1785
A25: =universe_strict!A25 -> Osaka | B25: =LEFT(universe_strict!B25,FIND(")",universe_strict!B25)) -> Large (100 or more) | C25: =universe_strict!C25 -> 338 | D25: =universe_strict!D25 -> 208.99048 | E25: =universe_strict!E25 -> 62 | F25: =universe_strict!F25 -> 31.857143 | G25: =universe_strict!G25 -> 196.2 | H25: =universe_strict!H25 -> 1659.363 | I25: =universe_strict!I25 -> 520.0863 | J25: =universe_strict!J25 -> 550 | ... O25: =universe_strict!O25 -> 2593.8779
A26: =universe_strict!A26 -> Chugoku | B26: =LEFT(universe_strict!B26,FIND(")",universe_strict!B26)) -> Small (5-19) | C26: =universe_strict!C26 -> 2552.1111 | D26: =universe_strict!D26 -> 638.28571 | E26: =universe_strict!E26 -> 122.78571 | F26: =universe_strict!F26 -> 892 | G26: =universe_strict!G26 -> 421 | H26: =universe_strict!H26 -> 6479.8887 | I26: =universe_strict!I26 -> 7620.7856 | J26: =universe_strict!J26 -> 12781.756 | ... O26: =universe_strict!O26 -> 10199.278 | P26: =SUM(C26:O28) -> 87375.546
A27: =universe_strict!A27 -> Chugoku | B27: =LEFT(universe_strict!B27,FIND(")",universe_strict!B27)) -> Medium (20-99) | C27: =universe_strict!C27 -> 709.09998 | D27: =universe_strict!D27 -> 930.85712 | E27: =universe_strict!E27 -> 122.78571 | F27: =universe_strict!F27 -> 367.57141 | G27: =universe_strict!G27 -> 218.57143 | H27: =universe_strict!H27 -> 1667.8413 | I27: =universe_strict!I27 -> 529.5 | J27: =universe_strict!J27 -> 718 | ... O27: =universe_strict!O27 -> 1460.1714
A28: =universe_strict!A28 -> Chugoku | B28: =LEFT(universe_strict!B28,FIND(")",universe_strict!B28)) -> Large (100 or more) | C28: =universe_strict!C28 -> 313.79999 | D28: =universe_strict!D28 -> 144 | E28: =universe_strict!E28 -> 0 | F28: =universe_strict!F28 -> 186.33333 | G28: =universe_strict!G28 -> 0 | H28: =universe_strict!H28 -> 428 | I28: =universe_strict!I28 -> 103 | J28: =universe_strict!J28 -> 244.5 | ... O28: =universe_strict!O28 -> 242.39999
A29: =universe_strict!A29 -> Shikoku | B29: =LEFT(universe_strict!B29,FIND(")",universe_strict!B29)) -> Small (5-19) | C29: =universe_strict!C29 -> 608.6286 | D29: =universe_strict!D29 -> 365.88095 | E29: =universe_strict!E29 -> 0 | F29: =universe_strict!F29 -> 489.16669 | G29: =universe_strict!G29 -> 0 | H29: =universe_strict!H29 -> 3929.1938 | I29: =universe_strict!I29 -> 5542.2432 | J29: =universe_strict!J29 -> 6022.8335 | ... O29: =universe_strict!O29 -> 2149.2273 | P29: =SUM(C29:O31) -> 48256.455
A30: =universe_strict!A30 -> Shikoku | B30: =LEFT(universe_strict!B30,FIND(")",universe_strict!B30)) -> Medium (20-99) | C30: =universe_strict!C30 -> 736.55719 | D30: =universe_strict!D30 -> 354.63809 | E30: =universe_strict!E30 -> 0 | F30: =universe_strict!F30 -> 727.79047 | G30: =universe_strict!G30 -> 50.400002 | H30: =universe_strict!H30 -> 1560.2909 | I30: =universe_strict!I30 -> 996.3667 | J30: =universe_strict!J30 -> 1885.9167 | ... O30: =universe_strict!O30 -> 948.27277
A31: =universe_strict!A31 -> Shikoku | B31: =LEFT(universe_strict!B31,FIND(")",universe_strict!B31)) -> Large (100 or more) | C31: =universe_strict!C31 -> 105.25 | D31: =universe_strict!D31 -> 40 | E31: =universe_strict!E31 -> 42 | F31: =universe_strict!F31 -> 0 | G31: =universe_strict!G31 -> 0 | H31: =universe_strict!H31 -> 173 | I31: =universe_strict!I31 -> 45.5 | J31: =universe_strict!J31 -> 240.5 | ... O31: =universe_strict!O31 -> 2085.5
A32: =universe_strict!A32 -> Kyushu-Okinawa | B32: =LEFT(universe_strict!B32,FIND(")",universe_strict!B32)) -> Small (5-19) | C32: =universe_strict!C32 -> 4643.3223 | D32: =universe_strict!D32 -> 3264.7896 | E32: =universe_strict!E32 -> 276 | F32: =universe_strict!F32 -> 1443 | G32: =universe_strict!G32 -> 109 | H32: =universe_strict!H32 -> 8470.1895 | I32: =universe_strict!I32 -> 4578.2891 | J32: =universe_strict!J32 -> 25392.768 | ... O32: =universe_strict!O32 -> 11502.667 | P32: =SUM(C32:O34) -> 164901.33
A33: =universe_strict!A33 -> Kyushu-Okinawa | B33: =LEFT(universe_strict!B33,FIND(")",universe_strict!B33)) -> Medium (20-99) | C33: =universe_strict!C33 -> 4110.7168 | D33: =universe_strict!D33 -> 622.375 | E33: =universe_strict!E33 -> 120.375 | F33: =universe_strict!F33 -> 866.5 | G33: =universe_strict!G33 -> 52 | H33: =universe_strict!H33 -> 7030.2085 | I33: =universe_strict!I33 -> 3798.7334 | J33: =universe_strict!J33 -> 7613.8721 | ... O33: =universe_strict!O33 -> 3888.6667
A34: =universe_strict!A34 -> Kyushu-Okinawa | B34: =LEFT(universe_strict!B34,FIND(")",universe_strict!B34)) -> Large (100 or more) | C34: =universe_strict!C34 -> 1362.6666 | D34: =universe_strict!D34 -> 248.5 | E34: =universe_strict!E34 -> 89.375 | F34: =universe_strict!F34 -> 134 | G34: =universe_strict!G34 -> 67.375 | H34: =universe_strict!H34 -> 369.625 | I34: =universe_strict!I34 -> 60 | J34: =universe_strict!J34 -> 244 | ... O34: =universe_strict!O34 -> 595.66669
C35: =SUM(C2:C34) -> 62396.946 | D35: =SUM(D2:D34) -> 47436.281 | E35: =SUM(E2:E34) -> 16625.477 | F35: =SUM(F2:F34) -> 32675.924 | G35: =SUM(G2:G34) -> 13759.749 | H35: =SUM(H2:H34) -> 143258.69 | I35: =SUM(I2:I34) -> 130507.63 | J35: =SUM(J2:J34) -> 261794.3 | ... P35: =SUM(P2:P34) -> 1468872

Sheet Table 11 Item Response Rates
C2: Screener/Interview | D2: d2 | E2: l1 | F2: n2a | G2: all TFP variables
B3: Panel | C3: Fresh | D3: =VLOOKUP($C3,'item response'!$C:$G,2,FALSE) -> 0.95756459 | E3: =VLOOKUP($C3,'item response'!$C:$G,3,FALSE) -> 0.99261993 | F3: =VLOOKUP($C3,'item response'!$C:$G,4,FALSE) -> 0.86485237 | G3: =IF(VLOOKUP($C3,'item response'!$C:$G,5,FALSE)="",NA(),VLOOKUP($C3,'item response'!$C:$G,5,FALSE)) -> 0.55316454
B4: Size | C4: Small (5-19) | D4: =VLOOKUP($C4,'item response'!$C:$G,2,FALSE) -> 0.95522386 | E4: =VLOOKUP($C4,'item response'!$C:$G,3,FALSE) -> 1 | F4: =VLOOKUP($C4,'item response'!$C:$G,4,FALSE) -> 0.88518941 | G4: =IF(VLOOKUP($C4,'item response'!$C:$G,5,FALSE)="",NA(),VLOOKUP($C4,'item response'!$C:$G,5,FALSE)) -> 0.58846152
C5: Medium (20-99) | D5: =VLOOKUP($C5,'item response'!$C:$G,2,FALSE) -> 0.95178849 | E5: =VLOOKUP($C5,'item response'!$C:$G,3,FALSE) -> 0.99222398 | F5: =VLOOKUP($C5,'item response'!$C:$G,4,FALSE) -> 0.86158633 | G5: =IF(VLOOKUP($C5,'item response'!$C:$G,5,FALSE)="",NA(),VLOOKUP($C5,'item response'!$C:$G,5,FALSE)) -> 0.57200003
C6: Large (100+) | D6: =VLOOKUP($C6,'item response'!$C:$G,2,FALSE) -> 0.96636087 | E6: =VLOOKUP($C6,'item response'!$C:$G,3,FALSE) -> 0.9831804 | F6: =VLOOKUP($C6,'item response'!$C:$G,4,FALSE) -> 0.84097862 | G6: =IF(VLOOKUP($C6,'item response'!$C:$G,5,FALSE)="",NA(),VLOOKUP($C6,'item response'!$C:$G,5,FALSE)) -> 0.50357145
B7: Region | C7: Hokkaido | D7: =VLOOKUP($C7,'item response'!$C:$G,2,FALSE) -> 0.954023 | E7: =VLOOKUP($C7,'item response'!$C:$G,3,FALSE) -> 1 | F7: =VLOOKUP($C7,'item response'!$C:$G,4,FALSE) -> 0.87356323 | G7: =IF(VLOOKUP($C7,'item response'!$C:$G,5,FALSE)="",NA(),VLOOKUP($C7,'item response'!$C:$G,5,FALSE)) -> 0.51219511
C8: Tohoku | D8: =VLOOKUP($C8,'item response'!$C:$G,2,FALSE) -> 0.9378531 | E8: =VLOOKUP($C8,'item response'!$C:$G,3,FALSE) -> 0.99435025 | F8: =VLOOKUP($C8,'item response'!$C:$G,4,FALSE) -> 0.85875708 | G8: =IF(VLOOKUP($C8,'item response'!$C:$G,5,FALSE)="",NA(),VLOOKUP($C8,'item response'!$C:$G,5,FALSE)) -> 0.50632912
C9: Kanto (excl. Tokyo) | D9: =VLOOKUP($C9,'item response'!$C:$G,2,FALSE) -> 0.96621621 | E9: =VLOOKUP($C9,'item response'!$C:$G,3,FALSE) -> 0.99662161 | F9: =VLOOKUP($C9,'item response'!$C:$G,4,FALSE) -> 0.82094592 | G9: =IF(VLOOKUP($C9,'item response'!$C:$G,5,FALSE)="",NA(),VLOOKUP($C9,'item response'!$C:$G,5,FALSE)) -> 0.48039216
C10: Tokyo | D10: =VLOOKUP($C10,'item response'!$C:$G,2,FALSE) -> 0.97156399 | E10: =VLOOKUP($C10,'item response'!$C:$G,3,FALSE) -> 1 | F10: =VLOOKUP($C10,'item response'!$C:$G,4,FALSE) -> 0.86255926 | G10: =IF(VLOOKUP($C10,'item response'!$C:$G,5,FALSE)="",NA(),VLOOKUP($C10,'item response'!$C:$G,5,FALSE)) -> 0.46969697
C11: Chubu (excl. Aichi) | D11: =VLOOKUP($C11,'item response'!$C:$G,2,FALSE) -> 0.96803653 | E11: =VLOOKUP($C11,'item response'!$C:$G,3,FALSE) -> 0.99543381 | F11: =VLOOKUP($C11,'item response'!$C:$G,4,FALSE) -> 0.89041096 | G11: =IF(VLOOKUP($C11,'item response'!$C:$G,5,FALSE)="",NA(),VLOOKUP($C11,'item response'!$C:$G,5,FALSE)) -> 0.60204083
C12: Aichi | D12: =VLOOKUP($C12,'item response'!$C:$G,2,FALSE) -> 0.95135134 | E12: =VLOOKUP($C12,'item response'!$C:$G,3,FALSE) -> 0.97837836 | F12: =VLOOKUP($C12,'item response'!$C:$G,4,FALSE) -> 0.87027025 | G12: =IF(VLOOKUP($C12,'item response'!$C:$G,5,FALSE)="",NA(),VLOOKUP($C12,'item response'!$C:$G,5,FALSE)) -> 0.58620691
C13: Kinki (excl. Osaka) | D13: =VLOOKUP($C13,'item response'!$C:$G,2,FALSE) -> 0.95580113 | E13: =VLOOKUP($C13,'item response'!$C:$G,3,FALSE) -> 0.98895025 | F13: =VLOOKUP($C13,'item response'!$C:$G,4,FALSE) -> 0.85082871 | G13: =IF(VLOOKUP($C13,'item response'!$C:$G,5,FALSE)="",NA(),VLOOKUP($C13,'item response'!$C:$G,5,FALSE)) -> 0.65151513
C14: Osaka | D14: =VLOOKUP($C14,'item response'!$C:$G,2,FALSE) -> 0.97142857 | E14: =VLOOKUP($C14,'item response'!$C:$G,3,FALSE) -> 0.9942857 | F14: =VLOOKUP($C14,'item response'!$C:$G,4,FALSE) -> 0.83999997 | G14: =IF(VLOOKUP($C14,'item response'!$C:$G,5,FALSE)="",NA(),VLOOKUP($C14,'item response'!$C:$G,5,FALSE)) -> 0.46153846
C15: Chugoku | D15: =VLOOKUP($C15,'item response'!$C:$G,2,FALSE) -> 0.95530725 | E15: =VLOOKUP($C15,'item response'!$C:$G,3,FALSE) -> 0.98324025 | F15: =VLOOKUP($C15,'item response'!$C:$G,4,FALSE) -> 0.89385474 | G15: =IF(VLOOKUP($C15,'item response'!$C:$G,5,FALSE)="",NA(),VLOOKUP($C15,'item response'!$C:$G,5,FALSE)) -> 0.58571428
C16: Shikoku | D16: =VLOOKUP($C16,'item response'!$C:$G,2,FALSE) -> 0.94943821 | E16: =VLOOKUP($C16,'item response'!$C:$G,3,FALSE) -> 0.99438202 | F16: =VLOOKUP($C16,'item response'!$C:$G,4,FALSE) -> 0.86516851 | G16: =IF(VLOOKUP($C16,'item response'!$C:$G,5,FALSE)="",NA(),VLOOKUP($C16,'item response'!$C:$G,5,FALSE)) -> 0.68518519
C17: Kyushu-Okinawa | D17: =VLOOKUP($C17,'item response'!$C:$G,2,FALSE) -> 0.9430052 | E17: =VLOOKUP($C17,'item response'!$C:$G,3,FALSE) -> 0.98963732 | F17: =VLOOKUP($C17,'item response'!$C:$G,4,FALSE) -> 0.90673578 | G17: =IF(VLOOKUP($C17,'item response'!$C:$G,5,FALSE)="",NA(),VLOOKUP($C17,'item response'!$C:$G,5,FALSE)) -> 0.56451613
B18: Sector | C18: Food | D18: =VLOOKUP($C18,'item response'!$C:$G,2,FALSE) -> 0.94964027 | E18: =VLOOKUP($C18,'item response'!$C:$G,3,FALSE) -> 0.99280578 | F18: =VLOOKUP($C18,'item response'!$C:$G,4,FALSE) -> 0.82014388 | G18: =IF(VLOOKUP($C18,'item response'!$C:$G,5,FALSE)="",NA(),VLOOKUP($C18,'item response'!$C:$G,5,FALSE)) -> 0.49640289
C19: Basic Metals and Metal Products | D19: =VLOOKUP($C19,'item response'!$C:$G,2,FALSE) -> 0.96478873 | E19: =VLOOKUP($C19,'item response'!$C:$G,3,FALSE) -> 0.99295777 | F19: =VLOOKUP($C19,'item response'!$C:$G,4,FALSE) -> 0.80281693 | G19: =IF(VLOOKUP($C19,'item response'!$C:$G,5,FALSE)="",NA(),VLOOKUP($C19,'item response'!$C:$G,5,FALSE)) -> 0.54929578
C20: Computer, Electronic and Optical Products | D20: =VLOOKUP($C20,'item response'!$C:$G,2,FALSE) -> 0.96739131 | E20: =VLOOKUP($C20,'item response'!$C:$G,3,FALSE) -> 1 | F20: =VLOOKUP($C20,'item response'!$C:$G,4,FALSE) -> 0.8369565 | G20: =IF(VLOOKUP($C20,'item response'!$C:$G,5,FALSE)="",NA(),VLOOKUP($C20,'item response'!$C:$G,5,FALSE)) -> 0.57608694
C21: Machinery and Equipment | D21: =VLOOKUP($C21,'item response'!$C:$G,2,FALSE) -> 0.99115044 | E21: =VLOOKUP($C21,'item response'!$C:$G,3,FALSE) -> 0.98230088 | F21: =VLOOKUP($C21,'item response'!$C:$G,4,FALSE) -> 0.92035401 | G21: =IF(VLOOKUP($C21,'item response'!$C:$G,5,FALSE)="",NA(),VLOOKUP($C21,'item response'!$C:$G,5,FALSE)) -> 0.64601767
C22: Motor Vehicles | D22: =VLOOKUP($C22,'item response'!$C:$G,2,FALSE) -> 0.93203884 | E22: =VLOOKUP($C22,'item response'!$C:$G,3,FALSE) -> 0.99029124 | F22: =VLOOKUP($C22,'item response'!$C:$G,4,FALSE) -> 0.87378639 | G22: =IF(VLOOKUP($C22,'item response'!$C:$G,5,FALSE)="",NA(),VLOOKUP($C22,'item response'!$C:$G,5,FALSE)) -> 0.56310678
C23: Other Manufacturing | D23: =VLOOKUP($C23,'item response'!$C:$G,2,FALSE) -> 0.95061731 | E23: =VLOOKUP($C23,'item response'!$C:$G,3,FALSE) -> 0.98765433 | F23: =VLOOKUP($C23,'item response'!$C:$G,4,FALSE) -> 0.8477366 | G23: =IF(VLOOKUP($C23,'item response'!$C:$G,5,FALSE)="",NA(),VLOOKUP($C23,'item response'!$C:$G,5,FALSE)) -> 0.52736318
C24: Wholesale | D24: =VLOOKUP($C24,'item response'!$C:$G,2,FALSE) -> 0.9653179 | E24: =VLOOKUP($C24,'item response'!$C:$G,3,FALSE) -> 0.99421966 | F24: =VLOOKUP($C24,'item response'!$C:$G,4,FALSE) -> 0.80346823 | G24: =IF(VLOOKUP($C24,'item response'!$C:$G,5,FALSE)="",NA(),VLOOKUP($C24,'item response'!$C:$G,5,FALSE)) -> #N/A
C25: Retail | D25: =VLOOKUP($C25,'item response'!$C:$G,2,FALSE) -> 0.96031743 | E25: =VLOOKUP($C25,'item response'!$C:$G,3,FALSE) -> 0.99603176 | F25: =VLOOKUP($C25,'item response'!$C:$G,4,FALSE) -> 0.88095236 | G25: =IF(VLOOKUP($C25,'item response'!$C:$G,5,FALSE)="",NA(),VLOOKUP($C25,'item response'!$C:$G,5,FALSE)) -> #N/A
C26: Hotels | D26: =VLOOKUP($C26,'item response'!$C:$G,2,FALSE) -> 0.99186993 | E26: =VLOOKUP($C26,'item response'!$C:$G,3,FALSE) -> 0.98373985 | F26: =VLOOKUP($C26,'item response'!$C:$G,4,FALSE) -> 0.92682928 | G26: =IF(VLOOKUP($C26,'item response'!$C:$G,5,FALSE)="",NA(),VLOOKUP($C26,'item response'!$C:$G,5,FALSE)) -> #N/A
C27: Restaurants | D27: =VLOOKUP($C27,'item response'!$C:$G,2,FALSE) -> 0.98809522 | E27: =VLOOKUP($C27,'item response'!$C:$G,3,FALSE) -> 1 | F27: =VLOOKUP($C27,'item response'!$C:$G,4,FALSE) -> 0.89285713 | G27: =IF(VLOOKUP($C27,'item response'!$C:$G,5,FALSE)="",NA(),VLOOKUP($C27,'item response'!$C:$G,5,FALSE)) -> #N/A
C28: Construction | D28: =VLOOKUP($C28,'item response'!$C:$G,2,FALSE) -> 0.9506579 | E28: =VLOOKUP($C28,'item response'!$C:$G,3,FALSE) -> 0.99671054 | F28: =VLOOKUP($C28,'item response'!$C:$G,4,FALSE) -> 0.89802629 | G28: =IF(VLOOKUP($C28,'item response'!$C:$G,5,FALSE)=0,"N/A",VLOOKUP($C28,'item response'!$C:$G,5,FALSE)) -> N/A
C29: Professional Activities | D29: =VLOOKUP($C29,'item response'!$C:$G,2,FALSE) -> 0.92105263 | E29: =VLOOKUP($C29,'item response'!$C:$G,3,FALSE) -> 1 | F29: =VLOOKUP($C29,'item response'!$C:$G,4,FALSE) -> 0.85526317 | G29: =IF(VLOOKUP($C29,'item response'!$C:$G,5,FALSE)=0,"N/A",VLOOKUP($C29,'item response'!$C:$G,5,FALSE)) -> N/A
C30: Other Services | D30: =VLOOKUP($C30,'item response'!$C:$G,2,FALSE) -> 0.92916667 | E30: =VLOOKUP($C30,'item response'!$C:$G,3,FALSE) -> 0.98750001 | F30: =VLOOKUP($C30,'item response'!$C:$G,4,FALSE) -> 0.86250001 | G30: =IF(VLOOKUP($C30,'item response'!$C:$G,5,FALSE)=0,"N/A",VLOOKUP($C30,'item response'!$C:$G,5,FALSE)) -> N/A
B31: Overall | C31: Japan 2025 | D31: =VLOOKUP($C31,'item response'!$C:$G,2,FALSE) -> 0.95756459 | E31: =VLOOKUP($C31,'item response'!$C:$G,3,FALSE) -> 0.99261993 | F31: =VLOOKUP($C31,'item response'!$C:$G,4,FALSE) -> 0.86485237 | G31: =VLOOKUP($C31,'item response'!$C:$G,5,FALSE) -> 0.55316454
B32: Notes: the rates are calculated as follows. The number of responses with informative content in the respective variable (or combination of variables in the case of TFP) is divided by the same number plus the number of responses that are "don't know" (code -9) or refusal (code -8).

Sheet universe
A1: stratificationregionname | B1: stratificationsizename | C1: _Food | D1: _Basic_Metals_and_Metal_Products | E1: _Computer_Electronicand_Optical | F1: _Machinery_and_Equipment | G1: _Motor_Vehicles | H1: _Other_Manufacturing | I1: _Wholesale | J1: _Retail | K1: _Hotel | L1: _Restaurant | M1: _Construction | N1: _Professional_Activities | O1: _Other_Services | P1: _Hotels | Q1: _Restaurants | R1: _IT_and_IT_Services | S1: _Other_Services | T1: _Grand_Total
A2: Hokkaido | B2: Small (5-19) | C2: 1074 | D2: 443 | E2: 29 | F2: 223 | G2: 30 | H2: 1684 | I2: 4316 | J2: 10956 | K2: 676 | L2: 5425 | M2: 6124 | N2: 1804 | O2: 3054 | P2: 3540 | Q2: 11852 | R2: 166 | S2: 12214
A3: Hokkaido | B3: Medium (20-99) | C3: 829 | D3: 168 | E3: 30 | F3: 101 | G3: 13 | H3: 655 | I3: 1004 | J3: 2455 | K3: 360 | L3: 1307 | M3: 1652 | N3: 444 | O3: 1829 | P3: 151 | Q3: 215 | R3: 14 | S3: 813
A4: Hokkaido | B4: Large (100-299) | C4: 143 | D4: 17 | E4: 13 | F4: 7 | G4: 6 | H4: 57 | I4: 61 | J4: 229 | K4: 42 | L4: 26 | M4: 56 | N4: 43 | O4: 222 | P4: 9 | Q4: 6 | R4: 1 | S4: 42
A5: Hokkaido | B5: Very Large (300 or more) | C5: 21 | D5: 3 | E5: 5 | F5: 2 | G5: 7 | H5: 6 | I5: 4 | J5: 21 | K5: 6 | L5: 2 | M5: 5 | N5: 4 | O5: 24 | P5: 7 | Q5: 3 | R5: 1 | S5: 64
A6: Tohoku | B6: Small (5-19) | C6: 1688 | D6: 844 | E6: 402 | F6: 854 | G6: 100 | H6: 3916 | I6: 7902 | J6: 18603 | K6: 1196 | L6: 8393 | M6: 12477 | N6: 2972 | O6: 4479 | P6: 3795 | Q6: 8167 | R6: 1003 | S6: 10978
A7: Tohoku | B7: Medium (20-99) | C7: 1024 | D7: 487 | E7: 508 | F7: 647 | G7: 137 | H7: 2095 | I7: 1614 | J7: 3993 | K7: 604 | L7: 1735 | M7: 3099 | N7: 685 | O7: 2855 | P7: 196 | Q7: 558 | R7: 425 | S7: 1017
A8: Tohoku | B8: Large (100-299) | C8: 180 | D8: 69 | E8: 185 | F8: 103 | G8: 43 | H8: 315 | I8: 76 | J8: 296 | K8: 49 | L8: 21 | M8: 110 | N8: 45 | O8: 271 | P8: 23 | Q8: 41 | R8: 75 | S8: 162
A9: Tohoku | B9: Very Large (300 or more) | C9: 40 | D9: 18 | E9: 76 | F9: 24 | G9: 23 | H9: 46 | I9: 6 | J9: 8 | K9: 3 | L9: 1 | M9: 5 | N9: 7 | O9: 27 | P9: 14 | Q9: 11 | R9: 245 | S9: 141
A10: Kanto (excl. Tokyo) | B10: Small (5-19) | C10: 2173 | D10: 3721 | E10: 1260 | F10: 3739 | G10: 857 | H10: 10969 | I10: 16271 | J10: 47626 | K10: 1797 | L10: 26329 | M10: 25625 | N10: 7401 | O10: 12876 | P10: 663 | Q10: 2148 | R10: 37 | S10: 2654
A11: Kanto (excl. Tokyo) | B11: Medium (20-99) | C11: 1788 | D11: 1859 | E11: 862 | F11: 1773 | G11: 703 | H11: 5707 | I11: 4048 | J11: 14521 | K11: 963 | L11: 10477 | M11: 4662 | N11: 1775 | O11: 9612 | P11: 37 | Q11: 19 | R11: 1 | S11: 102
A12: Kanto (excl. Tokyo) | B12: Large (100-299) | C12: 560 | D12: 232 | E12: 216 | F12: 300 | G12: 199 | H12: 935 | I12: 296 | J12: 1297 | K12: 77 | L12: 167 | M12: 198 | N12: 325 | O12: 1297 | P12: 2 | Q12: 0 | R12: 0 | S12: 5
A13: Kanto (excl. Tokyo) | B13: Very Large (300 or more) | C13: 182 | D13: 38 | E13: 86 | F13: 109 | G13: 95 | H13: 239 | I13: 55 | J13: 144 | K13: 15 | L13: 16 | M13: 28 | N13: 163 | O13: 256 | P13: 0 | Q13: 0 | R13: 0 | S13: 3
... A45: Kyushu-Okinawa | B45: Very Large (300 or more) | C45: 66 | D45: 12 | E45: 46 | F45: 27 | G45: 24 | H45: 84 | I45: 16 | J45: 51 | K45: 15 | L45: 8 | M45: 16 | N45: 20 | O45: 65 | P45: 1 | Q45: 0 | R45: 0 | S45: 3

Sheet frame fresh and panel
A1: stratificationregionname | B1: stratificationsizename | C1: _Food | D1: _Basic_Metals_and_Metal_Products | E1: _Comp_Elec_and_Optical_Prod | F1: _Machinery_and_Equipment | G1: _Motor_Vehicles | H1: _Other_Manufacturing | I1: _Wholesale | J1: _Retail | K1: _Hotels | L1: _Restaurant | M1: _Construction | N1: _Professional_Activities | O1: _Other_Services | P1: _Hotels | Q1: _Restaurants | R1: _IT_and_IT_Services | S1: _Other_Services | T1: _Grand_Total
A2: Hokkaido | B2: Small (5-19) | C2: 478 | D2: 217 | E2: 20 | F2: 102 | G2: 19 | H2: 1375 | I2: 3919 | J2: 5238 | K2: 379 | L2: 1187 | M2: 10960 | N2: 3697 | O2: 5202 | P2: 3540 | Q2: 11852 | R2: 166 | S2: 12217
A3: Hokkaido | B3: Medium (20-99) | C3: 841 | D3: 314 | E3: 39 | F3: 144 | G3: 29 | H3: 3358 | I3: 1557 | J3: 1209 | K3: 80 | L3: 155 | M3: 1423 | N3: 681 | O3: 1543 | P3: 151 | Q3: 215 | R3: 14 | S3: 813
A4: Hokkaido | B4: Large (100-299) | C4: 29 | D4: 14 | E4: 3 | F4: 5 | G4: 3 | H4: 48 | I4: 59 | J4: 65 | K4: 15 | L4: 17 | M4: 44 | N4: 31 | O4: 206 | P4: 9 | Q4: 6 | R4: 1 | S4: 42
A5: Hokkaido | B5: Very Large (300 or more) | C5: 11 | D5: 4 | F5: 3 | G5: 4 | H5: 14 | I5: 18 | J5: 28 | K5: 4 | L5: 3 | M5: 13 | N5: 8 | O5: 69 | P5: 7 | Q5: 3 | R5: 1 | S5: 66
A6: Tohoku | B6: Small (5-19) | C6: 642 | D6: 481 | E6: 163 | F6: 248 | G6: 45 | H6: 3008 | I6: 6223 | J6: 9172 | K6: 719 | L6: 1502 | M6: 18782 | N6: 5898 | O6: 7806 | P6: 3794 | Q6: 8166 | R6: 1004 | S6: 10987
A7: Tohoku | B7: Medium (20-99) | C7: 1141 | D7: 734 | E7: 316 | F7: 398 | G7: 95 | H7: 7445 | I7: 1980 | J7: 1597 | K7: 175 | L7: 167 | M7: 2469 | N7: 1020 | O7: 2041 | P7: 199 | Q7: 559 | R7: 428 | S7: 1045
A8: Tohoku | B8: Large (100-299) | C8: 57 | D8: 55 | E8: 72 | F8: 48 | G8: 20 | H8: 171 | I8: 111 | J8: 104 | K8: 23 | L8: 8 | M8: 104 | N8: 31 | O8: 317 | P8: 31 | Q8: 42 | R8: 76 | S8: 184
A9: Tohoku | B9: Very Large (300 or more) | C9: 13 | D9: 8 | E9: 36 | F9: 7 | G9: 14 | H9: 40 | I9: 20 | J9: 41 | K9: 2 | L9: 2 | M9: 14 | N9: 7 | O9: 61 | P9: 15 | Q9: 11 | R9: 257 | S9: 143
A10: Kanto (excl. Tokyo) | B10: Small (5-19) | C10: 842 | D10: 2648 | E10: 643 | F10: 1113 | G10: 279 | H10: 6332 | I10: 16000 | J10: 14239 | K10: 791 | L10: 2523 | M10: 58876 | N10: 13605 | O10: 17511 | P10: 663 | Q10: 2148 | R10: 37 | S10: 2660
A11: Kanto (excl. Tokyo) | B11: Medium (20-99) | C11: 1475 | D11: 3675 | E11: 1036 | F11: 1917 | G11: 554 | H11: 16947 | I11: 6055 | J11: 2894 | K11: 217 | L11: 455 | M11: 7625 | N11: 1785 | O11: 5933 | P11: 38 | Q11: 19 | R11: 1 | S11: 109
A12: Kanto (excl. Tokyo) | B12: Large (100-299) | C12: 106 | D12: 216 | E12: 115 | F12: 134 | G12: 100 | H12: 419 | I12: 238 | J12: 251 | K12: 32 | L12: 50 | M12: 221 | N12: 102 | O12: 834 | P12: 2 | S12: 4
A13: Kanto (excl. Tokyo) | B13: Very Large (300 or more) | C13: 33 | D13: 47 | E13: 69 | F13: 49 | G13: 60 | H13: 142 | I13: 71 | J13: 130 | K13: 7 | L13: 20 | M13: 63 | N13: 50 | O13: 295 | P13: 1 | S13: 4
A14: Tokyo | B14: Small (5-19) | C14: 284 | D14: 747 | E14: 453 | F14: 464 | G14: 60 | H14: 3216 | I14: 17893 | J14: 7691 | K14: 229 | L14: 2559 | M14: 23832 | N14: 13205 | O14: 12330 | P14: 1085 | Q14: 5705 | R14: 58 | S14: 8008
A15: Tokyo | B15: Medium (20-99) | C15: 466 | D15: 1221 | E15: 749 | F15: 743 | G15: 106 | H15: 6546 | I15: 9109 | J15: 2123 | K15: 142 | L15: 853 | M15: 4639 | N15: 2708 | O15: 6310 | P15: 90 | Q15: 22 | R15: 3 | S15: 253
A16: Tokyo | B16: Large (100-299) | C16: 102 | D16: 127 | E16: 124 | F16: 120 | G16: 23 | H16: 651 | I16: 1013 | J16: 304 | K16: 48 | L16: 142 | M16: 365 | N16: 419 | O16: 1519 | P16: 2 | S16: 31
A17: Tokyo | B17: Very Large (300 or more) | C17: 100 | D17: 109 | E17: 133 | F17: 105 | G17: 32 | H17: 563 | I17: 497 | J17: 313 | K17: 43 | L17: 90 | M17: 234 | N17: 252 | O17: 844 | P17: 1 | S17: 8
A18: Chubu (excl. Aichi) | B18: Small (5-19) | C18: 1003 | D18: 1953 | E18: 387 | F18: 1125 | G18: 280 | H18: 5999 | I18: 12123 | J18: 13521 | K18: 1390 | L18: 2516 | M18: 31295 | N18: 10294 | O18: 12770 | P18: 853 | Q18: 3803 | R18: 16 | S18: 4294
A19: Chubu (excl. Aichi) | B19: Medium (20-99) | C19: 1853 | D19: 3018 | E19: 786 | F19: 1793 | G19: 472 | H19: 14804 | I19: 4266 | J19: 2379 | K19: 359 | L19: 325 | M19: 3642 | N19: 1309 | O19: 3485 | P19: 26 | Q19: 29 | S19: 215
A20: Chubu (excl. Aichi) | B20: Large (100-299) | C20: 95 | D20: 207 | E20: 101 | F20: 164 | G20: 79 | H20: 487 | I20: 217 | J20: 151 | K20: 33 | L20: 20 | M20: 162 | N20: 61 | O20: 476 | P20: 6 | S20: 26
A21: Chubu (excl. Aichi) | B21: Very Large (300 or more) | C21: 31 | D21: 40 | E21: 59 | F21: 55 | G21: 46 | H21: 128 | I21: 43 | J21: 70 | K21: 2 | M21: 40 | N21: 19 | O21: 129 | S21: 9
A22: Aichi | B22: Small (5-19) | C22: 241 | D22: 970 | E22: 88 | F22: 762 | G22: 213 | H22: 2241 | I22: 5671 | J22: 3212 | K22: 137 | L22: 729 | M22: 13638 | N22: 2866 | O22: 4673 | P22: 521 | Q22: 2667 | R22: 32 | S22: 3695
A23: Aichi | B23: Medium (20-99) | C23: 438 | D23: 1493 | E23: 155 | F23: 1067 | G23: 444 | H23: 4473 | I23: 2851 | J23: 878 | K23: 57 | L23: 168 | M23: 2252 | N23: 599 | O23: 2251 | P23: 59 | Q23: 63 | S23: 269
A24: Aichi | B24: Large (100-299) | C24: 47 | D24: 120 | E24: 21 | F24: 96 | G24: 111 | H24: 227 | I24: 175 | J24: 95 | K24: 8 | L24: 28 | M24: 88 | N24: 52 | O24: 319 | P24: 7 | Q24: 4 | R24: 2 | S24: 25
A25: Aichi | B25: Very Large (300 or more) | C25: 18 | D25: 43 | E25: 14 | F25: 40 | G25: 75 | H25: 86 | I25: 61 | J25: 49 | K25: 3 | L25: 14 | M25: 28 | N25: 33 | O25: 152 | S25: 10
A26: Kinki (excl. Osaka) | B26: Small (5-19) | C26: 663 | D26: 1034 | E26: 198 | F26: 582 | G26: 107 | H26: 4102 | I26: 9974 | J26: 8851 | K26: 423 | L26: 1450 | M26: 25557 | N26: 10822 | O26: 8500 | P26: 1739 | Q26: 5022 | R26: 258 | S26: 13176
A27: Kinki (excl. Osaka) | B27: Medium (20-99) | C27: 1151 | D27: 1485 | E27: 356 | F27: 1002 | G27: 202 | H27: 10435 | I27: 3793 | J27: 1852 | K27: 179 | L27: 333 | M27: 3239 | N27: 1316 | O27: 2913 | P27: 143 | Q27: 234 | R27: 83 | S27: 1120
A28: Kinki (excl. Osaka) | B28: Large (100-299) | C28: 62 | D28: 96 | E28: 60 | F28: 123 | G28: 36 | H28: 369 | I28: 158 | J28: 120 | K28: 27 | L28: 29 | M28: 90 | N28: 47 | O28: 368 | P28: 14 | Q28: 17 | R28: 16 | S28: 167
A29: Kinki (excl. Osaka) | B29: Very Large (300 or more) | C29: 23 | D29: 27 | E29: 35 | F29: 56 | G29: 13 | H29: 118 | I29: 34 | J29: 52 | K29: 8 | L29: 6 | M29: 8 | N29: 21 | O29: 106 | P29: 12 | Q29: 8 | R29: 9 | S29: 114
A30: Osaka | B30: Small (5-19) | C30: 232 | D30: 1580 | E30: 180 | F30: 763 | G30: 56 | H30: 2912 | I30: 9973 | J30: 3762 | K30: 98 | L30: 821 | M30: 18254 | N30: 4738 | O30: 5554 | P30: 296 | Q30: 889 | R30: 13 | S30: 1223
A31: Osaka | B31: Medium (20-99) | C31: 344 | D31: 1891 | E31: 258 | F31: 981 | G31: 109 | H31: 4861 | I31: 5142 | J31: 1209 | K31: 61 | L31: 306 | M31: 3173 | N31: 885 | O31: 2633 | P31: 91 | Q31: 73 | R31: 2 | S31: 121
A32: Osaka | B32: Large (100-299) | C32: 51 | D32: 146 | E32: 36 | F32: 120 | G32: 6 | H32: 345 | I32: 379 | J32: 136 | K32: 14 | L32: 46 | M32: 140 | N32: 90 | O32: 414 | P32: 18 | Q32: 8 | S32: 13
A33: Osaka | B33: Very Large (300 or more) | C33: 15 | D33: 49 | E33: 26 | F33: 42 | G33: 8 | H33: 223 | I33: 112 | J33: 82 | K33: 7 | L33: 19 | M33: 66 | N33: 43 | O33: 177 | P33: 14 | S33: 3
A34: Chugoku | B34: Small (5-19) | C34: 426 | D34: 668 | E34: 63 | F34: 355 | G34: 86 | H34: 2607 | I34: 5886 | J34: 7629 | K34: 407 | L34: 1719 | M34: 15770 | N34: 5160 | O34: 6487 | P34: 2820 | Q34: 6512 | R34: 305 | S34: 13501
A35: Chugoku | B35: Medium (20-99) | C35: 803 | D35: 981 | E35: 117 | F35: 479 | G35: 118 | H35: 5605 | I35: 2118 | J35: 1412 | K35: 98 | L35: 178 | M35: 1844 | N35: 710 | O35: 1977 | P35: 131 | Q35: 147 | R35: 28 | S35: 867
A36: Chugoku | B36: Large (100-299) | C36: 61 | D36: 59 | E36: 15 | F36: 47 | G36: 34 | H36: 189 | I36: 103 | J36: 82 | K36: 13 | L36: 14 | M36: 77 | N36: 33 | O36: 269 | P36: 4 | Q36: 2 | S36: 99
A37: Chugoku | B37: Very Large (300 or more) | C37: 16 | D37: 23 | E37: 15 | F37: 24 | G37: 25 | H37: 57 | I37: 23 | J37: 39 | K37: 1 | L37: 3 | M37: 15 | N37: 15 | O37: 81 | P37: 6 | Q37: 1 | R37: 1 | S37: 84
A38: Shikoku | B38: Small (5-19) | C38: 314 | D38: 263 | E38: 21 | F38: 173 | G38: 12 | H38: 1398 | I38: 3504 | J38: 4472 | K38: 254 | L38: 906 | M38: 8731 | N38: 3795 | O38: 3877 | P38: 928 | Q38: 3304 | R38: 132 | S38: 6421
A39: Shikoku | B39: Medium (20-99) | C39: 666 | D39: 363 | E39: 51 | F39: 250 | G39: 23 | H39: 3673 | I39: 1177 | J39: 845 | K39: 56 | L39: 107 | M39: 1002 | N39: 421 | O39: 932 | P39: 68 | Q39: 98 | R39: 42 | S39: 424
A40: Shikoku | B40: Large (100-299) | C40: 46 | D40: 17 | E40: 5 | F40: 29 | G40: 2 | H40: 120 | I40: 69 | J40: 52 | K40: 11 | L40: 5 | M40: 32 | N40: 25 | O40: 125 | P40: 14 | R40: 19 | S40: 115
A41: Shikoku | B41: Very Large (300 or more) | C41: 4 | D41: 8 | E41: 2 | F41: 6 | H41: 37 | I41: 11 | J41: 15 | M41: 7 | N41: 6 | O41: 22 | P41: 9 | Q41: 3 | R41: 7 | S41: 53
A42: Kyushu-Okinawa | B42: Small (5-19) | C42: 1035 | D42: 598 | E42: 69 | F42: 289 | G42: 42 | H42: 3501 | I42: 11047 | J42: 12736 | K42: 807 | L42: 2282 | M42: 30111 | N42: 12892 | O42: 10734 | P42: 860 | Q42: 785 | R42: 29 | S42: 2088
A43: Kyushu-Okinawa | B43: Medium (20-99) | C43: 1700 | D43: 868 | E43: 148 | F43: 442 | G43: 96 | H43: 8665 | I43: 3955 | J43: 2457 | K43: 249 | L43: 402 | M43: 3938 | N43: 1730 | O43: 3362 | P43: 156 | Q43: 38 | R43: 4 | S43: 155
A44: Kyushu-Okinawa | B44: Large (100-299) | C44: 91 | D44: 70 | E44: 40 | F44: 49 | G44: 23 | H44: 212 | I44: 223 | J44: 194 | K44: 39 | L44: 43 | M44: 156 | N44: 66 | O44: 505 | P44: 10 | R44: 1 | S44: 11
A45: Kyushu-Okinawa | B45: Very Large (300 or more) | C45: 21 | D45: 15 | E45: 23 | F45: 16 | G45: 20 | H45: 58 | I45: 60 | J45: 70 | K45: 7 | L45: 3 | M45: 33 | N45: 7 | O45: 136 | P45: 1 | S45: 4

Sheet original survey design
A1: stratificationregionname | B1: stratificationsizename | C1: _Food | D1: _Basic_Metals_and_Metal_Products | E1: _Computer_Electronicand_Optical | F1: _Machinery_and_Equipment | G1: _Motor_Vehicles | H1: _Other_Manufacturing | I1: _Wholesale | J1: _Retail | K1: _Hotel | L1: _Restaurant | M1: _Construction | N1: _Professional_Activities | O1: _Other_Services | P1: _Hotels | Q1: _Restaurants | R1: _IT_and_IT_Services | S1: _Other_Services | T1: _Grand_Total
A2: Hokkaido | B2: Small (5-19) | C2: 1 | D2: 1 | E2: 1 | F2: 1 | G2: 1 | H2: 1 | I2: 3 | J2: 6 | K2: 1 | L2: 3 | M2: 6 | N2: 2 | O2: 3 | P2: 4 | Q2: 4 | R2: 4 | S2: 4
A3: Hokkaido | B3: Medium (20-99) | C3: 6 | D3: 5 | E3: 6 | F3: 6 | G3: 6 | H3: 8 | I3: 5 | J3: 6 | K3: 8 | L3: 5 | M3: 5 | N3: 4 | O3: 5 | P3: 4 | Q3: 17 | R3: 1 | S3: 4
A4: Hokkaido | B4: Large (100-299) | C4: 6 | D4: 3 | E4: 1 | F4: 1 | G4: 1 | H4: 6 | I4: 6 | J4: 6 | K4: 3 | L4: 4 | M4: 6 | N4: 6 | O4: 6 | P4: 1 | Q4: 1 | R4: 0 | S4: 4
A5: Hokkaido | B5: Very Large (300 or more) | C5: 3 | D5: 1 | E5: 0 | F5: 1 | G5: 1 | H5: 2 | I5: 2 | J5: 2 | K5: 1 | L5: 1 | M5: 2 | N5: 2 | O5: 2 | P5: 1 | Q5: 0 | R5: 0 | S5: 6
A6: Tohoku | B6: Small (5-19) | C6: 1 | D6: 1 | E6: 1 | F6: 1 | G6: 1 | H6: 2 | I6: 4 | J6: 14 | K6: 1 | L6: 5 | M6: 14 | N6: 3 | O6: 4 | P6: 4 | Q6: 4 | R6: 4 | S6: 4
A7: Tohoku | B7: Medium (20-99) | C7: 4 | D7: 3 | E7: 4 | F7: 3 | G7: 4 | H7: 11 | I7: 3 | J7: 6 | K7: 5 | L7: 2 | M7: 4 | N7: 2 | O7: 4 | P7: 4 | Q7: 18 | R7: 4 | S7: 5
A8: Tohoku | B8: Large (100-299) | C8: 5 | D8: 5 | E8: 7 | F8: 6 | G8: 4 | H8: 4 | I8: 3 | J8: 4 | K8: 5 | L8: 2 | M8: 3 | N8: 3 | O8: 4 | P8: 4 | Q8: 5 | R8: 7 | S8: 5
A9: Tohoku | B9: Very Large (300 or more) | C9: 1 | D9: 1 | E9: 3 | F9: 2 | G9: 3 | H9: 1 | I9: 1 | J9: 1 | K9: 1 | L9: 1 | M9: 1 | N9: 1 | O9: 1 | P9: 3 | Q9: 1 | R9: 9 | S9: 6
A10: Kanto (excl. Tokyo) | B10: Small (5-19) | C10: 2 | D10: 2 | E10: 1 | F10: 2 | G10: 1 | H10: 6 | I10: 9 | J10: 28 | K10: 1 | L10: 23 | M10: 28 | N10: 7 | O10: 11 | P10: 4 | Q10: 4 | R10: 4 | S10: 4
A11: Kanto (excl. Tokyo) | B11: Medium (20-99) | C11: 3 | D11: 6 | E11: 3 | F11: 3 | G11: 3 | H11: 23 | I11: 7 | J11: 19 | K11: 4 | L11: 13 | M11: 9 | N11: 1 | O11: 12 | P11: 5 | Q11: 2 | R11: 0 | S11: 18
A12: Kanto (excl. Tokyo) | B12: Large (100-299) | C12: 4 | D12: 4 | E12: 5 | F12: 4 | G12: 5 | H12: 2 | I12: 2 | J12: 3 | K12: 5 | L12: 1 | M12: 1 | N12: 2 | O12: 3 | P12: 0 | Q12: 0 | R12: 0 | S12: 0
A13: Kanto (excl. Tokyo) | B13: Very Large (300 or more) | C13: 1 | D13: 1 | E13: 1 | F13: 1 | G13: 1 | H13: 1 | I13: 1 | J13: 1 | K13: 1 | L13: 1 | M13: 1 | N13: 1 | O13: 1 | P13: 1 | Q13: 0 | R13: 0 | S13: 1
... A45: Kyushu-Okinawa | B45: Very Large (300 or more) | C45: 1 | D45: 1 | E45: 1 | F45: 1 | G45: 1 | H45: 1 | I45: 1 | J45: 1 | K45: 1 | L45: 1 | M45: 1 | N45: 1 | O45: 1 | P45: 0 | Q45: 0 | R45: 0 | S45: 1

Sheet yield calculation
A1: Survey | B1: Cell | C1: Name | D1: Yield | E1: Survey_response_rate | F1: Frame_quality
A2: Japan 2025 | B2: Fresh/Panel | C2: Fresh | D2: 0.014107052 | E2: 0.021671548 | F2: 0.65094805
A3: Japan 2025 | B3: Size | C3: Small (5-19) | D3: 0.009142871 | E3: 0.015543615 | F3: 0.58820748
A4: Japan 2025 | B4: Size | C4: Medium (20-99) | D4: 0.015451824 | E4: 0.022614256 | F4: 0.68327802
A5: Japan 2025 | B5: Size | C5: Large (100-299) | D5: 0.03079446 | E5: 0.037830174 | F5: 0.81401849
A6: Japan 2025 | B6: Size | C6: Very Large (300+) | D6: 0.027328715 | E6: 0.03317757 | F6: 0.82371056
A7: Japan 2025 | B7: Region | C7: Hokkaido | D7: 0.017208794 | E7: 0.033365477 | F7: 0.51576644
A8: Japan 2025 | B8: Region | C8: Tohoku | D8: 0.016219188 | E8: 0.0320304 | F8: 0.50636858
A9: Japan 2025 | B9: Region | C9: Kanto (excl. Tokyo) | D9: 0.013746343 | E9: 0.030427631 | F9: 0.45177171
A10: Japan 2025 | B10: Region | C10: Tokyo | D10: 0.017987443 | E10: 0.034265395 | F10: 0.52494484
A11: Japan 2025 | B11: Region | C11: Chubu (excl. Aichi) | D11: 0.014295972 | E11: 0.016755929 | F11: 0.85318887
A12: Japan 2025 | B12: Region | C12: Aichi | D12: 0.010014616 | E12: 0.015001622 | F12: 0.66756886
A13: Japan 2025 | B13: Region | C13: Kinki (excl. Osaka) | D13: 0.011026034 | E13: 0.016609764 | F13: 0.66382849
... A31: Japan 2025 | B31: Japan 2025 | C31: Japan 2025 | D31: 0.014107052 | E31: 0.021671548 | F31: 0.65094805

Sheet achieved fresh and panel
A1: a3ax | B1: sizex | C1: _Food | D1: _Basic_Metals_and_Metal_Products | E1: _Comp_Elec_and_Optical_Prod | F1: _Machinery_and_Equipment | G1: _Motor_Vehicles | H1: _Other_Manufacturing | I1: _Wholesale | J1: _Retail | K1: _Hotels | L1: _Restaurants | M1: _Construction | N1: _Professional_Activities | O1: _Other_Services | P1: _Hotels | Q1: _Restaurants | R1: _IT_and_IT_Services | S1: _Other_Services | T1: _Grand_Total
A2: Hokkaido | B2: Small (5-19) | C2: 11 | D2: 4 | E2: 1 | F2: 1 | H2: 4 | I2: 2 | J2: 12 | K2: 7 | L2: 5 | M2: 14 | N2: 1 | O2: 3 | P2: 5 | Q2: 5 | R2: 5 | S2: 5
A3: Hokkaido | B3: Medium (20-99) | C3: 4 | D3: 4 | F3: 2 | G3: 1 | H3: 5 | I3: 9 | J3: 4 | K3: 10 | L3: 1 | M3: 19 | N3: 2 | O3: 8 | P3: 5 | Q3: 17 | R3: 1 | S3: 4
A4: Hokkaido | B4: Large (100 or more) | C4: 4 | G4: 1 | H4: 1 | I4: 1 | J4: 6 | K4: 3 | L4: 6 | M4: 2 | N4: 3 | O4: 13 | P4: 3 | Q4: 1 | R4: 1 | S4: 3
A5: Tohoku | B5: Small (5-19) | C5: 3 | D5: 3 | E5: 3 | F5: 3 | G5: 2 | H5: 6 | I5: 5 | J5: 13 | K5: 7 | L5: 5 | M5: 13 | N5: 1 | O5: 3 | P5: 1 | R5: 1 | S5: 5
A6: Tohoku | B6: Medium (20-99) | C6: 3 | D6: 5 | E6: 8 | F6: 4 | G6: 5 | H6: 11 | I6: 4 | J6: 5 | K6: 3 | L6: 1 | M6: 5 | O6: 5 | P6: 4 | Q6: 5 | R6: 4 | S6: 6
A7: Tohoku | B7: Large (100 or more) | C7: 3 | D7: 4 | E7: 7 | F7: 5 | G7: 3 | H7: 6 | I7: 1 | J7: 7 | K7: 1 | L7: 1 | M7: 3 | N7: 1 | O7: 9 | P7: 2 | Q7: 20 | R7: 4 | S7: 6
A8: Kanto (excl. Tokyo) | B8: Small (5-19) | C8: 3 | D8: 6 | E8: 2 | F8: 3 | G8: 7 | H8: 10 | I8: 12 | J8: 28 | K8: 1 | L8: 14 | M8: 28 | N8: 3 | O8: 8 | P8: 8 | Q8: 6 | R8: 7 | S8: 6
A9: Kanto (excl. Tokyo) | B9: Medium (20-99) | C9: 3 | D9: 10 | E9: 1 | F9: 3 | G9: 9 | H9: 8 | I9: 3 | J9: 9 | K9: 7 | L9: 11 | M9: 8 | N9: 1 | O9: 12 | P9: 3 | Q9: 1 | R9: 9 | S9: 6
A10: Kanto (excl. Tokyo) | B10: Large (100 or more) | C10: 6 | D10: 8 | E10: 7 | F10: 6 | G10: 7 | H10: 10 | I10: 8 | J10: 7 | K10: 3 | L10: 6 | M10: 6 | N10: 2 | O10: 10 | P10: 4 | Q10: 4 | R10: 4 | S10: 4
A11: Tokyo | B11: Small (5-19) | C11: 1 | E11: 1 | F11: 3 | G11: 1 | H11: 9 | I11: 11 | J11: 13 | L11: 10 | M11: 11 | N11: 6 | O11: 9 | P11: 5 | Q11: 3 | S11: 19
A12: Tokyo | B12: Medium (20-99) | C12: 3 | D12: 1 | E12: 4 | G12: 1 | H12: 5 | I12: 4 | J12: 6 | K12: 3 | L12: 10 | M12: 4 | N12: 2 | O12: 2 | S12: 1
A13: Tokyo | B13: Large (100 or more) | C13: 4 | D13: 8 | E13: 10 | F13: 3 | G13: 4 | H13: 10 | I13: 8 | J13: 7 | K13: 3 | L13: 8 | M13: 8 | N13: 7 | O13: 11 | P13: 1 | S13: 1
A14: Chubu (excl. Aichi) | B14: Small (5-19) | C14: 5 | D14: 6 | E14: 4 | F14: 3 | G14: 4 | H14: 5 | I14: 5 | J14: 12 | K14: 4 | L14: 10 | M14: 16 | N14: 4 | O14: 9 | P14: 4 | Q14: 5 | R14: 4 | S14: 13
A15: Chubu (excl. Aichi) | B15: Medium (20-99) | C15: 2 | D15: 1 | E15: 5 | F15: 1 | G15: 7 | H15: 10 | I15: 2 | J15: 3 | K15: 11 | L15: 3 | M15: 9 | O15: 3 | P15: 11 | Q15: 6 | R15: 1 | S15: 22
A16: Chubu (excl. Aichi) | B16: Large (100 or more) | C16: 8 | D16: 3 | E16: 7 | F16: 9 | G16: 10 | H16: 16 | I16: 2 | J16: 3 | K16: 2 | M16: 5 | N16: 1 | O16: 9 | P16: 2 | S16: 4
A17: Aichi | B17: Small (5-19) | C17: 3 | D17: 4 | E17: 2 | F17: 12 | G17: 6 | H17: 9 | I17: 6 | J17: 12 | K17: 3 | L17: 3 | M17: 12 | N17: 3 | O17: 3 | P17: 1 | S17: 1
A18: Aichi | B18: Medium (20-99) | C18: 8 | D18: 5 | F18: 10 | G18: 6 | H18: 4 | I18: 2 | J18: 3 | K18: 1 | L18: 4 | M18: 5 | N18: 5 | O18: 7 | P18: 4 | Q18: 4 | R18: 2 | S18: 4
A19: Aichi | B19: Large (100 or more) | C19: 4 | D19: 2 | E19: 1 | G19: 8 | H19: 8 | I19: 3 | J19: 2 | L19: 3 | M19: 4 | N19: 2 | O19: 10 | P19: 4 | Q19: 5 | S19: 12
A20: Kinki (excl. Osaka) | B20: Small (5-19) | C20: 5 | D20: 6 | E20: 6 | F20: 3 | G20: 1 | H20: 4 | I20: 4 | J20: 15 | K20: 3 | L20: 5 | M20: 15 | N20: 3 | O20: 3 | P20: 5 | S20: 9
A21: Kinki (excl. Osaka) | B21: Medium (20-99) | C21: 1 | D21: 2 | E21: 2 | F21: 1 | G21: 3 | H21: 10 | I21: 5 | J21: 7 | K21: 8 | L21: 5 | M21: 6 | O21: 5 | S21: 6
A22: Kinki (excl. Osaka) | B22: Large (100 or more) | C22: 4 | D22: 3 | E22: 3 | F22: 2 | H22: 12 | I22: 5 | J22: 4 | K22: 4 | L22: 2 | M22: 2 | N22: 1 | O22: 11 | P22: 3 | Q22: 4 | R22: 3 | S22: 4
A23: Osaka | B23: Small (5-19) | C23: 1 | D23: 9 | E23: 3 | F23: 4 | G23: 1 | H23: 4 | I23: 7 | J23: 5 | L23: 5 | M23: 4 | N23: 1 | O23: 2 | P23: 6 | Q23: 6 | S23: 6
A24: Osaka | B24: Medium (20-99) | C24: 1 | D24: 5 | E24: 3 | F24: 5 | G24: 1 | H24: 3 | I24: 5 | J24: 2 | L24: 4 | M24: 5 | N24: 1 | O24: 4 | P24: 2 | Q24: 2 | R24: 1 | S24: 3
A25: Osaka | B25: Large (100 or more) | C25: 2 | D25: 7 | E25: 1 | F25: 1 | G25: 1 | H25: 19 | I25: 18 | J25: 4 | L25: 6 | M25: 9 | N25: 1 | O25: 21 | S25: 1
A26: Chugoku | B26: Small (5-19) | C26: 7 | D26: 4 | E26: 2 | F26: 5 | G26: 4 | H26: 5 | I26: 9 | J26: 10 | K26: 7 | L26: 4 | M26: 14 | N26: 4 | O26: 10 | P26: 4 | Q26: 4 | R26: 2 | S26: 11
A27: Chugoku | B27: Medium (20-99) | C27: 3 | D27: 6 | E27: 2 | F27: 5 | G27: 4 | H27: 5 | I27: 1 | J27: 1 | K27: 7 | L27: 5 | M27: 7 | N27: 2 | O27: 5 | P27: 6 | Q27: 19 | R27: 8 | S27: 9
A28: Chugoku | B28: Large (100 or more) | C28: 4 | D28: 3 | F28: 3 | H28: 9 | I28: 3 | J28: 4 | K28: 1 | L28: 3 | M28: 4 | N28: 3 | O28: 4 | P28: 1 | Q28: 2 | R28: 5 | S28: 8
A29: Shikoku | B29: Small (5-19) | C29: 8 | D29: 4 | F29: 4 | H29: 6 | I29: 11 | J29: 10 | K29: 6 | L29: 5 | M29: 20 | N29: 5 | O29: 3 | P29: 2 | Q29: 1 | R29: 2 | S29: 9
A30: Shikoku | B30: Medium (20-99) | C30: 8 | D30: 5 | F30: 7 | G30: 1 | H30: 7 | I30: 8 | J30: 5 | K30: 5 | L30: 2 | M30: 11 | N30: 3 | O30: 9 | P30: 5 | Q30: 4 | R30: 1 | S30: 4
A31: Shikoku | B31: Large (100 or more) | C31: 2 | D31: 2 | E31: 1 | H31: 2 | I31: 3 | J31: 3 | K31: 1 | L31: 1 | M31: 1 | N31: 2 | O31: 7 | P31: 13 | Q31: 8 | S31: 18
A32: Kyushu-Okinawa | B32: Small (5-19) | C32: 4 | D32: 5 | E32: 2 | F32: 3 | G32: 2 | H32: 6 | I32: 3 | J32: 18 | K32: 2 | L32: 12 | M32: 22 | N32: 4 | O32: 5 | P32: 5 | Q32: 1 | S32: 3
A33: Kyushu-Okinawa | B33: Medium (20-99) | C33: 4 | D33: 3 | E33: 2 | F33: 1 | G33: 1 | H33: 8 | I33: 2 | J33: 8 | K33: 4 | L33: 4 | M33: 7 | O33: 6 | P33: 3
A34: Kyushu-Okinawa | B34: Large (100 or more) | C34: 7 | D34: 4 | E34: 2 | F34: 1 | G34: 2 | H34: 6 | I34: 1 | J34: 4 | K34: 6 | L34: 4 | M34: 5 | N34: 2 | O34: 11 | P34: 4 | Q34: 5 | R34: 4 | S34: 5

Sheet achieved panel

Sheet universe_strict
A1: a3ax | B1: sizex | C1: _Food | D1: _Basic_Metals_and_Metal_Products | E1: _Comp_Elec_and_Optical_Prod | F1: _Machinery_and_Equipment | G1: _Motor_Vehicles | H1: _Other_Manufacturing | I1: _Wholesale | J1: _Retail | K1: _Hotels | L1: _Restaurants | M1: _Construction | N1: _Professional_Activities | O1: _Other_Services | P1: _Hotels | Q1: _Restaurants | R1: _IT_and_IT_Services | S1: _Other_Services | T1: _Grand_Total
A2: Hokkaido | B2: Small (5-19) | C2: 3571.1667 | D2: 878.43939 | E2: 55.833332 | F2: 74.333336 | H2: 1512.6169 | I2: 134.40477 | J2: 8947.459 | K2: 394.33331 | L2: 6702.4048 | M2: 13470.318 | N2: 75.666664 | O2: 3671.2222 | P2: 1922.2385 | Q2: 5383.7314 | R2: 77.866524 | S2: 5942.7192
A3: Hokkaido | B3: Medium (20-99) | C3: 538.21429 | D3: 239.5 | F3: 127.83333 | G3: 86 | H3: 1196.8182 | I3: 2951.1895 | J3: 1902.9584 | K3: 641.66669 | L3: 653.5 | M3: 6863.4395 | N3: 151.33333 | O3: 3156.5557 | P3: 75.375778 | Q3: 89.780304 | R3: 6.0370054 | S3: 363.63748
A4: Hokkaido | B4: Large (100 or more) | C4: 224.07143 | G4: 10 | H4: 35.5 | I4: 39.5 | J4: 509.75 | K4: 48 | L4: 1779.6389 | M4: 32.931816 | N4: 38.25 | O4: 474.04041 | P4: 4.8650331 | R4: 1 | S4: 20.343039
A5: Tohoku | B5: Small (5-19) | C5: 3891.7 | D5: 360.60001 | E5: 201 | F5: 1015.75 | G5: 41.5 | H5: 4288.2222 | I5: 6888.543 | J5: 18618.857 | K5: 930.22217 | L5: 8393 | M5: 22919.607 | N5: 1966 | O5: 7806 | P5: 3.3496327 | R5: 1 | S5: 27.441156
A6: Tohoku | B6: Medium (20-99) | C6: 546.40002 | D6: 1239.225 | E6: 1065.5 | F6: 323.5 | G6: 185.45833 | H6: 4742.2168 | I6: 2208.2 | J6: 3831.9644 | K6: 736.88892 | L6: 879 | M6: 5034.75 | O6: 2890.2222 | Q6: 1.4438887
A7: Tohoku | B7: Large (100 or more) | C7: 156.2 | D7: 140.91667 | E7: 364.25 | F7: 124.16666 | G7: 122.66667 | H7: 270.91666 | I7: 26.200001 | J7: 1010.3008 | K7: 52 | L7: 879 | M7: 93 | N7: 52 | O7: 277.05554 | P7: 2341.8088 | Q7: 4216.4912 | R7: 534.80286 | S7: 6070.458
A8: Kanto (excl. Tokyo) | B8: Small (5-19) | C8: 4575.4287 | D8: 5367.3071 | E8: 1467.2 | F8: 3763.0889 | G8: 505.03076 | H8: 17184.742 | I8: 18947.65 | J8: 42007.844 | K8: 1797 | L8: 20030.699 | M8: 55972.477 | N8: 5105.6665 | O8: 12880.617 | P8: 110.64698 | Q8: 264.86642 | R8: 207.8306 | S8: 515.54443
A9: Kanto (excl. Tokyo) | B9: Medium (20-99) | C9: 3364.1917 | D9: 7416.084 | E9: 207.2 | F9: 1219.777 | G9: 2539.4116 | H9: 8362.7002 | I9: 5435.0068 | J9: 11252.744 | K9: 863.92859 | L9: 14988.403 | M9: 11218.154 | N9: 2267.5 | O9: 15390.16 | P9: 13.518112 | Q9: 21.074875 | R9: 39.810108 | S9: 88.642609
A10: Kanto (excl. Tokyo) | B10: Large (100 or more) | C10: 742 | D10: 320.57361 | E10: 178.16234 | F10: 212.79221 | G10: 229.80519 | H10: 1230.6523 | I10: 2315.689 | J10: 1441 | K10: 191.07143 | L10: 5425.5 | M10: 1525.6334 | N10: 1556 | O10: 1644.3572 | P10: 7.0711913 | Q10: 5.0052953 | R10: 115.12085 | S10: 68.233955
A11: Tokyo | B11: Small (5-19) | C11: 647 | E11: 149.8 | F11: 2007 | G11: 62 | H11: 10577.542 | I11: 18090.605 | J11: 21648.443 | L11: 14402.042 | M11: 22991.648 | N11: 10139.331 | O11: 15838.917 | P11: 317.82559 | Q11: 861.38519 | S11: 1139.9858
A12: Tokyo | B12: Medium (20-99) | C12: 1396.0908 | D12: 53 | E12: 2455.7429 | G12: 53 | H12: 5862.1968 | I12: 3312.3635 | J12: 7050.8887 | K12: 3615.5454 | L12: 15405.625 | M12: 6805.5454 | N12: 3431.9287 | O12: 2119.1072 | P12: 16.305265 | Q12: 7.0043459 | S12: 40.369846
A13: Tokyo | B13: Large (100 or more) | C13: 227.39999 | D13: 423.62857 | E13: 265.76666 | F13: 112.5 | G13: 47.333332 | H13: 1577.3762 | I13: 2823.896 | J13: 1951.946 | K13: 87.666672 | L13: 1256.2889 | M13: 1251.2858 | N13: 761.92859 | O13: 4297.6216 | S13: 1.7104007
A14: Chubu (excl. Aichi) | B14: Small (5-19) | C14: 8395.4492 | D14: 6600.5088 | E14: 2315.25 | F14: 4700 | G14: 478 | H14: 6782 | I14: 8481.25 | J14: 23971.154 | K14: 2124.3845 | L14: 16465.061 | M14: 30333.812 | N14: 6694.333 | O14: 14235.417 | S14: 1.7953043
A15: Chubu (excl. Aichi) | B15: Medium (20-99) | C15: 1582 | D15: 29.571428 | E15: 1163.25 | F15: 98.25 | G15: 3862.3572 | H15: 11516 | I15: 1465.4 | J15: 3830.1155 | K15: 892.4231 | L15: 4156.5557 | M15: 11023.722 | O15: 1633.3334 | P15: 1.7953043
A16: Chubu (excl. Aichi) | B16: Large (100 or more) | C16: 2172.5 | D16: 88.714287 | E16: 233 | F16: 436.67145 | G16: 480.14285 | H16: 2691.8 | I16: 86.800003 | J16: 433.39999 | K16: 139.19231 | M16: 212.60001 | N16: 51 | O16: 2048.5835 | R16: 9.2098055
A17: Aichi | B17: Small (5-19) | C17: 1562.2666 | D17: 906.69446 | E17: 2532 | F17: 3253.6257 | G17: 1981.9797 | H17: 6178.1787 | I17: 8099.0498 | J17: 12446.533 | K17: 320.25 | L17: 5608.3999 | M17: 13004.533 | N17: 2219.8333 | O17: 3504.75
A18: Aichi | B18: Medium (20-99) | C18: 1567.5 | D18: 1469.6666 | F18: 1439.25 | G18: 891.58331 | H18: 1432.4286 | I18: 761.54999 | J18: 2304.1001 | K18: 213 | L18: 5438.3496 | M18: 2586.05 | N18: 481.25 | O18: 2518.4287
A19: Aichi | B19: Large (100 or more) | C19: 295.5 | D19: 80 | E19: 109 | G19: 548 | H19: 461.71429 | I19: 146.39999 | J19: 189.33333 | L19: 3374 | M19: 176.42857 | N19: 576.85718 | O19: 998.65717 | P19: 416.35162 | Q19: 1831.361 | R19: 19.226368 | S19: 2751.3914
A20: Kinki (excl. Osaka) | B20: Small (5-19) | C20: 6489.7144 | D20: 3791.6667 | E20: 484.46667 | F20: 2278.8 | G20: 86.333336 | H20: 5831.2144 | I20: 6059 | J20: 20345.623 | K20: 2547.3809 | L20: 8954 | M20: 26458.404 | N20: 8794 | O20: 6202 | P20: 31.043024 | Q20: 6 | R20: 1 | S20: 79.700508
A21: Kinki (excl. Osaka) | B21: Medium (20-99) | C21: 1896.5 | D21: 284 | E21: 133.93333 | F21: 59.333332 | G21: 248 | H21: 10191.539 | I21: 2141.9668 | J21: 5983.7749 | K21: 1131.0333 | L21: 7047.5 | M21: 10138.5 | O21: 4234.3335 | P21: 2 | S21: 10.268673
A22: Kinki (excl. Osaka) | B22: Large (100 or more) | C22: 2292.5 | D22: 88.199997 | E22: 159.33333 | F22: 328.39999 | H22: 853.56665 | I22: 136 | J22: 2203.8484 | K22: 413.29999 | L22: 1215.5 | M22: 174.5 | N22: 1316 | O22: 497.16666 | P22: 1 | S22: 2.4240353
A23: Osaka | B23: Small (5-19) | C23: 575 | D23: 9049.3672 | E23: 2024.6001 | F23: 5099.9331 | G23: 135 | H23: 6145.6499 | I23: 13029.886 | J23: 10612.971 | L23: 8365.7998 | M23: 14603.2 | N23: 1579.3334 | O23: 2765.0835
A24: Osaka | B24: Medium (20-99) | C24: 208 | D24: 1790.3 | E24: 224.86667 | F24: 862.70001 | G24: 51.599998 | H24: 2565.5 | I24: 3132.5752 | J24: 3605.1428 | L24: 3538.6001 | M24: 3242 | N24: 1066 | O24: 2784.1785
A25: Osaka | B25: Large (100 or more) | C25: 338 | D25: 208.99048 | E25: 62 | F25: 31.857143 | G25: 196.2 | H25: 1659.363 | I25: 520.0863 | J25: 550 | L25: 1571.5286 | M25: 302.85715 | N25: 69 | O25: 2593.8779 | P25: 381.45346 | Q25: 1422.304 | R25: 6.1808925 | S25: 1718.5881
A26: Chugoku | B26: Small (5-19) | C26: 2552.1111 | D26: 638.28571 | E26: 122.78571 | F26: 892 | G26: 421 | H26: 6479.8887 | I26: 7620.7856 | J26: 12781.756 | K26: 458.18182 | L26: 4951.3335 | M26: 16338.294 | N26: 3344.7778 | O26: 10199.278 | P26: 9.8663063 | Q26: 9.2852774 | S26: 79.805138
A27: Chugoku | B27: Medium (20-99) | C27: 709.09998 | D27: 930.85712 | E27: 122.78571 | F27: 367.57141 | G27: 218.57143 | H27: 1667.8413 | I27: 529.5 | J27: 718 | K27: 530.76361 | L27: 3149.8335 | M27: 5964.9395 | N27: 284 | O27: 1460.1714 | P27: 5 | S27: 13.588514
A28: Chugoku | B28: Large (100 or more) | C28: 313.79999 | D28: 144 | F28: 186.33333 | H28: 428 | I28: 103 | J28: 244.5 | K28: 83.599998 | L28: 2033.8334 | M28: 92 | N28: 49.666668 | O28: 242.39999 | S28: 6
A29: Shikoku | B29: Small (5-19) | C29: 608.6286 | D29: 365.88095 | F29: 489.16669 | H29: 3929.1938 | I29: 5542.2432 | J29: 6022.8335 | K29: 328.57953 | L29: 4298.0713 | M29: 8727.8984 | N29: 3859.7693 | O29: 2149.2273
A30: Shikoku | B30: Medium (20-99) | C30: 736.55719 | D30: 354.63809 | F30: 727.79047 | G30: 50.400002 | H30: 1560.2909 | I30: 996.3667 | J30: 1885.9167 | K30: 290.54169 | L30: 326 | M30: 920.95062 | N30: 97.153854 | O30: 948.27277
A31: Shikoku | B31: Large (100 or more) | C31: 105.25 | D31: 40 | E31: 42 | H31: 173 | I31: 45.5 | J31: 240.5 | K31: 66.333336 | L31: 163 | M31: 47 | N31: 32 | O31: 2085.5
A32: Kyushu-Okinawa | B32: Small (5-19) | C32: 4643.3223 | D32: 3264.7896 | E32: 276 | F32: 1443 | G32: 109 | H32: 8470.1895 | I32: 4578.2891 | J32: 25392.768 | K32: 1999 | L32: 15730.767 | M32: 34634.418 | N32: 5729.7778 | O32: 11502.667 | P32: 342.47772 | Q32: 1469.399 | R32: 18.206129 | S32: 2179.3728
A33: Kyushu-Okinawa | B33: Medium (20-99) | C33: 4110.7168 | D33: 622.375 | E33: 120.375 | F33: 866.5 | G33: 52 | H33: 7030.2085 | I33: 3798.7334 | J33: 7613.8721 | K33: 1177.8572 | L33: 3198.6624 | M33: 9846.123 | O33: 3888.6667 | P33: 35.116226 | Q33: 31.908628 | S33: 144.30609
A34: Kyushu-Okinawa | B34: Large (100 or more) | C34: 1362.6666 | D34: 248.5 | E34: 89.375 | F34: 134 | G34: 67.375 | H34: 369.625 | I34: 60 | J34: 244 | K34: 127.33334 | L34: 1245.7142 | M34: 155 | N34: 102 | O34: 595.66669 | P34: 3.9338655 | Q34: 2 | R34: 1.1327574 | S34: 14.686945

Sheet universe_median
A1: a3ax | B1: sizex | C1: _Food | D1: _Basic_Metals_and_Metal_Products | E1: _Comp_Elec_and_Optical_Prod | F1: _Machinery_and_Equipment | G1: _Motor_Vehicles | H1: _Other_Manufacturing | I1: _Wholesale | J1: _Retail | K1: _Hotels | L1: _Restaurants | M1: _Construction | N1: _Professional_Activities | O1: _Other_Services | P1: _Hotels | Q1: _Restaurants | R1: _IT_and_IT_Services | S1: _Other_Services | T1: _Grand_Total
A2: Hokkaido | B2: Small (5-19) | C2: 3571.1667 | D2: 878.43939 | E2: 55.833332 | F2: 74.333336 | H2: 1512.6169 | I2: 134.40477 | J2: 8947.459 | K2: 394.33331 | L2: 6702.4048 | M2: 13470.318 | N2: 75.666664 | O2: 3671.2222 | P2: 3348.3086 | Q2: 11757.299 | R2: 133.22687 | S2: 11862.729
A3: Hokkaido | B3: Medium (20-99) | C3: 538.21429 | D3: 239.5 | F3: 127.83333 | G3: 86 | H3: 1196.8182 | I3: 2951.1895 | J3: 1902.9584 | K3: 641.66669 | L3: 653.5 | M3: 6863.4395 | N3: 151.33333 | O3: 3156.5557 | P3: 144.10251 | Q3: 215.19229 | R3: 11.336633 | S3: 796.69037
A4: Hokkaido | B4: Large (100 or more) | C4: 224.07143 | G4: 10 | H4: 35.5 | I4: 39.5 | J4: 509.75 | K4: 48 | L4: 1779.6389 | M4: 32.931816 | N4: 38.25 | O4: 474.04041 | P4: 8.7263908 | R4: 1 | S4: 41.81633
A5: Tohoku | B5: Small (5-19) | C5: 3891.7 | D5: 360.60001 | E5: 201 | F5: 1015.75 | G5: 41.5 | H5: 4288.2222 | I5: 6888.543 | J5: 18618.857 | K5: 930.22217 | L5: 8393 | M5: 22919.607 | N5: 1966 | O5: 7806 | P5: 6.7953019 | R5: 1 | S5: 63.796249
A6: Tohoku | B6: Medium (20-99) | C6: 546.40002 | D6: 1239.225 | E6: 1065.5 | F6: 323.5 | G6: 185.45833 | H6: 4742.2168 | I6: 2208.2 | J6: 3831.9644 | K6: 736.88892 | L6: 879 | M6: 5034.75 | O6: 2890.2222 | Q6: 8.4915037
A7: Tohoku | B7: Large (100 or more) | C7: 156.2 | D7: 140.91667 | E7: 364.25 | F7: 124.16666 | G7: 122.66667 | H7: 270.91666 | I7: 26.200001 | J7: 1010.3008 | K7: 52 | L7: 879 | M7: 93 | N7: 52 | O7: 277.05554 | P7: 3671.3506 | Q7: 8287.6543 | R7: 823.55188 | S7: 10906.291
A8: Kanto (excl. Tokyo) | B8: Small (5-19) | C8: 4575.4287 | D8: 5367.3071 | E8: 1467.2 | F8: 3763.0889 | G8: 505.03076 | H8: 17184.742 | I8: 18947.65 | J8: 42007.844 | K8: 1797 | L8: 20030.699 | M8: 55972.477 | N8: 5105.6665 | O8: 12880.617 | P8: 190.3862 | Q8: 571.38495 | R8: 351.25961 | S8: 1016.584
A9: Kanto (excl. Tokyo) | B9: Medium (20-99) | C9: 3364.1917 | D9: 7416.084 | E9: 207.2 | F9: 1219.777 | G9: 2539.4116 | H9: 8362.7002 | I9: 5435.0068 | J9: 11252.744 | K9: 863.92859 | L9: 14988.403 | M9: 11218.154 | N9: 2267.5 | O9: 15390.16 | P9: 21.823338 | Q9: 42.655594 | R9: 63.12788 | S9: 163.99431
A10: Kanto (excl. Tokyo) | B10: Large (100 or more) | C10: 742 | D10: 320.57361 | E10: 178.16234 | F10: 212.79221 | G10: 229.80519 | H10: 1230.6523 | I10: 2315.689 | J10: 1441 | K10: 191.07143 | L10: 5425.5 | M10: 1525.6334 | N10: 1556 | O10: 1644.3572 | P10: 12.911016 | Q10: 11.457858 | R10: 206.46413 | S10: 142.77414
A11: Tokyo | B11: Small (5-19) | C11: 647 | E11: 149.8 | F11: 2007 | G11: 62 | H11: 10577.542 | I11: 18090.605 | J11: 21648.443 | L11: 14402.042 | M11: 22991.648 | N11: 10139.331 | O11: 15838.917 | P11: 522.99725 | Q11: 1777.1083 | S11: 2149.7664
A12: Tokyo | B12: Medium (20-99) | C12: 1396.0908 | D12: 53 | E12: 2455.7429 | G12: 53 | H12: 5862.1968 | I12: 3312.3635 | J12: 7050.8887 | K12: 3615.5454 | L12: 15405.625 | M12: 6805.5454 | N12: 3431.9287 | O12: 2119.1072 | P12: 29.448282 | Q12: 15.860088 | S12: 82.543724
A13: Tokyo | B13: Large (100 or more) | C13: 227.39999 | D13: 423.62857 | E13: 265.76666 | F13: 112.5 | G13: 47.333332 | H13: 1577.3762 | I13: 2823.896 | J13: 1951.946 | K13: 87.666672 | L13: 1256.2889 | M13: 1251.2858 | N13: 761.92859 | O13: 4297.6216 | S13: 3.321393
A14: Chubu (excl. Aichi) | B14: Small (5-19) | C14: 8395.4492 | D14: 6600.5088 | E14: 2315.25 | F14: 4700 | G14: 478 | H14: 6782 | I14: 8481.25 | J14: 23971.154 | K14: 2124.3845 | L14: 16465.061 | M14: 30333.812 | N14: 6694.333 | O14: 14235.417 | S14: 2.7369356
A15: Chubu (excl. Aichi) | B15: Medium (20-99) | C15: 1582 | D15: 29.571428 | E15: 1163.25 | F15: 98.25 | G15: 3862.3572 | H15: 11516 | I15: 1465.4 | J15: 3830.1155 | K15: 892.4231 | L15: 4156.5557 | M15: 11023.722 | O15: 1633.3334 | P15: 2.7369356
A16: Chubu (excl. Aichi) | B16: Large (100 or more) | C16: 2172.5 | D16: 88.714287 | E16: 233 | F16: 436.67145 | G16: 480.14285 | H16: 2691.8 | I16: 86.800003 | J16: 433.39999 | K16: 139.19231 | M16: 212.60001 | N16: 51 | O16: 2048.5835 | R16: 19.753334
A17: Aichi | B17: Small (5-19) | C17: 1562.2666 | D17: 906.69446 | E17: 2532 | F17: 3253.6257 | G17: 1981.9797 | H17: 6178.1787 | I17: 8099.0498 | J17: 12446.533 | K17: 320.25 | L17: 5608.3999 | M17: 13004.533 | N17: 2219.8333 | O17: 3504.75
A18: Aichi | B18: Medium (20-99) | C18: 1567.5 | D18: 1469.6666 | F18: 1439.25 | G18: 891.58331 | H18: 1432.4286 | I18: 761.54999 | J18: 2304.1001 | K18: 213 | L18: 5438.3496 | M18: 2586.05 | N18: 481.25 | O18: 2518.4287
A19: Aichi | B19: Large (100 or more) | C19: 295.5 | D19: 80 | E19: 109 | G19: 548 | H19: 461.71429 | I19: 146.39999 | J19: 189.33333 | L19: 3374 | M19: 176.42857 | N19: 576.85718 | O19: 998.65717 | P19: 946.95221 | Q19: 5222.1299 | R19: 42.952438 | S19: 7171.3569
A20: Kinki (excl. Osaka) | B20: Small (5-19) | C20: 6489.7144 | D20: 3791.6667 | E20: 484.46667 | F20: 2278.8 | G20: 86.333336 | H20: 5831.2144 | I20: 6059 | J20: 20345.623 | K20: 2547.3809 | L20: 8954 | M20: 26458.404 | N20: 8794 | O20: 6202 | P20: 77.491371 | Q20: 16.624052 | R20: 2.2415757 | S20: 224.28087
A21: Kinki (excl. Osaka) | B21: Medium (20-99) | C21: 1896.5 | D21: 284 | E21: 133.93333 | F21: 59.333332 | G21: 248 | H21: 10191.539 | I21: 2141.9668 | J21: 5983.7749 | K21: 1131.0333 | L21: 7047.5 | M21: 10138.5 | O21: 4234.3335 | P21: 2 | S21: 27.560936
A22: Kinki (excl. Osaka) | B22: Large (100 or more) | C22: 2292.5 | D22: 88.199997 | E22: 159.33333 | F22: 328.39999 | H22: 853.56665 | I22: 136 | J22: 2203.8484 | K22: 413.29999 | L22: 1215.5 | M22: 174.5 | N22: 1316 | O22: 497.16666 | P22: 1 | S22: 7.3583636
A23: Osaka | B23: Small (5-19) | C23: 575 | D23: 9049.3672 | E23: 2024.6001 | F23: 5099.9331 | G23: 135 | H23: 6145.6499 | I23: 13029.886 | J23: 10612.971 | L23: 8365.7998 | M23: 14603.2 | N23: 1579.3334 | O23: 2765.0835
A24: Osaka | B24: Medium (20-99) | C24: 208 | D24: 1790.3 | E24: 224.86667 | F24: 862.70001 | G24: 51.599998 | H24: 2565.5 | I24: 3132.5752 | J24: 3605.1428 | L24: 3538.6001 | M24: 3242 | N24: 1066 | O24: 2784.1785
A25: Osaka | B25: Large (100 or more) | C25: 338 | D25: 208.99048 | E25: 62 | F25: 31.857143 | G25: 196.2 | H25: 1659.363 | I25: 520.0863 | J25: 550 | L25: 1571.5286 | M25: 302.85715 | N25: 69 | O25: 2593.8779 | P25: 720.62701 | Q25: 3368.7388 | R25: 11.46946 | S25: 3720.6772
A26: Chugoku | B26: Small (5-19) | C26: 2552.1111 | D26: 638.28571 | E26: 122.78571 | F26: 892 | G26: 421 | H26: 6479.8887 | I26: 7620.7856 | J26: 12781.756 | K26: 458.18182 | L26: 4951.3335 | M26: 16338.294 | N26: 3344.7778 | O26: 10199.278 | P26: 20.457148 | Q26: 24.137449 | S26: 180.55614
A27: Chugoku | B27: Medium (20-99) | C27: 709.09998 | D27: 930.85712 | E27: 122.78571 | F27: 367.57141 | G27: 218.57143 | H27: 1667.8413 | I27: 529.5 | J27: 718 | K27: 530.76361 | L27: 3149.8335 | M27: 5964.9395 | N27: 284 | O27: 1460.1714 | P27: 5 | S27: 22.213543
A28: Chugoku | B28: Large (100 or more) | C28: 313.79999 | D28: 144 | F28: 186.33333 | H28: 428 | I28: 103 | J28: 244.5 | K28: 83.599998 | L28: 2033.8334 | M28: 92 | N28: 49.666668 | O28: 242.39999 | S28: 6
A29: Shikoku | B29: Small (5-19) | C29: 608.6286 | D29: 365.88095 | F29: 489.16669 | H29: 3929.1938 | I29: 5542.2432 | J29: 6022.8335 | K29: 328.57953 | L29: 4298.0713 | M29: 8727.8984 | N29: 3859.7693 | O29: 2149.2273
A30: Shikoku | B30: Medium (20-99) | C30: 736.55719 | D30: 354.63809 | F30: 727.79047 | G30: 50.400002 | H30: 1560.2909 | I30: 996.3667 | J30: 1885.9167 | K30: 290.54169 | L30: 326 | M30: 920.95062 | N30: 97.153854 | O30: 948.27277
A31: Shikoku | B31: Large (100 or more) | C31: 105.25 | D31: 40 | E31: 42 | H31: 173 | I31: 45.5 | J31: 240.5 | K31: 66.333336 | L31: 163 | M31: 47 | N31: 32 | O31: 2085.5
A32: Kyushu-Okinawa | B32: Small (5-19) | C32: 4643.3223 | D32: 3264.7896 | E32: 276 | F32: 1443 | G32: 109 | H32: 8470.1895 | I32: 4578.2891 | J32: 25392.768 | K32: 1999 | L32: 15730.767 | M32: 34634.418 | N32: 5729.7778 | O32: 11502.667 | P32: 457.06708 | Q32: 2458.6309 | R32: 23.866465 | S32: 3333.1921
A33: Kyushu-Okinawa | B33: Medium (20-99) | C33: 4110.7168 | D33: 622.375 | E33: 120.375 | F33: 866.5 | G33: 52 | H33: 7030.2085 | I33: 3798.7334 | J33: 7613.8721 | K33: 1177.8572 | L33: 3198.6624 | M33: 9846.123 | O33: 3888.6667 | P33: 51.437157 | Q33: 58.598061 | S33: 242.23395
A34: Kyushu-Okinawa | B34: Large (100 or more) | C34: 1362.6666 | D34: 248.5 | E34: 89.375 | F34: 134 | G34: 67.375 | H34: 369.625 | I34: 60 | J34: 244 | K34: 127.33334 | L34: 1245.7142 | M34: 155 | N34: 102 | O34: 595.66669 | P34: 5.406271 | Q34: 2.8350554 | R34: 1.5291076 | S34: 23.130817

Sheet universe_weak
