Workbook

Sheet Table 1 Universe
C1: =RIGHT(SUBSTITUTE(universe!C1,"_"," "),LEN(SUBSTITUTE(universe!C1,"_"," "))-1) -> Food | D1: =RIGHT(SUBSTITUTE(universe!D1,"_"," "),LEN(SUBSTITUTE(universe!D1,"_"," "))-1) -> Basic Metals and Metal Products | E1: =RIGHT(SUBSTITUTE(universe!E1,"_"," "),LEN(SUBSTITUTE(universe!E1,"_"," "))-1) -> Computer Electronicand Optical | F1: =RIGHT(SUBSTITUTE(universe!F1,"_"," "),LEN(SUBSTITUTE(universe!F1,"_"," "))-1) -> Machinery and Equipment | G1: =RIGHT(SUBSTITUTE(universe!G1,"_"," "),LEN(SUBSTITUTE(universe!G1,"_"," "))-1) -> Motor Vehicles | H1: =RIGHT(SUBSTITUTE(universe!H1,"_"," "),LEN(SUBSTITUTE(universe!H1,"_"," "))-1) -> Other Manufacturing | I1: =RIGHT(SUBSTITUTE(universe!I1,"_"," "),LEN(SUBSTITUTE(universe!I1,"_"," "))-1) -> Wholesale | J1: =RIGHT(SUBSTITUTE(universe!J1,"_"," "),LEN(SUBSTITUTE(universe!J1,"_"," "))-1) -> Retail | ... O1: =RIGHT(SUBSTITUTE(universe!O1,"_"," "),LEN(SUBSTITUTE(universe!O1,"_"," "))-1) -> Other Services | P1: =RIGHT(SUBSTITUTE(universe!T1,"_"," "),LEN(SUBSTITUTE(universe!T1,"_"," "))-1) -> Grand Total
A2: =universe!A2 -> Hokkaido | B2: =LEFT(universe!B2,FIND(")",universe!B2)) -> Small (5-19) | C2: =universe!C2 -> 1074 | D2: =universe!D2 -> 443 | E2: =universe!E2 -> 29 | F2: =universe!F2 -> 223 | G2: =universe!G2 -> 30 | H2: =universe!H2 -> 1684 | I2: =universe!I2 -> 4316 | J2: =universe!J2 -> 10956 | ... O2: =universe!O2 -> 3054 | P2: =SUM(C2:O5) -> 47717
A3: =universe!A3 -> Hokkaido | B3: =LEFT(universe!B3,FIND(")",universe!B3)) -> Medium (20-99) | C3: =universe!C3 -> 829 | D3: =universe!D3 -> 168 | E3: =universe!E3 -> 30 | F3: =universe!F3 -> 101 | G3: =universe!G3 -> 13 | H3: =universe!H3 -> 655 | I3: =universe!I3 -> 1004 | J3: =universe!J3 -> 2455 | ... O3: =universe!O3 -> 1829
A4: =universe!A4 -> Hokkaido | B4: =LEFT(universe!B4,FIND(")",universe!B4)) -> Large (100-299) | C4: =universe!C4 -> 143 | D4: =universe!D4 -> 17 | E4: =universe!E4 -> 13 | F4: =universe!F4 -> 7 | G4: =universe!G4 -> 6 | H4: =universe!H4 -> 57 | I4: =universe!I4 -> 61 | J4: =universe!J4 -> 229 | ... O4: =universe!O4 -> 222
A5: =universe!A5 -> Hokkaido | B5: =LEFT(universe!B5,FIND(")",universe!B5)) -> Very Large (300 or more) | C5: =universe!C5 -> 21 | D5: =universe!D5 -> 3 | E5: =universe!E5 -> 5 | F5: =universe!F5 -> 2 | G5: =universe!G5 -> 7 | H5: =universe!H5 -> 6 | I5: =universe!I5 -> 4 | J5: =universe!J5 -> 21 | ... O5: =universe!O5 -> 24
A6: =universe!A6 -> Tohoku | B6: =LEFT(universe!B6,FIND(")",universe!B6)) -> Small (5-19) | C6: =universe!C6 -> 1688 | D6: =universe!D6 -> 844 | E6: =universe!E6 -> 402 | F6: =universe!F6 -> 854 | G6: =universe!G6 -> 100 | H6: =universe!H6 -> 3916 | I6: =universe!I6 -> 7902 | J6: =universe!J6 -> 18603 | ... O6: =universe!O6 -> 4479 | P6: =SUM(C6:O9) -> 85356
A7: =universe!A7 -> Tohoku | B7: =LEFT(universe!B7,FIND(")",universe!B7)) -> Medium (20-99) | C7: =universe!C7 -> 1024 | D7: =universe!D7 -> 487 | E7: =universe!E7 -> 508 | F7: =universe!F7 -> 647 | G7: =universe!G7 -> 137 | H7: =universe!H7 -> 2095 | I7: =universe!I7 -> 1614 | J7: =universe!J7 -> 3993 | ... O7: =universe!O7 -> 2855
A8: =universe!A8 -> Tohoku | B8: =LEFT(universe!B8,FIND(")",universe!B8)) -> Large (100-299) | C8: =universe!C8 -> 180 | D8: =universe!D8 -> 69 | E8: =universe!E8 -> 185 | F8: =universe!F8 -> 103 | G8: =universe!G8 -> 43 | H8: =universe!H8 -> 315 | I8: =universe!I8 -> 76 | J8: =universe!J8 -> 296 | ... O8: =universe!O8 -> 271
A9: =universe!A9 -> Tohoku | B9: =LEFT(universe!B9,FIND(")",universe!B9)) -> Very Large (300 or more) | C9: =universe!C9 -> 40 | D9: =universe!D9 -> 18 | E9: =universe!E9 -> 76 | F9: =universe!F9 -> 24 | G9: =universe!G9 -> 23 | H9: =universe!H9 -> 46 | I9: =universe!I9 -> 6 | J9: =universe!J9 -> 8 | ... O9: =universe!O9 -> 27
A10: =universe!A10 -> Kanto (excl. Tokyo) | B10: =LEFT(universe!B10,FIND(")",universe!B10)) -> Small (5-19) | C10: =universe!C10 -> 2173 | D10: =universe!D10 -> 3721 | E10: =universe!E10 -> 1260 | F10: =universe!F10 -> 3739 | G10: =universe!G10 -> 857 | H10: =universe!H10 -> 10969 | I10: =universe!I10 -> 16271 | J10: =universe!J10 -> 47626 | ... O10: =universe!O10 -> 12876 | P10: =SUM(C10:O13) -> 226919
A11: =universe!A11 -> Kanto (excl. Tokyo) | B11: =LEFT(universe!B11,FIND(")",universe!B11)) -> Medium (20-99) | C11: =universe!C11 -> 1788 | D11: =universe!D11 -> 1859 | E11: =universe!E11 -> 862 | F11: =universe!F11 -> 1773 | G11: =universe!G11 -> 703 | H11: =universe!H11 -> 5707 | I11: =universe!I11 -> 4048 | J11: =universe!J11 -> 14521 | ... O11: =universe!O11 -> 9612
A12: =universe!A12 -> Kanto (excl. Tokyo) | B12: =LEFT(universe!B12,FIND(")",universe!B12)) -> Large (100-299) | C12: =universe!C12 -> 560 | D12: =universe!D12 -> 232 | E12: =universe!E12 -> 216 | F12: =universe!F12 -> 300 | G12: =universe!G12 -> 199 | H12: =universe!H12 -> 935 | I12: =universe!I12 -> 296 | J12: =universe!J12 -> 1297 | ... O12: =universe!O12 -> 1297
A13: =universe!A13 -> Kanto (excl. Tokyo) | B13: =LEFT(universe!B13,FIND(")",universe!B13)) -> Very Large (300 or more) | C13: =universe!C13 -> 182 | D13: =universe!D13 -> 38 | E13: =universe!E13 -> 86 | F13: =universe!F13 -> 109 | G13: =universe!G13 -> 95 | H13: =universe!H13 -> 239 | I13: =universe!I13 -> 55 | J13: =universe!J13 -> 144 | ... O13: =universe!O13 -> 256
A14: =universe!A14 -> Tokyo | B14: =LEFT(universe!B14,FIND(")",universe!B14)) -> Small (5-19) | C14: =universe!C14 -> 647 | D14: =universe!D14 -> 964 | E14: =universe!E14 -> 768 | F14: =universe!F14 -> 1202 | G14: =universe!G14 -> 124 | H14: =universe!H14 -> 5562 | I14: =universe!I14 -> 15448 | J14: =universe!J14 -> 27115 | ... O14: =universe!O14 -> 9266 | P14: =SUM(C14:O17) -> 149385
A15: =universe!A15 -> Tokyo | B15: =LEFT(universe!B15,FIND(")",universe!B15)) -> Medium (20-99) | C15: =universe!C15 -> 380 | D15: =universe!D15 -> 235 | E15: =universe!E15 -> 389 | F15: =universe!F15 -> 421 | G15: =universe!G15 -> 61 | H15: =universe!H15 -> 2012 | I15: =universe!I15 -> 6278 | J15: =universe!J15 -> 7730 | ... O15: =universe!O15 -> 6805
A16: =universe!A16 -> Tokyo | B16: =LEFT(universe!B16,FIND(")",universe!B16)) -> Large (100-299) | C16: =universe!C16 -> 87 | D16: =universe!D16 -> 16 | E16: =universe!E16 -> 55 | F16: =universe!F16 -> 50 | G16: =universe!G16 -> 12 | H16: =universe!H16 -> 248 | I16: =universe!I16 -> 1130 | J16: =universe!J16 -> 762 | ... O16: =universe!O16 -> 1622
A17: =universe!A17 -> Tokyo | B17: =LEFT(universe!B17,FIND(")",universe!B17)) -> Very Large (300 or more) | C17: =universe!C17 -> 28 | D17: =universe!D17 -> 4 | E17: =universe!E17 -> 25 | F17: =universe!F17 -> 13 | G17: =universe!G17 -> 6 | H17: =universe!H17 -> 76 | I17: =universe!I17 -> 370 | J17: =universe!J17 -> 115 | ... O17: =universe!O17 -> 624
A18: =universe!A18 -> Chubu (excl. Aichi) | B18: =LEFT(universe!B18,FIND(")",universe!B18)) -> Small (5-19) | C18: =universe!C18 -> 2740 | D18: =universe!D18 -> 2614 | E18: =universe!E18 -> 749 | F18: =universe!F18 -> 3191 | G18: =universe!G18 -> 717 | H18: =universe!H18 -> 9284 | I18: =universe!I18 -> 11421 | J18: =universe!J18 -> 27139 | ... O18: =universe!O18 -> 6567 | P18: =SUM(C18:O21) -> 139126
A19: =universe!A19 -> Chubu (excl. Aichi) | B19: =LEFT(universe!B19,FIND(")",universe!B19)) -> Medium (20-99) | C19: =universe!C19 -> 1616 | D19: =universe!D19 -> 1360 | E19: =universe!E19 -> 705 | F19: =universe!F19 -> 1910 | G19: =universe!G19 -> 704 | H19: =universe!H19 -> 4638 | I19: =universe!I19 -> 2624 | J19: =universe!J19 -> 6190 | ... O19: =universe!O19 -> 4543
A20: =universe!A20 -> Chubu (excl. Aichi) | B20: =LEFT(universe!B20,FIND(")",universe!B20)) -> Large (100-299) | C20: =universe!C20 -> 285 | D20: =universe!D20 -> 178 | E20: =universe!E20 -> 214 | F20: =universe!F20 -> 307 | G20: =universe!G20 -> 170 | H20: =universe!H20 -> 772 | I20: =universe!I20 -> 123 | J20: =universe!J20 -> 515 | ... O20: =universe!O20 -> 437
A21: =universe!A21 -> Chubu (excl. Aichi) | B21: =LEFT(universe!B21,FIND(")",universe!B21)) -> Very Large (300 or more) | C21: =universe!C21 -> 69 | D21: =universe!D21 -> 33 | E21: =universe!E21 -> 102 | F21: =universe!F21 -> 87 | G21: =universe!G21 -> 97 | H21: =universe!H21 -> 169 | I21: =universe!I21 -> 21 | J21: =universe!J21 -> 32 | ... O21: =universe!O21 -> 63
A22: =universe!A22 -> Aichi | B22: =LEFT(universe!B22,FIND(")",universe!B22)) -> Small (5-19) | C22: =universe!C22 -> 650 | D22: =universe!D22 -> 1458 | E22: =universe!E22 -> 172 | F22: =universe!F22 -> 1981 | G22: =universe!G22 -> 692 | H22: =universe!H22 -> 4391 | I22: =universe!I22 -> 7269 | J22: =universe!J22 -> 13766 | ... O22: =universe!O22 -> 3701 | P22: =SUM(C22:O25) -> 75540
A23: =universe!A23 -> Aichi | B23: =LEFT(universe!B23,FIND(")",universe!B23)) -> Medium (20-99) | C23: =universe!C23 -> 557 | D23: =universe!D23 -> 651 | E23: =universe!E23 -> 131 | F23: =universe!F23 -> 884 | G23: =universe!G23 -> 610 | H23: =universe!H23 -> 2163 | I23: =universe!I23 -> 2197 | J23: =universe!J23 -> 3710 | ... O23: =universe!O23 -> 2925
A24: =universe!A24 -> Aichi | B24: =LEFT(universe!B24,FIND(")",universe!B24)) -> Large (100-299) | C24: =universe!C24 -> 121 | D24: =universe!D24 -> 78 | E24: =universe!E24 -> 34 | F24: =universe!F24 -> 143 | G24: =universe!G24 -> 200 | H24: =universe!H24 -> 318 | I24: =universe!I24 -> 183 | J24: =universe!J24 -> 284 | ... O24: =universe!O24 -> 456
A25: =universe!A25 -> Aichi | B25: =LEFT(universe!B25,FIND(")",universe!B25)) -> Very Large (300 or more) | C25: =universe!C25 -> 41 | D25: =universe!D25 -> 29 | E25: =universe!E25 -> 11 | F25: =universe!F25 -> 51 | G25: =universe!G25 -> 120 | H25: =universe!H25 -> 91 | I25: =universe!I25 -> 31 | J25: =universe!J25 -> 43 | ... O25: =universe!O25 -> 71
A26: =universe!A26 -> Kinki (excl. Osaka) | B26: =LEFT(universe!B26,FIND(")",universe!B26)) -> Small (5-19) | C26: =universe!C26 -> 1951 | D26: =universe!D26 -> 1833 | E26: =universe!E26 -> 373 | F26: =universe!F26 -> 1877 | G26: =universe!G26 -> 259 | H26: =universe!H26 -> 6848 | I26: =universe!I26 -> 8370 | J26: =universe!J26 -> 23714 | ... O26: =universe!O26 -> 5777 | P26: =SUM(C26:O29) -> 111074
A27: =universe!A27 -> Kinki (excl. Osaka) | B27: =LEFT(universe!B27,FIND(")",universe!B27)) -> Medium (20-99) | C27: =universe!C27 -> 1122 | D27: =universe!D27 -> 963 | E27: =universe!E27 -> 351 | F27: =universe!F27 -> 1136 | G27: =universe!G27 -> 248 | H27: =universe!H27 -> 3441 | I27: =universe!I27 -> 2024 | J27: =universe!J27 -> 6547 | ... O27: =universe!O27 -> 3904
A28: =universe!A28 -> Kinki (excl. Osaka) | B28: =LEFT(universe!B28,FIND(")",universe!B28)) -> Large (100-299) | C28: =universe!C28 -> 277 | D28: =universe!D28 -> 120 | E28: =universe!E28 -> 114 | F28: =universe!F28 -> 223 | G28: =universe!G28 -> 81 | H28: =universe!H28 -> 663 | I28: =universe!I28 -> 139 | J28: =universe!J28 -> 646 | ... O28: =universe!O28 -> 472
A29: =universe!A29 -> Kinki (excl. Osaka) | B29: =LEFT(universe!B29,FIND(")",universe!B29)) -> Very Large (300 or more) | C29: =universe!C29 -> 52 | D29: =universe!D29 -> 27 | E29: =universe!E29 -> 43 | F29: =universe!F29 -> 76 | G29: =universe!G29 -> 32 | H29: =universe!H29 -> 156 | I29: =universe!I29 -> 21 | J29: =universe!J29 -> 67 | ... O29: =universe!O29 -> 60
A30: =universe!A30 -> Osaka | B30: =LEFT(universe!B30,FIND(")",universe!B30)) -> Small (5-19) | C30: =universe!C30 -> 575 | D30: =universe!D30 -> 2506 | E30: =universe!E30 -> 365 | F30: =universe!F30 -> 2108 | G30: =universe!G30 -> 141 | H30: =universe!H30 -> 5853 | I30: =universe!I30 -> 10442 | J30: =universe!J30 -> 14918 | ... O30: =universe!O30 -> 5226 | P30: =SUM(C30:O33) -> 89869
A31: =universe!A31 -> Osaka | B31: =LEFT(universe!B31,FIND(")",universe!B31)) -> Medium (20-99) | C31: =universe!C31 -> 416 | D31: =universe!D31 -> 912 | E31: =universe!E31 -> 211 | F31: =universe!F31 -> 832 | G31: =universe!G31 -> 65 | H31: =universe!H31 -> 2363 | I31: =universe!I31 -> 3740 | J31: =universe!J31 -> 4422 | ... O31: =universe!O31 -> 3655
A32: =universe!A32 -> Osaka | B32: =LEFT(universe!B32,FIND(")",universe!B32)) -> Large (100-299) | C32: =universe!C32 -> 100 | D32: =universe!D32 -> 68 | E32: =universe!E32 -> 33 | F32: =universe!F32 -> 87 | G32: =universe!G32 -> 12 | H32: =universe!H32 -> 263 | I32: =universe!I32 -> 359 | J32: =universe!J32 -> 468 | ... O32: =universe!O32 -> 601
A33: =universe!A33 -> Osaka | B33: =LEFT(universe!B33,FIND(")",universe!B33)) -> Very Large (300 or more) | C33: =universe!C33 -> 30 | D33: =universe!D33 -> 13 | E33: =universe!E33 -> 7 | F33: =universe!F33 -> 31 | G33: =universe!G33 -> 5 | H33: =universe!H33 -> 52 | I33: =universe!I33 -> 83 | J33: =universe!J33 -> 51 | ... O33: =universe!O33 -> 125
A34: =universe!A34 -> Chugoku | B34: =LEFT(universe!B34,FIND(")",universe!B34)) -> Small (5-19) | C34: =universe!C34 -> 1097 | D34: =universe!D34 -> 999 | E34: =universe!E34 -> 129 | F34: =universe!F34 -> 1025 | G34: =universe!G34 -> 167 | H34: =universe!H34 -> 3922 | I34: =universe!I34 -> 6543 | J34: =universe!J34 -> 14419 | ... O34: =universe!O34 -> 3850 | P34: =SUM(C34:O37) -> 69718
A35: =universe!A35 -> Chugoku | B35: =LEFT(universe!B35,FIND(")",universe!B35)) -> Medium (20-99) | C35: =universe!C35 -> 647 | D35: =universe!D35 -> 468 | E35: =universe!E35 -> 132 | F35: =universe!F35 -> 578 | G35: =universe!G35 -> 193 | H35: =universe!H35 -> 1991 | I35: =universe!I35 -> 1456 | J35: =universe!J35 -> 3590 | ... O35: =universe!O35 -> 2540
A36: =universe!A36 -> Chugoku | B36: =LEFT(universe!B36,FIND(")",universe!B36)) -> Large (100-299) | C36: =universe!C36 -> 142 | D36: =universe!D36 -> 94 | E36: =universe!E36 -> 37 | F36: =universe!F36 -> 90 | G36: =universe!G36 -> 76 | H36: =universe!H36 -> 321 | I36: =universe!I36 -> 89 | J36: =universe!J36 -> 269 | ... O36: =universe!O36 -> 260
A37: =universe!A37 -> Chugoku | B37: =LEFT(universe!B37,FIND(")",universe!B37)) -> Very Large (300 or more) | C37: =universe!C37 -> 28 | D37: =universe!D37 -> 25 | E37: =universe!E37 -> 23 | F37: =universe!F37 -> 32 | G37: =universe!G37 -> 24 | H37: =universe!H37 -> 84 | I37: =universe!I37 -> 4 | J37: =universe!J37 -> 23 | ... O37: =universe!O37 -> 44
A38: =universe!A38 -> Shikoku | B38: =LEFT(universe!B38,FIND(")",universe!B38)) -> Small (5-19) | C38: =universe!C38 -> 808 | D38: =universe!D38 -> 446 | E38: =universe!E38 -> 42 | F38: =universe!F38 -> 454 | G38: =universe!G38 -> 17 | H38: =universe!H38 -> 2156 | I38: =universe!I38 -> 3225 | J38: =universe!J38 -> 7643 | ... O38: =universe!O38 -> 2006 | P38: =SUM(C38:O41) -> 35151
A39: =universe!A39 -> Shikoku | B39: =LEFT(universe!B39,FIND(")",universe!B39)) -> Medium (20-99) | C39: =universe!C39 -> 438 | D39: =universe!D39 -> 194 | E39: =universe!E39 -> 43 | F39: =universe!F39 -> 252 | G39: =universe!G39 -> 10 | H39: =universe!H39 -> 1074 | I39: =universe!I39 -> 696 | J39: =universe!J39 -> 1755 | ... O39: =universe!O39 -> 1159
A40: =universe!A40 -> Shikoku | B40: =LEFT(universe!B40,FIND(")",universe!B40)) -> Large (100-299) | C40: =universe!C40 -> 80 | D40: =universe!D40 -> 20 | E40: =universe!E40 -> 8 | F40: =universe!F40 -> 35 | G40: =universe!G40 -> 3 | H40: =universe!H40 -> 173 | I40: =universe!I40 -> 30 | J40: =universe!J40 -> 100 | ... O40: =universe!O40 -> 108
...

Sheet Table 2 Frame
C1: =RIGHT(SUBSTITUTE('frame fresh and panel'!C1,"_"," "),LEN(SUBSTITUTE('frame fresh and panel'!C1,"_"," "))-1) -> Food | D1: =RIGHT(SUBSTITUTE('frame fresh and panel'!D1,"_"," "),LEN(SUBSTITUTE('frame fresh and panel'!D1,"_"," "))-1) -> Basic Metals and Metal Products | E1: =RIGHT(SUBSTITUTE('frame fresh and panel'!E1,"_"," "),LEN(SUBSTITUTE('frame fresh and panel'!E1,"_"," "))-1) -> Comp Elec and Optical Prod | F1: =RIGHT(SUBSTITUTE('frame fresh and panel'!F1,"_"," "),LEN(SUBSTITUTE('frame fresh and panel'!F1,"_"," "))-1) -> Machinery and Equipment | G1: =RIGHT(SUBSTITUTE('frame fresh and panel'!G1,"_"," "),LEN(SUBSTITUTE('frame fresh and panel'!G1,"_"," "))-1) -> Motor Vehicles | H1: =RIGHT(SUBSTITUTE('frame fresh and panel'!H1,"_"," "),LEN(SUBSTITUTE('frame fresh and panel'!H1,"_"," "))-1) -> Other Manufacturing | I1: =RIGHT(SUBSTITUTE('frame fresh and panel'!I1,"_"," "),LEN(SUBSTITUTE('frame fresh and panel'!I1,"_"," "))-1) -> Wholesale | J1: =RIGHT(SUBSTITUTE('frame fresh and panel'!J1,"_"," "),LEN(SUBSTITUTE('frame fresh and panel'!J1,"_"," "))-1) -> Retail | ... O1: =RIGHT(SUBSTITUTE('frame fresh and panel'!O1,"_"," "),LEN(SUBSTITUTE('frame fresh and panel'!O1,"_"," "))-1) -> Other Services | P1: =RIGHT(SUBSTITUTE('frame fresh and panel'!T1,"_"," "),LEN(SUBSTITUTE('frame fresh and panel'!T1,"_"," "))-1) -> Grand Total
A2: ='frame fresh and panel'!A2 -> Hokkaido | B2: =LEFT('frame fresh and panel'!B2,FIND(")",'frame fresh and panel'!B2)) -> Small (5-19) | C2: ='frame fresh and panel'!C2 -> 478 | D2: ='frame fresh and panel'!D2 -> 217 | E2: ='frame fresh and panel'!E2 -> 20 | F2: ='frame fresh and panel'!F2 -> 102 | G2: ='frame fresh and panel'!G2 -> 19 | H2: ='frame fresh and panel'!H2 -> 1375 | I2: ='frame fresh and panel'!I2 -> 3919 | J2: ='frame fresh and panel'!J2 -> 5238 | ... O2: ='frame fresh and panel'!O2 -> 5202 | P2: =SUM(C2:O5) -> 44884
A3: ='frame fresh and panel'!A3 -> Hokkaido | B3: =LEFT('frame fresh and panel'!B3,FIND(")",'frame fresh and panel'!B3)) -> Medium (20-99) | C3: ='frame fresh and panel'!C3 -> 841 | D3: ='frame fresh and panel'!D3 -> 314 | E3: ='frame fresh and panel'!E3 -> 39 | F3: ='frame fresh and panel'!F3 -> 144 | G3: ='frame fresh and panel'!G3 -> 29 | H3: ='frame fresh and panel'!H3 -> 3358 | I3: ='frame fresh and panel'!I3 -> 1557 | J3: ='frame fresh and panel'!J3 -> 1209 | ... O3: ='frame fresh and panel'!O3 -> 1543
A4: ='frame fresh and panel'!A4 -> Hokkaido | B4: =LEFT('frame fresh and panel'!B4,FIND(")",'frame fresh and panel'!B4)) -> Large (100-299) | C4: ='frame fresh and panel'!C4 -> 29 | D4: ='frame fresh and panel'!D4 -> 14 | E4: ='frame fresh and panel'!E4 -> 3 | F4: ='frame fresh and panel'!F4 -> 5 | G4: ='frame fresh and panel'!G4 -> 3 | H4: ='frame fresh and panel'!H4 -> 48 | I4: ='frame fresh and panel'!I4 -> 59 | J4: ='frame fresh and panel'!J4 -> 65 | ... O4: ='frame fresh and panel'!O4 -> 206
A5: ='frame fresh and panel'!A5 -> Hokkaido | B5: =LEFT('frame fresh and panel'!B5,FIND(")",'frame fresh and panel'!B5)) -> Very Large (300 or more) | C5: ='frame fresh and panel'!C5 -> 11 | D5: ='frame fresh and panel'!D5 -> 4 | E5: ='frame fresh and panel'!E5 -> 0 | F5: ='frame fresh and panel'!F5 -> 3 | G5: ='frame fresh and panel'!G5 -> 4 | H5: ='frame fresh and panel'!H5 -> 14 | I5: ='frame fresh and panel'!I5 -> 18 | J5: ='frame fresh and panel'!J5 -> 28 | ... O5: ='frame fresh and panel'!O5 -> 69
A6: ='frame fresh and panel'!A6 -> Tohoku | B6: =LEFT('frame fresh and panel'!B6,FIND(")",'frame fresh and panel'!B6)) -> Small (5-19) | C6: ='frame fresh and panel'!C6 -> 642 | D6: ='frame fresh and panel'!D6 -> 481 | E6: ='frame fresh and panel'!E6 -> 163 | F6: ='frame fresh and panel'!F6 -> 248 | G6: ='frame fresh and panel'!G6 -> 45 | H6: ='frame fresh and panel'!H6 -> 3008 | I6: ='frame fresh and panel'!I6 -> 6223 | J6: ='frame fresh and panel'!J6 -> 9172 | ... O6: ='frame fresh and panel'!O6 -> 7806 | P6: =SUM(C6:O9) -> 75653
A7: ='frame fresh and panel'!A7 -> Tohoku | B7: =LEFT('frame fresh and panel'!B7,FIND(")",'frame fresh and panel'!B7)) -> Medium (20-99) | C7: ='frame fresh and panel'!C7 -> 1141 | D7: ='frame fresh and panel'!D7 -> 734 | E7: ='frame fresh and panel'!E7 -> 316 | F7: ='frame fresh and panel'!F7 -> 398 | G7: ='frame fresh and panel'!G7 -> 95 | H7: ='frame fresh and panel'!H7 -> 7445 | I7: ='frame fresh and panel'!I7 -> 1980 | J7: ='frame fresh and panel'!J7 -> 1597 | ... O7: ='frame fresh and panel'!O7 -> 2041
A8: ='frame fresh and panel'!A8 -> Tohoku | B8: =LEFT('frame fresh and panel'!B8,FIND(")",'frame fresh and panel'!B8)) -> Large (100-299) | C8: ='frame fresh and panel'!C8 -> 57 | D8: ='frame fresh and panel'!D8 -> 55 | E8: ='frame fresh and panel'!E8 -> 72 | F8: ='frame fresh and panel'!F8 -> 48 | G8: ='frame fresh and panel'!G8 -> 20 | H8: ='frame fresh and panel'!H8 -> 171 | I8: ='frame fresh and panel'!I8 -> 111 | J8: ='frame fresh and panel'!J8 -> 104 | ... O8: ='frame fresh and panel'!O8 -> 317
A9: ='frame fresh and panel'!A9 -> Tohoku | B9: =LEFT('frame fresh and panel'!B9,FIND(")",'frame fresh and panel'!B9)) -> Very Large (300 or more) | C9: ='frame fresh and panel'!C9 -> 13 | D9: ='frame fresh and panel'!D9 -> 8 | E9: ='frame fresh and panel'!E9 -> 36 | F9: ='frame fresh and panel'!F9 -> 7 | G9: ='frame fresh and panel'!G9 -> 14 | H9: ='frame fresh and panel'!H9 -> 40 | I9: ='frame fresh and panel'!I9 -> 20 | J9: ='frame fresh and panel'!J9 -> 41 | ... O9: ='frame fresh and panel'!O9 -> 61
A10: ='frame fresh and panel'!A10 -> Kanto (excl. Tokyo) | B10: =LEFT('frame fresh and panel'!B10,FIND(")",'frame fresh and panel'!B10)) -> Small (5-19) | C10: ='frame fresh and panel'!C10 -> 842 | D10: ='frame fresh and panel'!D10 -> 2648 | E10: ='frame fresh and panel'!E10 -> 643 | F10: ='frame fresh and panel'!F10 -> 1113 | G10: ='frame fresh and panel'!G10 -> 279 | H10: ='frame fresh and panel'!H10 -> 6332 | I10: ='frame fresh and panel'!I10 -> 16000 | J10: ='frame fresh and panel'!J10 -> 14239 | ... O10: ='frame fresh and panel'!O10 -> 17511 | P10: =SUM(C10:O13) -> 189824
A11: ='frame fresh and panel'!A11 -> Kanto (excl. Tokyo) | B11: =LEFT('frame fresh and panel'!B11,FIND(")",'frame fresh and panel'!B11)) -> Medium (20-99) | C11: ='frame fresh and panel'!C11 -> 1475 | D11: ='frame fresh and panel'!D11 -> 3675 | E11: ='frame fresh and panel'!E11 -> 1036 | F11: ='frame fresh and panel'!F11 -> 1917 | G11: ='frame fresh and panel'!G11 -> 554 | H11: ='frame fresh and panel'!H11 -> 16947 | I11: ='frame fresh and panel'!I11 -> 6055 | J11: ='frame fresh and panel'!J11 -> 2894 | ... O11: ='frame fresh and panel'!O11 -> 5933
A12: ='frame fresh and panel'!A12 -> Kanto (excl. Tokyo) | B12: =LEFT('frame fresh and panel'!B12,FIND(")",'frame fresh and panel'!B12)) -> Large (100-299) | C12: ='frame fresh and panel'!C12 -> 106 | D12: ='frame fresh and panel'!D12 -> 216 | E12: ='frame fresh and panel'!E12 -> 115 | F12: ='frame fresh and panel'!F12 -> 134 | G12: ='frame fresh and panel'!G12 -> 100 | H12: ='frame fresh and panel'!H12 -> 419 | I12: ='frame fresh and panel'!I12 -> 238 | J12: ='frame fresh and panel'!J12 -> 251 | ... O12: ='frame fresh and panel'!O12 -> 834
A13: ='frame fresh and panel'!A13 -> Kanto (excl. Tokyo) | B13: =LEFT('frame fresh and panel'!B13,FIND(")",'frame fresh and panel'!B13)) -> Very Large (300 or more) | C13: ='frame fresh and panel'!C13 -> 33 | D13: ='frame fresh and panel'!D13 -> 47 | E13: ='frame fresh and panel'!E13 -> 69 | F13: ='frame fresh and panel'!F13 -> 49 | G13: ='frame fresh and panel'!G13 -> 60 | H13: ='frame fresh and panel'!H13 -> 142 | I13: ='frame fresh and panel'!I13 -> 71 | J13: ='frame fresh and panel'!J13 -> 130 | ... O13: ='frame fresh and panel'!O13 -> 295
A14: ='frame fresh and panel'!A14 -> Tokyo | B14: =LEFT('frame fresh and panel'!B14,FIND(")",'frame fresh and panel'!B14)) -> Small (5-19) | C14: ='frame fresh and panel'!C14 -> 284 | D14: ='frame fresh and panel'!D14 -> 747 | E14: ='frame fresh and panel'!E14 -> 453 | F14: ='frame fresh and panel'!F14 -> 464 | G14: ='frame fresh and panel'!G14 -> 60 | H14: ='frame fresh and panel'!H14 -> 3216 | I14: ='frame fresh and panel'!I14 -> 17893 | J14: ='frame fresh and panel'!J14 -> 7691 | ... O14: ='frame fresh and panel'!O14 -> 12330 | P14: =SUM(C14:O17) -> 126950
A15: ='frame fresh and panel'!A15 -> Tokyo | B15: =LEFT('frame fresh and panel'!B15,FIND(")",'frame fresh and panel'!B15)) -> Medium (20-99) | C15: ='frame fresh and panel'!C15 -> 466 | D15: ='frame fresh and panel'!D15 -> 1221 | E15: ='frame fresh and panel'!E15 -> 749 | F15: ='frame fresh and panel'!F15 -> 743 | G15: ='frame fresh and panel'!G15 -> 106 | H15: ='frame fresh and panel'!H15 -> 6546 | I15: ='frame fresh and panel'!I15 -> 9109 | J15: ='frame fresh and panel'!J15 -> 2123 | ... O15: ='frame fresh and panel'!O15 -> 6310
A16: ='frame fresh and panel'!A16 -> Tokyo | B16: =LEFT('frame fresh and panel'!B16,FIND(")",'frame fresh and panel'!B16)) -> Large (100-299) | C16: ='frame fresh and panel'!C16 -> 102 | D16: ='frame fresh and panel'!D16 -> 127 | E16: ='frame fresh and panel'!E16 -> 124 | F16: ='frame fresh and panel'!F16 -> 120 | G16: ='frame fresh and panel'!G16 -> 23 | H16: ='frame fresh and panel'!H16 -> 651 | I16: ='frame fresh and panel'!I16 -> 1013 | J16: ='frame fresh and panel'!J16 -> 304 | ... O16: ='frame fresh and panel'!O16 -> 1519
A17: ='frame fresh and panel'!A17 -> Tokyo | B17: =LEFT('frame fresh and panel'!B17,FIND(")",'frame fresh and panel'!B17)) -> Very Large (300 or more) | C17: ='frame fresh and panel'!C17 -> 100 | D17: ='frame fresh and panel'!D17 -> 109 | E17: ='frame fresh and panel'!E17 -> 133 | F17: ='frame fresh and panel'!F17 -> 105 | G17: ='frame fresh and panel'!G17 -> 32 | H17: ='frame fresh and panel'!H17 -> 563 | I17: ='frame fresh and panel'!I17 -> 497 | J17: ='frame fresh and panel'!J17 -> 313 | ... O17: ='frame fresh and panel'!O17 -> 844
A18: ='frame fresh and panel'!A18 -> Chubu (excl. Aichi) | B18: =LEFT('frame fresh and panel'!B18,FIND(")",'frame fresh and panel'!B18)) -> Small (5-19) | C18: ='frame fresh and panel'!C18 -> 1003 | D18: ='frame fresh and panel'!D18 -> 1953 | E18: ='frame fresh and panel'!E18 -> 387 | F18: ='frame fresh and panel'!F18 -> 1125 | G18: ='frame fresh and panel'!G18 -> 280 | H18: ='frame fresh and panel'!H18 -> 5999 | I18: ='frame fresh and panel'!I18 -> 12123 | J18: ='frame fresh and panel'!J18 -> 13521 | ... O18: ='frame fresh and panel'!O18 -> 12770 | P18: =SUM(C18:O21) -> 136062
A19: ='frame fresh and panel'!A19 -> Chubu (excl. Aichi) | B19: =LEFT('frame fresh and panel'!B19,FIND(")",'frame fresh and panel'!B19)) -> Medium (20-99) | C19: ='frame fresh and panel'!C19 -> 1853 | D19: ='frame fresh and panel'!D19 -> 3018 | E19: ='frame fresh and panel'!E19 -> 786 | F19: ='frame fresh and panel'!F19 -> 1793 | G19: ='frame fresh and panel'!G19 -> 472 | H19: ='frame fresh and panel'!H19 -> 14804 | I19: ='frame fresh and panel'!I19 -> 4266 | J19: ='frame fresh and panel'!J19 -> 2379 | ... O19: ='frame fresh and panel'!O19 -> 3485
A20: ='frame fresh and panel'!A20 -> Chubu (excl. Aichi) | B20: =LEFT('frame fresh and panel'!B20,FIND(")",'frame fresh and panel'!B20)) -> Large (100-299) | C20: ='frame fresh and panel'!C20 -> 95 | D20: ='frame fresh and panel'!D20 -> 207 | E20: ='frame fresh and panel'!E20 -> 101 | F20: ='frame fresh and panel'!F20 -> 164 | G20: ='frame fresh and panel'!G20 -> 79 | H20: ='frame fresh and panel'!H20 -> 487 | I20: ='frame fresh and panel'!I20 -> 217 | J20: ='frame fresh and panel'!J20 -> 151 | ... O20: ='frame fresh and panel'!O20 -> 476
A21: ='frame fresh and panel'!A21 -> Chubu (excl. Aichi) | B21: =LEFT('frame fresh and panel'!B21,FIND(")",'frame fresh and panel'!B21)) -> Very Large (300 or more) | C21: ='frame fresh and panel'!C21 -> 31 | D21: ='frame fresh and panel'!D21 -> 40 | E21: ='frame fresh and panel'!E21 -> 59 | F21: ='frame fresh and panel'!F21 -> 55 | G21: ='frame fresh and panel'!G21 -> 46 | H21: ='frame fresh and panel'!H21 -> 128 | I21: ='frame fresh and panel'!I21 -> 43 | J21: ='frame fresh and panel'!J21 -> 70 | ... O21: ='frame fresh and panel'!O21 -> 129
A22: ='frame fresh and panel'!A22 -> Aichi | B22: =LEFT('frame fresh and panel'!B22,FIND(")",'frame fresh and panel'!B22)) -> Small (5-19) | C22: ='frame fresh and panel'!C22 -> 241 | D22: ='frame fresh and panel'!D22 -> 970 | E22: ='frame fresh and panel'!E22 -> 88 | F22: ='frame fresh and panel'!F22 -> 762 | G22: ='frame fresh and panel'!G22 -> 213 | H22: ='frame fresh and panel'!H22 -> 2241 | I22: ='frame fresh and panel'!I22 -> 5671 | J22: ='frame fresh and panel'!J22 -> 3212 | ... O22: ='frame fresh and panel'!O22 -> 4673 | P22: =SUM(C22:O25) -> 54570
A23: ='frame fresh and panel'!A23 -> Aichi | B23: =LEFT('frame fresh and panel'!B23,FIND(")",'frame fresh and panel'!B23)) -> Medium (20-99) | C23: ='frame fresh and panel'!C23 -> 438 | D23: ='frame fresh and panel'!D23 -> 1493 | E23: ='frame fresh and panel'!E23 -> 155 | F23: ='frame fresh and panel'!F23 -> 1067 | G23: ='frame fresh and panel'!G23 -> 444 | H23: ='frame fresh and panel'!H23 -> 4473 | I23: ='frame fresh and panel'!I23 -> 2851 | J23: ='frame fresh and panel'!J23 -> 878 | ... O23: ='frame fresh and panel'!O23 -> 2251
A24: ='frame fresh and panel'!A24 -> Aichi | B24: =LEFT('frame fresh and panel'!B24,FIND(")",'frame fresh and panel'!B24)) -> Large (100-299) | C24: ='frame fresh and panel'!C24 -> 47 | D24: ='frame fresh and panel'!D24 -> 120 | E24: ='frame fresh and panel'!E24 -> 21 | F24: ='frame fresh and panel'!F24 -> 96 | G24: ='frame fresh and panel'!G24 -> 111 | H24: ='frame fresh and panel'!H24 -> 227 | I24: ='frame fresh and panel'!I24 -> 175 | J24: ='frame fresh and panel'!J24 -> 95 | ... O24: ='frame fresh and panel'!O24 -> 319
A25: ='frame fresh and panel'!A25 -> Aichi | B25: =LEFT('frame fresh and panel'!B25,FIND(")",'frame fresh and panel'!B25)) -> Very Large (300 or more) | C25: ='frame fresh and panel'!C25 -> 18 | D25: ='frame fresh and panel'!D25 -> 43 | E25: ='frame fresh and panel'!E25 -> 14 | F25: ='frame fresh and panel'!F25 -> 40 | G25: ='frame fresh and panel'!G25 -> 75 | H25: ='frame fresh and panel'!H25 -> 86 | I25: ='frame fresh and panel'!I25 -> 61 | J25: ='frame fresh and panel'!J25 -> 49 | ... O25: ='frame fresh and panel'!O25 -> 152
A26: ='frame fresh and panel'!A26 -> Kinki (excl. Osaka) | B26: =LEFT('frame fresh and panel'!B26,FIND(")",'frame fresh and panel'!B26)) -> Small (5-19) | C26: ='frame fresh and panel'!C26 -> 663 | D26: ='frame fresh and panel'!D26 -> 1034 | E26: ='frame fresh and panel'!E26 -> 198 | F26: ='frame fresh and panel'!F26 -> 582 | G26: ='frame fresh and panel'!G26 -> 107 | H26: ='frame fresh and panel'!H26 -> 4102 | I26: ='frame fresh and panel'!I26 -> 9974 | J26: ='frame fresh and panel'!J26 -> 8851 | ... O26: ='frame fresh and panel'!O26 -> 8500 | P26: =SUM(C26:O29) -> 102611
A27: ='frame fresh and panel'!A27 -> Kinki (excl. Osaka) | B27: =LEFT('frame fresh and panel'!B27,FIND(")",'frame fresh and panel'!B27)) -> Medium (20-99) | C27: ='frame fresh and panel'!C27 -> 1151 | D27: ='frame fresh and panel'!D27 -> 1485 | E27: ='frame fresh and panel'!E27 -> 356 | F27: ='frame fresh and panel'!F27 -> 1002 | G27: ='frame fresh and panel'!G27 -> 202 | H27: ='frame fresh and panel'!H27 -> 10435 | I27: ='frame fresh and panel'!I27 -> 3793 | J27: ='frame fresh and panel'!J27 -> 1852 | ... O27: ='frame fresh and panel'!O27 -> 2913
A28: ='frame fresh and panel'!A28 -> Kinki (excl. Osaka) | B28: =LEFT('frame fresh and panel'!B28,FIND(")",'frame fresh and panel'!B28)) -> Large (100-299) | C28: ='frame fresh and panel'!C28 -> 62 | D28: ='frame fresh and panel'!D28 -> 96 | E28: ='frame fresh and panel'!E28 -> 60 | F28: ='frame fresh and panel'!F28 -> 123 | G28: ='frame fresh and panel'!G28 -> 36 | H28: ='frame fresh and panel'!H28 -> 369 | I28: ='frame fresh and panel'!I28 -> 158 | J28: ='frame fresh and panel'!J28 -> 120 | ... O28: ='frame fresh and panel'!O28 -> 368
A29: ='frame fresh and panel'!A29 -> Kinki (excl. Osaka) | B29: =LEFT('frame fresh and panel'!B29,FIND(")",'frame fresh and panel'!B29)) -> Very Large (300 or more) | C29: ='frame fresh and panel'!C29 -> 23 | D29: ='frame fresh and panel'!D29 -> 27 | E29: ='frame fresh and panel'!E29 -> 35 | F29: ='frame fresh and panel'!F29 -> 56 | G29: ='frame fresh and panel'!G29 -> 13 | H29: ='frame fresh and panel'!H29 -> 118 | I29: ='frame fresh and panel'!I29 -> 34 | J29: ='frame fresh and panel'!J29 -> 52 | ... O29: ='frame fresh and panel'!O29 -> 106
A30: ='frame fresh and panel'!A30 -> Osaka | B30: =LEFT('frame fresh and panel'!B30,FIND(")",'frame fresh and panel'!B30)) -> Small (5-19) | C30: ='frame fresh and panel'!C30 -> 232 | D30: ='frame fresh and panel'!D30 -> 1580 | E30: ='frame fresh and panel'!E30 -> 180 | F30: ='frame fresh and panel'!F30 -> 763 | G30: ='frame fresh and panel'!G30 -> 56 | H30: ='frame fresh and panel'!H30 -> 2912 | I30: ='frame fresh and panel'!I30 -> 9973 | J30: ='frame fresh and panel'!J30 -> 3762 | ... O30: ='frame fresh and panel'!O30 -> 5554 | P30: =SUM(C30:O33) -> 73568
A31: ='frame fresh and panel'!A31 -> Osaka | B31: =LEFT('frame fresh and panel'!B31,FIND(")",'frame fresh and panel'!B31)) -> Medium (20-99) | C31: ='frame fresh and panel'!C31 -> 344 | D31: ='frame fresh and panel'!D31 -> 1891 | E31: ='frame fresh and panel'!E31 -> 258 | F31: ='frame fresh and panel'!F31 -> 981 | G31: ='frame fresh and panel'!G31 -> 109 | H31: ='frame fresh and panel'!H31 -> 4861 | I31: ='frame fresh and panel'!I31 -> 5142 | J31: ='frame fresh and panel'!J31 -> 1209 | ... O31: ='frame fresh and panel'!O31 -> 2633
A32: ='frame fresh and panel'!A32 -> Osaka | B32: =LEFT('frame fresh and panel'!B32,FIND(")",'frame fresh and panel'!B32)) -> Large (100-299) | C32: ='frame fresh and panel'!C32 -> 51 | D32: ='frame fresh and panel'!D32 -> 146 | E32: ='frame fresh and panel'!E32 -> 36 | F32: ='frame fresh and panel'!F32 -> 120 | G32: ='frame fresh and panel'!G32 -> 6 | H32: ='frame fresh and panel'!H32 -> 345 | I32: ='frame fresh and panel'!I32 -> 379 | J32: ='frame fresh and panel'!J32 -> 136 | ... O32: ='frame fresh and panel'!O32 -> 414
A33: ='frame fresh and panel'!A33 -> Osaka | B33: =LEFT('frame fresh and panel'!B33,FIND(")",'frame fresh and panel'!B33)) -> Very Large (300 or more) | C33: ='frame fresh and panel'!C33 -> 15 | D33: ='frame fresh and panel'!D33 -> 49 | E33: ='frame fresh and panel'!E33 -> 26 | F33: ='frame fresh and panel'!F33 -> 42 | G33: ='frame fresh and panel'!G33 -> 8 | H33: ='frame fresh and panel'!H33 -> 223 | I33: ='frame fresh and panel'!I33 -> 112 | J33: ='frame fresh and panel'!J33 -> 82 | ... O33: ='frame fresh and panel'!O33 -> 177
A34: ='frame fresh and panel'!A34 -> Chugoku | B34: =LEFT('frame fresh and panel'!B34,FIND(")",'frame fresh and panel'!B34)) -> Small (5-19) | C34: ='frame fresh and panel'!C34 -> 426 | D34: ='frame fresh and panel'!D34 -> 668 | E34: ='frame fresh and panel'!E34 -> 63 | F34: ='frame fresh and panel'!F34 -> 355 | G34: ='frame fresh and panel'!G34 -> 86 | H34: ='frame fresh and panel'!H34 -> 2607 | I34: ='frame fresh and panel'!I34 -> 5886 | J34: ='frame fresh and panel'!J34 -> 7629 | ... O34: ='frame fresh and panel'!O34 -> 6487 | P34: =SUM(C34:O37) -> 65036
A35: ='frame fresh and panel'!A35 -> Chugoku | B35: =LEFT('frame fresh and panel'!B35,FIND(")",'frame fresh and panel'!B35)) -> Medium (20-99) | C35: ='frame fresh and panel'!C35 -> 803 | D35: ='frame fresh and panel'!D35 -> 981 | E35: ='frame fresh and panel'!E35 -> 117 | F35: ='frame fresh and panel'!F35 -> 479 | G35: ='frame fresh and panel'!G35 -> 118 | H35: ='frame fresh and panel'!H35 -> 5605 | I35: ='frame fresh and panel'!I35 -> 2118 | J35: ='frame fresh and panel'!J35 -> 1412 | ... O35: ='frame fresh and panel'!O35 -> 1977
A36: ='frame fresh and panel'!A36 -> Chugoku | B36: =LEFT('frame fresh and panel'!B36,FIND(")",'frame fresh and panel'!B36)) -> Large (100-299) | C36: ='frame fresh and panel'!C36 -> 61 | D36: ='frame fresh and panel'!D36 -> 59 | E36: ='frame fresh and panel'!E36 -> 15 | F36: ='frame fresh and panel'!F36 -> 47 | G36: ='frame fresh and panel'!G36 -> 34 | H36: ='frame fresh and panel'!H36 -> 189 | I36: ='frame fresh and panel'!I36 -> 103 | J36: ='frame fresh and panel'!J36 -> 82 | ... O36: ='frame fresh and panel'!O36 -> 269
A37: ='frame fresh and panel'!A37 -> Chugoku | B37: =LEFT('frame fresh and panel'!B37,FIND(")",'frame fresh and panel'!B37)) -> Very Large (300 or more) | C37: ='frame fresh and panel'!C37 -> 16 | D37: ='frame fresh and panel'!D37 -> 23 | E37: ='frame fresh and panel'!E37 -> 15 | F37: ='frame fresh and panel'!F37 -> 24 | G37: ='frame fresh and panel'!G37 -> 25 | H37: ='frame fresh and panel'!H37 -> 57 | I37: ='frame fresh and panel'!I37 -> 23 | J37: ='frame fresh and panel'!J37 -> 39 | ... O37: ='frame fresh and panel'!O37 -> 81
A38: ='frame fresh and panel'!A38 -> Shikoku | B38: =LEFT('frame fresh and panel'!B38,FIND(")",'frame fresh and panel'!B38)) -> Small (5-19) | C38: ='frame fresh and panel'!C38 -> 314 | D38: ='frame fresh and panel'!D38 -> 263 | E38: ='frame fresh and panel'!E38 -> 21 | F38: ='frame fresh and panel'!F38 -> 173 | G38: ='frame fresh and panel'!G38 -> 12 | H38: ='frame fresh and panel'!H38 -> 1398 | I38: ='frame fresh and panel'!I38 -> 3504 | J38: ='frame fresh and panel'!J38 -> 4472 | ... O38: ='frame fresh and panel'!O38 -> 3877 | P38: =SUM(C38:O41) -> 37942
A39: ='frame fresh and panel'!A39 -> Shikoku | B39: =LEFT('frame fresh and panel'!B39,FIND(")",'frame fresh and panel'!B39)) -> Medium (20-99) | C39: ='frame fresh and panel'!C39 -> 666 | D39: ='frame fresh and panel'!D39 -> 363 | E39: ='frame fresh and panel'!E39 -> 51 | F39: ='frame fresh and panel'!F39 -> 250 | G39: ='frame fresh and panel'!G39 -> 23 | H39: ='frame fresh and panel'!H39 -> 3673 | I39: ='frame fresh and panel'!I39 -> 1177 | J39: ='frame fresh and panel'!J39 -> 845 | ... O39: ='frame fresh and panel'!O39 -> 932
A40: ='frame fresh and panel'!A40 -> Shikoku | B40: =LEFT('frame fresh and panel'!B40,FIND(")",'frame fresh and panel'!B40)) -> Large (100-299) | C40: ='frame fresh and panel'!C40 -> 46 | D40: ='frame fresh and panel'!D40 -> 17 | E40: ='frame fresh and panel'!E40 -> 5 | F40: ='frame fresh and panel'!F40 -> 29 | G40: ='frame fresh and panel'!G40 -> 2 | H40: ='frame fresh and panel'!H40 -> 120 | I40: ='frame fresh and panel'!I40 -> 69 | J40: ='frame fresh and panel'!J40 -> 52 | ... O40: ='frame fresh and panel'!O40 -> 125
...

Sheet Table 3 Original Survey Design
C1: =RIGHT(SUBSTITUTE('original survey design'!C1,"_"," "),LEN(SUBSTITUTE('original survey design'!C1,"_"," "))-1) -> Food | D1: =RIGHT(SUBSTITUTE('original survey design'!D1,"_"," "),LEN(SUBSTITUTE('original survey design'!D1,"_"," "))-1) -> Basic Metals and Metal Products | E1: =RIGHT(SUBSTITUTE('original survey design'!E1,"_"," "),LEN(SUBSTITUTE('original survey design'!E1,"_"," "))-1) -> Computer Electronicand Optical | F1: =RIGHT(SUBSTITUTE('original survey design'!F1,"_"," "),LEN(SUBSTITUTE('original survey design'!F1,"_"," "))-1) -> Machinery and Equipment | G1: =RIGHT(SUBSTITUTE('original survey design'!G1,"_"," "),LEN(SUBSTITUTE('original survey design'!G1,"_"," "))-1) -> Motor Vehicles | H1: =RIGHT(SUBSTITUTE('original survey design'!H1,"_"," "),LEN(SUBSTITUTE('original survey design'!H1,"_"," "))-1) -> Other Manufacturing | I1: =RIGHT(SUBSTITUTE('original survey design'!I1,"_"," "),LEN(SUBSTITUTE('original survey design'!I1,"_"," "))-1) -> Wholesale | J1: =RIGHT(SUBSTITUTE('original survey design'!J1,"_"," "),LEN(SUBSTITUTE('original survey design'!J1,"_"," "))-1) -> Retail | ... O1: =RIGHT(SUBSTITUTE('original survey design'!O1,"_"," "),LEN(SUBSTITUTE('original survey design'!O1,"_"," "))-1) -> Other Services | P1: =RIGHT(SUBSTITUTE('original survey design'!T1,"_"," "),LEN(SUBSTITUTE('original survey design'!T1,"_"," "))-1) -> Grand Total
A2: ='original survey design'!A2 -> Hokkaido | B2: =LEFT('original survey design'!B2,FIND(")",'original survey design'!B2)) -> Small (5-19) | C2: ='original survey design'!C2 -> 1 | D2: ='original survey design'!D2 -> 1 | E2: ='original survey design'!E2 -> 1 | F2: ='original survey design'!F2 -> 1 | G2: ='original survey design'!G2 -> 1 | H2: ='original survey design'!H2 -> 1 | I2: ='original survey design'!I2 -> 3 | J2: ='original survey design'!J2 -> 6 | ... O2: ='original survey design'!O2 -> 3 | P2: =SUM(C2:O5) -> 180
A3: ='original survey design'!A3 -> Hokkaido | B3: =LEFT('original survey design'!B3,FIND(")",'original survey design'!B3)) -> Medium (20-99) | C3: ='original survey design'!C3 -> 6 | D3: ='original survey design'!D3 -> 5 | E3: ='original survey design'!E3 -> 6 | F3: ='original survey design'!F3 -> 6 | G3: ='original survey design'!G3 -> 6 | H3: ='original survey design'!H3 -> 8 | I3: ='original survey design'!I3 -> 5 | J3: ='original survey design'!J3 -> 6 | ... O3: ='original survey design'!O3 -> 5
A4: ='original survey design'!A4 -> Hokkaido | B4: =LEFT('original survey design'!B4,FIND(")",'original survey design'!B4)) -> Large (100-299) | C4: ='original survey design'!C4 -> 6 | D4: ='original survey design'!D4 -> 3 | E4: ='original survey design'!E4 -> 1 | F4: ='original survey design'!F4 -> 1 | G4: ='original survey design'!G4 -> 1 | H4: ='original survey design'!H4 -> 6 | I4: ='original survey design'!I4 -> 6 | J4: ='original survey design'!J4 -> 6 | ... O4: ='original survey design'!O4 -> 6
A5: ='original survey design'!A5 -> Hokkaido | B5: =LEFT('original survey design'!B5,FIND(")",'original survey design'!B5)) -> Very Large (300 or more) | C5: ='original survey design'!C5 -> 3 | D5: ='original survey design'!D5 -> 1 | E5: ='original survey design'!E5 -> 0 | F5: ='original survey design'!F5 -> 1 | G5: ='original survey design'!G5 -> 1 | H5: ='original survey design'!H5 -> 2 | I5: ='original survey design'!I5 -> 2 | J5: ='original survey design'!J5 -> 2 | ... O5: ='original survey design'!O5 -> 2
A6: ='original survey design'!A6 -> Tohoku | B6: =LEFT('original survey design'!B6,FIND(")",'original survey design'!B6)) -> Small (5-19) | C6: ='original survey design'!C6 -> 1 | D6: ='original survey design'!D6 -> 1 | E6: ='original survey design'!E6 -> 1 | F6: ='original survey design'!F6 -> 1 | G6: ='original survey design'!G6 -> 1 | H6: ='original survey design'!H6 -> 2 | I6: ='original survey design'!I6 -> 4 | J6: ='original survey design'!J6 -> 14 | ... O6: ='original survey design'!O6 -> 4 | P6: =SUM(C6:O9) -> 180
A7: ='original survey design'!A7 -> Tohoku | B7: =LEFT('original survey design'!B7,FIND(")",'original survey design'!B7)) -> Medium (20-99) | C7: ='original survey design'!C7 -> 4 | D7: ='original survey design'!D7 -> 3 | E7: ='original survey design'!E7 -> 4 | F7: ='original survey design'!F7 -> 3 | G7: ='original survey design'!G7 -> 4 | H7: ='original survey design'!H7 -> 11 | I7: ='original survey design'!I7 -> 3 | J7: ='original survey design'!J7 -> 6 | ... O7: ='original survey design'!O7 -> 4
A8: ='original survey design'!A8 -> Tohoku | B8: =LEFT('original survey design'!B8,FIND(")",'original survey design'!B8)) -> Large (100-299) | C8: ='original survey design'!C8 -> 5 | D8: ='original survey design'!D8 -> 5 | E8: ='original survey design'!E8 -> 7 | F8: ='original survey design'!F8 -> 6 | G8: ='original survey design'!G8 -> 4 | H8: ='original survey design'!H8 -> 4 | I8: ='original survey design'!I8 -> 3 | J8: ='original survey design'!J8 -> 4 | ... O8: ='original survey design'!O8 -> 4
A9: ='original survey design'!A9 -> Tohoku | B9: =LEFT('original survey design'!B9,FIND(")",'original survey design'!B9)) -> Very Large (300 or more) | C9: ='original survey design'!C9 -> 1 | D9: ='original survey design'!D9 -> 1 | E9: ='original survey design'!E9 -> 3 | F9: ='original survey design'!F9 -> 2 | G9: ='original survey design'!G9 -> 3 | H9: ='original survey design'!H9 -> 1 | I9: ='original survey design'!I9 -> 1 | J9: ='original survey design'!J9 -> 1 | ... O9: ='original survey design'!O9 -> 1
A10: ='original survey design'!A10 -> Kanto (excl. Tokyo) | B10: =LEFT('original survey design'!B10,FIND(")",'original survey design'!B10)) -> Small (5-19) | C10: ='original survey design'!C10 -> 2 | D10: ='original survey design'!D10 -> 2 | E10: ='original survey design'!E10 -> 1 | F10: ='original survey design'!F10 -> 2 | G10: ='original survey design'!G10 -> 1 | H10: ='original survey design'!H10 -> 6 | I10: ='original survey design'!I10 -> 9 | J10: ='original survey design'!J10 -> 28 | ... O10: ='original survey design'!O10 -> 11 | P10: =SUM(C10:O13) -> 281
A11: ='original survey design'!A11 -> Kanto (excl. Tokyo) | B11: =LEFT('original survey design'!B11,FIND(")",'original survey design'!B11)) -> Medium (20-99) | C11: ='original survey design'!C11 -> 3 | D11: ='original survey design'!D11 -> 6 | E11: ='original survey design'!E11 -> 3 | F11: ='original survey design'!F11 -> 3 | G11: ='original survey design'!G11 -> 3 | H11: ='original survey design'!H11 -> 23 | I11: ='original survey design'!I11 -> 7 | J11: ='original survey design'!J11 -> 19 | ... O11: ='original survey design'!O11 -> 12
A12: ='original survey design'!A12 -> Kanto (excl. Tokyo) | B12: =LEFT('original survey design'!B12,FIND(")",'original survey design'!B12)) -> Large (100-299) | C12: ='original survey design'!C12 -> 4 | D12: ='original survey design'!D12 -> 4 | E12: ='original survey design'!E12 -> 5 | F12: ='original survey design'!F12 -> 4 | G12: ='original survey design'!G12 -> 5 | H12: ='original survey design'!H12 -> 2 | I12: ='original survey design'!I12 -> 2 | J12: ='original survey design'!J12 -> 3 | ... O12: ='original survey design'!O12 -> 3
A13: ='original survey design'!A13 -> Kanto (excl. Tokyo) | B13: =LEFT('original survey design'!B13,FIND(")",'original survey design'!B13)) -> Very Large (300 or more) | C13: ='original survey design'!C13 -> 1 | D13: ='original survey design'!D13 -> 1 | E13: ='original survey design'!E13 -> 1 | F13: ='original survey design'!F13 -> 1 | G13: ='original survey design'!G13 -> 1 | H13: ='original survey design'!H13 -> 1 | I13: ='original survey design'!I13 -> 1 | J13: ='original survey design'!J13 -> 1 | ... O13: ='original survey design'!O13 -> 1
A14: ='original survey design'!A14 -> Tokyo | B14: =LEFT('original survey design'!B14,FIND(")",'original survey design'!B14)) -> Small (5-19) | C14: ='original survey design'!C14 -> 1 | D14: ='original survey design'!D14 -> 1 | E14: ='original survey design'!E14 -> 1 | F14: ='original survey design'!F14 -> 1 | G14: ='original survey design'!G14 -> 1 | H14: ='original survey design'!H14 -> 3 | I14: ='original survey design'!I14 -> 11 | J14: ='original survey design'!J14 -> 25 | ... O14: ='original survey design'!O14 -> 7 | P14: =SUM(C14:O17) -> 217
A15: ='original survey design'!A15 -> Tokyo | B15: =LEFT('original survey design'!B15,FIND(")",'original survey design'!B15)) -> Medium (20-99) | C15: ='original survey design'!C15 -> 1 | D15: ='original survey design'!D15 -> 2 | E15: ='original survey design'!E15 -> 3 | F15: ='original survey design'!F15 -> 2 | G15: ='original survey design'!G15 -> 2 | H15: ='original survey design'!H15 -> 8 | I15: ='original survey design'!I15 -> 11 | J15: ='original survey design'!J15 -> 9 | ... O15: ='original survey design'!O15 -> 8
A16: ='original survey design'!A16 -> Tokyo | B16: =LEFT('original survey design'!B16,FIND(")",'original survey design'!B16)) -> Large (100-299) | C16: ='original survey design'!C16 -> 3 | D16: ='original survey design'!D16 -> 4 | E16: ='original survey design'!E16 -> 5 | F16: ='original survey design'!F16 -> 4 | G16: ='original survey design'!G16 -> 5 | H16: ='original survey design'!H16 -> 2 | I16: ='original survey design'!I16 -> 3 | J16: ='original survey design'!J16 -> 2 | ... O16: ='original survey design'!O16 -> 3
A17: ='original survey design'!A17 -> Tokyo | B17: =LEFT('original survey design'!B17,FIND(")",'original survey design'!B17)) -> Very Large (300 or more) | C17: ='original survey design'!C17 -> 1 | D17: ='original survey design'!D17 -> 1 | E17: ='original survey design'!E17 -> 1 | F17: ='original survey design'!F17 -> 1 | G17: ='original survey design'!G17 -> 1 | H17: ='original survey design'!H17 -> 1 | I17: ='original survey design'!I17 -> 1 | J17: ='original survey design'!J17 -> 1 | ... O17: ='original survey design'!O17 -> 1
A18: ='original survey design'!A18 -> Chubu (excl. Aichi) | B18: =LEFT('original survey design'!B18,FIND(")",'original survey design'!B18)) -> Small (5-19) | C18: ='original survey design'!C18 -> 2 | D18: ='original survey design'!D18 -> 2 | E18: ='original survey design'!E18 -> 1 | F18: ='original survey design'!F18 -> 2 | G18: ='original survey design'!G18 -> 1 | H18: ='original survey design'!H18 -> 5 | I18: ='original survey design'!I18 -> 7 | J18: ='original survey design'!J18 -> 25 | ... O18: ='original survey design'!O18 -> 7 | P18: =SUM(C18:O21) -> 210
A19: ='original survey design'!A19 -> Chubu (excl. Aichi) | B19: =LEFT('original survey design'!B19,FIND(")",'original survey design'!B19)) -> Medium (20-99) | C19: ='original survey design'!C19 -> 3 | D19: ='original survey design'!D19 -> 5 | E19: ='original survey design'!E19 -> 3 | F19: ='original survey design'!F19 -> 3 | G19: ='original survey design'!G19 -> 3 | H19: ='original survey design'!H19 -> 20 | I19: ='original survey design'!I19 -> 4 | J19: ='original survey design'!J19 -> 7 | ... O19: ='original survey design'!O19 -> 5
A20: ='original survey design'!A20 -> Chubu (excl. Aichi) | B20: =LEFT('original survey design'!B20,FIND(")",'original survey design'!B20)) -> Large (100-299) | C20: ='original survey design'!C20 -> 4 | D20: ='original survey design'!D20 -> 4 | E20: ='original survey design'!E20 -> 5 | F20: ='original survey design'!F20 -> 4 | G20: ='original survey design'!G20 -> 5 | H20: ='original survey design'!H20 -> 2 | I20: ='original survey design'!I20 -> 1 | J20: ='original survey design'!J20 -> 2 | ... O20: ='original survey design'!O20 -> 2
A21: ='original survey design'!A21 -> Chubu (excl. Aichi) | B21: =LEFT('original survey design'!B21,FIND(")",'original survey design'!B21)) -> Very Large (300 or more) | C21: ='original survey design'!C21 -> 1 | D21: ='original survey design'!D21 -> 1 | E21: ='original survey design'!E21 -> 1 | F21: ='original survey design'!F21 -> 1 | G21: ='original survey design'!G21 -> 1 | H21: ='original survey design'!H21 -> 1 | I21: ='original survey design'!I21 -> 1 | J21: ='original survey design'!J21 -> 1 | ... O21: ='original survey design'!O21 -> 1
A22: ='original survey design'!A22 -> Aichi | B22: =LEFT('original survey design'!B22,FIND(")",'original survey design'!B22)) -> Small (5-19) | C22: ='original survey design'!C22 -> 1 | D22: ='original survey design'!D22 -> 1 | E22: ='original survey design'!E22 -> 1 | F22: ='original survey design'!F22 -> 1 | G22: ='original survey design'!G22 -> 1 | H22: ='original survey design'!H22 -> 3 | I22: ='original survey design'!I22 -> 4 | J22: ='original survey design'!J22 -> 7 | ... O22: ='original survey design'!O22 -> 3 | P22: =SUM(C22:O25) -> 180
A23: ='original survey design'!A23 -> Aichi | B23: =LEFT('original survey design'!B23,FIND(")",'original survey design'!B23)) -> Medium (20-99) | C23: ='original survey design'!C23 -> 3 | D23: ='original survey design'!D23 -> 5 | E23: ='original survey design'!E23 -> 4 | F23: ='original survey design'!F23 -> 5 | G23: ='original survey design'!G23 -> 5 | H23: ='original survey design'!H23 -> 7 | I23: ='original survey design'!I23 -> 5 | J23: ='original survey design'!J23 -> 6 | ... O23: ='original survey design'!O23 -> 5
A24: ='original survey design'!A24 -> Aichi | B24: =LEFT('original survey design'!B24,FIND(")",'original survey design'!B24)) -> Large (100-299) | C24: ='original survey design'!C24 -> 6 | D24: ='original survey design'!D24 -> 6 | E24: ='original survey design'!E24 -> 5 | F24: ='original survey design'!F24 -> 6 | G24: ='original survey design'!G24 -> 8 | H24: ='original survey design'!H24 -> 4 | I24: ='original survey design'!I24 -> 4 | J24: ='original survey design'!J24 -> 4 | ... O24: ='original survey design'!O24 -> 4
A25: ='original survey design'!A25 -> Aichi | B25: =LEFT('original survey design'!B25,FIND(")",'original survey design'!B25)) -> Very Large (300 or more) | C25: ='original survey design'!C25 -> 2 | D25: ='original survey design'!D25 -> 2 | E25: ='original survey design'!E25 -> 3 | F25: ='original survey design'!F25 -> 2 | G25: ='original survey design'!G25 -> 4 | H25: ='original survey design'!H25 -> 1 | I25: ='original survey design'!I25 -> 1 | J25: ='original survey design'!J25 -> 1 | ... O25: ='original survey design'!O25 -> 1
A26: ='original survey design'!A26 -> Kinki (excl. Osaka) | B26: =LEFT('original survey design'!B26,FIND(")",'original survey design'!B26)) -> Small (5-19) | C26: ='original survey design'!C26 -> 1 | D26: ='original survey design'!D26 -> 1 | E26: ='original survey design'!E26 -> 1 | F26: ='original survey design'!F26 -> 1 | G26: ='original survey design'!G26 -> 1 | H26: ='original survey design'!H26 -> 4 | I26: ='original survey design'!I26 -> 5 | J26: ='original survey design'!J26 -> 20 | ... O26: ='original survey design'!O26 -> 5 | P26: =SUM(C26:O29) -> 180
A27: ='original survey design'!A27 -> Kinki (excl. Osaka) | B27: =LEFT('original survey design'!B27,FIND(")",'original survey design'!B27)) -> Medium (20-99) | C27: ='original survey design'!C27 -> 2 | D27: ='original survey design'!D27 -> 2 | E27: ='original survey design'!E27 -> 2 | F27: ='original survey design'!F27 -> 2 | G27: ='original survey design'!G27 -> 3 | H27: ='original survey design'!H27 -> 13 | I27: ='original survey design'!I27 -> 4 | J27: ='original survey design'!J27 -> 8 | ... O27: ='original survey design'!O27 -> 4
A28: ='original survey design'!A28 -> Kinki (excl. Osaka) | B28: =LEFT('original survey design'!B28,FIND(")",'original survey design'!B28)) -> Large (100-299) | C28: ='original survey design'!C28 -> 4 | D28: ='original survey design'!D28 -> 4 | E28: ='original survey design'!E28 -> 5 | F28: ='original survey design'!F28 -> 4 | G28: ='original survey design'!G28 -> 5 | H28: ='original survey design'!H28 -> 2 | I28: ='original survey design'!I28 -> 2 | J28: ='original survey design'!J28 -> 2 | ... O28: ='original survey design'!O28 -> 2
A29: ='original survey design'!A29 -> Kinki (excl. Osaka) | B29: =LEFT('original survey design'!B29,FIND(")",'original survey design'!B29)) -> Very Large (300 or more) | C29: ='original survey design'!C29 -> 1 | D29: ='original survey design'!D29 -> 1 | E29: ='original survey design'!E29 -> 1 | F29: ='original survey design'!F29 -> 1 | G29: ='original survey design'!G29 -> 1 | H29: ='original survey design'!H29 -> 1 | I29: ='original survey design'!I29 -> 1 | J29: ='original survey design'!J29 -> 1 | ... O29: ='original survey design'!O29 -> 1
A30: ='original survey design'!A30 -> Osaka | B30: =LEFT('original survey design'!B30,FIND(")",'original survey design'!B30)) -> Small (5-19) | C30: ='original survey design'!C30 -> 1 | D30: ='original survey design'!D30 -> 2 | E30: ='original survey design'!E30 -> 1 | F30: ='original survey design'!F30 -> 2 | G30: ='original survey design'!G30 -> 1 | H30: ='original survey design'!H30 -> 3 | I30: ='original survey design'!I30 -> 6 | J30: ='original survey design'!J30 -> 9 | ... O30: ='original survey design'!O30 -> 3 | P30: =SUM(C30:O33) -> 180
A31: ='original survey design'!A31 -> Osaka | B31: =LEFT('original survey design'!B31,FIND(")",'original survey design'!B31)) -> Medium (20-99) | C31: ='original survey design'!C31 -> 2 | D31: ='original survey design'!D31 -> 5 | E31: ='original survey design'!E31 -> 4 | F31: ='original survey design'!F31 -> 4 | G31: ='original survey design'!G31 -> 4 | H31: ='original survey design'!H31 -> 7 | I31: ='original survey design'!I31 -> 7 | J31: ='original survey design'!J31 -> 6 | ... O31: ='original survey design'!O31 -> 5
A32: ='original survey design'!A32 -> Osaka | B32: =LEFT('original survey design'!B32,FIND(")",'original survey design'!B32)) -> Large (100-299) | C32: ='original survey design'!C32 -> 5 | D32: ='original survey design'!D32 -> 5 | E32: ='original survey design'!E32 -> 7 | F32: ='original survey design'!F32 -> 6 | G32: ='original survey design'!G32 -> 2 | H32: ='original survey design'!H32 -> 3 | I32: ='original survey design'!I32 -> 3 | J32: ='original survey design'!J32 -> 4 | ... O32: ='original survey design'!O32 -> 4
A33: ='original survey design'!A33 -> Osaka | B33: =LEFT('original survey design'!B33,FIND(")",'original survey design'!B33)) -> Very Large (300 or more) | C33: ='original survey design'!C33 -> 1 | D33: ='original survey design'!D33 -> 1 | E33: ='original survey design'!E33 -> 3 | F33: ='original survey design'!F33 -> 2 | G33: ='original survey design'!G33 -> 2 | H33: ='original survey design'!H33 -> 1 | I33: ='original survey design'!I33 -> 1 | J33: ='original survey design'!J33 -> 1 | ... O33: ='original survey design'!O33 -> 1
A34: ='original survey design'!A34 -> Chugoku | B34: =LEFT('original survey design'!B34,FIND(")",'original survey design'!B34)) -> Small (5-19) | C34: ='original survey design'!C34 -> 1 | D34: ='original survey design'!D34 -> 1 | E34: ='original survey design'!E34 -> 1 | F34: ='original survey design'!F34 -> 1 | G34: ='original survey design'!G34 -> 1 | H34: ='original survey design'!H34 -> 2 | I34: ='original survey design'!I34 -> 4 | J34: ='original survey design'!J34 -> 9 | ... O34: ='original survey design'!O34 -> 4 | P34: =SUM(C34:O37) -> 180
A35: ='original survey design'!A35 -> Chugoku | B35: =LEFT('original survey design'!B35,FIND(")",'original survey design'!B35)) -> Medium (20-99) | C35: ='original survey design'!C35 -> 4 | D35: ='original survey design'!D35 -> 4 | E35: ='original survey design'!E35 -> 4 | F35: ='original survey design'!F35 -> 4 | G35: ='original survey design'!G35 -> 5 | H35: ='original survey design'!H35 -> 9 | I35: ='original survey design'!I35 -> 4 | J35: ='original survey design'!J35 -> 6 | ... O35: ='original survey design'!O35 -> 4
A36: ='original survey design'!A36 -> Chugoku | B36: =LEFT('original survey design'!B36,FIND(")",'original survey design'!B36)) -> Large (100-299) | C36: ='original survey design'!C36 -> 6 | D36: ='original survey design'!D36 -> 6 | E36: ='original survey design'!E36 -> 3 | F36: ='original survey design'!F36 -> 7 | G36: ='original survey design'!G36 -> 7 | H36: ='original survey design'!H36 -> 4 | I36: ='original survey design'!I36 -> 4 | J36: ='original survey design'!J36 -> 4 | ... O36: ='original survey design'!O36 -> 4
A37: ='original survey design'!A37 -> Chugoku | B37: =LEFT('original survey design'!B37,FIND(")",'original survey design'!B37)) -> Very Large (300 or more) | C37: ='original survey design'!C37 -> 2 | D37: ='original survey design'!D37 -> 2 | E37: ='original survey design'!E37 -> 3 | F37: ='original survey design'!F37 -> 2 | G37: ='original survey design'!G37 -> 4 | H37: ='original survey design'!H37 -> 1 | I37: ='original survey design'!I37 -> 1 | J37: ='original survey design'!J37 -> 1 | ... O37: ='original survey design'!O37 -> 1
A38: ='original survey design'!A38 -> Shikoku | B38: =LEFT('original survey design'!B38,FIND(")",'original survey design'!B38)) -> Small (5-19) | C38: ='original survey design'!C38 -> 1 | D38: ='original survey design'!D38 -> 1 | E38: ='original survey design'!E38 -> 1 | F38: ='original survey design'!F38 -> 1 | G38: ='original survey design'!G38 -> 1 | H38: ='original survey design'!H38 -> 2 | I38: ='original survey design'!I38 -> 2 | J38: ='original survey design'!J38 -> 4 | ... O38: ='original survey design'!O38 -> 2 | P38: =SUM(C38:O41) -> 180
A39: ='original survey design'!A39 -> Shikoku | B39: =LEFT('original survey design'!B39,FIND(")",'original survey design'!B39)) -> Medium (20-99) | C39: ='original survey design'!C39 -> 6 | D39: ='original survey design'!D39 -> 6 | E39: ='original survey design'!E39 -> 7 | F39: ='original survey design'!F39 -> 6 | G39: ='original survey design'!G39 -> 5 | H39: ='original survey design'!H39 -> 9 | I39: ='original survey design'!I39 -> 5 | J39: ='original survey design'!J39 -> 6 | ... O39: ='original survey design'!O39 -> 5
