Workbook

Sheet Table 1 Universe
C1: =RIGHT(SUBSTITUTE(universe!C1,"_"," "),LEN(SUBSTITUTE(universe!C1,"_"," "))-1) -> Food | D1: =RIGHT(SUBSTITUTE(universe!D1,"_"," "),LEN(SUBSTITUTE(universe!D1,"_"," "))-1) -> Other Manufacturing | E1: =RIGHT(SUBSTITUTE(universe!E1,"_"," "),LEN(SUBSTITUTE(universe!E1,"_"," "))-1) -> Retail | F1: =RIGHT(SUBSTITUTE(universe!F1,"_"," "),LEN(SUBSTITUTE(universe!F1,"_"," "))-1) -> Hotels | G1: =RIGHT(SUBSTITUTE(universe!G1,"_"," "),LEN(SUBSTITUTE(universe!G1,"_"," "))-1) -> Professional Activities | H1: =RIGHT(SUBSTITUTE(universe!H1,"_"," "),LEN(SUBSTITUTE(universe!H1,"_"," "))-1) -> Other Services | I1: =RIGHT(SUBSTITUTE(universe!I1,"_"," "),LEN(SUBSTITUTE(universe!I1,"_"," "))-1) -> Grand Total
A2: =universe!A2 -> North Netherlands | B2: =LEFT(universe!B5,FIND(")",universe!B5)) -> Small (5-19) | C2: =universe!C2 -> 1994 | D2: =universe!D2 -> 1940 | E2: =universe!E2 -> 8022 | F2: =universe!F2 -> 3413 | G2: =universe!G2 -> 1597 | H2: =universe!H2 -> 11625 | I2: =SUM(C2:H4) -> 42053
A3: =universe!A3 -> North Netherlands | B3: =LEFT(universe!B6,FIND(")",universe!B6)) -> Medium (20-99) | C3: =universe!C3 -> 527 | D3: =universe!D3 -> 896 | E3: =universe!E3 -> 3558 | F3: =universe!F3 -> 958 | G3: =universe!G3 -> 685 | H3: =universe!H3 -> 4605
A4: =universe!A4 -> North Netherlands | B4: =LEFT(universe!B7,FIND(")",universe!B7)) -> Large (100 or more) | C4: =universe!C4 -> 203 | D4: =universe!D4 -> 258 | E4: =universe!E4 -> 508 | F4: =universe!F4 -> 176 | G4: =universe!G4 -> 105 | H4: =universe!H4 -> 983
A5: =universe!A5 -> East Netherlands | B5: =LEFT(universe!B2,FIND(")",universe!B2)) -> Small (5-19) | C5: =universe!C5 -> 733 | D5: =universe!D5 -> 89 | E5: =universe!E5 -> 71 | F5: =universe!F5 -> 274 | G5: =universe!G5 -> 131 | H5: =universe!H5 -> 960 | I5: =SUM(C5:H7) -> 3198
A6: =universe!A6 -> East Netherlands | B6: =LEFT(universe!B3,FIND(")",universe!B3)) -> Medium (20-99) | C6: =universe!C6 -> 191 | D6: =universe!D6 -> 106 | E6: =universe!E6 -> 68 | F6: =universe!F6 -> 46 | G6: =universe!G6 -> 55 | H6: =universe!H6 -> 290
A7: =universe!A7 -> East Netherlands | B7: =LEFT(universe!B4,FIND(")",universe!B4)) -> Large (100 or more) | C7: =universe!C7 -> 29 | D7: =universe!D7 -> 44 | E7: =universe!E7 -> 23 | F7: =universe!F7 -> 9 | G7: =universe!G7 -> 7 | H7: =universe!H7 -> 72
A8: =universe!A8 -> West Netherlands | B8: =LEFT(universe!B11,FIND(")",universe!B11)) -> Small (5-19) | C8: =universe!C8 -> 1839 | D8: =universe!D8 -> 815 | E8: =universe!E8 -> 900 | F8: =universe!F8 -> 1316 | G8: =universe!G8 -> 673 | H8: =universe!H8 -> 4376 | I8: =SUM(C8:H10) -> 14663
A9: =universe!A9 -> West Netherlands | B9: =LEFT(universe!B12,FIND(")",universe!B12)) -> Medium (20-99) | C9: =universe!C9 -> 578 | D9: =universe!D9 -> 503 | E9: =universe!E9 -> 547 | F9: =universe!F9 -> 352 | G9: =universe!G9 -> 315 | H9: =universe!H9 -> 1649
A10: =universe!A10 -> West Netherlands | B10: =LEFT(universe!B13,FIND(")",universe!B13)) -> Large (100 or more) | C10: =universe!C10 -> 123 | D10: =universe!D10 -> 121 | E10: =universe!E10 -> 93 | F10: =universe!F10 -> 66 | G10: =universe!G10 -> 57 | H10: =universe!H10 -> 340
A11: =universe!A11 -> South Netherlands | B11: =LEFT(universe!B8,FIND(")",universe!B8)) -> Small (5-19) | C11: =universe!C11 -> 1260 | D11: =universe!D11 -> 925 | E11: =universe!E11 -> 753 | F11: =universe!F11 -> 1465 | G11: =universe!G11 -> 582 | H11: =universe!H11 -> 4050 | I11: =SUM(C11:H13) -> 13792
A12: =universe!A12 -> South Netherlands | B12: =LEFT(universe!B9,FIND(")",universe!B9)) -> Medium (20-99) | C12: =universe!C12 -> 299 | D12: =universe!D12 -> 534 | E12: =universe!E12 -> 287 | F12: =universe!F12 -> 577 | G12: =universe!G12 -> 306 | H12: =universe!H12 -> 1871
A13: =universe!A13 -> South Netherlands | B13: =LEFT(universe!B10,FIND(")",universe!B10)) -> Large (100 or more) | C13: =universe!C13 -> 64 | D13: =universe!D13 -> 141 | E13: =universe!E13 -> 48 | F13: =universe!F13 -> 101 | G13: =universe!G13 -> 61 | H13: =universe!H13 -> 468
C14: =SUM(C2:C13) -> 7840 | D14: =SUM(D2:D13) -> 6372 | E14: =SUM(E2:E13) -> 14878 | F14: =SUM(F2:F13) -> 8753 | G14: =SUM(G2:G13) -> 4574 | H14: =SUM(H2:H13) -> 31289 | I14: =SUM(I2:I13) -> 73706
A15: Source:

Sheet Table 2 Frame
C1: =RIGHT(SUBSTITUTE('frame fresh and panel'!C1,"_"," "),LEN(SUBSTITUTE('frame fresh and panel'!C1,"_"," "))-1) -> Food | D1: =RIGHT(SUBSTITUTE('frame fresh and panel'!D1,"_"," "),LEN(SUBSTITUTE('frame fresh and panel'!D1,"_"," "))-1) -> Other Manufacturing | E1: =RIGHT(SUBSTITUTE('frame fresh and panel'!E1,"_"," "),LEN(SUBSTITUTE('frame fresh and panel'!E1,"_"," "))-1) -> Retail | F1: =RIGHT(SUBSTITUTE('frame fresh and panel'!F1,"_"," "),LEN(SUBSTITUTE('frame fresh and panel'!F1,"_"," "))-1) -> Hotels | G1: =RIGHT(SUBSTITUTE('frame fresh and panel'!G1,"_"," "),LEN(SUBSTITUTE('frame fresh and panel'!G1,"_"," "))-1) -> Professional Activities | H1: =RIGHT(SUBSTITUTE('frame fresh and panel'!H1,"_"," "),LEN(SUBSTITUTE('frame fresh and panel'!H1,"_"," "))-1) -> Other Services | I1: =RIGHT(SUBSTITUTE('frame fresh and panel'!I1,"_"," "),LEN(SUBSTITUTE('frame fresh and panel'!I1,"_"," "))-1) -> Grand Total
A2: ='frame fresh and panel'!A2 -> North Netherlands | B2: =LEFT('frame fresh and panel'!B2,FIND(")",'frame fresh and panel'!B2)) -> Small (5-19) | C2: ='frame fresh and panel'!C2 -> 102 | D2: ='frame fresh and panel'!D2 -> 672 | E2: ='frame fresh and panel'!E2 -> 1547 | F2: ='frame fresh and panel'!F2 -> 116 | G2: ='frame fresh and panel'!G2 -> 528 | H2: ='frame fresh and panel'!H2 -> 3395 | I2: =SUM(C2:H4) -> 15558
A3: ='frame fresh and panel'!A3 -> North Netherlands | B3: =LEFT('frame fresh and panel'!B3,FIND(")",'frame fresh and panel'!B3)) -> Medium (20-99) | C3: ='frame fresh and panel'!C3 -> 75 | D3: ='frame fresh and panel'!D3 -> 510 | E3: ='frame fresh and panel'!E3 -> 455 | F3: ='frame fresh and panel'!F3 -> 85 | G3: ='frame fresh and panel'!G3 -> 318 | H3: ='frame fresh and panel'!H3 -> 6598
A4: ='frame fresh and panel'!A4 -> North Netherlands | B4: =LEFT('frame fresh and panel'!B4,FIND(")",'frame fresh and panel'!B4)) -> Large (100 or more) | C4: ='frame fresh and panel'!C4 -> 20 | D4: ='frame fresh and panel'!D4 -> 115 | E4: ='frame fresh and panel'!E4 -> 111 | F4: ='frame fresh and panel'!F4 -> 2 | G4: ='frame fresh and panel'!G4 -> 43 | H4: ='frame fresh and panel'!H4 -> 866
A5: ='frame fresh and panel'!A5 -> East Netherlands | B5: =LEFT('frame fresh and panel'!B5,FIND(")",'frame fresh and panel'!B5)) -> Small (5-19) | C5: ='frame fresh and panel'!C5 -> 256 | D5: ='frame fresh and panel'!D5 -> 1598 | E5: ='frame fresh and panel'!E5 -> 3333 | F5: ='frame fresh and panel'!F5 -> 176 | G5: ='frame fresh and panel'!G5 -> 1356 | H5: ='frame fresh and panel'!H5 -> 8916 | I5: =SUM(C5:H7) -> 41674
A6: ='frame fresh and panel'!A6 -> East Netherlands | B6: =LEFT('frame fresh and panel'!B6,FIND(")",'frame fresh and panel'!B6)) -> Medium (20-99) | C6: ='frame fresh and panel'!C6 -> 204 | D6: ='frame fresh and panel'!D6 -> 1314 | E6: ='frame fresh and panel'!E6 -> 1004 | F6: ='frame fresh and panel'!F6 -> 198 | G6: ='frame fresh and panel'!G6 -> 832 | H6: ='frame fresh and panel'!H6 -> 18958
A7: ='frame fresh and panel'!A7 -> East Netherlands | B7: =LEFT('frame fresh and panel'!B7,FIND(")",'frame fresh and panel'!B7)) -> Large (100 or more) | C7: ='frame fresh and panel'!C7 -> 62 | D7: ='frame fresh and panel'!D7 -> 303 | E7: ='frame fresh and panel'!E7 -> 161 | F7: ='frame fresh and panel'!F7 -> 8 | G7: ='frame fresh and panel'!G7 -> 116 | H7: ='frame fresh and panel'!H7 -> 2879
A8: ='frame fresh and panel'!A8 -> West Netherlands | B8: =LEFT('frame fresh and panel'!B8,FIND(")",'frame fresh and panel'!B8)) -> Small (5-19) | C8: ='frame fresh and panel'!C8 -> 426 | D8: ='frame fresh and panel'!D8 -> 2291 | E8: ='frame fresh and panel'!E8 -> 7398 | F8: ='frame fresh and panel'!F8 -> 485 | G8: ='frame fresh and panel'!G8 -> 3548 | H8: ='frame fresh and panel'!H8 -> 21176 | I8: =SUM(C8:H10) -> 108216
A9: ='frame fresh and panel'!A9 -> West Netherlands | B9: =LEFT('frame fresh and panel'!B9,FIND(")",'frame fresh and panel'!B9)) -> Medium (20-99) | C9: ='frame fresh and panel'!C9 -> 278 | D9: ='frame fresh and panel'!D9 -> 1755 | E9: ='frame fresh and panel'!E9 -> 2071 | F9: ='frame fresh and panel'!F9 -> 449 | G9: ='frame fresh and panel'!G9 -> 2686 | H9: ='frame fresh and panel'!H9 -> 50180
A10: ='frame fresh and panel'!A10 -> West Netherlands | B10: =LEFT('frame fresh and panel'!B10,FIND(")",'frame fresh and panel'!B10)) -> Large (100 or more) | C10: ='frame fresh and panel'!C10 -> 98 | D10: ='frame fresh and panel'!D10 -> 559 | E10: ='frame fresh and panel'!E10 -> 371 | F10: ='frame fresh and panel'!F10 -> 69 | G10: ='frame fresh and panel'!G10 -> 488 | H10: ='frame fresh and panel'!H10 -> 13888
A11: ='frame fresh and panel'!A11 -> South Netherlands | B11: =LEFT('frame fresh and panel'!B11,FIND(")",'frame fresh and panel'!B11)) -> Small (5-19) | C11: ='frame fresh and panel'!C11 -> 243 | D11: ='frame fresh and panel'!D11 -> 1702 | E11: ='frame fresh and panel'!E11 -> 3349 | F11: ='frame fresh and panel'!F11 -> 178 | G11: ='frame fresh and panel'!G11 -> 1487 | H11: ='frame fresh and panel'!H11 -> 9017 | I11: =SUM(C11:H13) -> 44733
A12: ='frame fresh and panel'!A12 -> South Netherlands | B12: =LEFT('frame fresh and panel'!B12,FIND(")",'frame fresh and panel'!B12)) -> Medium (20-99) | C12: ='frame fresh and panel'!C12 -> 187 | D12: ='frame fresh and panel'!D12 -> 1377 | E12: ='frame fresh and panel'!E12 -> 1007 | F12: ='frame fresh and panel'!F12 -> 143 | G12: ='frame fresh and panel'!G12 -> 1040 | H12: ='frame fresh and panel'!H12 -> 20762
A13: ='frame fresh and panel'!A13 -> South Netherlands | B13: =LEFT('frame fresh and panel'!B13,FIND(")",'frame fresh and panel'!B13)) -> Large (100 or more) | C13: ='frame fresh and panel'!C13 -> 60 | D13: ='frame fresh and panel'!D13 -> 360 | E13: ='frame fresh and panel'!E13 -> 197 | F13: ='frame fresh and panel'!F13 -> 7 | G13: ='frame fresh and panel'!G13 -> 148 | H13: ='frame fresh and panel'!H13 -> 3469
C14: =SUM(C2:C13) -> 2011 | D14: =SUM(D2:D13) -> 12556 | E14: =SUM(E2:E13) -> 21004 | F14: =SUM(F2:F13) -> 1916 | G14: =SUM(G2:G13) -> 12590 | H14: =SUM(H2:H13) -> 160104 | I14: =SUM(I2:I13) -> 210181
A15: Source:

Sheet Table 3 Original Survey Design
C1: =RIGHT(SUBSTITUTE('original survey design'!C1,"_"," "),LEN(SUBSTITUTE('original survey design'!C1,"_"," "))-1) -> Food | D1: =RIGHT(SUBSTITUTE('original survey design'!D1,"_"," "),LEN(SUBSTITUTE('original survey design'!D1,"_"," "))-1) -> Other Manufacturing | E1: =RIGHT(SUBSTITUTE('original survey design'!E1,"_"," "),LEN(SUBSTITUTE('original survey design'!E1,"_"," "))-1) -> Retail | F1: =RIGHT(SUBSTITUTE('original survey design'!F1,"_"," "),LEN(SUBSTITUTE('original survey design'!F1,"_"," "))-1) -> Hotels | G1: =RIGHT(SUBSTITUTE('original survey design'!G1,"_"," "),LEN(SUBSTITUTE('original survey design'!G1,"_"," "))-1) -> Professional Activities | H1: =RIGHT(SUBSTITUTE('original survey design'!H1,"_"," "),LEN(SUBSTITUTE('original survey design'!H1,"_"," "))-1) -> Other Services | I1: =RIGHT(SUBSTITUTE('original survey design'!I1,"_"," "),LEN(SUBSTITUTE('original survey design'!I1,"_"," "))-1) -> Grand Total
A2: ='original survey design'!A2 -> North Netherlands | B2: =LEFT('original survey design'!B2,FIND(")",'original survey design'!B2)) -> Small (5-19) | C2: ='original survey design'!C2 -> 16 | D2: ='original survey design'!D2 -> 13 | E2: ='original survey design'!E2 -> 29 | F2: ='original survey design'!F2 -> 22 | G2: ='original survey design'!G2 -> 8 | H2: ='original survey design'!H2 -> 20 | I2: =SUM(C2:H4) -> 190
A3: ='original survey design'!A3 -> North Netherlands | B3: =LEFT('original survey design'!B3,FIND(")",'original survey design'!B3)) -> Medium (20-99) | C3: ='original survey design'!C3 -> 9 | D3: ='original survey design'!D3 -> 8 | E3: ='original survey design'!E3 -> 9 | F3: ='original survey design'!F3 -> 11 | G3: ='original survey design'!G3 -> 5 | H3: ='original survey design'!H3 -> 8
A4: ='original survey design'!A4 -> North Netherlands | B4: =LEFT('original survey design'!B4,FIND(")",'original survey design'!B4)) -> Large (100 or more) | C4: ='original survey design'!C4 -> 7 | D4: ='original survey design'!D4 -> 6 | E4: ='original survey design'!E4 -> 5 | F4: ='original survey design'!F4 -> 4 | G4: ='original survey design'!G4 -> 5 | H4: ='original survey design'!H4 -> 5
A5: ='original survey design'!A5 -> East Netherlands | B5: =LEFT('original survey design'!B5,FIND(")",'original survey design'!B5)) -> Small (5-19) | C5: ='original survey design'!C5 -> 10 | D5: ='original survey design'!D5 -> 13 | E5: ='original survey design'!E5 -> 12 | F5: ='original survey design'!F5 -> 9 | G5: ='original survey design'!G5 -> 14 | H5: ='original survey design'!H5 -> 21 | I5: =SUM(C5:H7) -> 161
A6: ='original survey design'!A6 -> East Netherlands | B6: =LEFT('original survey design'!B6,FIND(")",'original survey design'!B6)) -> Medium (20-99) | C6: ='original survey design'!C6 -> 8 | D6: ='original survey design'!D6 -> 10 | E6: ='original survey design'!E6 -> 5 | F6: ='original survey design'!F6 -> 8 | G6: ='original survey design'!G6 -> 5 | H6: ='original survey design'!H6 -> 9
A7: ='original survey design'!A7 -> East Netherlands | B7: =LEFT('original survey design'!B7,FIND(")",'original survey design'!B7)) -> Large (100 or more) | C7: ='original survey design'!C7 -> 8 | D7: ='original survey design'!D7 -> 7 | E7: ='original survey design'!E7 -> 5 | F7: ='original survey design'!F7 -> 7 | G7: ='original survey design'!G7 -> 5 | H7: ='original survey design'!H7 -> 5
A8: ='original survey design'!A8 -> West Netherlands | B8: =LEFT('original survey design'!B8,FIND(")",'original survey design'!B8)) -> Small (5-19) | C8: ='original survey design'!C8 -> 15 | D8: ='original survey design'!D8 -> 17 | E8: ='original survey design'!E8 -> 35 | F8: ='original survey design'!F8 -> 13 | G8: ='original survey design'!G8 -> 37 | H8: ='original survey design'!H8 -> 47 | I8: =SUM(C8:H10) -> 274
A9: ='original survey design'!A9 -> West Netherlands | B9: =LEFT('original survey design'!B9,FIND(")",'original survey design'!B9)) -> Medium (20-99) | C9: ='original survey design'!C9 -> 10 | D9: ='original survey design'!D9 -> 12 | E9: ='original survey design'!E9 -> 5 | F9: ='original survey design'!F9 -> 9 | G9: ='original survey design'!G9 -> 15 | H9: ='original survey design'!H9 -> 20
A10: ='original survey design'!A10 -> West Netherlands | B10: =LEFT('original survey design'!B10,FIND(")",'original survey design'!B10)) -> Large (100 or more) | C10: ='original survey design'!C10 -> 8 | D10: ='original survey design'!D10 -> 8 | E10: ='original survey design'!E10 -> 5 | F10: ='original survey design'!F10 -> 8 | G10: ='original survey design'!G10 -> 5 | H10: ='original survey design'!H10 -> 5
A11: ='original survey design'!A11 -> South Netherlands | B11: =LEFT('original survey design'!B11,FIND(")",'original survey design'!B11)) -> Small (5-19) | C11: ='original survey design'!C11 -> 13 | D11: ='original survey design'!D11 -> 18 | E11: ='original survey design'!E11 -> 10 | F11: ='original survey design'!F11 -> 14 | G11: ='original survey design'!G11 -> 15 | H11: ='original survey design'!H11 -> 21 | I11: =SUM(C11:H13) -> 175
A12: ='original survey design'!A12 -> South Netherlands | B12: =LEFT('original survey design'!B12,FIND(")",'original survey design'!B12)) -> Medium (20-99) | C12: ='original survey design'!C12 -> 8 | D12: ='original survey design'!D12 -> 11 | E12: ='original survey design'!E12 -> 5 | F12: ='original survey design'!F12 -> 10 | G12: ='original survey design'!G12 -> 6 | H12: ='original survey design'!H12 -> 9
A13: ='original survey design'!A13 -> South Netherlands | B13: =LEFT('original survey design'!B13,FIND(")",'original survey design'!B13)) -> Large (100 or more) | C13: ='original survey design'!C13 -> 8 | D13: ='original survey design'!D13 -> 7 | E13: ='original survey design'!E13 -> 5 | F13: ='original survey design'!F13 -> 5 | G13: ='original survey design'!G13 -> 5 | H13: ='original survey design'!H13 -> 5
C14: =SUM(C2:C13) -> 120 | D14: =SUM(D2:D13) -> 130 | E14: =SUM(E2:E13) -> 130 | F14: =SUM(F2:F13) -> 120 | G14: =SUM(G2:G13) -> 125 | H14: =SUM(H2:H13) -> 175 | I14: =SUM(I2:I13) -> 800

Sheet Table 4 Response Outcomes
D2: Totals | E2: Rates relative to total contacted
B3: Overall | C3: Contacts available in frame | D3: 210181
C4: Issued | D4: 39266
C5: Contacted | D5: 39266
B6: Screening phase | C6: Eligibles | D6: 1104 | E6: =D6/D$5 -> 0.028115927
C7: Screener refusals | D7: 5783 | E7: =D7/D$5 -> 0.14727754
C8: Assumed eligibles | D8: 6887 | E8: =D8/D$5 -> 0.17539347
C9: Ineligible + out of target | D9: 4479 | E9: =D9/D$5 -> 0.11406815
C10: Unobtainables | D10: 27900 | E10: =D10/D$5 -> 0.71053838
B11: Interview phase | C11: Interview refusals | D11: 432 | E11: =D11/D$5 -> 0.011001885
B12: (only if eligible) | C12: Complete interviews | D12: 672 | E12: =D12/D$5 -> 0.017114043

Sheet Table 5 Survey Yield Rates
C2: Stratification | D2: Yield | E2: Survey response rate | F2: Frame quality
B3: Panel | C3: Fresh | D3: =VLOOKUP($C3,'yield calculation'!$C:$F,2,FALSE) -> 0.012767174 | E3: =VLOOKUP($C3,'yield calculation'!$C:$F,3,FALSE) -> 0.076790743 | F3: =VLOOKUP($C3,'yield calculation'!$C:$F,4,FALSE) -> 0.16625929
C4: Panel | D4: =VLOOKUP($C4,'yield calculation'!$C:$F,2,FALSE) -> 0.2240099 | E4: =VLOOKUP($C4,'yield calculation'!$C:$F,3,FALSE) -> 0.36713997 | F4: =VLOOKUP($C4,'yield calculation'!$C:$F,4,FALSE) -> 0.61014849
B5: Size | C5: Small (5-19) | D5: =VLOOKUP($C5,'yield calculation'!$C:$F,2,FALSE) -> 0.020455737 | E5: =VLOOKUP($C5,'yield calculation'!$C:$F,3,FALSE) -> 0.092490122 | F5: =VLOOKUP($C5,'yield calculation'!$C:$F,4,FALSE) -> 0.22116673
C6: Medium (20-99) | D6: =VLOOKUP($C6,'yield calculation'!$C:$F,2,FALSE) -> 0.016853146 | E6: =VLOOKUP($C6,'yield calculation'!$C:$F,3,FALSE) -> 0.11575408 | F6: =VLOOKUP($C6,'yield calculation'!$C:$F,4,FALSE) -> 0.1455944
C7: Large (100 or more) | D7: =VLOOKUP($C7,'yield calculation'!$C:$F,2,FALSE) -> 0.010247214 | E7: =VLOOKUP($C7,'yield calculation'!$C:$F,3,FALSE) -> 0.07920792 | F7: =VLOOKUP($C7,'yield calculation'!$C:$F,4,FALSE) -> 0.12937108
B8: Region | C8: North Netherlands | D8: =VLOOKUP($C8,'yield calculation'!$C:$F,2,FALSE) -> 0.015843997 | E8: =VLOOKUP($C8,'yield calculation'!$C:$F,3,FALSE) -> 0.13081761 | F8: =VLOOKUP($C8,'yield calculation'!$C:$F,4,FALSE) -> 0.12111517
C9: East Netherlands | D9: =VLOOKUP($C9,'yield calculation'!$C:$F,2,FALSE) -> 0.020256668 | E9: =VLOOKUP($C9,'yield calculation'!$C:$F,3,FALSE) -> 0.096291862 | F9: =VLOOKUP($C9,'yield calculation'!$C:$F,4,FALSE) -> 0.21036738
C10: West Netherlands | D10: =VLOOKUP($C10,'yield calculation'!$C:$F,2,FALSE) -> 0.013862525 | E10: =VLOOKUP($C10,'yield calculation'!$C:$F,3,FALSE) -> 0.085734613 | F10: =VLOOKUP($C10,'yield calculation'!$C:$F,4,FALSE) -> 0.16169111
C11: South Netherlands | D11: =VLOOKUP($C11,'yield calculation'!$C:$F,2,FALSE) -> 0.022526801 | E11: =VLOOKUP($C11,'yield calculation'!$C:$F,3,FALSE) -> 0.10316967 | F11: =VLOOKUP($C11,'yield calculation'!$C:$F,4,FALSE) -> 0.21834713
B12: Sector | C12: Food | D12: =VLOOKUP($C12,'yield calculation'!$C:$F,2,FALSE) -> 0.026355047 | E12: =VLOOKUP($C12,'yield calculation'!$C:$F,3,FALSE) -> 0.081790127 | F12: =VLOOKUP($C12,'yield calculation'!$C:$F,4,FALSE) -> 0.32222775
C13: Other Manufacturing | D13: =VLOOKUP($C13,'yield calculation'!$C:$F,2,FALSE) -> 0.039497308 | E13: =VLOOKUP($C13,'yield calculation'!$C:$F,3,FALSE) -> 0.15876289 | F13: =VLOOKUP($C13,'yield calculation'!$C:$F,4,FALSE) -> 0.24878174
C14: Retail | D14: =VLOOKUP($C14,'yield calculation'!$C:$F,2,FALSE) -> 0.0091954023 | E14: =VLOOKUP($C14,'yield calculation'!$C:$F,3,FALSE) -> 0.070910558 | F14: =VLOOKUP($C14,'yield calculation'!$C:$F,4,FALSE) -> 0.12967607
C15: Hotels | D15: =VLOOKUP($C15,'yield calculation'!$C:$F,2,FALSE) -> 0.020876827 | E15: =VLOOKUP($C15,'yield calculation'!$C:$F,3,FALSE) -> 0.062208399 | F15: =VLOOKUP($C15,'yield calculation'!$C:$F,4,FALSE) -> 0.33559498
C16: Professional Activities | D16: =VLOOKUP($C16,'yield calculation'!$C:$F,2,FALSE) -> 0.018753782 | E16: =VLOOKUP($C16,'yield calculation'!$C:$F,3,FALSE) -> 0.079182632 | F16: =VLOOKUP($C16,'yield calculation'!$C:$F,4,FALSE) -> 0.23684211
C17: Other Services | D17: =VLOOKUP($C17,'yield calculation'!$C:$F,2,FALSE) -> 0.01395989 | E17: =VLOOKUP($C17,'yield calculation'!$C:$F,3,FALSE) -> 0.1170973 | F17: =VLOOKUP($C17,'yield calculation'!$C:$F,4,FALSE) -> 0.11921615
B18: Overall | C18: Netherlands 2025 | D18: =VLOOKUP($C18,'yield calculation'!$C:$F,2,FALSE) -> 0.017114043 | E18: =VLOOKUP($C18,'yield calculation'!$C:$F,3,FALSE) -> 0.097575143 | F18: =VLOOKUP($C18,'yield calculation'!$C:$F,4,FALSE) -> 0.17539348
B19: Notes: the rates are calculated as defined in Section III.4

Sheet Table 6 Achieved Total Sample 
C1: =RIGHT(SUBSTITUTE('achieved fresh and panel'!C1,"_"," "),LEN(SUBSTITUTE('achieved fresh and panel'!C1,"_"," "))-1) -> Food | D1: =RIGHT(SUBSTITUTE('achieved fresh and panel'!D1,"_"," "),LEN(SUBSTITUTE('achieved fresh and panel'!D1,"_"," "))-1) -> Other Manufacturing | E1: =RIGHT(SUBSTITUTE('achieved fresh and panel'!E1,"_"," "),LEN(SUBSTITUTE('achieved fresh and panel'!E1,"_"," "))-1) -> Retail | F1: =RIGHT(SUBSTITUTE('achieved fresh and panel'!F1,"_"," "),LEN(SUBSTITUTE('achieved fresh and panel'!F1,"_"," "))-1) -> Hotels | G1: =RIGHT(SUBSTITUTE('achieved fresh and panel'!G1,"_"," "),LEN(SUBSTITUTE('achieved fresh and panel'!G1,"_"," "))-1) -> Professional Activities | H1: =RIGHT(SUBSTITUTE('achieved fresh and panel'!H1,"_"," "),LEN(SUBSTITUTE('achieved fresh and panel'!H1,"_"," "))-1) -> Other Services | I1: =RIGHT(SUBSTITUTE('achieved fresh and panel'!I1,"_"," "),LEN(SUBSTITUTE('achieved fresh and panel'!I1,"_"," "))-1) -> Grand Total
A2: ='achieved fresh and panel'!A2 -> North Netherlands | B2: Small (5-19) | C2: ='achieved fresh and panel'!C2 -> 3 | D2: ='achieved fresh and panel'!D2 -> 9 | E2: ='achieved fresh and panel'!E2 -> 14 | F2: ='achieved fresh and panel'!F2 -> 3 | G2: ='achieved fresh and panel'!G2 -> 4 | H2: ='achieved fresh and panel'!H2 -> 23 | I2: =SUM(C2:H4) -> 103
A3: ='achieved fresh and panel'!A3 -> North Netherlands | B3: Medium (20-99) | C3: ='achieved fresh and panel'!C3 -> 4 | D3: ='achieved fresh and panel'!D3 -> 8 | E3: ='achieved fresh and panel'!E3 -> 4 | F3: ='achieved fresh and panel'!F3 -> 2 | G3: ='achieved fresh and panel'!G3 -> 3 | H3: ='achieved fresh and panel'!H3 -> 13
A4: ='achieved fresh and panel'!A4 -> North Netherlands | B4: Large (100 or more) | C4: ='achieved fresh and panel'!C4 -> 2 | D4: ='achieved fresh and panel'!D4 -> 5 | E4: ='achieved fresh and panel'!E4 -> 0 | F4: ='achieved fresh and panel'!F4 -> 1 | G4: ='achieved fresh and panel'!G4 -> 1 | H4: ='achieved fresh and panel'!H4 -> 4
A5: ='achieved fresh and panel'!A5 -> East Netherlands | B5: Small (5-19) | C5: ='achieved fresh and panel'!C5 -> 2 | D5: ='achieved fresh and panel'!D5 -> 22 | E5: ='achieved fresh and panel'!E5 -> 10 | F5: ='achieved fresh and panel'!F5 -> 7 | G5: ='achieved fresh and panel'!G5 -> 16 | H5: ='achieved fresh and panel'!H5 -> 18 | I5: =SUM(C5:H7) -> 160
A6: ='achieved fresh and panel'!A6 -> East Netherlands | B6: Medium (20-99) | C6: ='achieved fresh and panel'!C6 -> 5 | D6: ='achieved fresh and panel'!D6 -> 20 | E6: ='achieved fresh and panel'!E6 -> 8 | F6: ='achieved fresh and panel'!F6 -> 4 | G6: ='achieved fresh and panel'!G6 -> 10 | H6: ='achieved fresh and panel'!H6 -> 16
A7: ='achieved fresh and panel'!A7 -> East Netherlands | B7: Large (100 or more) | C7: ='achieved fresh and panel'!C7 -> 3 | D7: ='achieved fresh and panel'!D7 -> 7 | E7: ='achieved fresh and panel'!E7 -> 1 | F7: ='achieved fresh and panel'!F7 -> 0 | G7: ='achieved fresh and panel'!G7 -> 3 | H7: ='achieved fresh and panel'!H7 -> 8
A8: ='achieved fresh and panel'!A8 -> West Netherlands | B8: Small (5-19) | C8: ='achieved fresh and panel'!C8 -> 6 | D8: ='achieved fresh and panel'!D8 -> 23 | E8: ='achieved fresh and panel'!E8 -> 22 | F8: ='achieved fresh and panel'!F8 -> 4 | G8: ='achieved fresh and panel'!G8 -> 27 | H8: ='achieved fresh and panel'!H8 -> 43 | I8: =SUM(C8:H10) -> 242
A9: ='achieved fresh and panel'!A9 -> West Netherlands | B9: Medium (20-99) | C9: ='achieved fresh and panel'!C9 -> 3 | D9: ='achieved fresh and panel'!D9 -> 15 | E9: ='achieved fresh and panel'!E9 -> 6 | F9: ='achieved fresh and panel'!F9 -> 4 | G9: ='achieved fresh and panel'!G9 -> 12 | H9: ='achieved fresh and panel'!H9 -> 46
A10: ='achieved fresh and panel'!A10 -> West Netherlands | B10: Large (100 or more) | C10: ='achieved fresh and panel'!C10 -> 4 | D10: ='achieved fresh and panel'!D10 -> 6 | E10: ='achieved fresh and panel'!E10 -> 2 | F10: ='achieved fresh and panel'!F10 -> 2 | G10: ='achieved fresh and panel'!G10 -> 6 | H10: ='achieved fresh and panel'!H10 -> 11
A11: ='achieved fresh and panel'!A11 -> South Netherlands | B11: Small (5-19) | C11: ='achieved fresh and panel'!C11 -> 1 | D11: ='achieved fresh and panel'!D11 -> 25 | E11: ='achieved fresh and panel'!E11 -> 14 | F11: ='achieved fresh and panel'!F11 -> 3 | G11: ='achieved fresh and panel'!G11 -> 18 | H11: ='achieved fresh and panel'!H11 -> 21 | I11: =SUM(C11:H13) -> 167
A12: ='achieved fresh and panel'!A12 -> South Netherlands | B12: Medium (20-99) | C12: ='achieved fresh and panel'!C12 -> 6 | D12: ='achieved fresh and panel'!D12 -> 23 | E12: ='achieved fresh and panel'!E12 -> 2 | F12: ='achieved fresh and panel'!F12 -> 3 | G12: ='achieved fresh and panel'!G12 -> 5 | H12: ='achieved fresh and panel'!H12 -> 25
A13: ='achieved fresh and panel'!A13 -> South Netherlands | B13: Large (100 or more) | C13: ='achieved fresh and panel'!C13 -> 2 | D13: ='achieved fresh and panel'!D13 -> 6 | E13: ='achieved fresh and panel'!E13 -> 4 | F13: ='achieved fresh and panel'!F13 -> 1 | G13: ='achieved fresh and panel'!G13 -> 2 | H13: ='achieved fresh and panel'!H13 -> 6
C14: =SUM(C2:C13) -> 41 | D14: =SUM(D2:D13) -> 169 | E14: =SUM(E2:E13) -> 87 | F14: =SUM(F2:F13) -> 34 | G14: =SUM(G2:G13) -> 107 | H14: =SUM(H2:H13) -> 234 | I14: =SUM(I2:I13) -> 672

Sheet Table 7 Achieved Panel Sample
C1: =RIGHT(SUBSTITUTE('achieved panel'!C1,"_"," "),LEN(SUBSTITUTE('achieved panel'!C1,"_"," "))-1) -> Food | D1: =RIGHT(SUBSTITUTE('achieved panel'!D1,"_"," "),LEN(SUBSTITUTE('achieved panel'!D1,"_"," "))-1) -> Other Manufacturing | E1: =RIGHT(SUBSTITUTE('achieved panel'!E1,"_"," "),LEN(SUBSTITUTE('achieved panel'!E1,"_"," "))-1) -> Retail | F1: =RIGHT(SUBSTITUTE('achieved panel'!F1,"_"," "),LEN(SUBSTITUTE('achieved panel'!F1,"_"," "))-1) -> Hotels | G1: =RIGHT(SUBSTITUTE('achieved panel'!G1,"_"," "),LEN(SUBSTITUTE('achieved panel'!G1,"_"," "))-1) -> Professional Activities | H1: =RIGHT(SUBSTITUTE('achieved panel'!H1,"_"," "),LEN(SUBSTITUTE('achieved panel'!H1,"_"," "))-1) -> Other Services | I1: =RIGHT(SUBSTITUTE('achieved panel'!I1,"_"," "),LEN(SUBSTITUTE('achieved panel'!I1,"_"," "))-1) -> Grand Total
A2: ='achieved panel'!A2 -> North Netherlands | B2: Small (5-19) | C2: ='achieved panel'!C2 -> 2 | D2: ='achieved panel'!D2 -> 2 | E2: ='achieved panel'!E2 -> 7 | F2: ='achieved panel'!F2 -> 1 | G2: ='achieved panel'!G2 -> 0 | H2: ='achieved panel'!H2 -> 9 | I2: =SUM(C2:H4) -> 31
A3: ='achieved panel'!A3 -> North Netherlands | B3: Medium (20-99) | C3: ='achieved panel'!C3 -> 1 | D3: ='achieved panel'!D3 -> 1 | E3: ='achieved panel'!E3 -> 3 | F3: ='achieved panel'!F3 -> 0 | G3: ='achieved panel'!G3 -> 1 | H3: ='achieved panel'!H3 -> 3
A4: ='achieved panel'!A4 -> North Netherlands | B4: Large (100 or more) | C4: ='achieved panel'!C4 -> 0 | D4: ='achieved panel'!D4 -> 1 | E4: ='achieved panel'!E4 -> 0 | F4: ='achieved panel'!F4 -> 0 | G4: ='achieved panel'!G4 -> 0 | H4: ='achieved panel'!H4 -> 0
A5: ='achieved panel'!A5 -> East Netherlands | B5: Small (5-19) | C5: ='achieved panel'!C5 -> 0 | D5: ='achieved panel'!D5 -> 15 | E5: ='achieved panel'!E5 -> 5 | F5: ='achieved panel'!F5 -> 0 | G5: ='achieved panel'!G5 -> 1 | H5: ='achieved panel'!H5 -> 7 | I5: =SUM(C5:H7) -> 46
A6: ='achieved panel'!A6 -> East Netherlands | B6: Medium (20-99) | C6: ='achieved panel'!C6 -> 1 | D6: ='achieved panel'!D6 -> 6 | E6: ='achieved panel'!E6 -> 0 | F6: ='achieved panel'!F6 -> 0 | G6: ='achieved panel'!G6 -> 1 | H6: ='achieved panel'!H6 -> 4
A7: ='achieved panel'!A7 -> East Netherlands | B7: Large (100 or more) | C7: ='achieved panel'!C7 -> 1 | D7: ='achieved panel'!D7 -> 2 | E7: ='achieved panel'!E7 -> 0 | F7: ='achieved panel'!F7 -> 0 | G7: ='achieved panel'!G7 -> 0 | H7: ='achieved panel'!H7 -> 3
A8: ='achieved panel'!A8 -> West Netherlands | B8: Small (5-19) | C8: ='achieved panel'!C8 -> 1 | D8: ='achieved panel'!D8 -> 8 | E8: ='achieved panel'!E8 -> 4 | F8: ='achieved panel'!F8 -> 0 | G8: ='achieved panel'!G8 -> 1 | H8: ='achieved panel'!H8 -> 9 | I8: =SUM(C8:H10) -> 48
A9: ='achieved panel'!A9 -> West Netherlands | B9: Medium (20-99) | C9: ='achieved panel'!C9 -> 1 | D9: ='achieved panel'!D9 -> 6 | E9: ='achieved panel'!E9 -> 0 | F9: ='achieved panel'!F9 -> 0 | G9: ='achieved panel'!G9 -> 1 | H9: ='achieved panel'!H9 -> 8
A10: ='achieved panel'!A10 -> West Netherlands | B10: Large (100 or more) | C10: ='achieved panel'!C10 -> 0 | D10: ='achieved panel'!D10 -> 2 | E10: ='achieved panel'!E10 -> 0 | F10: ='achieved panel'!F10 -> 1 | G10: ='achieved panel'!G10 -> 1 | H10: ='achieved panel'!H10 -> 5
A11: ='achieved panel'!A11 -> South Netherlands | B11: Small (5-19) | C11: ='achieved panel'!C11 -> 1 | D11: ='achieved panel'!D11 -> 16 | E11: ='achieved panel'!E11 -> 4 | F11: ='achieved panel'!F11 -> 0 | G11: ='achieved panel'!G11 -> 0 | H11: ='achieved panel'!H11 -> 7 | I11: =SUM(C11:H13) -> 56
A12: ='achieved panel'!A12 -> South Netherlands | B12: Medium (20-99) | C12: ='achieved panel'!C12 -> 0 | D12: ='achieved panel'!D12 -> 11 | E12: ='achieved panel'!E12 -> 0 | F12: ='achieved panel'!F12 -> 0 | G12: ='achieved panel'!G12 -> 0 | H12: ='achieved panel'!H12 -> 12
A13: ='achieved panel'!A13 -> South Netherlands | B13: Large (100 or more) | C13: ='achieved panel'!C13 -> 1 | D13: ='achieved panel'!D13 -> 2 | E13: ='achieved panel'!E13 -> 1 | F13: ='achieved panel'!F13 -> 0 | G13: ='achieved panel'!G13 -> 0 | H13: ='achieved panel'!H13 -> 1
C14: =SUM(C2:C13) -> 9 | D14: =SUM(D2:D13) -> 72 | E14: =SUM(E2:E13) -> 24 | F14: =SUM(F2:F13) -> 2 | G14: =SUM(G2:G13) -> 6 | H14: =SUM(H2:H13) -> 68 | I14: =SUM(I2:I13) -> 181

Sheet Table 8 Weak Universe Estimates
C1: =RIGHT(SUBSTITUTE(universe_weak!C1,"_"," "),LEN(SUBSTITUTE(universe_weak!C1,"_"," "))-1) -> Food | D1: =RIGHT(SUBSTITUTE(universe_weak!D1,"_"," "),LEN(SUBSTITUTE(universe_weak!D1,"_"," "))-1) -> Other Manufacturing | E1: =RIGHT(SUBSTITUTE(universe_weak!E1,"_"," "),LEN(SUBSTITUTE(universe_weak!E1,"_"," "))-1) -> Retail | F1: =RIGHT(SUBSTITUTE(universe_weak!F1,"_"," "),LEN(SUBSTITUTE(universe_weak!F1,"_"," "))-1) -> Hotels | G1: =RIGHT(SUBSTITUTE(universe_weak!G1,"_"," "),LEN(SUBSTITUTE(universe_weak!G1,"_"," "))-1) -> Professional Activities | H1: =RIGHT(SUBSTITUTE(universe_weak!H1,"_"," "),LEN(SUBSTITUTE(universe_weak!H1,"_"," "))-1) -> Other Services | I1: =RIGHT(SUBSTITUTE(universe_weak!I1,"_"," "),LEN(SUBSTITUTE(universe_weak!I1,"_"," "))-1) -> Grand Total
A2: =universe_weak!A2 -> North Netherlands | B2: =LEFT(universe_weak!B2,FIND(")",universe_weak!B2)) -> Small (5-19) | C2: =universe_weak!C2 -> 1364.6614 | D2: =universe_weak!D2 -> 1356.2249 | E2: =universe_weak!E2 -> 6076.6685 | F2: =universe_weak!F2 -> 2970.4736 | G2: =universe_weak!G2 -> 1322.3334 | H2: =universe_weak!H2 -> 13429.136 | I2: =SUM(C2:H4) -> 42695.763
A3: =universe_weak!A3 -> North Netherlands | B3: =LEFT(universe_weak!B3,FIND(")",universe_weak!B3)) -> Medium (20-99) | C3: =universe_weak!C3 -> 1117.9309 | D3: =universe_weak!D3 -> 919.21667 | E3: =universe_weak!E3 -> 5614.5488 | F3: =universe_weak!F3 -> 567 | G3: =universe_weak!G3 -> 853.81158 | H3: =universe_weak!H3 -> 4787.5625
A4: =universe_weak!A4 -> North Netherlands | B4: =LEFT(universe_weak!B4,FIND(")",universe_weak!B4)) -> Large (100 or more) | C4: =universe_weak!C4 -> 203 | D4: =universe_weak!D4 -> 456.8222 | E4: =universe_weak!E4 -> 0 | F4: =universe_weak!F4 -> 283.5 | G4: =universe_weak!G4 -> 177.44444 | H4: =universe_weak!H4 -> 1195.4286
A5: =universe_weak!A5 -> East Netherlands | B5: =LEFT(universe_weak!B5,FIND(")",universe_weak!B5)) -> Small (5-19) | C5: =universe_weak!C5 -> 244.33334 | D5: =universe_weak!D5 -> 2280.3555 | E5: =universe_weak!E5 -> 2154.5239 | F5: =universe_weak!F5 -> 274.75 | G5: =universe_weak!G5 -> 1191.2759 | H5: =universe_weak!H5 -> 9874.2256 | I5: =SUM(C5:H7) -> 43652.705
A6: =universe_weak!A6 -> East Netherlands | B6: =LEFT(universe_weak!B6,FIND(")",universe_weak!B6)) -> Medium (20-99) | C6: =universe_weak!C6 -> 1864.9667 | D6: =universe_weak!D6 -> 4550.7773 | E6: =universe_weak!E6 -> 1698.7854 | F6: =universe_weak!F6 -> 172 | G6: =universe_weak!G6 -> 5140.1963 | H6: =universe_weak!H6 -> 9315.71
A7: =universe_weak!A7 -> East Netherlands | B7: =LEFT(universe_weak!B7,FIND(")",universe_weak!B7)) -> Large (100 or more) | C7: =universe_weak!C7 -> 70.408112 | D7: =universe_weak!D7 -> 1938.9584 | E7: =universe_weak!E7 -> 291.25 | F7: =universe_weak!F7 -> 0 | G7: =universe_weak!G7 -> 393.33334 | H7: =universe_weak!H7 -> 2196.8557
A8: =universe_weak!A8 -> West Netherlands | B8: =LEFT(universe_weak!B8,FIND(")",universe_weak!B8)) -> Small (5-19) | C8: =universe_weak!C8 -> 1644.8441 | D8: =universe_weak!D8 -> 5827.3022 | E8: =universe_weak!E8 -> 9431.7305 | F8: =universe_weak!F8 -> 1910.4591 | G8: =universe_weak!G8 -> 4163.0854 | H8: =universe_weak!H8 -> 26578.555 | I8: =SUM(C8:H10) -> 110705.86
A9: =universe_weak!A9 -> West Netherlands | B9: =LEFT(universe_weak!B9,FIND(")",universe_weak!B9)) -> Medium (20-99) | C9: =universe_weak!C9 -> 413.67142 | D9: =universe_weak!D9 -> 3745.3716 | E9: =universe_weak!E9 -> 3176.4182 | F9: =universe_weak!F9 -> 697.66663 | G9: =universe_weak!G9 -> 4216.0264 | H9: =universe_weak!H9 -> 35858.629
A10: =universe_weak!A10 -> West Netherlands | B10: =LEFT(universe_weak!B10,FIND(")",universe_weak!B10)) -> Large (100 or more) | C10: =universe_weak!C10 -> 156.37143 | D10: =universe_weak!D10 -> 713.90125 | E10: =universe_weak!E10 -> 542.34998 | F10: =universe_weak!F10 -> 172.66666 | G10: =universe_weak!G10 -> 1683.3839 | H10: =universe_weak!H10 -> 9773.4307
A11: =universe_weak!A11 -> South Netherlands | B11: =LEFT(universe_weak!B11,FIND(")",universe_weak!B11)) -> Small (5-19) | C11: =universe_weak!C11 -> 420 | D11: =universe_weak!D11 -> 3521.156 | E11: =universe_weak!E11 -> 3096.0706 | F11: =universe_weak!F11 -> 515.3667 | G11: =universe_weak!G11 -> 1620.1697 | H11: =universe_weak!H11 -> 8807.8896 | I11: =SUM(C11:H13) -> 47707.673
A12: =universe_weak!A12 -> South Netherlands | B12: =LEFT(universe_weak!B12,FIND(")",universe_weak!B12)) -> Medium (20-99) | C12: =universe_weak!C12 -> 1160.3334 | D12: =universe_weak!D12 -> 4171.8579 | E12: =universe_weak!E12 -> 401.33334 | F12: =universe_weak!F12 -> 623.93335 | G12: =universe_weak!G12 -> 1309.9415 | H12: =universe_weak!H12 -> 16363.074
A13: =universe_weak!A13 -> South Netherlands | B13: =LEFT(universe_weak!B13,FIND(")",universe_weak!B13)) -> Large (100 or more) | C13: =universe_weak!C13 -> 42.666668 | D13: =universe_weak!D13 -> 1055.8 | E13: =universe_weak!E13 -> 1344.5792 | F13: =universe_weak!F13 -> 244.16667 | G13: =universe_weak!G13 -> 204 | H13: =universe_weak!H13 -> 2805.3345
C14: =SUM(C2:C13) -> 8703.1874 | D14: =SUM(D2:D13) -> 30537.744 | E14: =SUM(E2:E13) -> 33828.258 | F14: =SUM(F2:F13) -> 8431.9827 | G14: =SUM(G2:G13) -> 22275.002 | H14: =SUM(H2:H13) -> 140985.83 | I14: =SUM(I2:I13) -> 244762.01

Sheet Table 9 Median Universe Est
C1: =RIGHT(SUBSTITUTE(universe_median!C1,"_"," "),LEN(SUBSTITUTE(universe_median!C1,"_"," "))-1) -> Food | D1: =RIGHT(SUBSTITUTE(universe_median!D1,"_"," "),LEN(SUBSTITUTE(universe_median!D1,"_"," "))-1) -> Other Manufacturing | E1: =RIGHT(SUBSTITUTE(universe_median!E1,"_"," "),LEN(SUBSTITUTE(universe_median!E1,"_"," "))-1) -> Retail | F1: =RIGHT(SUBSTITUTE(universe_median!F1,"_"," "),LEN(SUBSTITUTE(universe_median!F1,"_"," "))-1) -> Hotels | G1: =RIGHT(SUBSTITUTE(universe_median!G1,"_"," "),LEN(SUBSTITUTE(universe_median!G1,"_"," "))-1) -> Professional Activities | H1: =RIGHT(SUBSTITUTE(universe_median!H1,"_"," "),LEN(SUBSTITUTE(universe_median!H1,"_"," "))-1) -> Other Services | I1: =RIGHT(SUBSTITUTE(universe_median!I1,"_"," "),LEN(SUBSTITUTE(universe_median!I1,"_"," "))-1) -> Grand Total
A2: =universe_median!A2 -> North Netherlands | B2: =LEFT(universe_median!B2,FIND(")",universe_median!B2)) -> Small (5-19) | C2: =universe_median!C2 -> 1364.6614 | D2: =universe_median!D2 -> 1356.2249 | E2: =universe_median!E2 -> 6076.6685 | F2: =universe_median!F2 -> 2970.4736 | G2: =universe_median!G2 -> 1322.3334 | H2: =universe_median!H2 -> 13429.136 | I2: =SUM(C2:H4) -> 42695.763
A3: =universe_median!A3 -> North Netherlands | B3: =LEFT(universe_median!B3,FIND(")",universe_median!B3)) -> Medium (20-99) | C3: =universe_median!C3 -> 1117.9309 | D3: =universe_median!D3 -> 919.21667 | E3: =universe_median!E3 -> 5614.5488 | F3: =universe_median!F3 -> 567 | G3: =universe_median!G3 -> 853.81158 | H3: =universe_median!H3 -> 4787.5625
A4: =universe_median!A4 -> North Netherlands | B4: =LEFT(universe_median!B4,FIND(")",universe_median!B4)) -> Large (100 or more) | C4: =universe_median!C4 -> 203 | D4: =universe_median!D4 -> 456.8222 | E4: =universe_median!E4 -> 0 | F4: =universe_median!F4 -> 283.5 | G4: =universe_median!G4 -> 177.44444 | H4: =universe_median!H4 -> 1195.4286
A5: =universe_median!A5 -> East Netherlands | B5: =LEFT(universe_median!B5,FIND(")",universe_median!B5)) -> Small (5-19) | C5: =universe_median!C5 -> 244.33334 | D5: =universe_median!D5 -> 2280.3555 | E5: =universe_median!E5 -> 2154.5239 | F5: =universe_median!F5 -> 274.75 | G5: =universe_median!G5 -> 1191.2759 | H5: =universe_median!H5 -> 9874.2256 | I5: =SUM(C5:H7) -> 43652.705
A6: =universe_median!A6 -> East Netherlands | B6: =LEFT(universe_median!B6,FIND(")",universe_median!B6)) -> Medium (20-99) | C6: =universe_median!C6 -> 1864.9667 | D6: =universe_median!D6 -> 4550.7773 | E6: =universe_median!E6 -> 1698.7854 | F6: =universe_median!F6 -> 172 | G6: =universe_median!G6 -> 5140.1963 | H6: =universe_median!H6 -> 9315.71
A7: =universe_median!A7 -> East Netherlands | B7: =LEFT(universe_median!B7,FIND(")",universe_median!B7)) -> Large (100 or more) | C7: =universe_median!C7 -> 70.408112 | D7: =universe_median!D7 -> 1938.9584 | E7: =universe_median!E7 -> 291.25 | F7: =universe_median!F7 -> 0 | G7: =universe_median!G7 -> 393.33334 | H7: =universe_median!H7 -> 2196.8557
A8: =universe_median!A8 -> West Netherlands | B8: =LEFT(universe_median!B8,FIND(")",universe_median!B8)) -> Small (5-19) | C8: =universe_median!C8 -> 1644.8441 | D8: =universe_median!D8 -> 5827.3022 | E8: =universe_median!E8 -> 9431.7305 | F8: =universe_median!F8 -> 1910.4591 | G8: =universe_median!G8 -> 4163.0854 | H8: =universe_median!H8 -> 26578.555 | I8: =SUM(C8:H10) -> 110705.86
A9: =universe_median!A9 -> West Netherlands | B9: =LEFT(universe_median!B9,FIND(")",universe_median!B9)) -> Medium (20-99) | C9: =universe_median!C9 -> 413.67142 | D9: =universe_median!D9 -> 3745.3716 | E9: =universe_median!E9 -> 3176.4182 | F9: =universe_median!F9 -> 697.66663 | G9: =universe_median!G9 -> 4216.0264 | H9: =universe_median!H9 -> 35858.629
A10: =universe_median!A10 -> West Netherlands | B10: =LEFT(universe_median!B10,FIND(")",universe_median!B10)) -> Large (100 or more) | C10: =universe_median!C10 -> 156.37143 | D10: =universe_median!D10 -> 713.90125 | E10: =universe_median!E10 -> 542.34998 | F10: =universe_median!F10 -> 172.66666 | G10: =universe_median!G10 -> 1683.3839 | H10: =universe_median!H10 -> 9773.4307
A11: =universe_median!A11 -> South Netherlands | B11: =LEFT(universe_median!B11,FIND(")",universe_median!B11)) -> Small (5-19) | C11: =universe_median!C11 -> 420 | D11: =universe_median!D11 -> 3521.156 | E11: =universe_median!E11 -> 3096.0706 | F11: =universe_median!F11 -> 515.3667 | G11: =universe_median!G11 -> 1620.1697 | H11: =universe_median!H11 -> 8807.8896 | I11: =SUM(C11:H13) -> 47707.673
A12: =universe_median!A12 -> South Netherlands | B12: =LEFT(universe_median!B12,FIND(")",universe_median!B12)) -> Medium (20-99) | C12: =universe_median!C12 -> 1160.3334 | D12: =universe_median!D12 -> 4171.8579 | E12: =universe_median!E12 -> 401.33334 | F12: =universe_median!F12 -> 623.93335 | G12: =universe_median!G12 -> 1309.9415 | H12: =universe_median!H12 -> 16363.074
A13: =universe_median!A13 -> South Netherlands | B13: =LEFT(universe_median!B13,FIND(")",universe_median!B13)) -> Large (100 or more) | C13: =universe_median!C13 -> 42.666668 | D13: =universe_median!D13 -> 1055.8 | E13: =universe_median!E13 -> 1344.5792 | F13: =universe_median!F13 -> 244.16667 | G13: =universe_median!G13 -> 204 | H13: =universe_median!H13 -> 2805.3345
C14: =SUM(C2:C13) -> 8703.1874 | D14: =SUM(D2:D13) -> 30537.744 | E14: =SUM(E2:E13) -> 33828.258 | F14: =SUM(F2:F13) -> 8431.9827 | G14: =SUM(G2:G13) -> 22275.002 | H14: =SUM(H2:H13) -> 140985.83 | I14: =SUM(I2:I13) -> 244762.01

Sheet Table 10 Strict Universe Est
C1: =RIGHT(SUBSTITUTE(universe_strict!C1,"_"," "),LEN(SUBSTITUTE(universe_strict!C1,"_"," "))-1) -> Food | D1: =RIGHT(SUBSTITUTE(universe_strict!D1,"_"," "),LEN(SUBSTITUTE(universe_strict!D1,"_"," "))-1) -> Other Manufacturing | E1: =RIGHT(SUBSTITUTE(universe_strict!E1,"_"," "),LEN(SUBSTITUTE(universe_strict!E1,"_"," "))-1) -> Retail | F1: =RIGHT(SUBSTITUTE(universe_strict!F1,"_"," "),LEN(SUBSTITUTE(universe_strict!F1,"_"," "))-1) -> Hotels | G1: =RIGHT(SUBSTITUTE(universe_strict!G1,"_"," "),LEN(SUBSTITUTE(universe_strict!G1,"_"," "))-1) -> Professional Activities | H1: =RIGHT(SUBSTITUTE(universe_strict!H1,"_"," "),LEN(SUBSTITUTE(universe_strict!H1,"_"," "))-1) -> Other Services | I1: =RIGHT(SUBSTITUTE(universe_strict!I1,"_"," "),LEN(SUBSTITUTE(universe_strict!I1,"_"," "))-1) -> Grand Total
A2: =universe_strict!A2 -> North Netherlands | B2: =LEFT(universe_strict!B2,FIND(")",universe_strict!B2)) -> Small (5-19) | C2: =universe_strict!C2 -> 1364.6614 | D2: =universe_strict!D2 -> 1356.2249 | E2: =universe_strict!E2 -> 6076.6685 | F2: =universe_strict!F2 -> 2970.4736 | G2: =universe_strict!G2 -> 1322.3334 | H2: =universe_strict!H2 -> 13429.136 | I2: =SUM(C2:H4) -> 42695.763
A3: =universe_strict!A3 -> North Netherlands | B3: =LEFT(universe_strict!B3,FIND(")",universe_strict!B3)) -> Medium (20-99) | C3: =universe_strict!C3 -> 1117.9309 | D3: =universe_strict!D3 -> 919.21667 | E3: =universe_strict!E3 -> 5614.5488 | F3: =universe_strict!F3 -> 567 | G3: =universe_strict!G3 -> 853.81158 | H3: =universe_strict!H3 -> 4787.5625
A4: =universe_strict!A4 -> North Netherlands | B4: =LEFT(universe_strict!B4,FIND(")",universe_strict!B4)) -> Large (100 or more) | C4: =universe_strict!C4 -> 203 | D4: =universe_strict!D4 -> 456.8222 | E4: =universe_strict!E4 -> 0 | F4: =universe_strict!F4 -> 283.5 | G4: =universe_strict!G4 -> 177.44444 | H4: =universe_strict!H4 -> 1195.4286
A5: =universe_strict!A5 -> East Netherlands | B5: =LEFT(universe_strict!B5,FIND(")",universe_strict!B5)) -> Small (5-19) | C5: =universe_strict!C5 -> 244.33334 | D5: =universe_strict!D5 -> 2280.3555 | E5: =universe_strict!E5 -> 2154.5239 | F5: =universe_strict!F5 -> 274.75 | G5: =universe_strict!G5 -> 1191.2759 | H5: =universe_strict!H5 -> 9874.2256 | I5: =SUM(C5:H7) -> 43652.705
A6: =universe_strict!A6 -> East Netherlands | B6: =LEFT(universe_strict!B6,FIND(")",universe_strict!B6)) -> Medium (20-99) | C6: =universe_strict!C6 -> 1864.9667 | D6: =universe_strict!D6 -> 4550.7773 | E6: =universe_strict!E6 -> 1698.7854 | F6: =universe_strict!F6 -> 172 | G6: =universe_strict!G6 -> 5140.1963 | H6: =universe_strict!H6 -> 9315.71
A7: =universe_strict!A7 -> East Netherlands | B7: =LEFT(universe_strict!B7,FIND(")",universe_strict!B7)) -> Large (100 or more) | C7: =universe_strict!C7 -> 70.408112 | D7: =universe_strict!D7 -> 1938.9584 | E7: =universe_strict!E7 -> 291.25 | F7: =universe_strict!F7 -> 0 | G7: =universe_strict!G7 -> 393.33334 | H7: =universe_strict!H7 -> 2196.8557
A8: =universe_strict!A8 -> West Netherlands | B8: =LEFT(universe_strict!B8,FIND(")",universe_strict!B8)) -> Small (5-19) | C8: =universe_strict!C8 -> 1644.8441 | D8: =universe_strict!D8 -> 5827.3022 | E8: =universe_strict!E8 -> 9431.7305 | F8: =universe_strict!F8 -> 1910.4591 | G8: =universe_strict!G8 -> 4163.0854 | H8: =universe_strict!H8 -> 26578.555 | I8: =SUM(C8:H10) -> 110705.86
A9: =universe_strict!A9 -> West Netherlands | B9: =LEFT(universe_strict!B9,FIND(")",universe_strict!B9)) -> Medium (20-99) | C9: =universe_strict!C9 -> 413.67142 | D9: =universe_strict!D9 -> 3745.3716 | E9: =universe_strict!E9 -> 3176.4182 | F9: =universe_strict!F9 -> 697.66663 | G9: =universe_strict!G9 -> 4216.0264 | H9: =universe_strict!H9 -> 35858.629
A10: =universe_strict!A10 -> West Netherlands | B10: =LEFT(universe_strict!B10,FIND(")",universe_strict!B10)) -> Large (100 or more) | C10: =universe_strict!C10 -> 156.37143 | D10: =universe_strict!D10 -> 713.90125 | E10: =universe_strict!E10 -> 542.34998 | F10: =universe_strict!F10 -> 172.66666 | G10: =universe_strict!G10 -> 1683.3839 | H10: =universe_strict!H10 -> 9773.4307
A11: =universe_strict!A11 -> South Netherlands | B11: =LEFT(universe_strict!B11,FIND(")",universe_strict!B11)) -> Small (5-19) | C11: =universe_strict!C11 -> 420 | D11: =universe_strict!D11 -> 3521.156 | E11: =universe_strict!E11 -> 3096.0706 | F11: =universe_strict!F11 -> 515.3667 | G11: =universe_strict!G11 -> 1620.1697 | H11: =universe_strict!H11 -> 8807.8896 | I11: =SUM(C11:H13) -> 47707.673
A12: =universe_strict!A12 -> South Netherlands | B12: =LEFT(universe_strict!B12,FIND(")",universe_strict!B12)) -> Medium (20-99) | C12: =universe_strict!C12 -> 1160.3334 | D12: =universe_strict!D12 -> 4171.8579 | E12: =universe_strict!E12 -> 401.33334 | F12: =universe_strict!F12 -> 623.93335 | G12: =universe_strict!G12 -> 1309.9415 | H12: =universe_strict!H12 -> 16363.074
A13: =universe_strict!A13 -> South Netherlands | B13: =LEFT(universe_strict!B13,FIND(")",universe_strict!B13)) -> Large (100 or more) | C13: =universe_strict!C13 -> 42.666668 | D13: =universe_strict!D13 -> 1055.8 | E13: =universe_strict!E13 -> 1344.5792 | F13: =universe_strict!F13 -> 244.16667 | G13: =universe_strict!G13 -> 204 | H13: =universe_strict!H13 -> 2805.3345
C14: =SUM(C2:C13) -> 8703.1874 | D14: =SUM(D2:D13) -> 30537.744 | E14: =SUM(E2:E13) -> 33828.258 | F14: =SUM(F2:F13) -> 8431.9827 | G14: =SUM(G2:G13) -> 22275.002 | H14: =SUM(H2:H13) -> 140985.83 | I14: =SUM(I2:I13) -> 244762.01

Sheet Table 11 Item Response Rates
C2: Screener/Interview | D2: d2 | E2: l1 | F2: n2a | G2: all TFP variables
B3: Panel | C3: Fresh | D3: =VLOOKUP($C3,'item response'!$C:$G,2,FALSE) -> 0.99592668 | E3: =VLOOKUP($C3,'item response'!$C:$G,3,FALSE) -> 1 | F3: =VLOOKUP($C3,'item response'!$C:$G,4,FALSE) -> 0.96130347 | G3: =IF(VLOOKUP($C3,'item response'!$C:$G,5,FALSE)="",NA(),VLOOKUP($C3,'item response'!$C:$G,5,FALSE)) -> 0.85483873
C4: Panel | D4: =VLOOKUP($C4,'item response'!$C:$G,2,FALSE) -> 0.97790056 | E4: =VLOOKUP($C4,'item response'!$C:$G,3,FALSE) -> 1 | F4: =VLOOKUP($C4,'item response'!$C:$G,4,FALSE) -> 0.94475138 | G4: =IF(VLOOKUP($C4,'item response'!$C:$G,5,FALSE)="",NA(),VLOOKUP($C4,'item response'!$C:$G,5,FALSE)) -> 0.85897434
B5: Size | C5: Small (5-19) | D5: =VLOOKUP($C5,'item response'!$C:$G,2,FALSE) -> 0.98816568 | E5: =VLOOKUP($C5,'item response'!$C:$G,3,FALSE) -> 1 | F5: =VLOOKUP($C5,'item response'!$C:$G,4,FALSE) -> 0.93786985 | G5: =IF(VLOOKUP($C5,'item response'!$C:$G,5,FALSE)="",NA(),VLOOKUP($C5,'item response'!$C:$G,5,FALSE)) -> 0.8214286
C6: Medium (20-99) | D6: =VLOOKUP($C6,'item response'!$C:$G,2,FALSE) -> 0.99190283 | E6: =VLOOKUP($C6,'item response'!$C:$G,3,FALSE) -> 1 | F6: =VLOOKUP($C6,'item response'!$C:$G,4,FALSE) -> 0.98785424 | G6: =IF(VLOOKUP($C6,'item response'!$C:$G,5,FALSE)="",NA(),VLOOKUP($C6,'item response'!$C:$G,5,FALSE)) -> 0.86904764
C7: Large (100 or more) | D7: =VLOOKUP($C7,'item response'!$C:$G,2,FALSE) -> 1 | E7: =VLOOKUP($C7,'item response'!$C:$G,3,FALSE) -> 1 | F7: =VLOOKUP($C7,'item response'!$C:$G,4,FALSE) -> 0.94252872 | G7: =IF(VLOOKUP($C7,'item response'!$C:$G,5,FALSE)="",NA(),VLOOKUP($C7,'item response'!$C:$G,5,FALSE)) -> 0.91176468
B8: Region | C8: North Netherlands | D8: =VLOOKUP($C8,'item response'!$C:$G,2,FALSE) -> 0.97087377 | E8: =VLOOKUP($C8,'item response'!$C:$G,3,FALSE) -> 1 | F8: =VLOOKUP($C8,'item response'!$C:$G,4,FALSE) -> 0.93203884 | G8: =IF(VLOOKUP($C8,'item response'!$C:$G,5,FALSE)="",NA(),VLOOKUP($C8,'item response'!$C:$G,5,FALSE)) -> 0.93548387
C9: East Netherlands | D9: =VLOOKUP($C9,'item response'!$C:$G,2,FALSE) -> 0.99374998 | E9: =VLOOKUP($C9,'item response'!$C:$G,3,FALSE) -> 1 | F9: =VLOOKUP($C9,'item response'!$C:$G,4,FALSE) -> 0.96875 | G9: =IF(VLOOKUP($C9,'item response'!$C:$G,5,FALSE)="",NA(),VLOOKUP($C9,'item response'!$C:$G,5,FALSE)) -> 0.8214286
C10: West Netherlands | D10: =VLOOKUP($C10,'item response'!$C:$G,2,FALSE) -> 1 | E10: =VLOOKUP($C10,'item response'!$C:$G,3,FALSE) -> 1 | F10: =VLOOKUP($C10,'item response'!$C:$G,4,FALSE) -> 0.95867771 | G10: =IF(VLOOKUP($C10,'item response'!$C:$G,5,FALSE)="",NA(),VLOOKUP($C10,'item response'!$C:$G,5,FALSE)) -> 0.85454547
C11: South Netherlands | D11: =VLOOKUP($C11,'item response'!$C:$G,2,FALSE) -> 0.98802394 | E11: =VLOOKUP($C11,'item response'!$C:$G,3,FALSE) -> 1 | F11: =VLOOKUP($C11,'item response'!$C:$G,4,FALSE) -> 0.95808381 | G11: =IF(VLOOKUP($C11,'item response'!$C:$G,5,FALSE)="",NA(),VLOOKUP($C11,'item response'!$C:$G,5,FALSE)) -> 0.85000002
B12: Sector | C12: Food | D12: =VLOOKUP($C12,'item response'!$C:$G,2,FALSE) -> 1 | E12: =VLOOKUP($C12,'item response'!$C:$G,3,FALSE) -> 1 | F12: =VLOOKUP($C12,'item response'!$C:$G,4,FALSE) -> 0.97560978 | G12: =IF(VLOOKUP($C12,'item response'!$C:$G,5,FALSE)="",NA(),VLOOKUP($C12,'item response'!$C:$G,5,FALSE)) -> 0.92682928
C13: Other Manufacturing | D13: =VLOOKUP($C13,'item response'!$C:$G,2,FALSE) -> 0.99408287 | E13: =VLOOKUP($C13,'item response'!$C:$G,3,FALSE) -> 1 | F13: =VLOOKUP($C13,'item response'!$C:$G,4,FALSE) -> 0.94674557 | G13: =IF(VLOOKUP($C13,'item response'!$C:$G,5,FALSE)="",NA(),VLOOKUP($C13,'item response'!$C:$G,5,FALSE)) -> 0.8427673
C14: Retail | D14: =VLOOKUP($C14,'item response'!$C:$G,2,FALSE) -> 0.98850572 | E14: =VLOOKUP($C14,'item response'!$C:$G,3,FALSE) -> 1 | F14: =VLOOKUP($C14,'item response'!$C:$G,4,FALSE) -> 0.94252872 | G14: N/A
C15: Hotels | D15: =VLOOKUP($C15,'item response'!$C:$G,2,FALSE) -> 0.94117647 | E15: =VLOOKUP($C15,'item response'!$C:$G,3,FALSE) -> 1 | F15: =VLOOKUP($C15,'item response'!$C:$G,4,FALSE) -> 0.94117647 | G15: N/A
C16: Professional Activities | D16: =VLOOKUP($C16,'item response'!$C:$G,2,FALSE) -> 1 | E16: =VLOOKUP($C16,'item response'!$C:$G,3,FALSE) -> 1 | F16: =VLOOKUP($C16,'item response'!$C:$G,4,FALSE) -> 0.97196263 | G16: N/A
C17: Other Services | D17: =VLOOKUP($C17,'item response'!$C:$G,2,FALSE) -> 0.99145299 | E17: =VLOOKUP($C17,'item response'!$C:$G,3,FALSE) -> 1 | F17: =VLOOKUP($C17,'item response'!$C:$G,4,FALSE) -> 0.96153843 | G17: =IF(VLOOKUP($C17,'item response'!$C:$G,5,FALSE)=0,"N/A",VLOOKUP($C17,'item response'!$C:$G,5,FALSE)) -> 0.5
B18: Overall | C18: Netherlands 2025 | D18: =VLOOKUP($C18,'item response'!$C:$G,2,FALSE) -> 0.9910714 | E18: =VLOOKUP($C18,'item response'!$C:$G,3,FALSE) -> 1 | F18: =VLOOKUP($C18,'item response'!$C:$G,4,FALSE) -> 0.95684522 | G18: =VLOOKUP($C18,'item response'!$C:$G,5,FALSE) -> 0.85643566
B19: Notes: the rates are calculated as follows. The number of responses with informative content in the respective variable (or combination of variables in the case of TFP) is divided by the same number plus the number of responses that are "don't know" (code -9) or refusal (code -8).

Sheet universe
A1: stratificationregionname | B1: stratificationsizename | C1: _Food | D1: _Other_Manufacturing | E1: _Retail | F1: _Hotels | G1: _Professional_Activities | H1: _Other_Services | I1: _Grand_Total
A2: North Netherlands | B2: Small (5-19) | C2: 1994 | D2: 1940 | E2: 8022 | F2: 3413 | G2: 1597 | H2: 11625
A3: North Netherlands | B3: Medium (20-99) | C3: 527 | D3: 896 | E3: 3558 | F3: 958 | G3: 685 | H3: 4605
A4: North Netherlands | B4: Large (100 or more) | C4: 203 | D4: 258 | E4: 508 | F4: 176 | G4: 105 | H4: 983
A5: East Netherlands | B5: Small (5-19) | C5: 733 | D5: 89 | E5: 71 | F5: 274 | G5: 131 | H5: 960
A6: East Netherlands | B6: Medium (20-99) | C6: 191 | D6: 106 | E6: 68 | F6: 46 | G6: 55 | H6: 290
A7: East Netherlands | B7: Large (100 or more) | C7: 29 | D7: 44 | E7: 23 | F7: 9 | G7: 7 | H7: 72
A8: West Netherlands | B8: Small (5-19) | C8: 1839 | D8: 815 | E8: 900 | F8: 1316 | G8: 673 | H8: 4376
A9: West Netherlands | B9: Medium (20-99) | C9: 578 | D9: 503 | E9: 547 | F9: 352 | G9: 315 | H9: 1649
A10: West Netherlands | B10: Large (100 or more) | C10: 123 | D10: 121 | E10: 93 | F10: 66 | G10: 57 | H10: 340
A11: South Netherlands | B11: Small (5-19) | C11: 1260 | D11: 925 | E11: 753 | F11: 1465 | G11: 582 | H11: 4050
A12: South Netherlands | B12: Medium (20-99) | C12: 299 | D12: 534 | E12: 287 | F12: 577 | G12: 306 | H12: 1871
A13: South Netherlands | B13: Large (100 or more) | C13: 64 | D13: 141 | E13: 48 | F13: 101 | G13: 61 | H13: 468

Sheet frame fresh and panel
A1: stratificationregionname | B1: stratificationsizename | C1: _Food | D1: _Other_Manufacturing | E1: _Retail | F1: _Hotels | G1: _Professional_Activities | H1: _Other_Services | I1: _Grand_Total
A2: North Netherlands | B2: Small (5-19) | C2: 102 | D2: 672 | E2: 1547 | F2: 116 | G2: 528 | H2: 3395
A3: North Netherlands | B3: Medium (20-99) | C3: 75 | D3: 510 | E3: 455 | F3: 85 | G3: 318 | H3: 6598
A4: North Netherlands | B4: Large (100 or more) | C4: 20 | D4: 115 | E4: 111 | F4: 2 | G4: 43 | H4: 866
A5: East Netherlands | B5: Small (5-19) | C5: 256 | D5: 1598 | E5: 3333 | F5: 176 | G5: 1356 | H5: 8916
A6: East Netherlands | B6: Medium (20-99) | C6: 204 | D6: 1314 | E6: 1004 | F6: 198 | G6: 832 | H6: 18958
A7: East Netherlands | B7: Large (100 or more) | C7: 62 | D7: 303 | E7: 161 | F7: 8 | G7: 116 | H7: 2879
A8: West Netherlands | B8: Small (5-19) | C8: 426 | D8: 2291 | E8: 7398 | F8: 485 | G8: 3548 | H8: 21176
A9: West Netherlands | B9: Medium (20-99) | C9: 278 | D9: 1755 | E9: 2071 | F9: 449 | G9: 2686 | H9: 50180
A10: West Netherlands | B10: Large (100 or more) | C10: 98 | D10: 559 | E10: 371 | F10: 69 | G10: 488 | H10: 13888
A11: South Netherlands | B11: Small (5-19) | C11: 243 | D11: 1702 | E11: 3349 | F11: 178 | G11: 1487 | H11: 9017
A12: South Netherlands | B12: Medium (20-99) | C12: 187 | D12: 1377 | E12: 1007 | F12: 143 | G12: 1040 | H12: 20762
A13: South Netherlands | B13: Large (100 or more) | C13: 60 | D13: 360 | E13: 197 | F13: 7 | G13: 148 | H13: 3469

Sheet original survey design
A1: stratificationregionname | B1: stratificationsizename | C1: _Food | D1: _Other_Manufacturing | E1: _Retail | F1: _Hotels | G1: _Professional_Activities | H1: _Other_Services | I1: _Grand_Total
A2: North Netherlands | B2: Small (5-19) | C2: 16 | D2: 13 | E2: 29 | F2: 22 | G2: 8 | H2: 20
A3: North Netherlands | B3: Medium (20-99) | C3: 9 | D3: 8 | E3: 9 | F3: 11 | G3: 5 | H3: 8
A4: North Netherlands | B4: Large (100 or more) | C4: 7 | D4: 6 | E4: 5 | F4: 4 | G4: 5 | H4: 5
A5: East Netherlands | B5: Small (5-19) | C5: 10 | D5: 13 | E5: 12 | F5: 9 | G5: 14 | H5: 21
A6: East Netherlands | B6: Medium (20-99) | C6: 8 | D6: 10 | E6: 5 | F6: 8 | G6: 5 | H6: 9
A7: East Netherlands | B7: Large (100 or more) | C7: 8 | D7: 7 | E7: 5 | F7: 7 | G7: 5 | H7: 5
A8: West Netherlands | B8: Small (5-19) | C8: 15 | D8: 17 | E8: 35 | F8: 13 | G8: 37 | H8: 47
A9: West Netherlands | B9: Medium (20-99) | C9: 10 | D9: 12 | E9: 5 | F9: 9 | G9: 15 | H9: 20
A10: West Netherlands | B10: Large (100 or more) | C10: 8 | D10: 8 | E10: 5 | F10: 8 | G10: 5 | H10: 5
A11: South Netherlands | B11: Small (5-19) | C11: 13 | D11: 18 | E11: 10 | F11: 14 | G11: 15 | H11: 21
A12: South Netherlands | B12: Medium (20-99) | C12: 8 | D12: 11 | E12: 5 | F12: 10 | G12: 6 | H12: 9
A13: South Netherlands | B13: Large (100 or more) | C13: 8 | D13: 7 | E13: 5 | F13: 5 | G13: 5 | H13: 5

Sheet yield calculation
A1: Survey | B1: Cell | C1: Name | D1: Yield | E1: Survey_response_rate | F1: Frame_quality
A2: Netherlands 2025 | B2: Fresh/Panel | C2: Fresh | D2: 0.012767174 | E2: 0.076790743 | F2: 0.16625929
A3: Netherlands 2025 | B3: Fresh/Panel | C3: Panel | D3: 0.2240099 | E3: 0.36713997 | F3: 0.61014849
A4: Netherlands 2025 | B4: Size | C4: Small (5-19) | D4: 0.020455737 | E4: 0.092490122 | F4: 0.22116673
A5: Netherlands 2025 | B5: Size | C5: Medium (20-99) | D5: 0.016853146 | E5: 0.11575408 | F5: 0.1455944
A6: Netherlands 2025 | B6: Size | C6: Large (100 or more) | D6: 0.010247214 | E6: 0.07920792 | F6: 0.12937108
A7: Netherlands 2025 | B7: Region | C7: North Netherlands | D7: 0.015843997 | E7: 0.13081761 | F7: 0.12111517
A8: Netherlands 2025 | B8: Region | C8: East Netherlands | D8: 0.020256668 | E8: 0.096291862 | F8: 0.21036738
A9: Netherlands 2025 | B9: Region | C9: West Netherlands | D9: 0.013862525 | E9: 0.085734613 | F9: 0.16169111
A10: Netherlands 2025 | B10: Region | C10: South Netherlands | D10: 0.022526801 | E10: 0.10316967 | F10: 0.21834713
A11: Netherlands 2025 | B11: Sector | C11: Food | D11: 0.026355047 | E11: 0.081790127 | F11: 0.32222775
A12: Netherlands 2025 | B12: Sector | C12: Other Manufacturing | D12: 0.039497308 | E12: 0.15876289 | F12: 0.24878174
A13: Netherlands 2025 | B13: Sector | C13: Retail | D13: 0.0091954023 | E13: 0.070910558 | F13: 0.12967607
... A17: Netherlands 2025 | B17: Netherlands 2025 | C17: Netherlands 2025 | D17: 0.017114043 | E17: 0.097575143 | F17: 0.17539348
A18: Netherlands 2025 | B18: Size
A19: Netherlands 2025 | B19: Region
A20: Netherlands 2025 | B20: Sector
A21: Netherlands 2025 | B21: Fresh/Panel

Sheet achieved fresh and panel
A1: a3ax | B1: sizex | C1: _Food | D1: _Other_Manufacturing | E1: _Retail | F1: _Hotels | G1: _Professional_Activities | H1: _Other_Services | I1: _Grand_Total
A2: North Netherlands | B2: Small (5-19) | C2: 3 | D2: 9 | E2: 14 | F2: 3 | G2: 4 | H2: 23
A3: North Netherlands | B3: Medium (20-99) | C3: 4 | D3: 8 | E3: 4 | F3: 2 | G3: 3 | H3: 13
A4: North Netherlands | B4: Large (100 or more) | C4: 2 | D4: 5 | F4: 1 | G4: 1 | H4: 4
A5: East Netherlands | B5: Small (5-19) | C5: 2 | D5: 22 | E5: 10 | F5: 7 | G5: 16 | H5: 18
A6: East Netherlands | B6: Medium (20-99) | C6: 5 | D6: 20 | E6: 8 | F6: 4 | G6: 10 | H6: 16
A7: East Netherlands | B7: Large (100 or more) | C7: 3 | D7: 7 | E7: 1 | G7: 3 | H7: 8
A8: West Netherlands | B8: Small (5-19) | C8: 6 | D8: 23 | E8: 22 | F8: 4 | G8: 27 | H8: 43
A9: West Netherlands | B9: Medium (20-99) | C9: 3 | D9: 15 | E9: 6 | F9: 4 | G9: 12 | H9: 46
A10: West Netherlands | B10: Large (100 or more) | C10: 4 | D10: 6 | E10: 2 | F10: 2 | G10: 6 | H10: 11
A11: South Netherlands | B11: Small (5-19) | C11: 1 | D11: 25 | E11: 14 | F11: 3 | G11: 18 | H11: 21
A12: South Netherlands | B12: Medium (20-99) | C12: 6 | D12: 23 | E12: 2 | F12: 3 | G12: 5 | H12: 25
A13: South Netherlands | B13: Large (100 or more) | C13: 2 | D13: 6 | E13: 4 | F13: 1 | G13: 2 | H13: 6

Sheet achieved panel
A1: a3ax | B1: sizex | C1: _Food | D1: _Other_Manufacturing | E1: _Retail | F1: _Hotels | G1: _Professional_Activities | H1: _Other_Services | I1: _Grand_Total
A2: North Netherlands | B2: Small (5-19) | C2: 2 | D2: 2 | E2: 7 | F2: 1 | H2: 9
A3: North Netherlands | B3: Medium (20-99) | C3: 1 | D3: 1 | E3: 3 | G3: 1 | H3: 3
A4: North Netherlands | B4: Large (100 or more) | D4: 1
A5: East Netherlands | B5: Small (5-19) | D5: 15 | E5: 5 | G5: 1 | H5: 7
A6: East Netherlands | B6: Medium (20-99) | C6: 1 | D6: 6 | G6: 1 | H6: 4
A7: East Netherlands | B7: Large (100 or more) | C7: 1 | D7: 2 | H7: 3
A8: West Netherlands | B8: Small (5-19) | C8: 1 | D8: 8 | E8: 4 | G8: 1 | H8: 9
A9: West Netherlands | B9: Medium (20-99) | C9: 1 | D9: 6 | G9: 1 | H9: 8
A10: West Netherlands | B10: Large (100 or more) | D10: 2 | F10: 1 | G10: 1 | H10: 5
A11: South Netherlands | B11: Small (5-19) | C11: 1 | D11: 16 | E11: 4 | H11: 7
A12: South Netherlands | B12: Medium (20-99) | D12: 11 | H12: 12
A13: South Netherlands | B13: Large (100 or more) | C13: 1 | D13: 2 | E13: 1 | H13: 1

Sheet universe_strict
A1: a3ax | B1: sizex | C1: _Food | D1: _Other_Manufacturing | E1: _Retail | F1: _Hotels | G1: _Professional_Activities | H1: _Other_Services | I1: _Grand_Total
A2: North Netherlands | B2: Small (5-19) | C2: 1364.6614 | D2: 1356.2249 | E2: 6076.6685 | F2: 2970.4736 | G2: 1322.3334 | H2: 13429.136
A3: North Netherlands | B3: Medium (20-99) | C3: 1117.9309 | D3: 919.21667 | E3: 5614.5488 | F3: 567 | G3: 853.81158 | H3: 4787.5625
A4: North Netherlands | B4: Large (100 or more) | C4: 203 | D4: 456.8222 | F4: 283.5 | G4: 177.44444 | H4: 1195.4286
A5: East Netherlands | B5: Small (5-19) | C5: 244.33334 | D5: 2280.3555 | E5: 2154.5239 | F5: 274.75 | G5: 1191.2759 | H5: 9874.2256
A6: East Netherlands | B6: Medium (20-99) | C6: 1864.9667 | D6: 4550.7773 | E6: 1698.7854 | F6: 172 | G6: 5140.1963 | H6: 9315.71
A7: East Netherlands | B7: Large (100 or more) | C7: 70.408112 | D7: 1938.9584 | E7: 291.25 | G7: 393.33334 | H7: 2196.8557
A8: West Netherlands | B8: Small (5-19) | C8: 1644.8441 | D8: 5827.3022 | E8: 9431.7305 | F8: 1910.4591 | G8: 4163.0854 | H8: 26578.555
A9: West Netherlands | B9: Medium (20-99) | C9: 413.67142 | D9: 3745.3716 | E9: 3176.4182 | F9: 697.66663 | G9: 4216.0264 | H9: 35858.629
A10: West Netherlands | B10: Large (100 or more) | C10: 156.37143 | D10: 713.90125 | E10: 542.34998 | F10: 172.66666 | G10: 1683.3839 | H10: 9773.4307
A11: South Netherlands | B11: Small (5-19) | C11: 420 | D11: 3521.156 | E11: 3096.0706 | F11: 515.3667 | G11: 1620.1697 | H11: 8807.8896
A12: South Netherlands | B12: Medium (20-99) | C12: 1160.3334 | D12: 4171.8579 | E12: 401.33334 | F12: 623.93335 | G12: 1309.9415 | H12: 16363.074
A13: South Netherlands | B13: Large (100 or more) | C13: 42.666668 | D13: 1055.8 | E13: 1344.5792 | F13: 244.16667 | G13: 204 | H13: 2805.3345

Sheet universe_median
A1: a3ax | B1: sizex | C1: _Food | D1: _Other_Manufacturing | E1: _Retail | F1: _Hotels | G1: _Professional_Activities | H1: _Other_Services | I1: _Grand_Total
A2: North Netherlands | B2: Small (5-19) | C2: 1364.6614 | D2: 1356.2249 | E2: 6076.6685 | F2: 2970.4736 | G2: 1322.3334 | H2: 13429.136
A3: North Netherlands | B3: Medium (20-99) | C3: 1117.9309 | D3: 919.21667 | E3: 5614.5488 | F3: 567 | G3: 853.81158 | H3: 4787.5625
A4: North Netherlands | B4: Large (100 or more) | C4: 203 | D4: 456.8222 | F4: 283.5 | G4: 177.44444 | H4: 1195.4286
A5: East Netherlands | B5: Small (5-19) | C5: 244.33334 | D5: 2280.3555 | E5: 2154.5239 | F5: 274.75 | G5: 1191.2759 | H5: 9874.2256
A6: East Netherlands | B6: Medium (20-99) | C6: 1864.9667 | D6: 4550.7773 | E6: 1698.7854 | F6: 172 | G6: 5140.1963 | H6: 9315.71
A7: East Netherlands | B7: Large (100 or more) | C7: 70.408112 | D7: 1938.9584 | E7: 291.25 | G7: 393.33334 | H7: 2196.8557
A8: West Netherlands | B8: Small (5-19) | C8: 1644.8441 | D8: 5827.3022 | E8: 9431.7305 | F8: 1910.4591 | G8: 4163.0854 | H8: 26578.555
A9: West Netherlands | B9: Medium (20-99) | C9: 413.67142 | D9: 3745.3716 | E9: 3176.4182 | F9: 697.66663 | G9: 4216.0264 | H9: 35858.629
A10: West Netherlands | B10: Large (100 or more) | C10: 156.37143 | D10: 713.90125 | E10: 542.34998 | F10: 172.66666 | G10: 1683.3839 | H10: 9773.4307
A11: South Netherlands | B11: Small (5-19) | C11: 420 | D11: 3521.156 | E11: 3096.0706 | F11: 515.3667 | G11: 1620.1697 | H11: 8807.8896
A12: South Netherlands | B12: Medium (20-99) | C12: 1160.3334 | D12: 4171.8579 | E12: 401.33334 | F12: 623.93335 | G12: 1309.9415 | H12: 16363.074
A13: South Netherlands | B13: Large (100 or more) | C13: 42.666668 | D13: 1055.8 | E13: 1344.5792 | F13: 244.16667 | G13: 204 | H13: 2805.3345

Sheet universe_weak
A1: a3ax | B1: sizex | C1: _Food | D1: _Other_Manufacturing | E1: _Retail | F1: _Hotels | G1: _Professional_Activities | H1: _Other_Services | I1: _Grand_Total
A2: North Netherlands | B2: Small (5-19) | C2: 1364.6614 | D2: 1356.2249 | E2: 6076.6685 | F2: 2970.4736 | G2: 1322.3334 | H2: 13429.136
A3: North Netherlands | B3: Medium (20-99) | C3: 1117.9309 | D3: 919.21667 | E3: 5614.5488 | F3: 567 | G3: 853.81158 | H3: 4787.5625
A4: North Netherlands | B4: Large (100 or more) | C4: 203 | D4: 456.8222 | F4: 283.5 | G4: 177.44444 | H4: 1195.4286
A5: East Netherlands | B5: Small (5-19) | C5: 244.33334 | D5: 2280.3555 | E5: 2154.5239 | F5: 274.75 | G5: 1191.2759 | H5: 9874.2256
A6: East Netherlands | B6: Medium (20-99) | C6: 1864.9667 | D6: 4550.7773 | E6: 1698.7854 | F6: 172 | G6: 5140.1963 | H6: 9315.71
A7: East Netherlands | B7: Large (100 or more) | C7: 70.408112 | D7: 1938.9584 | E7: 291.25 | G7: 393.33334 | H7: 2196.8557
A8: West Netherlands | B8: Small (5-19) | C8: 1644.8441 | D8: 5827.3022 | E8: 9431.7305 | F8: 1910.4591 | G8: 4163.0854 | H8: 26578.555
A9: West Netherlands | B9: Medium (20-99) | C9: 413.67142 | D9: 3745.3716 | E9: 3176.4182 | F9: 697.66663 | G9: 4216.0264 | H9: 35858.629
A10: West Netherlands | B10: Large (100 or more) | C10: 156.37143 | D10: 713.90125 | E10: 542.34998 | F10: 172.66666 | G10: 1683.3839 | H10: 9773.4307
A11: South Netherlands | B11: Small (5-19) | C11: 420 | D11: 3521.156 | E11: 3096.0706 | F11: 515.3667 | G11: 1620.1697 | H11: 8807.8896
A12: South Netherlands | B12: Medium (20-99) | C12: 1160.3334 | D12: 4171.8579 | E12: 401.33334 | F12: 623.93335 | G12: 1309.9415 | H12: 16363.074
A13: South Netherlands | B13: Large (100 or more) | C13: 42.666668 | D13: 1055.8 | E13: 1344.5792 | F13: 244.16667 | G13: 204 | H13: 2805.3345

Sheet item response
A1: Survey | B1: Cell | C1: Name | D1: rr_d2 | E1: rr_l1 | F1: rr_n2a | G1: rr_TFP
A2: Netherlands 2025 | B2: Fresh/Panel | C2: Fresh | D2: 0.99592668 | E2: 1 | F2: 0.96130347 | G2: 0.85483873
A3: Netherlands 2025 | B3: Fresh/Panel | C3: Panel | D3: 0.97790056 | E3: 1 | F3: 0.94475138 | G3: 0.85897434
A4: Netherlands 2025 | B4: Size | C4: Small (5-19) | D4: 0.98816568 | E4: 1 | F4: 0.93786985 | G4: 0.8214286
A5: Netherlands 2025 | B5: Size | C5: Medium (20-99) | D5: 0.99190283 | E5: 1 | F5: 0.98785424 | G5: 0.86904764
A6: Netherlands 2025 | B6: Size | C6: Large (100 or more) | D6: 1 | E6: 1 | F6: 0.94252872 | G6: 0.91176468
A7: Netherlands 2025 | B7: Region | C7: North Netherlands | D7: 0.97087377 | E7: 1 | F7: 0.93203884 | G7: 0.93548387
A8: Netherlands 2025 | B8: Region | C8: East Netherlands | D8: 0.99374998 | E8: 1 | F8: 0.96875 | G8: 0.8214286
A9: Netherlands 2025 | B9: Region | C9: West Netherlands | D9: 1 | E9: 1 | F9: 0.95867771 | G9: 0.85454547
A10: Netherlands 2025 | B10: Region | C10: South Netherlands | D10: 0.98802394 | E10: 1 | F10: 0.95808381 | G10: 0.85000002
A11: Netherlands 2025 | B11: Sector | C11: Food | D11: 1 | E11: 1 | F11: 0.97560978 | G11: 0.92682928
A12: Netherlands 2025 | B12: Sector | C12: Hotels | D12: 0.94117647 | E12: 1 | F12: 0.94117647
A13: Netherlands 2025 | B13: Sector | C13: Other Manufacturing | D13: 0.99408287 | E13: 1 | F13: 0.94674557 | G13: 0.8427673
A14: Netherlands 2025 | B14: Sector | C14: Other Services | D14: 0.99145299 | E14: 1 | F14: 0.96153843 | G14: 0.5
A15: Netherlands 2025 | B15: Sector | C15: Professional Activities | D15: 1 | E15: 1 | F15: 0.97196263
A16: Netherlands 2025 | B16: Sector | C16: Retail | D16: 0.98850572 | E16: 1 | F16: 0.94252872
A17: Netherlands 2025 | B17: Netherlands 2025 | C17: Netherlands 2025 | D17: 0.9910714 | E17: 1 | F17: 0.95684522 | G17: 0.85643566
