Workbook

Sheet Table 1 Universe
C1: =RIGHT(SUBSTITUTE(universe!C1,"_"," "),LEN(SUBSTITUTE(universe!C1,"_"," "))-1) -> Food | D1: =RIGHT(SUBSTITUTE(universe!D1,"_"," "),LEN(SUBSTITUTE(universe!D1,"_"," "))-1) -> Textiles | E1: =RIGHT(SUBSTITUTE(universe!E1,"_"," "),LEN(SUBSTITUTE(universe!E1,"_"," "))-1) -> Garments | F1: =RIGHT(SUBSTITUTE(universe!F1,"_"," "),LEN(SUBSTITUTE(universe!F1,"_"," "))-1) -> Chemicals and Chemic | G1: =RIGHT(SUBSTITUTE(universe!G1,"_"," "),LEN(SUBSTITUTE(universe!G1,"_"," "))-1) -> Pharmaceuticals and | H1: =RIGHT(SUBSTITUTE(universe!H1,"_"," "),LEN(SUBSTITUTE(universe!H1,"_"," "))-1) -> Rubber and Plastics | I1: =RIGHT(SUBSTITUTE(universe!I1,"_"," "),LEN(SUBSTITUTE(universe!I1,"_"," "))-1) -> Non Metallic Mineral | J1: =RIGHT(SUBSTITUTE(universe!J1,"_"," "),LEN(SUBSTITUTE(universe!J1,"_"," "))-1) -> Basic Metals | ... T1: =RIGHT(SUBSTITUTE(universe!T1,"_"," "),LEN(SUBSTITUTE(universe!T1,"_"," "))-1) -> Other Services | U1: Total
A2: =universe!A2 -> Andhra Pradesh, A&N Islands | B2: =LEFT(universe!B2,FIND(")",universe!B2)) -> Small (5-19) | C2: =universe!C2 -> 98872.922 | D2: =universe!D2 -> 66956.812 | E2: =universe!E2 -> 74749.273 | F2: =universe!F2 -> 6350.1997 | G2: =universe!G2 -> 1484.6921 | H2: =universe!H2 -> 3979.4128 | I2: =universe!I2 -> 10575.205 | J2: =universe!J2 -> 3380.104 | ... T2: =universe!T2 -> 231837.41 | U2: =SUM(C2:T6) -> 1731341.8
A3: =universe!A3 -> Andhra Pradesh, A&N Islands | B3: =LEFT(universe!B3,FIND(")",universe!B3)) -> Medium (20-99) | C3: =universe!C3 -> 25976.719 | D3: =universe!D3 -> 16192.866 | E3: =universe!E3 -> 17819.285 | F3: =universe!F3 -> 1819.4924 | G3: =universe!G3 -> 583.61938 | H3: =universe!H3 -> 1264.2739 | I3: =universe!I3 -> 3851.8469 | J3: =universe!J3 -> 1064.1923 | ... T3: =universe!T3 -> 56291.781
A4: =universe!A4 -> Andhra Pradesh, A&N Islands | B4: =LEFT(universe!B4,FIND(")",universe!B4)) -> Large (100-199) | C4: =universe!C4 -> 371.33331 | D4: =universe!D4 -> 71.666664 | E4: =universe!E4 -> 23 | F4: =universe!F4 -> 50 | G4: =universe!G4 -> 54 | H4: =universe!H4 -> 33 | I4: =universe!I4 -> 44.666664 | J4: =universe!J4 -> 46 | ... T4: =universe!T4 -> 145
A5: =universe!A5 -> Andhra Pradesh, A&N Islands | B5: =LEFT(universe!B5,FIND(")",universe!B5)) -> Very Large (200 or more) | C5: =universe!C5 -> 296 | D5: =universe!D5 -> 133 | E5: =universe!E5 -> 53 | F5: =universe!F5 -> 80 | G5: =universe!G5 -> 117 | H5: =universe!H5 -> 31 | I5: =universe!I5 -> 65 | J5: =universe!J5 -> 90 | ... T5: =universe!T5 -> 108
A6: =universe!A6 -> Andhra Pradesh, A&N Islands | B6: Unknown | C6: =universe!C6 -> 36989 | D6: =universe!D6 -> 31705 | E6: =universe!E6 -> 11365 | F6: =universe!F6 -> 1600 | G6: =universe!G6 -> 1372 | H6: =universe!H6 -> 3971 | I6: =universe!I6 -> 8938 | J6: =universe!J6 -> 3422 | ... T6: =universe!T6 -> 75889
A7: =universe!A7 -> Arunachal Pradesh, Nagaland, Manipur, Tripura, Meghalaya, Mizoram, Sikkim | B7: =LEFT(universe!B7,FIND(")",universe!B7)) -> Small (5-19) | C7: =universe!C7 -> 32327.113 | D7: =universe!D7 -> 22443.465 | E7: =universe!E7 -> 9514.7412 | F7: =universe!F7 -> 1904.7838 | G7: =universe!G7 -> 447.41385 | H7: =universe!H7 -> 2605.3276 | I7: =universe!I7 -> 1684.0452 | J7: =universe!J7 -> 1459.5353 | ... T7: =universe!T7 -> 45733.32 | U7: =SUM(C7:T11) -> 457865.99
A8: =universe!A8 -> Arunachal Pradesh, Nagaland, Manipur, Tripura, Meghalaya, Mizoram, Sikkim | B8: =LEFT(universe!B8,FIND(")",universe!B8)) -> Medium (20-99) | C8: =universe!C8 -> 14296.053 | D8: =universe!D8 -> 9853.2002 | E8: =universe!E8 -> 4176.8418 | F8: =universe!F8 -> 847.13275 | G8: =universe!G8 -> 205.66948 | H8: =universe!H8 -> 1172.6724 | I8: =universe!I8 -> 1024.9547 | J8: =universe!J8 -> 670.54803 | ... T8: =universe!T8 -> 20225.182
A9: =universe!A9 -> Arunachal Pradesh, Nagaland, Manipur, Tripura, Meghalaya, Mizoram, Sikkim | B9: =LEFT(universe!B9,FIND(")",universe!B9)) -> Large (100-199) | C9: =universe!C9 -> 153.83333 | D9: =universe!D9 -> 20.333334 | E9: =universe!E9 -> 10.416667 | F9: =universe!F9 -> 21.083334 | G9: =universe!G9 -> 10.916666 | H9: =universe!H9 -> 46.999996 | I9: =universe!I9 -> 93 | J9: =universe!J9 -> 48.916664 | ... T9: =universe!T9 -> 312.5
A10: =universe!A10 -> Arunachal Pradesh, Nagaland, Manipur, Tripura, Meghalaya, Mizoram, Sikkim | B10: =LEFT(universe!B10,FIND(")",universe!B10)) -> Very Large (200 or more) | C10: =universe!C10 -> 18 | D10: =universe!D10 -> 0 | E10: =universe!E10 -> 0 | F10: =universe!F10 -> 2 | G10: =universe!G10 -> 28 | H10: =universe!H10 -> 1 | I10: =universe!I10 -> 33 | J10: =universe!J10 -> 16 | ... T10: =universe!T10 -> 3
A11: =universe!A11 -> Arunachal Pradesh, Nagaland, Manipur, Tripura, Meghalaya, Mizoram, Sikkim | B11: Unknown | C11: =universe!C11 -> 4862 | D11: =universe!D11 -> 4815 | E11: =universe!E11 -> 2243 | F11: =universe!F11 -> 57 | G11: =universe!G11 -> 127 | H11: =universe!H11 -> 604 | I11: =universe!I11 -> 398 | J11: =universe!J11 -> 398 | ... T11: =universe!T11 -> 8593
A12: =universe!A12 -> Assam | B12: =LEFT(universe!B12,FIND(")",universe!B12)) -> Small (5-19) | C12: =universe!C12 -> 91264.93 | D12: =universe!D12 -> 36839.375 | E12: =universe!E12 -> 23134.752 | F12: =universe!F12 -> 5854.0718 | G12: =universe!G12 -> 1735.9791 | H12: =universe!H12 -> 2747.6316 | I12: =universe!I12 -> 5237.9663 | J12: =universe!J12 -> 3315.3391 | ... T12: =universe!T12 -> 138712.28 | U12: =SUM(C12:T16) -> 1027474.5
A13: =universe!A13 -> Assam | B13: =LEFT(universe!B13,FIND(")",universe!B13)) -> Medium (20-99) | C13: =universe!C13 -> 7525.4175 | D13: =universe!D13 -> 2540.2471 | E13: =universe!E13 -> 1568.5278 | F13: =universe!F13 -> 502.92703 | G13: =universe!G13 -> 161.72084 | H13: =universe!H13 -> 499.06433 | I13: =universe!I13 -> 1932.42 | J13: =universe!J13 -> 352.44482 | ... T13: =universe!T13 -> 10344.053
A14: =universe!A14 -> Assam | B14: =LEFT(universe!B14,FIND(")",universe!B14)) -> Large (100-199) | C14: =universe!C14 -> 380.33334 | D14: =universe!D14 -> 28 | E14: =universe!E14 -> 6.166667 | F14: =universe!F14 -> 18.833334 | G14: =universe!G14 -> 6.166667 | H14: =universe!H14 -> 36.333336 | I14: =universe!I14 -> 207.66667 | J14: =universe!J14 -> 30 | ... T14: =universe!T14 -> 416.83331
A15: =universe!A15 -> Assam | B15: =LEFT(universe!B15,FIND(")",universe!B15)) -> Very Large (200 or more) | C15: =universe!C15 -> 102 | D15: =universe!D15 -> 7 | E15: =universe!E15 -> 0 | F15: =universe!F15 -> 17 | G15: =universe!G15 -> 7 | H15: =universe!H15 -> 8 | I15: =universe!I15 -> 27 | J15: =universe!J15 -> 7 | ... T15: =universe!T15 -> 12
A16: =universe!A16 -> Assam | B16: Unknown | C16: =universe!C16 -> 10972 | D16: =universe!D16 -> 7076 | E16: =universe!E16 -> 3994 | F16: =universe!F16 -> 388 | G16: =universe!G16 -> 314 | H16: =universe!H16 -> 509 | I16: =universe!I16 -> 1008 | J16: =universe!J16 -> 605 | ... T16: =universe!T16 -> 19016
A17: =universe!A17 -> Bihar | B17: =LEFT(universe!B17,FIND(")",universe!B17)) -> Small (5-19) | C17: =universe!C17 -> 149235.75 | D17: =universe!D17 -> 17133.227 | E17: =universe!E17 -> 26474.916 | F17: =universe!F17 -> 12093.347 | G17: =universe!G17 -> 3257.1067 | H17: =universe!H17 -> 4548.4814 | I17: =universe!I17 -> 10138.73 | J17: =universe!J17 -> 6933.6196 | ... T17: =universe!T17 -> 242777.41 | U17: =SUM(C17:T21) -> 1928498.3
A18: =universe!A18 -> Bihar | B18: =LEFT(universe!B18,FIND(")",universe!B18)) -> Medium (20-99) | C18: =universe!C18 -> 15911.822 | D18: =universe!D18 -> 1700.6602 | E18: =universe!E18 -> 2558.343 | F18: =universe!F18 -> 1243.4658 | G18: =universe!G18 -> 375.27039 | H18: =universe!H18 -> 591.97504 | I18: =universe!I18 -> 1629.938 | J18: =universe!J18 -> 749.88617 | ... T18: =universe!T18 -> 24840.086
A19: =universe!A19 -> Bihar | B19: =LEFT(universe!B19,FIND(")",universe!B19)) -> Large (100-199) | C19: =universe!C19 -> 308.5 | D19: =universe!D19 -> 12.833334 | E19: =universe!E19 -> 5.666667 | F19: =universe!F19 -> 18.5 | G19: =universe!G19 -> 11.833334 | H19: =universe!H19 -> 21.666668 | I19: =universe!I19 -> 173 | J19: =universe!J19 -> 27 | ... T19: =universe!T19 -> 342.33334
A20: =universe!A20 -> Bihar | B20: =LEFT(universe!B20,FIND(")",universe!B20)) -> Very Large (200 or more) | C20: =universe!C20 -> 71 | D20: =universe!D20 -> 2 | E20: =universe!E20 -> 2 | F20: =universe!F20 -> 5 | G20: =universe!G20 -> 1 | H20: =universe!H20 -> 5 | I20: =universe!I20 -> 8 | J20: =universe!J20 -> 23 | ... T20: =universe!T20 -> 20
A21: =universe!A21 -> Bihar | B21: Unknown | C21: =universe!C21 -> 51245 | D21: =universe!D21 -> 15675 | E21: =universe!E21 -> 6963 | F21: =universe!F21 -> 4829 | G21: =universe!G21 -> 2567 | H21: =universe!H21 -> 3932 | I21: =universe!I21 -> 8498 | J21: =universe!J21 -> 5995 | ... T21: =universe!T21 -> 87017
A22: =universe!A22 -> Chhattisgarh | B22: =LEFT(universe!B22,FIND(")",universe!B22)) -> Small (5-19) | C22: =universe!C22 -> 32105.793 | D22: =universe!D22 -> 9646.9902 | E22: =universe!E22 -> 10133.339 | F22: =universe!F22 -> 4011.9661 | G22: =universe!G22 -> 870.39111 | H22: =universe!H22 -> 1714.8746 | I22: =universe!I22 -> 4815.3232 | J22: =universe!J22 -> 1985.2965 | ... T22: =universe!T22 -> 98201.07 | U22: =SUM(C22:T26) -> 727263.73
A23: =universe!A23 -> Chhattisgarh | B23: =LEFT(universe!B23,FIND(")",universe!B23)) -> Medium (20-99) | C23: =universe!C23 -> 3906.4084 | D23: =universe!D23 -> 704.47064 | E23: =universe!E23 -> 700.53815 | F23: =universe!F23 -> 421.97406 | G23: =universe!G23 -> 99.556831 | H23: =universe!H23 -> 283.00336 | I23: =universe!I23 -> 620.45599 | J23: =universe!J23 -> 876.61298 | ... T23: =universe!T23 -> 7560.5303
A24: =universe!A24 -> Chhattisgarh | B24: =LEFT(universe!B24,FIND(")",universe!B24)) -> Large (100-199) | C24: =universe!C24 -> 238.66667 | D24: =universe!D24 -> 10.166667 | E24: =universe!E24 -> 3.1666667 | F24: =universe!F24 -> 28.333334 | G24: =universe!G24 -> 7.666667 | H24: =universe!H24 -> 28.833334 | I24: =universe!I24 -> 51.166668 | J24: =universe!J24 -> 145.16667 | ... T24: =universe!T24 -> 195.5
A25: =universe!A25 -> Chhattisgarh | B25: =LEFT(universe!B25,FIND(")",universe!B25)) -> Very Large (200 or more) | C25: =universe!C25 -> 39 | D25: =universe!D25 -> 5 | E25: =universe!E25 -> 1 | F25: =universe!F25 -> 14 | G25: =universe!G25 -> 1 | H25: =universe!H25 -> 4 | I25: =universe!I25 -> 25 | J25: =universe!J25 -> 246 | ... T25: =universe!T25 -> 16
A26: =universe!A26 -> Chhattisgarh | B26: Unknown | C26: =universe!C26 -> 10062 | D26: =universe!D26 -> 3421 | E26: =universe!E26 -> 5662 | F26: =universe!F26 -> 1066 | G26: =universe!G26 -> 514 | H26: =universe!H26 -> 1334 | I26: =universe!I26 -> 3286 | J26: =universe!J26 -> 2048 | ... T26: =universe!T26 -> 42050
A27: =universe!A27 -> Delhi | B27: =LEFT(universe!B27,FIND(")",universe!B27)) -> Small (5-19) | C27: =universe!C27 -> 17493.92 | D27: =universe!D27 -> 12613.737 | E27: =universe!E27 -> 25460.486 | F27: =universe!F27 -> 6173.3853 | G27: =universe!G27 -> 3022.4458 | H27: =universe!H27 -> 7522.5015 | I27: =universe!I27 -> 2172.0129 | J27: =universe!J27 -> 3684.5044 | ... T27: =universe!T27 -> 132533.59 | U27: =SUM(C27:T31) -> 1034977.6
A28: =universe!A28 -> Delhi | B28: =LEFT(universe!B28,FIND(")",universe!B28)) -> Medium (20-99) | C28: =universe!C28 -> 6337.48 | D28: =universe!D28 -> 4255.0596 | E28: =universe!E28 -> 7527.1216 | F28: =universe!F28 -> 2478.5962 | G28: =universe!G28 -> 1166.6115 | H28: =universe!H28 -> 3346.0005 | I28: =universe!I28 -> 795.62823 | J28: =universe!J28 -> 1900.8761 | ... T28: =universe!T28 -> 39247.898
A29: =universe!A29 -> Delhi | B29: =LEFT(universe!B29,FIND(")",universe!B29)) -> Large (100-199) | C29: =universe!C29 -> 284 | D29: =universe!D29 -> 154.375 | E29: =universe!E29 -> 173.5 | F29: =universe!F29 -> 134.5 | G29: =universe!G29 -> 60.75 | H29: =universe!H29 -> 208.125 | I29: =universe!I29 -> 35.875 | J29: =universe!J29 -> 140 | ... T29: =universe!T29 -> 1635
A30: =universe!A30 -> Delhi | B30: =LEFT(universe!B30,FIND(")",universe!B30)) -> Very Large (200 or more) | C30: =universe!C30 -> 205 | D30: =universe!D30 -> 52 | E30: =universe!E30 -> 74 | F30: =universe!F30 -> 112 | G30: =universe!G30 -> 57 | H30: =universe!H30 -> 66 | I30: =universe!I30 -> 36 | J30: =universe!J30 -> 127 | ... T30: =universe!T30 -> 1557
A31: =universe!A31 -> Delhi | B31: Unknown | C31: =universe!C31 -> 8222 | D31: =universe!D31 -> 10599 | E31: =universe!E31 -> 7082 | F31: =universe!F31 -> 2488 | G31: =universe!G31 -> 2069 | H31: =universe!H31 -> 7286 | I31: =universe!I31 -> 1648 | J31: =universe!J31 -> 3579 | ... T31: =universe!T31 -> 52902
A32: =universe!A32 -> Goa | B32: =LEFT(universe!B32,FIND(")",universe!B32)) -> Small (5-19) | C32: =universe!C32 -> 2325.8337 | D32: =universe!D32 -> 873.23486 | E32: =universe!E32 -> 986.28943 | F32: =universe!F32 -> 532.44189 | G32: =universe!G32 -> 61.278496 | H32: =universe!H32 -> 131.69324 | I32: =universe!I32 -> 236.2375 | J32: =universe!J32 -> 57.274494 | ... T32: =universe!T32 -> 10653.151 | U32: =SUM(C32:T36) -> 84895.054
A33: =universe!A33 -> Goa | B33: =LEFT(universe!B33,FIND(")",universe!B33)) -> Medium (20-99) | C33: =universe!C33 -> 127.91666 | D33: =universe!D33 -> 7 | E33: =universe!E33 -> 5 | F33: =universe!F33 -> 33.125 | G33: =universe!G33 -> 25.416666 | H33: =universe!H33 -> 57.083332 | I33: =universe!I33 -> 36.416668 | J33: =universe!J33 -> 53 | ... T33: =universe!T33 -> 271.04166
A34: =universe!A34 -> Goa | B34: =LEFT(universe!B34,FIND(")",universe!B34)) -> Large (100-199) | C34: =universe!C34 -> 19 | D34: =universe!D34 -> 1.15 | E34: =universe!E34 -> 3 | F34: =universe!F34 -> 12 | G34: =universe!G34 -> 12 | H34: =universe!H34 -> 10.716667 | I34: =universe!I34 -> 4 | J34: =universe!J34 -> 18.5 | ... T34: =universe!T34 -> 28.458332
A35: =universe!A35 -> Goa | B35: =LEFT(universe!B35,FIND(")",universe!B35)) -> Very Large (200 or more) | C35: =universe!C35 -> 9 | D35: =universe!D35 -> 6 | E35: =universe!E35 -> 0 | F35: =universe!F35 -> 11 | G35: =universe!G35 -> 51 | H35: =universe!H35 -> 8 | I35: =universe!I35 -> 2 | J35: =universe!J35 -> 20 | ... T35: =universe!T35 -> 15
A36: =universe!A36 -> Goa | B36: Unknown | C36: =universe!C36 -> 1757 | D36: =universe!D36 -> 384 | E36: =universe!E36 -> 1063 | F36: =universe!F36 -> 24 | G36: =universe!G36 -> 83 | H36: =universe!H36 -> 258 | I36: =universe!I36 -> 211 | J36: =universe!J36 -> 120 | ... T36: =universe!T36 -> 10151 | U36: =SUM(C37:T41) -> 3178715.8
A37: =universe!A37 -> Gujarat, Dadra & Nagar Haveli & Daman & Diu | B37: =LEFT(universe!B37,FIND(")",universe!B37)) -> Small (5-19) | C37: =universe!C37 -> 87313.289 | D37: =universe!D37 -> 201136.88 | E37: =universe!E37 -> 63047.766 | F37: =universe!F37 -> 22507.102 | G37: =universe!G37 -> 6188.8301 | H37: =universe!H37 -> 33006.66 | I37: =universe!I37 -> 13145.45 | J37: =universe!J37 -> 16233.336 | ... T37: =universe!T37 -> 386049.88
A38: =universe!A38 -> Gujarat, Dadra & Nagar Haveli & Daman & Diu | B38: =LEFT(universe!B38,FIND(")",universe!B38)) -> Medium (20-99) | C38: =universe!C38 -> 9842.2129 | D38: =universe!D38 -> 19433.246 | E38: =universe!E38 -> 4664.6689 | F38: =universe!F38 -> 5161.1729 | G38: =universe!G38 -> 1696.4858 | H38: =universe!H38 -> 6069.3398 | I38: =universe!I38 -> 3828.8689 | J38: =universe!J38 -> 4587.6978 | ... T38: =universe!T38 -> 26356.799
A39: =universe!A39 -> Gujarat, Dadra & Nagar Haveli & Daman & Diu | B39: =LEFT(universe!B39,FIND(")",universe!B39)) -> Large (100-199) | C39: =universe!C39 -> 217 | D39: =universe!D39 -> 498 | E39: =universe!E39 -> 68 | F39: =universe!F39 -> 369 | G39: =universe!G39 -> 184 | H39: =universe!H39 -> 303 | I39: =universe!I39 -> 393 | J39: =universe!J39 -> 263 | ... T39: =universe!T39 -> 263
A40: =universe!A40 -> Gujarat, Dadra & Nagar Haveli & Daman & Diu | B40: =LEFT(universe!B40,FIND(")",universe!B40)) -> Very Large (200 or more) | C40: =universe!C40 -> 317 | D40: =universe!D40 -> 773 | E40: =universe!E40 -> 81 | F40: =universe!F40 -> 643 | G40: =universe!G40 -> 332 | H40: =universe!H40 -> 380 | I40: =universe!I40 -> 382 | J40: =universe!J40 -> 300 | ... T40: =universe!T40 -> 263
A41: =universe!A41 -> Gujarat, Dadra & Nagar Haveli & Daman & Diu | B41: Unknown | C41: =universe!C41 -> 47806 | D41: =universe!D41 -> 45030 | E41: =universe!E41 -> 8743 | F41: =universe!F41 -> 15719 | G41: =universe!G41 -> 6088 | H41: =universe!H41 -> 15939 | I41: =universe!I41 -> 16041 | J41: =universe!J41 -> 23748 | ... T41: =universe!T41 -> 124514
A42: =universe!A42 -> Haryana | B42: =LEFT(universe!B42,FIND(")",universe!B42)) -> Small (5-19) | C42: =universe!C42 -> 52702.898 | D42: =universe!D42 -> 14605.953 | E42: =universe!E42 -> 14603.848 | F42: =universe!F42 -> 7358.1924 | G42: =universe!G42 -> 2966.4138 | H42: =universe!H42 -> 5391.7754 | I42: =universe!I42 -> 5151.3652 | J42: =universe!J42 -> 4979.7056 | ... T42: =universe!T42 -> 143632.55 | U42: =SUM(C42:T46) -> 1244869.6
A43: =universe!A43 -> Haryana | B43: =LEFT(universe!B43,FIND(")",universe!B43)) -> Medium (20-99) | C43: =universe!C43 -> 16682.029 | D43: =universe!D43 -> 7089.1113 | E43: =universe!E43 -> 4614.3105 | F43: =universe!F43 -> 2822.7952 | G43: =universe!G43 -> 1156.1959 | H43: =universe!H43 -> 2626.53 | I43: =universe!I43 -> 2490.9414 | J43: =universe!J43 -> 2251.1157 | ... T43: =universe!T43 -> 40969.723
A44: =universe!A44 -> Haryana | B44: =LEFT(universe!B44,FIND(")",universe!B44)) -> Large (100-199) | C44: =universe!C44 -> 858.33331 | D44: =universe!D44 -> 822.83331 | E44: =universe!E44 -> 170.16667 | F44: =universe!F44 -> 270 | G44: =universe!G44 -> 95.5 | H44: =universe!H44 -> 310 | I44: =universe!I44 -> 90.833336 | J44: =universe!J44 -> 330.83334 | ... T44: =universe!T44 -> 919.83337
A45: =universe!A45 -> Haryana | B45: =LEFT(universe!B45,FIND(")",universe!B45)) -> Very Large (200 or more) | C45: =universe!C45 -> 152 | D45: =universe!D45 -> 142 | E45: =universe!E45 -> 159 | F45: =universe!F45 -> 59 | G45: =universe!G45 -> 31 | H45: =universe!H45 -> 63 | I45: =universe!I45 -> 31 | J45: =universe!J45 -> 88 | ... T45: =universe!T45 -> 333
A46: =universe!A46 -> Haryana | B46: Unknown | C46: =universe!C46 -> 15953 | D46: =universe!D46 -> 10390 | E46: =universe!E46 -> 11272 | F46: =universe!F46 -> 2667 | G46: =universe!G46 -> 1833 | H46: =universe!H46 -> 4494 | I46: =universe!I46 -> 4081 | J46: =universe!J46 -> 4452 | ... T46: =universe!T46 -> 60876
A47: =universe!A47 -> Himachal Pradesh | B47: =LEFT(universe!B47,FIND(")",universe!B47)) -> Small (5-19) | C47: =universe!C47 -> 8636.1387 | D47: =universe!D47 -> 2532.5283 | E47: =universe!E47 -> 5513.6064 | F47: =universe!F47 -> 1413.8342 | G47: =universe!G47 -> 724.54718 | H47: =universe!H47 -> 942.87982 | I47: =universe!I47 -> 763.00226 | J47: =universe!J47 -> 849.21155 | ... T47: =universe!T47 -> 36399.258 | U47: =SUM(C47:T51) -> 267785.73
A48: =universe!A48 -> Himachal Pradesh | B48: =LEFT(universe!B48,FIND(")",universe!B48)) -> Medium (20-99) | C48: =universe!C48 -> 628.39972 | D48: =universe!D48 -> 215.62958 | E48: =universe!E48 -> 265.76804 | F48: =universe!F48 -> 240.50461 | G48: =universe!G48 -> 607.85315 | H48: =universe!H48 -> 296.13434 | I48: =universe!I48 -> 99.504662 | J48: =universe!J48 -> 177.29182 | ... T48: =universe!T48 -> 1950.2368
A49: =universe!A49 -> Himachal Pradesh | B49: =LEFT(universe!B49,FIND(")",universe!B49)) -> Large (100-199) | C49: =universe!C49 -> 49.666668 | D49: =universe!D49 -> 17.833334 | E49: =universe!E49 -> 7 | F49: =universe!F49 -> 35.166668 | G49: =universe!G49 -> 124.83334 | H49: =universe!H49 -> 37.833336 | I49: =universe!I49 -> 13.166667 | J49: =universe!J49 -> 21.166668 | ... T49: =universe!T49 -> 51.5
A50: =universe!A50 -> Himachal Pradesh | B50: =LEFT(universe!B50,FIND(")",universe!B50)) -> Very Large (200 or more) | C50: =universe!C50 -> 20 | D50: =universe!D50 -> 35 | E50: =universe!E50 -> 3 | F50: =universe!F50 -> 47 | G50: =universe!G50 -> 110 | H50: =universe!H50 -> 19 | I50: =universe!I50 -> 10 | J50: =universe!J50 -> 11 | ... T50: =universe!T50 -> 8
A51: =universe!A51 -> Himachal Pradesh | B51: Unknown | C51: =universe!C51 -> 2265 | D51: =universe!D51 -> 1194 | E51: =universe!E51 -> 2846 | F51: =universe!F51 -> 93 | G51: =universe!G51 -> 548 | H51: =universe!H51 -> 587 | I51: =universe!I51 -> 394 | J51: =universe!J51 -> 551 | ... T51: =universe!T51 -> 15130
A52: =universe!A52 -> Jammu & Kashmir (union territory), Ladakh | B52: =LEFT(universe!B52,FIND(")",universe!B52)) -> Small (5-19) | C52: =universe!C52 -> 20950.5 | D52: =universe!D52 -> 37827.637 | E52: =universe!E52 -> 14707.971 | F52: =universe!F52 -> 1930.0754 | G52: =universe!G52 -> 687.29163 | H52: =universe!H52 -> 1135.673 | I52: =universe!I52 -> 2691.3743 | J52: =universe!J52 -> 2103.5864 | ... T52: =universe!T52 -> 45083.027 | U52: =SUM(C52:T56) -> 535874.58
A53: =universe!A53 -> Jammu & Kashmir (union territory), Ladakh | B53: =LEFT(universe!B53,FIND(")",universe!B53)) -> Medium (20-99) | C53: =universe!C53 -> 1282.316 | D53: =universe!D53 -> 1764.4666 | E53: =universe!E53 -> 678.2077 | F53: =universe!F53 -> 152.3902 | G53: =universe!G53 -> 53.811569 | H53: =universe!H53 -> 163.12964 | I53: =universe!I53 -> 227.20209 | J53: =universe!J53 -> 211.64442 | ... T53: =universe!T53 -> 2517.7974
A54: =universe!A54 -> Jammu & Kashmir (union territory), Ladakh | B54: =LEFT(universe!B54,FIND(")",universe!B54)) -> Large (100-199) | C54: =universe!C54 -> 64.666672 | D54: =universe!D54 -> 13.333334 | E54: =universe!E54 -> 8 | F54: =universe!F54 -> 31 | G54: =universe!G54 -> 5 | H54: =universe!H54 -> 18.666668 | I54: =universe!I54 -> 19.166668 | J54: =universe!J54 -> 22.166668 | ... T54: =universe!T54 -> 105.33334
A55: =universe!A55 -> Jammu & Kashmir (union territory), Ladakh | B55: =LEFT(universe!B55,FIND(")",universe!B55)) -> Very Large (200 or more) | C55: =universe!C55 -> 14 | D55: =universe!D55 -> 4 | E55: =universe!E55 -> 4 | F55: =universe!F55 -> 27 | G55: =universe!G55 -> 21 | H55: =universe!H55 -> 11 | I55: =universe!I55 -> 14 | J55: =universe!J55 -> 13 | ... T55: =universe!T55 -> 21
A56: =universe!A56 -> Jammu & Kashmir (union territory), Ladakh | B56: Unknown | C56: =universe!C56 -> 8368 | D56: =universe!D56 -> 12751 | E56: =universe!E56 -> 11308 | F56: =universe!F56 -> 188 | G56: =universe!G56 -> 489 | H56: =universe!H56 -> 817 | I56: =universe!I56 -> 1965 | J56: =universe!J56 -> 1685 | ... T56: =universe!T56 -> 26017
A57: =universe!A57 -> Jharkhand | B57: =LEFT(universe!B57,FIND(")",universe!B57)) -> Small (5-19) | C57: =universe!C57 -> 28213.51 | D57: =universe!D57 -> 4680.6958 | E57: =universe!E57 -> 7469.2026 | F57: =universe!F57 -> 2970.4297 | G57: =universe!G57 -> 831.00018 | H57: =universe!H57 -> 1399.1522 | I57: =universe!I57 -> 3704.6265 | J57: =universe!J57 -> 2137.2881 | ... T57: =universe!T57 -> 85129.531 | U57: =SUM(C57:T61) -> 716586.37
A58: =universe!A58 -> Jharkhand | B58: =LEFT(universe!B58,FIND(")",universe!B58)) -> Medium (20-99) | C58: =universe!C58 -> 1720.744 | D58: =universe!D58 -> 270.36984 | E58: =universe!E58 -> 383.71198 | F58: =universe!F58 -> 211.74216 | G58: =universe!G58 -> 55.653656 | H58: =universe!H58 -> 185.66339 | I58: =universe!I58 -> 868.56519 | J58: =universe!J58 -> 465.40088 | ... T58: =universe!T58 -> 4802.2725
A59: =universe!A59 -> Jharkhand | B59: =LEFT(universe!B59,FIND(")",universe!B59)) -> Large (100-199) | C59: =universe!C59 -> 78.333336 | D59: =universe!D59 -> 13.333334 | E59: =universe!E59 -> 6.8333335 | F59: =universe!F59 -> 17.833334 | G59: =universe!G59 -> 3.3333335 | H59: =universe!H59 -> 24 | I59: =universe!I59 -> 34.166668 | J59: =universe!J59 -> 56.166668 | ... T59: =universe!T59 -> 171.33334
A60: =universe!A60 -> Jharkhand | B60: =LEFT(universe!B60,FIND(")",universe!B60)) -> Very Large (200 or more) | C60: =universe!C60 -> 17 | D60: =universe!D60 -> 1 | E60: =universe!E60 -> 11 | F60: =universe!F60 -> 11 | G60: =universe!G60 -> 0 | H60: =universe!H60 -> 6 | I60: =universe!I60 -> 21 | J60: =universe!J60 -> 67 | ... T60: =universe!T60 -> 17
A61: =universe!A61 -> Jharkhand | B61: Unknown | C61: =universe!C61 -> 13687 | D61: =universe!D61 -> 4673 | E61: =universe!E61 -> 6837 | F61: =universe!F61 -> 1147 | G61: =universe!G61 -> 702 | H61: =universe!H61 -> 1536 | I61: =universe!I61 -> 3441 | J61: =universe!J61 -> 2254 | ... T61: =universe!T61 -> 44677
A62: =universe!A62 -> Karnataka | B62: =LEFT(universe!B62,FIND(")",universe!B62)) -> Small (5-19) | C62: =universe!C62 -> 125915.39 | D62: =universe!D62 -> 60284.414 | E62: =universe!E62 -> 79163.57 | F62: =universe!F62 -> 11506.771 | G62: =universe!G62 -> 3188.2847 | H62: =universe!H62 -> 7016.1064 | I62: =universe!I62 -> 11721.407 | J62: =universe!J62 -> 6423.9688 | ... T62: =universe!T62 -> 448580 | U62: =SUM(C62:T66) -> 2294457.1
A63: =universe!A63 -> Karnataka | B63: =LEFT(universe!B63,FIND(")",universe!B63)) -> Medium (20-99) | C63: =universe!C63 -> 4018.4167 | D63: =universe!D63 -> 854.5 | E63: =universe!E63 -> 884 | F63: =universe!F63 -> 966.41669 | G63: =universe!G63 -> 447.5 | H63: =universe!H63 -> 1048 | I63: =universe!I63 -> 991 | J63: =universe!J63 -> 960.25 | ... T63: =universe!T63 -> 5804.3335
A64: =universe!A64 -> Karnataka | B64: =LEFT(universe!B64,FIND(")",universe!B64)) -> Large (100-199) | C64: =universe!C64 -> 189 | D64: =universe!D64 -> 59 | E64: =universe!E64 -> 120 | F64: =universe!F64 -> 72 | G64: =universe!G64 -> 52 | H64: =universe!H64 -> 71 | I64: =universe!I64 -> 42 | J64: =universe!J64 -> 91 | ... T64: =universe!T64 -> 339
A65: =universe!A65 -> Karnataka | B65: =LEFT(universe!B65,FIND(")",universe!B65)) -> Very Large (200 or more) | C65: =universe!C65 -> 359 | D65: =universe!D65 -> 75 | E65: =universe!E65 -> 346 | F65: =universe!F65 -> 144 | G65: =universe!G65 -> 94 | H65: =universe!H65 -> 117 | I65: =universe!I65 -> 40 | J65: =universe!J65 -> 130 | ... T65: =universe!T65 -> 561
A66: =universe!A66 -> Karnataka | B66: Unknown | C66: =universe!C66 -> 43798 | D66: =universe!D66 -> 37516 | E66: =universe!E66 -> 3788 | F66: =universe!F66 -> 5973 | G66: =universe!G66 -> 2417 | H66: =universe!H66 -> 6702 | I66: =universe!I66 -> 10803 | J66: =universe!J66 -> 6115 | ... T66: =universe!T66 -> 95166
A67: =universe!A67 -> Kerala | B67: =LEFT(universe!B67,FIND(")",universe!B67)) -> Small (5-19) | C67: =universe!C67 -> 69500.109 | D67: =universe!D67 -> 16176.34 | E67: =universe!E67 -> 28161.086 | F67: =universe!F67 -> 8582.7139 | G67: =universe!G67 -> 2266.0837 | H67: =universe!H67 -> 3542.2705 | I67: =universe!I67 -> 3493.7454 | J67: =universe!J67 -> 1470.4873 | ... T67: =universe!T67 -> 129118.63 | U67: =SUM(C67:T71) -> 1104902
A68: =universe!A68 -> Kerala | B68: =LEFT(universe!B68,FIND(")",universe!B68)) -> Medium (20-99) | C68: =universe!C68 -> 21397.959 | D68: =universe!D68 -> 4858.7598 | E68: =universe!E68 -> 8056.6406 | F68: =universe!F68 -> 2630.5227 | G68: =universe!G68 -> 777.95135 | H68: =universe!H68 -> 1466.6992 | I68: =universe!I68 -> 1190.5757 | J68: =universe!J68 -> 578.25427 | ... T68: =universe!T68 -> 38117.68
A69: =universe!A69 -> Kerala | B69: =LEFT(universe!B69,FIND(")",universe!B69)) -> Large (100-199) | C69: =universe!C69 -> 264.83331 | D69: =universe!D69 -> 27 | E69: =universe!E69 -> 11.666666 | F69: =universe!F69 -> 18.5 | G69: =universe!G69 -> 17 | H69: =universe!H69 -> 71.333328 | I69: =universe!I69 -> 37 | J69: =universe!J69 -> 42 | ... T69: =universe!T69 -> 143.33333
A70: =universe!A70 -> Kerala | B70: =LEFT(universe!B70,FIND(")",universe!B70)) -> Very Large (200 or more) | C70: =universe!C70 -> 394 | D70: =universe!D70 -> 63 | E70: =universe!E70 -> 19 | F70: =universe!F70 -> 32 | G70: =universe!G70 -> 22 | H70: =universe!H70 -> 33 | I70: =universe!I70 -> 18 | J70: =universe!J70 -> 35 | ... T70: =universe!T70 -> 106
A71: =universe!A71 -> Kerala | B71: Unknown | C71: =universe!C71 -> 36204 | D71: =universe!D71 -> 15960 | E71: =universe!E71 -> 5429 | F71: =universe!F71 -> 2689 | G71: =universe!G71 -> 2105 | H71: =universe!H71 -> 3621 | I71: =universe!I71 -> 3132 | J71: =universe!J71 -> 1506 | ... T71: =universe!T71 -> 54218
A72: =universe!A72 -> Madhya Pradesh | B72: =LEFT(universe!B72,FIND(")",universe!B72)) -> Small (5-19) | C72: =universe!C72 -> 132370.19 | D72: =universe!D72 -> 16372.695 | E72: =universe!E72 -> 33349.961 | F72: =universe!F72 -> 12682.396 | G72: =universe!G72 -> 3277.2432 | H72: =universe!H72 -> 5665.7671 | I72: =universe!I72 -> 9852.6602 | J72: =universe!J72 -> 5912.458 | ... T72: =universe!T72 -> 367043.94 | U72: =SUM(C72:T76) -> 2220515.3
A73: =universe!A73 -> Madhya Pradesh | B73: =LEFT(universe!B73,FIND(")",universe!B73)) -> Medium (20-99) | C73: =universe!C73 -> 7176.5498 | D73: =universe!D73 -> 810.24036 | E73: =universe!E73 -> 1010.4211 | F73: =universe!F73 -> 875.41125 | G73: =universe!G73 -> 376.12903 | H73: =universe!H73 -> 814.45673 | I73: =universe!I73 -> 623.53412 | J73: =universe!J73 -> 555.87183 | ... T73: =universe!T73 -> 12026.098
A74: =universe!A74 -> Madhya Pradesh | B74: =LEFT(universe!B74,FIND(")",universe!B74)) -> Large (100-199) | C74: =universe!C74 -> 174 | D74: =universe!D74 -> 37 | E74: =universe!E74 -> 9 | F74: =universe!F74 -> 44 | G74: =universe!G74 -> 34 | H74: =universe!H74 -> 61 | I74: =universe!I74 -> 45 | J74: =universe!J74 -> 34 | ... T74: =universe!T74 -> 85
A75: =universe!A75 -> Madhya Pradesh | B75: =LEFT(universe!B75,FIND(")",universe!B75)) -> Very Large (200 or more) | C75: =universe!C75 -> 169 | D75: =universe!D75 -> 67 | E75: =universe!E75 -> 12 | F75: =universe!F75 -> 70 | G75: =universe!G75 -> 35 | H75: =universe!H75 -> 59 | I75: =universe!I75 -> 47 | J75: =universe!J75 -> 53 | ... T75: =universe!T75 -> 48
A76: =universe!A76 -> Madhya Pradesh | B76: Unknown | C76: =universe!C76 -> 47700 | D76: =universe!D76 -> 17092 | E76: =universe!E76 -> 13812 | F76: =universe!F76 -> 5717 | G76: =universe!G76 -> 3011 | H76: =universe!H76 -> 7008 | I76: =universe!I76 -> 10905 | J76: =universe!J76 -> 7125 | ... T76: =universe!T76 -> 99805
A77: =universe!A77 -> Maharashtra | B77: =LEFT(universe!B77,FIND(")",universe!B77)) -> Small (5-19) | C77: =universe!C77 -> 508327.69 | D77: =universe!D77 -> 88539.688 | E77: =universe!E77 -> 287609.41 | F77: =universe!F77 -> 41848.766 | G77: =universe!G77 -> 12745.686 | H77: =universe!H77 -> 33876.062 | I77: =universe!I77 -> 31383.061 | J77: =universe!J77 -> 28528.602 | ... T77: =universe!T77 -> 1632053.1 | U77: =SUM(C77:T81) -> 7912836.8
A78: =universe!A78 -> Maharashtra | B78: =LEFT(universe!B78,FIND(")",universe!B78)) -> Medium (20-99) | C78: =universe!C78 -> 63234.797 | D78: =universe!D78 -> 14057.97 | E78: =universe!E78 -> 33065.293 | F78: =universe!F78 -> 7932.5972 | G78: =universe!G78 -> 2636.9011 | H78: =universe!H78 -> 6726.2319 | I78: =universe!I78 -> 5124.3281 | J78: =universe!J78 -> 6435.8555 | ... T78: =universe!T78 -> 190338.45
A79: =universe!A79 -> Maharashtra | B79: =LEFT(universe!B79,FIND(")",universe!B79)) -> Large (100-199) | C79: =universe!C79 -> 569.8421 | D79: =universe!D79 -> 360.3158 | E79: =universe!E79 -> 127.68421 | F79: =universe!F79 -> 347 | G79: =universe!G79 -> 189 | H79: =universe!H79 -> 236.89474 | I79: =universe!I79 -> 134.10526 | J79: =universe!J79 -> 293 | ... T79: =universe!T79 -> 1192
A80: =universe!A80 -> Maharashtra | B80: =LEFT(universe!B80,FIND(")",universe!B80)) -> Very Large (200 or more) | C80: =universe!C80 -> 721 | D80: =universe!D80 -> 440 | E80: =universe!E80 -> 127 | F80: =universe!F80 -> 584 | G80: =universe!G80 -> 320 | H80: =universe!H80 -> 263 | I80: =universe!I80 -> 107 | J80: =universe!J80 -> 425 | ... T80: =universe!T80 -> 1494
A81: =universe!A81 -> Maharashtra | B81: Unknown | C81: =universe!C81 -> 115287 | D81: =universe!D81 -> 34995 | E81: =universe!E81 -> 19296 | F81: =universe!F81 -> 31163 | G81: =universe!G81 -> 12330 | H81: =universe!H81 -> 23235 | I81: =universe!I81 -> 36568 | J81: =universe!J81 -> 19332 | ... T81: =universe!T81 -> 134394
A82: =universe!A82 -> Odisha | B82: =LEFT(universe!B82,FIND(")",universe!B82)) -> Small (5-19) | C82: =universe!C82 -> 82379.57 | D82: =universe!D82 -> 36242.582 | E82: =universe!E82 -> 37243.461 | F82: =universe!F82 -> 8628.7354 | G82: =universe!G82 -> 1950.5 | H82: =universe!H82 -> 2479.2644 | I82: =universe!I82 -> 7815.1221 | J82: =universe!J82 -> 2682.2478 | ... T82: =universe!T82 -> 195659.2 | U82: =SUM(C82:T86) -> 1379665
A83: =universe!A83 -> Odisha | B83: =LEFT(universe!B83,FIND(")",universe!B83)) -> Medium (20-99) | C83: =universe!C83 -> 7787.7124 | D83: =universe!D83 -> 2913.4741 | E83: =universe!E83 -> 2972.0962 | F83: =universe!F83 -> 795.70862 | G83: =universe!G83 -> 201.16667 | H83: =universe!H83 -> 360.95801 | I83: =universe!I83 -> 959.71136 | J83: =universe!J83 -> 470.02979 | ... T83: =universe!T83 -> 16804.863
A84: =universe!A84 -> Odisha | B84: =LEFT(universe!B84,FIND(")",universe!B84)) -> Large (100-199) | C84: =universe!C84 -> 195.72223 | D84: =universe!D84 -> 11.944445 | E84: =universe!E84 -> 6.4444442 | F84: =universe!F84 -> 22.555555 | G84: =universe!G84 -> 9.333333 | H84: =universe!H84 -> 30.777779 | I84: =universe!I84 -> 51.166664 | J84: =universe!J84 -> 131.72221 | ... T84: =universe!T84 -> 316.94446
A85: =universe!A85 -> Odisha | B85: =LEFT(universe!B85,FIND(")",universe!B85)) -> Very Large (200 or more) | C85: =universe!C85 -> 77 | D85: =universe!D85 -> 6 | E85: =universe!E85 -> 5 | F85: =universe!F85 -> 18 | G85: =universe!G85 -> 2 | H85: =universe!H85 -> 12 | I85: =universe!I85 -> 40 | J85: =universe!J85 -> 164 | ... T85: =universe!T85 -> 45
A86: =universe!A86 -> Odisha | B86: Unknown | C86: =universe!C86 -> 31356 | D86: =universe!D86 -> 10540 | E86: =universe!E86 -> 5989 | F86: =universe!F86 -> 3219 | G86: =universe!G86 -> 1350 | H86: =universe!H86 -> 2111 | I86: =universe!I86 -> 5804 | J86: =universe!J86 -> 2130 | ... T86: =universe!T86 -> 70457
A87: =universe!A87 -> Punjab, Chandigarh | B87: =LEFT(universe!B87,FIND(")",universe!B87)) -> Small (5-19) | C87: =universe!C87 -> 94758.352 | D87: =universe!D87 -> 17712.965 | E87: =universe!E87 -> 73275.875 | F87: =universe!F87 -> 6461.9287 | G87: =universe!G87 -> 2501.2085 | H87: =universe!H87 -> 4413.4546 | I87: =universe!I87 -> 5287.0283 | J87: =universe!J87 -> 5928.7832 | ... T87: =universe!T87 -> 193995.06 | U87: =SUM(C87:T91) -> 1639178.4
A88: =universe!A88 -> Punjab, Chandigarh | B88: =LEFT(universe!B88,FIND(")",universe!B88)) -> Medium (20-99) | C88: =universe!C88 -> 34880.551 | D88: =universe!D88 -> 7474.1548 | E88: =universe!E88 -> 25899.656 | F88: =universe!F88 -> 2522.5764 | G88: =universe!G88 -> 1016.6028 | H88: =universe!H88 -> 1901.1515 | I88: =universe!I88 -> 3339.1428 | J88: =universe!J88 -> 3019.1943 | ... T88: =universe!T88 -> 65978.219
A89: =universe!A89 -> Punjab, Chandigarh | B89: =LEFT(universe!B89,FIND(")",universe!B89)) -> Large (100-199) | C89: =universe!C89 -> 625.90002 | D89: =universe!D89 -> 587.5 | E89: =universe!E89 -> 504.30002 | F89: =universe!F89 -> 146.40001 | G89: =universe!G89 -> 70.800003 | H89: =universe!H89 -> 156 | I89: =universe!I89 -> 70.199997 | J89: =universe!J89 -> 354.40002 | ... T89: =universe!T89 -> 562.80005
A90: =universe!A90 -> Punjab, Chandigarh | B90: =LEFT(universe!B90,FIND(")",universe!B90)) -> Very Large (200 or more) | C90: =universe!C90 -> 182 | D90: =universe!D90 -> 198 | E90: =universe!E90 -> 103 | F90: =universe!F90 -> 58 | G90: =universe!G90 -> 46 | H90: =universe!H90 -> 43 | I90: =universe!I90 -> 7 | J90: =universe!J90 -> 89 | ... T90: =universe!T90 -> 62
A91: =universe!A91 -> Punjab, Chandigarh | B91: Unknown | C91: =universe!C91 -> 19098 | D91: =universe!D91 -> 13122 | E91: =universe!E91 -> 19985 | F91: =universe!F91 -> 1524 | G91: =universe!G91 -> 1639 | H91: =universe!H91 -> 3446 | I91: =universe!I91 -> 3384 | J91: =universe!J91 -> 4909 | ... T91: =universe!T91 -> 66339
A92: =universe!A92 -> Rajasthan | B92: =LEFT(universe!B92,FIND(")",universe!B92)) -> Small (5-19) | C92: =universe!C92 -> 185035.16 | D92: =universe!D92 -> 59233.52 | E92: =universe!E92 -> 51169.66 | F92: =universe!F92 -> 16356.521 | G92: =universe!G92 -> 4355.0171 | H92: =universe!H92 -> 11157.904 | I92: =universe!I92 -> 31149.318 | J92: =universe!J92 -> 15355.915 | ... T92: =universe!T92 -> 436988.09 | U92: =SUM(C92:T96) -> 2956495.1
A93: =universe!A93 -> Rajasthan | B93: =LEFT(universe!B93,FIND(")",universe!B93)) -> Medium (20-99) | C93: =universe!C93 -> 23134.947 | D93: =universe!D93 -> 8578.2344 | E93: =universe!E93 -> 6076.6279 | F93: =universe!F93 -> 2404.8364 | G93: =universe!G93 -> 744.65833 | H93: =universe!H93 -> 2009.15 | I93: =universe!I93 -> 5187.29 | J93: =universe!J93 -> 2706.6992 | ... T93: =universe!T93 -> 49305.961
A94: =universe!A94 -> Rajasthan | B94: =LEFT(universe!B94,FIND(")",universe!B94)) -> Large (100-199) | C94: =universe!C94 -> 126 | D94: =universe!D94 -> 130 | E94: =universe!E94 -> 108 | F94: =universe!F94 -> 67 | G94: =universe!G94 -> 35 | H94: =universe!H94 -> 82 | I94: =universe!I94 -> 74 | J94: =universe!J94 -> 84 | ... T94: =universe!T94 -> 105
A95: =universe!A95 -> Rajasthan | B95: =LEFT(universe!B95,FIND(")",universe!B95)) -> Very Large (200 or more) | C95: =universe!C95 -> 104 | D95: =universe!D95 -> 162 | E95: =universe!E95 -> 103 | F95: =universe!F95 -> 99 | G95: =universe!G95 -> 39 | H95: =universe!H95 -> 61 | I95: =universe!I95 -> 125 | J95: =universe!J95 -> 78 | ... T95: =universe!T95 -> 85
A96: =universe!A96 -> Rajasthan | B96: Unknown | C96: =universe!C96 -> 28607 | D96: =universe!D96 -> 19438 | E96: =universe!E96 -> 15765 | F96: =universe!F96 -> 4666 | G96: =universe!G96 -> 2240 | H96: =universe!H96 -> 7082 | I96: =universe!I96 -> 18191 | J96: =universe!J96 -> 9904 | ... T96: =universe!T96 -> 75151
A97: =universe!A97 -> Tamil Nadu, Puducherry | B97: =LEFT(universe!B97,FIND(")",universe!B97)) -> Small (5-19) | C97: =universe!C97 -> 327293.16 | D97: =universe!D97 -> 210359.75 | E97: =universe!E97 -> 160994.58 | F97: =universe!F97 -> 32532.023 | G97: =universe!G97 -> 6979.1602 | H97: =universe!H97 -> 18062.004 | I97: =universe!I97 -> 25405.17 | J97: =universe!J97 -> 17277.867 | ... T97: =universe!T97 -> 754385.19 | U97: =SUM(C97:T101) -> 4369547
A98: =universe!A98 -> Tamil Nadu, Puducherry | B98: =LEFT(universe!B98,FIND(")",universe!B98)) -> Medium (20-99) | C98: =universe!C98 -> 36567.164 | D98: =universe!D98 -> 26429.408 | E98: =universe!E98 -> 19044.832 | F98: =universe!F98 -> 4932.2886 | G98: =universe!G98 -> 1049.635 | H98: =universe!H98 -> 3291.1321 | I98: =universe!I98 -> 3732.8357 | J98: =universe!J98 -> 2844.2603 | ... T98: =universe!T98 -> 76826.438
A99: =universe!A99 -> Tamil Nadu, Puducherry | B99: =LEFT(universe!B99,FIND(")",universe!B99)) -> Large (100-199) | C99: =universe!C99 -> 306 | D99: =universe!D99 -> 735 | E99: =universe!E99 -> 677 | F99: =universe!F99 -> 239 | G99: =universe!G99 -> 66 | H99: =universe!H99 -> 194 | I99: =universe!I99 -> 105 | J99: =universe!J99 -> 178 | ... T99: =universe!T99 -> 426
A100: =universe!A100 -> Tamil Nadu, Puducherry | B100: =LEFT(universe!B100,FIND(")",universe!B100)) -> Very Large (200 or more) | C100: =universe!C100 -> 486 | D100: =universe!D100 -> 913 | E100: =universe!E100 -> 1230 | F100: =universe!F100 -> 264 | G100: =universe!G100 -> 98 | H100: =universe!H100 -> 212 | I100: =universe!I100 -> 127 | J100: =universe!J100 -> 278 | ... T100: =universe!T100 -> 577
...

Sheet Table 2 Frame
C1: =RIGHT(SUBSTITUTE('frame fresh and panel'!C1,"_"," "),LEN(SUBSTITUTE('frame fresh and panel'!C1,"_"," "))-1) -> Food | D1: =RIGHT(SUBSTITUTE('frame fresh and panel'!D1,"_"," "),LEN(SUBSTITUTE('frame fresh and panel'!D1,"_"," "))-1) -> Textiles | E1: =RIGHT(SUBSTITUTE('frame fresh and panel'!E1,"_"," "),LEN(SUBSTITUTE('frame fresh and panel'!E1,"_"," "))-1) -> Garments | F1: =RIGHT(SUBSTITUTE('frame fresh and panel'!F1,"_"," "),LEN(SUBSTITUTE('frame fresh and panel'!F1,"_"," "))-1) -> Chemicals and Chemic | G1: =RIGHT(SUBSTITUTE('frame fresh and panel'!G1,"_"," "),LEN(SUBSTITUTE('frame fresh and panel'!G1,"_"," "))-1) -> Pharmaceuticals and | H1: =RIGHT(SUBSTITUTE('frame fresh and panel'!H1,"_"," "),LEN(SUBSTITUTE('frame fresh and panel'!H1,"_"," "))-1) -> Rubber and Plastics | I1: =RIGHT(SUBSTITUTE('frame fresh and panel'!I1,"_"," "),LEN(SUBSTITUTE('frame fresh and panel'!I1,"_"," "))-1) -> Non Metallic Mineral | J1: =RIGHT(SUBSTITUTE('frame fresh and panel'!J1,"_"," "),LEN(SUBSTITUTE('frame fresh and panel'!J1,"_"," "))-1) -> Basic Metals | ... T1: =RIGHT(SUBSTITUTE('frame fresh and panel'!T1,"_"," "),LEN(SUBSTITUTE('frame fresh and panel'!T1,"_"," "))-1) -> Other Services | U1: Total
A2: ='frame fresh and panel'!A2 -> Andhra Pradesh, A&N Islands | B2: =LEFT('frame fresh and panel'!B2,FIND(")",'frame fresh and panel'!B2)) -> Small (5-19) | C2: ='frame fresh and panel'!C2 -> 4607 | D2: ='frame fresh and panel'!D2 -> 391 | E2: ='frame fresh and panel'!E2 -> 180 | F2: ='frame fresh and panel'!F2 -> 802 | G2: ='frame fresh and panel'!G2 -> 281 | H2: ='frame fresh and panel'!H2 -> 620 | I2: ='frame fresh and panel'!I2 -> 3311 | J2: ='frame fresh and panel'!J2 -> 273 | ... T2: ='frame fresh and panel'!T2 -> 5415 | U2: =SUM(C2:T6) -> 455480
A3: ='frame fresh and panel'!A3 -> Andhra Pradesh, A&N Islands | B3: =LEFT('frame fresh and panel'!B3,FIND(")",'frame fresh and panel'!B3)) -> Medium (20-99) | C3: ='frame fresh and panel'!C3 -> 1794 | D3: ='frame fresh and panel'!D3 -> 221 | E3: ='frame fresh and panel'!E3 -> 70 | F3: ='frame fresh and panel'!F3 -> 289 | G3: ='frame fresh and panel'!G3 -> 181 | H3: ='frame fresh and panel'!H3 -> 311 | I3: ='frame fresh and panel'!I3 -> 1726 | J3: ='frame fresh and panel'!J3 -> 225 | ... T3: ='frame fresh and panel'!T3 -> 646
A4: ='frame fresh and panel'!A4 -> Andhra Pradesh, A&N Islands | B4: =LEFT('frame fresh and panel'!B4,FIND(")",'frame fresh and panel'!B4)) -> Large (100-199) | C4: ='frame fresh and panel'!C4 -> 160 | D4: ='frame fresh and panel'!D4 -> 65 | E4: ='frame fresh and panel'!E4 -> 23 | F4: ='frame fresh and panel'!F4 -> 50 | G4: ='frame fresh and panel'!G4 -> 54 | H4: ='frame fresh and panel'!H4 -> 33 | I4: ='frame fresh and panel'!I4 -> 27 | J4: ='frame fresh and panel'!J4 -> 43 | ... T4: ='frame fresh and panel'!T4 -> 111
A5: ='frame fresh and panel'!A5 -> Andhra Pradesh, A&N Islands | B5: =LEFT('frame fresh and panel'!B5,FIND(")",'frame fresh and panel'!B5)) -> Very Large (200 or more) | C5: ='frame fresh and panel'!C5 -> 296 | D5: ='frame fresh and panel'!D5 -> 133 | E5: ='frame fresh and panel'!E5 -> 53 | F5: ='frame fresh and panel'!F5 -> 80 | G5: ='frame fresh and panel'!G5 -> 117 | H5: ='frame fresh and panel'!H5 -> 31 | I5: ='frame fresh and panel'!I5 -> 65 | J5: ='frame fresh and panel'!J5 -> 90 | ... T5: ='frame fresh and panel'!T5 -> 108
A6: ='frame fresh and panel'!A6 -> Andhra Pradesh, A&N Islands | B6: Unknown | C6: ='frame fresh and panel'!C6 -> 36989 | D6: ='frame fresh and panel'!D6 -> 31705 | E6: ='frame fresh and panel'!E6 -> 11365 | F6: ='frame fresh and panel'!F6 -> 1600 | G6: ='frame fresh and panel'!G6 -> 1372 | H6: ='frame fresh and panel'!H6 -> 3971 | I6: ='frame fresh and panel'!I6 -> 8938 | J6: ='frame fresh and panel'!J6 -> 3422 | ... T6: ='frame fresh and panel'!T6 -> 75889
A7: ='frame fresh and panel'!A7 -> Arunachal Pradesh, Nagaland, Manipur, Tripura, Meghalaya, Mizoram, Sikkim | B7: =LEFT('frame fresh and panel'!B7,FIND(")",'frame fresh and panel'!B7)) -> Small (5-19) | C7: ='frame fresh and panel'!C7 -> 414 | D7: ='frame fresh and panel'!D7 -> 81 | E7: ='frame fresh and panel'!E7 -> 64 | F7: ='frame fresh and panel'!F7 -> 75 | G7: ='frame fresh and panel'!G7 -> 22 | H7: ='frame fresh and panel'!H7 -> 74 | I7: ='frame fresh and panel'!I7 -> 395 | J7: ='frame fresh and panel'!J7 -> 44 | ... T7: ='frame fresh and panel'!T7 -> 965 | U7: =SUM(C7:T11) -> 58542
A8: ='frame fresh and panel'!A8 -> Arunachal Pradesh, Nagaland, Manipur, Tripura, Meghalaya, Mizoram, Sikkim | B8: =LEFT('frame fresh and panel'!B8,FIND(")",'frame fresh and panel'!B8)) -> Medium (20-99) | C8: ='frame fresh and panel'!C8 -> 120 | D8: ='frame fresh and panel'!D8 -> 3 | E8: ='frame fresh and panel'!E8 -> 6 | F8: ='frame fresh and panel'!F8 -> 9 | G8: ='frame fresh and panel'!G8 -> 9 | H8: ='frame fresh and panel'!H8 -> 39 | I8: ='frame fresh and panel'!I8 -> 348 | J8: ='frame fresh and panel'!J8 -> 54 | ... T8: ='frame fresh and panel'!T8 -> 91
A9: ='frame fresh and panel'!A9 -> Arunachal Pradesh, Nagaland, Manipur, Tripura, Meghalaya, Mizoram, Sikkim | B9: =LEFT('frame fresh and panel'!B9,FIND(")",'frame fresh and panel'!B9)) -> Large (100-199) | C9: ='frame fresh and panel'!C9 -> 14 | D9: ='frame fresh and panel'!D9 -> 1 | E9: ='frame fresh and panel'!E9 -> 0 | F9: ='frame fresh and panel'!F9 -> 4 | G9: ='frame fresh and panel'!G9 -> 3 | H9: ='frame fresh and panel'!H9 -> 6 | I9: ='frame fresh and panel'!I9 -> 87 | J9: ='frame fresh and panel'!J9 -> 22 | ... T9: ='frame fresh and panel'!T9 -> 9
A10: ='frame fresh and panel'!A10 -> Arunachal Pradesh, Nagaland, Manipur, Tripura, Meghalaya, Mizoram, Sikkim | B10: =LEFT('frame fresh and panel'!B10,FIND(")",'frame fresh and panel'!B10)) -> Very Large (200 or more) | C10: ='frame fresh and panel'!C10 -> 18 | D10: ='frame fresh and panel'!D10 -> 0 | E10: ='frame fresh and panel'!E10 -> 0 | F10: ='frame fresh and panel'!F10 -> 2 | G10: ='frame fresh and panel'!G10 -> 28 | H10: ='frame fresh and panel'!H10 -> 1 | I10: ='frame fresh and panel'!I10 -> 33 | J10: ='frame fresh and panel'!J10 -> 16 | ... T10: ='frame fresh and panel'!T10 -> 3
A11: ='frame fresh and panel'!A11 -> Arunachal Pradesh, Nagaland, Manipur, Tripura, Meghalaya, Mizoram, Sikkim | B11: Unknown | C11: ='frame fresh and panel'!C11 -> 4862 | D11: ='frame fresh and panel'!D11 -> 4815 | E11: ='frame fresh and panel'!E11 -> 2243 | F11: ='frame fresh and panel'!F11 -> 57 | G11: ='frame fresh and panel'!G11 -> 127 | H11: ='frame fresh and panel'!H11 -> 604 | I11: ='frame fresh and panel'!I11 -> 398 | J11: ='frame fresh and panel'!J11 -> 398 | ... T11: ='frame fresh and panel'!T11 -> 8593
A12: ='frame fresh and panel'!A12 -> Assam | B12: =LEFT('frame fresh and panel'!B12,FIND(")",'frame fresh and panel'!B12)) -> Small (5-19) | C12: ='frame fresh and panel'!C12 -> 1110 | D12: ='frame fresh and panel'!D12 -> 112 | E12: ='frame fresh and panel'!E12 -> 73 | F12: ='frame fresh and panel'!F12 -> 300 | G12: ='frame fresh and panel'!G12 -> 150 | H12: ='frame fresh and panel'!H12 -> 259 | I12: ='frame fresh and panel'!I12 -> 919 | J12: ='frame fresh and panel'!J12 -> 115 | ... T12: ='frame fresh and panel'!T12 -> 1703 | U12: =SUM(C12:T16) -> 120933
A13: ='frame fresh and panel'!A13 -> Assam | B13: =LEFT('frame fresh and panel'!B13,FIND(")",'frame fresh and panel'!B13)) -> Medium (20-99) | C13: ='frame fresh and panel'!C13 -> 889 | D13: ='frame fresh and panel'!D13 -> 44 | E13: ='frame fresh and panel'!E13 -> 9 | F13: ='frame fresh and panel'!F13 -> 109 | G13: ='frame fresh and panel'!G13 -> 44 | H13: ='frame fresh and panel'!H13 -> 220 | I13: ='frame fresh and panel'!I13 -> 1422 | J13: ='frame fresh and panel'!J13 -> 132 | ... T13: ='frame fresh and panel'!T13 -> 281
A14: ='frame fresh and panel'!A14 -> Assam | B14: =LEFT('frame fresh and panel'!B14,FIND(")",'frame fresh and panel'!B14)) -> Large (100-199) | C14: ='frame fresh and panel'!C14 -> 248 | D14: ='frame fresh and panel'!D14 -> 11 | E14: ='frame fresh and panel'!E14 -> 2 | F14: ='frame fresh and panel'!F14 -> 10 | G14: ='frame fresh and panel'!G14 -> 1 | H14: ='frame fresh and panel'!H14 -> 13 | I14: ='frame fresh and panel'!I14 -> 179 | J14: ='frame fresh and panel'!J14 -> 23 | ... T14: ='frame fresh and panel'!T14 -> 43
A15: ='frame fresh and panel'!A15 -> Assam | B15: =LEFT('frame fresh and panel'!B15,FIND(")",'frame fresh and panel'!B15)) -> Very Large (200 or more) | C15: ='frame fresh and panel'!C15 -> 102 | D15: ='frame fresh and panel'!D15 -> 7 | E15: ='frame fresh and panel'!E15 -> 0 | F15: ='frame fresh and panel'!F15 -> 17 | G15: ='frame fresh and panel'!G15 -> 7 | H15: ='frame fresh and panel'!H15 -> 8 | I15: ='frame fresh and panel'!I15 -> 27 | J15: ='frame fresh and panel'!J15 -> 7 | ... T15: ='frame fresh and panel'!T15 -> 12
A16: ='frame fresh and panel'!A16 -> Assam | B16: Unknown | C16: ='frame fresh and panel'!C16 -> 10972 | D16: ='frame fresh and panel'!D16 -> 7076 | E16: ='frame fresh and panel'!E16 -> 3994 | F16: ='frame fresh and panel'!F16 -> 388 | G16: ='frame fresh and panel'!G16 -> 314 | H16: ='frame fresh and panel'!H16 -> 509 | I16: ='frame fresh and panel'!I16 -> 1008 | J16: ='frame fresh and panel'!J16 -> 605 | ... T16: ='frame fresh and panel'!T16 -> 19016
A17: ='frame fresh and panel'!A17 -> Bihar | B17: =LEFT('frame fresh and panel'!B17,FIND(")",'frame fresh and panel'!B17)) -> Small (5-19) | C17: ='frame fresh and panel'!C17 -> 2249 | D17: ='frame fresh and panel'!D17 -> 193 | E17: ='frame fresh and panel'!E17 -> 276 | F17: ='frame fresh and panel'!F17 -> 787 | G17: ='frame fresh and panel'!G17 -> 452 | H17: ='frame fresh and panel'!H17 -> 240 | I17: ='frame fresh and panel'!I17 -> 702 | J17: ='frame fresh and panel'!J17 -> 166 | ... T17: ='frame fresh and panel'!T17 -> 7323 | U17: =SUM(C17:T21) -> 519807
A18: ='frame fresh and panel'!A18 -> Bihar | B18: =LEFT('frame fresh and panel'!B18,FIND(")",'frame fresh and panel'!B18)) -> Medium (20-99) | C18: ='frame fresh and panel'!C18 -> 662 | D18: ='frame fresh and panel'!D18 -> 14 | E18: ='frame fresh and panel'!E18 -> 10 | F18: ='frame fresh and panel'!F18 -> 44 | G18: ='frame fresh and panel'!G18 -> 35 | H18: ='frame fresh and panel'!H18 -> 128 | I18: ='frame fresh and panel'!I18 -> 651 | J18: ='frame fresh and panel'!J18 -> 113 | ... T18: ='frame fresh and panel'!T18 -> 411
A19: ='frame fresh and panel'!A19 -> Bihar | B19: =LEFT('frame fresh and panel'!B19,FIND(")",'frame fresh and panel'!B19)) -> Large (100-199) | C19: ='frame fresh and panel'!C19 -> 123 | D19: ='frame fresh and panel'!D19 -> 6 | E19: ='frame fresh and panel'!E19 -> 0 | F19: ='frame fresh and panel'!F19 -> 8 | G19: ='frame fresh and panel'!G19 -> 7 | H19: ='frame fresh and panel'!H19 -> 12 | I19: ='frame fresh and panel'!I19 -> 173 | J19: ='frame fresh and panel'!J19 -> 27 | ... T19: ='frame fresh and panel'!T19 -> 84
A20: ='frame fresh and panel'!A20 -> Bihar | B20: =LEFT('frame fresh and panel'!B20,FIND(")",'frame fresh and panel'!B20)) -> Very Large (200 or more) | C20: ='frame fresh and panel'!C20 -> 71 | D20: ='frame fresh and panel'!D20 -> 2 | E20: ='frame fresh and panel'!E20 -> 0 | F20: ='frame fresh and panel'!F20 -> 5 | G20: ='frame fresh and panel'!G20 -> 1 | H20: ='frame fresh and panel'!H20 -> 5 | I20: ='frame fresh and panel'!I20 -> 8 | J20: ='frame fresh and panel'!J20 -> 23 | ... T20: ='frame fresh and panel'!T20 -> 20
A21: ='frame fresh and panel'!A21 -> Bihar | B21: Unknown | C21: ='frame fresh and panel'!C21 -> 51245 | D21: ='frame fresh and panel'!D21 -> 15675 | E21: ='frame fresh and panel'!E21 -> 6963 | F21: ='frame fresh and panel'!F21 -> 4829 | G21: ='frame fresh and panel'!G21 -> 2567 | H21: ='frame fresh and panel'!H21 -> 3932 | I21: ='frame fresh and panel'!I21 -> 8498 | J21: ='frame fresh and panel'!J21 -> 5995 | ... T21: ='frame fresh and panel'!T21 -> 87017
A22: ='frame fresh and panel'!A22 -> Chhattisgarh | B22: =LEFT('frame fresh and panel'!B22,FIND(")",'frame fresh and panel'!B22)) -> Small (5-19) | C22: ='frame fresh and panel'!C22 -> 1798 | D22: ='frame fresh and panel'!D22 -> 66 | E22: ='frame fresh and panel'!E22 -> 67 | F22: ='frame fresh and panel'!F22 -> 321 | G22: ='frame fresh and panel'!G22 -> 115 | H22: ='frame fresh and panel'!H22 -> 137 | I22: ='frame fresh and panel'!I22 -> 459 | J22: ='frame fresh and panel'!J22 -> 631 | ... T22: ='frame fresh and panel'!T22 -> 1620 | U22: =SUM(C22:T26) -> 214687
A23: ='frame fresh and panel'!A23 -> Chhattisgarh | B23: =LEFT('frame fresh and panel'!B23,FIND(")",'frame fresh and panel'!B23)) -> Medium (20-99) | C23: ='frame fresh and panel'!C23 -> 900 | D23: ='frame fresh and panel'!D23 -> 22 | E23: ='frame fresh and panel'!E23 -> 8 | F23: ='frame fresh and panel'!F23 -> 104 | G23: ='frame fresh and panel'!G23 -> 14 | H23: ='frame fresh and panel'!H23 -> 88 | I23: ='frame fresh and panel'!I23 -> 171 | J23: ='frame fresh and panel'!J23 -> 637 | ... T23: ='frame fresh and panel'!T23 -> 251
A24: ='frame fresh and panel'!A24 -> Chhattisgarh | B24: =LEFT('frame fresh and panel'!B24,FIND(")",'frame fresh and panel'!B24)) -> Large (100-199) | C24: ='frame fresh and panel'!C24 -> 54 | D24: ='frame fresh and panel'!D24 -> 5 | E24: ='frame fresh and panel'!E24 -> 2 | F24: ='frame fresh and panel'!F24 -> 18 | G24: ='frame fresh and panel'!G24 -> 1 | H24: ='frame fresh and panel'!H24 -> 14 | I24: ='frame fresh and panel'!I24 -> 14 | J24: ='frame fresh and panel'!J24 -> 122 | ... T24: ='frame fresh and panel'!T24 -> 39
A25: ='frame fresh and panel'!A25 -> Chhattisgarh | B25: =LEFT('frame fresh and panel'!B25,FIND(")",'frame fresh and panel'!B25)) -> Very Large (200 or more) | C25: ='frame fresh and panel'!C25 -> 39 | D25: ='frame fresh and panel'!D25 -> 5 | E25: ='frame fresh and panel'!E25 -> 1 | F25: ='frame fresh and panel'!F25 -> 14 | G25: ='frame fresh and panel'!G25 -> 1 | H25: ='frame fresh and panel'!H25 -> 4 | I25: ='frame fresh and panel'!I25 -> 25 | J25: ='frame fresh and panel'!J25 -> 246 | ... T25: ='frame fresh and panel'!T25 -> 16
A26: ='frame fresh and panel'!A26 -> Chhattisgarh | B26: Unknown | C26: ='frame fresh and panel'!C26 -> 10062 | D26: ='frame fresh and panel'!D26 -> 3421 | E26: ='frame fresh and panel'!E26 -> 5662 | F26: ='frame fresh and panel'!F26 -> 1066 | G26: ='frame fresh and panel'!G26 -> 514 | H26: ='frame fresh and panel'!H26 -> 1334 | I26: ='frame fresh and panel'!I26 -> 3286 | J26: ='frame fresh and panel'!J26 -> 2048 | ... T26: ='frame fresh and panel'!T26 -> 42050
A27: ='frame fresh and panel'!A27 -> Delhi | B27: =LEFT('frame fresh and panel'!B27,FIND(")",'frame fresh and panel'!B27)) -> Small (5-19) | C27: ='frame fresh and panel'!C27 -> 3967 | D27: ='frame fresh and panel'!D27 -> 1832 | E27: ='frame fresh and panel'!E27 -> 3370 | F27: ='frame fresh and panel'!F27 -> 3146 | G27: ='frame fresh and panel'!G27 -> 1715 | H27: ='frame fresh and panel'!H27 -> 1511 | I27: ='frame fresh and panel'!I27 -> 399 | J27: ='frame fresh and panel'!J27 -> 1353 | ... T27: ='frame fresh and panel'!T27 -> 61278 | U27: =SUM(C27:T31) -> 450747
A28: ='frame fresh and panel'!A28 -> Delhi | B28: =LEFT('frame fresh and panel'!B28,FIND(")",'frame fresh and panel'!B28)) -> Medium (20-99) | C28: ='frame fresh and panel'!C28 -> 718 | D28: ='frame fresh and panel'!D28 -> 445 | E28: ='frame fresh and panel'!E28 -> 770 | F28: ='frame fresh and panel'!F28 -> 513 | G28: ='frame fresh and panel'!G28 -> 238 | H28: ='frame fresh and panel'!H28 -> 606 | I28: ='frame fresh and panel'!I28 -> 145 | J28: ='frame fresh and panel'!J28 -> 676 | ... T28: ='frame fresh and panel'!T28 -> 9682
A29: ='frame fresh and panel'!A29 -> Delhi | B29: =LEFT('frame fresh and panel'!B29,FIND(")",'frame fresh and panel'!B29)) -> Large (100-199) | C29: ='frame fresh and panel'!C29 -> 168 | D29: ='frame fresh and panel'!D29 -> 87 | E29: ='frame fresh and panel'!E29 -> 110 | F29: ='frame fresh and panel'!F29 -> 82 | G29: ='frame fresh and panel'!G29 -> 44 | H29: ='frame fresh and panel'!H29 -> 82 | I29: ='frame fresh and panel'!I29 -> 22 | J29: ='frame fresh and panel'!J29 -> 140 | ... T29: ='frame fresh and panel'!T29 -> 1635
A30: ='frame fresh and panel'!A30 -> Delhi | B30: =LEFT('frame fresh and panel'!B30,FIND(")",'frame fresh and panel'!B30)) -> Very Large (200 or more) | C30: ='frame fresh and panel'!C30 -> 205 | D30: ='frame fresh and panel'!D30 -> 52 | E30: ='frame fresh and panel'!E30 -> 74 | F30: ='frame fresh and panel'!F30 -> 112 | G30: ='frame fresh and panel'!G30 -> 57 | H30: ='frame fresh and panel'!H30 -> 66 | I30: ='frame fresh and panel'!I30 -> 36 | J30: ='frame fresh and panel'!J30 -> 127 | ... T30: ='frame fresh and panel'!T30 -> 1557
A31: ='frame fresh and panel'!A31 -> Delhi | B31: Unknown | C31: ='frame fresh and panel'!C31 -> 8222 | D31: ='frame fresh and panel'!D31 -> 10599 | E31: ='frame fresh and panel'!E31 -> 7082 | F31: ='frame fresh and panel'!F31 -> 2488 | G31: ='frame fresh and panel'!G31 -> 2069 | H31: ='frame fresh and panel'!H31 -> 7286 | I31: ='frame fresh and panel'!I31 -> 1648 | J31: ='frame fresh and panel'!J31 -> 3579 | ... T31: ='frame fresh and panel'!T31 -> 52902
A32: ='frame fresh and panel'!A32 -> Goa | B32: =LEFT('frame fresh and panel'!B32,FIND(")",'frame fresh and panel'!B32)) -> Small (5-19) | C32: ='frame fresh and panel'!C32 -> 217 | D32: ='frame fresh and panel'!D32 -> 28 | E32: ='frame fresh and panel'!E32 -> 52 | F32: ='frame fresh and panel'!F32 -> 82 | G32: ='frame fresh and panel'!G32 -> 39 | H32: ='frame fresh and panel'!H32 -> 46 | I32: ='frame fresh and panel'!I32 -> 65 | J32: ='frame fresh and panel'!J32 -> 36 | ... T32: ='frame fresh and panel'!T32 -> 1175 | U32: =SUM(C32:T36) -> 44259
A33: ='frame fresh and panel'!A33 -> Goa | B33: =LEFT('frame fresh and panel'!B33,FIND(")",'frame fresh and panel'!B33)) -> Medium (20-99) | C33: ='frame fresh and panel'!C33 -> 67 | D33: ='frame fresh and panel'!D33 -> 7 | E33: ='frame fresh and panel'!E33 -> 5 | F33: ='frame fresh and panel'!F33 -> 33 | G33: ='frame fresh and panel'!G33 -> 23 | H33: ='frame fresh and panel'!H33 -> 40 | I33: ='frame fresh and panel'!I33 -> 26 | J33: ='frame fresh and panel'!J33 -> 53 | ... T33: ='frame fresh and panel'!T33 -> 136
A34: ='frame fresh and panel'!A34 -> Goa | B34: =LEFT('frame fresh and panel'!B34,FIND(")",'frame fresh and panel'!B34)) -> Large (100-199) | C34: ='frame fresh and panel'!C34 -> 19 | D34: ='frame fresh and panel'!D34 -> 1 | E34: ='frame fresh and panel'!E34 -> 3 | F34: ='frame fresh and panel'!F34 -> 12 | G34: ='frame fresh and panel'!G34 -> 12 | H34: ='frame fresh and panel'!H34 -> 9 | I34: ='frame fresh and panel'!I34 -> 4 | J34: ='frame fresh and panel'!J34 -> 12 | ... T34: ='frame fresh and panel'!T34 -> 21
A35: ='frame fresh and panel'!A35 -> Goa | B35: =LEFT('frame fresh and panel'!B35,FIND(")",'frame fresh and panel'!B35)) -> Very Large (200 or more) | C35: ='frame fresh and panel'!C35 -> 9 | D35: ='frame fresh and panel'!D35 -> 6 | E35: ='frame fresh and panel'!E35 -> 0 | F35: ='frame fresh and panel'!F35 -> 11 | G35: ='frame fresh and panel'!G35 -> 51 | H35: ='frame fresh and panel'!H35 -> 8 | I35: ='frame fresh and panel'!I35 -> 2 | J35: ='frame fresh and panel'!J35 -> 20 | ... T35: ='frame fresh and panel'!T35 -> 15
A36: ='frame fresh and panel'!A36 -> Goa | B36: Unknown | C36: ='frame fresh and panel'!C36 -> 1757 | D36: ='frame fresh and panel'!D36 -> 384 | E36: ='frame fresh and panel'!E36 -> 1063 | F36: ='frame fresh and panel'!F36 -> 24 | G36: ='frame fresh and panel'!G36 -> 83 | H36: ='frame fresh and panel'!H36 -> 258 | I36: ='frame fresh and panel'!I36 -> 211 | J36: ='frame fresh and panel'!J36 -> 120 | ... T36: ='frame fresh and panel'!T36 -> 10151 | U36: =SUM(C37:T41) -> 923467
A37: ='frame fresh and panel'!A37 -> Gujarat, Dadra & Nagar Haveli & Daman & Diu | B37: =LEFT('frame fresh and panel'!B37,FIND(")",'frame fresh and panel'!B37)) -> Small (5-19) | C37: ='frame fresh and panel'!C37 -> 3328 | D37: ='frame fresh and panel'!D37 -> 4038 | E37: ='frame fresh and panel'!E37 -> 826 | F37: ='frame fresh and panel'!F37 -> 4927 | G37: ='frame fresh and panel'!G37 -> 2123 | H37: ='frame fresh and panel'!H37 -> 2595 | I37: ='frame fresh and panel'!I37 -> 1830 | J37: ='frame fresh and panel'!J37 -> 2118 | ... T37: ='frame fresh and panel'!T37 -> 13049
A38: ='frame fresh and panel'!A38 -> Gujarat, Dadra & Nagar Haveli & Daman & Diu | B38: =LEFT('frame fresh and panel'!B38,FIND(")",'frame fresh and panel'!B38)) -> Medium (20-99) | C38: ='frame fresh and panel'!C38 -> 1821 | D38: ='frame fresh and panel'!D38 -> 4008 | E38: ='frame fresh and panel'!E38 -> 531 | F38: ='frame fresh and panel'!F38 -> 2559 | G38: ='frame fresh and panel'!G38 -> 1054 | H38: ='frame fresh and panel'!H38 -> 2723 | I38: ='frame fresh and panel'!I38 -> 2230 | J38: ='frame fresh and panel'!J38 -> 2114 | ... T38: ='frame fresh and panel'!T38 -> 1412
A39: ='frame fresh and panel'!A39 -> Gujarat, Dadra & Nagar Haveli & Daman & Diu | B39: =LEFT('frame fresh and panel'!B39,FIND(")",'frame fresh and panel'!B39)) -> Large (100-199) | C39: ='frame fresh and panel'!C39 -> 217 | D39: ='frame fresh and panel'!D39 -> 498 | E39: ='frame fresh and panel'!E39 -> 68 | F39: ='frame fresh and panel'!F39 -> 369 | G39: ='frame fresh and panel'!G39 -> 184 | H39: ='frame fresh and panel'!H39 -> 303 | I39: ='frame fresh and panel'!I39 -> 393 | J39: ='frame fresh and panel'!J39 -> 263 | ... T39: ='frame fresh and panel'!T39 -> 263
A40: ='frame fresh and panel'!A40 -> Gujarat, Dadra & Nagar Haveli & Daman & Diu | B40: =LEFT('frame fresh and panel'!B40,FIND(")",'frame fresh and panel'!B40)) -> Very Large (200 or more) | C40: ='frame fresh and panel'!C40 -> 317 | D40: ='frame fresh and panel'!D40 -> 773 | E40: ='frame fresh and panel'!E40 -> 81 | F40: ='frame fresh and panel'!F40 -> 643 | G40: ='frame fresh and panel'!G40 -> 332 | H40: ='frame fresh and panel'!H40 -> 380 | I40: ='frame fresh and panel'!I40 -> 382 | J40: ='frame fresh and panel'!J40 -> 300 | ... T40: ='frame fresh and panel'!T40 -> 263
A41: ='frame fresh and panel'!A41 -> Gujarat, Dadra & Nagar Haveli & Daman & Diu | B41: Unknown | C41: ='frame fresh and panel'!C41 -> 47806 | D41: ='frame fresh and panel'!D41 -> 45030 | E41: ='frame fresh and panel'!E41 -> 8743 | F41: ='frame fresh and panel'!F41 -> 15719 | G41: ='frame fresh and panel'!G41 -> 6088 | H41: ='frame fresh and panel'!H41 -> 15939 | I41: ='frame fresh and panel'!I41 -> 16041 | J41: ='frame fresh and panel'!J41 -> 23748 | ... T41: ='frame fresh and panel'!T41 -> 124514
A42: ='frame fresh and panel'!A42 -> Haryana | B42: =LEFT('frame fresh and panel'!B42,FIND(")",'frame fresh and panel'!B42)) -> Small (5-19) | C42: ='frame fresh and panel'!C42 -> 1845 | D42: ='frame fresh and panel'!D42 -> 941 | E42: ='frame fresh and panel'!E42 -> 776 | F42: ='frame fresh and panel'!F42 -> 1559 | G42: ='frame fresh and panel'!G42 -> 708 | H42: ='frame fresh and panel'!H42 -> 620 | I42: ='frame fresh and panel'!I42 -> 419 | J42: ='frame fresh and panel'!J42 -> 506 | ... T42: ='frame fresh and panel'!T42 -> 15298 | U42: =SUM(C42:T46) -> 359018
A43: ='frame fresh and panel'!A43 -> Haryana | B43: =LEFT('frame fresh and panel'!B43,FIND(")",'frame fresh and panel'!B43)) -> Medium (20-99) | C43: ='frame fresh and panel'!C43 -> 793 | D43: ='frame fresh and panel'!D43 -> 786 | E43: ='frame fresh and panel'!E43 -> 486 | F43: ='frame fresh and panel'!F43 -> 351 | G43: ='frame fresh and panel'!G43 -> 128 | H43: ='frame fresh and panel'!H43 -> 459 | I43: ='frame fresh and panel'!I43 -> 952 | J43: ='frame fresh and panel'!J43 -> 324 | ... T43: ='frame fresh and panel'!T43 -> 1215
A44: ='frame fresh and panel'!A44 -> Haryana | B44: =LEFT('frame fresh and panel'!B44,FIND(")",'frame fresh and panel'!B44)) -> Large (100-199) | C44: ='frame fresh and panel'!C44 -> 129 | D44: ='frame fresh and panel'!D44 -> 109 | E44: ='frame fresh and panel'!E44 -> 72 | F44: ='frame fresh and panel'!F44 -> 53 | G44: ='frame fresh and panel'!G44 -> 24 | H44: ='frame fresh and panel'!H44 -> 62 | I44: ='frame fresh and panel'!I44 -> 35 | J44: ='frame fresh and panel'!J44 -> 61 | ... T44: ='frame fresh and panel'!T44 -> 231
A45: ='frame fresh and panel'!A45 -> Haryana | B45: =LEFT('frame fresh and panel'!B45,FIND(")",'frame fresh and panel'!B45)) -> Very Large (200 or more) | C45: ='frame fresh and panel'!C45 -> 152 | D45: ='frame fresh and panel'!D45 -> 142 | E45: ='frame fresh and panel'!E45 -> 159 | F45: ='frame fresh and panel'!F45 -> 59 | G45: ='frame fresh and panel'!G45 -> 31 | H45: ='frame fresh and panel'!H45 -> 63 | I45: ='frame fresh and panel'!I45 -> 31 | J45: ='frame fresh and panel'!J45 -> 88 | ... T45: ='frame fresh and panel'!T45 -> 333
A46: ='frame fresh and panel'!A46 -> Haryana | B46: Unknown | C46: ='frame fresh and panel'!C46 -> 15953 | D46: ='frame fresh and panel'!D46 -> 10390 | E46: ='frame fresh and panel'!E46 -> 11272 | F46: ='frame fresh and panel'!F46 -> 2667 | G46: ='frame fresh and panel'!G46 -> 1833 | H46: ='frame fresh and panel'!H46 -> 4494 | I46: ='frame fresh and panel'!I46 -> 4081 | J46: ='frame fresh and panel'!J46 -> 4452 | ... T46: ='frame fresh and panel'!T46 -> 60876
A47: ='frame fresh and panel'!A47 -> Himachal Pradesh | B47: =LEFT('frame fresh and panel'!B47,FIND(")",'frame fresh and panel'!B47)) -> Small (5-19) | C47: ='frame fresh and panel'!C47 -> 266 | D47: ='frame fresh and panel'!D47 -> 50 | E47: ='frame fresh and panel'!E47 -> 31 | F47: ='frame fresh and panel'!F47 -> 279 | G47: ='frame fresh and panel'!G47 -> 264 | H47: ='frame fresh and panel'!H47 -> 142 | I47: ='frame fresh and panel'!I47 -> 57 | J47: ='frame fresh and panel'!J47 -> 72 | ... T47: ='frame fresh and panel'!T47 -> 957 | U47: =SUM(C47:T51) -> 71094
A48: ='frame fresh and panel'!A48 -> Himachal Pradesh | B48: =LEFT('frame fresh and panel'!B48,FIND(")",'frame fresh and panel'!B48)) -> Medium (20-99) | C48: ='frame fresh and panel'!C48 -> 106 | D48: ='frame fresh and panel'!D48 -> 39 | E48: ='frame fresh and panel'!E48 -> 5 | F48: ='frame fresh and panel'!F48 -> 135 | G48: ='frame fresh and panel'!G48 -> 323 | H48: ='frame fresh and panel'!H48 -> 153 | I48: ='frame fresh and panel'!I48 -> 45 | J48: ='frame fresh and panel'!J48 -> 103 | ... T48: ='frame fresh and panel'!T48 -> 80
A49: ='frame fresh and panel'!A49 -> Himachal Pradesh | B49: =LEFT('frame fresh and panel'!B49,FIND(")",'frame fresh and panel'!B49)) -> Large (100-199) | C49: ='frame fresh and panel'!C49 -> 14 | D49: ='frame fresh and panel'!D49 -> 10 | E49: ='frame fresh and panel'!E49 -> 7 | F49: ='frame fresh and panel'!F49 -> 31 | G49: ='frame fresh and panel'!G49 -> 68 | H49: ='frame fresh and panel'!H49 -> 16 | I49: ='frame fresh and panel'!I49 -> 9 | J49: ='frame fresh and panel'!J49 -> 12 | ... T49: ='frame fresh and panel'!T49 -> 12
A50: ='frame fresh and panel'!A50 -> Himachal Pradesh | B50: =LEFT('frame fresh and panel'!B50,FIND(")",'frame fresh and panel'!B50)) -> Very Large (200 or more) | C50: ='frame fresh and panel'!C50 -> 20 | D50: ='frame fresh and panel'!D50 -> 35 | E50: ='frame fresh and panel'!E50 -> 3 | F50: ='frame fresh and panel'!F50 -> 47 | G50: ='frame fresh and panel'!G50 -> 110 | H50: ='frame fresh and panel'!H50 -> 19 | I50: ='frame fresh and panel'!I50 -> 10 | J50: ='frame fresh and panel'!J50 -> 11 | ... T50: ='frame fresh and panel'!T50 -> 8
A51: ='frame fresh and panel'!A51 -> Himachal Pradesh | B51: Unknown | C51: ='frame fresh and panel'!C51 -> 2265 | D51: ='frame fresh and panel'!D51 -> 1194 | E51: ='frame fresh and panel'!E51 -> 2846 | F51: ='frame fresh and panel'!F51 -> 93 | G51: ='frame fresh and panel'!G51 -> 548 | H51: ='frame fresh and panel'!H51 -> 587 | I51: ='frame fresh and panel'!I51 -> 394 | J51: ='frame fresh and panel'!J51 -> 551 | ... T51: ='frame fresh and panel'!T51 -> 15130
A52: ='frame fresh and panel'!A52 -> Jammu & Kashmir (union territory), Ladakh | B52: =LEFT('frame fresh and panel'!B52,FIND(")",'frame fresh and panel'!B52)) -> Small (5-19) | C52: ='frame fresh and panel'!C52 -> 365 | D52: ='frame fresh and panel'!D52 -> 129 | E52: ='frame fresh and panel'!E52 -> 66 | F52: ='frame fresh and panel'!F52 -> 145 | G52: ='frame fresh and panel'!G52 -> 88 | H52: ='frame fresh and panel'!H52 -> 98 | I52: ='frame fresh and panel'!I52 -> 83 | J52: ='frame fresh and panel'!J52 -> 86 | ... T52: ='frame fresh and panel'!T52 -> 1428 | U52: =SUM(C52:T56) -> 164228
A53: ='frame fresh and panel'!A53 -> Jammu & Kashmir (union territory), Ladakh | B53: =LEFT('frame fresh and panel'!B53,FIND(")",'frame fresh and panel'!B53)) -> Medium (20-99) | C53: ='frame fresh and panel'!C53 -> 122 | D53: ='frame fresh and panel'!D53 -> 21 | E53: ='frame fresh and panel'!E53 -> 13 | F53: ='frame fresh and panel'!F53 -> 57 | G53: ='frame fresh and panel'!G53 -> 12 | H53: ='frame fresh and panel'!H53 -> 59 | I53: ='frame fresh and panel'!I53 -> 51 | J53: ='frame fresh and panel'!J53 -> 63 | ... T53: ='frame fresh and panel'!T53 -> 106
A54: ='frame fresh and panel'!A54 -> Jammu & Kashmir (union territory), Ladakh | B54: =LEFT('frame fresh and panel'!B54,FIND(")",'frame fresh and panel'!B54)) -> Large (100-199) | C54: ='frame fresh and panel'!C54 -> 17 | D54: ='frame fresh and panel'!D54 -> 7 | E54: ='frame fresh and panel'!E54 -> 8 | F54: ='frame fresh and panel'!F54 -> 31 | G54: ='frame fresh and panel'!G54 -> 4 | H54: ='frame fresh and panel'!H54 -> 9 | I54: ='frame fresh and panel'!I54 -> 7 | J54: ='frame fresh and panel'!J54 -> 10 | ... T54: ='frame fresh and panel'!T54 -> 33
A55: ='frame fresh and panel'!A55 -> Jammu & Kashmir (union territory), Ladakh | B55: =LEFT('frame fresh and panel'!B55,FIND(")",'frame fresh and panel'!B55)) -> Very Large (200 or more) | C55: ='frame fresh and panel'!C55 -> 14 | D55: ='frame fresh and panel'!D55 -> 4 | E55: ='frame fresh and panel'!E55 -> 4 | F55: ='frame fresh and panel'!F55 -> 27 | G55: ='frame fresh and panel'!G55 -> 21 | H55: ='frame fresh and panel'!H55 -> 11 | I55: ='frame fresh and panel'!I55 -> 14 | J55: ='frame fresh and panel'!J55 -> 13 | ... T55: ='frame fresh and panel'!T55 -> 21
A56: ='frame fresh and panel'!A56 -> Jammu & Kashmir (union territory), Ladakh | B56: Unknown | C56: ='frame fresh and panel'!C56 -> 8368 | D56: ='frame fresh and panel'!D56 -> 12751 | E56: ='frame fresh and panel'!E56 -> 11308 | F56: ='frame fresh and panel'!F56 -> 188 | G56: ='frame fresh and panel'!G56 -> 489 | H56: ='frame fresh and panel'!H56 -> 817 | I56: ='frame fresh and panel'!I56 -> 1965 | J56: ='frame fresh and panel'!J56 -> 1685 | ... T56: ='frame fresh and panel'!T56 -> 26017
A57: ='frame fresh and panel'!A57 -> Jharkhand | B57: =LEFT('frame fresh and panel'!B57,FIND(")",'frame fresh and panel'!B57)) -> Small (5-19) | C57: ='frame fresh and panel'!C57 -> 588 | D57: ='frame fresh and panel'!D57 -> 73 | E57: ='frame fresh and panel'!E57 -> 91 | F57: ='frame fresh and panel'!F57 -> 275 | G57: ='frame fresh and panel'!G57 -> 102 | H57: ='frame fresh and panel'!H57 -> 109 | I57: ='frame fresh and panel'!I57 -> 558 | J57: ='frame fresh and panel'!J57 -> 262 | ... T57: ='frame fresh and panel'!T57 -> 2856 | U57: =SUM(C57:T61) -> 256391
A58: ='frame fresh and panel'!A58 -> Jharkhand | B58: =LEFT('frame fresh and panel'!B58,FIND(")",'frame fresh and panel'!B58)) -> Medium (20-99) | C58: ='frame fresh and panel'!C58 -> 207 | D58: ='frame fresh and panel'!D58 -> 13 | E58: ='frame fresh and panel'!E58 -> 11 | F58: ='frame fresh and panel'!F58 -> 64 | G58: ='frame fresh and panel'!G58 -> 8 | H58: ='frame fresh and panel'!H58 -> 65 | I58: ='frame fresh and panel'!I58 -> 632 | J58: ='frame fresh and panel'!J58 -> 336 | ... T58: ='frame fresh and panel'!T58 -> 326
A59: ='frame fresh and panel'!A59 -> Jharkhand | B59: =LEFT('frame fresh and panel'!B59,FIND(")",'frame fresh and panel'!B59)) -> Large (100-199) | C59: ='frame fresh and panel'!C59 -> 45 | D59: ='frame fresh and panel'!D59 -> 6 | E59: ='frame fresh and panel'!E59 -> 0 | F59: ='frame fresh and panel'!F59 -> 5 | G59: ='frame fresh and panel'!G59 -> 0 | H59: ='frame fresh and panel'!H59 -> 9 | I59: ='frame fresh and panel'!I59 -> 14 | J59: ='frame fresh and panel'!J59 -> 53 | ... T59: ='frame fresh and panel'!T59 -> 43
A60: ='frame fresh and panel'!A60 -> Jharkhand | B60: =LEFT('frame fresh and panel'!B60,FIND(")",'frame fresh and panel'!B60)) -> Very Large (200 or more) | C60: ='frame fresh and panel'!C60 -> 17 | D60: ='frame fresh and panel'!D60 -> 1 | E60: ='frame fresh and panel'!E60 -> 11 | F60: ='frame fresh and panel'!F60 -> 11 | G60: ='frame fresh and panel'!G60 -> 0 | H60: ='frame fresh and panel'!H60 -> 6 | I60: ='frame fresh and panel'!I60 -> 21 | J60: ='frame fresh and panel'!J60 -> 67 | ... T60: ='frame fresh and panel'!T60 -> 17
A61: ='frame fresh and panel'!A61 -> Jharkhand | B61: Unknown | C61: ='frame fresh and panel'!C61 -> 13687 | D61: ='frame fresh and panel'!D61 -> 4673 | E61: ='frame fresh and panel'!E61 -> 6837 | F61: ='frame fresh and panel'!F61 -> 1147 | G61: ='frame fresh and panel'!G61 -> 702 | H61: ='frame fresh and panel'!H61 -> 1536 | I61: ='frame fresh and panel'!I61 -> 3441 | J61: ='frame fresh and panel'!J61 -> 2254 | ... T61: ='frame fresh and panel'!T61 -> 44677
A62: ='frame fresh and panel'!A62 -> Karnataka | B62: =LEFT('frame fresh and panel'!B62,FIND(")",'frame fresh and panel'!B62)) -> Small (5-19) | C62: ='frame fresh and panel'!C62 -> 4074 | D62: ='frame fresh and panel'!D62 -> 753 | E62: ='frame fresh and panel'!E62 -> 977 | F62: ='frame fresh and panel'!F62 -> 1766 | G62: ='frame fresh and panel'!G62 -> 692 | H62: ='frame fresh and panel'!H62 -> 772 | I62: ='frame fresh and panel'!I62 -> 720 | J62: ='frame fresh and panel'!J62 -> 647 | ... T62: ='frame fresh and panel'!T62 -> 26362 | U62: =SUM(C62:T66) -> 685429
A63: ='frame fresh and panel'!A63 -> Karnataka | B63: =LEFT('frame fresh and panel'!B63,FIND(")",'frame fresh and panel'!B63)) -> Medium (20-99) | C63: ='frame fresh and panel'!C63 -> 1247 | D63: ='frame fresh and panel'!D63 -> 268 | E63: ='frame fresh and panel'!E63 -> 599 | F63: ='frame fresh and panel'!F63 -> 507 | G63: ='frame fresh and panel'!G63 -> 218 | H63: ='frame fresh and panel'!H63 -> 535 | I63: ='frame fresh and panel'!I63 -> 504 | J63: ='frame fresh and panel'!J63 -> 495 | ... T63: ='frame fresh and panel'!T63 -> 2063
A64: ='frame fresh and panel'!A64 -> Karnataka | B64: =LEFT('frame fresh and panel'!B64,FIND(")",'frame fresh and panel'!B64)) -> Large (100-199) | C64: ='frame fresh and panel'!C64 -> 189 | D64: ='frame fresh and panel'!D64 -> 59 | E64: ='frame fresh and panel'!E64 -> 120 | F64: ='frame fresh and panel'!F64 -> 72 | G64: ='frame fresh and panel'!G64 -> 52 | H64: ='frame fresh and panel'!H64 -> 71 | I64: ='frame fresh and panel'!I64 -> 42 | J64: ='frame fresh and panel'!J64 -> 91 | ... T64: ='frame fresh and panel'!T64 -> 339
A65: ='frame fresh and panel'!A65 -> Karnataka | B65: =LEFT('frame fresh and panel'!B65,FIND(")",'frame fresh and panel'!B65)) -> Very Large (200 or more) | C65: ='frame fresh and panel'!C65 -> 359 | D65: ='frame fresh and panel'!D65 -> 75 | E65: ='frame fresh and panel'!E65 -> 341 | F65: ='frame fresh and panel'!F65 -> 144 | G65: ='frame fresh and panel'!G65 -> 94 | H65: ='frame fresh and panel'!H65 -> 117 | I65: ='frame fresh and panel'!I65 -> 40 | J65: ='frame fresh and panel'!J65 -> 130 | ... T65: ='frame fresh and panel'!T65 -> 561
A66: ='frame fresh and panel'!A66 -> Karnataka | B66: Unknown | C66: ='frame fresh and panel'!C66 -> 43798 | D66: ='frame fresh and panel'!D66 -> 37516 | E66: ='frame fresh and panel'!E66 -> 3788 | F66: ='frame fresh and panel'!F66 -> 5973 | G66: ='frame fresh and panel'!G66 -> 2417 | H66: ='frame fresh and panel'!H66 -> 6702 | I66: ='frame fresh and panel'!I66 -> 10803 | J66: ='frame fresh and panel'!J66 -> 6115 | ... T66: ='frame fresh and panel'!T66 -> 95166
A67: ='frame fresh and panel'!A67 -> Kerala | B67: =LEFT('frame fresh and panel'!B67,FIND(")",'frame fresh and panel'!B67)) -> Small (5-19) | C67: ='frame fresh and panel'!C67 -> 2382 | D67: ='frame fresh and panel'!D67 -> 429 | E67: ='frame fresh and panel'!E67 -> 290 | F67: ='frame fresh and panel'!F67 -> 785 | G67: ='frame fresh and panel'!G67 -> 449 | H67: ='frame fresh and panel'!H67 -> 659 | I67: ='frame fresh and panel'!I67 -> 812 | J67: ='frame fresh and panel'!J67 -> 156 | ... T67: ='frame fresh and panel'!T67 -> 10015 | U67: =SUM(C67:T71) -> 346006
A68: ='frame fresh and panel'!A68 -> Kerala | B68: =LEFT('frame fresh and panel'!B68,FIND(")",'frame fresh and panel'!B68)) -> Medium (20-99) | C68: ='frame fresh and panel'!C68 -> 943 | D68: ='frame fresh and panel'!D68 -> 218 | E68: ='frame fresh and panel'!E68 -> 62 | F68: ='frame fresh and panel'!F68 -> 178 | G68: ='frame fresh and panel'!G68 -> 139 | H68: ='frame fresh and panel'!H68 -> 414 | I68: ='frame fresh and panel'!I68 -> 247 | J68: ='frame fresh and panel'!J68 -> 120 | ... T68: ='frame fresh and panel'!T68 -> 1151
A69: ='frame fresh and panel'!A69 -> Kerala | B69: =LEFT('frame fresh and panel'!B69,FIND(")",'frame fresh and panel'!B69)) -> Large (100-199) | C69: ='frame fresh and panel'!C69 -> 161 | D69: ='frame fresh and panel'!D69 -> 27 | E69: ='frame fresh and panel'!E69 -> 6 | F69: ='frame fresh and panel'!F69 -> 17 | G69: ='frame fresh and panel'!G69 -> 17 | H69: ='frame fresh and panel'!H69 -> 51 | I69: ='frame fresh and panel'!I69 -> 37 | J69: ='frame fresh and panel'!J69 -> 42 | ... T69: ='frame fresh and panel'!T69 -> 138
A70: ='frame fresh and panel'!A70 -> Kerala | B70: =LEFT('frame fresh and panel'!B70,FIND(")",'frame fresh and panel'!B70)) -> Very Large (200 or more) | C70: ='frame fresh and panel'!C70 -> 394 | D70: ='frame fresh and panel'!D70 -> 63 | E70: ='frame fresh and panel'!E70 -> 19 | F70: ='frame fresh and panel'!F70 -> 32 | G70: ='frame fresh and panel'!G70 -> 22 | H70: ='frame fresh and panel'!H70 -> 33 | I70: ='frame fresh and panel'!I70 -> 18 | J70: ='frame fresh and panel'!J70 -> 35 | ... T70: ='frame fresh and panel'!T70 -> 106
A71: ='frame fresh and panel'!A71 -> Kerala | B71: Unknown | C71: ='frame fresh and panel'!C71 -> 36204 | D71: ='frame fresh and panel'!D71 -> 15960 | E71: ='frame fresh and panel'!E71 -> 5429 | F71: ='frame fresh and panel'!F71 -> 2689 | G71: ='frame fresh and panel'!G71 -> 2105 | H71: ='frame fresh and panel'!H71 -> 3621 | I71: ='frame fresh and panel'!I71 -> 3132 | J71: ='frame fresh and panel'!J71 -> 1506 | ... T71: ='frame fresh and panel'!T71 -> 54218
A72: ='frame fresh and panel'!A72 -> Madhya Pradesh | B72: =LEFT('frame fresh and panel'!B72,FIND(")",'frame fresh and panel'!B72)) -> Small (5-19) | C72: ='frame fresh and panel'!C72 -> 2052 | D72: ='frame fresh and panel'!D72 -> 363 | E72: ='frame fresh and panel'!E72 -> 256 | F72: ='frame fresh and panel'!F72 -> 1343 | G72: ='frame fresh and panel'!G72 -> 683 | H72: ='frame fresh and panel'!H72 -> 526 | I72: ='frame fresh and panel'!I72 -> 449 | J72: ='frame fresh and panel'!J72 -> 347 | ... T72: ='frame fresh and panel'!T72 -> 6404 | U72: =SUM(C72:T76) -> 633737
A73: ='frame fresh and panel'!A73 -> Madhya Pradesh | B73: =LEFT('frame fresh and panel'!B73,FIND(")",'frame fresh and panel'!B73)) -> Medium (20-99) | C73: ='frame fresh and panel'!C73 -> 825 | D73: ='frame fresh and panel'!D73 -> 156 | E73: ='frame fresh and panel'!E73 -> 61 | F73: ='frame fresh and panel'!F73 -> 286 | G73: ='frame fresh and panel'!G73 -> 150 | H73: ='frame fresh and panel'!H73 -> 336 | I73: ='frame fresh and panel'!I73 -> 178 | J73: ='frame fresh and panel'!J73 -> 202 | ... T73: ='frame fresh and panel'!T73 -> 546
A74: ='frame fresh and panel'!A74 -> Madhya Pradesh | B74: =LEFT('frame fresh and panel'!B74,FIND(")",'frame fresh and panel'!B74)) -> Large (100-199) | C74: ='frame fresh and panel'!C74 -> 174 | D74: ='frame fresh and panel'!D74 -> 37 | E74: ='frame fresh and panel'!E74 -> 9 | F74: ='frame fresh and panel'!F74 -> 44 | G74: ='frame fresh and panel'!G74 -> 34 | H74: ='frame fresh and panel'!H74 -> 61 | I74: ='frame fresh and panel'!I74 -> 45 | J74: ='frame fresh and panel'!J74 -> 34 | ... T74: ='frame fresh and panel'!T74 -> 85
A75: ='frame fresh and panel'!A75 -> Madhya Pradesh | B75: =LEFT('frame fresh and panel'!B75,FIND(")",'frame fresh and panel'!B75)) -> Very Large (200 or more) | C75: ='frame fresh and panel'!C75 -> 169 | D75: ='frame fresh and panel'!D75 -> 67 | E75: ='frame fresh and panel'!E75 -> 12 | F75: ='frame fresh and panel'!F75 -> 70 | G75: ='frame fresh and panel'!G75 -> 35 | H75: ='frame fresh and panel'!H75 -> 59 | I75: ='frame fresh and panel'!I75 -> 47 | J75: ='frame fresh and panel'!J75 -> 53 | ... T75: ='frame fresh and panel'!T75 -> 48
A76: ='frame fresh and panel'!A76 -> Madhya Pradesh | B76: Unknown | C76: ='frame fresh and panel'!C76 -> 47700 | D76: ='frame fresh and panel'!D76 -> 17092 | E76: ='frame fresh and panel'!E76 -> 13812 | F76: ='frame fresh and panel'!F76 -> 5717 | G76: ='frame fresh and panel'!G76 -> 3011 | H76: ='frame fresh and panel'!H76 -> 7008 | I76: ='frame fresh and panel'!I76 -> 10905 | J76: ='frame fresh and panel'!J76 -> 7125 | ... T76: ='frame fresh and panel'!T76 -> 99805
A77: ='frame fresh and panel'!A77 -> Maharashtra | B77: =LEFT('frame fresh and panel'!B77,FIND(")",'frame fresh and panel'!B77)) -> Small (5-19) | C77: ='frame fresh and panel'!C77 -> 9232 | D77: ='frame fresh and panel'!D77 -> 4037 | E77: ='frame fresh and panel'!E77 -> 2292 | F77: ='frame fresh and panel'!F77 -> 8410 | G77: ='frame fresh and panel'!G77 -> 3180 | H77: ='frame fresh and panel'!H77 -> 2985 | I77: ='frame fresh and panel'!I77 -> 1513 | J77: ='frame fresh and panel'!J77 -> 3060 | ... T77: ='frame fresh and panel'!T77 -> 66390 | U77: =SUM(C77:T81) -> 1371841
A78: ='frame fresh and panel'!A78 -> Maharashtra | B78: =LEFT('frame fresh and panel'!B78,FIND(")",'frame fresh and panel'!B78)) -> Medium (20-99) | C78: ='frame fresh and panel'!C78 -> 2092 | D78: ='frame fresh and panel'!D78 -> 2117 | E78: ='frame fresh and panel'!E78 -> 980 | F78: ='frame fresh and panel'!F78 -> 2115 | G78: ='frame fresh and panel'!G78 -> 790 | H78: ='frame fresh and panel'!H78 -> 1552 | I78: ='frame fresh and panel'!I78 -> 681 | J78: ='frame fresh and panel'!J78 -> 1538 | ... T78: ='frame fresh and panel'!T78 -> 5987
A79: ='frame fresh and panel'!A79 -> Maharashtra | B79: =LEFT('frame fresh and panel'!B79,FIND(")",'frame fresh and panel'!B79)) -> Large (100-199) | C79: ='frame fresh and panel'!C79 -> 442 | D79: ='frame fresh and panel'!D79 -> 308 | E79: ='frame fresh and panel'!E79 -> 124 | F79: ='frame fresh and panel'!F79 -> 347 | G79: ='frame fresh and panel'!G79 -> 189 | H79: ='frame fresh and panel'!H79 -> 227 | I79: ='frame fresh and panel'!I79 -> 69 | J79: ='frame fresh and panel'!J79 -> 293 | ... T79: ='frame fresh and panel'!T79 -> 1192
A80: ='frame fresh and panel'!A80 -> Maharashtra | B80: =LEFT('frame fresh and panel'!B80,FIND(")",'frame fresh and panel'!B80)) -> Very Large (200 or more) | C80: ='frame fresh and panel'!C80 -> 721 | D80: ='frame fresh and panel'!D80 -> 440 | E80: ='frame fresh and panel'!E80 -> 127 | F80: ='frame fresh and panel'!F80 -> 584 | G80: ='frame fresh and panel'!G80 -> 320 | H80: ='frame fresh and panel'!H80 -> 263 | I80: ='frame fresh and panel'!I80 -> 107 | J80: ='frame fresh and panel'!J80 -> 425 | ... T80: ='frame fresh and panel'!T80 -> 1494
A81: ='frame fresh and panel'!A81 -> Maharashtra | B81: Unknown | C81: ='frame fresh and panel'!C81 -> 115287 | D81: ='frame fresh and panel'!D81 -> 34995 | E81: ='frame fresh and panel'!E81 -> 19296 | F81: ='frame fresh and panel'!F81 -> 31163 | G81: ='frame fresh and panel'!G81 -> 12330 | H81: ='frame fresh and panel'!H81 -> 23235 | I81: ='frame fresh and panel'!I81 -> 36568 | J81: ='frame fresh and panel'!J81 -> 19332 | ... T81: ='frame fresh and panel'!T81 -> 134394
A82: ='frame fresh and panel'!A82 -> Odisha | B82: =LEFT('frame fresh and panel'!B82,FIND(")",'frame fresh and panel'!B82)) -> Small (5-19) | C82: ='frame fresh and panel'!C82 -> 1557 | D82: ='frame fresh and panel'!D82 -> 159 | E82: ='frame fresh and panel'!E82 -> 121 | F82: ='frame fresh and panel'!F82 -> 466 | G82: ='frame fresh and panel'!G82 -> 186 | H82: ='frame fresh and panel'!H82 -> 216 | I82: ='frame fresh and panel'!I82 -> 575 | J82: ='frame fresh and panel'!J82 -> 379 | ... T82: ='frame fresh and panel'!T82 -> 4321 | U82: =SUM(C82:T86) -> 356003
A83: ='frame fresh and panel'!A83 -> Odisha | B83: =LEFT('frame fresh and panel'!B83,FIND(")",'frame fresh and panel'!B83)) -> Medium (20-99) | C83: ='frame fresh and panel'!C83 -> 958 | D83: ='frame fresh and panel'!D83 -> 43 | E83: ='frame fresh and panel'!E83 -> 9 | F83: ='frame fresh and panel'!F83 -> 115 | G83: ='frame fresh and panel'!G83 -> 37 | H83: ='frame fresh and panel'!H83 -> 143 | I83: ='frame fresh and panel'!I83 -> 276 | J83: ='frame fresh and panel'!J83 -> 355 | ... T83: ='frame fresh and panel'!T83 -> 324
A84: ='frame fresh and panel'!A84 -> Odisha | B84: =LEFT('frame fresh and panel'!B84,FIND(")",'frame fresh and panel'!B84)) -> Large (100-199) | C84: ='frame fresh and panel'!C84 -> 62 | D84: ='frame fresh and panel'!D84 -> 11 | E84: ='frame fresh and panel'!E84 -> 2 | F84: ='frame fresh and panel'!F84 -> 13 | G84: ='frame fresh and panel'!G84 -> 6 | H84: ='frame fresh and panel'!H84 -> 21 | I84: ='frame fresh and panel'!I84 -> 21 | J84: ='frame fresh and panel'!J84 -> 112 | ... T84: ='frame fresh and panel'!T84 -> 56
A85: ='frame fresh and panel'!A85 -> Odisha | B85: =LEFT('frame fresh and panel'!B85,FIND(")",'frame fresh and panel'!B85)) -> Very Large (200 or more) | C85: ='frame fresh and panel'!C85 -> 77 | D85: ='frame fresh and panel'!D85 -> 6 | E85: ='frame fresh and panel'!E85 -> 5 | F85: ='frame fresh and panel'!F85 -> 18 | G85: ='frame fresh and panel'!G85 -> 2 | H85: ='frame fresh and panel'!H85 -> 12 | I85: ='frame fresh and panel'!I85 -> 40 | J85: ='frame fresh and panel'!J85 -> 164 | ... T85: ='frame fresh and panel'!T85 -> 45
A86: ='frame fresh and panel'!A86 -> Odisha | B86: Unknown | C86: ='frame fresh and panel'!C86 -> 31356 | D86: ='frame fresh and panel'!D86 -> 10540 | E86: ='frame fresh and panel'!E86 -> 5989 | F86: ='frame fresh and panel'!F86 -> 3219 | G86: ='frame fresh and panel'!G86 -> 1350 | H86: ='frame fresh and panel'!H86 -> 2111 | I86: ='frame fresh and panel'!I86 -> 5804 | J86: ='frame fresh and panel'!J86 -> 2130 | ... T86: ='frame fresh and panel'!T86 -> 70457
A87: ='frame fresh and panel'!A87 -> Punjab, Chandigarh | B87: =LEFT('frame fresh and panel'!B87,FIND(")",'frame fresh and panel'!B87)) -> Small (5-19) | C87: ='frame fresh and panel'!C87 -> 1911 | D87: ='frame fresh and panel'!D87 -> 847 | E87: ='frame fresh and panel'!E87 -> 684 | F87: ='frame fresh and panel'!F87 -> 830 | G87: ='frame fresh and panel'!G87 -> 588 | H87: ='frame fresh and panel'!H87 -> 399 | I87: ='frame fresh and panel'!I87 -> 611 | J87: ='frame fresh and panel'!J87 -> 941 | ... T87: ='frame fresh and panel'!T87 -> 5410 | U87: =SUM(C87:T91) -> 370934
A88: ='frame fresh and panel'!A88 -> Punjab, Chandigarh | B88: =LEFT('frame fresh and panel'!B88,FIND(")",'frame fresh and panel'!B88)) -> Medium (20-99) | C88: ='frame fresh and panel'!C88 -> 2695 | D88: ='frame fresh and panel'!D88 -> 738 | E88: ='frame fresh and panel'!E88 -> 650 | F88: ='frame fresh and panel'!F88 -> 224 | G88: ='frame fresh and panel'!G88 -> 128 | H88: ='frame fresh and panel'!H88 -> 214 | I88: ='frame fresh and panel'!I88 -> 1630 | J88: ='frame fresh and panel'!J88 -> 791 | ... T88: ='frame fresh and panel'!T88 -> 651
A89: ='frame fresh and panel'!A89 -> Punjab, Chandigarh | B89: =LEFT('frame fresh and panel'!B89,FIND(")",'frame fresh and panel'!B89)) -> Large (100-199) | C89: ='frame fresh and panel'!C89 -> 145 | D89: ='frame fresh and panel'!D89 -> 99 | E89: ='frame fresh and panel'!E89 -> 89 | F89: ='frame fresh and panel'!F89 -> 34 | G89: ='frame fresh and panel'!G89 -> 24 | H89: ='frame fresh and panel'!H89 -> 26 | I89: ='frame fresh and panel'!I89 -> 37 | J89: ='frame fresh and panel'!J89 -> 81 | ... T89: ='frame fresh and panel'!T89 -> 96
A90: ='frame fresh and panel'!A90 -> Punjab, Chandigarh | B90: =LEFT('frame fresh and panel'!B90,FIND(")",'frame fresh and panel'!B90)) -> Very Large (200 or more) | C90: ='frame fresh and panel'!C90 -> 182 | D90: ='frame fresh and panel'!D90 -> 198 | E90: ='frame fresh and panel'!E90 -> 103 | F90: ='frame fresh and panel'!F90 -> 58 | G90: ='frame fresh and panel'!G90 -> 46 | H90: ='frame fresh and panel'!H90 -> 43 | I90: ='frame fresh and panel'!I90 -> 7 | J90: ='frame fresh and panel'!J90 -> 89 | ... T90: ='frame fresh and panel'!T90 -> 62
A91: ='frame fresh and panel'!A91 -> Punjab, Chandigarh | B91: =LEFT('frame fresh and panel'!B91,FIND(")",'frame fresh and panel'!B91)) -> #VALUE! | C91: ='frame fresh and panel'!C91 -> 19098 | D91: ='frame fresh and panel'!D91 -> 13122 | E91: ='frame fresh and panel'!E91 -> 19985 | F91: ='frame fresh and panel'!F91 -> 1524 | G91: ='frame fresh and panel'!G91 -> 1639 | H91: ='frame fresh and panel'!H91 -> 3446 | I91: ='frame fresh and panel'!I91 -> 3384 | J91: ='frame fresh and panel'!J91 -> 4909 | ... T91: ='frame fresh and panel'!T91 -> 66339
A92: ='frame fresh and panel'!A92 -> Rajasthan | B92: =LEFT('frame fresh and panel'!B92,FIND(")",'frame fresh and panel'!B92)) -> Small (5-19) | C92: ='frame fresh and panel'!C92 -> 2099 | D92: ='frame fresh and panel'!D92 -> 1395 | E92: ='frame fresh and panel'!E92 -> 916 | F92: ='frame fresh and panel'!F92 -> 1367 | G92: ='frame fresh and panel'!G92 -> 656 | H92: ='frame fresh and panel'!H92 -> 656 | I92: ='frame fresh and panel'!I92 -> 2076 | J92: ='frame fresh and panel'!J92 -> 810 | ... T92: ='frame fresh and panel'!T92 -> 8401 | U92: =SUM(C92:T96) -> 533710
A93: ='frame fresh and panel'!A93 -> Rajasthan | B93: =LEFT('frame fresh and panel'!B93,FIND(")",'frame fresh and panel'!B93)) -> Medium (20-99) | C93: ='frame fresh and panel'!C93 -> 806 | D93: ='frame fresh and panel'!D93 -> 947 | E93: ='frame fresh and panel'!E93 -> 454 | F93: ='frame fresh and panel'!F93 -> 429 | G93: ='frame fresh and panel'!G93 -> 125 | H93: ='frame fresh and panel'!H93 -> 461 | I93: ='frame fresh and panel'!I93 -> 1359 | J93: ='frame fresh and panel'!J93 -> 640 | ... T93: ='frame fresh and panel'!T93 -> 744
A94: ='frame fresh and panel'!A94 -> Rajasthan | B94: =LEFT('frame fresh and panel'!B94,FIND(")",'frame fresh and panel'!B94)) -> Large (100-199) | C94: ='frame fresh and panel'!C94 -> 126 | D94: ='frame fresh and panel'!D94 -> 130 | E94: ='frame fresh and panel'!E94 -> 108 | F94: ='frame fresh and panel'!F94 -> 67 | G94: ='frame fresh and panel'!G94 -> 35 | H94: ='frame fresh and panel'!H94 -> 82 | I94: ='frame fresh and panel'!I94 -> 74 | J94: ='frame fresh and panel'!J94 -> 84 | ... T94: ='frame fresh and panel'!T94 -> 105
A95: ='frame fresh and panel'!A95 -> Rajasthan | B95: =LEFT('frame fresh and panel'!B95,FIND(")",'frame fresh and panel'!B95)) -> Very Large (200 or more) | C95: ='frame fresh and panel'!C95 -> 104 | D95: ='frame fresh and panel'!D95 -> 162 | E95: ='frame fresh and panel'!E95 -> 103 | F95: ='frame fresh and panel'!F95 -> 99 | G95: ='frame fresh and panel'!G95 -> 39 | H95: ='frame fresh and panel'!H95 -> 61 | I95: ='frame fresh and panel'!I95 -> 125 | J95: ='frame fresh and panel'!J95 -> 78 | ... T95: ='frame fresh and panel'!T95 -> 85
A96: ='frame fresh and panel'!A96 -> Rajasthan | B96: Unknown | C96: ='frame fresh and panel'!C96 -> 28607 | D96: ='frame fresh and panel'!D96 -> 19438 | E96: ='frame fresh and panel'!E96 -> 15765 | F96: ='frame fresh and panel'!F96 -> 4666 | G96: ='frame fresh and panel'!G96 -> 2240 | H96: ='frame fresh and panel'!H96 -> 7082 | I96: ='frame fresh and panel'!I96 -> 18191 | J96: ='frame fresh and panel'!J96 -> 9904 | ... T96: ='frame fresh and panel'!T96 -> 75151
A97: ='frame fresh and panel'!A97 -> Tamil Nadu, Puducherry | B97: =LEFT('frame fresh and panel'!B97,FIND(")",'frame fresh and panel'!B97)) -> Small (5-19) | C97: ='frame fresh and panel'!C97 -> 5548 | D97: ='frame fresh and panel'!D97 -> 4113 | E97: ='frame fresh and panel'!E97 -> 2127 | F97: ='frame fresh and panel'!F97 -> 3097 | G97: ='frame fresh and panel'!G97 -> 771 | H97: ='frame fresh and panel'!H97 -> 1490 | I97: ='frame fresh and panel'!I97 -> 1881 | J97: ='frame fresh and panel'!J97 -> 1198 | ... T97: ='frame fresh and panel'!T97 -> 21810 | U97: =SUM(C97:T101) -> 904545
A98: ='frame fresh and panel'!A98 -> Tamil Nadu, Puducherry | B98: =LEFT('frame fresh and panel'!B98,FIND(")",'frame fresh and panel'!B98)) -> Medium (20-99) | C98: ='frame fresh and panel'!C98 -> 2316 | D98: ='frame fresh and panel'!D98 -> 4257 | E98: ='frame fresh and panel'!E98 -> 2723 | F98: ='frame fresh and panel'!F98 -> 1672 | G98: ='frame fresh and panel'!G98 -> 283 | H98: ='frame fresh and panel'!H98 -> 975 | I98: ='frame fresh and panel'!I98 -> 964 | J98: ='frame fresh and panel'!J98 -> 837 | ... T98: ='frame fresh and panel'!T98 -> 2601
A99: ='frame fresh and panel'!A99 -> Tamil Nadu, Puducherry | B99: =LEFT('frame fresh and panel'!B99,FIND(")",'frame fresh and panel'!B99)) -> Large (100-199) | C99: ='frame fresh and panel'!C99 -> 306 | D99: ='frame fresh and panel'!D99 -> 735 | E99: ='frame fresh and panel'!E99 -> 677 | F99: ='frame fresh and panel'!F99 -> 239 | G99: ='frame fresh and panel'!G99 -> 66 | H99: ='frame fresh and panel'!H99 -> 194 | I99: ='frame fresh and panel'!I99 -> 105 | J99: ='frame fresh and panel'!J99 -> 178 | ... T99: ='frame fresh and panel'!T99 -> 426
A100: ='frame fresh and panel'!A100 -> Tamil Nadu, Puducherry | B100: =LEFT('frame fresh and panel'!B100,FIND(")",'frame fresh and panel'!B100)) -> Very Large (200 or more) | C100: ='frame fresh and panel'!C100 -> 486 | D100: ='frame fresh and panel'!D100 -> 913 | E100: ='frame fresh and panel'!E100 -> 1230 | F100: ='frame fresh and panel'!F100 -> 264 | G100: ='frame fresh and panel'!G100 -> 98 | H100: ='frame fresh and panel'!H100 -> 212 | I100: ='frame fresh and panel'!I100 -> 127 | J100: ='frame fresh and panel'!J100 -> 278 | ... T100: ='frame fresh and panel'!T100 -> 577
...

Sheet Table 3 Original Survey Design
C1: =RIGHT(SUBSTITUTE('original survey design'!C1,"_"," "),LEN(SUBSTITUTE('original survey design'!C1,"_"," "))-1) -> Food | D1: =RIGHT(SUBSTITUTE('original survey design'!D1,"_"," "),LEN(SUBSTITUTE('original survey design'!D1,"_"," "))-1) -> Textiles | E1: =RIGHT(SUBSTITUTE('original survey design'!E1,"_"," "),LEN(SUBSTITUTE('original survey design'!E1,"_"," "))-1) -> Garments | F1: =RIGHT(SUBSTITUTE('original survey design'!F1,"_"," "),LEN(SUBSTITUTE('original survey design'!F1,"_"," "))-1) -> Chemicals and Chemic | G1: =RIGHT(SUBSTITUTE('original survey design'!G1,"_"," "),LEN(SUBSTITUTE('original survey design'!G1,"_"," "))-1) -> Pharmaceuticals and | H1: =RIGHT(SUBSTITUTE('original survey design'!H1,"_"," "),LEN(SUBSTITUTE('original survey design'!H1,"_"," "))-1) -> Rubber and Plastics | I1: =RIGHT(SUBSTITUTE('original survey design'!I1,"_"," "),LEN(SUBSTITUTE('original survey design'!I1,"_"," "))-1) -> Non Metallic Mineral | J1: =RIGHT(SUBSTITUTE('original survey design'!J1,"_"," "),LEN(SUBSTITUTE('original survey design'!J1,"_"," "))-1) -> Basic Metals | ... T1: =RIGHT(SUBSTITUTE('original survey design'!T1,"_"," "),LEN(SUBSTITUTE('original survey design'!T1,"_"," "))-1) -> Other Services | U1: Total
A2: ='original survey design'!A2 -> Andhra Pradesh, A&N Islands | B2: =LEFT('original survey design'!B2,FIND(")",'original survey design'!B2)) -> Small (5-19) | C2: ='original survey design'!C2 -> 5 | D2: ='original survey design'!D2 -> 4 | E2: ='original survey design'!E2 -> 4 | F2: ='original survey design'!F2 -> 4 | G2: ='original survey design'!G2 -> 4 | H2: ='original survey design'!H2 -> 4 | I2: ='original survey design'!I2 -> 4 | J2: ='original survey design'!J2 -> 4 | ... T2: ='original survey design'!T2 -> 4 | U2: =SUM(C2:T6) -> 456
A3: ='original survey design'!A3 -> Andhra Pradesh, A&N Islands | B3: =LEFT('original survey design'!B3,FIND(")",'original survey design'!B3)) -> Medium (20-99) | C3: ='original survey design'!C3 -> 5 | D3: ='original survey design'!D3 -> 4 | E3: ='original survey design'!E3 -> 5 | F3: ='original survey design'!F3 -> 4 | G3: ='original survey design'!G3 -> 4 | H3: ='original survey design'!H3 -> 4 | I3: ='original survey design'!I3 -> 5 | J3: ='original survey design'!J3 -> 4 | ... T3: ='original survey design'!T3 -> 4
A4: ='original survey design'!A4 -> Andhra Pradesh, A&N Islands | B4: =LEFT('original survey design'!B4,FIND(")",'original survey design'!B4)) -> Large (100-199) | C4: ='original survey design'!C4 -> 4 | D4: ='original survey design'!D4 -> 4 | E4: ='original survey design'!E4 -> 4 | F4: ='original survey design'!F4 -> 4 | G4: ='original survey design'!G4 -> 4 | H4: ='original survey design'!H4 -> 4 | I4: ='original survey design'!I4 -> 4 | J4: ='original survey design'!J4 -> 4 | ... T4: ='original survey design'!T4 -> 4
A5: ='original survey design'!A5 -> Andhra Pradesh, A&N Islands | B5: =LEFT('original survey design'!B5,FIND(")",'original survey design'!B5)) -> Very Large (200 or more) | C5: ='original survey design'!C5 -> 4 | D5: ='original survey design'!D5 -> 4 | E5: ='original survey design'!E5 -> 4 | F5: ='original survey design'!F5 -> 4 | G5: ='original survey design'!G5 -> 4 | H5: ='original survey design'!H5 -> 4 | I5: ='original survey design'!I5 -> 4 | J5: ='original survey design'!J5 -> 4 | ... T5: ='original survey design'!T5 -> 4
A6: ='original survey design'!A6 -> Andhra Pradesh, A&N Islands | B6: Unknown | C6: ='original survey design'!C6 -> 8 | D6: ='original survey design'!D6 -> 7 | E6: ='original survey design'!E6 -> 4 | F6: ='original survey design'!F6 -> 4 | G6: ='original survey design'!G6 -> 4 | H6: ='original survey design'!H6 -> 4 | I6: ='original survey design'!I6 -> 4 | J6: ='original survey design'!J6 -> 4 | ... T6: ='original survey design'!T6 -> 16
A7: ='original survey design'!A7 -> Arunachal Pradesh, Nagaland, Manipur, Tripura, Meghalaya, Mizoram, Sikkim | B7: =LEFT('original survey design'!B7,FIND(")",'original survey design'!B7)) -> Small (5-19) | C7: ='original survey design'!C7 -> 4 | D7: ='original survey design'!D7 -> 4 | E7: ='original survey design'!E7 -> 4 | F7: ='original survey design'!F7 -> 4 | G7: ='original survey design'!G7 -> 4 | H7: ='original survey design'!H7 -> 4 | I7: ='original survey design'!I7 -> 4 | J7: ='original survey design'!J7 -> 4 | ... T7: ='original survey design'!T7 -> 4 | U7: =SUM(C7:T11) -> 299
A8: ='original survey design'!A8 -> Arunachal Pradesh, Nagaland, Manipur, Tripura, Meghalaya, Mizoram, Sikkim | B8: =LEFT('original survey design'!B8,FIND(")",'original survey design'!B8)) -> Medium (20-99) | C8: ='original survey design'!C8 -> 4 | D8: ='original survey design'!D8 -> 3 | E8: ='original survey design'!E8 -> 5 | F8: ='original survey design'!F8 -> 4 | G8: ='original survey design'!G8 -> 4 | H8: ='original survey design'!H8 -> 4 | I8: ='original survey design'!I8 -> 4 | J8: ='original survey design'!J8 -> 4 | ... T8: ='original survey design'!T8 -> 4
A9: ='original survey design'!A9 -> Arunachal Pradesh, Nagaland, Manipur, Tripura, Meghalaya, Mizoram, Sikkim | B9: =LEFT('original survey design'!B9,FIND(")",'original survey design'!B9)) -> Large (100-199) | C9: ='original survey design'!C9 -> 4 | D9: ='original survey design'!D9 -> 1 | E9: ='original survey design'!E9 -> 0 | F9: ='original survey design'!F9 -> 4 | G9: ='original survey design'!G9 -> 3 | H9: ='original survey design'!H9 -> 4 | I9: ='original survey design'!I9 -> 4 | J9: ='original survey design'!J9 -> 4 | ... T9: ='original survey design'!T9 -> 4
A10: ='original survey design'!A10 -> Arunachal Pradesh, Nagaland, Manipur, Tripura, Meghalaya, Mizoram, Sikkim | B10: =LEFT('original survey design'!B10,FIND(")",'original survey design'!B10)) -> Very Large (200 or more) | C10: ='original survey design'!C10 -> 4 | D10: ='original survey design'!D10 -> 0 | E10: ='original survey design'!E10 -> 0 | F10: ='original survey design'!F10 -> 2 | G10: ='original survey design'!G10 -> 4 | H10: ='original survey design'!H10 -> 1 | I10: ='original survey design'!I10 -> 4 | J10: ='original survey design'!J10 -> 4 | ... T10: ='original survey design'!T10 -> 2
A11: ='original survey design'!A11 -> Arunachal Pradesh, Nagaland, Manipur, Tripura, Meghalaya, Mizoram, Sikkim | B11: Unknown | C11: ='original survey design'!C11 -> 4 | D11: ='original survey design'!D11 -> 4 | E11: ='original survey design'!E11 -> 4 | F11: ='original survey design'!F11 -> 4 | G11: ='original survey design'!G11 -> 4 | H11: ='original survey design'!H11 -> 4 | I11: ='original survey design'!I11 -> 4 | J11: ='original survey design'!J11 -> 4 | ... T11: ='original survey design'!T11 -> 4
A12: ='original survey design'!A12 -> Assam | B12: =LEFT('original survey design'!B12,FIND(")",'original survey design'!B12)) -> Small (5-19) | C12: ='original survey design'!C12 -> 4 | D12: ='original survey design'!D12 -> 4 | E12: ='original survey design'!E12 -> 4 | F12: ='original survey design'!F12 -> 4 | G12: ='original survey design'!G12 -> 4 | H12: ='original survey design'!H12 -> 4 | I12: ='original survey design'!I12 -> 4 | J12: ='original survey design'!J12 -> 4 | ... T12: ='original survey design'!T12 -> 4 | U12: =SUM(C12:T16) -> 360
A13: ='original survey design'!A13 -> Assam | B13: =LEFT('original survey design'!B13,FIND(")",'original survey design'!B13)) -> Medium (20-99) | C13: ='original survey design'!C13 -> 6 | D13: ='original survey design'!D13 -> 5 | E13: ='original survey design'!E13 -> 6 | F13: ='original survey design'!F13 -> 5 | G13: ='original survey design'!G13 -> 5 | H13: ='original survey design'!H13 -> 5 | I13: ='original survey design'!I13 -> 6 | J13: ='original survey design'!J13 -> 5 | ... T13: ='original survey design'!T13 -> 8
A14: ='original survey design'!A14 -> Assam | B14: =LEFT('original survey design'!B14,FIND(")",'original survey design'!B14)) -> Large (100-199) | C14: ='original survey design'!C14 -> 4 | D14: ='original survey design'!D14 -> 4 | E14: ='original survey design'!E14 -> 2 | F14: ='original survey design'!F14 -> 4 | G14: ='original survey design'!G14 -> 1 | H14: ='original survey design'!H14 -> 4 | I14: ='original survey design'!I14 -> 5 | J14: ='original survey design'!J14 -> 4 | ... T14: ='original survey design'!T14 -> 4
A15: ='original survey design'!A15 -> Assam | B15: =LEFT('original survey design'!B15,FIND(")",'original survey design'!B15)) -> Very Large (200 or more) | C15: ='original survey design'!C15 -> 4 | D15: ='original survey design'!D15 -> 4 | E15: ='original survey design'!E15 -> 0 | F15: ='original survey design'!F15 -> 4 | G15: ='original survey design'!G15 -> 4 | H15: ='original survey design'!H15 -> 4 | I15: ='original survey design'!I15 -> 4 | J15: ='original survey design'!J15 -> 4 | ... T15: ='original survey design'!T15 -> 4
A16: ='original survey design'!A16 -> Assam | B16: Unknown | C16: ='original survey design'!C16 -> 4 | D16: ='original survey design'!D16 -> 4 | E16: ='original survey design'!E16 -> 4 | F16: ='original survey design'!F16 -> 4 | G16: ='original survey design'!G16 -> 4 | H16: ='original survey design'!H16 -> 4 | I16: ='original survey design'!I16 -> 4 | J16: ='original survey design'!J16 -> 4 | ... T16: ='original survey design'!T16 -> 4
A17: ='original survey design'!A17 -> Bihar | B17: =LEFT('original survey design'!B17,FIND(")",'original survey design'!B17)) -> Small (5-19) | C17: ='original survey design'!C17 -> 4 | D17: ='original survey design'!D17 -> 4 | E17: ='original survey design'!E17 -> 4 | F17: ='original survey design'!F17 -> 4 | G17: ='original survey design'!G17 -> 4 | H17: ='original survey design'!H17 -> 4 | I17: ='original survey design'!I17 -> 4 | J17: ='original survey design'!J17 -> 4 | ... T17: ='original survey design'!T17 -> 4 | U17: =SUM(C17:T21) -> 393
A18: ='original survey design'!A18 -> Bihar | B18: =LEFT('original survey design'!B18,FIND(")",'original survey design'!B18)) -> Medium (20-99) | C18: ='original survey design'!C18 -> 4 | D18: ='original survey design'!D18 -> 4 | E18: ='original survey design'!E18 -> 5 | F18: ='original survey design'!F18 -> 4 | G18: ='original survey design'!G18 -> 4 | H18: ='original survey design'!H18 -> 4 | I18: ='original survey design'!I18 -> 4 | J18: ='original survey design'!J18 -> 4 | ... T18: ='original survey design'!T18 -> 4
A19: ='original survey design'!A19 -> Bihar | B19: =LEFT('original survey design'!B19,FIND(")",'original survey design'!B19)) -> Large (100-199) | C19: ='original survey design'!C19 -> 4 | D19: ='original survey design'!D19 -> 4 | E19: ='original survey design'!E19 -> 0 | F19: ='original survey design'!F19 -> 4 | G19: ='original survey design'!G19 -> 4 | H19: ='original survey design'!H19 -> 4 | I19: ='original survey design'!I19 -> 4 | J19: ='original survey design'!J19 -> 4 | ... T19: ='original survey design'!T19 -> 4
A20: ='original survey design'!A20 -> Bihar | B20: =LEFT('original survey design'!B20,FIND(")",'original survey design'!B20)) -> Very Large (200 or more) | C20: ='original survey design'!C20 -> 4 | D20: ='original survey design'!D20 -> 2 | E20: ='original survey design'!E20 -> 0 | F20: ='original survey design'!F20 -> 4 | G20: ='original survey design'!G20 -> 1 | H20: ='original survey design'!H20 -> 4 | I20: ='original survey design'!I20 -> 4 | J20: ='original survey design'!J20 -> 4 | ... T20: ='original survey design'!T20 -> 4
A21: ='original survey design'!A21 -> Bihar | B21: Unknown | C21: ='original survey design'!C21 -> 11 | D21: ='original survey design'!D21 -> 4 | E21: ='original survey design'!E21 -> 4 | F21: ='original survey design'!F21 -> 4 | G21: ='original survey design'!G21 -> 4 | H21: ='original survey design'!H21 -> 4 | I21: ='original survey design'!I21 -> 4 | J21: ='original survey design'!J21 -> 4 | ... T21: ='original survey design'!T21 -> 18
A22: ='original survey design'!A22 -> Chhattisgarh | B22: =LEFT('original survey design'!B22,FIND(")",'original survey design'!B22)) -> Small (5-19) | C22: ='original survey design'!C22 -> 4 | D22: ='original survey design'!D22 -> 4 | E22: ='original survey design'!E22 -> 4 | F22: ='original survey design'!F22 -> 4 | G22: ='original survey design'!G22 -> 4 | H22: ='original survey design'!H22 -> 4 | I22: ='original survey design'!I22 -> 4 | J22: ='original survey design'!J22 -> 4 | ... T22: ='original survey design'!T22 -> 4 | U22: =SUM(C22:T26) -> 355
A23: ='original survey design'!A23 -> Chhattisgarh | B23: =LEFT('original survey design'!B23,FIND(")",'original survey design'!B23)) -> Medium (20-99) | C23: ='original survey design'!C23 -> 4 | D23: ='original survey design'!D23 -> 4 | E23: ='original survey design'!E23 -> 5 | F23: ='original survey design'!F23 -> 4 | G23: ='original survey design'!G23 -> 4 | H23: ='original survey design'!H23 -> 4 | I23: ='original survey design'!I23 -> 4 | J23: ='original survey design'!J23 -> 4 | ... T23: ='original survey design'!T23 -> 4
A24: ='original survey design'!A24 -> Chhattisgarh | B24: =LEFT('original survey design'!B24,FIND(")",'original survey design'!B24)) -> Large (100-199) | C24: ='original survey design'!C24 -> 4 | D24: ='original survey design'!D24 -> 4 | E24: ='original survey design'!E24 -> 2 | F24: ='original survey design'!F24 -> 4 | G24: ='original survey design'!G24 -> 1 | H24: ='original survey design'!H24 -> 4 | I24: ='original survey design'!I24 -> 4 | J24: ='original survey design'!J24 -> 4 | ... T24: ='original survey design'!T24 -> 4
A25: ='original survey design'!A25 -> Chhattisgarh | B25: =LEFT('original survey design'!B25,FIND(")",'original survey design'!B25)) -> Very Large (200 or more) | C25: ='original survey design'!C25 -> 4 | D25: ='original survey design'!D25 -> 4 | E25: ='original survey design'!E25 -> 1 | F25: ='original survey design'!F25 -> 4 | G25: ='original survey design'!G25 -> 1 | H25: ='original survey design'!H25 -> 4 | I25: ='original survey design'!I25 -> 4 | J25: ='original survey design'!J25 -> 4 | ... T25: ='original survey design'!T25 -> 4
A26: ='original survey design'!A26 -> Chhattisgarh | B26: Unknown | C26: ='original survey design'!C26 -> 4 | D26: ='original survey design'!D26 -> 4 | E26: ='original survey design'!E26 -> 4 | F26: ='original survey design'!F26 -> 4 | G26: ='original survey design'!G26 -> 4 | H26: ='original survey design'!H26 -> 4 | I26: ='original survey design'!I26 -> 4 | J26: ='original survey design'!J26 -> 4 | ... T26: ='original survey design'!T26 -> 9
A27: ='original survey design'!A27 -> Delhi | B27: =LEFT('original survey design'!B27,FIND(")",'original survey design'!B27)) -> Small (5-19) | C27: ='original survey design'!C27 -> 4 | D27: ='original survey design'!D27 -> 4 | E27: ='original survey design'!E27 -> 4 | F27: ='original survey design'!F27 -> 4 | G27: ='original survey design'!G27 -> 4 | H27: ='original survey design'!H27 -> 4 | I27: ='original survey design'!I27 -> 4 | J27: ='original survey design'!J27 -> 4 | ... T27: ='original survey design'!T27 -> 13 | U27: =SUM(C27:T31) -> 406
A28: ='original survey design'!A28 -> Delhi | B28: =LEFT('original survey design'!B28,FIND(")",'original survey design'!B28)) -> Medium (20-99) | C28: ='original survey design'!C28 -> 4 | D28: ='original survey design'!D28 -> 4 | E28: ='original survey design'!E28 -> 5 | F28: ='original survey design'!F28 -> 4 | G28: ='original survey design'!G28 -> 4 | H28: ='original survey design'!H28 -> 4 | I28: ='original survey design'!I28 -> 4 | J28: ='original survey design'!J28 -> 4 | ... T28: ='original survey design'!T28 -> 12
A29: ='original survey design'!A29 -> Delhi | B29: =LEFT('original survey design'!B29,FIND(")",'original survey design'!B29)) -> Large (100-199) | C29: ='original survey design'!C29 -> 4 | D29: ='original survey design'!D29 -> 4 | E29: ='original survey design'!E29 -> 4 | F29: ='original survey design'!F29 -> 4 | G29: ='original survey design'!G29 -> 4 | H29: ='original survey design'!H29 -> 4 | I29: ='original survey design'!I29 -> 4 | J29: ='original survey design'!J29 -> 4 | ... T29: ='original survey design'!T29 -> 4
A30: ='original survey design'!A30 -> Delhi | B30: =LEFT('original survey design'!B30,FIND(")",'original survey design'!B30)) -> Very Large (200 or more) | C30: ='original survey design'!C30 -> 4 | D30: ='original survey design'!D30 -> 4 | E30: ='original survey design'!E30 -> 4 | F30: ='original survey design'!F30 -> 4 | G30: ='original survey design'!G30 -> 4 | H30: ='original survey design'!H30 -> 4 | I30: ='original survey design'!I30 -> 4 | J30: ='original survey design'!J30 -> 4 | ... T30: ='original survey design'!T30 -> 4
A31: ='original survey design'!A31 -> Delhi | B31: Unknown | C31: ='original survey design'!C31 -> 4 | D31: ='original survey design'!D31 -> 4 | E31: ='original survey design'!E31 -> 4 | F31: ='original survey design'!F31 -> 4 | G31: ='original survey design'!G31 -> 4 | H31: ='original survey design'!H31 -> 4 | I31: ='original survey design'!I31 -> 4 | J31: ='original survey design'!J31 -> 4 | ... T31: ='original survey design'!T31 -> 11
A32: ='original survey design'!A32 -> Goa | B32: =LEFT('original survey design'!B32,FIND(")",'original survey design'!B32)) -> Small (5-19) | C32: ='original survey design'!C32 -> 4 | D32: ='original survey design'!D32 -> 4 | E32: ='original survey design'!E32 -> 4 | F32: ='original survey design'!F32 -> 4 | G32: ='original survey design'!G32 -> 4 | H32: ='original survey design'!H32 -> 4 | I32: ='original survey design'!I32 -> 4 | J32: ='original survey design'!J32 -> 4 | ... T32: ='original survey design'!T32 -> 4 | U32: =SUM(C32:T36) -> 341
A33: ='original survey design'!A33 -> Goa | B33: =LEFT('original survey design'!B33,FIND(")",'original survey design'!B33)) -> Medium (20-99) | C33: ='original survey design'!C33 -> 4 | D33: ='original survey design'!D33 -> 4 | E33: ='original survey design'!E33 -> 4 | F33: ='original survey design'!F33 -> 4 | G33: ='original survey design'!G33 -> 4 | H33: ='original survey design'!H33 -> 4 | I33: ='original survey design'!I33 -> 4 | J33: ='original survey design'!J33 -> 4 | ... T33: ='original survey design'!T33 -> 4
A34: ='original survey design'!A34 -> Goa | B34: =LEFT('original survey design'!B34,FIND(")",'original survey design'!B34)) -> Large (100-199) | C34: ='original survey design'!C34 -> 4 | D34: ='original survey design'!D34 -> 1 | E34: ='original survey design'!E34 -> 3 | F34: ='original survey design'!F34 -> 4 | G34: ='original survey design'!G34 -> 4 | H34: ='original survey design'!H34 -> 4 | I34: ='original survey design'!I34 -> 3 | J34: ='original survey design'!J34 -> 4 | ... T34: ='original survey design'!T34 -> 4
A35: ='original survey design'!A35 -> Goa | B35: =LEFT('original survey design'!B35,FIND(")",'original survey design'!B35)) -> Very Large (200 or more) | C35: ='original survey design'!C35 -> 4 | D35: ='original survey design'!D35 -> 4 | E35: ='original survey design'!E35 -> 0 | F35: ='original survey design'!F35 -> 4 | G35: ='original survey design'!G35 -> 4 | H35: ='original survey design'!H35 -> 4 | I35: ='original survey design'!I35 -> 2 | J35: ='original survey design'!J35 -> 4 | ... T35: ='original survey design'!T35 -> 4
A36: ='original survey design'!A36 -> Goa | B36: Unknown | C36: ='original survey design'!C36 -> 4 | D36: ='original survey design'!D36 -> 4 | E36: ='original survey design'!E36 -> 4 | F36: ='original survey design'!F36 -> 4 | G36: ='original survey design'!G36 -> 4 | H36: ='original survey design'!H36 -> 4 | I36: ='original survey design'!I36 -> 4 | J36: ='original survey design'!J36 -> 4 | ... T36: ='original survey design'!T36 -> 4 | U36: =SUM(C37:T41) -> 515
A37: ='original survey design'!A37 -> Gujarat, Dadra & Nagar Haveli & Daman & Diu | B37: =LEFT('original survey design'!B37,FIND(")",'original survey design'!B37)) -> Small (5-19) | C37: ='original survey design'!C37 -> 4 | D37: ='original survey design'!D37 -> 14 | E37: ='original survey design'!E37 -> 4 | F37: ='original survey design'!F37 -> 4 | G37: ='original survey design'!G37 -> 4 | H37: ='original survey design'!H37 -> 4 | I37: ='original survey design'!I37 -> 4 | J37: ='original survey design'!J37 -> 4 | ... T37: ='original survey design'!T37 -> 4
A38: ='original survey design'!A38 -> Gujarat, Dadra & Nagar Haveli & Daman & Diu | B38: =LEFT('original survey design'!B38,FIND(")",'original survey design'!B38)) -> Medium (20-99) | C38: ='original survey design'!C38 -> 5 | D38: ='original survey design'!D38 -> 7 | E38: ='original survey design'!E38 -> 5 | F38: ='original survey design'!F38 -> 6 | G38: ='original survey design'!G38 -> 4 | H38: ='original survey design'!H38 -> 6 | I38: ='original survey design'!I38 -> 5 | J38: ='original survey design'!J38 -> 5 | ... T38: ='original survey design'!T38 -> 5
A39: ='original survey design'!A39 -> Gujarat, Dadra & Nagar Haveli & Daman & Diu | B39: =LEFT('original survey design'!B39,FIND(")",'original survey design'!B39)) -> Large (100-199) | C39: ='original survey design'!C39 -> 4 | D39: ='original survey design'!D39 -> 4 | E39: ='original survey design'!E39 -> 4 | F39: ='original survey design'!F39 -> 4 | G39: ='original survey design'!G39 -> 4 | H39: ='original survey design'!H39 -> 4 | I39: ='original survey design'!I39 -> 4 | J39: ='original survey design'!J39 -> 4 | ... T39: ='original survey design'!T39 -> 4
A40: ='original survey design'!A40 -> Gujarat, Dadra & Nagar Haveli & Daman & Diu | B40: =LEFT('original survey design'!B40,FIND(")",'original survey design'!B40)) -> Very Large (200 or more) | C40: ='original survey design'!C40 -> 4 | D40: ='original survey design'!D40 -> 4 | E40: ='original survey design'!E40 -> 4 | F40: ='original survey design'!F40 -> 4 | G40: ='original survey design'!G40 -> 4 | H40: ='original survey design'!H40 -> 4 | I40: ='original survey design'!I40 -> 4 | J40: ='original survey design'!J40 -> 4 | ... T40: ='original survey design'!T40 -> 4
A41: ='original survey design'!A41 -> Gujarat, Dadra & Nagar Haveli & Daman & Diu | B41: Unknown | C41: ='original survey design'!C41 -> 10 | D41: ='original survey design'!D41 -> 10 | E41: ='original survey design'!E41 -> 4 | F41: ='original survey design'!F41 -> 4 | G41: ='original survey design'!G41 -> 4 | H41: ='original survey design'!H41 -> 4 | I41: ='original survey design'!I41 -> 4 | J41: ='original survey design'!J41 -> 5 | ... T41: ='original survey design'!T41 -> 25
A42: ='original survey design'!A42 -> Haryana | B42: =LEFT('original survey design'!B42,FIND(")",'original survey design'!B42)) -> Small (5-19) | C42: ='original survey design'!C42 -> 4 | D42: ='original survey design'!D42 -> 4 | E42: ='original survey design'!E42 -> 4 | F42: ='original survey design'!F42 -> 4 | G42: ='original survey design'!G42 -> 4 | H42: ='original survey design'!H42 -> 4 | I42: ='original survey design'!I42 -> 4 | J42: ='original survey design'!J42 -> 4 | ... T42: ='original survey design'!T42 -> 4 | U42: =SUM(C42:T46) -> 388
A43: ='original survey design'!A43 -> Haryana | B43: =LEFT('original survey design'!B43,FIND(")",'original survey design'!B43)) -> Medium (20-99) | C43: ='original survey design'!C43 -> 4 | D43: ='original survey design'!D43 -> 4 | E43: ='original survey design'!E43 -> 5 | F43: ='original survey design'!F43 -> 4 | G43: ='original survey design'!G43 -> 4 | H43: ='original survey design'!H43 -> 4 | I43: ='original survey design'!I43 -> 4 | J43: ='original survey design'!J43 -> 4 | ... T43: ='original survey design'!T43 -> 5
A44: ='original survey design'!A44 -> Haryana | B44: =LEFT('original survey design'!B44,FIND(")",'original survey design'!B44)) -> Large (100-199) | C44: ='original survey design'!C44 -> 4 | D44: ='original survey design'!D44 -> 4 | E44: ='original survey design'!E44 -> 4 | F44: ='original survey design'!F44 -> 4 | G44: ='original survey design'!G44 -> 4 | H44: ='original survey design'!H44 -> 4 | I44: ='original survey design'!I44 -> 4 | J44: ='original survey design'!J44 -> 4 | ... T44: ='original survey design'!T44 -> 4
A45: ='original survey design'!A45 -> Haryana | B45: =LEFT('original survey design'!B45,FIND(")",'original survey design'!B45)) -> Very Large (200 or more) | C45: ='original survey design'!C45 -> 4 | D45: ='original survey design'!D45 -> 4 | E45: ='original survey design'!E45 -> 4 | F45: ='original survey design'!F45 -> 4 | G45: ='original survey design'!G45 -> 4 | H45: ='original survey design'!H45 -> 4 | I45: ='original survey design'!I45 -> 4 | J45: ='original survey design'!J45 -> 4 | ... T45: ='original survey design'!T45 -> 4
A46: ='original survey design'!A46 -> Haryana | B46: Unknown | C46: ='original survey design'!C46 -> 4 | D46: ='original survey design'!D46 -> 4 | E46: ='original survey design'!E46 -> 4 | F46: ='original survey design'!F46 -> 4 | G46: ='original survey design'!G46 -> 4 | H46: ='original survey design'!H46 -> 4 | I46: ='original survey design'!I46 -> 4 | J46: ='original survey design'!J46 -> 4 | ... T46: ='original survey design'!T46 -> 13
A47: ='original survey design'!A47 -> Himachal Pradesh | B47: =LEFT('original survey design'!B47,FIND(")",'original survey design'!B47)) -> Small (5-19) | C47: ='original survey design'!C47 -> 4 | D47: ='original survey design'!D47 -> 4 | E47: ='original survey design'!E47 -> 4 | F47: ='original survey design'!F47 -> 4 | G47: ='original survey design'!G47 -> 4 | H47: ='original survey design'!H47 -> 4 | I47: ='original survey design'!I47 -> 4 | J47: ='original survey design'!J47 -> 4 | ... T47: ='original survey design'!T47 -> 4 | U47: =SUM(C47:T51) -> 340
A48: ='original survey design'!A48 -> Himachal Pradesh | B48: =LEFT('original survey design'!B48,FIND(")",'original survey design'!B48)) -> Medium (20-99) | C48: ='original survey design'!C48 -> 4 | D48: ='original survey design'!D48 -> 4 | E48: ='original survey design'!E48 -> 5 | F48: ='original survey design'!F48 -> 4 | G48: ='original survey design'!G48 -> 4 | H48: ='original survey design'!H48 -> 4 | I48: ='original survey design'!I48 -> 4 | J48: ='original survey design'!J48 -> 4 | ... T48: ='original survey design'!T48 -> 4
A49: ='original survey design'!A49 -> Himachal Pradesh | B49: =LEFT('original survey design'!B49,FIND(")",'original survey design'!B49)) -> Large (100-199) | C49: ='original survey design'!C49 -> 4 | D49: ='original survey design'!D49 -> 4 | E49: ='original survey design'!E49 -> 4 | F49: ='original survey design'!F49 -> 4 | G49: ='original survey design'!G49 -> 4 | H49: ='original survey design'!H49 -> 4 | I49: ='original survey design'!I49 -> 4 | J49: ='original survey design'!J49 -> 4 | ... T49: ='original survey design'!T49 -> 4
A50: ='original survey design'!A50 -> Himachal Pradesh | B50: =LEFT('original survey design'!B50,FIND(")",'original survey design'!B50)) -> Very Large (200 or more) | C50: ='original survey design'!C50 -> 4 | D50: ='original survey design'!D50 -> 4 | E50: ='original survey design'!E50 -> 2 | F50: ='original survey design'!F50 -> 4 | G50: ='original survey design'!G50 -> 4 | H50: ='original survey design'!H50 -> 4 | I50: ='original survey design'!I50 -> 4 | J50: ='original survey design'!J50 -> 4 | ... T50: ='original survey design'!T50 -> 4
A51: ='original survey design'!A51 -> Himachal Pradesh | B51: Unknown | C51: ='original survey design'!C51 -> 4 | D51: ='original survey design'!D51 -> 4 | E51: ='original survey design'!E51 -> 4 | F51: ='original survey design'!F51 -> 4 | G51: ='original survey design'!G51 -> 4 | H51: ='original survey design'!H51 -> 4 | I51: ='original survey design'!I51 -> 4 | J51: ='original survey design'!J51 -> 4 | ... T51: ='original survey design'!T51 -> 4
A52: ='original survey design'!A52 -> Jammu & Kashmir (union territory), Ladakh | B52: =LEFT('original survey design'!B52,FIND(")",'original survey design'!B52)) -> Small (5-19) | C52: ='original survey design'!C52 -> 4 | D52: ='original survey design'!D52 -> 4 | E52: ='original survey design'!E52 -> 4 | F52: ='original survey design'!F52 -> 4 | G52: ='original survey design'!G52 -> 4 | H52: ='original survey design'!H52 -> 4 | I52: ='original survey design'!I52 -> 4 | J52: ='original survey design'!J52 -> 4 | ... T52: ='original survey design'!T52 -> 4 | U52: =SUM(C52:T56) -> 337
A53: ='original survey design'!A53 -> Jammu & Kashmir (union territory), Ladakh | B53: =LEFT('original survey design'!B53,FIND(")",'original survey design'!B53)) -> Medium (20-99) | C53: ='original survey design'!C53 -> 4 | D53: ='original survey design'!D53 -> 4 | E53: ='original survey design'!E53 -> 5 | F53: ='original survey design'!F53 -> 4 | G53: ='original survey design'!G53 -> 4 | H53: ='original survey design'!H53 -> 4 | I53: ='original survey design'!I53 -> 4 | J53: ='original survey design'!J53 -> 4 | ... T53: ='original survey design'!T53 -> 4
A54: ='original survey design'!A54 -> Jammu & Kashmir (union territory), Ladakh | B54: =LEFT('original survey design'!B54,FIND(")",'original survey design'!B54)) -> Large (100-199) | C54: ='original survey design'!C54 -> 4 | D54: ='original survey design'!D54 -> 4 | E54: ='original survey design'!E54 -> 4 | F54: ='original survey design'!F54 -> 4 | G54: ='original survey design'!G54 -> 4 | H54: ='original survey design'!H54 -> 4 | I54: ='original survey design'!I54 -> 4 | J54: ='original survey design'!J54 -> 4 | ... T54: ='original survey design'!T54 -> 4
A55: ='original survey design'!A55 -> Jammu & Kashmir (union territory), Ladakh | B55: =LEFT('original survey design'!B55,FIND(")",'original survey design'!B55)) -> Very Large (200 or more) | C55: ='original survey design'!C55 -> 4 | D55: ='original survey design'!D55 -> 4 | E55: ='original survey design'!E55 -> 4 | F55: ='original survey design'!F55 -> 4 | G55: ='original survey design'!G55 -> 4 | H55: ='original survey design'!H55 -> 4 | I55: ='original survey design'!I55 -> 4 | J55: ='original survey design'!J55 -> 4 | ... T55: ='original survey design'!T55 -> 4
A56: ='original survey design'!A56 -> Jammu & Kashmir (union territory), Ladakh | B56: Unknown | C56: ='original survey design'!C56 -> 4 | D56: ='original survey design'!D56 -> 4 | E56: ='original survey design'!E56 -> 4 | F56: ='original survey design'!F56 -> 4 | G56: ='original survey design'!G56 -> 4 | H56: ='original survey design'!H56 -> 4 | I56: ='original survey design'!I56 -> 4 | J56: ='original survey design'!J56 -> 4 | ... T56: ='original survey design'!T56 -> 6
A57: ='original survey design'!A57 -> Jharkhand | B57: =LEFT('original survey design'!B57,FIND(")",'original survey design'!B57)) -> Small (5-19) | C57: ='original survey design'!C57 -> 4 | D57: ='original survey design'!D57 -> 4 | E57: ='original survey design'!E57 -> 4 | F57: ='original survey design'!F57 -> 4 | G57: ='original survey design'!G57 -> 4 | H57: ='original survey design'!H57 -> 4 | I57: ='original survey design'!I57 -> 4 | J57: ='original survey design'!J57 -> 4 | ... T57: ='original survey design'!T57 -> 4 | U57: =SUM(C57:T61) -> 356
A58: ='original survey design'!A58 -> Jharkhand | B58: =LEFT('original survey design'!B58,FIND(")",'original survey design'!B58)) -> Medium (20-99) | C58: ='original survey design'!C58 -> 4 | D58: ='original survey design'!D58 -> 4 | E58: ='original survey design'!E58 -> 5 | F58: ='original survey design'!F58 -> 4 | G58: ='original survey design'!G58 -> 4 | H58: ='original survey design'!H58 -> 4 | I58: ='original survey design'!I58 -> 4 | J58: ='original survey design'!J58 -> 4 | ... T58: ='original survey design'!T58 -> 4
A59: ='original survey design'!A59 -> Jharkhand | B59: =LEFT('original survey design'!B59,FIND(")",'original survey design'!B59)) -> Large (100-199) | C59: ='original survey design'!C59 -> 4 | D59: ='original survey design'!D59 -> 4 | E59: ='original survey design'!E59 -> 0 | F59: ='original survey design'!F59 -> 4 | G59: ='original survey design'!G59 -> 0 | H59: ='original survey design'!H59 -> 4 | I59: ='original survey design'!I59 -> 4 | J59: ='original survey design'!J59 -> 4 | ... T59: ='original survey design'!T59 -> 4
A60: ='original survey design'!A60 -> Jharkhand | B60: =LEFT('original survey design'!B60,FIND(")",'original survey design'!B60)) -> Very Large (200 or more) | C60: ='original survey design'!C60 -> 4 | D60: ='original survey design'!D60 -> 1 | E60: ='original survey design'!E60 -> 4 | F60: ='original survey design'!F60 -> 4 | G60: ='original survey design'!G60 -> 0 | H60: ='original survey design'!H60 -> 4 | I60: ='original survey design'!I60 -> 4 | J60: ='original survey design'!J60 -> 4 | ... T60: ='original survey design'!T60 -> 4
A61: ='original survey design'!A61 -> Jharkhand | B61: Unknown | C61: ='original survey design'!C61 -> 4 | D61: ='original survey design'!D61 -> 4 | E61: ='original survey design'!E61 -> 4 | F61: ='original survey design'!F61 -> 4 | G61: ='original survey design'!G61 -> 4 | H61: ='original survey design'!H61 -> 4 | I61: ='original survey design'!I61 -> 4 | J61: ='original survey design'!J61 -> 4 | ... T61: ='original survey design'!T61 -> 9
A62: ='original survey design'!A62 -> Karnataka | B62: =LEFT('original survey design'!B62,FIND(")",'original survey design'!B62)) -> Small (5-19) | C62: ='original survey design'!C62 -> 4 | D62: ='original survey design'!D62 -> 4 | E62: ='original survey design'!E62 -> 4 | F62: ='original survey design'!F62 -> 4 | G62: ='original survey design'!G62 -> 4 | H62: ='original survey design'!H62 -> 4 | I62: ='original survey design'!I62 -> 4 | J62: ='original survey design'!J62 -> 4 | ... T62: ='original survey design'!T62 -> 14 | U62: =SUM(C62:T66) -> 460
A63: ='original survey design'!A63 -> Karnataka | B63: =LEFT('original survey design'!B63,FIND(")",'original survey design'!B63)) -> Medium (20-99) | C63: ='original survey design'!C63 -> 5 | D63: ='original survey design'!D63 -> 4 | E63: ='original survey design'!E63 -> 5 | F63: ='original survey design'!F63 -> 4 | G63: ='original survey design'!G63 -> 4 | H63: ='original survey design'!H63 -> 4 | I63: ='original survey design'!I63 -> 4 | J63: ='original survey design'!J63 -> 4 | ... T63: ='original survey design'!T63 -> 5
A64: ='original survey design'!A64 -> Karnataka | B64: =LEFT('original survey design'!B64,FIND(")",'original survey design'!B64)) -> Large (100-199) | C64: ='original survey design'!C64 -> 4 | D64: ='original survey design'!D64 -> 4 | E64: ='original survey design'!E64 -> 4 | F64: ='original survey design'!F64 -> 4 | G64: ='original survey design'!G64 -> 4 | H64: ='original survey design'!H64 -> 4 | I64: ='original survey design'!I64 -> 4 | J64: ='original survey design'!J64 -> 4 | ... T64: ='original survey design'!T64 -> 4
A65: ='original survey design'!A65 -> Karnataka | B65: =LEFT('original survey design'!B65,FIND(")",'original survey design'!B65)) -> Very Large (200 or more) | C65: ='original survey design'!C65 -> 4 | D65: ='original survey design'!D65 -> 4 | E65: ='original survey design'!E65 -> 4 | F65: ='original survey design'!F65 -> 4 | G65: ='original survey design'!G65 -> 4 | H65: ='original survey design'!H65 -> 4 | I65: ='original survey design'!I65 -> 4 | J65: ='original survey design'!J65 -> 4 | ... T65: ='original survey design'!T65 -> 4
A66: ='original survey design'!A66 -> Karnataka | B66: Unknown | C66: ='original survey design'!C66 -> 9 | D66: ='original survey design'!D66 -> 8 | E66: ='original survey design'!E66 -> 4 | F66: ='original survey design'!F66 -> 4 | G66: ='original survey design'!G66 -> 4 | H66: ='original survey design'!H66 -> 4 | I66: ='original survey design'!I66 -> 4 | J66: ='original survey design'!J66 -> 4 | ... T66: ='original survey design'!T66 -> 20
A67: ='original survey design'!A67 -> Kerala | B67: =LEFT('original survey design'!B67,FIND(")",'original survey design'!B67)) -> Small (5-19) | C67: ='original survey design'!C67 -> 4 | D67: ='original survey design'!D67 -> 4 | E67: ='original survey design'!E67 -> 4 | F67: ='original survey design'!F67 -> 4 | G67: ='original survey design'!G67 -> 4 | H67: ='original survey design'!H67 -> 4 | I67: ='original survey design'!I67 -> 4 | J67: ='original survey design'!J67 -> 4 | ... T67: ='original survey design'!T67 -> 4 | U67: =SUM(C67:T71) -> 384
A68: ='original survey design'!A68 -> Kerala | B68: =LEFT('original survey design'!B68,FIND(")",'original survey design'!B68)) -> Medium (20-99) | C68: ='original survey design'!C68 -> 4 | D68: ='original survey design'!D68 -> 4 | E68: ='original survey design'!E68 -> 5 | F68: ='original survey design'!F68 -> 4 | G68: ='original survey design'!G68 -> 4 | H68: ='original survey design'!H68 -> 4 | I68: ='original survey design'!I68 -> 4 | J68: ='original survey design'!J68 -> 4 | ... T68: ='original survey design'!T68 -> 5
A69: ='original survey design'!A69 -> Kerala | B69: =LEFT('original survey design'!B69,FIND(")",'original survey design'!B69)) -> Large (100-199) | C69: ='original survey design'!C69 -> 4 | D69: ='original survey design'!D69 -> 4 | E69: ='original survey design'!E69 -> 4 | F69: ='original survey design'!F69 -> 4 | G69: ='original survey design'!G69 -> 4 | H69: ='original survey design'!H69 -> 4 | I69: ='original survey design'!I69 -> 4 | J69: ='original survey design'!J69 -> 4 | ... T69: ='original survey design'!T69 -> 4
A70: ='original survey design'!A70 -> Kerala | B70: =LEFT('original survey design'!B70,FIND(")",'original survey design'!B70)) -> Very Large (200 or more) | C70: ='original survey design'!C70 -> 4 | D70: ='original survey design'!D70 -> 4 | E70: ='original survey design'!E70 -> 4 | F70: ='original survey design'!F70 -> 4 | G70: ='original survey design'!G70 -> 4 | H70: ='original survey design'!H70 -> 4 | I70: ='original survey design'!I70 -> 4 | J70: ='original survey design'!J70 -> 4 | ... T70: ='original survey design'!T70 -> 4
A71: ='original survey design'!A71 -> Kerala | B71: Unknown | C71: ='original survey design'!C71 -> 8 | D71: ='original survey design'!D71 -> 4 | E71: ='original survey design'!E71 -> 4 | F71: ='original survey design'!F71 -> 4 | G71: ='original survey design'!G71 -> 4 | H71: ='original survey design'!H71 -> 4 | I71: ='original survey design'!I71 -> 4 | J71: ='original survey design'!J71 -> 4 | ... T71: ='original survey design'!T71 -> 11
A72: ='original survey design'!A72 -> Madhya Pradesh | B72: =LEFT('original survey design'!B72,FIND(")",'original survey design'!B72)) -> Small (5-19) | C72: ='original survey design'!C72 -> 4 | D72: ='original survey design'!D72 -> 4 | E72: ='original survey design'!E72 -> 4 | F72: ='original survey design'!F72 -> 4 | G72: ='original survey design'!G72 -> 4 | H72: ='original survey design'!H72 -> 4 | I72: ='original survey design'!I72 -> 4 | J72: ='original survey design'!J72 -> 4 | ... T72: ='original survey design'!T72 -> 4 | U72: =SUM(C72:T76) -> 436
A73: ='original survey design'!A73 -> Madhya Pradesh | B73: =LEFT('original survey design'!B73,FIND(")",'original survey design'!B73)) -> Medium (20-99) | C73: ='original survey design'!C73 -> 4 | D73: ='original survey design'!D73 -> 4 | E73: ='original survey design'!E73 -> 5 | F73: ='original survey design'!F73 -> 4 | G73: ='original survey design'!G73 -> 4 | H73: ='original survey design'!H73 -> 4 | I73: ='original survey design'!I73 -> 4 | J73: ='original survey design'!J73 -> 4 | ... T73: ='original survey design'!T73 -> 4
A74: ='original survey design'!A74 -> Madhya Pradesh | B74: =LEFT('original survey design'!B74,FIND(")",'original survey design'!B74)) -> Large (100-199) | C74: ='original survey design'!C74 -> 4 | D74: ='original survey design'!D74 -> 4 | E74: ='original survey design'!E74 -> 4 | F74: ='original survey design'!F74 -> 4 | G74: ='original survey design'!G74 -> 4 | H74: ='original survey design'!H74 -> 4 | I74: ='original survey design'!I74 -> 4 | J74: ='original survey design'!J74 -> 4 | ... T74: ='original survey design'!T74 -> 4
A75: ='original survey design'!A75 -> Madhya Pradesh | B75: =LEFT('original survey design'!B75,FIND(")",'original survey design'!B75)) -> Very Large (200 or more) | C75: ='original survey design'!C75 -> 4 | D75: ='original survey design'!D75 -> 4 | E75: ='original survey design'!E75 -> 4 | F75: ='original survey design'!F75 -> 4 | G75: ='original survey design'!G75 -> 4 | H75: ='original survey design'!H75 -> 4 | I75: ='original survey design'!I75 -> 4 | J75: ='original survey design'!J75 -> 4 | ... T75: ='original survey design'!T75 -> 4
A76: ='original survey design'!A76 -> Madhya Pradesh | B76: Unknown | C76: ='original survey design'!C76 -> 10 | D76: ='original survey design'!D76 -> 4 | E76: ='original survey design'!E76 -> 4 | F76: ='original survey design'!F76 -> 4 | G76: ='original survey design'!G76 -> 4 | H76: ='original survey design'!H76 -> 4 | I76: ='original survey design'!I76 -> 4 | J76: ='original survey design'!J76 -> 4 | ... T76: ='original survey design'!T76 -> 20
A77: ='original survey design'!A77 -> Maharashtra | B77: =LEFT('original survey design'!B77,FIND(")",'original survey design'!B77)) -> Small (5-19) | C77: ='original survey design'!C77 -> 4 | D77: ='original survey design'!D77 -> 14 | E77: ='original survey design'!E77 -> 5 | F77: ='original survey design'!F77 -> 4 | G77: ='original survey design'!G77 -> 4 | H77: ='original survey design'!H77 -> 4 | I77: ='original survey design'!I77 -> 4 | J77: ='original survey design'!J77 -> 4 | ... T77: ='original survey design'!T77 -> 38 | U77: =SUM(C77:T81) -> 664
A78: ='original survey design'!A78 -> Maharashtra | B78: =LEFT('original survey design'!B78,FIND(")",'original survey design'!B78)) -> Medium (20-99) | C78: ='original survey design'!C78 -> 5 | D78: ='original survey design'!D78 -> 5 | E78: ='original survey design'!E78 -> 6 | F78: ='original survey design'!F78 -> 5 | G78: ='original survey design'!G78 -> 4 | H78: ='original survey design'!H78 -> 5 | I78: ='original survey design'!I78 -> 4 | J78: ='original survey design'!J78 -> 5 | ... T78: ='original survey design'!T78 -> 9
A79: ='original survey design'!A79 -> Maharashtra | B79: =LEFT('original survey design'!B79,FIND(")",'original survey design'!B79)) -> Large (100-199) | C79: ='original survey design'!C79 -> 4 | D79: ='original survey design'!D79 -> 4 | E79: ='original survey design'!E79 -> 4 | F79: ='original survey design'!F79 -> 4 | G79: ='original survey design'!G79 -> 4 | H79: ='original survey design'!H79 -> 4 | I79: ='original survey design'!I79 -> 4 | J79: ='original survey design'!J79 -> 4 | ... T79: ='original survey design'!T79 -> 4
A80: ='original survey design'!A80 -> Maharashtra | B80: =LEFT('original survey design'!B80,FIND(")",'original survey design'!B80)) -> Very Large (200 or more) | C80: ='original survey design'!C80 -> 4 | D80: ='original survey design'!D80 -> 4 | E80: ='original survey design'!E80 -> 4 | F80: ='original survey design'!F80 -> 4 | G80: ='original survey design'!G80 -> 4 | H80: ='original survey design'!H80 -> 4 | I80: ='original survey design'!I80 -> 4 | J80: ='original survey design'!J80 -> 4 | ... T80: ='original survey design'!T80 -> 4
A81: ='original survey design'!A81 -> Maharashtra | B81: Unknown | C81: ='original survey design'!C81 -> 24 | D81: ='original survey design'!D81 -> 7 | E81: ='original survey design'!E81 -> 4 | F81: ='original survey design'!F81 -> 7 | G81: ='original survey design'!G81 -> 4 | H81: ='original survey design'!H81 -> 5 | I81: ='original survey design'!I81 -> 8 | J81: ='original survey design'!J81 -> 4 | ... T81: ='original survey design'!T81 -> 27
A82: ='original survey design'!A82 -> Odisha | B82: =LEFT('original survey design'!B82,FIND(")",'original survey design'!B82)) -> Small (5-19) | C82: ='original survey design'!C82 -> 4 | D82: ='original survey design'!D82 -> 4 | E82: ='original survey design'!E82 -> 4 | F82: ='original survey design'!F82 -> 4 | G82: ='original survey design'!G82 -> 4 | H82: ='original survey design'!H82 -> 4 | I82: ='original survey design'!I82 -> 4 | J82: ='original survey design'!J82 -> 4 | ... T82: ='original survey design'!T82 -> 4 | U82: =SUM(C82:T86) -> 391
A83: ='original survey design'!A83 -> Odisha | B83: =LEFT('original survey design'!B83,FIND(")",'original survey design'!B83)) -> Medium (20-99) | C83: ='original survey design'!C83 -> 4 | D83: ='original survey design'!D83 -> 4 | E83: ='original survey design'!E83 -> 5 | F83: ='original survey design'!F83 -> 4 | G83: ='original survey design'!G83 -> 4 | H83: ='original survey design'!H83 -> 4 | I83: ='original survey design'!I83 -> 4 | J83: ='original survey design'!J83 -> 4 | ... T83: ='original survey design'!T83 -> 4
A84: ='original survey design'!A84 -> Odisha | B84: =LEFT('original survey design'!B84,FIND(")",'original survey design'!B84)) -> Large (100-199) | C84: ='original survey design'!C84 -> 4 | D84: ='original survey design'!D84 -> 4 | E84: ='original survey design'!E84 -> 2 | F84: ='original survey design'!F84 -> 4 | G84: ='original survey design'!G84 -> 4 | H84: ='original survey design'!H84 -> 4 | I84: ='original survey design'!I84 -> 4 | J84: ='original survey design'!J84 -> 4 | ... T84: ='original survey design'!T84 -> 4
A85: ='original survey design'!A85 -> Odisha | B85: =LEFT('original survey design'!B85,FIND(")",'original survey design'!B85)) -> Very Large (200 or more) | C85: ='original survey design'!C85 -> 4 | D85: ='original survey design'!D85 -> 4 | E85: ='original survey design'!E85 -> 4 | F85: ='original survey design'!F85 -> 4 | G85: ='original survey design'!G85 -> 2 | H85: ='original survey design'!H85 -> 4 | I85: ='original survey design'!I85 -> 4 | J85: ='original survey design'!J85 -> 4 | ... T85: ='original survey design'!T85 -> 4
A86: ='original survey design'!A86 -> Odisha | B86: Unknown | C86: ='original survey design'!C86 -> 7 | D86: ='original survey design'!D86 -> 4 | E86: ='original survey design'!E86 -> 4 | F86: ='original survey design'!F86 -> 4 | G86: ='original survey design'!G86 -> 4 | H86: ='original survey design'!H86 -> 4 | I86: ='original survey design'!I86 -> 4 | J86: ='original survey design'!J86 -> 4 | ... T86: ='original survey design'!T86 -> 15
A87: ='original survey design'!A87 -> Punjab, Chandigarh | B87: =LEFT('original survey design'!B87,FIND(")",'original survey design'!B87)) -> Small (5-19) | C87: ='original survey design'!C87 -> 4 | D87: ='original survey design'!D87 -> 4 | E87: ='original survey design'!E87 -> 4 | F87: ='original survey design'!F87 -> 4 | G87: ='original survey design'!G87 -> 4 | H87: ='original survey design'!H87 -> 4 | I87: ='original survey design'!I87 -> 4 | J87: ='original survey design'!J87 -> 4 | ... T87: ='original survey design'!T87 -> 4 | U87: =SUM(C87:T91) -> 396
A88: ='original survey design'!A88 -> Punjab, Chandigarh | B88: =LEFT('original survey design'!B88,FIND(")",'original survey design'!B88)) -> Medium (20-99) | C88: ='original survey design'!C88 -> 6 | D88: ='original survey design'!D88 -> 4 | E88: ='original survey design'!E88 -> 5 | F88: ='original survey design'!F88 -> 4 | G88: ='original survey design'!G88 -> 4 | H88: ='original survey design'!H88 -> 4 | I88: ='original survey design'!I88 -> 5 | J88: ='original survey design'!J88 -> 4 | ... T88: ='original survey design'!T88 -> 4
A89: ='original survey design'!A89 -> Punjab, Chandigarh | B89: =LEFT('original survey design'!B89,FIND(")",'original survey design'!B89)) -> Large (100-199) | C89: ='original survey design'!C89 -> 4 | D89: ='original survey design'!D89 -> 4 | E89: ='original survey design'!E89 -> 4 | F89: ='original survey design'!F89 -> 4 | G89: ='original survey design'!G89 -> 4 | H89: ='original survey design'!H89 -> 4 | I89: ='original survey design'!I89 -> 4 | J89: ='original survey design'!J89 -> 4 | ... T89: ='original survey design'!T89 -> 4
A90: ='original survey design'!A90 -> Punjab, Chandigarh | B90: =LEFT('original survey design'!B90,FIND(")",'original survey design'!B90)) -> Very Large (200 or more) | C90: ='original survey design'!C90 -> 4 | D90: ='original survey design'!D90 -> 4 | E90: ='original survey design'!E90 -> 4 | F90: ='original survey design'!F90 -> 4 | G90: ='original survey design'!G90 -> 4 | H90: ='original survey design'!H90 -> 4 | I90: ='original survey design'!I90 -> 4 | J90: ='original survey design'!J90 -> 4 | ... T90: ='original survey design'!T90 -> 4
A91: ='original survey design'!A91 -> Punjab, Chandigarh | B91: Unknown | C91: ='original survey design'!C91 -> 4 | D91: ='original survey design'!D91 -> 4 | E91: ='original survey design'!E91 -> 4 | F91: ='original survey design'!F91 -> 4 | G91: ='original survey design'!G91 -> 4 | H91: ='original survey design'!H91 -> 4 | I91: ='original survey design'!I91 -> 4 | J91: ='original survey design'!J91 -> 4 | ... T91: ='original survey design'!T91 -> 14
A92: ='original survey design'!A92 -> Rajasthan | B92: =LEFT('original survey design'!B92,FIND(")",'original survey design'!B92)) -> Small (5-19) | C92: ='original survey design'!C92 -> 4 | D92: ='original survey design'!D92 -> 4 | E92: ='original survey design'!E92 -> 4 | F92: ='original survey design'!F92 -> 4 | G92: ='original survey design'!G92 -> 4 | H92: ='original survey design'!H92 -> 4 | I92: ='original survey design'!I92 -> 4 | J92: ='original survey design'!J92 -> 4 | ... T92: ='original survey design'!T92 -> 4 | U92: =SUM(C92:T96) -> 414
A93: ='original survey design'!A93 -> Rajasthan | B93: =LEFT('original survey design'!B93,FIND(")",'original survey design'!B93)) -> Medium (20-99) | C93: ='original survey design'!C93 -> 4 | D93: ='original survey design'!D93 -> 4 | E93: ='original survey design'!E93 -> 5 | F93: ='original survey design'!F93 -> 4 | G93: ='original survey design'!G93 -> 4 | H93: ='original survey design'!H93 -> 4 | I93: ='original survey design'!I93 -> 5 | J93: ='original survey design'!J93 -> 4 | ... T93: ='original survey design'!T93 -> 4
A94: ='original survey design'!A94 -> Rajasthan | B94: =LEFT('original survey design'!B94,FIND(")",'original survey design'!B94)) -> Large (100-199) | C94: ='original survey design'!C94 -> 4 | D94: ='original survey design'!D94 -> 4 | E94: ='original survey design'!E94 -> 4 | F94: ='original survey design'!F94 -> 4 | G94: ='original survey design'!G94 -> 4 | H94: ='original survey design'!H94 -> 4 | I94: ='original survey design'!I94 -> 4 | J94: ='original survey design'!J94 -> 4 | ... T94: ='original survey design'!T94 -> 4
A95: ='original survey design'!A95 -> Rajasthan | B95: =LEFT('original survey design'!B95,FIND(")",'original survey design'!B95)) -> Very Large (200 or more) | C95: ='original survey design'!C95 -> 4 | D95: ='original survey design'!D95 -> 4 | E95: ='original survey design'!E95 -> 4 | F95: ='original survey design'!F95 -> 4 | G95: ='original survey design'!G95 -> 4 | H95: ='original survey design'!H95 -> 4 | I95: ='original survey design'!I95 -> 4 | J95: ='original survey design'!J95 -> 4 | ... T95: ='original survey design'!T95 -> 4
A96: ='original survey design'!A96 -> Rajasthan | B96: Unknown | C96: ='original survey design'!C96 -> 6 | D96: ='original survey design'!D96 -> 4 | E96: ='original survey design'!E96 -> 4 | F96: ='original survey design'!F96 -> 4 | G96: ='original survey design'!G96 -> 4 | H96: ='original survey design'!H96 -> 4 | I96: ='original survey design'!I96 -> 4 | J96: ='original survey design'!J96 -> 4 | ... T96: ='original survey design'!T96 -> 16
A97: ='original survey design'!A97 -> Tamil Nadu, Puducherry | B97: =LEFT('original survey design'!B97,FIND(")",'original survey design'!B97)) -> Small (5-19) | C97: ='original survey design'!C97 -> 4 | D97: ='original survey design'!D97 -> 4 | E97: ='original survey design'!E97 -> 4 | F97: ='original survey design'!F97 -> 4 | G97: ='original survey design'!G97 -> 4 | H97: ='original survey design'!H97 -> 4 | I97: ='original survey design'!I97 -> 4 | J97: ='original survey design'!J97 -> 4 | ... T97: ='original survey design'!T97 -> 5 | U97: =SUM(C97:T101) -> 503
A98: ='original survey design'!A98 -> Tamil Nadu, Puducherry | B98: =LEFT('original survey design'!B98,FIND(")",'original survey design'!B98)) -> Medium (20-99) | C98: ='original survey design'!C98 -> 6 | D98: ='original survey design'!D98 -> 7 | E98: ='original survey design'!E98 -> 7 | F98: ='original survey design'!F98 -> 5 | G98: ='original survey design'!G98 -> 4 | H98: ='original survey design'!H98 -> 4 | I98: ='original survey design'!I98 -> 4 | J98: ='original survey design'!J98 -> 4 | ... T98: ='original survey design'!T98 -> 6
A99: ='original survey design'!A99 -> Tamil Nadu, Puducherry | B99: =LEFT('original survey design'!B99,FIND(")",'original survey design'!B99)) -> Large (100-199) | C99: ='original survey design'!C99 -> 4 | D99: ='original survey design'!D99 -> 4 | E99: ='original survey design'!E99 -> 4 | F99: ='original survey design'!F99 -> 4 | G99: ='original survey design'!G99 -> 4 | H99: ='original survey design'!H99 -> 4 | I99: ='original survey design'!I99 -> 4 | J99: ='original survey design'!J99 -> 4 | ... T99: ='original survey design'!T99 -> 4
A100: ='original survey design'!A100 -> Tamil Nadu, Puducherry | B100: =LEFT('original survey design'!B100,FIND(")",'original survey design'!B100)) -> Very Large (200 or more) | C100: ='original survey design'!C100 -> 4 | D100: ='original survey design'!D100 -> 4 | E100: ='original survey design'!E100 -> 4 | F100: ='original survey design'!F100 -> 4 | G100: ='original survey design'!G100 -> 4 | H100: ='original survey design'!H100 -> 4 | I100: ='original survey design'!I100 -> 4 | J100: ='original survey design'!J100 -> 4 | ... T100: ='original survey design'!T100 -> 4
...

Sheet Table 4 Response Outcomes
D2: Totals | E2: Rates relative to total contacted
B3: Overall | C3: Contacts available in frame | D3: 10732049
C4: Issued | D4: 14468
C5: Contacted | D5: 11618
B6: Screening phase | C6: Eligibles | D6: 10881 | E6: =D6/D$5 -> 0.93656395
C7: Screener refusals | D7: 10 | E7: =D7/D$5 -> 0.00086073334
C8: Assumed eligibles | D8: 10891 | E8: =D8/D$5 -> 0.93742469
C9: Ineligible + out of target | D9: 502 | E9: =D9/D$5 -> 0.043208814
C10: Unobtainables | D10: 225 | E10: =D10/D$5 -> 0.0193665
B11: Interview phase | C11: Interview refusals | D11: 402 | E11: =D11/D$5 -> 0.03460148
B12: (only if eligible) | C12: Complete interviews | D12: 10479 | E12: =D12/D$5 -> 0.90196247

Sheet Table 5 Survey Yield Rates
C2: Stratification | D2: Yield | E2: Survey response rate | F2: Frame quality
B3: Panel | C3: Fresh | D3: =VLOOKUP($C3,'yield calculation'!$C:$F,2,FALSE) -> 0.92153686 | E3: =VLOOKUP($C3,'yield calculation'!$C:$F,3,FALSE) -> 0.97431904 | F3: =VLOOKUP($C3,'yield calculation'!$C:$F,4,FALSE) -> 0.94582659
C4: Panel | D4: =VLOOKUP($C4,'yield calculation'!$C:$F,2,FALSE) -> 0.87440413 | E4: =VLOOKUP($C4,'yield calculation'!$C:$F,3,FALSE) -> 0.94469327 | F4: =VLOOKUP($C4,'yield calculation'!$C:$F,4,FALSE) -> 0.92559588
B5: Size | C5: Small (5-19) | D5: =VLOOKUP($C5,'yield calculation'!$C:$F,2,FALSE) -> 0.87117249 | E5: =VLOOKUP($C5,'yield calculation'!$C:$F,3,FALSE) -> 0.94338858 | F5: =VLOOKUP($C5,'yield calculation'!$C:$F,4,FALSE) -> 0.92345035
C6: Medium (20-99) | D6: =VLOOKUP($C6,'yield calculation'!$C:$F,2,FALSE) -> 0.91113108 | E6: =VLOOKUP($C6,'yield calculation'!$C:$F,3,FALSE) -> 0.96528769 | F6: =VLOOKUP($C6,'yield calculation'!$C:$F,4,FALSE) -> 0.94389588
C7: Large (100-199) | D7: =VLOOKUP($C7,'yield calculation'!$C:$F,2,FALSE) -> 0.92689294 | E7: =VLOOKUP($C7,'yield calculation'!$C:$F,3,FALSE) -> 0.97958058 | F7: =VLOOKUP($C7,'yield calculation'!$C:$F,4,FALSE) -> 0.94621408
C8: Very large (200 or more) | D8: =VLOOKUP($C8,'yield calculation'!$C:$F,2,FALSE) -> 0.93235451 | E8: =VLOOKUP($C8,'yield calculation'!$C:$F,3,FALSE) -> 0.97371304 | F8: =VLOOKUP($C8,'yield calculation'!$C:$F,4,FALSE) -> 0.9575249
B9: Region | C9: Unknown | D9: =VLOOKUP($C9,'yield calculation'!$C:$F,2,FALSE) -> 0.88685119 | E9: =VLOOKUP($C9,'yield calculation'!$C:$F,3,FALSE) -> 0.95741504 | F9: =VLOOKUP($C9,'yield calculation'!$C:$F,4,FALSE) -> 0.92629761
C10: Andhra Pradesh, A&N Islands | D10: =VLOOKUP($C10,'yield calculation'!$C:$F,2,FALSE) -> 0.9448669 | E10: =VLOOKUP($C10,'yield calculation'!$C:$F,3,FALSE) -> 0.995992 | F10: =VLOOKUP($C10,'yield calculation'!$C:$F,4,FALSE) -> 0.9486692
C11: Arunachal Pradesh, Nagaland, Manipur, Tripura, Meghalaya, Mizoram, Sikkim | D11: =VLOOKUP($C11,'yield calculation'!$C:$F,2,FALSE) -> 0.84831458 | E11: =VLOOKUP($C11,'yield calculation'!$C:$F,3,FALSE) -> 0.94375002 | F11: =VLOOKUP($C11,'yield calculation'!$C:$F,4,FALSE) -> 0.89887643
C12: Assam | D12: =VLOOKUP($C12,'yield calculation'!$C:$F,2,FALSE) -> 0.8278867 | E12: =VLOOKUP($C12,'yield calculation'!$C:$F,3,FALSE) -> 0.94059408 | F12: =VLOOKUP($C12,'yield calculation'!$C:$F,4,FALSE) -> 0.88017428
C13: Bihar | D13: =VLOOKUP($C13,'yield calculation'!$C:$F,2,FALSE) -> 0.8888889 | E13: =VLOOKUP($C13,'yield calculation'!$C:$F,3,FALSE) -> 0.97921479 | F13: =VLOOKUP($C13,'yield calculation'!$C:$F,4,FALSE) -> 0.90775681
C14: Chhattisgarh | D14: =VLOOKUP($C14,'yield calculation'!$C:$F,2,FALSE) -> 0.973822 | E14: =VLOOKUP($C14,'yield calculation'!$C:$F,3,FALSE) -> 0.98153037 | F14: =VLOOKUP($C14,'yield calculation'!$C:$F,4,FALSE) -> 0.99214661
C15: Delhi | D15: =VLOOKUP($C15,'yield calculation'!$C:$F,2,FALSE) -> 0.80851066 | E15: =VLOOKUP($C15,'yield calculation'!$C:$F,3,FALSE) -> 0.9675926 | F15: =VLOOKUP($C15,'yield calculation'!$C:$F,4,FALSE) -> 0.83558995
C16: Goa | D16: =VLOOKUP($C16,'yield calculation'!$C:$F,2,FALSE) -> 0.91361254 | E16: =VLOOKUP($C16,'yield calculation'!$C:$F,3,FALSE) -> 0.98866856 | F16: =VLOOKUP($C16,'yield calculation'!$C:$F,4,FALSE) -> 0.92408377
C17: Gujarat, Dadra & Nagar Haveli & Daman & Diu | D17: =VLOOKUP($C17,'yield calculation'!$C:$F,2,FALSE) -> 0.9683333 | E17: =VLOOKUP($C17,'yield calculation'!$C:$F,3,FALSE) -> 0.98809522 | F17: =VLOOKUP($C17,'yield calculation'!$C:$F,4,FALSE) -> 0.98000002
C18: Haryana | D18: =VLOOKUP($C18,'yield calculation'!$C:$F,2,FALSE) -> 0.86725664 | E18: =VLOOKUP($C18,'yield calculation'!$C:$F,3,FALSE) -> 0.96078432 | F18: =VLOOKUP($C18,'yield calculation'!$C:$F,4,FALSE) -> 0.90265489
C19: Himachal Pradesh | D19: =VLOOKUP($C19,'yield calculation'!$C:$F,2,FALSE) -> 0.93169397 | E19: =VLOOKUP($C19,'yield calculation'!$C:$F,3,FALSE) -> 0.98270893 | F19: =VLOOKUP($C19,'yield calculation'!$C:$F,4,FALSE) -> 0.94808745
C20: Jammu & Kashmir (union territory), Ladakh | D20: =VLOOKUP($C20,'yield calculation'!$C:$F,2,FALSE) -> 0.92091835 | E20: =VLOOKUP($C20,'yield calculation'!$C:$F,3,FALSE) -> 0.9756757 | F20: =VLOOKUP($C20,'yield calculation'!$C:$F,4,FALSE) -> 0.94387758
C21: Jharkhand | D21: =VLOOKUP($C21,'yield calculation'!$C:$F,2,FALSE) -> 0.87313432 | E21: =VLOOKUP($C21,'yield calculation'!$C:$F,3,FALSE) -> 0.95901638 | F21: =VLOOKUP($C21,'yield calculation'!$C:$F,4,FALSE) -> 0.91044778
... C32: Uttarakhand | D32: =VLOOKUP($C32,'yield calculation'!$C:$F,2,FALSE) -> 0.94680852 | E32: =VLOOKUP($C32,'yield calculation'!$C:$F,3,FALSE) -> 0.96739131 | F32: =VLOOKUP($C32,'yield calculation'!$C:$F,4,FALSE) -> 0.97872341
B33: Sector | C33: West Bengal | D33: =VLOOKUP($C33,'yield calculation'!$C:$F,2,FALSE) -> 0.83111113 | E33: =VLOOKUP($C33,'yield calculation'!$C:$F,3,FALSE) -> 0.89047617 | F33: =VLOOKUP($C33,'yield calculation'!$C:$F,4,FALSE) -> 0.93333334
C34: Food | D34: =VLOOKUP($C34,'yield calculation'!$C:$F,2,FALSE) -> 0.89705884 | E34: =VLOOKUP($C34,'yield calculation'!$C:$F,3,FALSE) -> 0.95461661 | F34: =VLOOKUP($C34,'yield calculation'!$C:$F,4,FALSE) -> 0.93970591
C35: Textiles | D35: =VLOOKUP($C35,'yield calculation'!$C:$F,2,FALSE) -> 0.90697676 | E35: =VLOOKUP($C35,'yield calculation'!$C:$F,3,FALSE) -> 0.97014928 | F35: =VLOOKUP($C35,'yield calculation'!$C:$F,4,FALSE) -> 0.93488371
C36: Garments | D36: =VLOOKUP($C36,'yield calculation'!$C:$F,2,FALSE) -> 0.8998211 | E36: =VLOOKUP($C36,'yield calculation'!$C:$F,3,FALSE) -> 0.95992368 | F36: =VLOOKUP($C36,'yield calculation'!$C:$F,4,FALSE) -> 0.93738818
C37: Chemicals & Chemical Products | D37: =VLOOKUP($C37,'yield calculation'!$C:$F,2,FALSE) -> 0.89464593 | E37: =VLOOKUP($C37,'yield calculation'!$C:$F,3,FALSE) -> 0.96641791 | F37: =VLOOKUP($C37,'yield calculation'!$C:$F,4,FALSE) -> 0.92573404
C38: Pharmaceuticals & Medical Products | D38: =VLOOKUP($C38,'yield calculation'!$C:$F,2,FALSE) -> 0.9512195 | E38: =VLOOKUP($C38,'yield calculation'!$C:$F,3,FALSE) -> 0.99363059 | F38: =VLOOKUP($C38,'yield calculation'!$C:$F,4,FALSE) -> 0.95731705
C39: Rubber & Plastics Products | D39: =VLOOKUP($C39,'yield calculation'!$C:$F,2,FALSE) -> 0.93345654 | E39: =VLOOKUP($C39,'yield calculation'!$C:$F,3,FALSE) -> 0.99019605 | F39: =VLOOKUP($C39,'yield calculation'!$C:$F,4,FALSE) -> 0.94269872
C40: Non-Metallic Mineral Products | D40: =VLOOKUP($C40,'yield calculation'!$C:$F,2,FALSE) -> 0.88656193 | E40: =VLOOKUP($C40,'yield calculation'!$C:$F,3,FALSE) -> 0.96030247 | F40: =VLOOKUP($C40,'yield calculation'!$C:$F,4,FALSE) -> 0.92321116
C41: Basic Metals | D41: =VLOOKUP($C41,'yield calculation'!$C:$F,2,FALSE) -> 0.91754389 | E41: =VLOOKUP($C41,'yield calculation'!$C:$F,3,FALSE) -> 0.97574627 | F41: =VLOOKUP($C41,'yield calculation'!$C:$F,4,FALSE) -> 0.94035089
C42: Machinery & Equipment | D42: =VLOOKUP($C42,'yield calculation'!$C:$F,2,FALSE) -> 0.9190141 | E42: =VLOOKUP($C42,'yield calculation'!$C:$F,3,FALSE) -> 0.97570091 | F42: =VLOOKUP($C42,'yield calculation'!$C:$F,4,FALSE) -> 0.94190139
C43: Motor Vehicles | D43: =VLOOKUP($C43,'yield calculation'!$C:$F,2,FALSE) -> 0.94704682 | E43: =VLOOKUP($C43,'yield calculation'!$C:$F,3,FALSE) -> 0.98308671 | F43: =VLOOKUP($C43,'yield calculation'!$C:$F,4,FALSE) -> 0.9633401
C44: Other Manufacturing | D44: =VLOOKUP($C44,'yield calculation'!$C:$F,2,FALSE) -> 0.86692756 | E44: =VLOOKUP($C44,'yield calculation'!$C:$F,3,FALSE) -> 0.92774868 | F44: =VLOOKUP($C44,'yield calculation'!$C:$F,4,FALSE) -> 0.93444228
C45: Construction | D45: =VLOOKUP($C45,'yield calculation'!$C:$F,2,FALSE) -> 0.9092437 | E45: =VLOOKUP($C45,'yield calculation'!$C:$F,3,FALSE) -> 0.97477478 | F45: =VLOOKUP($C45,'yield calculation'!$C:$F,4,FALSE) -> 0.93277311
... C48: Hotels | D48: =VLOOKUP($C48,'yield calculation'!$C:$F,2,FALSE) -> 0.9309091 | E48: =VLOOKUP($C48,'yield calculation'!$C:$F,3,FALSE) -> 0.97523808 | F48: =VLOOKUP($C48,'yield calculation'!$C:$F,4,FALSE) -> 0.95454544
C49: Transport | D49: =VLOOKUP($C49,'yield calculation'!$C:$F,2,FALSE) -> 0.92957747 | E49: =VLOOKUP($C49,'yield calculation'!$C:$F,2,FALSE) -> 0.92957747 | F49: =VLOOKUP($C49,'yield calculation'!$C:$F,2,FALSE) -> 0.92957747
C50: IT & IT Services | D50: =VLOOKUP($C50,'yield calculation'!$C:$F,2,FALSE) -> 0.90118575 | E50: =VLOOKUP($C50,'yield calculation'!$C:$F,2,FALSE) -> 0.90118575 | F50: =VLOOKUP($C50,'yield calculation'!$C:$F,2,FALSE) -> 0.90118575
C51: Other Services | D51: =VLOOKUP($C51,'yield calculation'!$C:$F,2,FALSE) -> 0.85520834 | E51: =VLOOKUP($C51,'yield calculation'!$C:$F,2,FALSE) -> 0.85520834 | F51: =VLOOKUP($C51,'yield calculation'!$C:$F,2,FALSE) -> 0.85520834
B52: Overall | C52: India 2025 | D52: =VLOOKUP($C52,'yield calculation'!$C:$F,2,FALSE) -> 0.90196246 | E52: =VLOOKUP($C52,'yield calculation'!$C:$F,3,FALSE) -> 0.9621706 | F52: =VLOOKUP($C52,'yield calculation'!$C:$F,4,FALSE) -> 0.93742466
B53: Notes: the rates are calculated as defined in Section III.4

Sheet Table 6 Achieved Total Sample 
C1: =RIGHT(SUBSTITUTE('achieved fresh and panel'!C1,"_"," "),LEN(SUBSTITUTE('achieved fresh and panel'!C1,"_"," "))-1) -> Food | D1: =RIGHT(SUBSTITUTE('achieved fresh and panel'!D1,"_"," "),LEN(SUBSTITUTE('achieved fresh and panel'!D1,"_"," "))-1) -> Textiles | E1: =RIGHT(SUBSTITUTE('achieved fresh and panel'!E1,"_"," "),LEN(SUBSTITUTE('achieved fresh and panel'!E1,"_"," "))-1) -> Garments | F1: =RIGHT(SUBSTITUTE('achieved fresh and panel'!F1,"_"," "),LEN(SUBSTITUTE('achieved fresh and panel'!F1,"_"," "))-1) -> Chemicals and Chemic | G1: =RIGHT(SUBSTITUTE('achieved fresh and panel'!G1,"_"," "),LEN(SUBSTITUTE('achieved fresh and panel'!G1,"_"," "))-1) -> Pharmaceuticals and | H1: =RIGHT(SUBSTITUTE('achieved fresh and panel'!H1,"_"," "),LEN(SUBSTITUTE('achieved fresh and panel'!H1,"_"," "))-1) -> Rubber and Plastics | I1: =RIGHT(SUBSTITUTE('achieved fresh and panel'!I1,"_"," "),LEN(SUBSTITUTE('achieved fresh and panel'!I1,"_"," "))-1) -> Non Metallic Mineral | J1: =RIGHT(SUBSTITUTE('achieved fresh and panel'!J1,"_"," "),LEN(SUBSTITUTE('achieved fresh and panel'!J1,"_"," "))-1) -> Basic Metals | ... T1: =RIGHT(SUBSTITUTE('achieved fresh and panel'!T1,"_"," "),LEN(SUBSTITUTE('achieved fresh and panel'!T1,"_"," "))-1) -> Other Services | U1: Total
A2: ='achieved fresh and panel'!A2 -> Andhra Pradesh, A&N Islands | B2: =LEFT('achieved fresh and panel'!B2,FIND(")",'achieved fresh and panel'!B2)) -> Small (5-19) | C2: ='achieved fresh and panel'!C2 -> 4 | D2: ='achieved fresh and panel'!D2 -> 5 | E2: ='achieved fresh and panel'!E2 -> 9 | F2: ='achieved fresh and panel'!F2 -> 6 | G2: ='achieved fresh and panel'!G2 -> 2 | H2: ='achieved fresh and panel'!H2 -> 3 | I2: ='achieved fresh and panel'!I2 -> 3 | J2: ='achieved fresh and panel'!J2 -> 2 | ... T2: ='achieved fresh and panel'!T2 -> 12 | U2: =SUM(C2:T6) -> 709
A3: ='achieved fresh and panel'!A3 -> Andhra Pradesh, A&N Islands | B3: =LEFT('achieved fresh and panel'!B3,FIND(")",'achieved fresh and panel'!B3)) -> Medium (20-99) | C3: ='achieved fresh and panel'!C3 -> 9 | D3: ='achieved fresh and panel'!D3 -> 6 | E3: ='achieved fresh and panel'!E3 -> 7 | F3: ='achieved fresh and panel'!F3 -> 7 | G3: ='achieved fresh and panel'!G3 -> 4 | H3: ='achieved fresh and panel'!H3 -> 6 | I3: ='achieved fresh and panel'!I3 -> 7 | J3: ='achieved fresh and panel'!J3 -> 4 | ... T3: ='achieved fresh and panel'!T3 -> 11
A4: ='achieved fresh and panel'!A4 -> Andhra Pradesh, A&N Islands | B4: =LEFT('achieved fresh and panel'!B4,FIND(")",'achieved fresh and panel'!B4)) -> Large (100 or more) | C4: ='achieved fresh and panel'!C4 -> 10 | D4: ='achieved fresh and panel'!D4 -> 10 | E4: ='achieved fresh and panel'!E4 -> 11 | F4: ='achieved fresh and panel'!F4 -> 9 | G4: ='achieved fresh and panel'!G4 -> 9 | H4: ='achieved fresh and panel'!H4 -> 5 | I4: ='achieved fresh and panel'!I4 -> 10 | J4: ='achieved fresh and panel'!J4 -> 9 | ... T4: ='achieved fresh and panel'!T4 -> 10
A5: ='achieved fresh and panel'!A5 -> Arunachal Pradesh, Nagaland, Manipur, Tripura, Meghalaya, Mizoram, Sikkim | B5: =LEFT('achieved fresh and panel'!B5,FIND(")",'achieved fresh and panel'!B5)) -> Small (5-19) | C5: ='achieved fresh and panel'!C5 -> 7 | D5: ='achieved fresh and panel'!D5 -> 0 | E5: ='achieved fresh and panel'!E5 -> 3 | F5: ='achieved fresh and panel'!F5 -> 3 | G5: ='achieved fresh and panel'!G5 -> 3 | H5: ='achieved fresh and panel'!H5 -> 4 | I5: ='achieved fresh and panel'!I5 -> 5 | J5: ='achieved fresh and panel'!J5 -> 4 | ... T5: ='achieved fresh and panel'!T5 -> 9
A6: ='achieved fresh and panel'!A6 -> Arunachal Pradesh, Nagaland, Manipur, Tripura, Meghalaya, Mizoram, Sikkim | B6: Unknown | C6: ='achieved fresh and panel'!C6 -> 2 | D6: ='achieved fresh and panel'!D6 -> 3 | E6: ='achieved fresh and panel'!E6 -> 7 | F6: ='achieved fresh and panel'!F6 -> 5 | G6: ='achieved fresh and panel'!G6 -> 5 | H6: ='achieved fresh and panel'!H6 -> 5 | I6: ='achieved fresh and panel'!I6 -> 9 | J6: ='achieved fresh and panel'!J6 -> 4 | ... T6: ='achieved fresh and panel'!T6 -> 3
A7: ='achieved fresh and panel'!A7 -> Arunachal Pradesh, Nagaland, Manipur, Tripura, Meghalaya, Mizoram, Sikkim | B7: =LEFT('achieved fresh and panel'!B7,FIND(")",'achieved fresh and panel'!B7)) -> Large (100 or more) | C7: ='achieved fresh and panel'!C7 -> 9 | D7: ='achieved fresh and panel'!D7 -> 2 | E7: ='achieved fresh and panel'!E7 -> 1 | F7: ='achieved fresh and panel'!F7 -> 3 | G7: ='achieved fresh and panel'!G7 -> 10 | H7: ='achieved fresh and panel'!H7 -> 5 | I7: ='achieved fresh and panel'!I7 -> 3 | J7: ='achieved fresh and panel'!J7 -> 9 | ... T7: ='achieved fresh and panel'!T7 -> 8 | U7: =SUM(C7:T11) -> 675
A8: ='achieved fresh and panel'!A8 -> Assam | B8: =LEFT('achieved fresh and panel'!B8,FIND(")",'achieved fresh and panel'!B8)) -> Small (5-19) | C8: ='achieved fresh and panel'!C8 -> 9 | D8: ='achieved fresh and panel'!D8 -> 1 | E8: ='achieved fresh and panel'!E8 -> 8 | F8: ='achieved fresh and panel'!F8 -> 3 | G8: ='achieved fresh and panel'!G8 -> 4 | H8: ='achieved fresh and panel'!H8 -> 10 | I8: ='achieved fresh and panel'!I8 -> 6 | J8: ='achieved fresh and panel'!J8 -> 0 | ... T8: ='achieved fresh and panel'!T8 -> 18
A9: ='achieved fresh and panel'!A9 -> Assam | B9: =LEFT('achieved fresh and panel'!B9,FIND(")",'achieved fresh and panel'!B9)) -> Medium (20-99) | C9: ='achieved fresh and panel'!C9 -> 8 | D9: ='achieved fresh and panel'!D9 -> 3 | E9: ='achieved fresh and panel'!E9 -> 5 | F9: ='achieved fresh and panel'!F9 -> 3 | G9: ='achieved fresh and panel'!G9 -> 5 | H9: ='achieved fresh and panel'!H9 -> 6 | I9: ='achieved fresh and panel'!I9 -> 13 | J9: ='achieved fresh and panel'!J9 -> 4 | ... T9: ='achieved fresh and panel'!T9 -> 11
A10: ='achieved fresh and panel'!A10 -> Assam | B10: =LEFT('achieved fresh and panel'!B10,FIND(")",'achieved fresh and panel'!B10)) -> Large (100 or more) | C10: ='achieved fresh and panel'!C10 -> 11 | D10: ='achieved fresh and panel'!D10 -> 6 | E10: ='achieved fresh and panel'!E10 -> 0 | F10: ='achieved fresh and panel'!F10 -> 12 | G10: ='achieved fresh and panel'!G10 -> 3 | H10: ='achieved fresh and panel'!H10 -> 4 | I10: ='achieved fresh and panel'!I10 -> 4 | J10: ='achieved fresh and panel'!J10 -> 6 | ... T10: ='achieved fresh and panel'!T10 -> 8
A11: ='achieved fresh and panel'!A11 -> Bihar | B11: Unknown | C11: ='achieved fresh and panel'!C11 -> 10 | D11: ='achieved fresh and panel'!D11 -> 0 | E11: ='achieved fresh and panel'!E11 -> 11 | F11: ='achieved fresh and panel'!F11 -> 6 | G11: ='achieved fresh and panel'!G11 -> 1 | H11: ='achieved fresh and panel'!H11 -> 7 | I11: ='achieved fresh and panel'!I11 -> 3 | J11: ='achieved fresh and panel'!J11 -> 1 | ... T11: ='achieved fresh and panel'!T11 -> 20
A12: ='achieved fresh and panel'!A12 -> Bihar | B12: =LEFT('achieved fresh and panel'!B12,FIND(")",'achieved fresh and panel'!B12)) -> Medium (20-99) | C12: ='achieved fresh and panel'!C12 -> 11 | D12: ='achieved fresh and panel'!D12 -> 10 | E12: ='achieved fresh and panel'!E12 -> 4 | F12: ='achieved fresh and panel'!F12 -> 6 | G12: ='achieved fresh and panel'!G12 -> 10 | H12: ='achieved fresh and panel'!H12 -> 5 | I12: ='achieved fresh and panel'!I12 -> 8 | J12: ='achieved fresh and panel'!J12 -> 12 | ... T12: ='achieved fresh and panel'!T12 -> 21 | U12: =SUM(C12:T16) -> 590
A13: ='achieved fresh and panel'!A13 -> Bihar | B13: =LEFT('achieved fresh and panel'!B13,FIND(")",'achieved fresh and panel'!B13)) -> Large (100 or more) | C13: ='achieved fresh and panel'!C13 -> 8 | D13: ='achieved fresh and panel'!D13 -> 3 | E13: ='achieved fresh and panel'!E13 -> 0 | F13: ='achieved fresh and panel'!F13 -> 5 | G13: ='achieved fresh and panel'!G13 -> 2 | H13: ='achieved fresh and panel'!H13 -> 2 | I13: ='achieved fresh and panel'!I13 -> 10 | J13: ='achieved fresh and panel'!J13 -> 7 | ... T13: ='achieved fresh and panel'!T13 -> 4
A14: ='achieved fresh and panel'!A14 -> Chhattisgarh | B14: =LEFT('achieved fresh and panel'!B14,FIND(")",'achieved fresh and panel'!B14)) -> Small (5-19) | C14: ='achieved fresh and panel'!C14 -> 8 | D14: ='achieved fresh and panel'!D14 -> 4 | E14: ='achieved fresh and panel'!E14 -> 5 | F14: ='achieved fresh and panel'!F14 -> 5 | G14: ='achieved fresh and panel'!G14 -> 5 | H14: ='achieved fresh and panel'!H14 -> 5 | I14: ='achieved fresh and panel'!I14 -> 6 | J14: ='achieved fresh and panel'!J14 -> 2 | ... T14: ='achieved fresh and panel'!T14 -> 15
A15: ='achieved fresh and panel'!A15 -> Chhattisgarh | B15: =LEFT('achieved fresh and panel'!B15,FIND(")",'achieved fresh and panel'!B15)) -> Medium (20-99) | C15: ='achieved fresh and panel'!C15 -> 5 | D15: ='achieved fresh and panel'!D15 -> 3 | E15: ='achieved fresh and panel'!E15 -> 6 | F15: ='achieved fresh and panel'!F15 -> 5 | G15: ='achieved fresh and panel'!G15 -> 2 | H15: ='achieved fresh and panel'!H15 -> 5 | I15: ='achieved fresh and panel'!I15 -> 5 | J15: ='achieved fresh and panel'!J15 -> 7 | ... T15: ='achieved fresh and panel'!T15 -> 5
A16: ='achieved fresh and panel'!A16 -> Chhattisgarh | B16: Unknown | C16: ='achieved fresh and panel'!C16 -> 7 | D16: ='achieved fresh and panel'!D16 -> 7 | E16: ='achieved fresh and panel'!E16 -> 3 | F16: ='achieved fresh and panel'!F16 -> 11 | G16: ='achieved fresh and panel'!G16 -> 3 | H16: ='achieved fresh and panel'!H16 -> 6 | I16: ='achieved fresh and panel'!I16 -> 8 | J16: ='achieved fresh and panel'!J16 -> 11 | ... T16: ='achieved fresh and panel'!T16 -> 6
A17: ='achieved fresh and panel'!A17 -> Delhi | B17: =LEFT('achieved fresh and panel'!B17,FIND(")",'achieved fresh and panel'!B17)) -> Small (5-19) | C17: ='achieved fresh and panel'!C17 -> 9 | D17: ='achieved fresh and panel'!D17 -> 2 | E17: ='achieved fresh and panel'!E17 -> 13 | F17: ='achieved fresh and panel'!F17 -> 2 | G17: ='achieved fresh and panel'!G17 -> 4 | H17: ='achieved fresh and panel'!H17 -> 5 | I17: ='achieved fresh and panel'!I17 -> 4 | J17: ='achieved fresh and panel'!J17 -> 3 | ... T17: ='achieved fresh and panel'!T17 -> 21 | U17: =SUM(C17:T21) -> 631
A18: ='achieved fresh and panel'!A18 -> Delhi | B18: =LEFT('achieved fresh and panel'!B18,FIND(")",'achieved fresh and panel'!B18)) -> Medium (20-99) | C18: ='achieved fresh and panel'!C18 -> 4 | D18: ='achieved fresh and panel'!D18 -> 5 | E18: ='achieved fresh and panel'!E18 -> 8 | F18: ='achieved fresh and panel'!F18 -> 3 | G18: ='achieved fresh and panel'!G18 -> 6 | H18: ='achieved fresh and panel'!H18 -> 7 | I18: ='achieved fresh and panel'!I18 -> 4 | J18: ='achieved fresh and panel'!J18 -> 6 | ... T18: ='achieved fresh and panel'!T18 -> 12
A19: ='achieved fresh and panel'!A19 -> Delhi | B19: =LEFT('achieved fresh and panel'!B19,FIND(")",'achieved fresh and panel'!B19)) -> Large (100 or more) | C19: ='achieved fresh and panel'!C19 -> 7 | D19: ='achieved fresh and panel'!D19 -> 5 | E19: ='achieved fresh and panel'!E19 -> 8 | F19: ='achieved fresh and panel'!F19 -> 8 | G19: ='achieved fresh and panel'!G19 -> 6 | H19: ='achieved fresh and panel'!H19 -> 5 | I19: ='achieved fresh and panel'!I19 -> 6 | J19: ='achieved fresh and panel'!J19 -> 4 | ... T19: ='achieved fresh and panel'!T19 -> 8
A20: ='achieved fresh and panel'!A20 -> Goa | B20: =LEFT('achieved fresh and panel'!B20,FIND(")",'achieved fresh and panel'!B20)) -> Small (5-19) | C20: ='achieved fresh and panel'!C20 -> 7 | D20: ='achieved fresh and panel'!D20 -> 4 | E20: ='achieved fresh and panel'!E20 -> 3 | F20: ='achieved fresh and panel'!F20 -> 3 | G20: ='achieved fresh and panel'!G20 -> 4 | H20: ='achieved fresh and panel'!H20 -> 6 | I20: ='achieved fresh and panel'!I20 -> 3 | J20: ='achieved fresh and panel'!J20 -> 2 | ... T20: ='achieved fresh and panel'!T20 -> 10
A21: ='achieved fresh and panel'!A21 -> Goa | B21: Unknown | C21: ='achieved fresh and panel'!C21 -> 5 | D21: ='achieved fresh and panel'!D21 -> 4 | E21: ='achieved fresh and panel'!E21 -> 4 | F21: ='achieved fresh and panel'!F21 -> 9 | G21: ='achieved fresh and panel'!G21 -> 4 | H21: ='achieved fresh and panel'!H21 -> 3 | I21: ='achieved fresh and panel'!I21 -> 5 | J21: ='achieved fresh and panel'!J21 -> 5 | ... T21: ='achieved fresh and panel'!T21 -> 8
A22: ='achieved fresh and panel'!A22 -> Goa | B22: =LEFT('achieved fresh and panel'!B22,FIND(")",'achieved fresh and panel'!B22)) -> Large (100 or more) | C22: ='achieved fresh and panel'!C22 -> 8 | D22: ='achieved fresh and panel'!D22 -> 5 | E22: ='achieved fresh and panel'!E22 -> 2 | F22: ='achieved fresh and panel'!F22 -> 8 | G22: ='achieved fresh and panel'!G22 -> 9 | H22: ='achieved fresh and panel'!H22 -> 6 | I22: ='achieved fresh and panel'!I22 -> 3 | J22: ='achieved fresh and panel'!J22 -> 5 | ... T22: ='achieved fresh and panel'!T22 -> 8 | U22: =SUM(C22:T26) -> 855
A23: ='achieved fresh and panel'!A23 -> Gujarat, Dadra & Nagar Haveli & Daman & Diu | B23: =LEFT('achieved fresh and panel'!B23,FIND(")",'achieved fresh and panel'!B23)) -> Small (5-19) | C23: ='achieved fresh and panel'!C23 -> 12 | D23: ='achieved fresh and panel'!D23 -> 5 | E23: ='achieved fresh and panel'!E23 -> 23 | F23: ='achieved fresh and panel'!F23 -> 7 | G23: ='achieved fresh and panel'!G23 -> 4 | H23: ='achieved fresh and panel'!H23 -> 5 | I23: ='achieved fresh and panel'!I23 -> 5 | J23: ='achieved fresh and panel'!J23 -> 3 | ... T23: ='achieved fresh and panel'!T23 -> 25
A24: ='achieved fresh and panel'!A24 -> Gujarat, Dadra & Nagar Haveli & Daman & Diu | B24: =LEFT('achieved fresh and panel'!B24,FIND(")",'achieved fresh and panel'!B24)) -> Medium (20-99) | C24: ='achieved fresh and panel'!C24 -> 6 | D24: ='achieved fresh and panel'!D24 -> 9 | E24: ='achieved fresh and panel'!E24 -> 11 | F24: ='achieved fresh and panel'!F24 -> 10 | G24: ='achieved fresh and panel'!G24 -> 7 | H24: ='achieved fresh and panel'!H24 -> 8 | I24: ='achieved fresh and panel'!I24 -> 6 | J24: ='achieved fresh and panel'!J24 -> 3 | ... T24: ='achieved fresh and panel'!T24 -> 15
A25: ='achieved fresh and panel'!A25 -> Gujarat, Dadra & Nagar Haveli & Daman & Diu | B25: =LEFT('achieved fresh and panel'!B25,FIND(")",'achieved fresh and panel'!B25)) -> Large (100 or more) | C25: ='achieved fresh and panel'!C25 -> 8 | D25: ='achieved fresh and panel'!D25 -> 10 | E25: ='achieved fresh and panel'!E25 -> 9 | F25: ='achieved fresh and panel'!F25 -> 10 | G25: ='achieved fresh and panel'!G25 -> 7 | H25: ='achieved fresh and panel'!H25 -> 11 | I25: ='achieved fresh and panel'!I25 -> 8 | J25: ='achieved fresh and panel'!J25 -> 3 | ... T25: ='achieved fresh and panel'!T25 -> 12
A26: ='achieved fresh and panel'!A26 -> Haryana | B26: Unknown | C26: ='achieved fresh and panel'!C26 -> 9 | D26: ='achieved fresh and panel'!D26 -> 5 | E26: ='achieved fresh and panel'!E26 -> 4 | F26: ='achieved fresh and panel'!F26 -> 2 | G26: ='achieved fresh and panel'!G26 -> 4 | H26: ='achieved fresh and panel'!H26 -> 3 | I26: ='achieved fresh and panel'!I26 -> 6 | J26: ='achieved fresh and panel'!J26 -> 5 | ... T26: ='achieved fresh and panel'!T26 -> 12
A27: ='achieved fresh and panel'!A27 -> Haryana | B27: =LEFT('achieved fresh and panel'!B27,FIND(")",'achieved fresh and panel'!B27)) -> Medium (20-99) | C27: ='achieved fresh and panel'!C27 -> 7 | D27: ='achieved fresh and panel'!D27 -> 5 | E27: ='achieved fresh and panel'!E27 -> 8 | F27: ='achieved fresh and panel'!F27 -> 5 | G27: ='achieved fresh and panel'!G27 -> 6 | H27: ='achieved fresh and panel'!H27 -> 4 | I27: ='achieved fresh and panel'!I27 -> 9 | J27: ='achieved fresh and panel'!J27 -> 5 | ... T27: ='achieved fresh and panel'!T27 -> 9 | U27: =SUM(C27:T31) -> 590
A28: ='achieved fresh and panel'!A28 -> Haryana | B28: =LEFT('achieved fresh and panel'!B28,FIND(")",'achieved fresh and panel'!B28)) -> Large (100 or more) | C28: ='achieved fresh and panel'!C28 -> 4 | D28: ='achieved fresh and panel'!D28 -> 9 | E28: ='achieved fresh and panel'!E28 -> 7 | F28: ='achieved fresh and panel'!F28 -> 6 | G28: ='achieved fresh and panel'!G28 -> 5 | H28: ='achieved fresh and panel'!H28 -> 8 | I28: ='achieved fresh and panel'!I28 -> 2 | J28: ='achieved fresh and panel'!J28 -> 1 | ... T28: ='achieved fresh and panel'!T28 -> 6
A29: ='achieved fresh and panel'!A29 -> Himachal Pradesh | B29: =LEFT('achieved fresh and panel'!B29,FIND(")",'achieved fresh and panel'!B29)) -> Small (5-19) | C29: ='achieved fresh and panel'!C29 -> 6 | D29: ='achieved fresh and panel'!D29 -> 2 | E29: ='achieved fresh and panel'!E29 -> 7 | F29: ='achieved fresh and panel'!F29 -> 3 | G29: ='achieved fresh and panel'!G29 -> 0 | H29: ='achieved fresh and panel'!H29 -> 5 | I29: ='achieved fresh and panel'!I29 -> 3 | J29: ='achieved fresh and panel'!J29 -> 3 | ... T29: ='achieved fresh and panel'!T29 -> 18
A30: ='achieved fresh and panel'!A30 -> Himachal Pradesh | B30: =LEFT('achieved fresh and panel'!B30,FIND(")",'achieved fresh and panel'!B30)) -> Medium (20-99) | C30: ='achieved fresh and panel'!C30 -> 4 | D30: ='achieved fresh and panel'!D30 -> 5 | E30: ='achieved fresh and panel'!E30 -> 5 | F30: ='achieved fresh and panel'!F30 -> 8 | G30: ='achieved fresh and panel'!G30 -> 8 | H30: ='achieved fresh and panel'!H30 -> 10 | I30: ='achieved fresh and panel'!I30 -> 3 | J30: ='achieved fresh and panel'!J30 -> 4 | ... T30: ='achieved fresh and panel'!T30 -> 6
A31: ='achieved fresh and panel'!A31 -> Himachal Pradesh | B31: Unknown | C31: ='achieved fresh and panel'!C31 -> 5 | D31: ='achieved fresh and panel'!D31 -> 9 | E31: ='achieved fresh and panel'!E31 -> 3 | F31: ='achieved fresh and panel'!F31 -> 13 | G31: ='achieved fresh and panel'!G31 -> 13 | H31: ='achieved fresh and panel'!H31 -> 11 | I31: ='achieved fresh and panel'!I31 -> 10 | J31: ='achieved fresh and panel'!J31 -> 9 | ... T31: ='achieved fresh and panel'!T31 -> 0
A32: ='achieved fresh and panel'!A32 -> Jammu & Kashmir (union territory), Ladakh | B32: =LEFT('achieved fresh and panel'!B32,FIND(")",'achieved fresh and panel'!B32)) -> Small (5-19) | C32: ='achieved fresh and panel'!C32 -> 10 | D32: ='achieved fresh and panel'!D32 -> 4 | E32: ='achieved fresh and panel'!E32 -> 7 | F32: ='achieved fresh and panel'!F32 -> 5 | G32: ='achieved fresh and panel'!G32 -> 4 | H32: ='achieved fresh and panel'!H32 -> 5 | I32: ='achieved fresh and panel'!I32 -> 8 | J32: ='achieved fresh and panel'!J32 -> 6 | ... T32: ='achieved fresh and panel'!T32 -> 13 | U32: =SUM(C32:T36) -> 613
A33: ='achieved fresh and panel'!A33 -> Jammu & Kashmir (union territory), Ladakh | B33: =LEFT('achieved fresh and panel'!B33,FIND(")",'achieved fresh and panel'!B33)) -> Medium (20-99) | C33: ='achieved fresh and panel'!C33 -> 4 | D33: ='achieved fresh and panel'!D33 -> 4 | E33: ='achieved fresh and panel'!E33 -> 11 | F33: ='achieved fresh and panel'!F33 -> 9 | G33: ='achieved fresh and panel'!G33 -> 5 | H33: ='achieved fresh and panel'!H33 -> 6 | I33: ='achieved fresh and panel'!I33 -> 9 | J33: ='achieved fresh and panel'!J33 -> 10 | ... T33: ='achieved fresh and panel'!T33 -> 14
A34: ='achieved fresh and panel'!A34 -> Jammu & Kashmir (union territory), Ladakh | B34: =LEFT('achieved fresh and panel'!B34,FIND(")",'achieved fresh and panel'!B34)) -> Large (100 or more) | C34: ='achieved fresh and panel'!C34 -> 6 | D34: ='achieved fresh and panel'!D34 -> 2 | E34: ='achieved fresh and panel'!E34 -> 0 | F34: ='achieved fresh and panel'!F34 -> 16 | G34: ='achieved fresh and panel'!G34 -> 9 | H34: ='achieved fresh and panel'!H34 -> 6 | I34: ='achieved fresh and panel'!I34 -> 4 | J34: ='achieved fresh and panel'!J34 -> 12 | ... T34: ='achieved fresh and panel'!T34 -> 1
A35: ='achieved fresh and panel'!A35 -> Jharkhand | B35: =LEFT('achieved fresh and panel'!B35,FIND(")",'achieved fresh and panel'!B35)) -> Small (5-19) | C35: ='achieved fresh and panel'!C35 -> 8 | D35: ='achieved fresh and panel'!D35 -> 0 | E35: ='achieved fresh and panel'!E35 -> 9 | F35: ='achieved fresh and panel'!F35 -> 3 | G35: ='achieved fresh and panel'!G35 -> 3 | H35: ='achieved fresh and panel'!H35 -> 6 | I35: ='achieved fresh and panel'!I35 -> 3 | J35: ='achieved fresh and panel'!J35 -> 1 | ... T35: ='achieved fresh and panel'!T35 -> 5
A36: ='achieved fresh and panel'!A36 -> Jharkhand | B36: Unknown | C36: ='achieved fresh and panel'!C36 -> 5 | D36: ='achieved fresh and panel'!D36 -> 0 | E36: ='achieved fresh and panel'!E36 -> 2 | F36: ='achieved fresh and panel'!F36 -> 8 | G36: ='achieved fresh and panel'!G36 -> 4 | H36: ='achieved fresh and panel'!H36 -> 7 | I36: ='achieved fresh and panel'!I36 -> 5 | J36: ='achieved fresh and panel'!J36 -> 7 | ... T36: ='achieved fresh and panel'!T36 -> 11 | U36: =SUM(C37:T41) -> 726
A37: ='achieved fresh and panel'!A37 -> Jharkhand | B37: =LEFT('achieved fresh and panel'!B37,FIND(")",'achieved fresh and panel'!B37)) -> Large (100 or more) | C37: ='achieved fresh and panel'!C37 -> 7 | D37: ='achieved fresh and panel'!D37 -> 0 | E37: ='achieved fresh and panel'!E37 -> 4 | F37: ='achieved fresh and panel'!F37 -> 5 | G37: ='achieved fresh and panel'!G37 -> 1 | H37: ='achieved fresh and panel'!H37 -> 7 | I37: ='achieved fresh and panel'!I37 -> 5 | J37: ='achieved fresh and panel'!J37 -> 11 | ... T37: ='achieved fresh and panel'!T37 -> 4
A38: ='achieved fresh and panel'!A38 -> Karnataka | B38: =LEFT('achieved fresh and panel'!B38,FIND(")",'achieved fresh and panel'!B38)) -> Small (5-19) | C38: ='achieved fresh and panel'!C38 -> 15 | D38: ='achieved fresh and panel'!D38 -> 7 | E38: ='achieved fresh and panel'!E38 -> 15 | F38: ='achieved fresh and panel'!F38 -> 10 | G38: ='achieved fresh and panel'!G38 -> 7 | H38: ='achieved fresh and panel'!H38 -> 6 | I38: ='achieved fresh and panel'!I38 -> 3 | J38: ='achieved fresh and panel'!J38 -> 6 | ... T38: ='achieved fresh and panel'!T38 -> 14
A39: ='achieved fresh and panel'!A39 -> Karnataka | B39: =LEFT('achieved fresh and panel'!B39,FIND(")",'achieved fresh and panel'!B39)) -> Medium (20-99) | C39: ='achieved fresh and panel'!C39 -> 6 | D39: ='achieved fresh and panel'!D39 -> 0 | E39: ='achieved fresh and panel'!E39 -> 7 | F39: ='achieved fresh and panel'!F39 -> 4 | G39: ='achieved fresh and panel'!G39 -> 6 | H39: ='achieved fresh and panel'!H39 -> 7 | I39: ='achieved fresh and panel'!I39 -> 5 | J39: ='achieved fresh and panel'!J39 -> 2 | ... T39: ='achieved fresh and panel'!T39 -> 4
A40: ='achieved fresh and panel'!A40 -> Karnataka | B40: =LEFT('achieved fresh and panel'!B40,FIND(")",'achieved fresh and panel'!B40)) -> Large (100 or more) | C40: ='achieved fresh and panel'!C40 -> 12 | D40: ='achieved fresh and panel'!D40 -> 9 | E40: ='achieved fresh and panel'!E40 -> 21 | F40: ='achieved fresh and panel'!F40 -> 9 | G40: ='achieved fresh and panel'!G40 -> 8 | H40: ='achieved fresh and panel'!H40 -> 10 | I40: ='achieved fresh and panel'!I40 -> 7 | J40: ='achieved fresh and panel'!J40 -> 6 | ... T40: ='achieved fresh and panel'!T40 -> 8
A41: ='achieved fresh and panel'!A41 -> Kerala | B41: Unknown | C41: ='achieved fresh and panel'!C41 -> 8 | D41: ='achieved fresh and panel'!D41 -> 7 | E41: ='achieved fresh and panel'!E41 -> 6 | F41: ='achieved fresh and panel'!F41 -> 2 | G41: ='achieved fresh and panel'!G41 -> 3 | H41: ='achieved fresh and panel'!H41 -> 6 | I41: ='achieved fresh and panel'!I41 -> 5 | J41: ='achieved fresh and panel'!J41 -> 3 | ... T41: ='achieved fresh and panel'!T41 -> 19
A42: ='achieved fresh and panel'!A42 -> Kerala | B42: =LEFT('achieved fresh and panel'!B42,FIND(")",'achieved fresh and panel'!B42)) -> Medium (20-99) | C42: ='achieved fresh and panel'!C42 -> 11 | D42: ='achieved fresh and panel'!D42 -> 4 | E42: ='achieved fresh and panel'!E42 -> 8 | F42: ='achieved fresh and panel'!F42 -> 6 | G42: ='achieved fresh and panel'!G42 -> 5 | H42: ='achieved fresh and panel'!H42 -> 3 | I42: ='achieved fresh and panel'!I42 -> 6 | J42: ='achieved fresh and panel'!J42 -> 6 | ... T42: ='achieved fresh and panel'!T42 -> 7 | U42: =SUM(C42:T46) -> 711
A43: ='achieved fresh and panel'!A43 -> Kerala | B43: =LEFT('achieved fresh and panel'!B43,FIND(")",'achieved fresh and panel'!B43)) -> Large (100 or more) | C43: ='achieved fresh and panel'!C43 -> 8 | D43: ='achieved fresh and panel'!D43 -> 9 | E43: ='achieved fresh and panel'!E43 -> 9 | F43: ='achieved fresh and panel'!F43 -> 8 | G43: ='achieved fresh and panel'!G43 -> 7 | H43: ='achieved fresh and panel'!H43 -> 9 | I43: ='achieved fresh and panel'!I43 -> 6 | J43: ='achieved fresh and panel'!J43 -> 8 | ... T43: ='achieved fresh and panel'!T43 -> 4
A44: ='achieved fresh and panel'!A44 -> Madhya Pradesh | B44: =LEFT('achieved fresh and panel'!B44,FIND(")",'achieved fresh and panel'!B44)) -> Small (5-19) | C44: ='achieved fresh and panel'!C44 -> 11 | D44: ='achieved fresh and panel'!D44 -> 5 | E44: ='achieved fresh and panel'!E44 -> 12 | F44: ='achieved fresh and panel'!F44 -> 8 | G44: ='achieved fresh and panel'!G44 -> 6 | H44: ='achieved fresh and panel'!H44 -> 9 | I44: ='achieved fresh and panel'!I44 -> 4 | J44: ='achieved fresh and panel'!J44 -> 7 | ... T44: ='achieved fresh and panel'!T44 -> 5
A45: ='achieved fresh and panel'!A45 -> Madhya Pradesh | B45: =LEFT('achieved fresh and panel'!B45,FIND(")",'achieved fresh and panel'!B45)) -> Medium (20-99) | C45: ='achieved fresh and panel'!C45 -> 5 | D45: ='achieved fresh and panel'!D45 -> 1 | E45: ='achieved fresh and panel'!E45 -> 11 | F45: ='achieved fresh and panel'!F45 -> 4 | G45: ='achieved fresh and panel'!G45 -> 5 | H45: ='achieved fresh and panel'!H45 -> 5 | I45: ='achieved fresh and panel'!I45 -> 5 | J45: ='achieved fresh and panel'!J45 -> 5 | ... T45: ='achieved fresh and panel'!T45 -> 4
A46: ='achieved fresh and panel'!A46 -> Madhya Pradesh | B46: Unknown | C46: ='achieved fresh and panel'!C46 -> 8 | D46: ='achieved fresh and panel'!D46 -> 3 | E46: ='achieved fresh and panel'!E46 -> 11 | F46: ='achieved fresh and panel'!F46 -> 12 | G46: ='achieved fresh and panel'!G46 -> 11 | H46: ='achieved fresh and panel'!H46 -> 14 | I46: ='achieved fresh and panel'!I46 -> 7 | J46: ='achieved fresh and panel'!J46 -> 7 | ... T46: ='achieved fresh and panel'!T46 -> 7
A47: ='achieved fresh and panel'!A47 -> Maharashtra | B47: =LEFT('achieved fresh and panel'!B47,FIND(")",'achieved fresh and panel'!B47)) -> Small (5-19) | C47: ='achieved fresh and panel'!C47 -> 25 | D47: ='achieved fresh and panel'!D47 -> 14 | E47: ='achieved fresh and panel'!E47 -> 10 | F47: ='achieved fresh and panel'!F47 -> 7 | G47: ='achieved fresh and panel'!G47 -> 4 | H47: ='achieved fresh and panel'!H47 -> 16 | I47: ='achieved fresh and panel'!I47 -> 3 | J47: ='achieved fresh and panel'!J47 -> 5 | ... T47: ='achieved fresh and panel'!T47 -> 66 | U47: =SUM(C47:T51) -> 998
A48: ='achieved fresh and panel'!A48 -> Maharashtra | B48: =LEFT('achieved fresh and panel'!B48,FIND(")",'achieved fresh and panel'!B48)) -> Medium (20-99) | C48: ='achieved fresh and panel'!C48 -> 9 | D48: ='achieved fresh and panel'!D48 -> 8 | E48: ='achieved fresh and panel'!E48 -> 14 | F48: ='achieved fresh and panel'!F48 -> 8 | G48: ='achieved fresh and panel'!G48 -> 5 | H48: ='achieved fresh and panel'!H48 -> 6 | I48: ='achieved fresh and panel'!I48 -> 8 | J48: ='achieved fresh and panel'!J48 -> 1 | ... T48: ='achieved fresh and panel'!T48 -> 9
A49: ='achieved fresh and panel'!A49 -> Maharashtra | B49: =LEFT('achieved fresh and panel'!B49,FIND(")",'achieved fresh and panel'!B49)) -> Large (100 or more) | C49: ='achieved fresh and panel'!C49 -> 11 | D49: ='achieved fresh and panel'!D49 -> 6 | E49: ='achieved fresh and panel'!E49 -> 10 | F49: ='achieved fresh and panel'!F49 -> 11 | G49: ='achieved fresh and panel'!G49 -> 9 | H49: ='achieved fresh and panel'!H49 -> 9 | I49: ='achieved fresh and panel'!I49 -> 10 | J49: ='achieved fresh and panel'!J49 -> 5 | ... T49: ='achieved fresh and panel'!T49 -> 7
A50: ='achieved fresh and panel'!A50 -> Odisha | B50: =LEFT('achieved fresh and panel'!B50,FIND(")",'achieved fresh and panel'!B50)) -> Small (5-19) | C50: ='achieved fresh and panel'!C50 -> 10 | D50: ='achieved fresh and panel'!D50 -> 2 | E50: ='achieved fresh and panel'!E50 -> 10 | F50: ='achieved fresh and panel'!F50 -> 3 | G50: ='achieved fresh and panel'!G50 -> 7 | H50: ='achieved fresh and panel'!H50 -> 7 | I50: ='achieved fresh and panel'!I50 -> 4 | J50: ='achieved fresh and panel'!J50 -> 0 | ... T50: ='achieved fresh and panel'!T50 -> 10
A51: ='achieved fresh and panel'!A51 -> Odisha | B51: Unknown | C51: ='achieved fresh and panel'!C51 -> 9 | D51: ='achieved fresh and panel'!D51 -> 4 | E51: ='achieved fresh and panel'!E51 -> 8 | F51: ='achieved fresh and panel'!F51 -> 7 | G51: ='achieved fresh and panel'!G51 -> 3 | H51: ='achieved fresh and panel'!H51 -> 7 | I51: ='achieved fresh and panel'!I51 -> 1 | J51: ='achieved fresh and panel'!J51 -> 3 | ... T51: ='achieved fresh and panel'!T51 -> 8
A52: ='achieved fresh and panel'!A52 -> Odisha | B52: =LEFT('achieved fresh and panel'!B52,FIND(")",'achieved fresh and panel'!B52)) -> Large (100 or more) | C52: ='achieved fresh and panel'!C52 -> 10 | D52: ='achieved fresh and panel'!D52 -> 5 | E52: ='achieved fresh and panel'!E52 -> 6 | F52: ='achieved fresh and panel'!F52 -> 5 | G52: ='achieved fresh and panel'!G52 -> 4 | H52: ='achieved fresh and panel'!H52 -> 6 | I52: ='achieved fresh and panel'!I52 -> 7 | J52: ='achieved fresh and panel'!J52 -> 15 | ... T52: ='achieved fresh and panel'!T52 -> 9 | U52: =SUM(C52:T56) -> 723
A53: ='achieved fresh and panel'!A53 -> Punjab, Chandigarh | B53: =LEFT('achieved fresh and panel'!B53,FIND(")",'achieved fresh and panel'!B53)) -> Small (5-19) | C53: ='achieved fresh and panel'!C53 -> 5 | D53: ='achieved fresh and panel'!D53 -> 3 | E53: ='achieved fresh and panel'!E53 -> 4 | F53: ='achieved fresh and panel'!F53 -> 3 | G53: ='achieved fresh and panel'!G53 -> 1 | H53: ='achieved fresh and panel'!H53 -> 2 | I53: ='achieved fresh and panel'!I53 -> 3 | J53: ='achieved fresh and panel'!J53 -> 3 | ... T53: ='achieved fresh and panel'!T53 -> 20
A54: ='achieved fresh and panel'!A54 -> Punjab, Chandigarh | B54: =LEFT('achieved fresh and panel'!B54,FIND(")",'achieved fresh and panel'!B54)) -> Medium (20-99) | C54: ='achieved fresh and panel'!C54 -> 11 | D54: ='achieved fresh and panel'!D54 -> 4 | E54: ='achieved fresh and panel'!E54 -> 12 | F54: ='achieved fresh and panel'!F54 -> 7 | G54: ='achieved fresh and panel'!G54 -> 6 | H54: ='achieved fresh and panel'!H54 -> 6 | I54: ='achieved fresh and panel'!I54 -> 17 | J54: ='achieved fresh and panel'!J54 -> 6 | ... T54: ='achieved fresh and panel'!T54 -> 10
A55: ='achieved fresh and panel'!A55 -> Punjab, Chandigarh | B55: =LEFT('achieved fresh and panel'!B55,FIND(")",'achieved fresh and panel'!B55)) -> Large (100 or more) | C55: ='achieved fresh and panel'!C55 -> 13 | D55: ='achieved fresh and panel'!D55 -> 10 | E55: ='achieved fresh and panel'!E55 -> 16 | F55: ='achieved fresh and panel'!F55 -> 7 | G55: ='achieved fresh and panel'!G55 -> 6 | H55: ='achieved fresh and panel'!H55 -> 7 | I55: ='achieved fresh and panel'!I55 -> 2 | J55: ='achieved fresh and panel'!J55 -> 8 | ... T55: ='achieved fresh and panel'!T55 -> 6
A56: ='achieved fresh and panel'!A56 -> Rajasthan | B56: Unknown | C56: ='achieved fresh and panel'!C56 -> 5 | D56: ='achieved fresh and panel'!D56 -> 3 | E56: ='achieved fresh and panel'!E56 -> 3 | F56: ='achieved fresh and panel'!F56 -> 3 | G56: ='achieved fresh and panel'!G56 -> 3 | H56: ='achieved fresh and panel'!H56 -> 5 | I56: ='achieved fresh and panel'!I56 -> 3 | J56: ='achieved fresh and panel'!J56 -> 1 | ... T56: ='achieved fresh and panel'!T56 -> 18
A57: ='achieved fresh and panel'!A57 -> Rajasthan | B57: =LEFT('achieved fresh and panel'!B57,FIND(")",'achieved fresh and panel'!B57)) -> Medium (20-99) | C57: ='achieved fresh and panel'!C57 -> 5 | D57: ='achieved fresh and panel'!D57 -> 10 | E57: ='achieved fresh and panel'!E57 -> 9 | F57: ='achieved fresh and panel'!F57 -> 8 | G57: ='achieved fresh and panel'!G57 -> 5 | H57: ='achieved fresh and panel'!H57 -> 4 | I57: ='achieved fresh and panel'!I57 -> 9 | J57: ='achieved fresh and panel'!J57 -> 3 | ... T57: ='achieved fresh and panel'!T57 -> 7 | U57: =SUM(C57:T61) -> 788
A58: ='achieved fresh and panel'!A58 -> Rajasthan | B58: =LEFT('achieved fresh and panel'!B58,FIND(")",'achieved fresh and panel'!B58)) -> Large (100 or more) | C58: ='achieved fresh and panel'!C58 -> 13 | D58: ='achieved fresh and panel'!D58 -> 9 | E58: ='achieved fresh and panel'!E58 -> 8 | F58: ='achieved fresh and panel'!F58 -> 11 | G58: ='achieved fresh and panel'!G58 -> 5 | H58: ='achieved fresh and panel'!H58 -> 13 | I58: ='achieved fresh and panel'!I58 -> 8 | J58: ='achieved fresh and panel'!J58 -> 8 | ... T58: ='achieved fresh and panel'!T58 -> 5
A59: ='achieved fresh and panel'!A59 -> Tamil Nadu, Puducherry | B59: =LEFT('achieved fresh and panel'!B59,FIND(")",'achieved fresh and panel'!B59)) -> Small (5-19) | C59: ='achieved fresh and panel'!C59 -> 11 | D59: ='achieved fresh and panel'!D59 -> 5 | E59: ='achieved fresh and panel'!E59 -> 9 | F59: ='achieved fresh and panel'!F59 -> 7 | G59: ='achieved fresh and panel'!G59 -> 4 | H59: ='achieved fresh and panel'!H59 -> 1 | I59: ='achieved fresh and panel'!I59 -> 2 | J59: ='achieved fresh and panel'!J59 -> 1 | ... T59: ='achieved fresh and panel'!T59 -> 17
A60: ='achieved fresh and panel'!A60 -> Tamil Nadu, Puducherry | B60: =LEFT('achieved fresh and panel'!B60,FIND(")",'achieved fresh and panel'!B60)) -> Medium (20-99) | C60: ='achieved fresh and panel'!C60 -> 10 | D60: ='achieved fresh and panel'!D60 -> 7 | E60: ='achieved fresh and panel'!E60 -> 9 | F60: ='achieved fresh and panel'!F60 -> 10 | G60: ='achieved fresh and panel'!G60 -> 6 | H60: ='achieved fresh and panel'!H60 -> 6 | I60: ='achieved fresh and panel'!I60 -> 6 | J60: ='achieved fresh and panel'!J60 -> 5 | ... T60: ='achieved fresh and panel'!T60 -> 6
A61: ='achieved fresh and panel'!A61 -> Tamil Nadu, Puducherry | B61: Unknown | C61: ='achieved fresh and panel'!C61 -> 9 | D61: ='achieved fresh and panel'!D61 -> 6 | E61: ='achieved fresh and panel'!E61 -> 17 | F61: ='achieved fresh and panel'!F61 -> 8 | G61: ='achieved fresh and panel'!G61 -> 8 | H61: ='achieved fresh and panel'!H61 -> 8 | I61: ='achieved fresh and panel'!I61 -> 8 | J61: ='achieved fresh and panel'!J61 -> 6 | ... T61: ='achieved fresh and panel'!T61 -> 9
A62: ='achieved fresh and panel'!A62 -> Telangana | B62: =LEFT('achieved fresh and panel'!B62,FIND(")",'achieved fresh and panel'!B62)) -> Small (5-19) | C62: ='achieved fresh and panel'!C62 -> 6 | D62: ='achieved fresh and panel'!D62 -> 4 | E62: ='achieved fresh and panel'!E62 -> 11 | F62: ='achieved fresh and panel'!F62 -> 3 | G62: ='achieved fresh and panel'!G62 -> 6 | H62: ='achieved fresh and panel'!H62 -> 5 | I62: ='achieved fresh and panel'!I62 -> 6 | J62: ='achieved fresh and panel'!J62 -> 2 | ... T62: ='achieved fresh and panel'!T62 -> 7 | U62: =SUM(C62:T66) -> 833
A63: ='achieved fresh and panel'!A63 -> Telangana | B63: =LEFT('achieved fresh and panel'!B63,FIND(")",'achieved fresh and panel'!B63)) -> Medium (20-99) | C63: ='achieved fresh and panel'!C63 -> 6 | D63: ='achieved fresh and panel'!D63 -> 4 | E63: ='achieved fresh and panel'!E63 -> 5 | F63: ='achieved fresh and panel'!F63 -> 10 | G63: ='achieved fresh and panel'!G63 -> 3 | H63: ='achieved fresh and panel'!H63 -> 6 | I63: ='achieved fresh and panel'!I63 -> 6 | J63: ='achieved fresh and panel'!J63 -> 9 | ... T63: ='achieved fresh and panel'!T63 -> 7
A64: ='achieved fresh and panel'!A64 -> Telangana | B64: =LEFT('achieved fresh and panel'!B64,FIND(")",'achieved fresh and panel'!B64)) -> Large (100 or more) | C64: ='achieved fresh and panel'!C64 -> 10 | D64: ='achieved fresh and panel'!D64 -> 5 | E64: ='achieved fresh and panel'!E64 -> 12 | F64: ='achieved fresh and panel'!F64 -> 10 | G64: ='achieved fresh and panel'!G64 -> 11 | H64: ='achieved fresh and panel'!H64 -> 7 | I64: ='achieved fresh and panel'!I64 -> 4 | J64: ='achieved fresh and panel'!J64 -> 6 | ... T64: ='achieved fresh and panel'!T64 -> 9
A65: ='achieved fresh and panel'!A65 -> Uttar Pradesh | B65: =LEFT('achieved fresh and panel'!B65,FIND(")",'achieved fresh and panel'!B65)) -> Small (5-19) | C65: ='achieved fresh and panel'!C65 -> 10 | D65: ='achieved fresh and panel'!D65 -> 7 | E65: ='achieved fresh and panel'!E65 -> 18 | F65: ='achieved fresh and panel'!F65 -> 5 | G65: ='achieved fresh and panel'!G65 -> 3 | H65: ='achieved fresh and panel'!H65 -> 11 | I65: ='achieved fresh and panel'!I65 -> 5 | J65: ='achieved fresh and panel'!J65 -> 2 | ... T65: ='achieved fresh and panel'!T65 -> 24
A66: ='achieved fresh and panel'!A66 -> Uttar Pradesh | B66: Unknown | C66: ='achieved fresh and panel'!C66 -> 8 | D66: ='achieved fresh and panel'!D66 -> 3 | E66: ='achieved fresh and panel'!E66 -> 16 | F66: ='achieved fresh and panel'!F66 -> 8 | G66: ='achieved fresh and panel'!G66 -> 5 | H66: ='achieved fresh and panel'!H66 -> 5 | I66: ='achieved fresh and panel'!I66 -> 5 | J66: ='achieved fresh and panel'!J66 -> 4 | ... T66: ='achieved fresh and panel'!T66 -> 16
A67: ='achieved fresh and panel'!A67 -> Uttar Pradesh | B67: =LEFT('achieved fresh and panel'!B67,FIND(")",'achieved fresh and panel'!B67)) -> Large (100 or more) | C67: ='achieved fresh and panel'!C67 -> 10 | D67: ='achieved fresh and panel'!D67 -> 3 | E67: ='achieved fresh and panel'!E67 -> 16 | F67: ='achieved fresh and panel'!F67 -> 6 | G67: ='achieved fresh and panel'!G67 -> 6 | H67: ='achieved fresh and panel'!H67 -> 8 | I67: ='achieved fresh and panel'!I67 -> 6 | J67: ='achieved fresh and panel'!J67 -> 4 | ... T67: ='achieved fresh and panel'!T67 -> 4 | U67: =SUM(C67:T71) -> 725
A68: ='achieved fresh and panel'!A68 -> Uttarakhand | B68: =LEFT('achieved fresh and panel'!B68,FIND(")",'achieved fresh and panel'!B68)) -> Small (5-19) | C68: ='achieved fresh and panel'!C68 -> 9 | D68: ='achieved fresh and panel'!D68 -> 2 | E68: ='achieved fresh and panel'!E68 -> 8 | F68: ='achieved fresh and panel'!F68 -> 4 | G68: ='achieved fresh and panel'!G68 -> 1 | H68: ='achieved fresh and panel'!H68 -> 1 | I68: ='achieved fresh and panel'!I68 -> 5 | J68: ='achieved fresh and panel'!J68 -> 1 | ... T68: ='achieved fresh and panel'!T68 -> 14
A69: ='achieved fresh and panel'!A69 -> Uttarakhand | B69: =LEFT('achieved fresh and panel'!B69,FIND(")",'achieved fresh and panel'!B69)) -> Medium (20-99) | C69: ='achieved fresh and panel'!C69 -> 6 | D69: ='achieved fresh and panel'!D69 -> 3 | E69: ='achieved fresh and panel'!E69 -> 6 | F69: ='achieved fresh and panel'!F69 -> 10 | G69: ='achieved fresh and panel'!G69 -> 10 | H69: ='achieved fresh and panel'!H69 -> 9 | I69: ='achieved fresh and panel'!I69 -> 8 | J69: ='achieved fresh and panel'!J69 -> 6 | ... T69: ='achieved fresh and panel'!T69 -> 2
A70: ='achieved fresh and panel'!A70 -> Uttarakhand | B70: =LEFT('achieved fresh and panel'!B70,FIND(")",'achieved fresh and panel'!B70)) -> Large (100 or more) | C70: ='achieved fresh and panel'!C70 -> 10 | D70: ='achieved fresh and panel'!D70 -> 8 | E70: ='achieved fresh and panel'!E70 -> 7 | F70: ='achieved fresh and panel'!F70 -> 13 | G70: ='achieved fresh and panel'!G70 -> 11 | H70: ='achieved fresh and panel'!H70 -> 8 | I70: ='achieved fresh and panel'!I70 -> 4 | J70: ='achieved fresh and panel'!J70 -> 6 | ... T70: ='achieved fresh and panel'!T70 -> 6
A71: ='achieved fresh and panel'!A71 -> West Bengal | B71: Unknown | C71: ='achieved fresh and panel'!C71 -> 5 | D71: ='achieved fresh and panel'!D71 -> 5 | E71: ='achieved fresh and panel'!E71 -> 30 | F71: ='achieved fresh and panel'!F71 -> 2 | G71: ='achieved fresh and panel'!G71 -> 2 | H71: ='achieved fresh and panel'!H71 -> 6 | I71: ='achieved fresh and panel'!I71 -> 6 | J71: ='achieved fresh and panel'!J71 -> 2 | ... T71: ='achieved fresh and panel'!T71 -> 20
A72: ='achieved fresh and panel'!A72 -> West Bengal | B72: =LEFT('achieved fresh and panel'!B72,FIND(")",'achieved fresh and panel'!B72)) -> Medium (20-99) | C72: ='achieved fresh and panel'!C72 -> 9 | D72: ='achieved fresh and panel'!D72 -> 3 | E72: ='achieved fresh and panel'!E72 -> 8 | F72: ='achieved fresh and panel'!F72 -> 6 | G72: ='achieved fresh and panel'!G72 -> 5 | H72: ='achieved fresh and panel'!H72 -> 7 | I72: ='achieved fresh and panel'!I72 -> 8 | J72: ='achieved fresh and panel'!J72 -> 4 | ... T72: ='achieved fresh and panel'!T72 -> 12 | U72: =SUM(C72:T73) -> 312
A73: ='achieved fresh and panel'!A73 -> West Bengal | B73: =LEFT('achieved fresh and panel'!B73,FIND(")",'achieved fresh and panel'!B73)) -> Large (100 or more) | C73: ='achieved fresh and panel'!C73 -> 16 | D73: ='achieved fresh and panel'!D73 -> 10 | E73: ='achieved fresh and panel'!E73 -> 8 | F73: ='achieved fresh and panel'!F73 -> 12 | G73: ='achieved fresh and panel'!G73 -> 7 | H73: ='achieved fresh and panel'!H73 -> 14 | I73: ='achieved fresh and panel'!I73 -> 7 | J73: ='achieved fresh and panel'!J73 -> 10 | ... T73: ='achieved fresh and panel'!T73 -> 5
C74: =SUM(C2:C73) -> 604 | D74: =SUM(D2:D73) -> 355 | E74: =SUM(E2:E73) -> 618 | F74: =SUM(F2:F73) -> 489 | G74: =SUM(G2:G73) -> 385 | H74: =SUM(H2:H73) -> 471 | I74: =SUM(I2:I73) -> 420 | J74: =SUM(J2:J73) -> 366 | ... U74: =SUM(U2:U73) -> 10479

Sheet Table 7 Achieved Panel Sample
C1: =RIGHT(SUBSTITUTE('achieved panel'!C1,"_"," "),LEN(SUBSTITUTE('achieved panel'!C1,"_"," "))-1) -> Food | D1: =RIGHT(SUBSTITUTE('achieved panel'!D1,"_"," "),LEN(SUBSTITUTE('achieved panel'!D1,"_"," "))-1) -> Textiles | E1: =RIGHT(SUBSTITUTE('achieved panel'!E1,"_"," "),LEN(SUBSTITUTE('achieved panel'!E1,"_"," "))-1) -> Garments | F1: =RIGHT(SUBSTITUTE('achieved panel'!F1,"_"," "),LEN(SUBSTITUTE('achieved panel'!F1,"_"," "))-1) -> Chemicals and Chemic | G1: =RIGHT(SUBSTITUTE('achieved panel'!G1,"_"," "),LEN(SUBSTITUTE('achieved panel'!G1,"_"," "))-1) -> Pharmaceuticals and | H1: =RIGHT(SUBSTITUTE('achieved panel'!H1,"_"," "),LEN(SUBSTITUTE('achieved panel'!H1,"_"," "))-1) -> Rubber and Plastics | I1: =RIGHT(SUBSTITUTE('achieved panel'!I1,"_"," "),LEN(SUBSTITUTE('achieved panel'!I1,"_"," "))-1) -> Non Metallic Mineral | J1: =RIGHT(SUBSTITUTE('achieved panel'!J1,"_"," "),LEN(SUBSTITUTE('achieved panel'!J1,"_"," "))-1) -> Basic Metals | ... T1: =RIGHT(SUBSTITUTE('achieved panel'!T1,"_"," "),LEN(SUBSTITUTE('achieved panel'!T1,"_"," "))-1) -> Other Services | U1: Total
A2: ='achieved panel'!A2 -> Andhra Pradesh, A&N Islands | B2: =LEFT('achieved panel'!B2,FIND(")",'achieved panel'!B2)) -> Small (5-19) | C2: ='achieved panel'!C2 -> 3 | D2: ='achieved panel'!D2 -> 0 | E2: ='achieved panel'!E2 -> 1 | F2: ='achieved panel'!F2 -> 4 | G2: ='achieved panel'!G2 -> 0 | H2: ='achieved panel'!H2 -> 2 | I2: ='achieved panel'!I2 -> 1 | J2: ='achieved panel'!J2 -> 2 | ... T2: ='achieved panel'!T2 -> 2 | U2: =SUM(C2:T5) -> 269
A3: ='achieved panel'!A3 -> Andhra Pradesh, A&N Islands | B3: =LEFT('achieved panel'!B3,FIND(")",'achieved panel'!B3)) -> Medium (20-99) | C3: ='achieved panel'!C3 -> 5 | D3: ='achieved panel'!D3 -> 3 | E3: ='achieved panel'!E3 -> 2 | F3: ='achieved panel'!F3 -> 3 | G3: ='achieved panel'!G3 -> 1 | H3: ='achieved panel'!H3 -> 2 | I3: ='achieved panel'!I3 -> 4 | J3: ='achieved panel'!J3 -> 2 | ... T3: ='achieved panel'!T3 -> 4
