Workbook

Sheet Table 1 Universe
C1: =RIGHT(SUBSTITUTE(universe!C1,"_"," "),LEN(SUBSTITUTE(universe!C1,"_"," "))-1) -> Food | D1: =RIGHT(SUBSTITUTE(universe!D1,"_"," "),LEN(SUBSTITUTE(universe!D1,"_"," "))-1) -> Textiles | E1: =RIGHT(SUBSTITUTE(universe!E1,"_"," "),LEN(SUBSTITUTE(universe!E1,"_"," "))-1) -> Garments | F1: =RIGHT(SUBSTITUTE(universe!F1,"_"," "),LEN(SUBSTITUTE(universe!F1,"_"," "))-1) -> Chemicals and Chemic | G1: =RIGHT(SUBSTITUTE(universe!G1,"_"," "),LEN(SUBSTITUTE(universe!G1,"_"," "))-1) -> Pharmaceuticals and | H1: =RIGHT(SUBSTITUTE(universe!H1,"_"," "),LEN(SUBSTITUTE(universe!H1,"_"," "))-1) -> Rubber and Plastics | I1: =RIGHT(SUBSTITUTE(universe!I1,"_"," "),LEN(SUBSTITUTE(universe!I1,"_"," "))-1) -> Non Metallic Mineral | J1: =RIGHT(SUBSTITUTE(universe!J1,"_"," "),LEN(SUBSTITUTE(universe!J1,"_"," "))-1) -> Basic Metals | ... T1: =RIGHT(SUBSTITUTE(universe!T1,"_"," "),LEN(SUBSTITUTE(universe!T1,"_"," "))-1) -> Other Services | U1: Total
A2: =universe!A2 -> Andhra Pradesh, A&N Islands | B2: =LEFT(universe!B2,FIND(")",universe!B2)) -> Small (5-19) | C2: =universe!C2 -> 98872.922 | D2: =universe!D2 -> 66956.812 | E2: =universe!E2 -> 74749.273 | F2: =universe!F2 -> 6350.1997 | G2: =universe!G2 -> 1484.6921 | H2: =universe!H2 -> 3979.4128 | I2: =universe!I2 -> 10575.205 | J2: =universe!J2 -> 3380.104 | ... T2: =universe!T2 -> 231837.41 | U2: =SUM(C2:T6) -> 1731341.8
A3: =universe!A3 -> Andhra Pradesh, A&N Islands | B3: =LEFT(universe!B3,FIND(")",universe!B3)) -> Medium (20-99) | C3: =universe!C3 -> 25976.719 | D3: =universe!D3 -> 16192.866 | E3: =universe!E3 -> 17819.285 | F3: =universe!F3 -> 1819.4924 | G3: =universe!G3 -> 583.61938 | H3: =universe!H3 -> 1264.2739 | I3: =universe!I3 -> 3851.8469 | J3: =universe!J3 -> 1064.1923 | ... T3: =universe!T3 -> 56291.781
A4: =universe!A4 -> Andhra Pradesh, A&N Islands | B4: =LEFT(universe!B4,FIND(")",universe!B4)) -> Large (100-199) | C4: =universe!C4 -> 371.33331 | D4: =universe!D4 -> 71.666664 | E4: =universe!E4 -> 23 | F4: =universe!F4 -> 50 | G4: =universe!G4 -> 54 | H4: =universe!H4 -> 33 | I4: =universe!I4 -> 44.666664 | J4: =universe!J4 -> 46 | ... T4: =universe!T4 -> 145
A5: =universe!A5 -> Andhra Pradesh, A&N Islands | B5: =LEFT(universe!B5,FIND(")",universe!B5)) -> Very Large (200 or more) | C5: =universe!C5 -> 296 | D5: =universe!D5 -> 133 | E5: =universe!E5 -> 53 | F5: =universe!F5 -> 80 | G5: =universe!G5 -> 117 | H5: =universe!H5 -> 31 | I5: =universe!I5 -> 65 | J5: =universe!J5 -> 90 | ... T5: =universe!T5 -> 108
A6: =universe!A6 -> Andhra Pradesh, A&N Islands | B6: Unknown | C6: =universe!C6 -> 36989 | D6: =universe!D6 -> 31705 | E6: =universe!E6 -> 11365 | F6: =universe!F6 -> 1600 | G6: =universe!G6 -> 1372 | H6: =universe!H6 -> 3971 | I6: =universe!I6 -> 8938 | J6: =universe!J6 -> 3422 | ... T6: =universe!T6 -> 75889
A7: =universe!A7 -> Arunachal Pradesh, Nagaland, Manipur, Tripura, Meghalaya, Mizoram, Sikkim | B7: =LEFT(universe!B7,FIND(")",universe!B7)) -> Small (5-19) | C7: =universe!C7 -> 32327.113 | D7: =universe!D7 -> 22443.465 | E7: =universe!E7 -> 9514.7412 | F7: =universe!F7 -> 1904.7838 | G7: =universe!G7 -> 447.41385 | H7: =universe!H7 -> 2605.3276 | I7: =universe!I7 -> 1684.0452 | J7: =universe!J7 -> 1459.5353 | ... T7: =universe!T7 -> 45733.32 | U7: =SUM(C7:T11) -> 457865.99
A8: =universe!A8 -> Arunachal Pradesh, Nagaland, Manipur, Tripura, Meghalaya, Mizoram, Sikkim | B8: =LEFT(universe!B8,FIND(")",universe!B8)) -> Medium (20-99) | C8: =universe!C8 -> 14296.053 | D8: =universe!D8 -> 9853.2002 | E8: =universe!E8 -> 4176.8418 | F8: =universe!F8 -> 847.13275 | G8: =universe!G8 -> 205.66948 | H8: =universe!H8 -> 1172.6724 | I8: =universe!I8 -> 1024.9547 | J8: =universe!J8 -> 670.54803 | ... T8: =universe!T8 -> 20225.182
A9: =universe!A9 -> Arunachal Pradesh, Nagaland, Manipur, Tripura, Meghalaya, Mizoram, Sikkim | B9: =LEFT(universe!B9,FIND(")",universe!B9)) -> Large (100-199) | C9: =universe!C9 -> 153.83333 | D9: =universe!D9 -> 20.333334 | E9: =universe!E9 -> 10.416667 | F9: =universe!F9 -> 21.083334 | G9: =universe!G9 -> 10.916666 | H9: =universe!H9 -> 46.999996 | I9: =universe!I9 -> 93 | J9: =universe!J9 -> 48.916664 | ... T9: =universe!T9 -> 312.5
A10: =universe!A10 -> Arunachal Pradesh, Nagaland, Manipur, Tripura, Meghalaya, Mizoram, Sikkim | B10: =LEFT(universe!B10,FIND(")",universe!B10)) -> Very Large (200 or more) | C10: =universe!C10 -> 18 | D10: =universe!D10 -> 0 | E10: =universe!E10 -> 0 | F10: =universe!F10 -> 2 | G10: =universe!G10 -> 28 | H10: =universe!H10 -> 1 | I10: =universe!I10 -> 33 | J10: =universe!J10 -> 16 | ... T10: =universe!T10 -> 3
A11: =universe!A11 -> Arunachal Pradesh, Nagaland, Manipur, Tripura, Meghalaya, Mizoram, Sikkim | B11: Unknown | C11: =universe!C11 -> 4862 | D11: =universe!D11 -> 4815 | E11: =universe!E11 -> 2243 | F11: =universe!F11 -> 57 | G11: =universe!G11 -> 127 | H11: =universe!H11 -> 604 | I11: =universe!I11 -> 398 | J11: =universe!J11 -> 398 | ... T11: =universe!T11 -> 8593
A12: =universe!A12 -> Assam | B12: =LEFT(universe!B12,FIND(")",universe!B12)) -> Small (5-19) | C12: =universe!C12 -> 91264.93 | D12: =universe!D12 -> 36839.375 | E12: =universe!E12 -> 23134.752 | F12: =universe!F12 -> 5854.0718 | G12: =universe!G12 -> 1735.9791 | H12: =universe!H12 -> 2747.6316 | I12: =universe!I12 -> 5237.9663 | J12: =universe!J12 -> 3315.3391 | ... T12: =universe!T12 -> 138712.28 | U12: =SUM(C12:T16) -> 1027474.5
A13: =universe!A13 -> Assam | B13: =LEFT(universe!B13,FIND(")",universe!B13)) -> Medium (20-99) | C13: =universe!C13 -> 7525.4175 | D13: =universe!D13 -> 2540.2471 | E13: =universe!E13 -> 1568.5278 | F13: =universe!F13 -> 502.92703 | G13: =universe!G13 -> 161.72084 | H13: =universe!H13 -> 499.06433 | I13: =universe!I13 -> 1932.42 | J13: =universe!J13 -> 352.44482 | ... T13: =universe!T13 -> 10344.053
A14: =universe!A14 -> Assam | B14: =LEFT(universe!B14,FIND(")",universe!B14)) -> Large (100-199) | C14: =universe!C14 -> 380.33334 | D14: =universe!D14 -> 28 | E14: =universe!E14 -> 6.166667 | F14: =universe!F14 -> 18.833334 | G14: =universe!G14 -> 6.166667 | H14: =universe!H14 -> 36.333336 | I14: =universe!I14 -> 207.66667 | J14: =universe!J14 -> 30 | ... T14: =universe!T14 -> 416.83331
A15: =universe!A15 -> Assam | B15: =LEFT(universe!B15,FIND(")",universe!B15)) -> Very Large (200 or more) | C15: =universe!C15 -> 102 | D15: =universe!D15 -> 7 | E15: =universe!E15 -> 0 | F15: =universe!F15 -> 17 | G15: =universe!G15 -> 7 | H15: =universe!H15 -> 8 | I15: =universe!I15 -> 27 | J15: =universe!J15 -> 7 | ... T15: =universe!T15 -> 12
A16: =universe!A16 -> Assam | B16: Unknown | C16: =universe!C16 -> 10972 | D16: =universe!D16 -> 7076 | E16: =universe!E16 -> 3994 | F16: =universe!F16 -> 388 | G16: =universe!G16 -> 314 | H16: =universe!H16 -> 509 | I16: =universe!I16 -> 1008 | J16: =universe!J16 -> 605 | ... T16: =universe!T16 -> 19016
A17: =universe!A17 -> Bihar | B17: =LEFT(universe!B17,FIND(")",universe!B17)) -> Small (5-19) | C17: =universe!C17 -> 149235.75 | D17: =universe!D17 -> 17133.227 | E17: =universe!E17 -> 26474.916 | F17: =universe!F17 -> 12093.347 | G17: =universe!G17 -> 3257.1067 | H17: =universe!H17 -> 4548.4814 | I17: =universe!I17 -> 10138.73 | J17: =universe!J17 -> 6933.6196 | ... T17: =universe!T17 -> 242777.41 | U17: =SUM(C17:T21) -> 1928498.3
A18: =universe!A18 -> Bihar | B18: =LEFT(universe!B18,FIND(")",universe!B18)) -> Medium (20-99) | C18: =universe!C18 -> 15911.822 | D18: =universe!D18 -> 1700.6602 | E18: =universe!E18 -> 2558.343 | F18: =universe!F18 -> 1243.4658 | G18: =universe!G18 -> 375.27039 | H18: =universe!H18 -> 591.97504 | I18: =universe!I18 -> 1629.938 | J18: =universe!J18 -> 749.88617 | ... T18: =universe!T18 -> 24840.086
A19: =universe!A19 -> Bihar | B19: =LEFT(universe!B19,FIND(")",universe!B19)) -> Large (100-199) | C19: =universe!C19 -> 308.5 | D19: =universe!D19 -> 12.833334 | E19: =universe!E19 -> 5.666667 | F19: =universe!F19 -> 18.5 | G19: =universe!G19 -> 11.833334 | H19: =universe!H19 -> 21.666668 | I19: =universe!I19 -> 173 | J19: =universe!J19 -> 27 | ... T19: =universe!T19 -> 342.33334
A20: =universe!A20 -> Bihar | B20: =LEFT(universe!B20,FIND(")",universe!B20)) -> Very Large (200 or more) | C20: =universe!C20 -> 71 | D20: =universe!D20 -> 2 | E20: =universe!E20 -> 2 | F20: =universe!F20 -> 5 | G20: =universe!G20 -> 1 | H20: =universe!H20 -> 5 | I20: =universe!I20 -> 8 | J20: =universe!J20 -> 23 | ... T20: =universe!T20 -> 20
A21: =universe!A21 -> Bihar | B21: Unknown | C21: =universe!C21 -> 51245 | D21: =universe!D21 -> 15675 | E21: =universe!E21 -> 6963 | F21: =universe!F21 -> 4829 | G21: =universe!G21 -> 2567 | H21: =universe!H21 -> 3932 | I21: =universe!I21 -> 8498 | J21: =universe!J21 -> 5995 | ... T21: =universe!T21 -> 87017
A22: =universe!A22 -> Chhattisgarh | B22: =LEFT(universe!B22,FIND(")",universe!B22)) -> Small (5-19) | C22: =universe!C22 -> 32105.793 | D22: =universe!D22 -> 9646.9902 | E22: =universe!E22 -> 10133.339 | F22: =universe!F22 -> 4011.9661 | G22: =universe!G22 -> 870.39111 | H22: =universe!H22 -> 1714.8746 | I22: =universe!I22 -> 4815.3232 | J22: =universe!J22 -> 1985.2965 | ... T22: =universe!T22 -> 98201.07 | U22: =SUM(C22:T26) -> 727263.73
A23: =universe!A23 -> Chhattisgarh | B23: =LEFT(universe!B23,FIND(")",universe!B23)) -> Medium (20-99) | C23: =universe!C23 -> 3906.4084 | D23: =universe!D23 -> 704.47064 | E23: =universe!E23 -> 700.53815 | F23: =universe!F23 -> 421.97406 | G23: =universe!G23 -> 99.556831 | H23: =universe!H23 -> 283.00336 | I23: =universe!I23 -> 620.45599 | J23: =universe!J23 -> 876.61298 | ... T23: =universe!T23 -> 7560.5303
A24: =universe!A24 -> Chhattisgarh | B24: =LEFT(universe!B24,FIND(")",universe!B24)) -> Large (100-199) | C24: =universe!C24 -> 238.66667 | D24: =universe!D24 -> 10.166667 | E24: =universe!E24 -> 3.1666667 | F24: =universe!F24 -> 28.333334 | G24: =universe!G24 -> 7.666667 | H24: =universe!H24 -> 28.833334 | I24: =universe!I24 -> 51.166668 | J24: =universe!J24 -> 145.16667 | ... T24: =universe!T24 -> 195.5
A25: =universe!A25 -> Chhattisgarh | B25: =LEFT(universe!B25,FIND(")",universe!B25)) -> Very Large (200 or more) | C25: =universe!C25 -> 39 | D25: =universe!D25 -> 5 | E25: =universe!E25 -> 1 | F25: =universe!F25 -> 14 | G25: =universe!G25 -> 1 | H25: =universe!H25 -> 4 | I25: =universe!I25 -> 25 | J25: =universe!J25 -> 246 | ... T25: =universe!T25 -> 16
A26: =universe!A26 -> Chhattisgarh | B26: Unknown | C26: =universe!C26 -> 10062 | D26: =universe!D26 -> 3421 | E26: =universe!E26 -> 5662 | F26: =universe!F26 -> 1066 | G26: =universe!G26 -> 514 | H26: =universe!H26 -> 1334 | I26: =universe!I26 -> 3286 | J26: =universe!J26 -> 2048 | ... T26: =universe!T26 -> 42050
A27: =universe!A27 -> Delhi | B27: =LEFT(universe!B27,FIND(")",universe!B27)) -> Small (5-19) | C27: =universe!C27 -> 17493.92 | D27: =universe!D27 -> 12613.737 | E27: =universe!E27 -> 25460.486 | F27: =universe!F27 -> 6173.3853 | G27: =universe!G27 -> 3022.4458 | H27: =universe!H27 -> 7522.5015 | I27: =universe!I27 -> 2172.0129 | J27: =universe!J27 -> 3684.5044 | ... T27: =universe!T27 -> 132533.59 | U27: =SUM(C27:T31) -> 1034977.6
A28: =universe!A28 -> Delhi | B28: =LEFT(universe!B28,FIND(")",universe!B28)) -> Medium (20-99) | C28: =universe!C28 -> 6337.48 | D28: =universe!D28 -> 4255.0596 | E28: =universe!E28 -> 7527.1216 | F28: =universe!F28 -> 2478.5962 | G28: =universe!G28 -> 1166.6115 | H28: =universe!H28 -> 3346.0005 | I28: =universe!I28 -> 795.62823 | J28: =universe!J28 -> 1900.8761 | ... T28: =universe!T28 -> 39247.898
A29: =universe!A29 -> Delhi | B29: =LEFT(universe!B29,FIND(")",universe!B29)) -> Large (100-199) | C29: =universe!C29 -> 284 | D29: =universe!D29 -> 154.375 | E29: =universe!E29 -> 173.5 | F29: =universe!F29 -> 134.5 | G29: =universe!G29 -> 60.75 | H29: =universe!H29 -> 208.125 | I29: =universe!I29 -> 35.875 | J29: =universe!J29 -> 140 | ... T29: =universe!T29 -> 1635
A30: =universe!A30 -> Delhi | B30: =LEFT(universe!B30,FIND(")",universe!B30)) -> Very Large (200 or more) | C30: =universe!C30 -> 205 | D30: =universe!D30 -> 52 | E30: =universe!E30 -> 74 | F30: =universe!F30 -> 112 | G30: =universe!G30 -> 57 | H30: =universe!H30 -> 66 | I30: =universe!I30 -> 36 | J30: =universe!J30 -> 127 | ... T30: =universe!T30 -> 1557
A31: =universe!A31 -> Delhi | B31: Unknown | C31: =universe!C31 -> 8222 | D31: =universe!D31 -> 10599 | E31: =universe!E31 -> 7082 | F31: =universe!F31 -> 2488 | G31: =universe!G31 -> 2069 | H31: =universe!H31 -> 7286 | I31: =universe!I31 -> 1648 | J31: =universe!J31 -> 3579 | ... T31: =universe!T31 -> 52902
A32: =universe!A32 -> Goa | B32: =LEFT(universe!B32,FIND(")",universe!B32)) -> Small (5-19) | C32: =universe!C32 -> 2325.8337 | D32: =universe!D32 -> 873.23486 | E32: =universe!E32 -> 986.28943 | F32: =universe!F32 -> 532.44189 | G32: =universe!G32 -> 61.278496 | H32: =universe!H32 -> 131.69324 | I32: =universe!I32 -> 236.2375 | J32: =universe!J32 -> 57.274494 | ... T32: =universe!T32 -> 10653.151 | U32: =SUM(C32:T36) -> 84895.054
A33: =universe!A33 -> Goa | B33: =LEFT(universe!B33,FIND(")",universe!B33)) -> Medium (20-99) | C33: =universe!C33 -> 127.91666 | D33: =universe!D33 -> 7 | E33: =universe!E33 -> 5 | F33: =universe!F33 -> 33.125 | G33: =universe!G33 -> 25.416666 | H33: =universe!H33 -> 57.083332 | I33: =universe!I33 -> 36.416668 | J33: =universe!J33 -> 53 | ... T33: =universe!T33 -> 271.04166
A34: =universe!A34 -> Goa | B34: =LEFT(universe!B34,FIND(")",universe!B34)) -> Large (100-199) | C34: =universe!C34 -> 19 | D34: =universe!D34 -> 1.15 | E34: =universe!E34 -> 3 | F34: =universe!F34 -> 12 | G34: =universe!G34 -> 12 | H34: =universe!H34 -> 10.716667 | I34: =universe!I34 -> 4 | J34: =universe!J34 -> 18.5 | ... T34: =universe!T34 -> 28.458332
A35: =universe!A35 -> Goa | B35: =LEFT(universe!B35,FIND(")",universe!B35)) -> Very Large (200 or more) | C35: =universe!C35 -> 9 | D35: =universe!D35 -> 6 | E35: =universe!E35 -> 0 | F35: =universe!F35 -> 11 | G35: =universe!G35 -> 51 | H35: =universe!H35 -> 8 | I35: =universe!I35 -> 2 | J35: =universe!J35 -> 20 | ... T35: =universe!T35 -> 15
A36: =universe!A36 -> Goa | B36: Unknown | C36: =universe!C36 -> 1757 | D36: =universe!D36 -> 384 | E36: =universe!E36 -> 1063 | F36: =universe!F36 -> 24 | G36: =universe!G36 -> 83 | H36: =universe!H36 -> 258 | I36: =universe!I36 -> 211 | J36: =universe!J36 -> 120 | ... T36: =universe!T36 -> 10151 | U36: =SUM(C37:T41) -> 3178715.8
A37: =universe!A37 -> Gujarat, Dadra & Nagar Haveli & Daman & Diu | B37: =LEFT(universe!B37,FIND(")",universe!B37)) -> Small (5-19) | C37: =universe!C37 -> 87313.289 | D37: =universe!D37 -> 201136.88 | E37: =universe!E37 -> 63047.766 | F37: =universe!F37 -> 22507.102 | G37: =universe!G37 -> 6188.8301 | H37: =universe!H37 -> 33006.66 | I37: =universe!I37 -> 13145.45 | J37: =universe!J37 -> 16233.336 | ... T37: =universe!T37 -> 386049.88
A38: =universe!A38 -> Gujarat, Dadra & Nagar Haveli & Daman & Diu | B38: =LEFT(universe!B38,FIND(")",universe!B38)) -> Medium (20-99) | C38: =universe!C38 -> 9842.2129 | D38: =universe!D38 -> 19433.246 | E38: =universe!E38 -> 4664.6689 | F38: =universe!F38 -> 5161.1729 | G38: =universe!G38 -> 1696.4858 | H38: =universe!H38 -> 6069.3398 | I38: =universe!I38 -> 3828.8689 | J38: =universe!J38 -> 4587.6978 | ... T38: =universe!T38 -> 26356.799
A39: =universe!A39 -> Gujarat, Dadra & Nagar Haveli & Daman & Diu | B39: =LEFT(universe!B39,FIND(")",universe!B39)) -> Large (100-199) | C39: =universe!C39 -> 217 | D39: =universe!D39 -> 498 | E39: =universe!E39 -> 68 | F39: =universe!F39 -> 369 | G39: =universe!G39 -> 184 | H39: =universe!H39 -> 303 | I39: =universe!I39 -> 393 | J39: =universe!J39 -> 263 | ... T39: =universe!T39 -> 263
A40: =universe!A40 -> Gujarat, Dadra & Nagar Haveli & Daman & Diu | B40: =LEFT(universe!B40,FIND(")",universe!B40)) -> Very Large (200 or more) | C40: =universe!C40 -> 317 | D40: =universe!D40 -> 773 | E40: =universe!E40 -> 81 | F40: =universe!F40 -> 643 | G40: =universe!G40 -> 332 | H40: =universe!H40 -> 380 | I40: =universe!I40 -> 382 | J40: =universe!J40 -> 300 | ... T40: =universe!T40 -> 263
...

Sheet Table 2 Frame
C1: =RIGHT(SUBSTITUTE('frame fresh and panel'!C1,"_"," "),LEN(SUBSTITUTE('frame fresh and panel'!C1,"_"," "))-1) -> Food | D1: =RIGHT(SUBSTITUTE('frame fresh and panel'!D1,"_"," "),LEN(SUBSTITUTE('frame fresh and panel'!D1,"_"," "))-1) -> Textiles | E1: =RIGHT(SUBSTITUTE('frame fresh and panel'!E1,"_"," "),LEN(SUBSTITUTE('frame fresh and panel'!E1,"_"," "))-1) -> Garments | F1: =RIGHT(SUBSTITUTE('frame fresh and panel'!F1,"_"," "),LEN(SUBSTITUTE('frame fresh and panel'!F1,"_"," "))-1) -> Chemicals and Chemic | G1: =RIGHT(SUBSTITUTE('frame fresh and panel'!G1,"_"," "),LEN(SUBSTITUTE('frame fresh and panel'!G1,"_"," "))-1) -> Pharmaceuticals and | H1: =RIGHT(SUBSTITUTE('frame fresh and panel'!H1,"_"," "),LEN(SUBSTITUTE('frame fresh and panel'!H1,"_"," "))-1) -> Rubber and Plastics | I1: =RIGHT(SUBSTITUTE('frame fresh and panel'!I1,"_"," "),LEN(SUBSTITUTE('frame fresh and panel'!I1,"_"," "))-1) -> Non Metallic Mineral | J1: =RIGHT(SUBSTITUTE('frame fresh and panel'!J1,"_"," "),LEN(SUBSTITUTE('frame fresh and panel'!J1,"_"," "))-1) -> Basic Metals | ... T1: =RIGHT(SUBSTITUTE('frame fresh and panel'!T1,"_"," "),LEN(SUBSTITUTE('frame fresh and panel'!T1,"_"," "))-1) -> Other Services | U1: Total
A2: ='frame fresh and panel'!A2 -> Andhra Pradesh, A&N Islands | B2: =LEFT('frame fresh and panel'!B2,FIND(")",'frame fresh and panel'!B2)) -> Small (5-19) | C2: ='frame fresh and panel'!C2 -> 4607 | D2: ='frame fresh and panel'!D2 -> 391 | E2: ='frame fresh and panel'!E2 -> 180 | F2: ='frame fresh and panel'!F2 -> 802 | G2: ='frame fresh and panel'!G2 -> 281 | H2: ='frame fresh and panel'!H2 -> 620 | I2: ='frame fresh and panel'!I2 -> 3311 | J2: ='frame fresh and panel'!J2 -> 273 | ... T2: ='frame fresh and panel'!T2 -> 5415 | U2: =SUM(C2:T6) -> 455480
A3: ='frame fresh and panel'!A3 -> Andhra Pradesh, A&N Islands | B3: =LEFT('frame fresh and panel'!B3,FIND(")",'frame fresh and panel'!B3)) -> Medium (20-99) | C3: ='frame fresh and panel'!C3 -> 1794 | D3: ='frame fresh and panel'!D3 -> 221 | E3: ='frame fresh and panel'!E3 -> 70 | F3: ='frame fresh and panel'!F3 -> 289 | G3: ='frame fresh and panel'!G3 -> 181 | H3: ='frame fresh and panel'!H3 -> 311 | I3: ='frame fresh and panel'!I3 -> 1726 | J3: ='frame fresh and panel'!J3 -> 225 | ... T3: ='frame fresh and panel'!T3 -> 646
A4: ='frame fresh and panel'!A4 -> Andhra Pradesh, A&N Islands | B4: =LEFT('frame fresh and panel'!B4,FIND(")",'frame fresh and panel'!B4)) -> Large (100-199) | C4: ='frame fresh and panel'!C4 -> 160 | D4: ='frame fresh and panel'!D4 -> 65 | E4: ='frame fresh and panel'!E4 -> 23 | F4: ='frame fresh and panel'!F4 -> 50 | G4: ='frame fresh and panel'!G4 -> 54 | H4: ='frame fresh and panel'!H4 -> 33 | I4: ='frame fresh and panel'!I4 -> 27 | J4: ='frame fresh and panel'!J4 -> 43 | ... T4: ='frame fresh and panel'!T4 -> 111
A5: ='frame fresh and panel'!A5 -> Andhra Pradesh, A&N Islands | B5: =LEFT('frame fresh and panel'!B5,FIND(")",'frame fresh and panel'!B5)) -> Very Large (200 or more) | C5: ='frame fresh and panel'!C5 -> 296 | D5: ='frame fresh and panel'!D5 -> 133 | E5: ='frame fresh and panel'!E5 -> 53 | F5: ='frame fresh and panel'!F5 -> 80 | G5: ='frame fresh and panel'!G5 -> 117 | H5: ='frame fresh and panel'!H5 -> 31 | I5: ='frame fresh and panel'!I5 -> 65 | J5: ='frame fresh and panel'!J5 -> 90 | ... T5: ='frame fresh and panel'!T5 -> 108
A6: ='frame fresh and panel'!A6 -> Andhra Pradesh, A&N Islands | B6: Unknown | C6: ='frame fresh and panel'!C6 -> 36989 | D6: ='frame fresh and panel'!D6 -> 31705 | E6: ='frame fresh and panel'!E6 -> 11365 | F6: ='frame fresh and panel'!F6 -> 1600 | G6: ='frame fresh and panel'!G6 -> 1372 | H6: ='frame fresh and panel'!H6 -> 3971 | I6: ='frame fresh and panel'!I6 -> 8938 | J6: ='frame fresh and panel'!J6 -> 3422 | ... T6: ='frame fresh and panel'!T6 -> 75889
A7: ='frame fresh and panel'!A7 -> Arunachal Pradesh, Nagaland, Manipur, Tripura, Meghalaya, Mizoram, Sikkim | B7: =LEFT('frame fresh and panel'!B7,FIND(")",'frame fresh and panel'!B7)) -> Small (5-19) | C7: ='frame fresh and panel'!C7 -> 414 | D7: ='frame fresh and panel'!D7 -> 81 | E7: ='frame fresh and panel'!E7 -> 64 | F7: ='frame fresh and panel'!F7 -> 75 | G7: ='frame fresh and panel'!G7 -> 22 | H7: ='frame fresh and panel'!H7 -> 74 | I7: ='frame fresh and panel'!I7 -> 395 | J7: ='frame fresh and panel'!J7 -> 44 | ... T7: ='frame fresh and panel'!T7 -> 965 | U7: =SUM(C7:T11) -> 58542
A8: ='frame fresh and panel'!A8 -> Arunachal Pradesh, Nagaland, Manipur, Tripura, Meghalaya, Mizoram, Sikkim | B8: =LEFT('frame fresh and panel'!B8,FIND(")",'frame fresh and panel'!B8)) -> Medium (20-99) | C8: ='frame fresh and panel'!C8 -> 120 | D8: ='frame fresh and panel'!D8 -> 3 | E8: ='frame fresh and panel'!E8 -> 6 | F8: ='frame fresh and panel'!F8 -> 9 | G8: ='frame fresh and panel'!G8 -> 9 | H8: ='frame fresh and panel'!H8 -> 39 | I8: ='frame fresh and panel'!I8 -> 348 | J8: ='frame fresh and panel'!J8 -> 54 | ... T8: ='frame fresh and panel'!T8 -> 91
A9: ='frame fresh and panel'!A9 -> Arunachal Pradesh, Nagaland, Manipur, Tripura, Meghalaya, Mizoram, Sikkim | B9: =LEFT('frame fresh and panel'!B9,FIND(")",'frame fresh and panel'!B9)) -> Large (100-199) | C9: ='frame fresh and panel'!C9 -> 14 | D9: ='frame fresh and panel'!D9 -> 1 | E9: ='frame fresh and panel'!E9 -> 0 | F9: ='frame fresh and panel'!F9 -> 4 | G9: ='frame fresh and panel'!G9 -> 3 | H9: ='frame fresh and panel'!H9 -> 6 | I9: ='frame fresh and panel'!I9 -> 87 | J9: ='frame fresh and panel'!J9 -> 22 | ... T9: ='frame fresh and panel'!T9 -> 9
A10: ='frame fresh and panel'!A10 -> Arunachal Pradesh, Nagaland, Manipur, Tripura, Meghalaya, Mizoram, Sikkim | B10: =LEFT('frame fresh and panel'!B10,FIND(")",'frame fresh and panel'!B10)) -> Very Large (200 or more) | C10: ='frame fresh and panel'!C10 -> 18 | D10: ='frame fresh and panel'!D10 -> 0 | E10: ='frame fresh and panel'!E10 -> 0 | F10: ='frame fresh and panel'!F10 -> 2 | G10: ='frame fresh and panel'!G10 -> 28 | H10: ='frame fresh and panel'!H10 -> 1 | I10: ='frame fresh and panel'!I10 -> 33 | J10: ='frame fresh and panel'!J10 -> 16 | ... T10: ='frame fresh and panel'!T10 -> 3
A11: ='frame fresh and panel'!A11 -> Arunachal Pradesh, Nagaland, Manipur, Tripura, Meghalaya, Mizoram, Sikkim | B11: Unknown | C11: ='frame fresh and panel'!C11 -> 4862 | D11: ='frame fresh and panel'!D11 -> 4815 | E11: ='frame fresh and panel'!E11 -> 2243 | F11: ='frame fresh and panel'!F11 -> 57 | G11: ='frame fresh and panel'!G11 -> 127 | H11: ='frame fresh and panel'!H11 -> 604 | I11: ='frame fresh and panel'!I11 -> 398 | J11: ='frame fresh and panel'!J11 -> 398 | ... T11: ='frame fresh and panel'!T11 -> 8593
A12: ='frame fresh and panel'!A12 -> Assam | B12: =LEFT('frame fresh and panel'!B12,FIND(")",'frame fresh and panel'!B12)) -> Small (5-19) | C12: ='frame fresh and panel'!C12 -> 1110 | D12: ='frame fresh and panel'!D12 -> 112 | E12: ='frame fresh and panel'!E12 -> 73 | F12: ='frame fresh and panel'!F12 -> 300 | G12: ='frame fresh and panel'!G12 -> 150 | H12: ='frame fresh and panel'!H12 -> 259 | I12: ='frame fresh and panel'!I12 -> 919 | J12: ='frame fresh and panel'!J12 -> 115 | ... T12: ='frame fresh and panel'!T12 -> 1703 | U12: =SUM(C12:T16) -> 120933
A13: ='frame fresh and panel'!A13 -> Assam | B13: =LEFT('frame fresh and panel'!B13,FIND(")",'frame fresh and panel'!B13)) -> Medium (20-99) | C13: ='frame fresh and panel'!C13 -> 889 | D13: ='frame fresh and panel'!D13 -> 44 | E13: ='frame fresh and panel'!E13 -> 9 | F13: ='frame fresh and panel'!F13 -> 109 | G13: ='frame fresh and panel'!G13 -> 44 | H13: ='frame fresh and panel'!H13 -> 220 | I13: ='frame fresh and panel'!I13 -> 1422 | J13: ='frame fresh and panel'!J13 -> 132 | ... T13: ='frame fresh and panel'!T13 -> 281
A14: ='frame fresh and panel'!A14 -> Assam | B14: =LEFT('frame fresh and panel'!B14,FIND(")",'frame fresh and panel'!B14)) -> Large (100-199) | C14: ='frame fresh and panel'!C14 -> 248 | D14: ='frame fresh and panel'!D14 -> 11 | E14: ='frame fresh and panel'!E14 -> 2 | F14: ='frame fresh and panel'!F14 -> 10 | G14: ='frame fresh and panel'!G14 -> 1 | H14: ='frame fresh and panel'!H14 -> 13 | I14: ='frame fresh and panel'!I14 -> 179 | J14: ='frame fresh and panel'!J14 -> 23 | ... T14: ='frame fresh and panel'!T14 -> 43
A15: ='frame fresh and panel'!A15 -> Assam | B15: =LEFT('frame fresh and panel'!B15,FIND(")",'frame fresh and panel'!B15)) -> Very Large (200 or more) | C15: ='frame fresh and panel'!C15 -> 102 | D15: ='frame fresh and panel'!D15 -> 7 | E15: ='frame fresh and panel'!E15 -> 0 | F15: ='frame fresh and panel'!F15 -> 17 | G15: ='frame fresh and panel'!G15 -> 7 | H15: ='frame fresh and panel'!H15 -> 8 | I15: ='frame fresh and panel'!I15 -> 27 | J15: ='frame fresh and panel'!J15 -> 7 | ... T15: ='frame fresh and panel'!T15 -> 12
A16: ='frame fresh and panel'!A16 -> Assam | B16: Unknown | C16: ='frame fresh and panel'!C16 -> 10972 | D16: ='frame fresh and panel'!D16 -> 7076 | E16: ='frame fresh and panel'!E16 -> 3994 | F16: ='frame fresh and panel'!F16 -> 388 | G16: ='frame fresh and panel'!G16 -> 314 | H16: ='frame fresh and panel'!H16 -> 509 | I16: ='frame fresh and panel'!I16 -> 1008 | J16: ='frame fresh and panel'!J16 -> 605 | ... T16: ='frame fresh and panel'!T16 -> 19016
A17: ='frame fresh and panel'!A17 -> Bihar | B17: =LEFT('frame fresh and panel'!B17,FIND(")",'frame fresh and panel'!B17)) -> Small (5-19) | C17: ='frame fresh and panel'!C17 -> 2249 | D17: ='frame fresh and panel'!D17 -> 193 | E17: ='frame fresh and panel'!E17 -> 276 | F17: ='frame fresh and panel'!F17 -> 787 | G17: ='frame fresh and panel'!G17 -> 452 | H17: ='frame fresh and panel'!H17 -> 240 | I17: ='frame fresh and panel'!I17 -> 702 | J17: ='frame fresh and panel'!J17 -> 166 | ... T17: ='frame fresh and panel'!T17 -> 7323 | U17: =SUM(C17:T21) -> 519807
A18: ='frame fresh and panel'!A18 -> Bihar | B18: =LEFT('frame fresh and panel'!B18,FIND(")",'frame fresh and panel'!B18)) -> Medium (20-99) | C18: ='frame fresh and panel'!C18 -> 662 | D18: ='frame fresh and panel'!D18 -> 14 | E18: ='frame fresh and panel'!E18 -> 10 | F18: ='frame fresh and panel'!F18 -> 44 | G18: ='frame fresh and panel'!G18 -> 35 | H18: ='frame fresh and panel'!H18 -> 128 | I18: ='frame fresh and panel'!I18 -> 651 | J18: ='frame fresh and panel'!J18 -> 113 | ... T18: ='frame fresh and panel'!T18 -> 411
A19: ='frame fresh and panel'!A19 -> Bihar | B19: =LEFT('frame fresh and panel'!B19,FIND(")",'frame fresh and panel'!B19)) -> Large (100-199) | C19: ='frame fresh and panel'!C19 -> 123 | D19: ='frame fresh and panel'!D19 -> 6 | E19: ='frame fresh and panel'!E19 -> 0 | F19: ='frame fresh and panel'!F19 -> 8 | G19: ='frame fresh and panel'!G19 -> 7 | H19: ='frame fresh and panel'!H19 -> 12 | I19: ='frame fresh and panel'!I19 -> 173 | J19: ='frame fresh and panel'!J19 -> 27 | ... T19: ='frame fresh and panel'!T19 -> 84
A20: ='frame fresh and panel'!A20 -> Bihar | B20: =LEFT('frame fresh and panel'!B20,FIND(")",'frame fresh and panel'!B20)) -> Very Large (200 or more) | C20: ='frame fresh and panel'!C20 -> 71 | D20: ='frame fresh and panel'!D20 -> 2 | E20: ='frame fresh and panel'!E20 -> 0 | F20: ='frame fresh and panel'!F20 -> 5 | G20: ='frame fresh and panel'!G20 -> 1 | H20: ='frame fresh and panel'!H20 -> 5 | I20: ='frame fresh and panel'!I20 -> 8 | J20: ='frame fresh and panel'!J20 -> 23 | ... T20: ='frame fresh and panel'!T20 -> 20
A21: ='frame fresh and panel'!A21 -> Bihar | B21: Unknown | C21: ='frame fresh and panel'!C21 -> 51245 | D21: ='frame fresh and panel'!D21 -> 15675 | E21: ='frame fresh and panel'!E21 -> 6963 | F21: ='frame fresh and panel'!F21 -> 4829 | G21: ='frame fresh and panel'!G21 -> 2567 | H21: ='frame fresh and panel'!H21 -> 3932 | I21: ='frame fresh and panel'!I21 -> 8498 | J21: ='frame fresh and panel'!J21 -> 5995 | ... T21: ='frame fresh and panel'!T21 -> 87017
A22: ='frame fresh and panel'!A22 -> Chhattisgarh | B22: =LEFT('frame fresh and panel'!B22,FIND(")",'frame fresh and panel'!B22)) -> Small (5-19) | C22: ='frame fresh and panel'!C22 -> 1798 | D22: ='frame fresh and panel'!D22 -> 66 | E22: ='frame fresh and panel'!E22 -> 67 | F22: ='frame fresh and panel'!F22 -> 321 | G22: ='frame fresh and panel'!G22 -> 115 | H22: ='frame fresh and panel'!H22 -> 137 | I22: ='frame fresh and panel'!I22 -> 459 | J22: ='frame fresh and panel'!J22 -> 631 | ... T22: ='frame fresh and panel'!T22 -> 1620 | U22: =SUM(C22:T26) -> 214687
A23: ='frame fresh and panel'!A23 -> Chhattisgarh | B23: =LEFT('frame fresh and panel'!B23,FIND(")",'frame fresh and panel'!B23)) -> Medium (20-99) | C23: ='frame fresh and panel'!C23 -> 900 | D23: ='frame fresh and panel'!D23 -> 22 | E23: ='frame fresh and panel'!E23 -> 8 | F23: ='frame fresh and panel'!F23 -> 104 | G23: ='frame fresh and panel'!G23 -> 14 | H23: ='frame fresh and panel'!H23 -> 88 | I23: ='frame fresh and panel'!I23 -> 171 | J23: ='frame fresh and panel'!J23 -> 637 | ... T23: ='frame fresh and panel'!T23 -> 251
A24: ='frame fresh and panel'!A24 -> Chhattisgarh | B24: =LEFT('frame fresh and panel'!B24,FIND(")",'frame fresh and panel'!B24)) -> Large (100-199) | C24: ='frame fresh and panel'!C24 -> 54 | D24: ='frame fresh and panel'!D24 -> 5 | E24: ='frame fresh and panel'!E24 -> 2 | F24: ='frame fresh and panel'!F24 -> 18 | G24: ='frame fresh and panel'!G24 -> 1 | H24: ='frame fresh and panel'!H24 -> 14 | I24: ='frame fresh and panel'!I24 -> 14 | J24: ='frame fresh and panel'!J24 -> 122 | ... T24: ='frame fresh and panel'!T24 -> 39
A25: ='frame fresh and panel'!A25 -> Chhattisgarh | B25: =LEFT('frame fresh and panel'!B25,FIND(")",'frame fresh and panel'!B25)) -> Very Large (200 or more) | C25: ='frame fresh and panel'!C25 -> 39 | D25: ='frame fresh and panel'!D25 -> 5 | E25: ='frame fresh and panel'!E25 -> 1 | F25: ='frame fresh and panel'!F25 -> 14 | G25: ='frame fresh and panel'!G25 -> 1 | H25: ='frame fresh and panel'!H25 -> 4 | I25: ='frame fresh and panel'!I25 -> 25 | J25: ='frame fresh and panel'!J25 -> 246 | ... T25: ='frame fresh and panel'!T25 -> 16
A26: ='frame fresh and panel'!A26 -> Chhattisgarh | B26: Unknown | C26: ='frame fresh and panel'!C26 -> 10062 | D26: ='frame fresh and panel'!D26 -> 3421 | E26: ='frame fresh and panel'!E26 -> 5662 | F26: ='frame fresh and panel'!F26 -> 1066 | G26: ='frame fresh and panel'!G26 -> 514 | H26: ='frame fresh and panel'!H26 -> 1334 | I26: ='frame fresh and panel'!I26 -> 3286 | J26: ='frame fresh and panel'!J26 -> 2048 | ... T26: ='frame fresh and panel'!T26 -> 42050
A27: ='frame fresh and panel'!A27 -> Delhi | B27: =LEFT('frame fresh and panel'!B27,FIND(")",'frame fresh and panel'!B27)) -> Small (5-19) | C27: ='frame fresh and panel'!C27 -> 3967 | D27: ='frame fresh and panel'!D27 -> 1832 | E27: ='frame fresh and panel'!E27 -> 3370 | F27: ='frame fresh and panel'!F27 -> 3146 | G27: ='frame fresh and panel'!G27 -> 1715 | H27: ='frame fresh and panel'!H27 -> 1511 | I27: ='frame fresh and panel'!I27 -> 399 | J27: ='frame fresh and panel'!J27 -> 1353 | ... T27: ='frame fresh and panel'!T27 -> 61278 | U27: =SUM(C27:T31) -> 450747
A28: ='frame fresh and panel'!A28 -> Delhi | B28: =LEFT('frame fresh and panel'!B28,FIND(")",'frame fresh and panel'!B28)) -> Medium (20-99) | C28: ='frame fresh and panel'!C28 -> 718 | D28: ='frame fresh and panel'!D28 -> 445 | E28: ='frame fresh and panel'!E28 -> 770 | F28: ='frame fresh and panel'!F28 -> 513 | G28: ='frame fresh and panel'!G28 -> 238 | H28: ='frame fresh and panel'!H28 -> 606 | I28: ='frame fresh and panel'!I28 -> 145 | J28: ='frame fresh and panel'!J28 -> 676 | ... T28: ='frame fresh and panel'!T28 -> 9682
A29: ='frame fresh and panel'!A29 -> Delhi | B29: =LEFT('frame fresh and panel'!B29,FIND(")",'frame fresh and panel'!B29)) -> Large (100-199) | C29: ='frame fresh and panel'!C29 -> 168 | D29: ='frame fresh and panel'!D29 -> 87 | E29: ='frame fresh and panel'!E29 -> 110 | F29: ='frame fresh and panel'!F29 -> 82 | G29: ='frame fresh and panel'!G29 -> 44 | H29: ='frame fresh and panel'!H29 -> 82 | I29: ='frame fresh and panel'!I29 -> 22 | J29: ='frame fresh and panel'!J29 -> 140 | ... T29: ='frame fresh and panel'!T29 -> 1635
A30: ='frame fresh and panel'!A30 -> Delhi | B30: =LEFT('frame fresh and panel'!B30,FIND(")",'frame fresh and panel'!B30)) -> Very Large (200 or more) | C30: ='frame fresh and panel'!C30 -> 205 | D30: ='frame fresh and panel'!D30 -> 52 | E30: ='frame fresh and panel'!E30 -> 74 | F30: ='frame fresh and panel'!F30 -> 112 | G30: ='frame fresh and panel'!G30 -> 57 | H30: ='frame fresh and panel'!H30 -> 66 | I30: ='frame fresh and panel'!I30 -> 36 | J30: ='frame fresh and panel'!J30 -> 127 | ... T30: ='frame fresh and panel'!T30 -> 1557
A31: ='frame fresh and panel'!A31 -> Delhi | B31: Unknown | C31: ='frame fresh and panel'!C31 -> 8222 | D31: ='frame fresh and panel'!D31 -> 10599 | E31: ='frame fresh and panel'!E31 -> 7082 | F31: ='frame fresh and panel'!F31 -> 2488 | G31: ='frame fresh and panel'!G31 -> 2069 | H31: ='frame fresh and panel'!H31 -> 7286 | I31: ='frame fresh and panel'!I31 -> 1648 | J31: ='frame fresh and panel'!J31 -> 3579 | ... T31: ='frame fresh and panel'!T31 -> 52902
A32: ='frame fresh and panel'!A32 -> Goa | B32: =LEFT('frame fresh and panel'!B32,FIND(")",'frame fresh and panel'!B32)) -> Small (5-19) | C32: ='frame fresh and panel'!C32 -> 217 | D32: ='frame fresh and panel'!D32 -> 28 | E32: ='frame fresh and panel'!E32 -> 52 | F32: ='frame fresh and panel'!F32 -> 82 | G32: ='frame fresh and panel'!G32 -> 39 | H32: ='frame fresh and panel'!H32 -> 46 | I32: ='frame fresh and panel'!I32 -> 65 | J32: ='frame fresh and panel'!J32 -> 36 | ... T32: ='frame fresh and panel'!T32 -> 1175 | U32: =SUM(C32:T36) -> 44259
A33: ='frame fresh and panel'!A33 -> Goa | B33: =LEFT('frame fresh and panel'!B33,FIND(")",'frame fresh and panel'!B33)) -> Medium (20-99) | C33: ='frame fresh and panel'!C33 -> 67 | D33: ='frame fresh and panel'!D33 -> 7 | E33: ='frame fresh and panel'!E33 -> 5 | F33: ='frame fresh and panel'!F33 -> 33 | G33: ='frame fresh and panel'!G33 -> 23 | H33: ='frame fresh and panel'!H33 -> 40 | I33: ='frame fresh and panel'!I33 -> 26 | J33: ='frame fresh and panel'!J33 -> 53 | ... T33: ='frame fresh and panel'!T33 -> 136
A34: ='frame fresh and panel'!A34 -> Goa | B34: =LEFT('frame fresh and panel'!B34,FIND(")",'frame fresh and panel'!B34)) -> Large (100-199) | C34: ='frame fresh and panel'!C34 -> 19 | D34: ='frame fresh and panel'!D34 -> 1 | E34: ='frame fresh and panel'!E34 -> 3 | F34: ='frame fresh and panel'!F34 -> 12 | G34: ='frame fresh and panel'!G34 -> 12 | H34: ='frame fresh and panel'!H34 -> 9 | I34: ='frame fresh and panel'!I34 -> 4 | J34: ='frame fresh and panel'!J34 -> 12 | ... T34: ='frame fresh and panel'!T34 -> 21
A35: ='frame fresh and panel'!A35 -> Goa | B35: =LEFT('frame fresh and panel'!B35,FIND(")",'frame fresh and panel'!B35)) -> Very Large (200 or more) | C35: ='frame fresh and panel'!C35 -> 9 | D35: ='frame fresh and panel'!D35 -> 6 | E35: ='frame fresh and panel'!E35 -> 0 | F35: ='frame fresh and panel'!F35 -> 11 | G35: ='frame fresh and panel'!G35 -> 51 | H35: ='frame fresh and panel'!H35 -> 8 | I35: ='frame fresh and panel'!I35 -> 2 | J35: ='frame fresh and panel'!J35 -> 20 | ... T35: ='frame fresh and panel'!T35 -> 15
A36: ='frame fresh and panel'!A36 -> Goa | B36: Unknown | C36: ='frame fresh and panel'!C36 -> 1757 | D36: ='frame fresh and panel'!D36 -> 384 | E36: ='frame fresh and panel'!E36 -> 1063 | F36: ='frame fresh and panel'!F36 -> 24 | G36: ='frame fresh and panel'!G36 -> 83 | H36: ='frame fresh and panel'!H36 -> 258 | I36: ='frame fresh and panel'!I36 -> 211 | J36: ='frame fresh and panel'!J36 -> 120 | ... T36: ='frame fresh and panel'!T36 -> 10151 | U36: =SUM(C37:T41) -> 923467
A37: ='frame fresh and panel'!A37 -> Gujarat, Dadra & Nagar Haveli & Daman & Diu | B37: =LEFT('frame fresh and panel'!B37,FIND(")",'frame fresh and panel'!B37)) -> Small (5-19) | C37: ='frame fresh and panel'!C37 -> 3328 | D37: ='frame fresh and panel'!D37 -> 4038 | E37: ='frame fresh and panel'!E37 -> 826 | F37: ='frame fresh and panel'!F37 -> 4927 | G37: ='frame fresh and panel'!G37 -> 2123 | H37: ='frame fresh and panel'!H37 -> 2595 | I37: ='frame fresh and panel'!I37 -> 1830 | J37: ='frame fresh and panel'!J37 -> 2118 | ... T37: ='frame fresh and panel'!T37 -> 13049
A38: ='frame fresh and panel'!A38 -> Gujarat, Dadra & Nagar Haveli & Daman & Diu | B38: =LEFT('frame fresh and panel'!B38,FIND(")",'frame fresh and panel'!B38)) -> Medium (20-99) | C38: ='frame fresh and panel'!C38 -> 1821 | D38: ='frame fresh and panel'!D38 -> 4008 | E38: ='frame fresh and panel'!E38 -> 531 | F38: ='frame fresh and panel'!F38 -> 2559 | G38: ='frame fresh and panel'!G38 -> 1054 | H38: ='frame fresh and panel'!H38 -> 2723 | I38: ='frame fresh and panel'!I38 -> 2230 | J38: ='frame fresh and panel'!J38 -> 2114 | ... T38: ='frame fresh and panel'!T38 -> 1412
A39: ='frame fresh and panel'!A39 -> Gujarat, Dadra & Nagar Haveli & Daman & Diu | B39: =LEFT('frame fresh and panel'!B39,FIND(")",'frame fresh and panel'!B39)) -> Large (100-199) | C39: ='frame fresh and panel'!C39 -> 217 | D39: ='frame fresh and panel'!D39 -> 498 | E39: ='frame fresh and panel'!E39 -> 68 | F39: ='frame fresh and panel'!F39 -> 369 | G39: ='frame fresh and panel'!G39 -> 184 | H39: ='frame fresh and panel'!H39 -> 303 | I39: ='frame fresh and panel'!I39 -> 393 | J39: ='frame fresh and panel'!J39 -> 263 | ... T39: ='frame fresh and panel'!T39 -> 263
A40: ='frame fresh and panel'!A40 -> Gujarat, Dadra & Nagar Haveli & Daman & Diu | B40: =LEFT('frame fresh and panel'!B40,FIND(")",'frame fresh and panel'!B40)) -> Very Large (200 or more) | C40: ='frame fresh and panel'!C40 -> 317 | D40: ='frame fresh and panel'!D40 -> 773 | E40: ='frame fresh and panel'!E40 -> 81 | F40: ='frame fresh and panel'!F40 -> 643 | G40: ='frame fresh and panel'!G40 -> 332 | H40: ='frame fresh and panel'!H40 -> 380 | I40: ='frame fresh and panel'!I40 -> 382 | J40: ='frame fresh and panel'!J40 -> 300 | ... T40: ='frame fresh and panel'!T40 -> 263
...

Sheet Table 3 Original Survey Design
C1: =RIGHT(SUBSTITUTE('original survey design'!C1,"_"," "),LEN(SUBSTITUTE('original survey design'!C1,"_"," "))-1) -> Food | D1: =RIGHT(SUBSTITUTE('original survey design'!D1,"_"," "),LEN(SUBSTITUTE('original survey design'!D1,"_"," "))-1) -> Textiles | E1: =RIGHT(SUBSTITUTE('original survey design'!E1,"_"," "),LEN(SUBSTITUTE('original survey design'!E1,"_"," "))-1) -> Garments | F1: =RIGHT(SUBSTITUTE('original survey design'!F1,"_"," "),LEN(SUBSTITUTE('original survey design'!F1,"_"," "))-1) -> Chemicals and Chemic | G1: =RIGHT(SUBSTITUTE('original survey design'!G1,"_"," "),LEN(SUBSTITUTE('original survey design'!G1,"_"," "))-1) -> Pharmaceuticals and | H1: =RIGHT(SUBSTITUTE('original survey design'!H1,"_"," "),LEN(SUBSTITUTE('original survey design'!H1,"_"," "))-1) -> Rubber and Plastics | I1: =RIGHT(SUBSTITUTE('original survey design'!I1,"_"," "),LEN(SUBSTITUTE('original survey design'!I1,"_"," "))-1) -> Non Metallic Mineral | J1: =RIGHT(SUBSTITUTE('original survey design'!J1,"_"," "),LEN(SUBSTITUTE('original survey design'!J1,"_"," "))-1) -> Basic Metals | ... T1: =RIGHT(SUBSTITUTE('original survey design'!T1,"_"," "),LEN(SUBSTITUTE('original survey design'!T1,"_"," "))-1) -> Other Services | U1: Total
A2: ='original survey design'!A2 -> Andhra Pradesh, A&N Islands | B2: =LEFT('original survey design'!B2,FIND(")",'original survey design'!B2)) -> Small (5-19) | C2: ='original survey design'!C2 -> 5 | D2: ='original survey design'!D2 -> 4 | E2: ='original survey design'!E2 -> 4 | F2: ='original survey design'!F2 -> 4 | G2: ='original survey design'!G2 -> 4 | H2: ='original survey design'!H2 -> 4 | I2: ='original survey design'!I2 -> 4 | J2: ='original survey design'!J2 -> 4 | ... T2: ='original survey design'!T2 -> 4 | U2: =SUM(C2:T6) -> 456
A3: ='original survey design'!A3 -> Andhra Pradesh, A&N Islands | B3: =LEFT('original survey design'!B3,FIND(")",'original survey design'!B3)) -> Medium (20-99) | C3: ='original survey design'!C3 -> 5 | D3: ='original survey design'!D3 -> 4 | E3: ='original survey design'!E3 -> 5 | F3: ='original survey design'!F3 -> 4 | G3: ='original survey design'!G3 -> 4 | H3: ='original survey design'!H3 -> 4 | I3: ='original survey design'!I3 -> 5 | J3: ='original survey design'!J3 -> 4 | ... T3: ='original survey design'!T3 -> 4
A4: ='original survey design'!A4 -> Andhra Pradesh, A&N Islands | B4: =LEFT('original survey design'!B4,FIND(")",'original survey design'!B4)) -> Large (100-199) | C4: ='original survey design'!C4 -> 4 | D4: ='original survey design'!D4 -> 4 | E4: ='original survey design'!E4 -> 4 | F4: ='original survey design'!F4 -> 4 | G4: ='original survey design'!G4 -> 4 | H4: ='original survey design'!H4 -> 4 | I4: ='original survey design'!I4 -> 4 | J4: ='original survey design'!J4 -> 4 | ... T4: ='original survey design'!T4 -> 4
A5: ='original survey design'!A5 -> Andhra Pradesh, A&N Islands | B5: =LEFT('original survey design'!B5,FIND(")",'original survey design'!B5)) -> Very Large (200 or more) | C5: ='original survey design'!C5 -> 4 | D5: ='original survey design'!D5 -> 4 | E5: ='original survey design'!E5 -> 4 | F5: ='original survey design'!F5 -> 4 | G5: ='original survey design'!G5 -> 4 | H5: ='original survey design'!H5 -> 4 | I5: ='original survey design'!I5 -> 4 | J5: ='original survey design'!J5 -> 4 | ... T5: ='original survey design'!T5 -> 4
A6: ='original survey design'!A6 -> Andhra Pradesh, A&N Islands | B6: Unknown | C6: ='original survey design'!C6 -> 8 | D6: ='original survey design'!D6 -> 7 | E6: ='original survey design'!E6 -> 4 | F6: ='original survey design'!F6 -> 4 | G6: ='original survey design'!G6 -> 4 | H6: ='original survey design'!H6 -> 4 | I6: ='original survey design'!I6 -> 4 | J6: ='original survey design'!J6 -> 4 | ... T6: ='original survey design'!T6 -> 16
A7: ='original survey design'!A7 -> Arunachal Pradesh, Nagaland, Manipur, Tripura, Meghalaya, Mizoram, Sikkim | B7: =LEFT('original survey design'!B7,FIND(")",'original survey design'!B7)) -> Small (5-19) | C7: ='original survey design'!C7 -> 4 | D7: ='original survey design'!D7 -> 4 | E7: ='original survey design'!E7 -> 4 | F7: ='original survey design'!F7 -> 4 | G7: ='original survey design'!G7 -> 4 | H7: ='original survey design'!H7 -> 4 | I7: ='original survey design'!I7 -> 4 | J7: ='original survey design'!J7 -> 4 | ... T7: ='original survey design'!T7 -> 4 | U7: =SUM(C7:T11) -> 299
A8: ='original survey design'!A8 -> Arunachal Pradesh, Nagaland, Manipur, Tripura, Meghalaya, Mizoram, Sikkim | B8: =LEFT('original survey design'!B8,FIND(")",'original survey design'!B8)) -> Medium (20-99) | C8: ='original survey design'!C8 -> 4 | D8: ='original survey design'!D8 -> 3 | E8: ='original survey design'!E8 -> 5 | F8: ='original survey design'!F8 -> 4 | G8: ='original survey design'!G8 -> 4 | H8: ='original survey design'!H8 -> 4 | I8: ='original survey design'!I8 -> 4 | J8: ='original survey design'!J8 -> 4 | ... T8: ='original survey design'!T8 -> 4
A9: ='original survey design'!A9 -> Arunachal Pradesh, Nagaland, Manipur, Tripura, Meghalaya, Mizoram, Sikkim | B9: =LEFT('original survey design'!B9,FIND(")",'original survey design'!B9)) -> Large (100-199) | C9: ='original survey design'!C9 -> 4 | D9: ='original survey design'!D9 -> 1 | E9: ='original survey design'!E9 -> 0 | F9: ='original survey design'!F9 -> 4 | G9: ='original survey design'!G9 -> 3 | H9: ='original survey design'!H9 -> 4 | I9: ='original survey design'!I9 -> 4 | J9: ='original survey design'!J9 -> 4 | ... T9: ='original survey design'!T9 -> 4
A10: ='original survey design'!A10 -> Arunachal Pradesh, Nagaland, Manipur, Tripura, Meghalaya, Mizoram, Sikkim | B10: =LEFT('original survey design'!B10,FIND(")",'original survey design'!B10)) -> Very Large (200 or more) | C10: ='original survey design'!C10 -> 4 | D10: ='original survey design'!D10 -> 0 | E10: ='original survey design'!E10 -> 0 | F10: ='original survey design'!F10 -> 2 | G10: ='original survey design'!G10 -> 4 | H10: ='original survey design'!H10 -> 1 | I10: ='original survey design'!I10 -> 4 | J10: ='original survey design'!J10 -> 4 | ... T10: ='original survey design'!T10 -> 2
A11: ='original survey design'!A11 -> Arunachal Pradesh, Nagaland, Manipur, Tripura, Meghalaya, Mizoram, Sikkim | B11: Unknown | C11: ='original survey design'!C11 -> 4 | D11: ='original survey design'!D11 -> 4 | E11: ='original survey design'!E11 -> 4 | F11: ='original survey design'!F11 -> 4 | G11: ='original survey design'!G11 -> 4 | H11: ='original survey design'!H11 -> 4 | I11: ='original survey design'!I11 -> 4 | J11: ='original survey design'!J11 -> 4 | ... T11: ='original survey design'!T11 -> 4
A12: ='original survey design'!A12 -> Assam | B12: =LEFT('original survey design'!B12,FIND(")",'original survey design'!B12)) -> Small (5-19) | C12: ='original survey design'!C12 -> 4 | D12: ='original survey design'!D12 -> 4 | E12: ='original survey design'!E12 -> 4 | F12: ='original survey design'!F12 -> 4 | G12: ='original survey design'!G12 -> 4 | H12: ='original survey design'!H12 -> 4 | I12: ='original survey design'!I12 -> 4 | J12: ='original survey design'!J12 -> 4 | ... T12: ='original survey design'!T12 -> 4 | U12: =SUM(C12:T16) -> 360
A13: ='original survey design'!A13 -> Assam | B13: =LEFT('original survey design'!B13,FIND(")",'original survey design'!B13)) -> Medium (20-99) | C13: ='original survey design'!C13 -> 6 | D13: ='original survey design'!D13 -> 5 | E13: ='original survey design'!E13 -> 6 | F13: ='original survey design'!F13 -> 5 | G13: ='original survey design'!G13 -> 5 | H13: ='original survey design'!H13 -> 5 | I13: ='original survey design'!I13 -> 6 | J13: ='original survey design'!J13 -> 5 | ... T13: ='original survey design'!T13 -> 8
A14: ='original survey design'!A14 -> Assam | B14: =LEFT('original survey design'!B14,FIND(")",'original survey design'!B14)) -> Large (100-199) | C14: ='original survey design'!C14 -> 4 | D14: ='original survey design'!D14 -> 4 | E14: ='original survey design'!E14 -> 2 | F14: ='original survey design'!F14 -> 4 | G14: ='original survey design'!G14 -> 1 | H14: ='original survey design'!H14 -> 4 | I14: ='original survey design'!I14 -> 5 | J14: ='original survey design'!J14 -> 4 | ... T14: ='original survey design'!T14 -> 4
A15: ='original survey design'!A15 -> Assam | B15: =LEFT('original survey design'!B15,FIND(")",'original survey design'!B15)) -> Very Large (200 or more) | C15: ='original survey design'!C15 -> 4 | D15: ='original survey design'!D15 -> 4 | E15: ='original survey design'!E15 -> 0 | F15: ='original survey design'!F15 -> 4 | G15: ='original survey design'!G15 -> 4 | H15: ='original survey design'!H15 -> 4 | I15: ='original survey design'!I15 -> 4 | J15: ='original survey design'!J15 -> 4 | ... T15: ='original survey design'!T15 -> 4
A16: ='original survey design'!A16 -> Assam | B16: Unknown | C16: ='original survey design'!C16 -> 4 | D16: ='original survey design'!D16 -> 4 | E16: ='original survey design'!E16 -> 4 | F16: ='original survey design'!F16 -> 4 | G16: ='original survey design'!G16 -> 4 | H16: ='original survey design'!H16 -> 4 | I16: ='original survey design'!I16 -> 4 | J16: ='original survey design'!J16 -> 4 | ... T16: ='original survey design'!T16 -> 4
A17: ='original survey design'!A17 -> Bihar | B17: =LEFT('original survey design'!B17,FIND(")",'original survey design'!B17)) -> Small (5-19) | C17: ='original survey design'!C17 -> 4 | D17: ='original survey design'!D17 -> 4 | E17: ='original survey design'!E17 -> 4 | F17: ='original survey design'!F17 -> 4 | G17: ='original survey design'!G17 -> 4 | H17: ='original survey design'!H17 -> 4 | I17: ='original survey design'!I17 -> 4 | J17: ='original survey design'!J17 -> 4 | ... T17: ='original survey design'!T17 -> 4 | U17: =SUM(C17:T21) -> 393
A18: ='original survey design'!A18 -> Bihar | B18: =LEFT('original survey design'!B18,FIND(")",'original survey design'!B18)) -> Medium (20-99) | C18: ='original survey design'!C18 -> 4 | D18: ='original survey design'!D18 -> 4 | E18: ='original survey design'!E18 -> 5 | F18: ='original survey design'!F18 -> 4 | G18: ='original survey design'!G18 -> 4 | H18: ='original survey design'!H18 -> 4 | I18: ='original survey design'!I18 -> 4 | J18: ='original survey design'!J18 -> 4 | ... T18: ='original survey design'!T18 -> 4
A19: ='original survey design'!A19 -> Bihar | B19: =LEFT('original survey design'!B19,FIND(")",'original survey design'!B19)) -> Large (100-199) | C19: ='original survey design'!C19 -> 4 | D19: ='original survey design'!D19 -> 4 | E19: ='original survey design'!E19 -> 0 | F19: ='original survey design'!F19 -> 4 | G19: ='original survey design'!G19 -> 4 | H19: ='original survey design'!H19 -> 4 | I19: ='original survey design'!I19 -> 4 | J19: ='original survey design'!J19 -> 4 | ... T19: ='original survey design'!T19 -> 4
A20: ='original survey design'!A20 -> Bihar | B20: =LEFT('original survey design'!B20,FIND(")",'original survey design'!B20)) -> Very Large (200 or more) | C20: ='original survey design'!C20 -> 4 | D20: ='original survey design'!D20 -> 2 | E20: ='original survey design'!E20 -> 0 | F20: ='original survey design'!F20 -> 4 | G20: ='original survey design'!G20 -> 1 | H20: ='original survey design'!H20 -> 4 | I20: ='original survey design'!I20 -> 4 | J20: ='original survey design'!J20 -> 4 | ... T20: ='original survey design'!T20 -> 4
A21: ='original survey design'!A21 -> Bihar | B21: Unknown | C21: ='original survey design'!C21 -> 11 | D21: ='original survey design'!D21 -> 4 | E21: ='original survey design'!E21 -> 4 | F21: ='original survey design'!F21 -> 4 | G21: ='original survey design'!G21 -> 4 | H21: ='original survey design'!H21 -> 4 | I21: ='original survey design'!I21 -> 4 | J21: ='original survey design'!J21 -> 4 | ... T21: ='original survey design'!T21 -> 18
A22: ='original survey design'!A22 -> Chhattisgarh | B22: =LEFT('original survey design'!B22,FIND(")",'original survey design'!B22)) -> Small (5-19) | C22: ='original survey design'!C22 -> 4 | D22: ='original survey design'!D22 -> 4 | E22: ='original survey design'!E22 -> 4 | F22: ='original survey design'!F22 -> 4 | G22: ='original survey design'!G22 -> 4 | H22: ='original survey design'!H22 -> 4 | I22: ='original survey design'!I22 -> 4 | J22: ='original survey design'!J22 -> 4 | ... T22: ='original survey design'!T22 -> 4 | U22: =SUM(C22:T26) -> 355
A23: ='original survey design'!A23 -> Chhattisgarh | B23: =LEFT('original survey design'!B23,FIND(")",'original survey design'!B23)) -> Medium (20-99) | C23: ='original survey design'!C23 -> 4 | D23: ='original survey design'!D23 -> 4 | E23: ='original survey design'!E23 -> 5 | F23: ='original survey design'!F23 -> 4 | G23: ='original survey design'!G23 -> 4 | H23: ='original survey design'!H23 -> 4 | I23: ='original survey design'!I23 -> 4 | J23: ='original survey design'!J23 -> 4 | ... T23: ='original survey design'!T23 -> 4
A24: ='original survey design'!A24 -> Chhattisgarh | B24: =LEFT('original survey design'!B24,FIND(")",'original survey design'!B24)) -> Large (100-199) | C24: ='original survey design'!C24 -> 4 | D24: ='original survey design'!D24 -> 4 | E24: ='original survey design'!E24 -> 2 | F24: ='original survey design'!F24 -> 4 | G24: ='original survey design'!G24 -> 1 | H24: ='original survey design'!H24 -> 4 | I24: ='original survey design'!I24 -> 4 | J24: ='original survey design'!J24 -> 4 | ... T24: ='original survey design'!T24 -> 4
A25: ='original survey design'!A25 -> Chhattisgarh | B25: =LEFT('original survey design'!B25,FIND(")",'original survey design'!B25)) -> Very Large (200 or more) | C25: ='original survey design'!C25 -> 4 | D25: ='original survey design'!D25 -> 4 | E25: ='original survey design'!E25 -> 1 | F25: ='original survey design'!F25 -> 4 | G25: ='original survey design'!G25 -> 1 | H25: ='original survey design'!H25 -> 4 | I25: ='original survey design'!I25 -> 4 | J25: ='original survey design'!J25 -> 4 | ... T25: ='original survey design'!T25 -> 4
A26: ='original survey design'!A26 -> Chhattisgarh | B26: Unknown | C26: ='original survey design'!C26 -> 4 | D26: ='original survey design'!D26 -> 4 | E26: ='original survey design'!E26 -> 4 | F26: ='original survey design'!F26 -> 4 | G26: ='original survey design'!G26 -> 4 | H26: ='original survey design'!H26 -> 4 | I26: ='original survey design'!I26 -> 4 | J26: ='original survey design'!J26 -> 4 | ... T26: ='original survey design'!T26 -> 9
A27: ='original survey design'!A27 -> Delhi | B27: =LEFT('original survey design'!B27,FIND(")",'original survey design'!B27)) -> Small (5-19) | C27: ='original survey design'!C27 -> 4 | D27: ='original survey design'!D27 -> 4 | E27: ='original survey design'!E27 -> 4 | F27: ='original survey design'!F27 -> 4 | G27: ='original survey design'!G27 -> 4 | H27: ='original survey design'!H27 -> 4 | I27: ='original survey design'!I27 -> 4 | J27: ='original survey design'!J27 -> 4 | ... T27: ='original survey design'!T27 -> 13 | U27: =SUM(C27:T31) -> 406
A28: ='original survey design'!A28 -> Delhi | B28: =LEFT('original survey design'!B28,FIND(")",'original survey design'!B28)) -> Medium (20-99) | C28: ='original survey design'!C28 -> 4 | D28: ='original survey design'!D28 -> 4 | E28: ='original survey design'!E28 -> 5 | F28: ='original survey design'!F28 -> 4 | G28: ='original survey design'!G28 -> 4 | H28: ='original survey design'!H28 -> 4 | I28: ='original survey design'!I28 -> 4 | J28: ='original survey design'!J28 -> 4 | ... T28: ='original survey design'!T28 -> 12
A29: ='original survey design'!A29 -> Delhi | B29: =LEFT('original survey design'!B29,FIND(")",'original survey design'!B29)) -> Large (100-199) | C29: ='original survey design'!C29 -> 4 | D29: ='original survey design'!D29 -> 4 | E29: ='original survey design'!E29 -> 4 | F29: ='original survey design'!F29 -> 4 | G29: ='original survey design'!G29 -> 4 | H29: ='original survey design'!H29 -> 4 | I29: ='original survey design'!I29 -> 4 | J29: ='original survey design'!J29 -> 4 | ... T29: ='original survey design'!T29 -> 4
A30: ='original survey design'!A30 -> Delhi | B30: =LEFT('original survey design'!B30,FIND(")",'original survey design'!B30)) -> Very Large (200 or more) | C30: ='original survey design'!C30 -> 4 | D30: ='original survey design'!D30 -> 4 | E30: ='original survey design'!E30 -> 4 | F30: ='original survey design'!F30 -> 4 | G30: ='original survey design'!G30 -> 4 | H30: ='original survey design'!H30 -> 4 | I30: ='original survey design'!I30 -> 4 | J30: ='original survey design'!J30 -> 4 | ... T30: ='original survey design'!T30 -> 4
A31: ='original survey design'!A31 -> Delhi | B31: Unknown | C31: ='original survey design'!C31 -> 4 | D31: ='original survey design'!D31 -> 4 | E31: ='original survey design'!E31 -> 4 | F31: ='original survey design'!F31 -> 4 | G31: ='original survey design'!G31 -> 4 | H31: ='original survey design'!H31 -> 4 | I31: ='original survey design'!I31 -> 4 | J31: ='original survey design'!J31 -> 4 | ... T31: ='original survey design'!T31 -> 11
A32: ='original survey design'!A32 -> Goa | B32: =LEFT('original survey design'!B32,FIND(")",'original survey design'!B32)) -> Small (5-19) | C32: ='original survey design'!C32 -> 4 | D32: ='original survey design'!D32 -> 4 | E32: ='original survey design'!E32 -> 4 | F32: ='original survey design'!F32 -> 4 | G32: ='original survey design'!G32 -> 4 | H32: ='original survey design'!H32 -> 4 | I32: ='original survey design'!I32 -> 4 | J32: ='original survey design'!J32 -> 4 | ... T32: ='original survey design'!T32 -> 4 | U32: =SUM(C32:T36) -> 341
A33: ='original survey design'!A33 -> Goa | B33: =LEFT('original survey design'!B33,FIND(")",'original survey design'!B33)) -> Medium (20-99) | C33: ='original survey design'!C33 -> 4 | D33: ='original survey design'!D33 -> 4 | E33: ='original survey design'!E33 -> 4 | F33: ='original survey design'!F33 -> 4 | G33: ='original survey design'!G33 -> 4 | H33: ='original survey design'!H33 -> 4 | I33: ='original survey design'!I33 -> 4 | J33: ='original survey design'!J33 -> 4 | ... T33: ='original survey design'!T33 -> 4
A34: ='original survey design'!A34 -> Goa | B34: =LEFT('original survey design'!B34,FIND(")",'original survey design'!B34)) -> Large (100-199) | C34: ='original survey design'!C34 -> 4 | D34: ='original survey design'!D34 -> 1 | E34: ='original survey design'!E34 -> 3 | F34: ='original survey design'!F34 -> 4 | G34: ='original survey design'!G34 -> 4 | H34: ='original survey design'!H34 -> 4 | I34: ='original survey design'!I34 -> 3 | J34: ='original survey design'!J34 -> 4 | ... T34: ='original survey design'!T34 -> 4
A35: ='original survey design'!A35 -> Goa | B35: =LEFT('original survey design'!B35,FIND(")",'original survey design'!B35)) -> Very Large (200 or more) | C35: ='original survey design'!C35 -> 4 | D35: ='original survey design'!D35 -> 4 | E35: ='original survey design'!E35 -> 0 | F35: ='original survey design'!F35 -> 4 | G35: ='original survey design'!G35 -> 4 | H35: ='original survey design'!H35 -> 4 | I35: ='original survey design'!I35 -> 2 | J35: ='original survey design'!J35 -> 4 | ... T35: ='original survey design'!T35 -> 4
A36: ='original survey design'!A36 -> Goa | B36: Unknown | C36: ='original survey design'!C36 -> 4 | D36: ='original survey design'!D36 -> 4 | E36: ='original survey design'!E36 -> 4 | F36: ='original survey design'!F36 -> 4 | G36: ='original survey design'!G36 -> 4 | H36: ='original survey design'!H36 -> 4 | I36: ='original survey design'!I36 -> 4 | J36: ='original survey design'!J36 -> 4 | ... T36: ='original survey design'!T36 -> 4 | U36: =SUM(C37:T41) -> 515
A37: ='original survey design'!A37 -> Gujarat, Dadra & Nagar Haveli & Daman & Diu | B37: =LEFT('original survey design'!B37,FIND(")",'original survey design'!B37)) -> Small (5-19) | C37: ='original survey design'!C37 -> 4 | D37: ='original survey design'!D37 -> 14 | E37: ='original survey design'!E37 -> 4 | F37: ='original survey design'!F37 -> 4 | G37: ='original survey design'!G37 -> 4 | H37: ='original survey design'!H37 -> 4 | I37: ='original survey design'!I37 -> 4 | J37: ='original survey design'!J37 -> 4 | ... T37: ='original survey design'!T37 -> 4
A38: ='original survey design'!A38 -> Gujarat, Dadra & Nagar Haveli & Daman & Diu | B38: =LEFT('original survey design'!B38,FIND(")",'original survey design'!B38)) -> Medium (20-99) | C38: ='original survey design'!C38 -> 5 | D38: ='original survey design'!D38 -> 7 | E38: ='original survey design'!E38 -> 5 | F38: ='original survey design'!F38 -> 6 | G38: ='original survey design'!G38 -> 4 | H38: ='original survey design'!H38 -> 6 | I38: ='original survey design'!I38 -> 5 | J38: ='original survey design'!J38 -> 5 | ... T38: ='original survey design'!T38 -> 5
A39: ='original survey design'!A39 -> Gujarat, Dadra & Nagar Haveli & Daman & Diu | B39: =LEFT('original survey design'!B39,FIND(")",'original survey design'!B39)) -> Large (100-199) | C39: ='original survey design'!C39 -> 4 | D39: ='original survey design'!D39 -> 4 | E39: ='original survey design'!E39 -> 4 | F39: ='original survey design'!F39 -> 4 | G39: ='original survey design'!G39 -> 4 | H39: ='original survey design'!H39 -> 4 | I39: ='original survey design'!I39 -> 4 | J39: ='original survey design'!J39 -> 4 | ... T39: ='original survey design'!T39 -> 4
